Workbook

Sheet Récap Général
B2: ='Form initiale et continue PA '!F2 -> 180 | F2: ='Certif et continue SAP'!F2 -> 60
B3: Formation continue Pompier Aéroport | D3: Formation continue Chef de Manœuvre | F3: Attestation de formation continue PSE
A4: =IF('Liste des AGENTS'!B6="","",'Liste des AGENTS'!B6) -> AGENT_1 | B4: =IFERROR(IF(INDEX(Tab_PA[DATE DE FORMATION REUSSIE],MATCH($A4,Tab_PA[NOM-PRENOM AGENT],0))<>"",INDEX(Tab_PA[DATE DE FORMATION REUSSIE],MATCH($A4,Tab_PA[NOM-PRENOM AGENT],0)),INDEX(Tab_PA[Initiale],MATCH($A4,Tab_PA[NOM-PRENOM AGENT],0))),"") -> 42338 | C4: =IFERROR(INDEX(Tab_PA[DATE DE VALIDITE],MATCH($A4,Tab_PA[NOM-PRENOM AGENT],0)),"") -> 43433 | D4: =IFERROR(IF(INDEX(Tab_CM[DATE DE FORMATION REUSSIE],MATCH($A4,Tab_CM[NOM-PRENOM AGENT],0))<>"",INDEX(Tab_CM[DATE DE FORMATION REUSSIE],MATCH($A4,Tab_CM[NOM-PRENOM AGENT],0)),INDEX(Tab_CM[Initiale],MATCH($A4,Tab_CM[NOM-PRENOM AGENT],0))),"") -> 0 | E4: =IFERROR(INDEX(Tab_CM[DATE DE VALIDITE],MATCH($A4,Tab_CM[NOM-PRENOM AGENT],0)),"") | F4: =IFERROR(IF(INDEX(Tab_SAP[DATE DE FORMATION REUSSIE],MATCH($A4,Tab_SAP[NOM-PRENOM AGENT],0))<>"",INDEX(Tab_SAP[DATE DE FORMATION REUSSIE],MATCH($A4,Tab_SAP[NOM-PRENOM AGENT],0)),INDEX(Tab_SAP[Initiale],MATCH($A4,Tab_SAP[NOM-PRENOM AGENT],0))),"") -> 43085 | G4: =IFERROR(INDEX(Tab_SAP[DATE DE VALIDITE],MATCH($A4,Tab_SAP[NOM-PRENOM AGENT],0)),"") -> 43449
A5: =IF('Liste des AGENTS'!B7="","",'Liste des AGENTS'!B7) -> AGENT_2 | B5: =IFERROR(IF(INDEX(Tab_PA[DATE DE FORMATION REUSSIE],MATCH($A5,Tab_PA[NOM-PRENOM AGENT],0))<>"",INDEX(Tab_PA[DATE DE FORMATION REUSSIE],MATCH($A5,Tab_PA[NOM-PRENOM AGENT],0)),INDEX(Tab_PA[Initiale],MATCH($A5,Tab_PA[NOM-PRENOM AGENT],0))),"") -> 41547 | C5: =IFERROR(INDEX(Tab_PA[DATE DE VALIDITE],MATCH($A5,Tab_PA[NOM-PRENOM AGENT],0)),"") -> 42642 | D5: =IFERROR(IF(INDEX(Tab_CM[DATE DE FORMATION REUSSIE],MATCH($A5,Tab_CM[NOM-PRENOM AGENT],0))<>"",INDEX(Tab_CM[DATE DE FORMATION REUSSIE],MATCH($A5,Tab_CM[NOM-PRENOM AGENT],0)),INDEX(Tab_CM[Initiale],MATCH($A5,Tab_CM[NOM-PRENOM AGENT],0))),"") -> 42346 | E5: =IFERROR(INDEX(Tab_CM[DATE DE VALIDITE],MATCH($A5,Tab_CM[NOM-PRENOM AGENT],0)),"") -> 43441 | F5: =IFERROR(IF(INDEX(Tab_SAP[DATE DE FORMATION REUSSIE],MATCH($A5,Tab_SAP[NOM-PRENOM AGENT],0))<>"",INDEX(Tab_SAP[DATE DE FORMATION REUSSIE],MATCH($A5,Tab_SAP[NOM-PRENOM AGENT],0)),INDEX(Tab_SAP[Initiale],MATCH($A5,Tab_SAP[NOM-PRENOM AGENT],0))),"") -> 43085 | G5: =IFERROR(INDEX(Tab_SAP[DATE DE VALIDITE],MATCH($A5,Tab_SAP[NOM-PRENOM AGENT],0)),"") -> 43449 | H5: 1) | I5: <-- Mettre à rien dans Pompier Aéroport si l'agent est dans Chef de Manœuvre "ex agent_2 , agent_4 et agent_8"
A6: =IF('Liste des AGENTS'!B8="","",'Liste des AGENTS'!B8) -> AGENT_3 | B6: =IFERROR(IF(INDEX(Tab_PA[DATE DE FORMATION REUSSIE],MATCH($A6,Tab_PA[NOM-PRENOM AGENT],0))<>"",INDEX(Tab_PA[DATE DE FORMATION REUSSIE],MATCH($A6,Tab_PA[NOM-PRENOM AGENT],0)),INDEX(Tab_PA[Initiale],MATCH($A6,Tab_PA[NOM-PRENOM AGENT],0))),"") -> 0 | C6: =IFERROR(INDEX(Tab_PA[DATE DE VALIDITE],MATCH($A6,Tab_PA[NOM-PRENOM AGENT],0)),"") | D6: =IFERROR(IF(INDEX(Tab_CM[DATE DE FORMATION REUSSIE],MATCH($A6,Tab_CM[NOM-PRENOM AGENT],0))<>"",INDEX(Tab_CM[DATE DE FORMATION REUSSIE],MATCH($A6,Tab_CM[NOM-PRENOM AGENT],0)),INDEX(Tab_CM[Initiale],MATCH($A6,Tab_CM[NOM-PRENOM AGENT],0))),"") -> 0 | E6: =IFERROR(INDEX(Tab_CM[DATE DE VALIDITE],MATCH($A6,Tab_CM[NOM-PRENOM AGENT],0)),"") | F6: =IFERROR(IF(INDEX(Tab_SAP[DATE DE FORMATION REUSSIE],MATCH($A6,Tab_SAP[NOM-PRENOM AGENT],0))<>"",INDEX(Tab_SAP[DATE DE FORMATION REUSSIE],MATCH($A6,Tab_SAP[NOM-PRENOM AGENT],0)),INDEX(Tab_SAP[Initiale],MATCH($A6,Tab_SAP[NOM-PRENOM AGENT],0))),"") -> 43225 | G6: =IFERROR(INDEX(Tab_SAP[DATE DE VALIDITE],MATCH($A6,Tab_SAP[NOM-PRENOM AGENT],0)),"") -> 43590
A7: =IF('Liste des AGENTS'!B9="","",'Liste des AGENTS'!B9) -> AGENT_4 | B7: =IFERROR(IF(INDEX(Tab_PA[DATE DE FORMATION REUSSIE],MATCH($A7,Tab_PA[NOM-PRENOM AGENT],0))<>"",INDEX(Tab_PA[DATE DE FORMATION REUSSIE],MATCH($A7,Tab_PA[NOM-PRENOM AGENT],0)),INDEX(Tab_PA[Initiale],MATCH($A7,Tab_PA[NOM-PRENOM AGENT],0))),"") -> 35507 | C7: =IFERROR(INDEX(Tab_PA[DATE DE VALIDITE],MATCH($A7,Tab_PA[NOM-PRENOM AGENT],0)),"") -> 36602 | D7: =IFERROR(IF(INDEX(Tab_CM[DATE DE FORMATION REUSSIE],MATCH($A7,Tab_CM[NOM-PRENOM AGENT],0))<>"",INDEX(Tab_CM[DATE DE FORMATION REUSSIE],MATCH($A7,Tab_CM[NOM-PRENOM AGENT],0)),INDEX(Tab_CM[Initiale],MATCH($A7,Tab_CM[NOM-PRENOM AGENT],0))),"") -> 43084 | E7: =IFERROR(INDEX(Tab_CM[DATE DE VALIDITE],MATCH($A7,Tab_CM[NOM-PRENOM AGENT],0)),"") -> 44179 | F7: =IFERROR(IF(INDEX(Tab_SAP[DATE DE FORMATION REUSSIE],MATCH($A7,Tab_SAP[NOM-PRENOM AGENT],0))<>"",INDEX(Tab_SAP[DATE DE FORMATION REUSSIE],MATCH($A7,Tab_SAP[NOM-PRENOM AGENT],0)),INDEX(Tab_SAP[Initiale],MATCH($A7,Tab_SAP[NOM-PRENOM AGENT],0))),"") -> 43085 | G7: =IFERROR(INDEX(Tab_SAP[DATE DE VALIDITE],MATCH($A7,Tab_SAP[NOM-PRENOM AGENT],0)),"") -> 43449
A8: =IF('Liste des AGENTS'!B10="","",'Liste des AGENTS'!B10) -> AGENT_5 | B8: =IFERROR(IF(INDEX(Tab_PA[DATE DE FORMATION REUSSIE],MATCH($A8,Tab_PA[NOM-PRENOM AGENT],0))<>"",INDEX(Tab_PA[DATE DE FORMATION REUSSIE],MATCH($A8,Tab_PA[NOM-PRENOM AGENT],0)),INDEX(Tab_PA[Initiale],MATCH($A8,Tab_PA[NOM-PRENOM AGENT],0))),"") -> 0 | C8: =IFERROR(INDEX(Tab_PA[DATE DE VALIDITE],MATCH($A8,Tab_PA[NOM-PRENOM AGENT],0)),"") | D8: =IFERROR(IF(INDEX(Tab_CM[DATE DE FORMATION REUSSIE],MATCH($A8,Tab_CM[NOM-PRENOM AGENT],0))<>"",INDEX(Tab_CM[DATE DE FORMATION REUSSIE],MATCH($A8,Tab_CM[NOM-PRENOM AGENT],0)),INDEX(Tab_CM[Initiale],MATCH($A8,Tab_CM[NOM-PRENOM AGENT],0))),"") -> 0 | E8: =IFERROR(INDEX(Tab_CM[DATE DE VALIDITE],MATCH($A8,Tab_CM[NOM-PRENOM AGENT],0)),"") | F8: =IFERROR(IF(INDEX(Tab_SAP[DATE DE FORMATION REUSSIE],MATCH($A8,Tab_SAP[NOM-PRENOM AGENT],0))<>"",INDEX(Tab_SAP[DATE DE FORMATION REUSSIE],MATCH($A8,Tab_SAP[NOM-PRENOM AGENT],0)),INDEX(Tab_SAP[Initiale],MATCH($A8,Tab_SAP[NOM-PRENOM AGENT],0))),"") -> 0 | G8: =IFERROR(INDEX(Tab_SAP[DATE DE VALIDITE],MATCH($A8,Tab_SAP[NOM-PRENOM AGENT],0)),"")
A9: =IF('Liste des AGENTS'!B11="","",'Liste des AGENTS'!B11) -> AGENT_6 | B9: =IFERROR(IF(INDEX(Tab_PA[DATE DE FORMATION REUSSIE],MATCH($A9,Tab_PA[NOM-PRENOM AGENT],0))<>"",INDEX(Tab_PA[DATE DE FORMATION REUSSIE],MATCH($A9,Tab_PA[NOM-PRENOM AGENT],0)),INDEX(Tab_PA[Initiale],MATCH($A9,Tab_PA[NOM-PRENOM AGENT],0))),"") -> 42325 | C9: =IFERROR(INDEX(Tab_PA[DATE DE VALIDITE],MATCH($A9,Tab_PA[NOM-PRENOM AGENT],0)),"") -> 43420 | D9: =IFERROR(IF(INDEX(Tab_CM[DATE DE FORMATION REUSSIE],MATCH($A9,Tab_CM[NOM-PRENOM AGENT],0))<>"",INDEX(Tab_CM[DATE DE FORMATION REUSSIE],MATCH($A9,Tab_CM[NOM-PRENOM AGENT],0)),INDEX(Tab_CM[Initiale],MATCH($A9,Tab_CM[NOM-PRENOM AGENT],0))),"") -> 0 | E9: =IFERROR(INDEX(Tab_CM[DATE DE VALIDITE],MATCH($A9,Tab_CM[NOM-PRENOM AGENT],0)),"") | F9: =IFERROR(IF(INDEX(Tab_SAP[DATE DE FORMATION REUSSIE],MATCH($A9,Tab_SAP[NOM-PRENOM AGENT],0))<>"",INDEX(Tab_SAP[DATE DE FORMATION REUSSIE],MATCH($A9,Tab_SAP[NOM-PRENOM AGENT],0)),INDEX(Tab_SAP[Initiale],MATCH($A9,Tab_SAP[NOM-PRENOM AGENT],0))),"") -> 43085 | G9: =IFERROR(INDEX(Tab_SAP[DATE DE VALIDITE],MATCH($A9,Tab_SAP[NOM-PRENOM AGENT],0)),"") -> 43449 | H9: 2) | I9: <-- Pourquoi dans Chef de Manœuvre la MFC se met en place malgré qu'il n'y a pas de date ??
A10: =IF('Liste des AGENTS'!B12="","",'Liste des AGENTS'!B12) -> AGENT_7 | B10: =IFERROR(IF(INDEX(Tab_PA[DATE DE FORMATION REUSSIE],MATCH($A10,Tab_PA[NOM-PRENOM AGENT],0))<>"",INDEX(Tab_PA[DATE DE FORMATION REUSSIE],MATCH($A10,Tab_PA[NOM-PRENOM AGENT],0)),INDEX(Tab_PA[Initiale],MATCH($A10,Tab_PA[NOM-PRENOM AGENT],0))),"") -> 0 | C10: =IFERROR(INDEX(Tab_PA[DATE DE VALIDITE],MATCH($A10,Tab_PA[NOM-PRENOM AGENT],0)),"") | D10: =IFERROR(IF(INDEX(Tab_CM[DATE DE FORMATION REUSSIE],MATCH($A10,Tab_CM[NOM-PRENOM AGENT],0))<>"",INDEX(Tab_CM[DATE DE FORMATION REUSSIE],MATCH($A10,Tab_CM[NOM-PRENOM AGENT],0)),INDEX(Tab_CM[Initiale],MATCH($A10,Tab_CM[NOM-PRENOM AGENT],0))),"") -> 0 | E10: =IFERROR(INDEX(Tab_CM[DATE DE VALIDITE],MATCH($A10,Tab_CM[NOM-PRENOM AGENT],0)),"") | F10: =IFERROR(IF(INDEX(Tab_SAP[DATE DE FORMATION REUSSIE],MATCH($A10,Tab_SAP[NOM-PRENOM AGENT],0))<>"",INDEX(Tab_SAP[DATE DE FORMATION REUSSIE],MATCH($A10,Tab_SAP[NOM-PRENOM AGENT],0)),INDEX(Tab_SAP[Initiale],MATCH($A10,Tab_SAP[NOM-PRENOM AGENT],0))),"") -> 43095 | G10: =IFERROR(INDEX(Tab_SAP[DATE DE VALIDITE],MATCH($A10,Tab_SAP[NOM-PRENOM AGENT],0)),"") -> 43459
A11: =IF('Liste des AGENTS'!B13="","",'Liste des AGENTS'!B13) -> AGENT_8 | B11: =IFERROR(IF(INDEX(Tab_PA[DATE DE FORMATION REUSSIE],MATCH($A11,Tab_PA[NOM-PRENOM AGENT],0))<>"",INDEX(Tab_PA[DATE DE FORMATION REUSSIE],MATCH($A11,Tab_PA[NOM-PRENOM AGENT],0)),INDEX(Tab_PA[Initiale],MATCH($A11,Tab_PA[NOM-PRENOM AGENT],0))),"") -> 43139 | C11: =IFERROR(INDEX(Tab_PA[DATE DE VALIDITE],MATCH($A11,Tab_PA[NOM-PRENOM AGENT],0)),"") -> 44234 | D11: =IFERROR(IF(INDEX(Tab_CM[DATE DE FORMATION REUSSIE],MATCH($A11,Tab_CM[NOM-PRENOM AGENT],0))<>"",INDEX(Tab_CM[DATE DE FORMATION REUSSIE],MATCH($A11,Tab_CM[NOM-PRENOM AGENT],0)),INDEX(Tab_CM[Initiale],MATCH($A11,Tab_CM[NOM-PRENOM AGENT],0))),"") -> 43444 | E11: =IFERROR(INDEX(Tab_CM[DATE DE VALIDITE],MATCH($A11,Tab_CM[NOM-PRENOM AGENT],0)),"") -> 44540 | F11: =IFERROR(IF(INDEX(Tab_SAP[DATE DE FORMATION REUSSIE],MATCH($A11,Tab_SAP[NOM-PRENOM AGENT],0))<>"",INDEX(Tab_SAP[DATE DE FORMATION REUSSIE],MATCH($A11,Tab_SAP[NOM-PRENOM AGENT],0)),INDEX(Tab_SAP[Initiale],MATCH($A11,Tab_SAP[NOM-PRENOM AGENT],0))),"") -> 43085 | G11: =IFERROR(INDEX(Tab_SAP[DATE DE VALIDITE],MATCH($A11,Tab_SAP[NOM-PRENOM AGENT],0)),"") -> 43449
A12: =IF('Liste des AGENTS'!B14="","",'Liste des AGENTS'!B14) -> AGENT_9 | B12: =IFERROR(IF(INDEX(Tab_PA[DATE DE FORMATION REUSSIE],MATCH($A12,Tab_PA[NOM-PRENOM AGENT],0))<>"",INDEX(Tab_PA[DATE DE FORMATION REUSSIE],MATCH($A12,Tab_PA[NOM-PRENOM AGENT],0)),INDEX(Tab_PA[Initiale],MATCH($A12,Tab_PA[NOM-PRENOM AGENT],0))),"") -> 42346 | C12: =IFERROR(INDEX(Tab_PA[DATE DE VALIDITE],MATCH($A12,Tab_PA[NOM-PRENOM AGENT],0)),"") -> 43441 | D12: =IFERROR(IF(INDEX(Tab_CM[DATE DE FORMATION REUSSIE],MATCH($A12,Tab_CM[NOM-PRENOM AGENT],0))<>"",INDEX(Tab_CM[DATE DE FORMATION REUSSIE],MATCH($A12,Tab_CM[NOM-PRENOM AGENT],0)),INDEX(Tab_CM[Initiale],MATCH($A12,Tab_CM[NOM-PRENOM AGENT],0))),"") -> 0 | E12: =IFERROR(INDEX(Tab_CM[DATE DE VALIDITE],MATCH($A12,Tab_CM[NOM-PRENOM AGENT],0)),"") | F12: =IFERROR(IF(INDEX(Tab_SAP[DATE DE FORMATION REUSSIE],MATCH($A12,Tab_SAP[NOM-PRENOM AGENT],0))<>"",INDEX(Tab_SAP[DATE DE FORMATION REUSSIE],MATCH($A12,Tab_SAP[NOM-PRENOM AGENT],0)),INDEX(Tab_SAP[Initiale],MATCH($A12,Tab_SAP[NOM-PRENOM AGENT],0))),"") -> 43095 | G12: =IFERROR(INDEX(Tab_SAP[DATE DE VALIDITE],MATCH($A12,Tab_SAP[NOM-PRENOM AGENT],0)),"") -> 43459
A13: =IF('Liste des AGENTS'!B15="","",'Liste des AGENTS'!B15) -> AGENT_10 | B13: =IFERROR(IF(INDEX(Tab_PA[DATE DE FORMATION REUSSIE],MATCH($A13,Tab_PA[NOM-PRENOM AGENT],0))<>"",INDEX(Tab_PA[DATE DE FORMATION REUSSIE],MATCH($A13,Tab_PA[NOM-PRENOM AGENT],0)),INDEX(Tab_PA[Initiale],MATCH($A13,Tab_PA[NOM-PRENOM AGENT],0))),"") -> 0 | C13: =IFERROR(INDEX(Tab_PA[DATE DE VALIDITE],MATCH($A13,Tab_PA[NOM-PRENOM AGENT],0)),"") | D13: =IFERROR(IF(INDEX(Tab_CM[DATE DE FORMATION REUSSIE],MATCH($A13,Tab_CM[NOM-PRENOM AGENT],0))<>"",INDEX(Tab_CM[DATE DE FORMATION REUSSIE],MATCH($A13,Tab_CM[NOM-PRENOM AGENT],0)),INDEX(Tab_CM[Initiale],MATCH($A13,Tab_CM[NOM-PRENOM AGENT],0))),"") -> 0 | E13: =IFERROR(INDEX(Tab_CM[DATE DE VALIDITE],MATCH($A13,Tab_CM[NOM-PRENOM AGENT],0)),"") | F13: =IFERROR(IF(INDEX(Tab_SAP[DATE DE FORMATION REUSSIE],MATCH($A13,Tab_SAP[NOM-PRENOM AGENT],0))<>"",INDEX(Tab_SAP[DATE DE FORMATION REUSSIE],MATCH($A13,Tab_SAP[NOM-PRENOM AGENT],0)),INDEX(Tab_SAP[Initiale],MATCH($A13,Tab_SAP[NOM-PRENOM AGENT],0))),"") -> 0 | G13: =IFERROR(INDEX(Tab_SAP[DATE DE VALIDITE],MATCH($A13,Tab_SAP[NOM-PRENOM AGENT],0)),"")
A14: =IF('Liste des AGENTS'!B16="","",'Liste des AGENTS'!B16) -> AGENT_11 | B14: =IFERROR(IF(INDEX(Tab_PA[DATE DE FORMATION REUSSIE],MATCH($A14,Tab_PA[NOM-PRENOM AGENT],0))<>"",INDEX(Tab_PA[DATE DE FORMATION REUSSIE],MATCH($A14,Tab_PA[NOM-PRENOM AGENT],0)),INDEX(Tab_PA[Initiale],MATCH($A14,Tab_PA[NOM-PRENOM AGENT],0))),"") -> 0 | C14: =IFERROR(INDEX(Tab_PA[DATE DE VALIDITE],MATCH($A14,Tab_PA[NOM-PRENOM AGENT],0)),"") | D14: =IFERROR(IF(INDEX(Tab_CM[DATE DE FORMATION REUSSIE],MATCH($A14,Tab_CM[NOM-PRENOM AGENT],0))<>"",INDEX(Tab_CM[DATE DE FORMATION REUSSIE],MATCH($A14,Tab_CM[NOM-PRENOM AGENT],0)),INDEX(Tab_CM[Initiale],MATCH($A14,Tab_CM[NOM-PRENOM AGENT],0))),"") -> 43084 | E14: =IFERROR(INDEX(Tab_CM[DATE DE VALIDITE],MATCH($A14,Tab_CM[NOM-PRENOM AGENT],0)),"") -> 44179 | F14: =IFERROR(IF(INDEX(Tab_SAP[DATE DE FORMATION REUSSIE],MATCH($A14,Tab_SAP[NOM-PRENOM AGENT],0))<>"",INDEX(Tab_SAP[DATE DE FORMATION REUSSIE],MATCH($A14,Tab_SAP[NOM-PRENOM AGENT],0)),INDEX(Tab_SAP[Initiale],MATCH($A14,Tab_SAP[NOM-PRENOM AGENT],0))),"") -> 43085 | G14: =IFERROR(INDEX(Tab_SAP[DATE DE VALIDITE],MATCH($A14,Tab_SAP[NOM-PRENOM AGENT],0)),"") -> 43449
A15: =IF('Liste des AGENTS'!B17="","",'Liste des AGENTS'!B17) -> AGENT_12 | B15: =IFERROR(IF(INDEX(Tab_PA[DATE DE FORMATION REUSSIE],MATCH($A15,Tab_PA[NOM-PRENOM AGENT],0))<>"",INDEX(Tab_PA[DATE DE FORMATION REUSSIE],MATCH($A15,Tab_PA[NOM-PRENOM AGENT],0)),INDEX(Tab_PA[Initiale],MATCH($A15,Tab_PA[NOM-PRENOM AGENT],0))),"") -> 0 | C15: =IFERROR(INDEX(Tab_PA[DATE DE VALIDITE],MATCH($A15,Tab_PA[NOM-PRENOM AGENT],0)),"") | D15: =IFERROR(IF(INDEX(Tab_CM[DATE DE FORMATION REUSSIE],MATCH($A15,Tab_CM[NOM-PRENOM AGENT],0))<>"",INDEX(Tab_CM[DATE DE FORMATION REUSSIE],MATCH($A15,Tab_CM[NOM-PRENOM AGENT],0)),INDEX(Tab_CM[Initiale],MATCH($A15,Tab_CM[NOM-PRENOM AGENT],0))),"") -> 0 | E15: =IFERROR(INDEX(Tab_CM[DATE DE VALIDITE],MATCH($A15,Tab_CM[NOM-PRENOM AGENT],0)),"") | F15: =IFERROR(IF(INDEX(Tab_SAP[DATE DE FORMATION REUSSIE],MATCH($A15,Tab_SAP[NOM-PRENOM AGENT],0))<>"",INDEX(Tab_SAP[DATE DE FORMATION REUSSIE],MATCH($A15,Tab_SAP[NOM-PRENOM AGENT],0)),INDEX(Tab_SAP[Initiale],MATCH($A15,Tab_SAP[NOM-PRENOM AGENT],0))),"") -> 43085 | G15: =IFERROR(INDEX(Tab_SAP[DATE DE VALIDITE],MATCH($A15,Tab_SAP[NOM-PRENOM AGENT],0)),"") -> 43449
A16: =IF('Liste des AGENTS'!B18="","",'Liste des AGENTS'!B18) -> AGENT_13 | B16: =IFERROR(IF(INDEX(Tab_PA[DATE DE FORMATION REUSSIE],MATCH($A16,Tab_PA[NOM-PRENOM AGENT],0))<>"",INDEX(Tab_PA[DATE DE FORMATION REUSSIE],MATCH($A16,Tab_PA[NOM-PRENOM AGENT],0)),INDEX(Tab_PA[Initiale],MATCH($A16,Tab_PA[NOM-PRENOM AGENT],0))),"") -> 0 | C16: =IFERROR(INDEX(Tab_PA[DATE DE VALIDITE],MATCH($A16,Tab_PA[NOM-PRENOM AGENT],0)),"") | D16: =IFERROR(IF(INDEX(Tab_CM[DATE DE FORMATION REUSSIE],MATCH($A16,Tab_CM[NOM-PRENOM AGENT],0))<>"",INDEX(Tab_CM[DATE DE FORMATION REUSSIE],MATCH($A16,Tab_CM[NOM-PRENOM AGENT],0)),INDEX(Tab_CM[Initiale],MATCH($A16,Tab_CM[NOM-PRENOM AGENT],0))),"") -> 42325 | E16: =IFERROR(INDEX(Tab_CM[DATE DE VALIDITE],MATCH($A16,Tab_CM[NOM-PRENOM AGENT],0)),"") -> 43420 | F16: =IFERROR(IF(INDEX(Tab_SAP[DATE DE FORMATION REUSSIE],MATCH($A16,Tab_SAP[NOM-PRENOM AGENT],0))<>"",INDEX(Tab_SAP[DATE DE FORMATION REUSSIE],MATCH($A16,Tab_SAP[NOM-PRENOM AGENT],0)),INDEX(Tab_SAP[Initiale],MATCH($A16,Tab_SAP[NOM-PRENOM AGENT],0))),"") -> 43095 | G16: =IFERROR(INDEX(Tab_SAP[DATE DE VALIDITE],MATCH($A16,Tab_SAP[NOM-PRENOM AGENT],0)),"") -> 43459
A17: =IF('Liste des AGENTS'!B19="","",'Liste des AGENTS'!B19) -> AGENT_14 | B17: =IFERROR(IF(INDEX(Tab_PA[DATE DE FORMATION REUSSIE],MATCH($A17,Tab_PA[NOM-PRENOM AGENT],0))<>"",INDEX(Tab_PA[DATE DE FORMATION REUSSIE],MATCH($A17,Tab_PA[NOM-PRENOM AGENT],0)),INDEX(Tab_PA[Initiale],MATCH($A17,Tab_PA[NOM-PRENOM AGENT],0))),"") -> 0 | C17: =IFERROR(INDEX(Tab_PA[DATE DE VALIDITE],MATCH($A17,Tab_PA[NOM-PRENOM AGENT],0)),"") | D17: =IFERROR(IF(INDEX(Tab_CM[DATE DE FORMATION REUSSIE],MATCH($A17,Tab_CM[NOM-PRENOM AGENT],0))<>"",INDEX(Tab_CM[DATE DE FORMATION REUSSIE],MATCH($A17,Tab_CM[NOM-PRENOM AGENT],0)),INDEX(Tab_CM[Initiale],MATCH($A17,Tab_CM[NOM-PRENOM AGENT],0))),"") -> 42445 | E17: =IFERROR(INDEX(Tab_CM[DATE DE VALIDITE],MATCH($A17,Tab_CM[NOM-PRENOM AGENT],0)),"") -> 43539 | F17: =IFERROR(IF(INDEX(Tab_SAP[DATE DE FORMATION REUSSIE],MATCH($A17,Tab_SAP[NOM-PRENOM AGENT],0))<>"",INDEX(Tab_SAP[DATE DE FORMATION REUSSIE],MATCH($A17,Tab_SAP[NOM-PRENOM AGENT],0)),INDEX(Tab_SAP[Initiale],MATCH($A17,Tab_SAP[NOM-PRENOM AGENT],0))),"") -> 43085 | G17: =IFERROR(INDEX(Tab_SAP[DATE DE VALIDITE],MATCH($A17,Tab_SAP[NOM-PRENOM AGENT],0)),"") -> 43449
A18: =IF('Liste des AGENTS'!B20="","",'Liste des AGENTS'!B20) | B18: =IFERROR(IF(INDEX(Tab_PA[DATE DE FORMATION REUSSIE],MATCH($A18,Tab_PA[NOM-PRENOM AGENT],0))<>"",INDEX(Tab_PA[DATE DE FORMATION REUSSIE],MATCH($A18,Tab_PA[NOM-PRENOM AGENT],0)),INDEX(Tab_PA[Initiale],MATCH($A18,Tab_PA[NOM-PRENOM AGENT],0))),"") -> 0 | C18: =IFERROR(INDEX(Tab_PA[DATE DE VALIDITE],MATCH($A18,Tab_PA[NOM-PRENOM AGENT],0)),"") | D18: =IFERROR(IF(INDEX(Tab_CM[DATE DE FORMATION REUSSIE],MATCH($A18,Tab_CM[NOM-PRENOM AGENT],0))<>"",INDEX(Tab_CM[DATE DE FORMATION REUSSIE],MATCH($A18,Tab_CM[NOM-PRENOM AGENT],0)),INDEX(Tab_CM[Initiale],MATCH($A18,Tab_CM[NOM-PRENOM AGENT],0))),"") -> 0 | E18: =IFERROR(INDEX(Tab_CM[DATE DE VALIDITE],MATCH($A18,Tab_CM[NOM-PRENOM AGENT],0)),"") | F18: =IFERROR(IF(INDEX(Tab_SAP[DATE DE FORMATION REUSSIE],MATCH($A18,Tab_SAP[NOM-PRENOM AGENT],0))<>"",INDEX(Tab_SAP[DATE DE FORMATION REUSSIE],MATCH($A18,Tab_SAP[NOM-PRENOM AGENT],0)),INDEX(Tab_SAP[Initiale],MATCH($A18,Tab_SAP[NOM-PRENOM AGENT],0))),"") -> 0 | G18: =IFERROR(INDEX(Tab_SAP[DATE DE VALIDITE],MATCH($A18,Tab_SAP[NOM-PRENOM AGENT],0)),"")
A19: =IF('Liste des AGENTS'!B21="","",'Liste des AGENTS'!B21) | B19: =IFERROR(IF(INDEX(Tab_PA[DATE DE FORMATION REUSSIE],MATCH($A19,Tab_PA[NOM-PRENOM AGENT],0))<>"",INDEX(Tab_PA[DATE DE FORMATION REUSSIE],MATCH($A19,Tab_PA[NOM-PRENOM AGENT],0)),INDEX(Tab_PA[Initiale],MATCH($A19,Tab_PA[NOM-PRENOM AGENT],0))),"") -> 0 | C19: =IFERROR(INDEX(Tab_PA[DATE DE VALIDITE],MATCH($A19,Tab_PA[NOM-PRENOM AGENT],0)),"") | D19: =IFERROR(IF(INDEX(Tab_CM[DATE DE FORMATION REUSSIE],MATCH($A19,Tab_CM[NOM-PRENOM AGENT],0))<>"",INDEX(Tab_CM[DATE DE FORMATION REUSSIE],MATCH($A19,Tab_CM[NOM-PRENOM AGENT],0)),INDEX(Tab_CM[Initiale],MATCH($A19,Tab_CM[NOM-PRENOM AGENT],0))),"") -> 0 | E19: =IFERROR(INDEX(Tab_CM[DATE DE VALIDITE],MATCH($A19,Tab_CM[NOM-PRENOM AGENT],0)),"") | F19: =IFERROR(IF(INDEX(Tab_SAP[DATE DE FORMATION REUSSIE],MATCH($A19,Tab_SAP[NOM-PRENOM AGENT],0))<>"",INDEX(Tab_SAP[DATE DE FORMATION REUSSIE],MATCH($A19,Tab_SAP[NOM-PRENOM AGENT],0)),INDEX(Tab_SAP[Initiale],MATCH($A19,Tab_SAP[NOM-PRENOM AGENT],0))),"") -> 0 | G19: =IFERROR(INDEX(Tab_SAP[DATE DE VALIDITE],MATCH($A19,Tab_SAP[NOM-PRENOM AGENT],0)),"")
A20: =IF('Liste des AGENTS'!B22="","",'Liste des AGENTS'!B22) | B20: =IFERROR(IF(INDEX(Tab_PA[DATE DE FORMATION REUSSIE],MATCH($A20,Tab_PA[NOM-PRENOM AGENT],0))<>"",INDEX(Tab_PA[DATE DE FORMATION REUSSIE],MATCH($A20,Tab_PA[NOM-PRENOM AGENT],0)),INDEX(Tab_PA[Initiale],MATCH($A20,Tab_PA[NOM-PRENOM AGENT],0))),"") -> 0 | C20: =IFERROR(INDEX(Tab_PA[DATE DE VALIDITE],MATCH($A20,Tab_PA[NOM-PRENOM AGENT],0)),"") | D20: =IFERROR(IF(INDEX(Tab_CM[DATE DE FORMATION REUSSIE],MATCH($A20,Tab_CM[NOM-PRENOM AGENT],0))<>"",INDEX(Tab_CM[DATE DE FORMATION REUSSIE],MATCH($A20,Tab_CM[NOM-PRENOM AGENT],0)),INDEX(Tab_CM[Initiale],MATCH($A20,Tab_CM[NOM-PRENOM AGENT],0))),"") -> 0 | E20: =IFERROR(INDEX(Tab_CM[DATE DE VALIDITE],MATCH($A20,Tab_CM[NOM-PRENOM AGENT],0)),"") | F20: =IFERROR(IF(INDEX(Tab_SAP[DATE DE FORMATION REUSSIE],MATCH($A20,Tab_SAP[NOM-PRENOM AGENT],0))<>"",INDEX(Tab_SAP[DATE DE FORMATION REUSSIE],MATCH($A20,Tab_SAP[NOM-PRENOM AGENT],0)),INDEX(Tab_SAP[Initiale],MATCH($A20,Tab_SAP[NOM-PRENOM AGENT],0))),"") -> 0 | G20: =IFERROR(INDEX(Tab_SAP[DATE DE VALIDITE],MATCH($A20,Tab_SAP[NOM-PRENOM AGENT],0)),"")
A21: =IF('Liste des AGENTS'!B23="","",'Liste des AGENTS'!B23) | B21: =IFERROR(IF(INDEX(Tab_PA[DATE DE FORMATION REUSSIE],MATCH($A21,Tab_PA[NOM-PRENOM AGENT],0))<>"",INDEX(Tab_PA[DATE DE FORMATION REUSSIE],MATCH($A21,Tab_PA[NOM-PRENOM AGENT],0)),INDEX(Tab_PA[Initiale],MATCH($A21,Tab_PA[NOM-PRENOM AGENT],0))),"") -> 0 | C21: =IFERROR(INDEX(Tab_PA[DATE DE VALIDITE],MATCH($A21,Tab_PA[NOM-PRENOM AGENT],0)),"") | D21: =IFERROR(IF(INDEX(Tab_CM[DATE DE FORMATION REUSSIE],MATCH($A21,Tab_CM[NOM-PRENOM AGENT],0))<>"",INDEX(Tab_CM[DATE DE FORMATION REUSSIE],MATCH($A21,Tab_CM[NOM-PRENOM AGENT],0)),INDEX(Tab_CM[Initiale],MATCH($A21,Tab_CM[NOM-PRENOM AGENT],0))),"") -> 0 | E21: =IFERROR(INDEX(Tab_CM[DATE DE VALIDITE],MATCH($A21,Tab_CM[NOM-PRENOM AGENT],0)),"") | F21: =IFERROR(IF(INDEX(Tab_SAP[DATE DE FORMATION REUSSIE],MATCH($A21,Tab_SAP[NOM-PRENOM AGENT],0))<>"",INDEX(Tab_SAP[DATE DE FORMATION REUSSIE],MATCH($A21,Tab_SAP[NOM-PRENOM AGENT],0)),INDEX(Tab_SAP[Initiale],MATCH($A21,Tab_SAP[NOM-PRENOM AGENT],0))),"") -> 0 | G21: =IFERROR(INDEX(Tab_SAP[DATE DE VALIDITE],MATCH($A21,Tab_SAP[NOM-PRENOM AGENT],0)),"")
... A23: =IF('Liste des AGENTS'!B25="","",'Liste des AGENTS'!B25) | B23: =IFERROR(IF(INDEX(Tab_PA[DATE DE FORMATION REUSSIE],MATCH($A23,Tab_PA[NOM-PRENOM AGENT],0))<>"",INDEX(Tab_PA[DATE DE FORMATION REUSSIE],MATCH($A23,Tab_PA[NOM-PRENOM AGENT],0)),INDEX(Tab_PA[Initiale],MATCH($A23,Tab_PA[NOM-PRENOM AGENT],0))),"") -> 0 | C23: =IFERROR(INDEX(Tab_PA[DATE DE VALIDITE],MATCH($A23,Tab_PA[NOM-PRENOM AGENT],0)),"") | D23: =IFERROR(IF(INDEX(Tab_CM[DATE DE FORMATION REUSSIE],MATCH($A23,Tab_CM[NOM-PRENOM AGENT],0))<>"",INDEX(Tab_CM[DATE DE FORMATION REUSSIE],MATCH($A23,Tab_CM[NOM-PRENOM AGENT],0)),INDEX(Tab_CM[Initiale],MATCH($A23,Tab_CM[NOM-PRENOM AGENT],0))),"") -> 0 | E23: =IFERROR(INDEX(Tab_CM[DATE DE VALIDITE],MATCH($A23,Tab_CM[NOM-PRENOM AGENT],0)),"") | F23: =IFERROR(IF(INDEX(Tab_SAP[DATE DE FORMATION REUSSIE],MATCH($A23,Tab_SAP[NOM-PRENOM AGENT],0))<>"",INDEX(Tab_SAP[DATE DE FORMATION REUSSIE],MATCH($A23,Tab_SAP[NOM-PRENOM AGENT],0)),INDEX(Tab_SAP[Initiale],MATCH($A23,Tab_SAP[NOM-PRENOM AGENT],0))),"") -> 0 | G23: =IFERROR(INDEX(Tab_SAP[DATE DE VALIDITE],MATCH($A23,Tab_SAP[NOM-PRENOM AGENT],0)),"")

Sheet Liste des AGENTS
B1: Liste du personnel Syndicat Mixte
B2: Année ****
D3: =COUNTIF(E6:E25,E3) -> 8 | E3: Pompier Aéroport
D4: =COUNTIF(E7:E26,E4) -> 6 | E4: Chef de Manœuvre
B5: Nom et prénom de l'agent | C5: Service | D5: Date d'embauche | E5: Poste
A6: 1 | B6: AGENT_1 | C6: SSLIA | E6: Pompier Aéroport
A7: =+A6+1 -> 2 | B7: AGENT_2 | C7: SSLIA | E7: Chef de Manœuvre
A8: =+A7+1 -> 3 | B8: AGENT_3 | C8: SSLIA | E8: Pompier Aéroport
A9: =+A8+1 -> 4 | B9: AGENT_4 | C9: SSLIA | E9: Chef de Manœuvre
A10: =+A9+1 -> 5 | B10: AGENT_5 | C10: SSLIA | E10: Pompier Aéroport
A11: =+A10+1 -> 6 | B11: AGENT_6 | C11: SSLIA | E11: Pompier Aéroport
A12: =+A11+1 -> 7 | B12: AGENT_7 | C12: SSLIA | E12: Pompier Aéroport
A13: =+A12+1 -> 8 | B13: AGENT_8 | C13: SSLIA | D13: 40731 | E13: Pompier Aéroport
A14: =+A13+1 -> 9 | B14: AGENT_9 | C14: SSLIA | E14: Pompier Aéroport
A15: =+A14+1 -> 10 | B15: AGENT_10 | C15: SSLIA | E15: Pompier Aéroport
A16: =+A15+1 -> 11 | B16: AGENT_11 | C16: SSLIA | E16: Chef de Manœuvre
A17: =+A16+1 -> 12 | B17: AGENT_12 | C17: SSLIA | E17: Chef de Manœuvre
A18: =+A17+1 -> 13 | B18: AGENT_13 | C18: SSLIA | E18: Chef de Manœuvre
A19: =+A18+1 -> 14 | B19: AGENT_14 | C19: SSLIA | E19: Chef de Manœuvre
A20: =+A19+1 -> 15
A21: =+A20+1 -> 16
A22: =+A21+1 -> 17
A23: =+A22+1 -> 18
A24: =+A23+1 -> 19
A25: =+A24+1 -> 20

Sheet Liste des formations
A2: Liste des FORMATIONS OBLIGATOIRES | E2: Liste des FORMATIONS RECOMMANDEES
A4: Formations OBLIGATOIRES - Service SSLIA | E4: Formations RECOMMANDEES - Service SSLIA
A5: Formation | B5: Échéance | C5: Agents concernés | E5: Formation | F5: Échéance | G5: Agents concernés
A6: Formation initiale Pompier Aéroport | C6: Tous les agents du service
A7: Formation continue Pompier Aéroport | B7: 3 | C7: Pompiers Aéroport sollicitant l'agrément
A8: Formation initiale Chef de Manœuvre | C8: Tous les agents nommé à cette fonction
A9: Formation continue Chef de Manœuvre | B9: 3 | C9: Chef de Manœuvre sollicitant l'agrément
A10: Certificat de formation premiers secours | C10: Tous les agents du service
A11: Attestation de formation continue PSE | B11: 1 | C11: Tous les agents du service

Sheet Form initiale et continue PA 
A1: Formation OBLIGATOIRE pour le personnel SSLIA
C2: ECHEANCE : | D2: 3 | E2: alerte à | F2: 180
A4: Formation dispensée par un formateur externe
A5: (3 semaines (105h) pour la formation initiale et 5 jours (35h) pour le recyclage)
A7: NOM-PRENOM AGENT | B7: Service | C7: Initiale | D7: Formation | E7: DATE DE FORMATION REUSSIE | F7: DATE DE VALIDITE | G7: Observation | H7: cm
A8: =IF('Liste des AGENTS'!B6="","",'Liste des AGENTS'!B6) -> AGENT_1 | B8: =IF('Liste des AGENTS'!C6="","",'Liste des AGENTS'!C6) -> SSLIA | C8: 40452 | D8: Rec PA | E8: 42338 | F8: =IF(AND($C8="",$E8=""),"",IF($E8="",DATE(YEAR(C8)+$D$2,MONTH(C8),DAY(C8)),DATE(YEAR(E8)+$D$2,MONTH(E8),DAY(E8)-1))) -> 43433
A9: =IF('Liste des AGENTS'!B7="","",'Liste des AGENTS'!B7) -> AGENT_2 | B9: =IF('Liste des AGENTS'!C7="","",'Liste des AGENTS'!C7) -> SSLIA | C9: 40452 | D9: Rec PA | E9: 41547 | F9: =IF(AND($C9="",$E9=""),"",IF($E9="",DATE(YEAR(C9)+$D$2,MONTH(C9),DAY(C9)),DATE(YEAR(E9)+$D$2,MONTH(E9),DAY(E9)-1))) -> 42642 | H9: cm
A10: =IF('Liste des AGENTS'!B8="","",'Liste des AGENTS'!B8) -> AGENT_3 | B10: =IF('Liste des AGENTS'!C8="","",'Liste des AGENTS'!C8) -> SSLIA | D10: Rec PA | F10: =IF(AND($C10="",$E10=""),"",IF($E10="",DATE(YEAR(C10)+$D$2,MONTH(C10),DAY(C10)),DATE(YEAR(E10)+$D$2,MONTH(E10),DAY(E10)-1)))
A11: =IF('Liste des AGENTS'!B9="","",'Liste des AGENTS'!B9) -> AGENT_4 | B11: =IF('Liste des AGENTS'!C9="","",'Liste des AGENTS'!C9) -> SSLIA | C11: 32283 | D11: Rec PA | E11: 35507 | F11: =IF(AND($C11="",$E11=""),"",IF($E11="",DATE(YEAR(C11)+$D$2,MONTH(C11),DAY(C11)),DATE(YEAR(E11)+$D$2,MONTH(E11),DAY(E11)-1))) -> 36602 | H11: cm
A12: =IF('Liste des AGENTS'!B10="","",'Liste des AGENTS'!B10) -> AGENT_5 | B12: =IF('Liste des AGENTS'!C10="","",'Liste des AGENTS'!C10) -> SSLIA | D12: Rec PA | F12: =IF(AND($C12="",$E12=""),"",IF($E12="",DATE(YEAR(C12)+$D$2,MONTH(C12),DAY(C12)),DATE(YEAR(E12)+$D$2,MONTH(E12),DAY(E12)-1)))
A13: =IF('Liste des AGENTS'!B11="","",'Liste des AGENTS'!B11) -> AGENT_6 | B13: =IF('Liste des AGENTS'!C11="","",'Liste des AGENTS'!C11) -> SSLIA | D13: Rec PA | E13: 42325 | F13: =IF(AND($C13="",$E13=""),"",IF($E13="",DATE(YEAR(C13)+$D$2,MONTH(C13),DAY(C13)),DATE(YEAR(E13)+$D$2,MONTH(E13),DAY(E13)-1))) -> 43420
A14: =IF('Liste des AGENTS'!B12="","",'Liste des AGENTS'!B12) -> AGENT_7 | B14: =IF('Liste des AGENTS'!C12="","",'Liste des AGENTS'!C12) -> SSLIA | D14: Rec PA | F14: =IF(AND($C14="",$E14=""),"",IF($E14="",DATE(YEAR(C14)+$D$2,MONTH(C14),DAY(C14)),DATE(YEAR(E14)+$D$2,MONTH(E14),DAY(E14)-1)))
A15: =IF('Liste des AGENTS'!B13="","",'Liste des AGENTS'!B13) -> AGENT_8 | B15: =IF('Liste des AGENTS'!C13="","",'Liste des AGENTS'!C13) -> SSLIA | C15: 38653 | D15: Rec PA | E15: 43139 | F15: =IF(AND($C15="",$E15=""),"",IF($E15="",DATE(YEAR(C15)+$D$2,MONTH(C15),DAY(C15)),DATE(YEAR(E15)+$D$2,MONTH(E15),DAY(E15)-1))) -> 44234
A16: =IF('Liste des AGENTS'!B14="","",'Liste des AGENTS'!B14) -> AGENT_9 | B16: =IF('Liste des AGENTS'!C14="","",'Liste des AGENTS'!C14) -> SSLIA | D16: Rec PA | E16: 42346 | F16: =IF(AND($C16="",$E16=""),"",IF($E16="",DATE(YEAR(C16)+$D$2,MONTH(C16),DAY(C16)),DATE(YEAR(E16)+$D$2,MONTH(E16),DAY(E16)-1))) -> 43441
A17: =IF('Liste des AGENTS'!B15="","",'Liste des AGENTS'!B15) -> AGENT_10 | B17: =IF('Liste des AGENTS'!C15="","",'Liste des AGENTS'!C15) -> SSLIA | D17: Rec PA | F17: =IF(AND($C17="",$E17=""),"",IF($E17="",DATE(YEAR(C17)+$D$2,MONTH(C17),DAY(C17)),DATE(YEAR(E17)+$D$2,MONTH(E17),DAY(E17)-1)))
A18: =IF('Liste des AGENTS'!B16="","",'Liste des AGENTS'!B16) -> AGENT_11 | B18: =IF('Liste des AGENTS'!C16="","",'Liste des AGENTS'!C16) -> SSLIA | D18: Rec PA | F18: =IF(AND($C18="",$E18=""),"",IF($E18="",DATE(YEAR(C18)+$D$2,MONTH(C18),DAY(C18)),DATE(YEAR(E18)+$D$2,MONTH(E18),DAY(E18)-1))) | H18: cm
A19: =IF('Liste des AGENTS'!B17="","",'Liste des AGENTS'!B17) -> AGENT_12 | B19: =IF('Liste des AGENTS'!C17="","",'Liste des AGENTS'!C17) -> SSLIA | D19: Rec PA | F19: =IF(AND($C19="",$E19=""),"",IF($E19="",DATE(YEAR(C19)+$D$2,MONTH(C19),DAY(C19)),DATE(YEAR(E19)+$D$2,MONTH(E19),DAY(E19)-1))) | H19: cm
A20: =IF('Liste des AGENTS'!B18="","",'Liste des AGENTS'!B18) -> AGENT_13 | B20: =IF('Liste des AGENTS'!C18="","",'Liste des AGENTS'!C18) -> SSLIA | D20: Rec PA | F20: =IF(AND($C20="",$E20=""),"",IF($E20="",DATE(YEAR(C20)+$D$2,MONTH(C20),DAY(C20)),DATE(YEAR(E20)+$D$2,MONTH(E20),DAY(E20)-1))) | H20: cm
A21: =IF('Liste des AGENTS'!B19="","",'Liste des AGENTS'!B19) -> AGENT_14 | B21: =IF('Liste des AGENTS'!C19="","",'Liste des AGENTS'!C19) -> SSLIA | D21: Rec PA | F21: =IF(AND($C21="",$E21=""),"",IF($E21="",DATE(YEAR(C21)+$D$2,MONTH(C21),DAY(C21)),DATE(YEAR(E21)+$D$2,MONTH(E21),DAY(E21)-1))) | H21: cm
A22: =IF('Liste des AGENTS'!B20="","",'Liste des AGENTS'!B20) | B22: =IF('Liste des AGENTS'!C20="","",'Liste des AGENTS'!C20) | F22: =IF(AND($C22="",$E22=""),"",IF($E22="",DATE(YEAR(C22)+$D$2,MONTH(C22),DAY(C22)),DATE(YEAR(E22)+$D$2,MONTH(E22),DAY(E22)-1)))
A23: =IF('Liste des AGENTS'!B21="","",'Liste des AGENTS'!B21) | B23: =IF('Liste des AGENTS'!C21="","",'Liste des AGENTS'!C21) | F23: =IF(AND($C23="",$E23=""),"",IF($E23="",DATE(YEAR(C23)+$D$2,MONTH(C23),DAY(C23)),DATE(YEAR(E23)+$D$2,MONTH(E23),DAY(E23)-1)))
A24: =IF('Liste des AGENTS'!B22="","",'Liste des AGENTS'!B22) | B24: =IF('Liste des AGENTS'!C22="","",'Liste des AGENTS'!C22) | F24: =IF(AND($C24="",$E24=""),"",IF($E24="",DATE(YEAR(C24)+$D$2,MONTH(C24),DAY(C24)),DATE(YEAR(E24)+$D$2,MONTH(E24),DAY(E24)-1)))
A25: =IF('Liste des AGENTS'!B23="","",'Liste des AGENTS'!B23) | B25: =IF('Liste des AGENTS'!C23="","",'Liste des AGENTS'!C23) | F25: =IF(AND($C25="",$E25=""),"",IF($E25="",DATE(YEAR(C25)+$D$2,MONTH(C25),DAY(C25)),DATE(YEAR(E25)+$D$2,MONTH(E25),DAY(E25)-1)))
A26: =IF('Liste des AGENTS'!B24="","",'Liste des AGENTS'!B24) | B26: =IF('Liste des AGENTS'!C24="","",'Liste des AGENTS'!C24) | F26: =IF(AND($C26="",$E26=""),"",IF($E26="",DATE(YEAR(C26)+$D$2,MONTH(C26),DAY(C26)),DATE(YEAR(E26)+$D$2,MONTH(E26),DAY(E26)-1)))
A27: =IF('Liste des AGENTS'!B25="","",'Liste des AGENTS'!B25) | B27: =IF('Liste des AGENTS'!C25="","",'Liste des AGENTS'!C25) | F27: =IF(AND($C27="",$E27=""),"",IF($E27="",DATE(YEAR(C27)+$D$2,MONTH(C27),DAY(C27)),DATE(YEAR(E27)+$D$2,MONTH(E27),DAY(E27)-1)))

Sheet Form initiale et continue CM
A1: Formation OBLIGATOIRE pour le personnel SSLIA
C2: ECHEANCE : | D2: 3 | E2: alerte à | F2: 180
A4: Formation dispensée par un formateur externe
A5: (5 jours pour la formation initiale et 5 jours (35h) pour le recyclage)
A7: NOM-PRENOM AGENT | B7: Service | C7: Initiale | D7: Formation | E7: DATE DE FORMATION REUSSIE | F7: DATE DE VALIDITE | G7: Observation
A8: =IF('Liste des AGENTS'!B6="","",'Liste des AGENTS'!B6) -> AGENT_1 | B8: =IF('Liste des AGENTS'!C6="","",'Liste des AGENTS'!C6) -> SSLIA | F8: =IF(AND($C8="",$E8=""),"",IF($E8="",DATE(YEAR(C8)+$D$2,MONTH(C8),DAY(C8)),DATE(YEAR(E8)+$D$2,MONTH(E8),DAY(E8)-1)))
A9: =IF('Liste des AGENTS'!B7="","",'Liste des AGENTS'!B7) -> AGENT_2 | B9: =IF('Liste des AGENTS'!C7="","",'Liste des AGENTS'!C7) -> SSLIA | C9: 40452 | D9: Rec CM | E9: 42346 | F9: =IF(AND($C9="",$E9=""),"",IF($E9="",DATE(YEAR(C9)+$D$2,MONTH(C9),DAY(C9)),DATE(YEAR(E9)+$D$2,MONTH(E9),DAY(E9)-1))) -> 43441
A10: =IF('Liste des AGENTS'!B8="","",'Liste des AGENTS'!B8) -> AGENT_3 | B10: =IF('Liste des AGENTS'!C8="","",'Liste des AGENTS'!C8) -> SSLIA | F10: =IF(AND($C10="",$E10=""),"",IF($E10="",DATE(YEAR(C10)+$D$2,MONTH(C10),DAY(C10)),DATE(YEAR(E10)+$D$2,MONTH(E10),DAY(E10)-1)))
A11: =IF('Liste des AGENTS'!B9="","",'Liste des AGENTS'!B9) -> AGENT_4 | B11: =IF('Liste des AGENTS'!C9="","",'Liste des AGENTS'!C9) -> SSLIA | C11: 36008 | D11: Rec CM | E11: 43084 | F11: =IF(AND($C11="",$E11=""),"",IF($E11="",DATE(YEAR(C11)+$D$2,MONTH(C11),DAY(C11)),DATE(YEAR(E11)+$D$2,MONTH(E11),DAY(E11)-1))) -> 44179
A12: =IF('Liste des AGENTS'!B10="","",'Liste des AGENTS'!B10) -> AGENT_5 | B12: =IF('Liste des AGENTS'!C10="","",'Liste des AGENTS'!C10) -> SSLIA | F12: =IF(AND($C12="",$E12=""),"",IF($E12="",DATE(YEAR(C12)+$D$2,MONTH(C12),DAY(C12)),DATE(YEAR(E12)+$D$2,MONTH(E12),DAY(E12)-1)))
A13: =IF('Liste des AGENTS'!B11="","",'Liste des AGENTS'!B11) -> AGENT_6 | B13: =IF('Liste des AGENTS'!C11="","",'Liste des AGENTS'!C11) -> SSLIA | F13: =IF(AND($C13="",$E13=""),"",IF($E13="",DATE(YEAR(C13)+$D$2,MONTH(C13),DAY(C13)),DATE(YEAR(E13)+$D$2,MONTH(E13),DAY(E13)-1)))
A14: =IF('Liste des AGENTS'!B12="","",'Liste des AGENTS'!B12) -> AGENT_7 | B14: =IF('Liste des AGENTS'!C12="","",'Liste des AGENTS'!C12) -> SSLIA | F14: =IF(AND($C14="",$E14=""),"",IF($E14="",DATE(YEAR(C14)+$D$2,MONTH(C14),DAY(C14)),DATE(YEAR(E14)+$D$2,MONTH(E14),DAY(E14)-1)))
A15: =IF('Liste des AGENTS'!B13="","",'Liste des AGENTS'!B13) -> AGENT_8 | B15: =IF('Liste des AGENTS'!C13="","",'Liste des AGENTS'!C13) -> SSLIA | C15: 43444 | F15: =IF(AND($C15="",$E15=""),"",IF($E15="",DATE(YEAR(C15)+$D$2,MONTH(C15),DAY(C15)),DATE(YEAR(E15)+$D$2,MONTH(E15),DAY(E15)-1))) -> 44540
A16: =IF('Liste des AGENTS'!B14="","",'Liste des AGENTS'!B14) -> AGENT_9 | B16: =IF('Liste des AGENTS'!C14="","",'Liste des AGENTS'!C14) -> SSLIA | F16: =IF(AND($C16="",$E16=""),"",IF($E16="",DATE(YEAR(C16)+$D$2,MONTH(C16),DAY(C16)),DATE(YEAR(E16)+$D$2,MONTH(E16),DAY(E16)-1)))
A17: =IF('Liste des AGENTS'!B15="","",'Liste des AGENTS'!B15) -> AGENT_10 | B17: =IF('Liste des AGENTS'!C15="","",'Liste des AGENTS'!C15) -> SSLIA | F17: =IF(AND($C17="",$E17=""),"",IF($E17="",DATE(YEAR(C17)+$D$2,MONTH(C17),DAY(C17)),DATE(YEAR(E17)+$D$2,MONTH(E17),DAY(E17)-1)))
A18: =IF('Liste des AGENTS'!B16="","",'Liste des AGENTS'!B16) -> AGENT_11 | B18: =IF('Liste des AGENTS'!C16="","",'Liste des AGENTS'!C16) -> SSLIA | C18: 37438 | D18: Rec CM | E18: 43084 | F18: =IF(AND($C18="",$E18=""),"",IF($E18="",DATE(YEAR(C18)+$D$2,MONTH(C18),DAY(C18)),DATE(YEAR(E18)+$D$2,MONTH(E18),DAY(E18)-1))) -> 44179
A19: =IF('Liste des AGENTS'!B17="","",'Liste des AGENTS'!B17) -> AGENT_12 | B19: =IF('Liste des AGENTS'!C17="","",'Liste des AGENTS'!C17) -> SSLIA | D19: Rec CM | F19: =IF(AND($C19="",$E19=""),"",IF($E19="",DATE(YEAR(C19)+$D$2,MONTH(C19),DAY(C19)),DATE(YEAR(E19)+$D$2,MONTH(E19),DAY(E19)-1)))
A20: =IF('Liste des AGENTS'!B18="","",'Liste des AGENTS'!B18) -> AGENT_13 | B20: =IF('Liste des AGENTS'!C18="","",'Liste des AGENTS'!C18) -> SSLIA | C20: 41593 | D20: Rec CM | E20: 42325 | F20: =IF(AND($C20="",$E20=""),"",IF($E20="",DATE(YEAR(C20)+$D$2,MONTH(C20),DAY(C20)),DATE(YEAR(E20)+$D$2,MONTH(E20),DAY(E20)-1))) -> 43420
A21: =IF('Liste des AGENTS'!B19="","",'Liste des AGENTS'!B19) -> AGENT_14 | B21: =IF('Liste des AGENTS'!C19="","",'Liste des AGENTS'!C19) -> SSLIA | D21: Rec CM | E21: 42445 | F21: =IF(AND($C21="",$E21=""),"",IF($E21="",DATE(YEAR(C21)+$D$2,MONTH(C21),DAY(C21)),DATE(YEAR(E21)+$D$2,MONTH(E21),DAY(E21)-1))) -> 43539
A22: =IF('Liste des AGENTS'!B20="","",'Liste des AGENTS'!B20) | B22: =IF('Liste des AGENTS'!C20="","",'Liste des AGENTS'!C20) | F22: =IF(AND($C22="",$E22=""),"",IF($E22="",DATE(YEAR(C22)+$D$2,MONTH(C22),DAY(C22)),DATE(YEAR(E22)+$D$2,MONTH(E22),DAY(E22)-1)))
A23: =IF('Liste des AGENTS'!B21="","",'Liste des AGENTS'!B21) | B23: =IF('Liste des AGENTS'!C21="","",'Liste des AGENTS'!C21) | F23: =IF(AND($C23="",$E23=""),"",IF($E23="",DATE(YEAR(C23)+$D$2,MONTH(C23),DAY(C23)),DATE(YEAR(E23)+$D$2,MONTH(E23),DAY(E23)-1)))
A24: =IF('Liste des AGENTS'!B22="","",'Liste des AGENTS'!B22) | B24: =IF('Liste des AGENTS'!C22="","",'Liste des AGENTS'!C22) | F24: =IF(AND($C24="",$E24=""),"",IF($E24="",DATE(YEAR(C24)+$D$2,MONTH(C24),DAY(C24)),DATE(YEAR(E24)+$D$2,MONTH(E24),DAY(E24)-1)))
A25: =IF('Liste des AGENTS'!B23="","",'Liste des AGENTS'!B23) | B25: =IF('Liste des AGENTS'!C23="","",'Liste des AGENTS'!C23) | F25: =IF(AND($C25="",$E25=""),"",IF($E25="",DATE(YEAR(C25)+$D$2,MONTH(C25),DAY(C25)),DATE(YEAR(E25)+$D$2,MONTH(E25),DAY(E25)-1)))
A26: =IF('Liste des AGENTS'!B24="","",'Liste des AGENTS'!B24) | B26: =IF('Liste des AGENTS'!C24="","",'Liste des AGENTS'!C24) | F26: =IF(AND($C26="",$E26=""),"",IF($E26="",DATE(YEAR(C26)+$D$2,MONTH(C26),DAY(C26)),DATE(YEAR(E26)+$D$2,MONTH(E26),DAY(E26)-1)))
A27: =IF('Liste des AGENTS'!B25="","",'Liste des AGENTS'!B25) | B27: =IF('Liste des AGENTS'!C25="","",'Liste des AGENTS'!C25) | F27: =IF(AND($C27="",$E27=""),"",IF($E27="",DATE(YEAR(C27)+$D$2,MONTH(C27),DAY(C27)),DATE(YEAR(E27)+$D$2,MONTH(E27),DAY(E27)-1)))

Sheet Certif et continue SAP
A1: Formation OBLIGATOIRE pour le personnel SSLIA
C2: ECHEANCE : | D2: 1 | E2: alerte à | F2: 60
A4: Formation dispensée par un formateur externe
A5: (70 hrs pour la formation initiale et 1 jour (8h) pour le recyclage)
A7: NOM-PRENOM AGENT | B7: Service | C7: Initiale | D7: Formation | E7: DATE DE FORMATION REUSSIE | F7: DATE DE VALIDITE | G7: Observation
A8: =IF('Liste des AGENTS'!B6="","",'Liste des AGENTS'!B6) -> AGENT_1 | B8: =IF('Liste des AGENTS'!C6="","",'Liste des AGENTS'!C6) -> SSLIA | D8: Rec SAP | E8: 43085 | F8: =IF(AND($C8="",$E8=""),"",IF($E8="",DATE(YEAR(C8)+$D$2,MONTH(C8),DAY(C8)),DATE(YEAR(E8)+$D$2,MONTH(E8),DAY(E8)-1))) -> 43449 | G8: Prévu le 20 déc 18
A9: =IF('Liste des AGENTS'!B7="","",'Liste des AGENTS'!B7) -> AGENT_2 | B9: =IF('Liste des AGENTS'!C7="","",'Liste des AGENTS'!C7) -> SSLIA | C9: 40452 | D9: Rec SAP | E9: 43085 | F9: =IF(AND($C9="",$E9=""),"",IF($E9="",DATE(YEAR(C9)+$D$2,MONTH(C9),DAY(C9)),DATE(YEAR(E9)+$D$2,MONTH(E9),DAY(E9)-1))) -> 43449 | G9: Prévu le 20 déc 18
A10: =IF('Liste des AGENTS'!B8="","",'Liste des AGENTS'!B8) -> AGENT_3 | B10: =IF('Liste des AGENTS'!C8="","",'Liste des AGENTS'!C8) -> SSLIA | C10: 43225 | D10: Rec SAP | F10: =IF(AND($C10="",$E10=""),"",IF($E10="",DATE(YEAR(C10)+$D$2,MONTH(C10),DAY(C10)),DATE(YEAR(E10)+$D$2,MONTH(E10),DAY(E10)-1))) -> 43590
A11: =IF('Liste des AGENTS'!B9="","",'Liste des AGENTS'!B9) -> AGENT_4 | B11: =IF('Liste des AGENTS'!C9="","",'Liste des AGENTS'!C9) -> SSLIA | C11: 36008 | D11: Rec SAP | E11: 43085 | F11: =IF(AND($C11="",$E11=""),"",IF($E11="",DATE(YEAR(C11)+$D$2,MONTH(C11),DAY(C11)),DATE(YEAR(E11)+$D$2,MONTH(E11),DAY(E11)-1))) -> 43449 | G11: Prévu le 20 déc 18
A12: =IF('Liste des AGENTS'!B10="","",'Liste des AGENTS'!B10) -> AGENT_5 | B12: =IF('Liste des AGENTS'!C10="","",'Liste des AGENTS'!C10) -> SSLIA | D12: Rec SAP | F12: =IF(AND($C12="",$E12=""),"",IF($E12="",DATE(YEAR(C12)+$D$2,MONTH(C12),DAY(C12)),DATE(YEAR(E12)+$D$2,MONTH(E12),DAY(E12)-1)))
A13: =IF('Liste des AGENTS'!B11="","",'Liste des AGENTS'!B11) -> AGENT_6 | B13: =IF('Liste des AGENTS'!C11="","",'Liste des AGENTS'!C11) -> SSLIA | D13: Rec SAP | E13: 43085 | F13: =IF(AND($C13="",$E13=""),"",IF($E13="",DATE(YEAR(C13)+$D$2,MONTH(C13),DAY(C13)),DATE(YEAR(E13)+$D$2,MONTH(E13),DAY(E13)-1))) -> 43449 | G13: Prévu le 20 déc 18
A14: =IF('Liste des AGENTS'!B12="","",'Liste des AGENTS'!B12) -> AGENT_7 | B14: =IF('Liste des AGENTS'!C12="","",'Liste des AGENTS'!C12) -> SSLIA | D14: Rec SAP | E14: 43095 | F14: =IF(AND($C14="",$E14=""),"",IF($E14="",DATE(YEAR(C14)+$D$2,MONTH(C14),DAY(C14)),DATE(YEAR(E14)+$D$2,MONTH(E14),DAY(E14)-1))) -> 43459 | G14: Prévu le 20 déc 18
A15: =IF('Liste des AGENTS'!B13="","",'Liste des AGENTS'!B13) -> AGENT_8 | B15: =IF('Liste des AGENTS'!C13="","",'Liste des AGENTS'!C13) -> SSLIA | C15: 32283 | D15: Rec SAP | E15: 43085 | F15: =IF(AND($C15="",$E15=""),"",IF($E15="",DATE(YEAR(C15)+$D$2,MONTH(C15),DAY(C15)),DATE(YEAR(E15)+$D$2,MONTH(E15),DAY(E15)-1))) -> 43449 | G15: Prévu le 20 déc 18
A16: =IF('Liste des AGENTS'!B14="","",'Liste des AGENTS'!B14) -> AGENT_9 | B16: =IF('Liste des AGENTS'!C14="","",'Liste des AGENTS'!C14) -> SSLIA | D16: Rec SAP | E16: 43095 | F16: =IF(AND($C16="",$E16=""),"",IF($E16="",DATE(YEAR(C16)+$D$2,MONTH(C16),DAY(C16)),DATE(YEAR(E16)+$D$2,MONTH(E16),DAY(E16)-1))) -> 43459 | G16: Prévu le 20 déc 18
A17: =IF('Liste des AGENTS'!B15="","",'Liste des AGENTS'!B15) -> AGENT_10 | B17: =IF('Liste des AGENTS'!C15="","",'Liste des AGENTS'!C15) -> SSLIA | D17: Rec SAP | F17: =IF(AND($C17="",$E17=""),"",IF($E17="",DATE(YEAR(C17)+$D$2,MONTH(C17),DAY(C17)),DATE(YEAR(E17)+$D$2,MONTH(E17),DAY(E17)-1)))
A18: =IF('Liste des AGENTS'!B16="","",'Liste des AGENTS'!B16) -> AGENT_11 | B18: =IF('Liste des AGENTS'!C16="","",'Liste des AGENTS'!C16) -> SSLIA | C18: 37438 | D18: Rec SAP | E18: 43085 | F18: =IF(AND($C18="",$E18=""),"",IF($E18="",DATE(YEAR(C18)+$D$2,MONTH(C18),DAY(C18)),DATE(YEAR(E18)+$D$2,MONTH(E18),DAY(E18)-1))) -> 43449 | G18: Prévu le 20 déc 18
A19: =IF('Liste des AGENTS'!B17="","",'Liste des AGENTS'!B17) -> AGENT_12 | B19: =IF('Liste des AGENTS'!C17="","",'Liste des AGENTS'!C17) -> SSLIA | D19: Rec SAP | E19: 43085 | F19: =IF(AND($C19="",$E19=""),"",IF($E19="",DATE(YEAR(C19)+$D$2,MONTH(C19),DAY(C19)),DATE(YEAR(E19)+$D$2,MONTH(E19),DAY(E19)-1))) -> 43449 | G19: Prévu le 20 déc 18
A20: =IF('Liste des AGENTS'!B18="","",'Liste des AGENTS'!B18) -> AGENT_13 | B20: =IF('Liste des AGENTS'!C18="","",'Liste des AGENTS'!C18) -> SSLIA | D20: Rec SAP | E20: 43095 | F20: =IF(AND($C20="",$E20=""),"",IF($E20="",DATE(YEAR(C20)+$D$2,MONTH(C20),DAY(C20)),DATE(YEAR(E20)+$D$2,MONTH(E20),DAY(E20)-1))) -> 43459 | G20: Prévu le 20 déc 18
A21: =IF('Liste des AGENTS'!B19="","",'Liste des AGENTS'!B19) -> AGENT_14 | B21: =IF('Liste des AGENTS'!C19="","",'Liste des AGENTS'!C19) -> SSLIA | D21: Rec SAP | E21: 43085 | F21: =IF(AND($C21="",$E21=""),"",IF($E21="",DATE(YEAR(C21)+$D$2,MONTH(C21),DAY(C21)),DATE(YEAR(E21)+$D$2,MONTH(E21),DAY(E21)-1))) -> 43449 | G21: Prévu le 20 déc 18
A22: =IF('Liste des AGENTS'!B20="","",'Liste des AGENTS'!B20) | B22: =IF('Liste des AGENTS'!C20="","",'Liste des AGENTS'!C20) | F22: =IF(AND($C22="",$E22=""),"",IF($E22="",DATE(YEAR(C22)+$D$2,MONTH(C22),DAY(C22)),DATE(YEAR(E22)+$D$2,MONTH(E22),DAY(E22)-1)))
A23: =IF('Liste des AGENTS'!B21="","",'Liste des AGENTS'!B21) | B23: =IF('Liste des AGENTS'!C21="","",'Liste des AGENTS'!C21) | F23: =IF(AND($C23="",$E23=""),"",IF($E23="",DATE(YEAR(C23)+$D$2,MONTH(C23),DAY(C23)),DATE(YEAR(E23)+$D$2,MONTH(E23),DAY(E23)-1)))
A24: =IF('Liste des AGENTS'!B22="","",'Liste des AGENTS'!B22) | B24: =IF('Liste des AGENTS'!C22="","",'Liste des AGENTS'!C22) | F24: =IF(AND($C24="",$E24=""),"",IF($E24="",DATE(YEAR(C24)+$D$2,MONTH(C24),DAY(C24)),DATE(YEAR(E24)+$D$2,MONTH(E24),DAY(E24)-1)))
A25: =IF('Liste des AGENTS'!B23="","",'Liste des AGENTS'!B23) | B25: =IF('Liste des AGENTS'!C23="","",'Liste des AGENTS'!C23) | F25: =IF(AND($C25="",$E25=""),"",IF($E25="",DATE(YEAR(C25)+$D$2,MONTH(C25),DAY(C25)),DATE(YEAR(E25)+$D$2,MONTH(E25),DAY(E25)-1)))
A26: =IF('Liste des AGENTS'!B24="","",'Liste des AGENTS'!B24) | B26: =IF('Liste des AGENTS'!C24="","",'Liste des AGENTS'!C24) | F26: =IF(AND($C26="",$E26=""),"",IF($E26="",DATE(YEAR(C26)+$D$2,MONTH(C26),DAY(C26)),DATE(YEAR(E26)+$D$2,MONTH(E26),DAY(E26)-1)))
A27: =IF('Liste des AGENTS'!B25="","",'Liste des AGENTS'!B25) | B27: =IF('Liste des AGENTS'!C25="","",'Liste des AGENTS'!C25) | F27: =IF(AND($C27="",$E27=""),"",IF($E27="",DATE(YEAR(C27)+$D$2,MONTH(C27),DAY(C27)),DATE(YEAR(E27)+$D$2,MONTH(E27),DAY(E27)-1)))
