Workbook
Name paques: Base!$C$3
Name paques_1: Base!$C$16

Sheet Base
A1: 2015 | B1: =A1+1 -> 2016 | E1: Vacances de la toussaint | F1: 42294 | I1: Heure | L1: =-(J3*100)/I3 -> -4.7285464
A2: Jour de l'an : | B2: =C2 -> 42005 | C2: =DATE($A$1,1,1) -> 42005 | F2: 42295 | J2: =NOW()-INT(NOW()) -> 0.35150104
A3: Pâques : | B3: =C3 -> 42099 | C3: =ROUND(DATE($A$1,4,MOD(234-11*MOD($A$1,19),30))/7,0)*7-6 -> 42099 | F3: 42296 | I3: =COUNT(I4:I574) -> 571 | J3: =SUM(J4:J574) -> 27
A4: Lundi de Pâques : | B4: =C4 -> 42100 | C4: =paques+1 -> 42100 | F4: 42297 | I4: 0.33333333 | J4: =IF($J$2>I4,1,0) -> 1
A5: Fête du Travail : | B5: =C5 -> 42125 | C5: =DATE($A$1,5,1) -> 42125 | F5: 42298 | I5: 0.33402778 | J5: =IF($J$2>I5,1,0) -> 1
A6: 08/05/1945 : | B6: =C6 -> 42498 | C6: =DATE($B$1,5,8) -> 42498 | F6: 42299 | I6: 0.33472222 | J6: =IF($J$2>I6,1,0) -> 1
A7: Jeudi de l'Ascension : | B7: =C7 -> 42138 | C7: =paques+39 -> 42138 | F7: 42300 | I7: 0.33541667 | J7: =IF($J$2>I7,1,0) -> 1
A8: Pentecote : | B8: =C8 -> 42148 | C8: =paques+49 -> 42148 | F8: 42301 | I8: 0.33611111 | J8: =IF($J$2>I8,1,0) -> 1
A9: Lundi de Pentecôte : | B9: =C9 -> 42149 | C9: =paques+50 -> 42149 | F9: 42302 | I9: 0.33680556 | J9: =IF($J$2>I9,1,0) -> 1
A10: Fête Nationale : | B10: =C10 -> 42199 | C10: =DATE($A$1,7,14) -> 42199 | F10: 42303 | I10: 0.3375 | J10: =IF($J$2>I10,1,0) -> 1
A11: Assomption : | B11: =C11 -> 42231 | C11: =DATE($A$1,8,15) -> 42231 | F11: 42304 | I11: 0.33819444 | J11: =IF($J$2>I11,1,0) -> 1
A12: La Toussaint : | B12: =C12 -> 42309 | C12: =DATE($A$1,11,1) -> 42309 | F12: 42305 | I12: 0.33888889 | J12: =IF($J$2>I12,1,0) -> 1
A13: Armistice : | B13: =C13 -> 42319 | C13: =DATE($A$1,11,11) -> 42319 | F13: 42306 | I13: 0.33958333 | J13: =IF($J$2>I13,1,0) -> 1
A14: Noël : | B14: =C14 -> 42343 | C14: =DATE($A$1,12,5) -> 42343 | F14: 42307 | I14: 0.34027778 | J14: =IF($J$2>I14,1,0) -> 1
A15: Jour de l'an : | B15: =C15 -> 42370 | C15: =DATE($B$1,1,1) -> 42370 | F15: 42308 | I15: 0.34097222 | J15: =IF($J$2>I15,1,0) -> 1
A16: Pâques : | B16: =C16 -> 42456 | C16: =ROUND(DATE($B$1,4,MOD(234-11*MOD($B$1,19),30))/7,0)*7-6 -> 42456 | F16: 42309 | I16: 0.34166667 | J16: =IF($J$2>I16,1,0) -> 1
A17: Lundi de Pâques : | B17: =C17 -> 42457 | C17: =paques_1+1 -> 42457 | E17: Vacances de Noel | F17: 42357 | I17: 0.34236111 | J17: =IF($J$2>I17,1,0) -> 1
A18: Fête du Travail : | B18: =C18 -> 42491 | C18: =DATE($B$1,5,1) -> 42491 | F18: 42358 | I18: 0.34305556 | J18: =IF($J$2>I18,1,0) -> 1
A19: 08/05/1945 : | B19: =C19 -> 42498 | C19: =DATE($B$1,5,8) -> 42498 | F19: 42359 | I19: 0.34375 | J19: =IF($J$2>I19,1,0) -> 1
A20: Jeudi de l'Ascension : | B20: =C20 -> 42495 | C20: =paques_1+39 -> 42495 | F20: 42360 | I20: 0.34444444 | J20: =IF($J$2>I20,1,0) -> 1
A21: Pentecote : | B21: =C21 -> 42505 | C21: =paques_1+49 -> 42505 | F21: 42361 | I21: 0.34513889 | J21: =IF($J$2>I21,1,0) -> 1
A22: Lundi de Pentecôte : | B22: =C22 -> 42506 | C22: =paques_1+50 -> 42506 | F22: 42362 | I22: 0.34583333 | J22: =IF($J$2>I22,1,0) -> 1
A23: Fête Nationale : | B23: =C23 -> 42565 | C23: =DATE($B$1,7,14) -> 42565 | F23: 42363 | I23: 0.34652778 | J23: =IF($J$2>I23,1,0) -> 1
A24: Assomption : | B24: =C24 -> 42597 | C24: =DATE($B$1,8,15) -> 42597 | F24: 42364 | I24: 0.34722222 | J24: =IF($J$2>I24,1,0) -> 1
A25: La Toussaint : | B25: =C25 -> 42675 | C25: =DATE($B$1,11,1) -> 42675 | F25: 42365 | I25: 0.34791667 | J25: =IF($J$2>I25,1,0) -> 1
A26: Armistice : | B26: =C26 -> 42685 | C26: =DATE($B$1,11,11) -> 42685 | F26: 42366 | I26: 0.34861111 | J26: =IF($J$2>I26,1,0) -> 1
A27: Noël : | B27: =C27 -> 42709 | C27: =DATE($B$1,12,5) -> 42709 | F27: 42367 | I27: 0.34930556 | J27: =IF($J$2>I27,1,0) -> 1
F28: 42368 | I28: 0.35 | J28: =IF($J$2>I28,1,0) -> 1
F29: 42369 | I29: 0.35069444 | J29: =IF($J$2>I29,1,0) -> 1
F30: 42370 | I30: 0.35138889 | J30: =IF($J$2>I30,1,0) -> 1
F31: 42371 | I31: 0.35208333 | J31: =IF($J$2>I31,1,0) -> 0
F32: 42372 | I32: 0.35277778 | J32: =IF($J$2>I32,1,0) -> 0
E33: Vacances d'hiver | F33: 42406 | I33: 0.35347222 | J33: =IF($J$2>I33,1,0) -> 0
F34: 42407 | I34: 0.35416667 | J34: =IF($J$2>I34,1,0) -> 0
F35: 42408 | I35: 0.35486111 | J35: =IF($J$2>I35,1,0) -> 0
F36: 42409 | I36: 0.35555556 | J36: =IF($J$2>I36,1,0) -> 0
F37: 42410 | I37: 0.35625 | J37: =IF($J$2>I37,1,0) -> 0
F38: 42411 | I38: 0.35694444 | J38: =IF($J$2>I38,1,0) -> 0
F39: 42412 | I39: 0.35763889 | J39: =IF($J$2>I39,1,0) -> 0
F40: 42413 | I40: 0.35833333 | J40: =IF($J$2>I40,1,0) -> 0
...

Sheet Planning
A1: =TODAY() -> 42477 | B1: 1 | C1: 2 | D1: 3 | E1: 4 | F1: 5 | G1: 6 | H1: 7 | I1: 8 | J1: 9 | K1: 10 | L1: 11 | M1: 12 | N1: 13 | O1: 14 | P1: 15 | Q1: 16 | R1: 17 | S1: 18 | T1: 19 | U1: 20 | V1: 21 | W1: 22 | X1: 23 | Y1: 24 | Z1: 25 | AA1: 26 | AB1: 27 | AC1: 28 | AD1: 29 | AE1: 30 | AF1: 31 | AJ1: =NOW()-INT(NOW()) -> 0.35150104 | AP1: =IF(ISNA(HLOOKUP(A1,B2:AE4,3,)), IF(ISNA(HLOOKUP(A1,B6:AF8,3,)), IF(ISNA(HLOOKUP(A1,B10:AE12,3,)), IF(ISNA(HLOOKUP(A1,B14:AF16,3,)), IF(ISNA(HLOOKUP(A1,B18:AF20,3,)), IF(ISNA(HLOOKUP(A1,B22:AD24,3,)), IF(ISNA(HLOOKUP(A1,B26:AF28,3,)), IF(ISNA(HLOOKUP(A1,B30:AE32,3,)), IF(ISNA(HLOOKUP(A1,B34:AF36,3,)), IF(ISNA(HLOOKUP(A1,B38:AE40,3,)), HLOOKUP(A1,B42:AF44,3,), HLOOKUP(A1,B38:AE40,3,)), HLOOKUP(A1,B34:AF36,3,)), HLOOKUP(A1,B30:AE32,3,)), HLOOKUP(A1,B26:AF28,3,)), HLOOKUP(A1,B22:AD24,3,)), HLOOKUP(A1,B18:AF20,3,)), HLOOKUP(A1,B14:AF16,3,)), HLOOKUP(A1,B10:AE12,3,)), HLOOKUP(A1,B6:AF8,3,)), HLOOKUP(A1,B2:AE4,3,)) -> 0
A2: 42248 | B2: =A2 -> 42248 | C2: =B2+1 -> 42249 | D2: =C2+1 -> 42250 | E2: =D2+1 -> 42251 | F2: =E2+1 -> 42252 | G2: =F2+1 -> 42253 | H2: =G2+1 -> 42254 | I2: =H2+1 -> 42255 | J2: =I2+1 -> 42256 | ... AE2: =AD2+1 -> 42277
B3: =IF(OR(WEEKDAY(B2)=1,WEEKDAY(B2)=7,B2<=$A$1,COUNTIF(Base!$B$1:$B$30,B2)>0,COUNTIF(Base!$F$1:$F$72,B2)>0),0,1) -> 0 | C3: =IF(OR(WEEKDAY(C2)=1,WEEKDAY(C2)=7,C2<=$A$1,COUNTIF(Base!$B$1:$B$30,C2)>0,COUNTIF(Base!$F$1:$F$72,C2)>0),0,1) -> 0 | D3: =IF(OR(WEEKDAY(D2)=1,WEEKDAY(D2)=7,D2<=$A$1,COUNTIF(Base!$B$1:$B$30,D2)>0,COUNTIF(Base!$F$1:$F$72,D2)>0),0,1) -> 0 | E3: =IF(OR(WEEKDAY(E2)=1,WEEKDAY(E2)=7,E2<=$A$1,COUNTIF(Base!$B$1:$B$30,E2)>0,COUNTIF(Base!$F$1:$F$72,E2)>0),0,1) -> 0 | F3: =IF(OR(WEEKDAY(F2)=1,WEEKDAY(F2)=7,F2<=$A$1,COUNTIF(Base!$B$1:$B$30,F2)>0,COUNTIF(Base!$F$1:$F$72,F2)>0),0,1) -> 0 | G3: =IF(OR(WEEKDAY(G2)=1,WEEKDAY(G2)=7,G2<=$A$1,COUNTIF(Base!$B$1:$B$30,G2)>0,COUNTIF(Base!$F$1:$F$72,G2)>0),0,1) -> 0 | H3: =IF(OR(WEEKDAY(H2)=1,WEEKDAY(H2)=7,H2<=$A$1,COUNTIF(Base!$B$1:$B$30,H2)>0,COUNTIF(Base!$F$1:$F$72,H2)>0),0,1) -> 0 | I3: =IF(OR(WEEKDAY(I2)=1,WEEKDAY(I2)=7,I2<=$A$1,COUNTIF(Base!$B$1:$B$30,I2)>0,COUNTIF(Base!$F$1:$F$72,I2)>0),0,1) -> 0 | ... AE3: =IF(OR(WEEKDAY(AE2)=1,WEEKDAY(AE2)=7,AE2<=$A$1,COUNTIF(Base!$B$1:$B$30,AE2)>0,COUNTIF(Base!$F$1:$F$72,AE2)>0),0,1) -> 0 | AG3: =SUM(B3:AF3) -> 0 | AJ3: =WEEKDAY(NOW()) -> 1 | AP3: 2 | AU3: 3 | AZ3: 4 | BE3: 5 | BJ3: 6
B4: Q1 | C4: Q1 | D4: Q1 | E4: Q1 | F4: Q1 | G4: Q1 | H4: Q2 | I4: Q2 | J4: Q2 | K4: Q2 | L4: Q2 | M4: Q2 | N4: Q2 | O4: Q1 | P4: Q1 | Q4: Q1 | R4: Q1 | S4: Q1 | T4: Q1 | U4: Q1 | V4: Q2 | W4: Q2 | X4: Q2 | Y4: Q2 | Z4: Q2 | AA4: Q2 | AB4: Q2 | AC4: Q1 | AD4: Q1 | AE4: Q1 | AG4: =SUM(B5:AF5) -> 0 | AP4: Lundi | AQ4: Mardi | AV4: Mercredi | BA4: Jeudi | BF4: Vendredi
B5: =IF(AND(WEEKDAY(B2)=2,B3=1),1,0) -> 0 | C5: =IF(AND(WEEKDAY(C2)=2,C3=1),1,0) -> 0 | D5: =IF(AND(WEEKDAY(D2)=2,D3=1),1,0) -> 0 | E5: =IF(AND(WEEKDAY(E2)=2,E3=1),1,0) -> 0 | F5: =IF(AND(WEEKDAY(F2)=2,F3=1),1,0) -> 0 | G5: =IF(AND(WEEKDAY(G2)=2,G3=1),1,0) -> 0 | H5: =IF(AND(WEEKDAY(H2)=2,H3=1),1,0) -> 0 | I5: =IF(AND(WEEKDAY(I2)=2,I3=1),1,0) -> 0 | ... AE5: =IF(AND(WEEKDAY(AE2)=2,AE3=1),1,0) -> 0
A6: 42278 | B6: =A6 -> 42278 | C6: =B6+1 -> 42279 | D6: =C6+1 -> 42280 | E6: =D6+1 -> 42281 | F6: =E6+1 -> 42282 | G6: =F6+1 -> 42283 | H6: =G6+1 -> 42284 | I6: =H6+1 -> 42285 | J6: =I6+1 -> 42286 | ... AF6: =AE6+1 -> 42308 | AJ6: 0.33333333 | AK6: =IF($AP$3<$AJ$3,2,0) -> 0 | AL6: =IF($AP$3<=$AJ$3,2,0) -> 0 | AM6: =IF($AJ$1>=AJ6,1,0) -> 1 | AN6: =SUM(AK6:AM6) -> 1 | AP6: =IF($AP$1=EdT!$A$1,EdT!B2,IF($AP$1=EdT!$H$1,EdT!I2,0)) -> 0 | AQ6: =IF($AU$3<$AJ$3,2,0) -> 0 | AR6: =IF($AU$3<=$AJ$3,2,0) -> 0 | AS6: =IF($AJ$1>=AJ6,1,0) -> 1 | AT6: =SUM(AQ6:AS6) -> 1 | AU6: =IF($AP$1=EdT!$A$1,EdT!C2,IF($AP$1=EdT!$H$1,EdT!J2,0)) -> 0 | AV6: =IF($AZ$3<$AJ$3,2,0) -> 0 | AW6: =IF($AZ$3<=$AJ$3,2,0) -> 0 | AX6: =IF($AJ$1>=AJ6,1,0) -> 1 | AY6: =SUM(AV6:AX6) -> 1 | AZ6: =IF($AP$1=EdT!$A$1,EdT!D2,IF($AP$1=EdT!$H$1,EdT!K2,0)) -> 0 | BA6: =IF($BE$3<$AJ$3,2,0) -> 0 | BB6: =IF($BE$3<=$AJ$3,2,0) -> 0 | BC6: =IF($AJ$1>=AJ6,1,0) -> 1 | BD6: =SUM(BA6:BC6) -> 1 | BF6: =IF($BJ$3<$AJ$3,2,0) -> 0 | BG6: =IF($BJ$3<=$AJ$3,2,0) -> 0 | BH6: =IF($AJ$1>=AJ6,1,0) -> 1 | BI6: =SUM(BF6:BH6) -> 1 | BJ6: =IF($AP$1=EdT!$A$1,EdT!F2,IF($AP$1=EdT!$H$1,EdT!M2,0)) -> 0
B7: =IF(OR(WEEKDAY(B6)=1,WEEKDAY(B6)=7,B6<=$A$1,COUNTIF(Base!$B$1:$B$30,B6)>0,COUNTIF(Base!$F$1:$F$72,B6)>0),0,1) -> 0 | C7: =IF(OR(WEEKDAY(C6)=1,WEEKDAY(C6)=7,C6<=$A$1,COUNTIF(Base!$B$1:$B$30,C6)>0,COUNTIF(Base!$F$1:$F$72,C6)>0),0,1) -> 0 | D7: =IF(OR(WEEKDAY(D6)=1,WEEKDAY(D6)=7,D6<=$A$1,COUNTIF(Base!$B$1:$B$30,D6)>0,COUNTIF(Base!$F$1:$F$72,D6)>0),0,1) -> 0 | E7: =IF(OR(WEEKDAY(E6)=1,WEEKDAY(E6)=7,E6<=$A$1,COUNTIF(Base!$B$1:$B$30,E6)>0,COUNTIF(Base!$F$1:$F$72,E6)>0),0,1) -> 0 | F7: =IF(OR(WEEKDAY(F6)=1,WEEKDAY(F6)=7,F6<=$A$1,COUNTIF(Base!$B$1:$B$30,F6)>0,COUNTIF(Base!$F$1:$F$72,F6)>0),0,1) -> 0 | G7: =IF(OR(WEEKDAY(G6)=1,WEEKDAY(G6)=7,G6<=$A$1,COUNTIF(Base!$B$1:$B$30,G6)>0,COUNTIF(Base!$F$1:$F$72,G6)>0),0,1) -> 0 | H7: =IF(OR(WEEKDAY(H6)=1,WEEKDAY(H6)=7,H6<=$A$1,COUNTIF(Base!$B$1:$B$30,H6)>0,COUNTIF(Base!$F$1:$F$72,H6)>0),0,1) -> 0 | I7: =IF(OR(WEEKDAY(I6)=1,WEEKDAY(I6)=7,I6<=$A$1,COUNTIF(Base!$B$1:$B$30,I6)>0,COUNTIF(Base!$F$1:$F$72,I6)>0),0,1) -> 0 | ... AF7: =IF(OR(WEEKDAY(AF6)=1,WEEKDAY(AF6)=7,AF6<=$A$1,COUNTIF(Base!$B$1:$B$30,AF6)>0,COUNTIF(Base!$F$1:$F$72,AF6)>0),0,1) -> 0 | AG7: =SUM(B7:AE7) -> 0 | AP7: =IF($AP$1=EdT!$A$1,EdT!B3,IF($AP$1=EdT!$H$1,EdT!I3,0)) -> 0 | AU7: =IF($AP$1=EdT!$A$1,EdT!C3,IF($AP$1=EdT!$H$1,EdT!J3,0)) -> 0 | AZ7: =IF($AP$1=EdT!$A$1,EdT!D3,IF($AP$1=EdT!$H$1,EdT!K3,0)) -> 0 | BJ7: =IF($AP$1=EdT!$A$1,EdT!F3,IF($AP$1=EdT!$H$1,EdT!M3,0)) -> 0
B8: Q1 | C8: Q1 | D8: Q1 | E8: Q1 | F8: Q2 | G8: Q2 | H8: Q2 | I8: Q2 | J8: Q2 | K8: Q2 | L8: Q2 | M8: Q1 | N8: Q1 | O8: Q1 | P8: Q1 | Q8: Q1 | R8: Q1 | S8: Q1 | AG8: =SUM(B9:AF9) -> 0 | AP8: =IF($AP$1=EdT!$A$1,EdT!B4,IF($AP$1=EdT!$H$1,EdT!I4,0)) -> 0 | AU8: =IF($AP$1=EdT!$A$1,EdT!C4,IF($AP$1=EdT!$H$1,EdT!J4,0)) -> 0 | AZ8: =IF($AP$1=EdT!$A$1,EdT!D4,IF($AP$1=EdT!$H$1,EdT!K4,0)) -> 0 | BJ8: =IF($AP$1=EdT!$A$1,EdT!F4,IF($AP$1=EdT!$H$1,EdT!M4,0)) -> 0
B9: =IF(AND(WEEKDAY(B6)=2,B7=1),1,0) -> 0 | C9: =IF(AND(WEEKDAY(C6)=2,C7=1),1,0) -> 0 | D9: =IF(AND(WEEKDAY(D6)=2,D7=1),1,0) -> 0 | E9: =IF(AND(WEEKDAY(E6)=2,E7=1),1,0) -> 0 | F9: =IF(AND(WEEKDAY(F6)=2,F7=1),1,0) -> 0 | G9: =IF(AND(WEEKDAY(G6)=2,G7=1),1,0) -> 0 | H9: =IF(AND(WEEKDAY(H6)=2,H7=1),1,0) -> 0 | I9: =IF(AND(WEEKDAY(I6)=2,I7=1),1,0) -> 0 | ... AF9: =IF(AND(WEEKDAY(AF6)=2,AF7=1),1,0) -> 0
A10: 42309 | B10: =A10 -> 42309 | C10: =B10+1 -> 42310 | D10: =C10+1 -> 42311 | E10: =D10+1 -> 42312 | F10: =E10+1 -> 42313 | G10: =F10+1 -> 42314 | H10: =G10+1 -> 42315 | I10: =H10+1 -> 42316 | J10: =I10+1 -> 42317 | ... AE10: =AD10+1 -> 42338 | AJ10: 0.375 | AK10: =IF($AP$3<$AJ$3,2,0) -> 0 | AL10: =IF($AP$3<=$AJ$3,2,0) -> 0 | AM10: =IF($AJ$1>=AJ10,1,0) -> 0 | AN10: =SUM(AK10:AM10) -> 0 | AP10: =IF($AP$1=EdT!$A$1,EdT!B5,IF($AP$1=EdT!$H$1,EdT!I5,0)) -> 0 | AQ10: =IF($AU$3<$AJ$3,2,0) -> 0 | AR10: =IF($AU$3<=$AJ$3,2,0) -> 0 | AS10: =IF($AJ$1>=AJ10,1,0) -> 0 | AT10: =SUM(AQ10:AS10) -> 0 | AU10: =IF($AP$1=EdT!$A$1,EdT!C5,IF($AP$1=EdT!$H$1,EdT!J5,0)) -> 0 | AV10: =IF($AZ$3<$AJ$3,2,0) -> 0 | AW10: =IF($AZ$3<=$AJ$3,2,0) -> 0 | AX10: =IF($AJ$1>=AJ10,1,0) -> 0 | AY10: =SUM(AV10:AX10) -> 0 | AZ10: =IF($AP$1=EdT!$A$1,EdT!D5,IF($AP$1=EdT!$H$1,EdT!K5,0)) -> 0 | BA10: =IF($BE$3<$AJ$3,2,0) -> 0 | BB10: =IF($BE$3<=$AJ$3,2,0) -> 0 | BC10: =IF($AJ$1>=AJ10,1,0) -> 0 | BD10: =SUM(BA10:BC10) -> 0 | BE10: =IF($AP$1=EdT!$A$1,EdT!E5,IF($AP$1=EdT!$H$1,EdT!L5,0)) -> 0 | BF10: =IF($BJ$3<$AJ$3,2,0) -> 0 | BG10: =IF($BJ$3<=$AJ$3,2,0) -> 0 | BH10: =IF($AJ$1>=AJ10,1,0) -> 0 | BI10: =SUM(BF10:BH10) -> 0 | BJ10: =IF($AP$1=EdT!$A$1,EdT!F5,IF($AP$1=EdT!$H$1,EdT!M5,0)) -> 0
B11: =IF(OR(WEEKDAY(B10)=1,WEEKDAY(B10)=7,B10<=$A$1,COUNTIF(Base!$B$1:$B$30,B10)>0,COUNTIF(Base!$F$1:$F$72,B10)>0),0,1) -> 0 | C11: =IF(OR(WEEKDAY(C10)=1,WEEKDAY(C10)=7,C10<=$A$1,COUNTIF(Base!$B$1:$B$30,C10)>0,COUNTIF(Base!$F$1:$F$72,C10)>0),0,1) -> 0 | D11: =IF(OR(WEEKDAY(D10)=1,WEEKDAY(D10)=7,D10<=$A$1,COUNTIF(Base!$B$1:$B$30,D10)>0,COUNTIF(Base!$F$1:$F$72,D10)>0),0,1) -> 0 | E11: =IF(OR(WEEKDAY(E10)=1,WEEKDAY(E10)=7,E10<=$A$1,COUNTIF(Base!$B$1:$B$30,E10)>0,COUNTIF(Base!$F$1:$F$72,E10)>0),0,1) -> 0 | F11: =IF(OR(WEEKDAY(F10)=1,WEEKDAY(F10)=7,F10<=$A$1,COUNTIF(Base!$B$1:$B$30,F10)>0,COUNTIF(Base!$F$1:$F$72,F10)>0),0,1) -> 0 | G11: =IF(OR(WEEKDAY(G10)=1,WEEKDAY(G10)=7,G10<=$A$1,COUNTIF(Base!$B$1:$B$30,G10)>0,COUNTIF(Base!$F$1:$F$72,G10)>0),0,1) -> 0 | H11: =IF(OR(WEEKDAY(H10)=1,WEEKDAY(H10)=7,H10<=$A$1,COUNTIF(Base!$B$1:$B$30,H10)>0,COUNTIF(Base!$F$1:$F$72,H10)>0),0,1) -> 0 | I11: =IF(OR(WEEKDAY(I10)=1,WEEKDAY(I10)=7,I10<=$A$1,COUNTIF(Base!$B$1:$B$30,I10)>0,COUNTIF(Base!$F$1:$F$72,I10)>0),0,1) -> 0 | ... AE11: =IF(OR(WEEKDAY(AE10)=1,WEEKDAY(AE10)=7,AE10<=$A$1,COUNTIF(Base!$B$1:$B$30,AE10)>0,COUNTIF(Base!$F$1:$F$72,AE10)>0),0,1) -> 0 | AG11: =SUM(B11:AE11) -> 0 | AP11: =IF($AP$1=EdT!$A$1,EdT!B6,IF($AP$1=EdT!$H$1,EdT!I6,0)) -> 0 | AU11: =IF($AP$1=EdT!$A$1,EdT!C6,IF($AP$1=EdT!$H$1,EdT!J6,0)) -> 0 | AZ11: =IF($AP$1=EdT!$A$1,EdT!D6,IF($AP$1=EdT!$H$1,EdT!K6,0)) -> 0 | BE11: =IF($AP$1=EdT!$A$1,EdT!E6,IF($AP$1=EdT!$H$1,EdT!L6,0)) -> 0 | BJ11: =IF($AP$1=EdT!$A$1,EdT!F6,IF($AP$1=EdT!$H$1,EdT!M6,0)) -> 0
C12: Q2 | D12: Q2 | E12: Q2 | F12: Q2 | G12: Q2 | H12: Q2 | I12: Q2 | J12: Q1 | K12: Q1 | L12: Q1 | M12: Q1 | N12: Q1 | O12: Q1 | P12: Q1 | Q12: Q2 | R12: Q2 | S12: Q2 | T12: Q2 | U12: Q2 | V12: Q2 | W12: Q2 | X12: Q1 | Y12: Q1 | Z12: Q1 | AA12: Q1 | AB12: Q1 | AC12: Q1 | AD12: Q1 | AE12: Q2 | AG12: =SUM(B13:AF13) -> 0 | AP12: =IF($AP$1=EdT!$A$1,EdT!B7,IF($AP$1=EdT!$H$1,EdT!I7,0)) -> 0 | AU12: =IF($AP$1=EdT!$A$1,EdT!C7,IF($AP$1=EdT!$H$1,EdT!J7,0)) -> 0 | AZ12: =IF($AP$1=EdT!$A$1,EdT!D7,IF($AP$1=EdT!$H$1,EdT!K7,0)) -> 0 | BE12: =IF($AP$1=EdT!$A$1,EdT!E7,IF($AP$1=EdT!$H$1,EdT!L7,0)) -> 0 | BJ12: =IF($AP$1=EdT!$A$1,EdT!F7,IF($AP$1=EdT!$H$1,EdT!M7,0)) -> 0
B13: =IF(AND(WEEKDAY(B10)=2,B11=1),1,0) -> 0 | C13: =IF(AND(WEEKDAY(C10)=2,C11=1),1,0) -> 0 | D13: =IF(AND(WEEKDAY(D10)=2,D11=1),1,0) -> 0 | E13: =IF(AND(WEEKDAY(E10)=2,E11=1),1,0) -> 0 | F13: =IF(AND(WEEKDAY(F10)=2,F11=1),1,0) -> 0 | G13: =IF(AND(WEEKDAY(G10)=2,G11=1),1,0) -> 0 | H13: =IF(AND(WEEKDAY(H10)=2,H11=1),1,0) -> 0 | I13: =IF(AND(WEEKDAY(I10)=2,I11=1),1,0) -> 0 | ... AE13: =IF(AND(WEEKDAY(AE10)=2,AE11=1),1,0) -> 0
A14: 42339 | B14: =A14 -> 42339 | C14: =B14+1 -> 42340 | D14: =C14+1 -> 42341 | E14: =D14+1 -> 42342 | F14: =E14+1 -> 42343 | G14: =F14+1 -> 42344 | H14: =G14+1 -> 42345 | I14: =H14+1 -> 42346 | J14: =I14+1 -> 42347 | ... AF14: =AE14+1 -> 42369 | AJ14: 0.41666667 | AK14: =IF($AP$3<$AJ$3,2,0) -> 0 | AL14: =IF($AP$3<=$AJ$3,2,0) -> 0 | AM14: =IF($AJ$1>=AJ14,1,0) -> 0 | AN14: =SUM(AK14:AM14) -> 0 | AP14: =IF($AP$1=EdT!$A$1,EdT!B8,IF($AP$1=EdT!$H$1,EdT!I8,0)) -> 0 | AQ14: =IF($AU$3<$AJ$3,2,0) -> 0 | AR14: =IF($AU$3<=$AJ$3,2,0) -> 0 | AS14: =IF($AJ$1>=AJ14,1,0) -> 0 | AT14: =SUM(AQ14:AS14) -> 0 | AU14: =IF($AP$1=EdT!$A$1,EdT!C8,IF($AP$1=EdT!$H$1,EdT!J8,0)) -> 0 | AV14: =IF($AZ$3<$AJ$3,2,0) -> 0 | AW14: =IF($AZ$3<=$AJ$3,2,0) -> 0 | AX14: =IF($AJ$1>=AJ14,1,0) -> 0 | AY14: =SUM(AV14:AX14) -> 0 | AZ14: =IF($AP$1=EdT!$A$1,EdT!D8,IF($AP$1=EdT!$H$1,EdT!K8,0)) -> 0 | BA14: =IF($BE$3<$AJ$3,2,0) -> 0 | BB14: =IF($BE$3<=$AJ$3,2,0) -> 0 | BC14: =IF($AJ$1>=AJ14,1,0) -> 0 | BD14: =SUM(BA14:BC14) -> 0 | BE14: =IF($AP$1=EdT!$A$1,EdT!E8,IF($AP$1=EdT!$H$1,EdT!L8,0)) -> 0 | BF14: =IF($BJ$3<$AJ$3,2,0) -> 0 | BG14: =IF($BJ$3<=$AJ$3,2,0) -> 0 | BH14: =IF($AJ$1>=AJ14,1,0) -> 0 | BI14: =SUM(BF14:BH14) -> 0 | BJ14: =IF($AP$1=EdT!$A$1,EdT!F8,IF($AP$1=EdT!$H$1,EdT!M8,0)) -> 0
B15: =IF(OR(WEEKDAY(B14)=1,WEEKDAY(B14)=7,B14<=$A$1,COUNTIF(Base!$B$1:$B$30,B14)>0,COUNTIF(Base!$F$1:$F$72,B14)>0),0,1) -> 0 | C15: =IF(OR(WEEKDAY(C14)=1,WEEKDAY(C14)=7,C14<=$A$1,COUNTIF(Base!$B$1:$B$30,C14)>0,COUNTIF(Base!$F$1:$F$72,C14)>0),0,1) -> 0 | D15: =IF(OR(WEEKDAY(D14)=1,WEEKDAY(D14)=7,D14<=$A$1,COUNTIF(Base!$B$1:$B$30,D14)>0,COUNTIF(Base!$F$1:$F$72,D14)>0),0,1) -> 0 | E15: =IF(OR(WEEKDAY(E14)=1,WEEKDAY(E14)=7,E14<=$A$1,COUNTIF(Base!$B$1:$B$30,E14)>0,COUNTIF(Base!$F$1:$F$72,E14)>0),0,1) -> 0 | F15: =IF(OR(WEEKDAY(F14)=1,WEEKDAY(F14)=7,F14<=$A$1,COUNTIF(Base!$B$1:$B$30,F14)>0,COUNTIF(Base!$F$1:$F$72,F14)>0),0,1) -> 0 | G15: =IF(OR(WEEKDAY(G14)=1,WEEKDAY(G14)=7,G14<=$A$1,COUNTIF(Base!$B$1:$B$30,G14)>0,COUNTIF(Base!$F$1:$F$72,G14)>0),0,1) -> 0 | H15: =IF(OR(WEEKDAY(H14)=1,WEEKDAY(H14)=7,H14<=$A$1,COUNTIF(Base!$B$1:$B$30,H14)>0,COUNTIF(Base!$F$1:$F$72,H14)>0),0,1) -> 0 | I15: =IF(OR(WEEKDAY(I14)=1,WEEKDAY(I14)=7,I14<=$A$1,COUNTIF(Base!$B$1:$B$30,I14)>0,COUNTIF(Base!$F$1:$F$72,I14)>0),0,1) -> 0 | ... AF15: =IF(OR(WEEKDAY(AF14)=1,WEEKDAY(AF14)=7,AF14<=$A$1,COUNTIF(Base!$B$1:$B$30,AF14)>0,COUNTIF(Base!$F$1:$F$72,AF14)>0),0,1) -> 0 | AG15: =SUM(B15:AE15) -> 0 | AP15: =IF($AP$1=EdT!$A$1,EdT!B9,IF($AP$1=EdT!$H$1,EdT!I9,0)) -> 0 | AU15: =IF($AP$1=EdT!$A$1,EdT!C9,IF($AP$1=EdT!$H$1,EdT!J9,0)) -> 0 | AZ15: =IF($AP$1=EdT!$A$1,EdT!D9,IF($AP$1=EdT!$H$1,EdT!K9,0)) -> 0 | BE15: =IF($AP$1=EdT!$A$1,EdT!E9,IF($AP$1=EdT!$H$1,EdT!L9,0)) -> 0 | BJ15: =IF($AP$1=EdT!$A$1,EdT!F9,IF($AP$1=EdT!$H$1,EdT!M9,0)) -> 0
B16: Q2 | C16: Q2 | D16: Q2 | E16: Q2 | F16: Q2 | G16: Q2 | H16: Q1 | I16: Q1 | J16: Q1 | K16: Q1 | L16: Q1 | M16: Q1 | N16: Q1 | O16: Q2 | P16: Q2 | Q16: Q2 | R16: Q2 | S16: Q2 | T16: Q2 | U16: Q2 | AG16: =SUM(B17:AF17) -> 0 | AP16: =IF($AP$1=EdT!$A$1,EdT!B10,IF($AP$1=EdT!$H$1,EdT!I10,0)) -> 0 | AU16: =IF($AP$1=EdT!$A$1,EdT!C10,IF($AP$1=EdT!$H$1,EdT!J10,0)) -> 0 | AZ16: =IF($AP$1=EdT!$A$1,EdT!D10,IF($AP$1=EdT!$H$1,EdT!K10,0)) -> 0 | BE16: =IF($AP$1=EdT!$A$1,EdT!E10,IF($AP$1=EdT!$H$1,EdT!L10,0)) -> 0 | BJ16: =IF($AP$1=EdT!$A$1,EdT!F10,IF($AP$1=EdT!$H$1,EdT!M10,0)) -> 0
B17: =IF(AND(WEEKDAY(B14)=2,B15=1),1,0) -> 0 | C17: =IF(AND(WEEKDAY(C14)=2,C15=1),1,0) -> 0 | D17: =IF(AND(WEEKDAY(D14)=2,D15=1),1,0) -> 0 | E17: =IF(AND(WEEKDAY(E14)=2,E15=1),1,0) -> 0 | F17: =IF(AND(WEEKDAY(F14)=2,F15=1),1,0) -> 0 | G17: =IF(AND(WEEKDAY(G14)=2,G15=1),1,0) -> 0 | H17: =IF(AND(WEEKDAY(H14)=2,H15=1),1,0) -> 0 | I17: =IF(AND(WEEKDAY(I14)=2,I15=1),1,0) -> 0 | ... AF17: =IF(AND(WEEKDAY(AF14)=2,AF15=1),1,0) -> 0
A18: 42370 | B18: =A18 -> 42370 | C18: =B18+1 -> 42371 | D18: =C18+1 -> 42372 | E18: =D18+1 -> 42373 | F18: =E18+1 -> 42374 | G18: =F18+1 -> 42375 | H18: =G18+1 -> 42376 | I18: =H18+1 -> 42377 | J18: =I18+1 -> 42378 | ... AF18: =AE18+1 -> 42400 | AJ18: 0.45833333 | AK18: =IF($AP$3<$AJ$3,2,0) -> 0 | AL18: =IF($AP$3<=$AJ$3,2,0) -> 0 | AM18: =IF($AJ$1>=AJ18,1,0) -> 0 | AN18: =SUM(AK18:AM18) -> 0 | AP18: =IF($AP$1=EdT!$A$1,EdT!B11,IF($AP$1=EdT!$H$1,EdT!I11,0)) -> 0 | AQ18: =IF($AU$3<$AJ$3,2,0) -> 0 | AR18: =IF($AU$3<=$AJ$3,2,0) -> 0 | AS18: =IF($AJ$1>=AJ18,1,0) -> 0 | AT18: =SUM(AQ18:AS18) -> 0 | AU18: =IF($AP$1=EdT!$A$1,EdT!C11,IF($AP$1=EdT!$H$1,EdT!J11,0)) -> 0 | BA18: =IF($BE$3<$AJ$3,2,0) -> 0 | BB18: =IF($BE$3<=$AJ$3,2,0) -> 0 | BC18: =IF($AJ$1>=AJ18,1,0) -> 0 | BD18: =SUM(BA18:BC18) -> 0 | BE18: =IF($AP$1=EdT!$A$1,EdT!E11,IF($AP$1=EdT!$H$1,EdT!L11,0)) -> 0 | BF18: =IF($BJ$3<$AJ$3,2,0) -> 0 | BG18: =IF($BJ$3<=$AJ$3,2,0) -> 0 | BH18: =IF($AJ$1>=AJ18,1,0) -> 0 | BI18: =SUM(BF18:BH18) -> 0
B19: =IF(OR(WEEKDAY(B18)=1,WEEKDAY(B18)=7,B18<=$A$1,COUNTIF(Base!$B$1:$B$30,B18)>0,COUNTIF(Base!$F$1:$F$72,B18)>0),0,1) -> 0 | C19: =IF(OR(WEEKDAY(C18)=1,WEEKDAY(C18)=7,C18<=$A$1,COUNTIF(Base!$B$1:$B$30,C18)>0,COUNTIF(Base!$F$1:$F$72,C18)>0),0,1) -> 0 | D19: =IF(OR(WEEKDAY(D18)=1,WEEKDAY(D18)=7,D18<=$A$1,COUNTIF(Base!$B$1:$B$30,D18)>0,COUNTIF(Base!$F$1:$F$72,D18)>0),0,1) -> 0 | E19: =IF(OR(WEEKDAY(E18)=1,WEEKDAY(E18)=7,E18<=$A$1,COUNTIF(Base!$B$1:$B$30,E18)>0,COUNTIF(Base!$F$1:$F$72,E18)>0),0,1) -> 0 | F19: =IF(OR(WEEKDAY(F18)=1,WEEKDAY(F18)=7,F18<=$A$1,COUNTIF(Base!$B$1:$B$30,F18)>0,COUNTIF(Base!$F$1:$F$72,F18)>0),0,1) -> 0 | G19: =IF(OR(WEEKDAY(G18)=1,WEEKDAY(G18)=7,G18<=$A$1,COUNTIF(Base!$B$1:$B$30,G18)>0,COUNTIF(Base!$F$1:$F$72,G18)>0),0,1) -> 0 | H19: =IF(OR(WEEKDAY(H18)=1,WEEKDAY(H18)=7,H18<=$A$1,COUNTIF(Base!$B$1:$B$30,H18)>0,COUNTIF(Base!$F$1:$F$72,H18)>0),0,1) -> 0 | I19: =IF(OR(WEEKDAY(I18)=1,WEEKDAY(I18)=7,I18<=$A$1,COUNTIF(Base!$B$1:$B$30,I18)>0,COUNTIF(Base!$F$1:$F$72,I18)>0),0,1) -> 0 | ... AF19: =IF(OR(WEEKDAY(AF18)=1,WEEKDAY(AF18)=7,AF18<=$A$1,COUNTIF(Base!$B$1:$B$30,AF18)>0,COUNTIF(Base!$F$1:$F$72,AF18)>0),0,1) -> 0 | AG19: =SUM(B19:AE19) -> 0 | AP19: =IF($AP$1=EdT!$A$1,EdT!B12,IF($AP$1=EdT!$H$1,EdT!I12,0)) -> 0 | AU19: =IF($AP$1=EdT!$A$1,EdT!C12,IF($AP$1=EdT!$H$1,EdT!J12,0)) -> 0 | BE19: =IF($AP$1=EdT!$A$1,EdT!E12,IF($AP$1=EdT!$H$1,EdT!L12,0)) -> 0
E20: Q1 | F20: Q1 | G20: Q1 | H20: Q1 | I20: Q1 | J20: Q1 | K20: Q1 | L20: Q2 | M20: Q2 | N20: Q2 | O20: Q2 | P20: Q2 | Q20: Q2 | R20: Q2 | S20: Q1 | T20: Q1 | U20: Q1 | V20: Q1 | W20: Q1 | X20: Q1 | Y20: Q1 | Z20: Q2 | AA20: Q2 | AB20: Q2 | AC20: Q2 | AD20: Q2 | AE20: Q2 | AF20: Q2 | AG20: =SUM(B21:AF21) -> 0 | AP20: =IF($AP$1=EdT!$A$1,EdT!B13,IF($AP$1=EdT!$H$1,EdT!I13,0)) -> 0 | AU20: =IF($AP$1=EdT!$A$1,EdT!C13,IF($AP$1=EdT!$H$1,EdT!J13,0)) -> 0 | BE20: =IF($AP$1=EdT!$A$1,EdT!E13,IF($AP$1=EdT!$H$1,EdT!L13,0)) -> 0
B21: =IF(AND(WEEKDAY(B18)=2,B19=1),1,0) -> 0 | C21: =IF(AND(WEEKDAY(C18)=2,C19=1),1,0) -> 0 | D21: =IF(AND(WEEKDAY(D18)=2,D19=1),1,0) -> 0 | E21: =IF(AND(WEEKDAY(E18)=2,E19=1),1,0) -> 0 | F21: =IF(AND(WEEKDAY(F18)=2,F19=1),1,0) -> 0 | G21: =IF(AND(WEEKDAY(G18)=2,G19=1),1,0) -> 0 | H21: =IF(AND(WEEKDAY(H18)=2,H19=1),1,0) -> 0 | I21: =IF(AND(WEEKDAY(I18)=2,I19=1),1,0) -> 0 | ... AF21: =IF(AND(WEEKDAY(AF18)=2,AF19=1),1,0) -> 0
A22: 42401 | B22: =A22 -> 42401 | C22: =B22+1 -> 42402 | D22: =C22+1 -> 42403 | E22: =D22+1 -> 42404 | F22: =E22+1 -> 42405 | G22: =F22+1 -> 42406 | H22: =G22+1 -> 42407 | I22: =H22+1 -> 42408 | J22: =I22+1 -> 42409 | ... AD22: =AC22+1 -> 42429 | AJ22: 0.5
B23: =IF(OR(WEEKDAY(B22)=1,WEEKDAY(B22)=7,B22<=$A$1,COUNTIF(Base!$B$1:$B$30,B22)>0,COUNTIF(Base!$F$1:$F$72,B22)>0),0,1) -> 0 | C23: =IF(OR(WEEKDAY(C22)=1,WEEKDAY(C22)=7,C22<=$A$1,COUNTIF(Base!$B$1:$B$30,C22)>0,COUNTIF(Base!$F$1:$F$72,C22)>0),0,1) -> 0 | D23: =IF(OR(WEEKDAY(D22)=1,WEEKDAY(D22)=7,D22<=$A$1,COUNTIF(Base!$B$1:$B$30,D22)>0,COUNTIF(Base!$F$1:$F$72,D22)>0),0,1) -> 0 | E23: =IF(OR(WEEKDAY(E22)=1,WEEKDAY(E22)=7,E22<=$A$1,COUNTIF(Base!$B$1:$B$30,E22)>0,COUNTIF(Base!$F$1:$F$72,E22)>0),0,1) -> 0 | F23: =IF(OR(WEEKDAY(F22)=1,WEEKDAY(F22)=7,F22<=$A$1,COUNTIF(Base!$B$1:$B$30,F22)>0,COUNTIF(Base!$F$1:$F$72,F22)>0),0,1) -> 0 | G23: =IF(OR(WEEKDAY(G22)=1,WEEKDAY(G22)=7,G22<=$A$1,COUNTIF(Base!$B$1:$B$30,G22)>0,COUNTIF(Base!$F$1:$F$72,G22)>0),0,1) -> 0 | H23: =IF(OR(WEEKDAY(H22)=1,WEEKDAY(H22)=7,H22<=$A$1,COUNTIF(Base!$B$1:$B$30,H22)>0,COUNTIF(Base!$F$1:$F$72,H22)>0),0,1) -> 0 | I23: =IF(OR(WEEKDAY(I22)=1,WEEKDAY(I22)=7,I22<=$A$1,COUNTIF(Base!$B$1:$B$30,I22)>0,COUNTIF(Base!$F$1:$F$72,I22)>0),0,1) -> 0 | ... AD23: =IF(OR(WEEKDAY(AD22)=1,WEEKDAY(AD22)=7,AD22<=$A$1,COUNTIF(Base!$B$1:$B$30,AD22)>0,COUNTIF(Base!$F$1:$F$72,AD22)>0),0,1) -> 0 | AG23: =SUM(B23:AE23) -> 0
B24: Q1 | C24: Q1 | D24: Q1 | E24: Q1 | F24: Q1 | G24: Q1 | H24: Q1 | W24: Q2 | X24: Q2 | Y24: Q2 | Z24: Q2 | AA24: Q2 | AB24: Q2 | AC24: Q2 | AD24: Q1 | AG24: =SUM(B25:AF25) -> 0
B25: =IF(AND(WEEKDAY(B22)=2,B23=1),1,0) -> 0 | C25: =IF(AND(WEEKDAY(C22)=2,C23=1),1,0) -> 0 | D25: =IF(AND(WEEKDAY(D22)=2,D23=1),1,0) -> 0 | E25: =IF(AND(WEEKDAY(E22)=2,E23=1),1,0) -> 0 | F25: =IF(AND(WEEKDAY(F22)=2,F23=1),1,0) -> 0 | G25: =IF(AND(WEEKDAY(G22)=2,G23=1),1,0) -> 0 | H25: =IF(AND(WEEKDAY(H22)=2,H23=1),1,0) -> 0 | I25: =IF(AND(WEEKDAY(I22)=2,I23=1),1,0) -> 0 | ... AD25: =IF(AND(WEEKDAY(AD22)=2,AD23=1),1,0) -> 0
A26: 42430 | B26: =A26 -> 42430 | C26: =B26+1 -> 42431 | D26: =C26+1 -> 42432 | E26: =D26+1 -> 42433 | F26: =E26+1 -> 42434 | G26: =F26+1 -> 42435 | H26: =G26+1 -> 42436 | I26: =H26+1 -> 42437 | J26: =I26+1 -> 42438 | ... AF26: =AE26+1 -> 42460
B27: =IF(OR(WEEKDAY(B26)=1,WEEKDAY(B26)=7,B26<=$A$1,COUNTIF(Base!$B$1:$B$30,B26)>0,COUNTIF(Base!$F$1:$F$72,B26)>0),0,1) -> 0 | C27: =IF(OR(WEEKDAY(C26)=1,WEEKDAY(C26)=7,C26<=$A$1,COUNTIF(Base!$B$1:$B$30,C26)>0,COUNTIF(Base!$F$1:$F$72,C26)>0),0,1) -> 0 | D27: =IF(OR(WEEKDAY(D26)=1,WEEKDAY(D26)=7,D26<=$A$1,COUNTIF(Base!$B$1:$B$30,D26)>0,COUNTIF(Base!$F$1:$F$72,D26)>0),0,1) -> 0 | E27: =IF(OR(WEEKDAY(E26)=1,WEEKDAY(E26)=7,E26<=$A$1,COUNTIF(Base!$B$1:$B$30,E26)>0,COUNTIF(Base!$F$1:$F$72,E26)>0),0,1) -> 0 | F27: =IF(OR(WEEKDAY(F26)=1,WEEKDAY(F26)=7,F26<=$A$1,COUNTIF(Base!$B$1:$B$30,F26)>0,COUNTIF(Base!$F$1:$F$72,F26)>0),0,1) -> 0 | G27: =IF(OR(WEEKDAY(G26)=1,WEEKDAY(G26)=7,G26<=$A$1,COUNTIF(Base!$B$1:$B$30,G26)>0,COUNTIF(Base!$F$1:$F$72,G26)>0),0,1) -> 0 | H27: =IF(OR(WEEKDAY(H26)=1,WEEKDAY(H26)=7,H26<=$A$1,COUNTIF(Base!$B$1:$B$30,H26)>0,COUNTIF(Base!$F$1:$F$72,H26)>0),0,1) -> 0 | I27: =IF(OR(WEEKDAY(I26)=1,WEEKDAY(I26)=7,I26<=$A$1,COUNTIF(Base!$B$1:$B$30,I26)>0,COUNTIF(Base!$F$1:$F$72,I26)>0),0,1) -> 0 | ... AF27: =IF(OR(WEEKDAY(AF26)=1,WEEKDAY(AF26)=7,AF26<=$A$1,COUNTIF(Base!$B$1:$B$30,AF26)>0,COUNTIF(Base!$F$1:$F$72,AF26)>0),0,1) -> 0 | AG27: =SUM(B27:AE27) -> 0
B28: Q1 | C28: Q1 | D28: Q1 | E28: Q1 | F28: Q1 | G28: Q1 | H28: Q2 | I28: Q2 | J28: Q2 | K28: Q2 | L28: Q2 | M28: Q2 | N28: Q2 | O28: Q1 | P28: Q1 | Q28: Q1 | R28: Q1 | S28: Q1 | T28: Q1 | U28: Q1 | V28: Q2 | W28: Q2 | X28: Q2 | Y28: Q2 | Z28: Q2 | AA28: Q2 | AB28: Q2 | AC28: Q1 | AD28: Q1 | AE28: Q1 | AF28: Q1 | AG28: =SUM(B29:AF29) -> 0 | AJ28: 0.5625 | AK28: =IF($AP$3<$AJ$3,2,0) -> 0 | AL28: =IF($AP$3<=$AJ$3,2,0) -> 0 | AM28: =IF($AJ$1>=AJ28,1,0) -> 0 | AN28: =SUM(AK28:AM28) -> 0 | AP28: =IF($AP$1=EdT!$A$1,EdT!B17,IF($AP$1=EdT!$H$1,EdT!I17,0)) -> 0 | AQ28: =IF($AU$3<$AJ$3,2,0) -> 0 | AR28: =IF($AU$3<=$AJ$3,2,0) -> 0 | AS28: =IF($AJ$1>=AJ28,1,0) -> 0 | AT28: =SUM(AQ28:AS28) -> 0 | AU28: =IF($AP$1=EdT!$A$1,EdT!C17,IF($AP$1=EdT!$H$1,EdT!J17,0)) -> 0 | BA28: =IF($BE$3<$AJ$3,2,0) -> 0 | BB28: =IF($BE$3<=$AJ$3,2,0) -> 0 | BC28: =IF($AJ$1>=AJ28,1,0) -> 0 | BD28: =SUM(BA28:BC28) -> 0 | BE28: =IF($AP$1=EdT!$A$1,EdT!E17,IF($AP$1=EdT!$H$1,EdT!L17,0)) -> 0 | BF28: =IF($BJ$3<$AJ$3,2,0) -> 0 | BG28: =IF($BJ$3<=$AJ$3,2,0) -> 0 | BH28: =IF($AJ$1>=AJ28,1,0) -> 0 | BI28: =SUM(BF28:BH28) -> 0 | BJ28: =IF($AP$1=EdT!$A$1,EdT!F17,IF($AP$1=EdT!$H$1,EdT!M17,0)) -> 0
B29: =IF(AND(WEEKDAY(B26)=2,B27=1),1,0) -> 0 | C29: =IF(AND(WEEKDAY(C26)=2,C27=1),1,0) -> 0 | D29: =IF(AND(WEEKDAY(D26)=2,D27=1),1,0) -> 0 | E29: =IF(AND(WEEKDAY(E26)=2,E27=1),1,0) -> 0 | F29: =IF(AND(WEEKDAY(F26)=2,F27=1),1,0) -> 0 | G29: =IF(AND(WEEKDAY(G26)=2,G27=1),1,0) -> 0 | H29: =IF(AND(WEEKDAY(H26)=2,H27=1),1,0) -> 0 | I29: =IF(AND(WEEKDAY(I26)=2,I27=1),1,0) -> 0 | ... AF29: =IF(AND(WEEKDAY(AF26)=2,AF27=1),1,0) -> 0 | AP29: =IF($AP$1=EdT!$A$1,EdT!B18,IF($AP$1=EdT!$H$1,EdT!I18,0)) -> 0 | AU29: =IF($AP$1=EdT!$A$1,EdT!C18,IF($AP$1=EdT!$H$1,EdT!J18,0)) -> 0 | BE29: =IF($AP$1=EdT!$A$1,EdT!E18,IF($AP$1=EdT!$H$1,EdT!L18,0)) -> 0 | BJ29: =IF($AP$1=EdT!$A$1,EdT!F18,IF($AP$1=EdT!$H$1,EdT!M18,0)) -> 0
A30: 42461 | B30: =A30 -> 42461 | C30: =B30+1 -> 42462 | D30: =C30+1 -> 42463 | E30: =D30+1 -> 42464 | F30: =E30+1 -> 42465 | G30: =F30+1 -> 42466 | H30: =G30+1 -> 42467 | I30: =H30+1 -> 42468 | J30: =I30+1 -> 42469 | ... AE30: =AD30+1 -> 42490 | AP30: =IF($AP$1=EdT!$A$1,EdT!B19,IF($AP$1=EdT!$H$1,EdT!I19,0)) -> 0 | AU30: =IF($AP$1=EdT!$A$1,EdT!C19,IF($AP$1=EdT!$H$1,EdT!J19,0)) -> 0 | BE30: =IF($AP$1=EdT!$A$1,EdT!E19,IF($AP$1=EdT!$H$1,EdT!L19,0)) -> 0 | BJ30: =IF($AP$1=EdT!$A$1,EdT!F19,IF($AP$1=EdT!$H$1,EdT!M19,0)) -> 0
B31: =IF(OR(WEEKDAY(B30)=1,WEEKDAY(B30)=7,B30<=$A$1,COUNTIF(Base!$B$1:$B$30,B30)>0,COUNTIF(Base!$F$1:$F$72,B30)>0),0,1) -> 0 | C31: =IF(OR(WEEKDAY(C30)=1,WEEKDAY(C30)=7,C30<=$A$1,COUNTIF(Base!$B$1:$B$30,C30)>0,COUNTIF(Base!$F$1:$F$72,C30)>0),0,1) -> 0 | D31: =IF(OR(WEEKDAY(D30)=1,WEEKDAY(D30)=7,D30<=$A$1,COUNTIF(Base!$B$1:$B$30,D30)>0,COUNTIF(Base!$F$1:$F$72,D30)>0),0,1) -> 0 | E31: =IF(OR(WEEKDAY(E30)=1,WEEKDAY(E30)=7,E30<=$A$1,COUNTIF(Base!$B$1:$B$30,E30)>0,COUNTIF(Base!$F$1:$F$72,E30)>0),0,1) -> 0 | F31: =IF(OR(WEEKDAY(F30)=1,WEEKDAY(F30)=7,F30<=$A$1,COUNTIF(Base!$B$1:$B$30,F30)>0,COUNTIF(Base!$F$1:$F$72,F30)>0),0,1) -> 0 | G31: =IF(OR(WEEKDAY(G30)=1,WEEKDAY(G30)=7,G30<=$A$1,COUNTIF(Base!$B$1:$B$30,G30)>0,COUNTIF(Base!$F$1:$F$72,G30)>0),0,1) -> 0 | H31: =IF(OR(WEEKDAY(H30)=1,WEEKDAY(H30)=7,H30<=$A$1,COUNTIF(Base!$B$1:$B$30,H30)>0,COUNTIF(Base!$F$1:$F$72,H30)>0),0,1) -> 0 | I31: =IF(OR(WEEKDAY(I30)=1,WEEKDAY(I30)=7,I30<=$A$1,COUNTIF(Base!$B$1:$B$30,I30)>0,COUNTIF(Base!$F$1:$F$72,I30)>0),0,1) -> 0 | ... AE31: =IF(OR(WEEKDAY(AE30)=1,WEEKDAY(AE30)=7,AE30<=$A$1,COUNTIF(Base!$B$1:$B$30,AE30)>0,COUNTIF(Base!$F$1:$F$72,AE30)>0),0,1) -> 0 | AG31: =SUM(B31:AE31) -> 10
B32: Q1 | C32: Q1 | D32: Q1 | S32: Q2 | T32: Q2 | U32: Q2 | V32: Q2 | W32: Q2 | X32: Q2 | Y32: Q2 | Z32: Q1 | AA32: Q1 | AB32: Q1 | AC32: Q1 | AD32: Q1 | AE32: Q1 | AG32: =SUM(B33:AF33) -> 2 | AJ32: 0.60416667 | AK32: =IF($AP$3<$AJ$3,2,0) -> 0 | AL32: =IF($AP$3<=$AJ$3,2,0) -> 0 | AM32: =IF($AJ$1>=AJ32,1,0) -> 0 | AN32: =SUM(AK32:AM32) -> 0 | AP32: =IF($AP$1=EdT!$A$1,EdT!B20,IF($AP$1=EdT!$H$1,EdT!I20,0)) -> 0 | AQ32: =IF($AU$3<$AJ$3,2,0) -> 0 | AR32: =IF($AU$3<=$AJ$3,2,0) -> 0 | AS32: =IF($AJ$1>=AJ32,1,0) -> 0 | AT32: =SUM(AQ32:AS32) -> 0 | AU32: =IF($AP$1=EdT!$A$1,EdT!C20,IF($AP$1=EdT!$H$1,EdT!J20,0)) -> 0 | BA32: =IF($BE$3<$AJ$3,2,0) -> 0 | BB32: =IF($BE$3<=$AJ$3,2,0) -> 0 | BC32: =IF($AJ$1>=AJ32,1,0) -> 0 | BD32: =SUM(BA32:BC32) -> 0 | BE32: =IF($AP$1=EdT!$A$1,EdT!E21,IF($AP$1=EdT!$H$1,EdT!L21,0)) -> 0 | BF32: =IF($BJ$3<$AJ$3,2,0) -> 0 | BG32: =IF($BJ$3<=$AJ$3,2,0) -> 0 | BH32: =IF($AJ$1>=AJ32,1,0) -> 0 | BI32: =SUM(BF32:BH32) -> 0 | BJ32: =IF($AP$1=EdT!$A$1,EdT!F20,IF($AP$1=EdT!$H$1,EdT!M20,0)) -> 0
B33: =IF(AND(WEEKDAY(B30)=2,B31=1),1,0) -> 0 | C33: =IF(AND(WEEKDAY(C30)=2,C31=1),1,0) -> 0 | D33: =IF(AND(WEEKDAY(D30)=2,D31=1),1,0) -> 0 | E33: =IF(AND(WEEKDAY(E30)=2,E31=1),1,0) -> 0 | F33: =IF(AND(WEEKDAY(F30)=2,F31=1),1,0) -> 0 | G33: =IF(AND(WEEKDAY(G30)=2,G31=1),1,0) -> 0 | H33: =IF(AND(WEEKDAY(H30)=2,H31=1),1,0) -> 0 | I33: =IF(AND(WEEKDAY(I30)=2,I31=1),1,0) -> 0 | ... AE33: =IF(AND(WEEKDAY(AE30)=2,AE31=1),1,0) -> 0 | AP33: =IF($AP$1=EdT!$A$1,EdT!B21,IF($AP$1=EdT!$H$1,EdT!I21,0)) -> 0 | AU33: =IF($AP$1=EdT!$A$1,EdT!C21,IF($AP$1=EdT!$H$1,EdT!J21,0)) -> 0 | BJ33: =IF($AP$1=EdT!$A$1,EdT!F21,IF($AP$1=EdT!$H$1,EdT!M21,0)) -> 0
A34: 42491 | B34: =A34 -> 42491 | C34: =B34+1 -> 42492 | D34: =C34+1 -> 42493 | E34: =D34+1 -> 42494 | F34: =E34+1 -> 42495 | G34: =F34+1 -> 42496 | H34: =G34+1 -> 42497 | I34: =H34+1 -> 42498 | J34: =I34+1 -> 42499 | ... AF34: =AE34+1 -> 42521 | AP34: =IF($AP$1=EdT!$A$1,EdT!B22,IF($AP$1=EdT!$H$1,EdT!I22,0)) -> 0 | AU34: =IF($AP$1=EdT!$A$1,EdT!C22,IF($AP$1=EdT!$H$1,EdT!J22,0)) -> 0 | BJ34: =IF($AP$1=EdT!$A$1,EdT!F22,IF($AP$1=EdT!$H$1,EdT!M22,0)) -> 0
B35: =IF(OR(WEEKDAY(B34)=1,WEEKDAY(B34)=7,B34<=$A$1,COUNTIF(Base!$B$1:$B$30,B34)>0,COUNTIF(Base!$F$1:$F$72,B34)>0),0,1) -> 0 | C35: =IF(OR(WEEKDAY(C34)=1,WEEKDAY(C34)=7,C34<=$A$1,COUNTIF(Base!$B$1:$B$30,C34)>0,COUNTIF(Base!$F$1:$F$72,C34)>0),0,1) -> 1 | D35: =IF(OR(WEEKDAY(D34)=1,WEEKDAY(D34)=7,D34<=$A$1,COUNTIF(Base!$B$1:$B$30,D34)>0,COUNTIF(Base!$F$1:$F$72,D34)>0),0,1) -> 1 | E35: =IF(OR(WEEKDAY(E34)=1,WEEKDAY(E34)=7,E34<=$A$1,COUNTIF(Base!$B$1:$B$30,E34)>0,COUNTIF(Base!$F$1:$F$72,E34)>0),0,1) -> 1 | F35: =IF(OR(WEEKDAY(F34)=1,WEEKDAY(F34)=7,F34<=$A$1,COUNTIF(Base!$B$1:$B$30,F34)>0,COUNTIF(Base!$F$1:$F$72,F34)>0),0,1) -> 0 | G35: =IF(OR(WEEKDAY(G34)=1,WEEKDAY(G34)=7,G34<=$A$1,COUNTIF(Base!$B$1:$B$30,G34)>0,COUNTIF(Base!$F$1:$F$72,G34)>0),0,1) -> 1 | H35: =IF(OR(WEEKDAY(H34)=1,WEEKDAY(H34)=7,H34<=$A$1,COUNTIF(Base!$B$1:$B$30,H34)>0,COUNTIF(Base!$F$1:$F$72,H34)>0),0,1) -> 0 | I35: =IF(OR(WEEKDAY(I34)=1,WEEKDAY(I34)=7,I34<=$A$1,COUNTIF(Base!$B$1:$B$30,I34)>0,COUNTIF(Base!$F$1:$F$72,I34)>0),0,1) -> 0 | ... AF35: =IF(OR(WEEKDAY(AF34)=1,WEEKDAY(AF34)=7,AF34<=$A$1,COUNTIF(Base!$B$1:$B$30,AF34)>0,COUNTIF(Base!$F$1:$F$72,AF34)>0),0,1) -> 1 | AG35: =SUM(B35:AE35) -> 19
B36: Q1 | C36: Q2 | D36: Q2 | E36: Q2 | F36: Q2 | G36: Q2 | H36: Q2 | I36: Q2 | J36: Q1 | K36: Q1 | L36: Q1 | M36: Q1 | N36: Q1 | O36: Q1 | P36: Q1 | Q36: Q2 | R36: Q2 | S36: Q2 | T36: Q2 | U36: Q2 | V36: Q2 | W36: Q2 | X36: Q1 | Y36: Q1 | Z36: Q1 | AA36: Q1 | AB36: Q1 | AC36: Q1 | AD36: Q1 | AE36: Q2 | AF36: Q2 | AG36: =SUM(B37:AF37) -> 4 | AJ36: 0.64583333 | AK36: =IF($AP$3<$AJ$3,2,0) -> 0 | AL36: =IF($AP$3<=$AJ$3,2,0) -> 0 | AM36: =IF($AJ$1>=AJ33,1,0) -> 1 | AN36: =SUM(AK36:AM36) -> 1 | AP36: =IF($AP$1=EdT!$A$1,EdT!B23,IF($AP$1=EdT!$H$1,EdT!I23,0)) -> 0 | AQ36: =IF($AP$3<$AJ$3,2,0) -> 0 | AR36: =IF($AU$3<=$AJ$3,2,0) -> 0 | AS36: =IF($AJ$1>=AJ36,1,0) -> 0 | AT36: =SUM(AQ36:AS36) -> 0 | AU36: =IF($AP$1=EdT!$A$1,EdT!C23,IF($AP$1=EdT!$H$1,EdT!J23,0)) -> 0 | BA36: =IF($BE$3<$AJ$3,2,0) -> 0 | BB36: =IF($BE$3<=$AJ$3,2,0) -> 0 | BC36: =IF($AJ$1>=AJ36,1,0) -> 0 | BD36: =SUM(BA36:BC36) -> 0 | BE36: =IF($AP$1=EdT!$A$1,EdT!E25,IF($AP$1=EdT!$H$1,EdT!L25,0)) -> 0 | BF36: =IF($BJ$3<$AJ$3,2,0) -> 0 | BG36: =IF($BJ$3<=$AJ$3,2,0) -> 0 | BH36: =IF($AJ$1>=AJ36,1,0) -> 0 | BI36: =SUM(BF36:BH36) -> 0 | BJ36: =IF($AP$1=EdT!$A$1,EdT!F23,IF($AP$1=EdT!$H$1,EdT!M23,0)) -> 0
B37: =IF(AND(WEEKDAY(B34)=2,B35=1),1,0) -> 0 | C37: =IF(AND(WEEKDAY(C34)=2,C35=1),1,0) -> 1 | D37: =IF(AND(WEEKDAY(D34)=2,D35=1),1,0) -> 0 | E37: =IF(AND(WEEKDAY(E34)=2,E35=1),1,0) -> 0 | F37: =IF(AND(WEEKDAY(F34)=2,F35=1),1,0) -> 0 | G37: =IF(AND(WEEKDAY(G34)=2,G35=1),1,0) -> 0 | H37: =IF(AND(WEEKDAY(H34)=2,H35=1),1,0) -> 0 | I37: =IF(AND(WEEKDAY(I34)=2,I35=1),1,0) -> 0 | ... AF37: =IF(AND(WEEKDAY(AF34)=2,AF35=1),1,0) -> 0 | AP37: =IF($AP$1=EdT!$A$1,EdT!B24,IF($AP$1=EdT!$H$1,EdT!I24,0)) -> 0 | AU37: =IF($AP$1=EdT!$A$1,EdT!C24,IF($AP$1=EdT!$H$1,EdT!J24,0)) -> 0 | BJ37: =IF($AP$1=EdT!$A$1,EdT!F24,IF($AP$1=EdT!$H$1,EdT!M24,0)) -> 0
A38: 42522 | B38: =A38 -> 42522 | C38: =B38+1 -> 42523 | D38: =C38+1 -> 42524 | E38: =D38+1 -> 42525 | F38: =E38+1 -> 42526 | G38: =F38+1 -> 42527 | H38: =G38+1 -> 42528 | I38: =H38+1 -> 42529 | J38: =I38+1 -> 42530 | ... AE38: =AD38+1 -> 42551 | BJ38: =IF($AP$1=EdT!$A$1,EdT!F25,IF($AP$1=EdT!$H$1,EdT!M25,0)) -> 0
B39: =IF(OR(WEEKDAY(B38)=1,WEEKDAY(B38)=7,B38<=$A$1,COUNTIF(Base!$B$1:$B$30,B38)>0,COUNTIF(Base!$F$1:$F$72,B38)>0),0,1) -> 1 | C39: =IF(OR(WEEKDAY(C38)=1,WEEKDAY(C38)=7,C38<=$A$1,COUNTIF(Base!$B$1:$B$30,C38)>0,COUNTIF(Base!$F$1:$F$72,C38)>0),0,1) -> 1 | D39: =IF(OR(WEEKDAY(D38)=1,WEEKDAY(D38)=7,D38<=$A$1,COUNTIF(Base!$B$1:$B$30,D38)>0,COUNTIF(Base!$F$1:$F$72,D38)>0),0,1) -> 1 | E39: =IF(OR(WEEKDAY(E38)=1,WEEKDAY(E38)=7,E38<=$A$1,COUNTIF(Base!$B$1:$B$30,E38)>0,COUNTIF(Base!$F$1:$F$72,E38)>0),0,1) -> 0 | F39: =IF(OR(WEEKDAY(F38)=1,WEEKDAY(F38)=7,F38<=$A$1,COUNTIF(Base!$B$1:$B$30,F38)>0,COUNTIF(Base!$F$1:$F$72,F38)>0),0,1) -> 0 | G39: =IF(OR(WEEKDAY(G38)=1,WEEKDAY(G38)=7,G38<=$A$1,COUNTIF(Base!$B$1:$B$30,G38)>0,COUNTIF(Base!$F$1:$F$72,G38)>0),0,1) -> 1 | H39: =IF(OR(WEEKDAY(H38)=1,WEEKDAY(H38)=7,H38<=$A$1,COUNTIF(Base!$B$1:$B$30,H38)>0,COUNTIF(Base!$F$1:$F$72,H38)>0),0,1) -> 1 | I39: =IF(OR(WEEKDAY(I38)=1,WEEKDAY(I38)=7,I38<=$A$1,COUNTIF(Base!$B$1:$B$30,I38)>0,COUNTIF(Base!$F$1:$F$72,I38)>0),0,1) -> 1 | ... AE39: =IF(OR(WEEKDAY(AE38)=1,WEEKDAY(AE38)=7,AE38<=$A$1,COUNTIF(Base!$B$1:$B$30,AE38)>0,COUNTIF(Base!$F$1:$F$72,AE38)>0),0,1) -> 1 | AG39: =SUM(B39:AE39) -> 22 | AP39: =IF($AP$1=EdT!$A$1,EdT!B25,IF($AP$1=EdT!$H$1,EdT!I25,0)) -> 0
B40: Q2 | C40: Q2 | D40: Q2 | E40: Q2 | F40: Q2 | G40: Q1 | H40: Q1 | I40: Q1 | J40: Q1 | K40: Q1 | L40: Q1 | M40: Q1 | N40: Q2 | O40: Q2 | P40: Q2 | Q40: Q2 | R40: Q2 | S40: Q2 | T40: Q2 | U40: Q1 | V40: Q1 | W40: Q1 | X40: Q1 | Y40: Q1 | Z40: Q1 | AA40: Q1 | AB40: Q2 | AC40: Q2 | AD40: Q2 | AE40: Q2 | AG40: =SUM(B41:AF41) -> 4 | AJ40: 0.6875 | AK40: =IF($AP$3<$AJ$3,2,0) -> 0 | AL40: =IF($AP$3<=$AJ$3,2,0) -> 0 | AM40: =IF($AJ$1>=AJ40,1,0) -> 0 | AN40: =SUM(AK40:AM40) -> 0 | AP40: =IF($AP$1=EdT!$A$1,EdT!B26,IF($AP$1=EdT!$H$1,EdT!I26,0)) -> 0 | AQ40: =IF($AP$3<$AJ$3,2,0) -> 0 | AR40: =IF($AU$3<=$AJ$3,2,0) -> 0 | AS40: =IF($AJ$1>=AJ40,1,0) -> 0 | AT40: =SUM(AQ40:AS40) -> 0 | BA40: =IF($BE$3<$AJ$3,2,0) -> 0 | BB40: =IF($BE$3<=$AJ$3,2,0) -> 0 | BC40: =IF($AJ$1>=AJ40,1,0) -> 0 | BD40: =SUM(BA40:BC40) -> 0 | BF40: =IF($BJ$3<$AJ$3,2,0) -> 0 | BG40: =IF($BJ$3<=$AJ$3,2,0) -> 0 | BH40: =IF($AJ$1>=AJ40,1,0) -> 0 | BI40: =SUM(BF40:BH40) -> 0 | BJ40: =IF($AP$1=EdT!$A$1,EdT!F26,IF($AP$1=EdT!$H$1,EdT!M26,0)) -> 0
...

Sheet EdT
A1: Q1 | B1: Lundi | C1: Mardi | D1: Mercredi | E1: Jeudi | F1: Vendredi | H1: Q2 | I1: Lundi | J1: Mardi | K1: Mercredi | L1: Jeudi | M1: Vendredi
A2: 8h00 | C2: EPS | D2: His/Géo | H2: 8h00 | I2: Sci. Phys. | J2: EPS | K2: His/Géo | M2: EPS
C3: Mr Minard | D3: Mme Auguste | I3: Mr Camus | J3: Mr Minard | K3: Mme Auguste | M3: Mr Minard
D4: 104 | I4: 5 | K4: 104
A5: 9h00 | B5: Maths | D5: SVT | E5: Anglais | H5: 9h00 | I5: Maths | K5: SVT | L5: Anglais
B6: Mr Ennekhli | D6: Mme Soret | E6: Mme Pinot Perrez | I6: Mr Ennekhli | K6: Mme Soret | L6: Mme Pinot Perrez
B7: 107 | D7: 10 | E7: 109 | I7: 107 | K7: 10 | L7: 109
A8: 10h00 | B8: Anglais | C8: Anglais | D8: Français | E8: Maths | F8: Maths | H8: 10h00 | I8: Anglais | J8: Anglais | K8: Français | L8: Maths | M8: Maths
B9: Mme Pinot Perrez | C9: Mme Pinot Perrez | D9: Mme Fuseau | E9: Mr Ennekhli | F9: Mr Ennekhli | I9: Mme Pinot Perrez | J9: Mme Pinot Perrez | K9: Mme Fuseau | L9: Mr Ennekhli | M9: Mr Ennekhli
B10: 109 | C10: 109 | D10: 204 | E10: 107 | F10: 107 | I10: 109 | J10: 109 | K10: 204 | L10: 107 | M10: 107
A11: 11h00 | B11: SVT | C11: Maths | E11: Technologie | H11: 11h00 | I11: SVT | L11: Technologie
B12: Mme Soret | C12: Mr Ennekhli | E12: Mr Selosse | I12: Mme Soret | L12: Mr Selosse
B13: 10 | C13: 107 | E13: 26 | I13: 10 | L13: 26
A14: 12h00 | H14: 12h00
A17: 13h30 | B17: His/Géo | E17: A-PLA | F17: Français | H17: 13h30 | I17: His/Géo | L17: A-PLA | M17: Français
B18: Mme Auguste | E18: Mr Vasse | F18: Mme Fuseau | I18: Mme Auguste | L18: Mr Vasse | M18: Mme Fuseau
B19: 205 | E19: 9 | F19: 204 | I19: 205 | L19: 9 | M19: 204
A20: 14h30 | B20: Français | C20: Français | F20: Technologie | H20: 14h30 | I20: Français | J20: Français
B21: Mme Fuseau | C21: Mme Fuseau | F21: Mr Selosse | I21: Mme Fuseau | J21: Mme Fuseau
B22: 204 | C22: 204 | F22: 26 | I22: 204 | J22: 204
A23: 15h30 | F23: Sci. Phys. | H23: 15h30 | M23: Sci. Phys.
F24: Mr Camus | M24: Mr Camus
F25: 5 | M25: 5
A26: 16h30 | B26: Musique | F26: His/Géo | H26: 16h30 | I26: Musique | M26: His/Géo
B27: Mme Stelandre | F27: Mme Auguste | I27: Mme Stelandre | M27: Mme Auguste
B28: 101 | F28: 105 | I28: 101 | M28: 105
