Workbook

Sheet RECAP ANNUELLE
A1: DATE | B1: MOIS | C1: TOTAL | D1: AVRIL | E1: MAI | F1: JUIN | G1: JUILLET | H1: AOUT | I1: SEPTEMBRE | J1: OCTOBRE | K1: NOVEMBRE | L1: DECEMBRE
A2: ='17042013'!E10 -> 41381 | B2: ='17042013'!B44 -> AVRIL | C2: ='17042013'!D41 -> 9431.03 | D2: =IF($B2=$D$1,C2,"") -> 9431.03 | E2: =IF(B2=E$1,C2,"") | F2: =IF(B2=$F$1,$C2,"") | G2: =IF(C2=$G$1,$C2,"") | H2: =IF(D2=$H$1,$D2,"") | I2: =IF(E2=$I$1,$E2,"") | J2: =IF(F2=$J$1,$F2,"") | K2: =IF(G2=$F$1,$G2,"") | L2: =IF(H2=$F$1,$H2,"")
A3: ='23042013'!$E$10 -> 41387 | B3: ='23042013'!$B$44 -> AVRIL | C3: ='23042013'!$D$41 -> 7709.42 | D3: =IF($B3=$D$1,C3,"") -> 7709.42 | E3: =IF(B3=E$1,C3,"") | F3: =IF(B3=$F$1,C3,"") | G3: =IF(C3=$G$1,$C3,"") | H3: =IF(D3=$H$1,$D3,"") | I3: =IF(E3=$I$1,$E3,"") | J3: =IF(F3=$J$1,$F3,"") | K3: =IF(G3=$F$1,$G3,"") | L3: =IF(H3=$F$1,$H3,"")
A4: ='30042013'!$E$10 -> 41394 | B4: ='30042013'!$B$44 -> AVRIL | C4: ='30042013'!$D$41 -> 5683.39 | D4: =IF($B4=$D$1,C4,"") -> 5683.39 | E4: =IF(B4=E$1,C4,"") | F4: =IF(B4=$F$1,C4,"") | G4: =IF(C4=$G$1,$C4,"") | H4: =IF(D4=$H$1,$D4,"") | I4: =IF(E4=$I$1,$E4,"") | J4: =IF(F4=$J$1,$F4,"") | K4: =IF(G4=$F$1,$G4,"") | L4: =IF(H4=$F$1,$H4,"")
A5: ='03052013'!$E$10 -> 41397 | B5: ='03052013'!$B$44 -> MAI | C5: ='03052013'!$D$41 -> 7241.17 | D5: =IF($B5=$D$1,C5,"") | E5: =IF(B5=E$1,C5,"") -> 7241.17 | F5: =IF(B5=$F$1,C5,"") | G5: =IF(C5=$G$1,$C5,"") | H5: =IF(D5=$H$1,$D5,"") | I5: =IF(E5=$I$1,$E5,"") | J5: =IF(F5=$J$1,$F5,"") | K5: =IF(G5=$F$1,$G5,"") | L5: =IF(H5=$F$1,$H5,"")
A6: ='14052013'!$E$10 -> 41408 | B6: ='14052013'!$B$44 -> MAI | C6: ='14052013'!$D$41 -> 10298.36 | D6: =IF($B6=$D$1,C6,"") | E6: =IF(B6=E$1,C6,"") -> 10298.36 | F6: =IF(B6=$F$1,C6,"") | G6: =IF(C6=$G$1,$C6,"") | H6: =IF(D6=$H$1,$D6,"") | I6: =IF(E6=$I$1,$E6,"") | J6: =IF(F6=$J$1,$F6,"") | K6: =IF(G6=$F$1,$G6,"") | L6: =IF(H6=$F$1,$H6,"")
A7: ='16052013'!$E$10 -> 41410 | B7: ='16052013'!$B$44 -> MAI | C7: ='16052013'!$D$41 -> 20010.27 | D7: =IF($B7=$D$1,C7,"") | E7: =IF(B7=E$1,C7,"") -> 20010.27 | F7: =IF(B7=$F$1,C7,"") | G7: =IF(C7=$G$1,$C7,"") | H7: =IF(D7=$H$1,$D7,"") | I7: =IF(E7=$I$1,$E7,"") | J7: =IF(F7=$J$1,$F7,"") | K7: =IF(G7=$F$1,$G7,"") | L7: =IF(H7=$F$1,$H7,"")
A8: ='22052013'!$E$10 -> 41416 | B8: ='22052013'!$B$44 -> MAI | C8: ='22052013'!$D$41 -> 22196.96 | D8: =IF($B8=$D$1,C8,"") | E8: =IF(B8=E$1,C8,"") -> 22196.96 | F8: =IF(B8=$F$1,C8,"") | G8: =IF(C8=$G$1,$C8,"") | H8: =IF(D8=$H$1,$D8,"") | I8: =IF(E8=$I$1,$E8,"") | J8: =IF(F8=$J$1,$F8,"") | K8: =IF(G8=$F$1,$G8,"") | L8: =IF(H8=$F$1,$H8,"")
A9: ='28052013'!$E$10 -> 41422 | B9: ='28052013'!$B$44 -> MAI | C9: ='28052013'!$D$41 -> 11888.24 | D9: =IF($B9=$D$1,C9,"") | E9: =IF(B9=E$1,C9,"") -> 11888.24 | F9: =IF(B9=$F$1,C9,"") | G9: =IF(C9=$G$1,$C9,"") | H9: =IF(D9=$H$1,$D9,"") | I9: =IF(E9=$I$1,$E9,"") | J9: =IF(F9=$J$1,$F9,"") | K9: =IF(G9=$F$1,$G9,"") | L9: =IF(H9=$F$1,$H9,"")
A10: =#REF! -> #REF! | B10: =#REF! -> #REF! | C10: =#REF! -> #REF! | D10: =IF($B10=$D$1,C10,"") -> #REF! | E10: =IF(B10=E$1,C10,"") -> #REF! | F10: =IF(B10=$F$1,C10,"") -> #REF! | G10: =IF(C10=$G$1,$C10,"") -> #REF! | H10: =IF(D10=$H$1,$D10,"") -> #REF! | I10: =IF(E10=$I$1,$E10,"") -> #REF! | J10: =IF(F10=$J$1,$F10,"") -> #REF! | K10: =IF(G10=$F$1,$G10,"") -> #REF! | L10: =IF(H10=$F$1,$H10,"") -> #REF!
F11: =IF(B11=$F$1,C11,"") | H11: =IF(D11=$H$1,$D11,"") | I11: =IF(E11=$I$1,$E11,"") | J11: =IF(F11=$J$1,$F11,"") | K11: =IF(G11=$F$1,$G11,"") | L11: =IF(H11=$F$1,$H11,"")
H12: =IF(D12=$H$1,$D12,"") | I12: =IF(E12=$I$1,$E12,"") | J12: =IF(F12=$J$1,$F12,"") | K12: =IF(G12=$F$1,$G12,"") | L12: =IF(H12=$F$1,$H12,"")
H13: =IF(D13=$H$1,$D13,"") | I13: =IF(E13=$I$1,$E13,"") | J13: =IF(F13=$J$1,$F13,"") | K13: =IF(G13=$F$1,$G13,"") | L13: =IF(H13=$F$1,$H13,"")
H14: =IF(D14=$H$1,$D14,"") | I14: =IF(E14=$I$1,$E14,"") | J14: =IF(F14=$J$1,$F14,"") | K14: =IF(G14=$F$1,$G14,"") | L14: =IF(H14=$F$1,$H14,"")
H15: =IF(D15=$H$1,$D15,"") | I15: =IF(E15=$I$1,$E15,"") | J15: =IF(F15=$J$1,$F15,"") | K15: =IF(G15=$F$1,$G15,"") | L15: =IF(H15=$F$1,$H15,"")
H16: =IF(D16=$H$1,$D16,"") | I16: =IF(E16=$I$1,$E16,"") | J16: =IF(F16=$J$1,$F16,"") | K16: =IF(G16=$F$1,$G16,"") | L16: =IF(H16=$F$1,$H16,"")
H17: =IF(D17=$H$1,$D17,"") | I17: =IF(E17=$I$1,$E17,"") | J17: =IF(F17=$J$1,$F17,"") | K17: =IF(G17=$F$1,$G17,"") | L17: =IF(H17=$F$1,$H17,"")
H18: =IF(D18=$H$1,$D18,"") | I18: =IF(E18=$I$1,$E18,"") | J18: =IF(F18=$J$1,$F18,"") | K18: =IF(G18=$F$1,$G18,"") | L18: =IF(H18=$F$1,$H18,"")
H19: =IF(D19=$H$1,$D19,"") | I19: =IF(E19=$I$1,$E19,"") | J19: =IF(F19=$J$1,$F19,"") | K19: =IF(G19=$F$1,$G19,"") | L19: =IF(H19=$F$1,$H19,"")
H20: =IF(D20=$H$1,$D20,"") | I20: =IF(E20=$I$1,$E20,"") | J20: =IF(F20=$J$1,$F20,"") | K20: =IF(G20=$F$1,$G20,"") | L20: =IF(H20=$F$1,$H20,"")
I21: =IF(E21=$I$1,$E21,"")
I22: =IF(E22=$I$1,$E22,"")
I23: =IF(E23=$I$1,$E23,"")
I24: =IF(E24=$I$1,$E24,"")
I25: =IF(E25=$I$1,$E25,"")
I26: =IF(E26=$I$1,$E26,"")
I27: =IF(E27=$I$1,$E27,"")

Sheet 17042013
A8: REMISE DE CHEQUES B.N.P.
A10: BORDEREAU N° | B10: 1 | D10: DATE DE REMISE | E10: 41381
A12: COMPTE N° | D12: GUICHET
A16: CODE | B16: N° PIECE | C16: CLIENT | D16: MONTANT | E16: BANQUE
B18: 1063998 | D18: 1285.7
B19: 8307511 | D19: 1016.6
B20: 6735242 | D20: 669.73
B21: 2854231 | D21: 161.46
B22: 1476250 | D22: 1052.48
B23: 0000415 | D23: 358.8
B24: 1973197 | D24: 1570.35
B25: 0000803 | D25: 352.82
B26: 0012525 | D26: 895.8
B27: 2421721 | D27: 622.52
B28: 0306674 | D28: 356.41
B29: 2622043 | D29: 1088.36
A41: NBRE DE CHQS | B41: 12 | C41: TOTAL | D41: =SUM(D18:D40) -> 9431.03
A44: MOIS DE REMISE | B44: AVRIL | C44: =+D41 -> 9431.03

Sheet 23042013
A8: REMISE DE CHEQUES B.N.P.
A10: BORDEREAU N° | B10: 2 | D10: DATE DE REMISE | E10: 41387
A12: COMPTE N° | D12: GUICHET
A16: CODE | B16: N° PIECE | C16: CLIENT | D16: MONTANT | E16: BANQUE
E17: NUMERO | F17: CHEQUE
A19: 41100450 | B19: SF30326 | D19: 394.68
A20: 41120210 | B20: SF30334 | D20: 4006.6
A21: 41132500 | D21: 389.9
A22: 41163210 | D22: 203.32
A23: 41179722 | D23: 741.52
A24: 41179780 | D24: 1973.4
A41: NBRE DE CHQS | B41: 6 | C41: TOTAL | D41: =SUM(D19:D40) -> 7709.42
A44: MOIS DE REMISE | B44: AVRIL | C44: =+D41 -> 7709.42

Sheet 30042013
A8: REMISE DE CHEQUES B.N.P.
A10: BORDEREAU N° | B10: 3 | D10: DATE DE REMISE | E10: 41394
A12: COMPTE N° | D12: GUICHET
A16: CODE | B16: N° PIECE | C16: CLIENT | D16: MONTANT | E16: BANQUE
E17: NUMERO | F17: CHEQUE
A19: 41113870 | D19: 1794
A20: 41127500 | D20: 861.12
A21: 41130350 | D21: 837.2
A22: 41142380 | B22: SF30341 | D22: 1184.04
A23: 41159200 | D23: 1007.03
A41: NBRE DE CHQS | B41: 5 | C41: TOTAL | D41: =SUM(D19:D40) -> 5683.39
A44: MOIS DE REMISE | B44: AVRIL | C44: =+D41 -> 5683.39

Sheet 03052013
A8: REMISE DE CHEQUES B.N.P.
A10: BORDEREAU N° | B10: 4 | D10: DATE DE REMISE | E10: 41397
A12: COMPTE N° | D12: GUICHET
A16: CODE | B16: N° PIECE | C16: CLIENT | D16: MONTANT | E16: BANQUE
E17: NUMERO | F17: CHEQUE
A19: 41108850 | D19: 534
A20: 41110266 | B20: SF30330 | D20: 944.84
A21: 41147400 | D21: 2458.98
A22: 41168150 | D22: 1016.6
A23: 41168250 | D23: 1569.15
A24: 41179800 | B24: SF30371 | D24: 717.6
A41: NBRE DE CHQS | B41: 6 | C41: TOTAL | D41: =SUM(D19:D40) -> 7241.17
A44: MOIS DE REMISE | B44: MAI | C44: =+D41 -> 7241.17

Sheet 14052013
A8: REMISE DE CHEQUES B.N.P.
A10: BORDEREAU N° | B10: 5 | D10: DATE DE REMISE | E10: 41408
A12: COMPTE N° | D12: GUICHET
A16: CODE | B16: N° PIECE | C16: CLIENT | D16: MONTANT | E16: BANQUE
E17: NUMERO | F17: CHEQUE
A19: 41107405 | D19: 2116.92
A20: 41107410 | D20: 5878.34
A21: 41113320 | D21: 600
A22: 41130156 | D22: 327.7
A23: 41186000 | D23: 1375.4
A41: NBRE DE CHQS | B41: 5 | C41: TOTAL | D41: =SUM(D19:D40) -> 10298.36
A44: MOIS DE REMISE | B44: MAI | C44: =+D41 -> 10298.36

Sheet 16052013
A8: REMISE DE CHEQUES B.N.P.
A10: BORDEREAU N° | B10: 6 | D10: DATE DE REMISE | E10: 41410
A12: COMPTE N° | D12: GUICHET
A16: CODE | B16: N° PIECE | C16: CLIENT | D16: MONTANT | E16: BANQUE
E17: NUMERO | F17: CHEQUE
A19: 41103100 | D19: 1196
A20: 41103555 | D20: 1082.38
A21: 41109135 | D21: 1499.78
A22: 41119032 | B22: 30271-30332 | D22: 1798.64
A23: 41119033 | D23: 358.8
A24: 41126480 | D24: 2511.6
A25: 41135360 | D25: 1973.4
A26: 41136600 | B26: 30340 | D26: 1518.92
A27: 41147160 | D27: 661.53
A28: 41185866 | D28: 7409.22
A41: NBRE DE CHQS | B41: 10 | C41: TOTAL | D41: =SUM(D19:D40) -> 20010.27
A44: MOIS DE REMISE | B44: MAI | C44: =+D41 -> 20010.27

Sheet 22052013
A8: REMISE DE CHEQUES B.N.P.
A10: BORDEREAU N° | B10: 7 | D10: DATE DE REMISE | E10: 41416
A12: COMPTE N° | D12: GUICHET
A16: CODE | B16: N° PIECE | C16: CLIENT | D16: MONTANT | E16: BANQUE
E17: NUMERO | F17: CHEQUE
A19: 41105416 | D19: 1794
A20: 41105418 | D20: 12916.8
A21: 41113320 | D21: 596
A22: 41130350 | D22: 837.2
A23: 41132500 | D23: 389.9
A24: 41149395 | D24: 849.16
A25: 41163600 | D25: 1674.4
A26: 41175100 | D26: 1913.6
A27: 41178870 | D27: 1225.9
A41: NBRE DE CHQS | B41: 9 | C41: TOTAL | D41: =SUM(D19:D40) -> 22196.96
A44: MOIS DE REMISE | B44: MAI | C44: =+D41 -> 22196.96

Sheet 28052013
A8: REMISE DE CHEQUES B.N.P.
A10: BORDEREAU N° | B10: 8 | D10: DATE DE REMISE | E10: 41422
A12: COMPTE N° | D12: GUICHET
A16: CODE | B16: N° PIECE | C16: CLIENT | D16: MONTANT | E16: BANQUE
E17: NUMERO | F17: CHEQUE
A19: 41100010 | D19: 598
A20: 41105415 | D20: 908.96
A21: 41118020 | B21: SF30423 | D21: 6578
A22: 41135360 | D22: 1590.68
A23: 41179750 | D23: 358.8
A24: 41192485 | D24: 956.8
A25: 41197250 | D25: 897
A41: NBRE DE CHQS | B41: 7 | C41: TOTAL | D41: =SUM(D19:D40) -> 11888.24
A44: MOIS DE REMISE | B44: MAI | C44: =+D41 -> 11888.24
