Workbook

Sheet Table_Tâches
A5: N° | B5: Niveau hiérarchique | C5: Nom | D5: Travail | E5: Début | F5: Fin | G5: % achevé | H5: Reste à faire | I5: Fin calculée | J5: Nom ressources | K5: % d'utilisation Ress
A7: 0
A9: =A7+1 -> 1 | B9: 1 | C9: PROJET 1 | D9: =SUM(D11:D16) -> 29 | E9: =MIN(E11:E16) -> 41463 | F9: =MAX(F11:F16) -> 41481 | G9: =SUMPRODUCT(D11:D16,G11:G16)/SUM(D11:D16) -> 0.51034483 | H9: =SUM(H11:H16) -> 14.2 | I9: =MAX(I11:I16) -> 41480
A11: =A9+1 -> 2 | B11: 2 | C11: 1 | D11: 5 | E11: 41463 | F11: 41467 | G11: 0.8 | H11: =IF($D11="","",($D11-($G11*$D11))) -> 1 | I11: =IF($E11>TODAY(),WORKDAY($E11-1,$H11,[1]Jour_Fériés!$B$4:$B$15),WORKDAY(TODAY()-1,$H11,[1]Jour_Fériés!$B$4:$B$15)) -> 41472 | J11: ACO | K11: 100
A13: =A11+1 -> 3 | B13: 2 | C13: 2 | D13: 15 | E13: 41463 | F13: 41481 | G13: 0.6 | H13: =IF($D13="","",($D13-($G13*$D13))) -> 6 | I13: =IF($E13>TODAY(),WORKDAY($E13-1,$H13,[1]Jour_Fériés!$B$4:$B$15),WORKDAY(TODAY()-1,$H13,[1]Jour_Fériés!$B$4:$B$15)) -> 41479 | J13: JPA | K13: 100
A15: =A13+1 -> 4 | B15: 2 | C15: 3 | D15: 9 | E15: 41470 | F15: 41480 | G15: 0.2 | H15: =IF($D15="","",($D15-($G15*$D15))) -> 7.2 | I15: =IF($E15>TODAY(),WORKDAY($E15-1,$H15,[1]Jour_Fériés!$B$4:$B$15),WORKDAY(TODAY()-1,$H15,[1]Jour_Fériés!$B$4:$B$15)) -> 41480 | J15: ACO;JPA;YLE | K15: 100;100;75
A17: =A15+1 -> 5 | B17: 1 | C17: PROJET 2 | D17: =SUM(D19:D20) -> 5 | E17: =MIN(E19:E20) -> 41463 | F17: =MAX(F19:F20) -> 41467 | G17: =SUMPRODUCT(D19:D20,G19:G20)/SUM(D19:D20) -> 1 | H17: =SUM(H19:H20) -> 0 | I17: =MAX(I19:I20) -> 41471
A19: =A17+1 -> 6 | B19: 2 | C19: 2 | D19: 5 | E19: 41463 | F19: 41467 | G19: 1 | H19: =IF($D19="","",($D19-($G19*$D19))) -> 0 | I19: =IF($E19>TODAY(),WORKDAY($E19-1,$H19,[1]Jour_Fériés!$B$4:$B$15),WORKDAY(TODAY()-1,$H19,[1]Jour_Fériés!$B$4:$B$15)) -> 41471 | J19: JPA;YLE | K19: 100;75
A21: =A19+1 -> 7 | B21: 1 | C21: PROJET 3 | D21: =SUM(D23:D26) -> 15 | E21: =MIN(E23:E26) -> 41470 | F21: =MAX(F23:F26) -> 41481 | G21: =SUMPRODUCT(D23:D26,G23:G26)/SUM(D23:D26) -> 0 | H21: =SUM(H23:H26) -> 15 | I21: =MAX(I23:I26) -> 41485
A23: =A21+1 -> 8 | B23: 2 | C23: 2 | D23: 10 | E23: 41470 | F23: 41481 | G23: 0 | H23: =IF($D23="","",($D23-($G23*$D23))) -> 10 | I23: =IF($E23>TODAY(),WORKDAY($E23-1,$H23,[1]Jour_Fériés!$B$4:$B$15),WORKDAY(TODAY()-1,$H23,[1]Jour_Fériés!$B$4:$B$15)) -> 41485 | J23: GAE | K23: 100
A25: =A23+1 -> 9 | B25: 2 | C25: 3 | D25: 5 | E25: 41477 | F25: 41481 | G25: 0 | H25: =IF($D25="","",($D25-($G25*$D25))) -> 5 | I25: =IF($E25>TODAY(),WORKDAY($E25-1,$H25,[1]Jour_Fériés!$B$4:$B$15),WORKDAY(TODAY()-1,$H25,[1]Jour_Fériés!$B$4:$B$15)) -> 41481 | J25: CFA | K25: 75
A27: =A25+1 -> 10 | B27: 1 | C27: PROJET 4 | D27: =SUM(D29:D31) -> 13 | E27: =MIN(E29:E31) -> 41463 | F27: =MAX(F29:F31) -> 41479 | G27: =SUMPRODUCT(D29:D31,G29:G31)/SUM(D29:D31) -> 0 | H27: =SUM(H29:H31) -> 13 | I27: =MAX(I29:I31) -> 41481
A29: =A27+1 -> 11 | B29: 2 | C29: 3 | D29: 5 | E29: 41463 | F29: 41467 | G29: 0 | H29: =IF($D29="","",($D29-($G29*$D29))) -> 5 | I29: =IF($E29>TODAY(),WORKDAY($E29-1,$H29,[1]Jour_Fériés!$B$4:$B$15),WORKDAY(TODAY()-1,$H29,[1]Jour_Fériés!$B$4:$B$15)) -> 41478 | J29: JCM;JPF | K29: 100;50
A31: =A29+1 -> 12 | B31: 2 | C31: 4 | D31: 8 | E31: 41470 | F31: 41479 | G31: 0 | H31: =IF($D31="","",($D31-($G31*$D31))) -> 8 | I31: =IF($E31>TODAY(),WORKDAY($E31-1,$H31,[1]Jour_Fériés!$B$4:$B$15),WORKDAY(TODAY()-1,$H31,[1]Jour_Fériés!$B$4:$B$15)) -> 41481 | J31: ABA;ALA;DCH | K31: 100;90;90

Sheet Table_Ressources
A1: N° | B1: Type | C1: Initiales | D1: Groupe | E1: Capacité max
A2: =IF($B2="","",ROW()-1) -> 1 | B2: Travail | C2: ABA | D2: Développeur | E2: =IF($C2="JPF",50,IF($D2="Développeur",100,IF($D2="Chef de projet",75,IF($D2="Expert",90,IF($D2="Qualité",100,IF($D2="Banc",100)))))) -> 100
A3: =IF($B3="","",ROW()-1) -> 2 | B3: Travail | C3: ACO | D3: Développeur | E3: =IF($C3="JPF",50,IF($D3="Développeur",100,IF($D3="Chef de projet",75,IF($D3="Expert",90,IF($D3="Qualité",100,IF($D3="Banc",100)))))) -> 100
A4: =IF($B4="","",ROW()-1) -> 3 | B4: Travail | C4: ALA | D4: Expert | E4: =IF($C4="JPF",50,IF($D4="Développeur",100,IF($D4="Chef de projet",75,IF($D4="Expert",90,IF($D4="Qualité",100,IF($D4="Banc",100)))))) -> 90
A5: =IF($B5="","",ROW()-1) -> 4 | B5: Travail | C5: ASC | D5: Développeur | E5: =IF($C5="JPF",50,IF($D5="Développeur",100,IF($D5="Chef de projet",75,IF($D5="Expert",90,IF($D5="Qualité",100,IF($D5="Banc",100)))))) -> 100
A6: =IF($B6="","",ROW()-1) -> 5 | B6: Matériel | C6: BFFMGEC | D6: Banc | E6: =IF($C6="JPF",50,IF($D6="Développeur",100,IF($D6="Chef de projet",75,IF($D6="Expert",90,IF($D6="Qualité",100,IF($D6="Banc",100)))))) -> 100
A7: =IF($B7="","",ROW()-1) -> 6 | B7: Matériel | C7: BFMGC/FAC | D7: Banc | E7: =IF($C7="JPF",50,IF($D7="Développeur",100,IF($D7="Chef de projet",75,IF($D7="Expert",90,IF($D7="Qualité",100,IF($D7="Banc",100)))))) -> 100
A8: =IF($B8="","",ROW()-1) -> 7 | B8: Matériel | C8: BOFAC | D8: Banc | E8: =IF($C8="JPF",50,IF($D8="Développeur",100,IF($D8="Chef de projet",75,IF($D8="Expert",90,IF($D8="Qualité",100,IF($D8="Banc",100)))))) -> 100
A9: =IF($B9="","",ROW()-1) -> 8 | B9: Matériel | C9: BOFMGEC | D9: Banc | E9: =IF($C9="JPF",50,IF($D9="Développeur",100,IF($D9="Chef de projet",75,IF($D9="Expert",90,IF($D9="Qualité",100,IF($D9="Banc",100)))))) -> 100
A10: =IF($B10="","",ROW()-1) -> 9 | B10: Travail | C10: BVI | D10: Développeur | E10: =IF($C10="JPF",50,IF($D10="Développeur",100,IF($D10="Chef de projet",75,IF($D10="Expert",90,IF($D10="Qualité",100,IF($D10="Banc",100)))))) -> 100
A11: =IF($B11="","",ROW()-1) -> 10 | B11: Travail | C11: CFA | D11: Chef de projet | E11: =IF($C11="JPF",50,IF($D11="Développeur",100,IF($D11="Chef de projet",75,IF($D11="Expert",90,IF($D11="Qualité",100,IF($D11="Banc",100)))))) -> 75
A12: =IF($B12="","",ROW()-1) -> 11 | B12: Travail | C12: CMA | D12: Qualité | E12: =IF($C12="JPF",50,IF($D12="Développeur",100,IF($D12="Chef de projet",75,IF($D12="Expert",90,IF($D12="Qualité",100,IF($D12="Banc",100)))))) -> 100
A13: =IF($B13="","",ROW()-1) -> 12 | B13: Travail | C13: DCH | D13: Expert | E13: =IF($C13="JPF",50,IF($D13="Développeur",100,IF($D13="Chef de projet",75,IF($D13="Expert",90,IF($D13="Qualité",100,IF($D13="Banc",100)))))) -> 90
... A32: =IF($B32="","",ROW()-1) -> 31 | B32: Travail | C32: YLE | D32: Chef de projet | E32: =IF($C32="JPF",50,IF($D32="Développeur",100,IF($D32="Chef de projet",75,IF($D32="Expert",90,IF($D32="Qualité",100,IF($D32="Banc",100)))))) -> 75
