Workbook

Sheet BASE
A1: N° | B1: DATE | C1: CLIENT | D1: PRESTATION | E1: OBJET | F1: N° DEVIS | G1: N° AVOIR | H1: N° FACTURE | I1: DATE FACTURE | J1: MONTANT FACTURE | K1: ENVOI FACTURE | L1: ECHEANCE | M1: DATE PAIEMENT | N1: MODE PAIEMENT | O1: DEBIT | P1: CREDIT
A2: 1 | B2: 41354 | C2: XXX | D2: BASE DE DONNEES | H2: 2013FA001 | I2: 41354 | J2: 226.89 | K2: 41355 | L2: 41364 | M2: 41376 | N2: VIREMENT | P2: 226.89
A3: 2 | B3: 41361 | E3: APPORT PERSONNEL | P3: 80
A4: 3 | B4: 41361 | E4: LA POSTE MAILING CHQ N° | O4: 46.4
A5: 4 | B5: 41365 | C5: YYY | D5: SECRETARIAT MARS 2013 | E5: YYY 2013FA002 CHQ N° | H5: 2013FA002 | I5: 41365 | J5: 295.35 | K5: 41365 | L5: 41394 | M5: 41396 | N5: CHEQUE | P5: 295.35
A6: 5 | B6: 41365 | C6: XXX | D6: BASE DE DONNEES | E6: XXX 2013FA003 VRT | H6: 2013FA003 | I6: 41365 | J6: 866.12 | K6: 41366 | L6: 41394 | M6: 41388 | N6: VIREMENT | P6: 866.12
A7: 6 | C7: ZZZ | E7: REMPLACEMENT CONGES | F7: 2013DE001
A8: 7 | B8: 41417 | C8: XXX | D8: BASE DE DONNEES | H8: 2013FA004 | I8: 41396 | J8: 878.83 | K8: 41396 | L8: 41425 | M8: 41417 | N8: VIREMENT | P8: 878.83
A9: 8 | B9: 41401 | C9: YYY | D9: SECRETARIAT AVRIL 2013 | E9: YYY 2013FA005 CHQ N° | H9: 2013FA005 | I9: 41396 | J9: 364.65 | K9: 41396 | L9: 41425 | M9: 41397 | N9: CHEQUE | P9: 364.65
A10: 9 | C10: XXX | E10: BASE DE DONNEES FICHIER Allemagne | F10: 2013DE002
A11: 10 | B11: 41401 | E11: REMUNERATION AVRIL 2013 | O11: 650
A12: 11 | B12: 41418 | E12: LA POSTE MAILING+TIMBRES CHQ N° | O12: 131.84
A13: 12 | B13: 41279
A14: 13 | B14: 41313

Sheet COMPTE CLIENT
A1: XXX | K1: YYY | U1: ZZZ
B2: DATE | C2: PRESTATION | D2: DEVIS | E2: FACTURE | F2: AVOIR | G2: MONTANT | H2: ECHEANCE | I2: PAYE LE | J2: RESTE DU | L2: DATE | M2: PRESTATION | N2: DEVIS | O2: FACTURE | P2: AVOIR | Q2: MONTANT | R2: ECHEANCE | S2: PAYE LE | T2: RESTE DU | V2: DATE | W2: PRESTATION | X2: DEVIS | Y2: FACTURE | Z2: AVOIR | AA2: MONTANT | AB2: ECHEANCE | AC2: PAYE LE | AD2: RESTE DU
A3: {=INDEX([1]Base!$A$2:$A$65536,SMALL(IF(([1]Base!$C$2:$C$65536="XXX")*1=1,ROW([1]Base!$A$2:$A$65536)-MIN(ROW([1]Base!$A$2:$A$65536))+1),ROWS([1]Base!$A$2:$A2)))} -> 1 | B3: =IF(ISERROR($A3),"",IF(ISBLANK(VLOOKUP('[1]cpte client'!$A3,[1]Base!$A$2:$P$65536,2,FALSE)),"",VLOOKUP('[1]cpte client'!$A3,[1]Base!$A$2:$P$65536,2,FALSE))) -> 41354 | C3: =IF(ISERROR($A3),"",IF(ISBLANK(VLOOKUP('[1]cpte client'!$A3,[1]Base!$A$2:$P$65536,4,FALSE)),"",VLOOKUP('[1]cpte client'!$A3,[1]Base!$A$2:$P$65536,4,FALSE))) -> BASE DE DONNEES | D3: =IF(ISERROR($A3),"",IF(ISBLANK(VLOOKUP('[1]cpte client'!$A3,[1]Base!$A$2:$P$65536,6,FALSE)),"",VLOOKUP('[1]cpte client'!$A3,[1]Base!$A$2:$P$65536,6,FALSE))) | E3: =IF(ISERROR($A3),"",IF(ISBLANK(VLOOKUP('[1]cpte client'!$A3,[1]Base!$A$2:$P$65536,8,FALSE)),"",VLOOKUP('[1]cpte client'!$A3,[1]Base!$A$2:$P$65536,8,FALSE))) -> 2013FA001 | F3: =IF(ISERROR($A3),"",IF(ISBLANK(VLOOKUP('[1]cpte client'!$A3,[1]Base!$A$2:$P$65536,7,FALSE)),"",VLOOKUP('[1]cpte client'!$A3,[1]Base!$A$2:$P$65536,7,FALSE))) | G3: =IF(ISERROR($A3),"",IF(ISBLANK(VLOOKUP('[1]cpte client'!$A3,[1]Base!$A$2:$P$65536,10,FALSE)),"",VLOOKUP('[1]cpte client'!$A3,[1]Base!$A$2:$P$65536,10,FALSE))) -> 226.89 | H3: =IF(ISERROR($A3),"",IF(ISBLANK(VLOOKUP('[1]cpte client'!$A3,[1]Base!$A$2:$P$65536,12,FALSE)),"",VLOOKUP('[1]cpte client'!$A3,[1]Base!$A$2:$P$65536,12,FALSE))) -> 41364 | I3: =IF(ISERROR($A3),"",IF(ISBLANK(VLOOKUP('[1]cpte client'!$A3,[1]Base!$A$2:$P$65536,13,FALSE)),"",VLOOKUP('[1]cpte client'!$A3,[1]Base!$A$2:$P$65536,13,FALSE))) -> 41376 | J3: =IF(I3>0,0,G3) -> 0 | K3: {=INDEX([1]Base!$A$2:$A$65536,SMALL(IF(([1]Base!$C$2:$C$65536="YYY")*1=1,ROW([1]Base!$A$2:$A$65536)-MIN(ROW([1]Base!$A$2:$A$65536))+1),ROWS([1]Base!$A$2:$A2)))} -> 4 | L3: =IF(ISERROR($K3),"",IF(ISBLANK(VLOOKUP('[1]cpte client'!$K3,[1]Base!$A$2:$P$65536,2,FALSE)),"",VLOOKUP('[1]cpte client'!$K3,[1]Base!$A$2:$P$65536,2,FALSE))) -> 41365 | M3: =IF(ISERROR($K3),"",IF(ISBLANK(VLOOKUP('[1]cpte client'!$K3,[1]Base!$A$2:$P$65536,4,FALSE)),"",VLOOKUP('[1]cpte client'!$K3,[1]Base!$A$2:$P$65536,4,FALSE))) -> SECRETARIAT MARS 2013 | N3: =IF(ISERROR($K3),"",IF(ISBLANK(VLOOKUP('[1]cpte client'!$K3,[1]Base!$A$2:$P$65536,6,FALSE)),"",VLOOKUP('[1]cpte client'!$K3,[1]Base!$A$2:$P$65536,6,FALSE))) | O3: =IF(ISERROR($K3),"",IF(ISBLANK(VLOOKUP('[1]cpte client'!$K3,[1]Base!$A$2:$P$65536,8,FALSE)),"",VLOOKUP('[1]cpte client'!$K3,[1]Base!$A$2:$P$65536,8,FALSE))) -> 2013FA002 | P3: =IF(ISERROR($K3),"",IF(ISBLANK(VLOOKUP('[1]cpte client'!$K3,[1]Base!$A$2:$P$65536,7,FALSE)),"",VLOOKUP('[1]cpte client'!$K3,[1]Base!$A$2:$P$65536,7,FALSE))) | Q3: =IF(ISERROR($K3),"",IF(ISBLANK(VLOOKUP('[1]cpte client'!$K3,[1]Base!$A$2:$P$65536,10,FALSE)),"",VLOOKUP('[1]cpte client'!$K3,[1]Base!$A$2:$P$65536,10,FALSE))) -> 295.35 | R3: =IF(ISERROR($K3),"",IF(ISBLANK(VLOOKUP('[1]cpte client'!$K3,[1]Base!$A$2:$P$65536,12,FALSE)),"",VLOOKUP('[1]cpte client'!$K3,[1]Base!$A$2:$P$65536,12,FALSE))) -> 41394 | S3: =IF(ISERROR($K3),"",IF(ISBLANK(VLOOKUP('[1]cpte client'!$K3,[1]Base!$A$2:$P$65536,13,FALSE)),"",VLOOKUP('[1]cpte client'!$K3,[1]Base!$A$2:$P$65536,13,FALSE))) -> 41396 | T3: =IF(S3>0,0,Q3) -> 0 | U3: {=INDEX([1]Base!$A$2:$A$65536,SMALL(IF(([1]Base!$C$2:$C$65536="ZZZ")*1=1,ROW([1]Base!$A$2:$A$65536)-MIN(ROW([1]Base!$A$2:$A$65536))+1),ROWS([1]Base!$A$2:$A2)))} -> 6 | V3: =IF(ISERROR($U3),"",IF(ISBLANK(VLOOKUP('[1]cpte client'!$U3,[1]Base!$A$2:$P$65536,2,FALSE)),"",VLOOKUP('[1]cpte client'!$U3,[1]Base!$A$2:$P$65536,2,FALSE))) | W3: =IF(ISERROR($U3),"",IF(ISBLANK(VLOOKUP('[1]cpte client'!$U3,[1]Base!$A$2:$P$65536,4,FALSE)),"",VLOOKUP('[1]cpte client'!$U3,[1]Base!$A$2:$P$65536,4,FALSE))) | X3: =IF(ISERROR($U3),"",IF(ISBLANK(VLOOKUP('[1]cpte client'!$U3,[1]Base!$A$2:$P$65536,6,FALSE)),"",VLOOKUP('[1]cpte client'!$U3,[1]Base!$A$2:$P$65536,6,FALSE))) -> 2013DE001 | Y3: =IF(ISERROR($U3),"",IF(ISBLANK(VLOOKUP('[1]cpte client'!$U3,[1]Base!$A$2:$P$65536,8,FALSE)),"",VLOOKUP('[1]cpte client'!$U3,[1]Base!$A$2:$P$65536,8,FALSE))) | Z3: =IF(ISERROR($U3),"",IF(ISBLANK(VLOOKUP('[1]cpte client'!$U3,[1]Base!$A$2:$P$65536,7,FALSE)),"",VLOOKUP('[1]cpte client'!$U3,[1]Base!$A$2:$P$65536,7,FALSE))) | AA3: =IF(ISERROR($U3),"",IF(ISBLANK(VLOOKUP('[1]cpte client'!$U3,[1]Base!$A$2:$P$65536,10,FALSE)),"",VLOOKUP('[1]cpte client'!$U3,[1]Base!$A$2:$P$65536,10,FALSE))) | AB3: =IF(ISERROR($U3),"",IF(ISBLANK(VLOOKUP('[1]cpte client'!$U3,[1]Base!$A$2:$P$65536,12,FALSE)),"",VLOOKUP('[1]cpte client'!$U3,[1]Base!$A$2:$P$65536,12,FALSE))) | AC3: =IF(ISERROR($U3),"",IF(ISBLANK(VLOOKUP('[1]cpte client'!$U3,[1]Base!$A$2:$P$65536,13,FALSE)),"",VLOOKUP('[1]cpte client'!$U3,[1]Base!$A$2:$P$65536,13,FALSE))) | AD3: =IF(AC3>0,0,AA3) -> 0
A4: {=INDEX([1]Base!$A$2:$A$65536,SMALL(IF(([1]Base!$C$2:$C$65536="XXX")*1=1,ROW([1]Base!$A$2:$A$65536)-MIN(ROW([1]Base!$A$2:$A$65536))+1),ROWS([1]Base!$A$2:$A3)))} -> 5 | B4: =IF(ISERROR($A4),"",IF(ISBLANK(VLOOKUP('[1]cpte client'!$A4,[1]Base!$A$2:$P$65536,2,FALSE)),"",VLOOKUP('[1]cpte client'!$A4,[1]Base!$A$2:$P$65536,2,FALSE))) -> 41365 | C4: =IF(ISERROR($A4),"",IF(ISBLANK(VLOOKUP('[1]cpte client'!$A4,[1]Base!$A$2:$P$65536,4,FALSE)),"",VLOOKUP('[1]cpte client'!$A4,[1]Base!$A$2:$P$65536,4,FALSE))) -> BASE DE DONNEES | D4: =IF(ISERROR($A4),"",IF(ISBLANK(VLOOKUP('[1]cpte client'!$A4,[1]Base!$A$2:$P$65536,6,FALSE)),"",VLOOKUP('[1]cpte client'!$A4,[1]Base!$A$2:$P$65536,6,FALSE))) | E4: =IF(ISERROR($A4),"",IF(ISBLANK(VLOOKUP('[1]cpte client'!$A4,[1]Base!$A$2:$P$65536,8,FALSE)),"",VLOOKUP('[1]cpte client'!$A4,[1]Base!$A$2:$P$65536,8,FALSE))) -> 2013FA003 | F4: =IF(ISERROR($A4),"",IF(ISBLANK(VLOOKUP('[1]cpte client'!$A4,[1]Base!$A$2:$P$65536,7,FALSE)),"",VLOOKUP('[1]cpte client'!$A4,[1]Base!$A$2:$P$65536,7,FALSE))) | G4: =IF(ISERROR($A4),"",IF(ISBLANK(VLOOKUP('[1]cpte client'!$A4,[1]Base!$A$2:$P$65536,10,FALSE)),"",VLOOKUP('[1]cpte client'!$A4,[1]Base!$A$2:$P$65536,10,FALSE))) -> 866.12 | H4: =IF(ISERROR($A4),"",IF(ISBLANK(VLOOKUP('[1]cpte client'!$A4,[1]Base!$A$2:$P$65536,12,FALSE)),"",VLOOKUP('[1]cpte client'!$A4,[1]Base!$A$2:$P$65536,12,FALSE))) -> 41394 | I4: =IF(ISERROR($A4),"",IF(ISBLANK(VLOOKUP('[1]cpte client'!$A4,[1]Base!$A$2:$P$65536,13,FALSE)),"",VLOOKUP('[1]cpte client'!$A4,[1]Base!$A$2:$P$65536,13,FALSE))) -> 41388 | J4: =IF(ISBLANK(I4),J3+G4,IF(ISNUMBER(F4),J3-F4,J3)) -> 0 | K4: {=INDEX([1]Base!$A$2:$A$65536,SMALL(IF(([1]Base!$C$2:$C$65536="YYY")*1=1,ROW([1]Base!$A$2:$A$65536)-MIN(ROW([1]Base!$A$2:$A$65536))+1),ROWS([1]Base!$A$2:$A3)))} -> 8 | L4: =IF(ISERROR($K4),"",IF(ISBLANK(VLOOKUP('[1]cpte client'!$K4,[1]Base!$A$2:$P$65536,2,FALSE)),"",VLOOKUP('[1]cpte client'!$K4,[1]Base!$A$2:$P$65536,2,FALSE))) -> 41401 | M4: =IF(ISERROR($K4),"",IF(ISBLANK(VLOOKUP('[1]cpte client'!$K4,[1]Base!$A$2:$P$65536,4,FALSE)),"",VLOOKUP('[1]cpte client'!$K4,[1]Base!$A$2:$P$65536,4,FALSE))) -> SECRETARIAT AVRIL 2013 | N4: =IF(ISERROR($K4),"",IF(ISBLANK(VLOOKUP('[1]cpte client'!$K4,[1]Base!$A$2:$P$65536,6,FALSE)),"",VLOOKUP('[1]cpte client'!$K4,[1]Base!$A$2:$P$65536,6,FALSE))) | O4: =IF(ISERROR($K4),"",IF(ISBLANK(VLOOKUP('[1]cpte client'!$K4,[1]Base!$A$2:$P$65536,8,FALSE)),"",VLOOKUP('[1]cpte client'!$K4,[1]Base!$A$2:$P$65536,8,FALSE))) -> 2013FA005 | P4: =IF(ISERROR($K4),"",IF(ISBLANK(VLOOKUP('[1]cpte client'!$K4,[1]Base!$A$2:$P$65536,7,FALSE)),"",VLOOKUP('[1]cpte client'!$K4,[1]Base!$A$2:$P$65536,7,FALSE))) | Q4: =IF(ISERROR($K4),"",IF(ISBLANK(VLOOKUP('[1]cpte client'!$K4,[1]Base!$A$2:$P$65536,10,FALSE)),"",VLOOKUP('[1]cpte client'!$K4,[1]Base!$A$2:$P$65536,10,FALSE))) -> 364.65 | R4: =IF(ISERROR($K4),"",IF(ISBLANK(VLOOKUP('[1]cpte client'!$K4,[1]Base!$A$2:$P$65536,12,FALSE)),"",VLOOKUP('[1]cpte client'!$K4,[1]Base!$A$2:$P$65536,12,FALSE))) -> 41425 | S4: =IF(ISERROR($K4),"",IF(ISBLANK(VLOOKUP('[1]cpte client'!$K4,[1]Base!$A$2:$P$65536,13,FALSE)),"",VLOOKUP('[1]cpte client'!$K4,[1]Base!$A$2:$P$65536,13,FALSE))) -> 41397 | T4: =IF(ISERROR(K4),"",IF(S4>0,T3-P4,T3+Q4)) -> #VALUE! | U4: {=INDEX([1]Base!$A$2:$A$65536,SMALL(IF(([1]Base!$C$2:$C$65536="ZZZ")*1=1,ROW([1]Base!$A$2:$A$65536)-MIN(ROW([1]Base!$A$2:$A$65536))+1),ROWS([1]Base!$A$2:$A3)))} -> #NUM! | V4: =IF(ISERROR($U4),"",IF(ISBLANK(VLOOKUP('[1]cpte client'!$U4,[1]Base!$A$2:$P$65536,2,FALSE)),"",VLOOKUP('[1]cpte client'!$U4,[1]Base!$A$2:$P$65536,2,FALSE))) | W4: =IF(ISERROR($U4),"",IF(ISBLANK(VLOOKUP('[1]cpte client'!$U4,[1]Base!$A$2:$P$65536,4,FALSE)),"",VLOOKUP('[1]cpte client'!$U4,[1]Base!$A$2:$P$65536,4,FALSE))) | X4: =IF(ISERROR($U4),"",IF(ISBLANK(VLOOKUP('[1]cpte client'!$U4,[1]Base!$A$2:$P$65536,6,FALSE)),"",VLOOKUP('[1]cpte client'!$U4,[1]Base!$A$2:$P$65536,6,FALSE))) | Y4: =IF(ISERROR($U4),"",IF(ISBLANK(VLOOKUP('[1]cpte client'!$U4,[1]Base!$A$2:$P$65536,8,FALSE)),"",VLOOKUP('[1]cpte client'!$U4,[1]Base!$A$2:$P$65536,8,FALSE))) | Z4: =IF(ISERROR($U4),"",IF(ISBLANK(VLOOKUP('[1]cpte client'!$U4,[1]Base!$A$2:$P$65536,7,FALSE)),"",VLOOKUP('[1]cpte client'!$U4,[1]Base!$A$2:$P$65536,7,FALSE))) | AA4: =IF(ISERROR($U4),"",IF(ISBLANK(VLOOKUP('[1]cpte client'!$U4,[1]Base!$A$2:$P$65536,10,FALSE)),"",VLOOKUP('[1]cpte client'!$U4,[1]Base!$A$2:$P$65536,10,FALSE))) | AB4: =IF(ISERROR($U4),"",IF(ISBLANK(VLOOKUP('[1]cpte client'!$U4,[1]Base!$A$2:$P$65536,12,FALSE)),"",VLOOKUP('[1]cpte client'!$U4,[1]Base!$A$2:$P$65536,12,FALSE))) | AC4: =IF(ISERROR($U4),"",IF(ISBLANK(VLOOKUP('[1]cpte client'!$U4,[1]Base!$A$2:$P$65536,13,FALSE)),"",VLOOKUP('[1]cpte client'!$U4,[1]Base!$A$2:$P$65536,13,FALSE))) | AD4: =IF(AC4>0,0,AA4) -> 0
A5: {=INDEX([1]Base!$A$2:$A$65536,SMALL(IF(([1]Base!$C$2:$C$65536="XXX")*1=1,ROW([1]Base!$A$2:$A$65536)-MIN(ROW([1]Base!$A$2:$A$65536))+1),ROWS([1]Base!$A$2:$A4)))} -> 7 | B5: =IF(ISERROR($A5),"",IF(ISBLANK(VLOOKUP('[1]cpte client'!$A5,[1]Base!$A$2:$P$65536,2,FALSE)),"",VLOOKUP('[1]cpte client'!$A5,[1]Base!$A$2:$P$65536,2,FALSE))) -> 41417 | C5: =IF(ISERROR($A5),"",IF(ISBLANK(VLOOKUP('[1]cpte client'!$A5,[1]Base!$A$2:$P$65536,4,FALSE)),"",VLOOKUP('[1]cpte client'!$A5,[1]Base!$A$2:$P$65536,4,FALSE))) -> BASE DE DONNEES | D5: =IF(ISERROR($A5),"",IF(ISBLANK(VLOOKUP('[1]cpte client'!$A5,[1]Base!$A$2:$P$65536,6,FALSE)),"",VLOOKUP('[1]cpte client'!$A5,[1]Base!$A$2:$P$65536,6,FALSE))) | E5: =IF(ISERROR($A5),"",IF(ISBLANK(VLOOKUP('[1]cpte client'!$A5,[1]Base!$A$2:$P$65536,8,FALSE)),"",VLOOKUP('[1]cpte client'!$A5,[1]Base!$A$2:$P$65536,8,FALSE))) -> 2013FA004 | F5: =IF(ISERROR($A5),"",IF(ISBLANK(VLOOKUP('[1]cpte client'!$A5,[1]Base!$A$2:$P$65536,7,FALSE)),"",VLOOKUP('[1]cpte client'!$A5,[1]Base!$A$2:$P$65536,7,FALSE))) | G5: =IF(ISERROR($A5),"",IF(ISBLANK(VLOOKUP('[1]cpte client'!$A5,[1]Base!$A$2:$P$65536,10,FALSE)),"",VLOOKUP('[1]cpte client'!$A5,[1]Base!$A$2:$P$65536,10,FALSE))) -> 878.83 | H5: =IF(ISERROR($A5),"",IF(ISBLANK(VLOOKUP('[1]cpte client'!$A5,[1]Base!$A$2:$P$65536,12,FALSE)),"",VLOOKUP('[1]cpte client'!$A5,[1]Base!$A$2:$P$65536,12,FALSE))) -> 41425 | I5: =IF(ISERROR($A5),"",IF(ISBLANK(VLOOKUP('[1]cpte client'!$A5,[1]Base!$A$2:$P$65536,13,FALSE)),"",VLOOKUP('[1]cpte client'!$A5,[1]Base!$A$2:$P$65536,13,FALSE))) -> 41417 | J5: =IF(ISBLANK(I5),J4+G5,IFERROR(J4-F5,0)) -> 0 | K5: {=INDEX([1]Base!$A$2:$A$65536,SMALL(IF(([1]Base!$C$2:$C$65536="YYY")*1=1,ROW([1]Base!$A$2:$A$65536)-MIN(ROW([1]Base!$A$2:$A$65536))+1),ROWS([1]Base!$A$2:$A4)))} -> #NUM! | L5: =IF(ISERROR($K5),"",IF(ISBLANK(VLOOKUP('[1]cpte client'!$K5,[1]Base!$A$2:$P$65536,2,FALSE)),"",VLOOKUP('[1]cpte client'!$K5,[1]Base!$A$2:$P$65536,2,FALSE))) | M5: =IF(ISERROR($K5),"",IF(ISBLANK(VLOOKUP('[1]cpte client'!$K5,[1]Base!$A$2:$P$65536,4,FALSE)),"",VLOOKUP('[1]cpte client'!$K5,[1]Base!$A$2:$P$65536,4,FALSE))) | N5: =IF(ISERROR($K5),"",IF(ISBLANK(VLOOKUP('[1]cpte client'!$K5,[1]Base!$A$2:$P$65536,6,FALSE)),"",VLOOKUP('[1]cpte client'!$K5,[1]Base!$A$2:$P$65536,6,FALSE))) | O5: =IF(ISERROR($K5),"",IF(ISBLANK(VLOOKUP('[1]cpte client'!$K5,[1]Base!$A$2:$P$65536,8,FALSE)),"",VLOOKUP('[1]cpte client'!$K5,[1]Base!$A$2:$P$65536,8,FALSE))) | P5: =IF(ISERROR($K5),"",IF(ISBLANK(VLOOKUP('[1]cpte client'!$K5,[1]Base!$A$2:$P$65536,7,FALSE)),"",VLOOKUP('[1]cpte client'!$K5,[1]Base!$A$2:$P$65536,7,FALSE))) | Q5: =IF(ISERROR($K5),"",IF(ISBLANK(VLOOKUP('[1]cpte client'!$K5,[1]Base!$A$2:$P$65536,10,FALSE)),"",VLOOKUP('[1]cpte client'!$K5,[1]Base!$A$2:$P$65536,10,FALSE))) | R5: =IF(ISERROR($K5),"",IF(ISBLANK(VLOOKUP('[1]cpte client'!$K5,[1]Base!$A$2:$P$65536,12,FALSE)),"",VLOOKUP('[1]cpte client'!$K5,[1]Base!$A$2:$P$65536,12,FALSE))) | S5: =IF(ISERROR($K5),"",IF(ISBLANK(VLOOKUP('[1]cpte client'!$K5,[1]Base!$A$2:$P$65536,13,FALSE)),"",VLOOKUP('[1]cpte client'!$K5,[1]Base!$A$2:$P$65536,13,FALSE))) | T5: =IF(ISERROR(K5),"",IF(S5>0,T4-P5,T4+Q5)) | U5: {=INDEX([1]Base!$A$2:$A$65536,SMALL(IF(([1]Base!$C$2:$C$65536="ZZZ")*1=1,ROW([1]Base!$A$2:$A$65536)-MIN(ROW([1]Base!$A$2:$A$65536))+1),ROWS([1]Base!$A$2:$A4)))} -> #NUM! | V5: =IF(ISERROR($U5),"",IF(ISBLANK(VLOOKUP('[1]cpte client'!$U5,[1]Base!$A$2:$P$65536,2,FALSE)),"",VLOOKUP('[1]cpte client'!$U5,[1]Base!$A$2:$P$65536,2,FALSE))) | W5: =IF(ISERROR($U5),"",IF(ISBLANK(VLOOKUP('[1]cpte client'!$U5,[1]Base!$A$2:$P$65536,4,FALSE)),"",VLOOKUP('[1]cpte client'!$U5,[1]Base!$A$2:$P$65536,4,FALSE))) | X5: =IF(ISERROR($U5),"",IF(ISBLANK(VLOOKUP('[1]cpte client'!$U5,[1]Base!$A$2:$P$65536,6,FALSE)),"",VLOOKUP('[1]cpte client'!$U5,[1]Base!$A$2:$P$65536,6,FALSE))) | Y5: =IF(ISERROR($U5),"",IF(ISBLANK(VLOOKUP('[1]cpte client'!$U5,[1]Base!$A$2:$P$65536,8,FALSE)),"",VLOOKUP('[1]cpte client'!$U5,[1]Base!$A$2:$P$65536,8,FALSE))) | Z5: =IF(ISERROR($U5),"",IF(ISBLANK(VLOOKUP('[1]cpte client'!$U5,[1]Base!$A$2:$P$65536,7,FALSE)),"",VLOOKUP('[1]cpte client'!$U5,[1]Base!$A$2:$P$65536,7,FALSE))) | AA5: =IF(ISERROR($U5),"",IF(ISBLANK(VLOOKUP('[1]cpte client'!$U5,[1]Base!$A$2:$P$65536,10,FALSE)),"",VLOOKUP('[1]cpte client'!$U5,[1]Base!$A$2:$P$65536,10,FALSE))) | AB5: =IF(ISERROR($U5),"",IF(ISBLANK(VLOOKUP('[1]cpte client'!$U5,[1]Base!$A$2:$P$65536,12,FALSE)),"",VLOOKUP('[1]cpte client'!$U5,[1]Base!$A$2:$P$65536,12,FALSE))) | AC5: =IF(ISERROR($U5),"",IF(ISBLANK(VLOOKUP('[1]cpte client'!$U5,[1]Base!$A$2:$P$65536,13,FALSE)),"",VLOOKUP('[1]cpte client'!$U5,[1]Base!$A$2:$P$65536,13,FALSE))) | AD5: =IF(AC5>0,0,AA5) -> 0
A6: {=INDEX([1]Base!$A$2:$A$65536,SMALL(IF(([1]Base!$C$2:$C$65536="XXX")*1=1,ROW([1]Base!$A$2:$A$65536)-MIN(ROW([1]Base!$A$2:$A$65536))+1),ROWS([1]Base!$A$2:$A5)))} -> 9 | B6: =IF(ISERROR($A6),"",IF(ISBLANK(VLOOKUP('[1]cpte client'!$A6,[1]Base!$A$2:$P$65536,2,FALSE)),"",VLOOKUP('[1]cpte client'!$A6,[1]Base!$A$2:$P$65536,2,FALSE))) | C6: =IF(ISERROR($A6),"",IF(ISBLANK(VLOOKUP('[1]cpte client'!$A6,[1]Base!$A$2:$P$65536,4,FALSE)),"",VLOOKUP('[1]cpte client'!$A6,[1]Base!$A$2:$P$65536,4,FALSE))) | D6: =IF(ISERROR($A6),"",IF(ISBLANK(VLOOKUP('[1]cpte client'!$A6,[1]Base!$A$2:$P$65536,6,FALSE)),"",VLOOKUP('[1]cpte client'!$A6,[1]Base!$A$2:$P$65536,6,FALSE))) -> 2013DE002 | E6: =IF(ISERROR($A6),"",IF(ISBLANK(VLOOKUP('[1]cpte client'!$A6,[1]Base!$A$2:$P$65536,8,FALSE)),"",VLOOKUP('[1]cpte client'!$A6,[1]Base!$A$2:$P$65536,8,FALSE))) | F6: =IF(ISERROR($A6),"",IF(ISBLANK(VLOOKUP('[1]cpte client'!$A6,[1]Base!$A$2:$P$65536,7,FALSE)),"",VLOOKUP('[1]cpte client'!$A6,[1]Base!$A$2:$P$65536,7,FALSE))) | G6: =IF(ISERROR($A6),"",IF(ISBLANK(VLOOKUP('[1]cpte client'!$A6,[1]Base!$A$2:$P$65536,10,FALSE)),"",VLOOKUP('[1]cpte client'!$A6,[1]Base!$A$2:$P$65536,10,FALSE))) | H6: =IF(ISERROR($A6),"",IF(ISBLANK(VLOOKUP('[1]cpte client'!$A6,[1]Base!$A$2:$P$65536,12,FALSE)),"",VLOOKUP('[1]cpte client'!$A6,[1]Base!$A$2:$P$65536,12,FALSE))) | I6: =IF(ISERROR($A6),"",IF(ISBLANK(VLOOKUP('[1]cpte client'!$A6,[1]Base!$A$2:$P$65536,13,FALSE)),"",VLOOKUP('[1]cpte client'!$A6,[1]Base!$A$2:$P$65536,13,FALSE))) | J6: =IF(ISBLANK(I6),J5+G6,IFERROR(J5-F6,0)) -> 0 | K6: {=INDEX([1]Base!$A$2:$A$65536,SMALL(IF(([1]Base!$C$2:$C$65536="YYY")*1=1,ROW([1]Base!$A$2:$A$65536)-MIN(ROW([1]Base!$A$2:$A$65536))+1),ROWS([1]Base!$A$2:$A5)))} -> #NUM! | L6: =IF(ISERROR($K6),"",IF(ISBLANK(VLOOKUP('[1]cpte client'!$K6,[1]Base!$A$2:$P$65536,2,FALSE)),"",VLOOKUP('[1]cpte client'!$K6,[1]Base!$A$2:$P$65536,2,FALSE))) | M6: =IF(ISERROR($K6),"",IF(ISBLANK(VLOOKUP('[1]cpte client'!$K6,[1]Base!$A$2:$P$65536,4,FALSE)),"",VLOOKUP('[1]cpte client'!$K6,[1]Base!$A$2:$P$65536,4,FALSE))) | N6: =IF(ISERROR($K6),"",IF(ISBLANK(VLOOKUP('[1]cpte client'!$K6,[1]Base!$A$2:$P$65536,6,FALSE)),"",VLOOKUP('[1]cpte client'!$K6,[1]Base!$A$2:$P$65536,6,FALSE))) | O6: =IF(ISERROR($K6),"",IF(ISBLANK(VLOOKUP('[1]cpte client'!$K6,[1]Base!$A$2:$P$65536,8,FALSE)),"",VLOOKUP('[1]cpte client'!$K6,[1]Base!$A$2:$P$65536,8,FALSE))) | P6: =IF(ISERROR($K6),"",IF(ISBLANK(VLOOKUP('[1]cpte client'!$K6,[1]Base!$A$2:$P$65536,7,FALSE)),"",VLOOKUP('[1]cpte client'!$K6,[1]Base!$A$2:$P$65536,7,FALSE))) | Q6: =IF(ISERROR($K6),"",IF(ISBLANK(VLOOKUP('[1]cpte client'!$K6,[1]Base!$A$2:$P$65536,10,FALSE)),"",VLOOKUP('[1]cpte client'!$K6,[1]Base!$A$2:$P$65536,10,FALSE))) | R6: =IF(ISERROR($K6),"",IF(ISBLANK(VLOOKUP('[1]cpte client'!$K6,[1]Base!$A$2:$P$65536,12,FALSE)),"",VLOOKUP('[1]cpte client'!$K6,[1]Base!$A$2:$P$65536,12,FALSE))) | S6: =IF(ISERROR($K6),"",IF(ISBLANK(VLOOKUP('[1]cpte client'!$K6,[1]Base!$A$2:$P$65536,13,FALSE)),"",VLOOKUP('[1]cpte client'!$K6,[1]Base!$A$2:$P$65536,13,FALSE))) | T6: =IF(ISERROR(K6),"",IF(S6>0,T5-P6,T5+Q6)) | U6: {=INDEX([1]Base!$A$2:$A$65536,SMALL(IF(([1]Base!$C$2:$C$65536="ZZZ")*1=1,ROW([1]Base!$A$2:$A$65536)-MIN(ROW([1]Base!$A$2:$A$65536))+1),ROWS([1]Base!$A$2:$A5)))} -> #NUM! | V6: =IF(ISERROR($U6),"",IF(ISBLANK(VLOOKUP('[1]cpte client'!$U6,[1]Base!$A$2:$P$65536,2,FALSE)),"",VLOOKUP('[1]cpte client'!$U6,[1]Base!$A$2:$P$65536,2,FALSE))) | W6: =IF(ISERROR($U6),"",IF(ISBLANK(VLOOKUP('[1]cpte client'!$U6,[1]Base!$A$2:$P$65536,4,FALSE)),"",VLOOKUP('[1]cpte client'!$U6,[1]Base!$A$2:$P$65536,4,FALSE))) | X6: =IF(ISERROR($U6),"",IF(ISBLANK(VLOOKUP('[1]cpte client'!$U6,[1]Base!$A$2:$P$65536,6,FALSE)),"",VLOOKUP('[1]cpte client'!$U6,[1]Base!$A$2:$P$65536,6,FALSE))) | Y6: =IF(ISERROR($U6),"",IF(ISBLANK(VLOOKUP('[1]cpte client'!$U6,[1]Base!$A$2:$P$65536,8,FALSE)),"",VLOOKUP('[1]cpte client'!$U6,[1]Base!$A$2:$P$65536,8,FALSE))) | Z6: =IF(ISERROR($U6),"",IF(ISBLANK(VLOOKUP('[1]cpte client'!$U6,[1]Base!$A$2:$P$65536,7,FALSE)),"",VLOOKUP('[1]cpte client'!$U6,[1]Base!$A$2:$P$65536,7,FALSE))) | AA6: =IF(ISERROR($U6),"",IF(ISBLANK(VLOOKUP('[1]cpte client'!$U6,[1]Base!$A$2:$P$65536,10,FALSE)),"",VLOOKUP('[1]cpte client'!$U6,[1]Base!$A$2:$P$65536,10,FALSE))) | AB6: =IF(ISERROR($U6),"",IF(ISBLANK(VLOOKUP('[1]cpte client'!$U6,[1]Base!$A$2:$P$65536,12,FALSE)),"",VLOOKUP('[1]cpte client'!$U6,[1]Base!$A$2:$P$65536,12,FALSE))) | AC6: =IF(ISERROR($U6),"",IF(ISBLANK(VLOOKUP('[1]cpte client'!$U6,[1]Base!$A$2:$P$65536,13,FALSE)),"",VLOOKUP('[1]cpte client'!$U6,[1]Base!$A$2:$P$65536,13,FALSE))) | AD6: =IF(AC6>0,0,AA6) -> 0
A7: {=INDEX([1]Base!$A$2:$A$65536,SMALL(IF(([1]Base!$C$2:$C$65536="XXX")*1=1,ROW([1]Base!$A$2:$A$65536)-MIN(ROW([1]Base!$A$2:$A$65536))+1),ROWS([1]Base!$A$2:$A6)))} -> #NUM! | B7: =IF(ISERROR($A7),"",IF(ISBLANK(VLOOKUP('[1]cpte client'!$A7,[1]Base!$A$2:$P$65536,2,FALSE)),"",VLOOKUP('[1]cpte client'!$A7,[1]Base!$A$2:$P$65536,2,FALSE))) | C7: =IF(ISERROR($A7),"",IF(ISBLANK(VLOOKUP('[1]cpte client'!$A7,[1]Base!$A$2:$P$65536,4,FALSE)),"",VLOOKUP('[1]cpte client'!$A7,[1]Base!$A$2:$P$65536,4,FALSE))) | D7: =IF(ISERROR($A7),"",IF(ISBLANK(VLOOKUP('[1]cpte client'!$A7,[1]Base!$A$2:$P$65536,6,FALSE)),"",VLOOKUP('[1]cpte client'!$A7,[1]Base!$A$2:$P$65536,6,FALSE))) | E7: =IF(ISERROR($A7),"",IF(ISBLANK(VLOOKUP('[1]cpte client'!$A7,[1]Base!$A$2:$P$65536,8,FALSE)),"",VLOOKUP('[1]cpte client'!$A7,[1]Base!$A$2:$P$65536,8,FALSE))) | F7: =IF(ISERROR($A7),"",IF(ISBLANK(VLOOKUP('[1]cpte client'!$A7,[1]Base!$A$2:$P$65536,7,FALSE)),"",VLOOKUP('[1]cpte client'!$A7,[1]Base!$A$2:$P$65536,7,FALSE))) | G7: =IF(ISERROR($A7),"",IF(ISBLANK(VLOOKUP('[1]cpte client'!$A7,[1]Base!$A$2:$P$65536,10,FALSE)),"",VLOOKUP('[1]cpte client'!$A7,[1]Base!$A$2:$P$65536,10,FALSE))) | H7: =IF(ISERROR($A7),"",IF(ISBLANK(VLOOKUP('[1]cpte client'!$A7,[1]Base!$A$2:$P$65536,12,FALSE)),"",VLOOKUP('[1]cpte client'!$A7,[1]Base!$A$2:$P$65536,12,FALSE))) | I7: =IF(ISERROR($A7),"",IF(ISBLANK(VLOOKUP('[1]cpte client'!$A7,[1]Base!$A$2:$P$65536,13,FALSE)),"",VLOOKUP('[1]cpte client'!$A7,[1]Base!$A$2:$P$65536,13,FALSE))) | J7: =IF(ISBLANK(I7),J6+G7,IFERROR(J6-F7,0)) -> 0 | K7: {=INDEX([1]Base!$A$2:$A$65536,SMALL(IF(([1]Base!$C$2:$C$65536="YYY")*1=1,ROW([1]Base!$A$2:$A$65536)-MIN(ROW([1]Base!$A$2:$A$65536))+1),ROWS([1]Base!$A$2:$A6)))} -> #NUM! | L7: =IF(ISERROR($K7),"",IF(ISBLANK(VLOOKUP('[1]cpte client'!$K7,[1]Base!$A$2:$P$65536,2,FALSE)),"",VLOOKUP('[1]cpte client'!$K7,[1]Base!$A$2:$P$65536,2,FALSE))) | M7: =IF(ISERROR($K7),"",IF(ISBLANK(VLOOKUP('[1]cpte client'!$K7,[1]Base!$A$2:$P$65536,4,FALSE)),"",VLOOKUP('[1]cpte client'!$K7,[1]Base!$A$2:$P$65536,4,FALSE))) | N7: =IF(ISERROR($K7),"",IF(ISBLANK(VLOOKUP('[1]cpte client'!$K7,[1]Base!$A$2:$P$65536,6,FALSE)),"",VLOOKUP('[1]cpte client'!$K7,[1]Base!$A$2:$P$65536,6,FALSE))) | O7: =IF(ISERROR($K7),"",IF(ISBLANK(VLOOKUP('[1]cpte client'!$K7,[1]Base!$A$2:$P$65536,8,FALSE)),"",VLOOKUP('[1]cpte client'!$K7,[1]Base!$A$2:$P$65536,8,FALSE))) | P7: =IF(ISERROR($K7),"",IF(ISBLANK(VLOOKUP('[1]cpte client'!$K7,[1]Base!$A$2:$P$65536,7,FALSE)),"",VLOOKUP('[1]cpte client'!$K7,[1]Base!$A$2:$P$65536,7,FALSE))) | Q7: =IF(ISERROR($K7),"",IF(ISBLANK(VLOOKUP('[1]cpte client'!$K7,[1]Base!$A$2:$P$65536,10,FALSE)),"",VLOOKUP('[1]cpte client'!$K7,[1]Base!$A$2:$P$65536,10,FALSE))) | R7: =IF(ISERROR($K7),"",IF(ISBLANK(VLOOKUP('[1]cpte client'!$K7,[1]Base!$A$2:$P$65536,12,FALSE)),"",VLOOKUP('[1]cpte client'!$K7,[1]Base!$A$2:$P$65536,12,FALSE))) | S7: =IF(ISERROR($K7),"",IF(ISBLANK(VLOOKUP('[1]cpte client'!$K7,[1]Base!$A$2:$P$65536,13,FALSE)),"",VLOOKUP('[1]cpte client'!$K7,[1]Base!$A$2:$P$65536,13,FALSE))) | T7: =IF(ISERROR(K7),"",IF(S7>0,T6-P7,T6+Q7)) | U7: {=INDEX([1]Base!$A$2:$A$65536,SMALL(IF(([1]Base!$C$2:$C$65536="ZZZ")*1=1,ROW([1]Base!$A$2:$A$65536)-MIN(ROW([1]Base!$A$2:$A$65536))+1),ROWS([1]Base!$A$2:$A6)))} -> #NUM! | V7: =IF(ISERROR($U7),"",IF(ISBLANK(VLOOKUP('[1]cpte client'!$U7,[1]Base!$A$2:$P$65536,2,FALSE)),"",VLOOKUP('[1]cpte client'!$U7,[1]Base!$A$2:$P$65536,2,FALSE))) | W7: =IF(ISERROR($U7),"",IF(ISBLANK(VLOOKUP('[1]cpte client'!$U7,[1]Base!$A$2:$P$65536,4,FALSE)),"",VLOOKUP('[1]cpte client'!$U7,[1]Base!$A$2:$P$65536,4,FALSE))) | X7: =IF(ISERROR($U7),"",IF(ISBLANK(VLOOKUP('[1]cpte client'!$U7,[1]Base!$A$2:$P$65536,6,FALSE)),"",VLOOKUP('[1]cpte client'!$U7,[1]Base!$A$2:$P$65536,6,FALSE))) | Y7: =IF(ISERROR($U7),"",IF(ISBLANK(VLOOKUP('[1]cpte client'!$U7,[1]Base!$A$2:$P$65536,8,FALSE)),"",VLOOKUP('[1]cpte client'!$U7,[1]Base!$A$2:$P$65536,8,FALSE))) | Z7: =IF(ISERROR($U7),"",IF(ISBLANK(VLOOKUP('[1]cpte client'!$U7,[1]Base!$A$2:$P$65536,7,FALSE)),"",VLOOKUP('[1]cpte client'!$U7,[1]Base!$A$2:$P$65536,7,FALSE))) | AA7: =IF(ISERROR($U7),"",IF(ISBLANK(VLOOKUP('[1]cpte client'!$U7,[1]Base!$A$2:$P$65536,10,FALSE)),"",VLOOKUP('[1]cpte client'!$U7,[1]Base!$A$2:$P$65536,10,FALSE))) | AB7: =IF(ISERROR($U7),"",IF(ISBLANK(VLOOKUP('[1]cpte client'!$U7,[1]Base!$A$2:$P$65536,12,FALSE)),"",VLOOKUP('[1]cpte client'!$U7,[1]Base!$A$2:$P$65536,12,FALSE))) | AC7: =IF(ISERROR($U7),"",IF(ISBLANK(VLOOKUP('[1]cpte client'!$U7,[1]Base!$A$2:$P$65536,13,FALSE)),"",VLOOKUP('[1]cpte client'!$U7,[1]Base!$A$2:$P$65536,13,FALSE))) | AD7: =IF(AC7>0,0,AA7) -> 0
A8: {=INDEX([1]Base!$A$2:$A$65536,SMALL(IF(([1]Base!$C$2:$C$65536="XXX")*1=1,ROW([1]Base!$A$2:$A$65536)-MIN(ROW([1]Base!$A$2:$A$65536))+1),ROWS([1]Base!$A$2:$A7)))} -> #NUM! | B8: =IF(ISERROR($A8),"",IF(ISBLANK(VLOOKUP('[1]cpte client'!$A8,[1]Base!$A$2:$P$65536,2,FALSE)),"",VLOOKUP('[1]cpte client'!$A8,[1]Base!$A$2:$P$65536,2,FALSE))) | C8: =IF(ISERROR($A8),"",IF(ISBLANK(VLOOKUP('[1]cpte client'!$A8,[1]Base!$A$2:$P$65536,4,FALSE)),"",VLOOKUP('[1]cpte client'!$A8,[1]Base!$A$2:$P$65536,4,FALSE))) | D8: =IF(ISERROR($A8),"",IF(ISBLANK(VLOOKUP('[1]cpte client'!$A8,[1]Base!$A$2:$P$65536,6,FALSE)),"",VLOOKUP('[1]cpte client'!$A8,[1]Base!$A$2:$P$65536,6,FALSE))) | E8: =IF(ISERROR($A8),"",IF(ISBLANK(VLOOKUP('[1]cpte client'!$A8,[1]Base!$A$2:$P$65536,8,FALSE)),"",VLOOKUP('[1]cpte client'!$A8,[1]Base!$A$2:$P$65536,8,FALSE))) | F8: =IF(ISERROR($A8),"",IF(ISBLANK(VLOOKUP('[1]cpte client'!$A8,[1]Base!$A$2:$P$65536,7,FALSE)),"",VLOOKUP('[1]cpte client'!$A8,[1]Base!$A$2:$P$65536,7,FALSE))) | G8: =IF(ISERROR($A8),"",IF(ISBLANK(VLOOKUP('[1]cpte client'!$A8,[1]Base!$A$2:$P$65536,10,FALSE)),"",VLOOKUP('[1]cpte client'!$A8,[1]Base!$A$2:$P$65536,10,FALSE))) | H8: =IF(ISERROR($A8),"",IF(ISBLANK(VLOOKUP('[1]cpte client'!$A8,[1]Base!$A$2:$P$65536,12,FALSE)),"",VLOOKUP('[1]cpte client'!$A8,[1]Base!$A$2:$P$65536,12,FALSE))) | I8: =IF(ISERROR($A8),"",IF(ISBLANK(VLOOKUP('[1]cpte client'!$A8,[1]Base!$A$2:$P$65536,13,FALSE)),"",VLOOKUP('[1]cpte client'!$A8,[1]Base!$A$2:$P$65536,13,FALSE))) | J8: =IF(ISBLANK(I8),J7+G8,IFERROR(J7-F8,0)) -> 0 | K8: {=INDEX([1]Base!$A$2:$A$65536,SMALL(IF(([1]Base!$C$2:$C$65536="YYY")*1=1,ROW([1]Base!$A$2:$A$65536)-MIN(ROW([1]Base!$A$2:$A$65536))+1),ROWS([1]Base!$A$2:$A7)))} -> #NUM! | L8: =IF(ISERROR($K8),"",IF(ISBLANK(VLOOKUP('[1]cpte client'!$K8,[1]Base!$A$2:$P$65536,2,FALSE)),"",VLOOKUP('[1]cpte client'!$K8,[1]Base!$A$2:$P$65536,2,FALSE))) | M8: =IF(ISERROR($K8),"",IF(ISBLANK(VLOOKUP('[1]cpte client'!$K8,[1]Base!$A$2:$P$65536,4,FALSE)),"",VLOOKUP('[1]cpte client'!$K8,[1]Base!$A$2:$P$65536,4,FALSE))) | N8: =IF(ISERROR($K8),"",IF(ISBLANK(VLOOKUP('[1]cpte client'!$K8,[1]Base!$A$2:$P$65536,6,FALSE)),"",VLOOKUP('[1]cpte client'!$K8,[1]Base!$A$2:$P$65536,6,FALSE))) | O8: =IF(ISERROR($K8),"",IF(ISBLANK(VLOOKUP('[1]cpte client'!$K8,[1]Base!$A$2:$P$65536,8,FALSE)),"",VLOOKUP('[1]cpte client'!$K8,[1]Base!$A$2:$P$65536,8,FALSE))) | P8: =IF(ISERROR($K8),"",IF(ISBLANK(VLOOKUP('[1]cpte client'!$K8,[1]Base!$A$2:$P$65536,7,FALSE)),"",VLOOKUP('[1]cpte client'!$K8,[1]Base!$A$2:$P$65536,7,FALSE))) | Q8: =IF(ISERROR($K8),"",IF(ISBLANK(VLOOKUP('[1]cpte client'!$K8,[1]Base!$A$2:$P$65536,10,FALSE)),"",VLOOKUP('[1]cpte client'!$K8,[1]Base!$A$2:$P$65536,10,FALSE))) | R8: =IF(ISERROR($K8),"",IF(ISBLANK(VLOOKUP('[1]cpte client'!$K8,[1]Base!$A$2:$P$65536,12,FALSE)),"",VLOOKUP('[1]cpte client'!$K8,[1]Base!$A$2:$P$65536,12,FALSE))) | S8: =IF(ISERROR($K8),"",IF(ISBLANK(VLOOKUP('[1]cpte client'!$K8,[1]Base!$A$2:$P$65536,13,FALSE)),"",VLOOKUP('[1]cpte client'!$K8,[1]Base!$A$2:$P$65536,13,FALSE))) | T8: =IF(ISERROR(K8),"",IF(S8>0,T7-P8,T7+Q8)) | U8: {=INDEX([1]Base!$A$2:$A$65536,SMALL(IF(([1]Base!$C$2:$C$65536="ZZZ")*1=1,ROW([1]Base!$A$2:$A$65536)-MIN(ROW([1]Base!$A$2:$A$65536))+1),ROWS([1]Base!$A$2:$A7)))} -> #NUM! | V8: =IF(ISERROR($U8),"",IF(ISBLANK(VLOOKUP('[1]cpte client'!$U8,[1]Base!$A$2:$P$65536,2,FALSE)),"",VLOOKUP('[1]cpte client'!$U8,[1]Base!$A$2:$P$65536,2,FALSE))) | W8: =IF(ISERROR($U8),"",IF(ISBLANK(VLOOKUP('[1]cpte client'!$U8,[1]Base!$A$2:$P$65536,4,FALSE)),"",VLOOKUP('[1]cpte client'!$U8,[1]Base!$A$2:$P$65536,4,FALSE))) | X8: =IF(ISERROR($U8),"",IF(ISBLANK(VLOOKUP('[1]cpte client'!$U8,[1]Base!$A$2:$P$65536,6,FALSE)),"",VLOOKUP('[1]cpte client'!$U8,[1]Base!$A$2:$P$65536,6,FALSE))) | Y8: =IF(ISERROR($U8),"",IF(ISBLANK(VLOOKUP('[1]cpte client'!$U8,[1]Base!$A$2:$P$65536,8,FALSE)),"",VLOOKUP('[1]cpte client'!$U8,[1]Base!$A$2:$P$65536,8,FALSE))) | Z8: =IF(ISERROR($U8),"",IF(ISBLANK(VLOOKUP('[1]cpte client'!$U8,[1]Base!$A$2:$P$65536,7,FALSE)),"",VLOOKUP('[1]cpte client'!$U8,[1]Base!$A$2:$P$65536,7,FALSE))) | AA8: =IF(ISERROR($U8),"",IF(ISBLANK(VLOOKUP('[1]cpte client'!$U8,[1]Base!$A$2:$P$65536,10,FALSE)),"",VLOOKUP('[1]cpte client'!$U8,[1]Base!$A$2:$P$65536,10,FALSE))) | AB8: =IF(ISERROR($U8),"",IF(ISBLANK(VLOOKUP('[1]cpte client'!$U8,[1]Base!$A$2:$P$65536,12,FALSE)),"",VLOOKUP('[1]cpte client'!$U8,[1]Base!$A$2:$P$65536,12,FALSE))) | AC8: =IF(ISERROR($U8),"",IF(ISBLANK(VLOOKUP('[1]cpte client'!$U8,[1]Base!$A$2:$P$65536,13,FALSE)),"",VLOOKUP('[1]cpte client'!$U8,[1]Base!$A$2:$P$65536,13,FALSE))) | AD8: =IF(AC8>0,0,AA8) -> 0
A9: {=INDEX([1]Base!$A$2:$A$65536,SMALL(IF(([1]Base!$C$2:$C$65536="XXX")*1=1,ROW([1]Base!$A$2:$A$65536)-MIN(ROW([1]Base!$A$2:$A$65536))+1),ROWS([1]Base!$A$2:$A8)))} -> #NUM! | B9: =IF(ISERROR($A9),"",IF(ISBLANK(VLOOKUP('[1]cpte client'!$A9,[1]Base!$A$2:$P$65536,2,FALSE)),"",VLOOKUP('[1]cpte client'!$A9,[1]Base!$A$2:$P$65536,2,FALSE))) | C9: =IF(ISERROR($A9),"",IF(ISBLANK(VLOOKUP('[1]cpte client'!$A9,[1]Base!$A$2:$P$65536,4,FALSE)),"",VLOOKUP('[1]cpte client'!$A9,[1]Base!$A$2:$P$65536,4,FALSE))) | D9: =IF(ISERROR($A9),"",IF(ISBLANK(VLOOKUP('[1]cpte client'!$A9,[1]Base!$A$2:$P$65536,6,FALSE)),"",VLOOKUP('[1]cpte client'!$A9,[1]Base!$A$2:$P$65536,6,FALSE))) | E9: =IF(ISERROR($A9),"",IF(ISBLANK(VLOOKUP('[1]cpte client'!$A9,[1]Base!$A$2:$P$65536,8,FALSE)),"",VLOOKUP('[1]cpte client'!$A9,[1]Base!$A$2:$P$65536,8,FALSE))) | F9: =IF(ISERROR($A9),"",IF(ISBLANK(VLOOKUP('[1]cpte client'!$A9,[1]Base!$A$2:$P$65536,7,FALSE)),"",VLOOKUP('[1]cpte client'!$A9,[1]Base!$A$2:$P$65536,7,FALSE))) | G9: =IF(ISERROR($A9),"",IF(ISBLANK(VLOOKUP('[1]cpte client'!$A9,[1]Base!$A$2:$P$65536,10,FALSE)),"",VLOOKUP('[1]cpte client'!$A9,[1]Base!$A$2:$P$65536,10,FALSE))) | H9: =IF(ISERROR($A9),"",IF(ISBLANK(VLOOKUP('[1]cpte client'!$A9,[1]Base!$A$2:$P$65536,12,FALSE)),"",VLOOKUP('[1]cpte client'!$A9,[1]Base!$A$2:$P$65536,12,FALSE))) | I9: =IF(ISERROR($A9),"",IF(ISBLANK(VLOOKUP('[1]cpte client'!$A9,[1]Base!$A$2:$P$65536,13,FALSE)),"",VLOOKUP('[1]cpte client'!$A9,[1]Base!$A$2:$P$65536,13,FALSE))) | J9: =IF(ISBLANK(I9),J8+G9,IFERROR(J8-F9,0)) -> 0 | K9: {=INDEX([1]Base!$A$2:$A$65536,SMALL(IF(([1]Base!$C$2:$C$65536="YYY")*1=1,ROW([1]Base!$A$2:$A$65536)-MIN(ROW([1]Base!$A$2:$A$65536))+1),ROWS([1]Base!$A$2:$A8)))} -> #NUM! | L9: =IF(ISERROR($K9),"",IF(ISBLANK(VLOOKUP('[1]cpte client'!$K9,[1]Base!$A$2:$P$65536,2,FALSE)),"",VLOOKUP('[1]cpte client'!$K9,[1]Base!$A$2:$P$65536,2,FALSE))) | M9: =IF(ISERROR($K9),"",IF(ISBLANK(VLOOKUP('[1]cpte client'!$K9,[1]Base!$A$2:$P$65536,4,FALSE)),"",VLOOKUP('[1]cpte client'!$K9,[1]Base!$A$2:$P$65536,4,FALSE))) | N9: =IF(ISERROR($K9),"",IF(ISBLANK(VLOOKUP('[1]cpte client'!$K9,[1]Base!$A$2:$P$65536,6,FALSE)),"",VLOOKUP('[1]cpte client'!$K9,[1]Base!$A$2:$P$65536,6,FALSE))) | O9: =IF(ISERROR($K9),"",IF(ISBLANK(VLOOKUP('[1]cpte client'!$K9,[1]Base!$A$2:$P$65536,8,FALSE)),"",VLOOKUP('[1]cpte client'!$K9,[1]Base!$A$2:$P$65536,8,FALSE))) | P9: =IF(ISERROR($K9),"",IF(ISBLANK(VLOOKUP('[1]cpte client'!$K9,[1]Base!$A$2:$P$65536,7,FALSE)),"",VLOOKUP('[1]cpte client'!$K9,[1]Base!$A$2:$P$65536,7,FALSE))) | Q9: =IF(ISERROR($K9),"",IF(ISBLANK(VLOOKUP('[1]cpte client'!$K9,[1]Base!$A$2:$P$65536,10,FALSE)),"",VLOOKUP('[1]cpte client'!$K9,[1]Base!$A$2:$P$65536,10,FALSE))) | R9: =IF(ISERROR($K9),"",IF(ISBLANK(VLOOKUP('[1]cpte client'!$K9,[1]Base!$A$2:$P$65536,12,FALSE)),"",VLOOKUP('[1]cpte client'!$K9,[1]Base!$A$2:$P$65536,12,FALSE))) | S9: =IF(ISERROR($K9),"",IF(ISBLANK(VLOOKUP('[1]cpte client'!$K9,[1]Base!$A$2:$P$65536,13,FALSE)),"",VLOOKUP('[1]cpte client'!$K9,[1]Base!$A$2:$P$65536,13,FALSE))) | T9: =IF(ISERROR(K9),"",IF(S9>0,T8-P9,T8+Q9)) | U9: {=INDEX([1]Base!$A$2:$A$65536,SMALL(IF(([1]Base!$C$2:$C$65536="ZZZ")*1=1,ROW([1]Base!$A$2:$A$65536)-MIN(ROW([1]Base!$A$2:$A$65536))+1),ROWS([1]Base!$A$2:$A8)))} -> #NUM! | V9: =IF(ISERROR($U9),"",IF(ISBLANK(VLOOKUP('[1]cpte client'!$U9,[1]Base!$A$2:$P$65536,2,FALSE)),"",VLOOKUP('[1]cpte client'!$U9,[1]Base!$A$2:$P$65536,2,FALSE))) | W9: =IF(ISERROR($U9),"",IF(ISBLANK(VLOOKUP('[1]cpte client'!$U9,[1]Base!$A$2:$P$65536,4,FALSE)),"",VLOOKUP('[1]cpte client'!$U9,[1]Base!$A$2:$P$65536,4,FALSE))) | X9: =IF(ISERROR($U9),"",IF(ISBLANK(VLOOKUP('[1]cpte client'!$U9,[1]Base!$A$2:$P$65536,6,FALSE)),"",VLOOKUP('[1]cpte client'!$U9,[1]Base!$A$2:$P$65536,6,FALSE))) | Y9: =IF(ISERROR($U9),"",IF(ISBLANK(VLOOKUP('[1]cpte client'!$U9,[1]Base!$A$2:$P$65536,8,FALSE)),"",VLOOKUP('[1]cpte client'!$U9,[1]Base!$A$2:$P$65536,8,FALSE))) | Z9: =IF(ISERROR($U9),"",IF(ISBLANK(VLOOKUP('[1]cpte client'!$U9,[1]Base!$A$2:$P$65536,7,FALSE)),"",VLOOKUP('[1]cpte client'!$U9,[1]Base!$A$2:$P$65536,7,FALSE))) | AA9: =IF(ISERROR($U9),"",IF(ISBLANK(VLOOKUP('[1]cpte client'!$U9,[1]Base!$A$2:$P$65536,10,FALSE)),"",VLOOKUP('[1]cpte client'!$U9,[1]Base!$A$2:$P$65536,10,FALSE))) | AB9: =IF(ISERROR($U9),"",IF(ISBLANK(VLOOKUP('[1]cpte client'!$U9,[1]Base!$A$2:$P$65536,12,FALSE)),"",VLOOKUP('[1]cpte client'!$U9,[1]Base!$A$2:$P$65536,12,FALSE))) | AC9: =IF(ISERROR($U9),"",IF(ISBLANK(VLOOKUP('[1]cpte client'!$U9,[1]Base!$A$2:$P$65536,13,FALSE)),"",VLOOKUP('[1]cpte client'!$U9,[1]Base!$A$2:$P$65536,13,FALSE))) | AD9: =IF(AC9>0,0,AA9) -> 0
A10: {=INDEX([1]Base!$A$2:$A$65536,SMALL(IF(([1]Base!$C$2:$C$65536="XXX")*1=1,ROW([1]Base!$A$2:$A$65536)-MIN(ROW([1]Base!$A$2:$A$65536))+1),ROWS([1]Base!$A$2:$A9)))} -> #NUM! | B10: =IF(ISERROR($A10),"",IF(ISBLANK(VLOOKUP('[1]cpte client'!$A10,[1]Base!$A$2:$P$65536,2,FALSE)),"",VLOOKUP('[1]cpte client'!$A10,[1]Base!$A$2:$P$65536,2,FALSE))) | C10: =IF(ISERROR($A10),"",IF(ISBLANK(VLOOKUP('[1]cpte client'!$A10,[1]Base!$A$2:$P$65536,4,FALSE)),"",VLOOKUP('[1]cpte client'!$A10,[1]Base!$A$2:$P$65536,4,FALSE))) | D10: =IF(ISERROR($A10),"",IF(ISBLANK(VLOOKUP('[1]cpte client'!$A10,[1]Base!$A$2:$P$65536,6,FALSE)),"",VLOOKUP('[1]cpte client'!$A10,[1]Base!$A$2:$P$65536,6,FALSE))) | E10: =IF(ISERROR($A10),"",IF(ISBLANK(VLOOKUP('[1]cpte client'!$A10,[1]Base!$A$2:$P$65536,8,FALSE)),"",VLOOKUP('[1]cpte client'!$A10,[1]Base!$A$2:$P$65536,8,FALSE))) | F10: =IF(ISERROR($A10),"",IF(ISBLANK(VLOOKUP('[1]cpte client'!$A10,[1]Base!$A$2:$P$65536,7,FALSE)),"",VLOOKUP('[1]cpte client'!$A10,[1]Base!$A$2:$P$65536,7,FALSE))) | G10: =IF(ISERROR($A10),"",IF(ISBLANK(VLOOKUP('[1]cpte client'!$A10,[1]Base!$A$2:$P$65536,10,FALSE)),"",VLOOKUP('[1]cpte client'!$A10,[1]Base!$A$2:$P$65536,10,FALSE))) | H10: =IF(ISERROR($A10),"",IF(ISBLANK(VLOOKUP('[1]cpte client'!$A10,[1]Base!$A$2:$P$65536,12,FALSE)),"",VLOOKUP('[1]cpte client'!$A10,[1]Base!$A$2:$P$65536,12,FALSE))) | I10: =IF(ISERROR($A10),"",IF(ISBLANK(VLOOKUP('[1]cpte client'!$A10,[1]Base!$A$2:$P$65536,13,FALSE)),"",VLOOKUP('[1]cpte client'!$A10,[1]Base!$A$2:$P$65536,13,FALSE))) | J10: =IF(ISBLANK(I10),J9+G10,IFERROR(J9-F10,0)) -> 0 | K10: {=INDEX([1]Base!$A$2:$A$65536,SMALL(IF(([1]Base!$C$2:$C$65536="YYY")*1=1,ROW([1]Base!$A$2:$A$65536)-MIN(ROW([1]Base!$A$2:$A$65536))+1),ROWS([1]Base!$A$2:$A9)))} -> #NUM! | L10: =IF(ISERROR($K10),"",IF(ISBLANK(VLOOKUP('[1]cpte client'!$K10,[1]Base!$A$2:$P$65536,2,FALSE)),"",VLOOKUP('[1]cpte client'!$K10,[1]Base!$A$2:$P$65536,2,FALSE))) | M10: =IF(ISERROR($K10),"",IF(ISBLANK(VLOOKUP('[1]cpte client'!$K10,[1]Base!$A$2:$P$65536,4,FALSE)),"",VLOOKUP('[1]cpte client'!$K10,[1]Base!$A$2:$P$65536,4,FALSE))) | N10: =IF(ISERROR($K10),"",IF(ISBLANK(VLOOKUP('[1]cpte client'!$K10,[1]Base!$A$2:$P$65536,6,FALSE)),"",VLOOKUP('[1]cpte client'!$K10,[1]Base!$A$2:$P$65536,6,FALSE))) | O10: =IF(ISERROR($K10),"",IF(ISBLANK(VLOOKUP('[1]cpte client'!$K10,[1]Base!$A$2:$P$65536,8,FALSE)),"",VLOOKUP('[1]cpte client'!$K10,[1]Base!$A$2:$P$65536,8,FALSE))) | P10: =IF(ISERROR($K10),"",IF(ISBLANK(VLOOKUP('[1]cpte client'!$K10,[1]Base!$A$2:$P$65536,7,FALSE)),"",VLOOKUP('[1]cpte client'!$K10,[1]Base!$A$2:$P$65536,7,FALSE))) | Q10: =IF(ISERROR($K10),"",IF(ISBLANK(VLOOKUP('[1]cpte client'!$K10,[1]Base!$A$2:$P$65536,10,FALSE)),"",VLOOKUP('[1]cpte client'!$K10,[1]Base!$A$2:$P$65536,10,FALSE))) | R10: =IF(ISERROR($K10),"",IF(ISBLANK(VLOOKUP('[1]cpte client'!$K10,[1]Base!$A$2:$P$65536,12,FALSE)),"",VLOOKUP('[1]cpte client'!$K10,[1]Base!$A$2:$P$65536,12,FALSE))) | S10: =IF(ISERROR($K10),"",IF(ISBLANK(VLOOKUP('[1]cpte client'!$K10,[1]Base!$A$2:$P$65536,13,FALSE)),"",VLOOKUP('[1]cpte client'!$K10,[1]Base!$A$2:$P$65536,13,FALSE))) | T10: =IF(ISERROR(K10),"",IF(S10>0,T9-P10,T9+Q10)) | U10: {=INDEX([1]Base!$A$2:$A$65536,SMALL(IF(([1]Base!$C$2:$C$65536="ZZZ")*1=1,ROW([1]Base!$A$2:$A$65536)-MIN(ROW([1]Base!$A$2:$A$65536))+1),ROWS([1]Base!$A$2:$A9)))} -> #NUM! | V10: =IF(ISERROR($U10),"",IF(ISBLANK(VLOOKUP('[1]cpte client'!$U10,[1]Base!$A$2:$P$65536,2,FALSE)),"",VLOOKUP('[1]cpte client'!$U10,[1]Base!$A$2:$P$65536,2,FALSE))) | W10: =IF(ISERROR($U10),"",IF(ISBLANK(VLOOKUP('[1]cpte client'!$U10,[1]Base!$A$2:$P$65536,4,FALSE)),"",VLOOKUP('[1]cpte client'!$U10,[1]Base!$A$2:$P$65536,4,FALSE))) | X10: =IF(ISERROR($U10),"",IF(ISBLANK(VLOOKUP('[1]cpte client'!$U10,[1]Base!$A$2:$P$65536,6,FALSE)),"",VLOOKUP('[1]cpte client'!$U10,[1]Base!$A$2:$P$65536,6,FALSE))) | Y10: =IF(ISERROR($U10),"",IF(ISBLANK(VLOOKUP('[1]cpte client'!$U10,[1]Base!$A$2:$P$65536,8,FALSE)),"",VLOOKUP('[1]cpte client'!$U10,[1]Base!$A$2:$P$65536,8,FALSE))) | Z10: =IF(ISERROR($U10),"",IF(ISBLANK(VLOOKUP('[1]cpte client'!$U10,[1]Base!$A$2:$P$65536,7,FALSE)),"",VLOOKUP('[1]cpte client'!$U10,[1]Base!$A$2:$P$65536,7,FALSE))) | AA10: =IF(ISERROR($U10),"",IF(ISBLANK(VLOOKUP('[1]cpte client'!$U10,[1]Base!$A$2:$P$65536,10,FALSE)),"",VLOOKUP('[1]cpte client'!$U10,[1]Base!$A$2:$P$65536,10,FALSE))) | AB10: =IF(ISERROR($U10),"",IF(ISBLANK(VLOOKUP('[1]cpte client'!$U10,[1]Base!$A$2:$P$65536,12,FALSE)),"",VLOOKUP('[1]cpte client'!$U10,[1]Base!$A$2:$P$65536,12,FALSE))) | AC10: =IF(ISERROR($U10),"",IF(ISBLANK(VLOOKUP('[1]cpte client'!$U10,[1]Base!$A$2:$P$65536,13,FALSE)),"",VLOOKUP('[1]cpte client'!$U10,[1]Base!$A$2:$P$65536,13,FALSE))) | AD10: =IF(AC10>0,0,AA10) -> 0
A11: {=INDEX([1]Base!$A$2:$A$65536,SMALL(IF(([1]Base!$C$2:$C$65536="XXX")*1=1,ROW([1]Base!$A$2:$A$65536)-MIN(ROW([1]Base!$A$2:$A$65536))+1),ROWS([1]Base!$A$2:$A10)))} -> #NUM! | B11: =IF(ISERROR($A11),"",IF(ISBLANK(VLOOKUP('[1]cpte client'!$A11,[1]Base!$A$2:$P$65536,2,FALSE)),"",VLOOKUP('[1]cpte client'!$A11,[1]Base!$A$2:$P$65536,2,FALSE))) | C11: =IF(ISERROR($A11),"",IF(ISBLANK(VLOOKUP('[1]cpte client'!$A11,[1]Base!$A$2:$P$65536,4,FALSE)),"",VLOOKUP('[1]cpte client'!$A11,[1]Base!$A$2:$P$65536,4,FALSE))) | D11: =IF(ISERROR($A11),"",IF(ISBLANK(VLOOKUP('[1]cpte client'!$A11,[1]Base!$A$2:$P$65536,6,FALSE)),"",VLOOKUP('[1]cpte client'!$A11,[1]Base!$A$2:$P$65536,6,FALSE))) | E11: =IF(ISERROR($A11),"",IF(ISBLANK(VLOOKUP('[1]cpte client'!$A11,[1]Base!$A$2:$P$65536,8,FALSE)),"",VLOOKUP('[1]cpte client'!$A11,[1]Base!$A$2:$P$65536,8,FALSE))) | F11: =IF(ISERROR($A11),"",IF(ISBLANK(VLOOKUP('[1]cpte client'!$A11,[1]Base!$A$2:$P$65536,7,FALSE)),"",VLOOKUP('[1]cpte client'!$A11,[1]Base!$A$2:$P$65536,7,FALSE))) | G11: =IF(ISERROR($A11),"",IF(ISBLANK(VLOOKUP('[1]cpte client'!$A11,[1]Base!$A$2:$P$65536,10,FALSE)),"",VLOOKUP('[1]cpte client'!$A11,[1]Base!$A$2:$P$65536,10,FALSE))) | H11: =IF(ISERROR($A11),"",IF(ISBLANK(VLOOKUP('[1]cpte client'!$A11,[1]Base!$A$2:$P$65536,12,FALSE)),"",VLOOKUP('[1]cpte client'!$A11,[1]Base!$A$2:$P$65536,12,FALSE))) | I11: =IF(ISERROR($A11),"",IF(ISBLANK(VLOOKUP('[1]cpte client'!$A11,[1]Base!$A$2:$P$65536,13,FALSE)),"",VLOOKUP('[1]cpte client'!$A11,[1]Base!$A$2:$P$65536,13,FALSE))) | J11: =IF(ISBLANK(I11),J10+G11,IFERROR(J10-F11,0)) -> 0 | K11: {=INDEX([1]Base!$A$2:$A$65536,SMALL(IF(([1]Base!$C$2:$C$65536="YYY")*1=1,ROW([1]Base!$A$2:$A$65536)-MIN(ROW([1]Base!$A$2:$A$65536))+1),ROWS([1]Base!$A$2:$A10)))} -> #NUM! | L11: =IF(ISERROR($K11),"",IF(ISBLANK(VLOOKUP('[1]cpte client'!$K11,[1]Base!$A$2:$P$65536,2,FALSE)),"",VLOOKUP('[1]cpte client'!$K11,[1]Base!$A$2:$P$65536,2,FALSE))) | M11: =IF(ISERROR($K11),"",IF(ISBLANK(VLOOKUP('[1]cpte client'!$K11,[1]Base!$A$2:$P$65536,4,FALSE)),"",VLOOKUP('[1]cpte client'!$K11,[1]Base!$A$2:$P$65536,4,FALSE))) | N11: =IF(ISERROR($K11),"",IF(ISBLANK(VLOOKUP('[1]cpte client'!$K11,[1]Base!$A$2:$P$65536,6,FALSE)),"",VLOOKUP('[1]cpte client'!$K11,[1]Base!$A$2:$P$65536,6,FALSE))) | O11: =IF(ISERROR($K11),"",IF(ISBLANK(VLOOKUP('[1]cpte client'!$K11,[1]Base!$A$2:$P$65536,8,FALSE)),"",VLOOKUP('[1]cpte client'!$K11,[1]Base!$A$2:$P$65536,8,FALSE))) | P11: =IF(ISERROR($K11),"",IF(ISBLANK(VLOOKUP('[1]cpte client'!$K11,[1]Base!$A$2:$P$65536,7,FALSE)),"",VLOOKUP('[1]cpte client'!$K11,[1]Base!$A$2:$P$65536,7,FALSE))) | Q11: =IF(ISERROR($K11),"",IF(ISBLANK(VLOOKUP('[1]cpte client'!$K11,[1]Base!$A$2:$P$65536,10,FALSE)),"",VLOOKUP('[1]cpte client'!$K11,[1]Base!$A$2:$P$65536,10,FALSE))) | R11: =IF(ISERROR($K11),"",IF(ISBLANK(VLOOKUP('[1]cpte client'!$K11,[1]Base!$A$2:$P$65536,12,FALSE)),"",VLOOKUP('[1]cpte client'!$K11,[1]Base!$A$2:$P$65536,12,FALSE))) | S11: =IF(ISERROR($K11),"",IF(ISBLANK(VLOOKUP('[1]cpte client'!$K11,[1]Base!$A$2:$P$65536,13,FALSE)),"",VLOOKUP('[1]cpte client'!$K11,[1]Base!$A$2:$P$65536,13,FALSE))) | T11: =IF(ISERROR(K11),"",IF(S11>0,T10-P11,T10+Q11)) | U11: {=INDEX([1]Base!$A$2:$A$65536,SMALL(IF(([1]Base!$C$2:$C$65536="ZZZ")*1=1,ROW([1]Base!$A$2:$A$65536)-MIN(ROW([1]Base!$A$2:$A$65536))+1),ROWS([1]Base!$A$2:$A10)))} -> #NUM! | V11: =IF(ISERROR($U11),"",IF(ISBLANK(VLOOKUP('[1]cpte client'!$U11,[1]Base!$A$2:$P$65536,2,FALSE)),"",VLOOKUP('[1]cpte client'!$U11,[1]Base!$A$2:$P$65536,2,FALSE))) | W11: =IF(ISERROR($U11),"",IF(ISBLANK(VLOOKUP('[1]cpte client'!$U11,[1]Base!$A$2:$P$65536,4,FALSE)),"",VLOOKUP('[1]cpte client'!$U11,[1]Base!$A$2:$P$65536,4,FALSE))) | X11: =IF(ISERROR($U11),"",IF(ISBLANK(VLOOKUP('[1]cpte client'!$U11,[1]Base!$A$2:$P$65536,6,FALSE)),"",VLOOKUP('[1]cpte client'!$U11,[1]Base!$A$2:$P$65536,6,FALSE))) | Y11: =IF(ISERROR($U11),"",IF(ISBLANK(VLOOKUP('[1]cpte client'!$U11,[1]Base!$A$2:$P$65536,8,FALSE)),"",VLOOKUP('[1]cpte client'!$U11,[1]Base!$A$2:$P$65536,8,FALSE))) | Z11: =IF(ISERROR($U11),"",IF(ISBLANK(VLOOKUP('[1]cpte client'!$U11,[1]Base!$A$2:$P$65536,7,FALSE)),"",VLOOKUP('[1]cpte client'!$U11,[1]Base!$A$2:$P$65536,7,FALSE))) | AA11: =IF(ISERROR($U11),"",IF(ISBLANK(VLOOKUP('[1]cpte client'!$U11,[1]Base!$A$2:$P$65536,10,FALSE)),"",VLOOKUP('[1]cpte client'!$U11,[1]Base!$A$2:$P$65536,10,FALSE))) | AB11: =IF(ISERROR($U11),"",IF(ISBLANK(VLOOKUP('[1]cpte client'!$U11,[1]Base!$A$2:$P$65536,12,FALSE)),"",VLOOKUP('[1]cpte client'!$U11,[1]Base!$A$2:$P$65536,12,FALSE))) | AC11: =IF(ISERROR($U11),"",IF(ISBLANK(VLOOKUP('[1]cpte client'!$U11,[1]Base!$A$2:$P$65536,13,FALSE)),"",VLOOKUP('[1]cpte client'!$U11,[1]Base!$A$2:$P$65536,13,FALSE))) | AD11: =IF(AC11>0,0,AA11) -> 0
A12: {=INDEX([1]Base!$A$2:$A$65536,SMALL(IF(([1]Base!$C$2:$C$65536="XXX")*1=1,ROW([1]Base!$A$2:$A$65536)-MIN(ROW([1]Base!$A$2:$A$65536))+1),ROWS([1]Base!$A$2:$A11)))} -> #NUM! | B12: =IF(ISERROR($A12),"",IF(ISBLANK(VLOOKUP('[1]cpte client'!$A12,[1]Base!$A$2:$P$65536,2,FALSE)),"",VLOOKUP('[1]cpte client'!$A12,[1]Base!$A$2:$P$65536,2,FALSE))) | C12: =IF(ISERROR($A12),"",IF(ISBLANK(VLOOKUP('[1]cpte client'!$A12,[1]Base!$A$2:$P$65536,4,FALSE)),"",VLOOKUP('[1]cpte client'!$A12,[1]Base!$A$2:$P$65536,4,FALSE))) | D12: =IF(ISERROR($A12),"",IF(ISBLANK(VLOOKUP('[1]cpte client'!$A12,[1]Base!$A$2:$P$65536,6,FALSE)),"",VLOOKUP('[1]cpte client'!$A12,[1]Base!$A$2:$P$65536,6,FALSE))) | E12: =IF(ISERROR($A12),"",IF(ISBLANK(VLOOKUP('[1]cpte client'!$A12,[1]Base!$A$2:$P$65536,8,FALSE)),"",VLOOKUP('[1]cpte client'!$A12,[1]Base!$A$2:$P$65536,8,FALSE))) | F12: =IF(ISERROR($A12),"",IF(ISBLANK(VLOOKUP('[1]cpte client'!$A12,[1]Base!$A$2:$P$65536,7,FALSE)),"",VLOOKUP('[1]cpte client'!$A12,[1]Base!$A$2:$P$65536,7,FALSE))) | G12: =IF(ISERROR($A12),"",IF(ISBLANK(VLOOKUP('[1]cpte client'!$A12,[1]Base!$A$2:$P$65536,10,FALSE)),"",VLOOKUP('[1]cpte client'!$A12,[1]Base!$A$2:$P$65536,10,FALSE))) | H12: =IF(ISERROR($A12),"",IF(ISBLANK(VLOOKUP('[1]cpte client'!$A12,[1]Base!$A$2:$P$65536,12,FALSE)),"",VLOOKUP('[1]cpte client'!$A12,[1]Base!$A$2:$P$65536,12,FALSE))) | I12: =IF(ISERROR($A12),"",IF(ISBLANK(VLOOKUP('[1]cpte client'!$A12,[1]Base!$A$2:$P$65536,13,FALSE)),"",VLOOKUP('[1]cpte client'!$A12,[1]Base!$A$2:$P$65536,13,FALSE))) | J12: =IF(ISBLANK(I12),J11+G12,IFERROR(J11-F12,0)) -> 0 | K12: {=INDEX([1]Base!$A$2:$A$65536,SMALL(IF(([1]Base!$C$2:$C$65536="YYY")*1=1,ROW([1]Base!$A$2:$A$65536)-MIN(ROW([1]Base!$A$2:$A$65536))+1),ROWS([1]Base!$A$2:$A11)))} -> #NUM! | L12: =IF(ISERROR($K12),"",IF(ISBLANK(VLOOKUP('[1]cpte client'!$K12,[1]Base!$A$2:$P$65536,2,FALSE)),"",VLOOKUP('[1]cpte client'!$K12,[1]Base!$A$2:$P$65536,2,FALSE))) | M12: =IF(ISERROR($K12),"",IF(ISBLANK(VLOOKUP('[1]cpte client'!$K12,[1]Base!$A$2:$P$65536,4,FALSE)),"",VLOOKUP('[1]cpte client'!$K12,[1]Base!$A$2:$P$65536,4,FALSE))) | N12: =IF(ISERROR($K12),"",IF(ISBLANK(VLOOKUP('[1]cpte client'!$K12,[1]Base!$A$2:$P$65536,6,FALSE)),"",VLOOKUP('[1]cpte client'!$K12,[1]Base!$A$2:$P$65536,6,FALSE))) | O12: =IF(ISERROR($K12),"",IF(ISBLANK(VLOOKUP('[1]cpte client'!$K12,[1]Base!$A$2:$P$65536,8,FALSE)),"",VLOOKUP('[1]cpte client'!$K12,[1]Base!$A$2:$P$65536,8,FALSE))) | P12: =IF(ISERROR($K12),"",IF(ISBLANK(VLOOKUP('[1]cpte client'!$K12,[1]Base!$A$2:$P$65536,7,FALSE)),"",VLOOKUP('[1]cpte client'!$K12,[1]Base!$A$2:$P$65536,7,FALSE))) | Q12: =IF(ISERROR($K12),"",IF(ISBLANK(VLOOKUP('[1]cpte client'!$K12,[1]Base!$A$2:$P$65536,10,FALSE)),"",VLOOKUP('[1]cpte client'!$K12,[1]Base!$A$2:$P$65536,10,FALSE))) | R12: =IF(ISERROR($K12),"",IF(ISBLANK(VLOOKUP('[1]cpte client'!$K12,[1]Base!$A$2:$P$65536,12,FALSE)),"",VLOOKUP('[1]cpte client'!$K12,[1]Base!$A$2:$P$65536,12,FALSE))) | S12: =IF(ISERROR($K12),"",IF(ISBLANK(VLOOKUP('[1]cpte client'!$K12,[1]Base!$A$2:$P$65536,13,FALSE)),"",VLOOKUP('[1]cpte client'!$K12,[1]Base!$A$2:$P$65536,13,FALSE))) | T12: =IF(ISERROR(K12),"",IF(S12>0,T11-P12,T11+Q12)) | U12: {=INDEX([1]Base!$A$2:$A$65536,SMALL(IF(([1]Base!$C$2:$C$65536="ZZZ")*1=1,ROW([1]Base!$A$2:$A$65536)-MIN(ROW([1]Base!$A$2:$A$65536))+1),ROWS([1]Base!$A$2:$A11)))} -> #NUM! | V12: =IF(ISERROR($U12),"",IF(ISBLANK(VLOOKUP('[1]cpte client'!$U12,[1]Base!$A$2:$P$65536,2,FALSE)),"",VLOOKUP('[1]cpte client'!$U12,[1]Base!$A$2:$P$65536,2,FALSE))) | W12: =IF(ISERROR($U12),"",IF(ISBLANK(VLOOKUP('[1]cpte client'!$U12,[1]Base!$A$2:$P$65536,4,FALSE)),"",VLOOKUP('[1]cpte client'!$U12,[1]Base!$A$2:$P$65536,4,FALSE))) | X12: =IF(ISERROR($U12),"",IF(ISBLANK(VLOOKUP('[1]cpte client'!$U12,[1]Base!$A$2:$P$65536,6,FALSE)),"",VLOOKUP('[1]cpte client'!$U12,[1]Base!$A$2:$P$65536,6,FALSE))) | Y12: =IF(ISERROR($U12),"",IF(ISBLANK(VLOOKUP('[1]cpte client'!$U12,[1]Base!$A$2:$P$65536,8,FALSE)),"",VLOOKUP('[1]cpte client'!$U12,[1]Base!$A$2:$P$65536,8,FALSE))) | Z12: =IF(ISERROR($U12),"",IF(ISBLANK(VLOOKUP('[1]cpte client'!$U12,[1]Base!$A$2:$P$65536,7,FALSE)),"",VLOOKUP('[1]cpte client'!$U12,[1]Base!$A$2:$P$65536,7,FALSE))) | AA12: =IF(ISERROR($U12),"",IF(ISBLANK(VLOOKUP('[1]cpte client'!$U12,[1]Base!$A$2:$P$65536,10,FALSE)),"",VLOOKUP('[1]cpte client'!$U12,[1]Base!$A$2:$P$65536,10,FALSE))) | AB12: =IF(ISERROR($U12),"",IF(ISBLANK(VLOOKUP('[1]cpte client'!$U12,[1]Base!$A$2:$P$65536,12,FALSE)),"",VLOOKUP('[1]cpte client'!$U12,[1]Base!$A$2:$P$65536,12,FALSE))) | AC12: =IF(ISERROR($U12),"",IF(ISBLANK(VLOOKUP('[1]cpte client'!$U12,[1]Base!$A$2:$P$65536,13,FALSE)),"",VLOOKUP('[1]cpte client'!$U12,[1]Base!$A$2:$P$65536,13,FALSE))) | AD12: =IF(AC12>0,0,AA12) -> 0
A13: {=INDEX([1]Base!$A$2:$A$65536,SMALL(IF(([1]Base!$C$2:$C$65536="XXX")*1=1,ROW([1]Base!$A$2:$A$65536)-MIN(ROW([1]Base!$A$2:$A$65536))+1),ROWS([1]Base!$A$2:$A12)))} -> #NUM! | B13: =IF(ISERROR($A13),"",IF(ISBLANK(VLOOKUP('[1]cpte client'!$A13,[1]Base!$A$2:$P$65536,2,FALSE)),"",VLOOKUP('[1]cpte client'!$A13,[1]Base!$A$2:$P$65536,2,FALSE))) | C13: =IF(ISERROR($A13),"",IF(ISBLANK(VLOOKUP('[1]cpte client'!$A13,[1]Base!$A$2:$P$65536,4,FALSE)),"",VLOOKUP('[1]cpte client'!$A13,[1]Base!$A$2:$P$65536,4,FALSE))) | D13: =IF(ISERROR($A13),"",IF(ISBLANK(VLOOKUP('[1]cpte client'!$A13,[1]Base!$A$2:$P$65536,6,FALSE)),"",VLOOKUP('[1]cpte client'!$A13,[1]Base!$A$2:$P$65536,6,FALSE))) | E13: =IF(ISERROR($A13),"",IF(ISBLANK(VLOOKUP('[1]cpte client'!$A13,[1]Base!$A$2:$P$65536,8,FALSE)),"",VLOOKUP('[1]cpte client'!$A13,[1]Base!$A$2:$P$65536,8,FALSE))) | F13: =IF(ISERROR($A13),"",IF(ISBLANK(VLOOKUP('[1]cpte client'!$A13,[1]Base!$A$2:$P$65536,7,FALSE)),"",VLOOKUP('[1]cpte client'!$A13,[1]Base!$A$2:$P$65536,7,FALSE))) | G13: =IF(ISERROR($A13),"",IF(ISBLANK(VLOOKUP('[1]cpte client'!$A13,[1]Base!$A$2:$P$65536,10,FALSE)),"",VLOOKUP('[1]cpte client'!$A13,[1]Base!$A$2:$P$65536,10,FALSE))) | H13: =IF(ISERROR($A13),"",IF(ISBLANK(VLOOKUP('[1]cpte client'!$A13,[1]Base!$A$2:$P$65536,12,FALSE)),"",VLOOKUP('[1]cpte client'!$A13,[1]Base!$A$2:$P$65536,12,FALSE))) | I13: =IF(ISERROR($A13),"",IF(ISBLANK(VLOOKUP('[1]cpte client'!$A13,[1]Base!$A$2:$P$65536,13,FALSE)),"",VLOOKUP('[1]cpte client'!$A13,[1]Base!$A$2:$P$65536,13,FALSE))) | J13: =IF(ISBLANK(I13),J12+G13,IFERROR(J12-F13,0)) -> 0 | K13: {=INDEX([1]Base!$A$2:$A$65536,SMALL(IF(([1]Base!$C$2:$C$65536="YYY")*1=1,ROW([1]Base!$A$2:$A$65536)-MIN(ROW([1]Base!$A$2:$A$65536))+1),ROWS([1]Base!$A$2:$A12)))} -> #NUM! | L13: =IF(ISERROR($K13),"",IF(ISBLANK(VLOOKUP('[1]cpte client'!$K13,[1]Base!$A$2:$P$65536,2,FALSE)),"",VLOOKUP('[1]cpte client'!$K13,[1]Base!$A$2:$P$65536,2,FALSE))) | M13: =IF(ISERROR($K13),"",IF(ISBLANK(VLOOKUP('[1]cpte client'!$K13,[1]Base!$A$2:$P$65536,4,FALSE)),"",VLOOKUP('[1]cpte client'!$K13,[1]Base!$A$2:$P$65536,4,FALSE))) | N13: =IF(ISERROR($K13),"",IF(ISBLANK(VLOOKUP('[1]cpte client'!$K13,[1]Base!$A$2:$P$65536,6,FALSE)),"",VLOOKUP('[1]cpte client'!$K13,[1]Base!$A$2:$P$65536,6,FALSE))) | O13: =IF(ISERROR($K13),"",IF(ISBLANK(VLOOKUP('[1]cpte client'!$K13,[1]Base!$A$2:$P$65536,8,FALSE)),"",VLOOKUP('[1]cpte client'!$K13,[1]Base!$A$2:$P$65536,8,FALSE))) | P13: =IF(ISERROR($K13),"",IF(ISBLANK(VLOOKUP('[1]cpte client'!$K13,[1]Base!$A$2:$P$65536,7,FALSE)),"",VLOOKUP('[1]cpte client'!$K13,[1]Base!$A$2:$P$65536,7,FALSE))) | Q13: =IF(ISERROR($K13),"",IF(ISBLANK(VLOOKUP('[1]cpte client'!$K13,[1]Base!$A$2:$P$65536,10,FALSE)),"",VLOOKUP('[1]cpte client'!$K13,[1]Base!$A$2:$P$65536,10,FALSE))) | R13: =IF(ISERROR($K13),"",IF(ISBLANK(VLOOKUP('[1]cpte client'!$K13,[1]Base!$A$2:$P$65536,12,FALSE)),"",VLOOKUP('[1]cpte client'!$K13,[1]Base!$A$2:$P$65536,12,FALSE))) | S13: =IF(ISERROR($K13),"",IF(ISBLANK(VLOOKUP('[1]cpte client'!$K13,[1]Base!$A$2:$P$65536,13,FALSE)),"",VLOOKUP('[1]cpte client'!$K13,[1]Base!$A$2:$P$65536,13,FALSE))) | T13: =IF(ISERROR(K13),"",IF(S13>0,T12-P13,T12+Q13)) | U13: {=INDEX([1]Base!$A$2:$A$65536,SMALL(IF(([1]Base!$C$2:$C$65536="ZZZ")*1=1,ROW([1]Base!$A$2:$A$65536)-MIN(ROW([1]Base!$A$2:$A$65536))+1),ROWS([1]Base!$A$2:$A12)))} -> #NUM! | V13: =IF(ISERROR($U13),"",IF(ISBLANK(VLOOKUP('[1]cpte client'!$U13,[1]Base!$A$2:$P$65536,2,FALSE)),"",VLOOKUP('[1]cpte client'!$U13,[1]Base!$A$2:$P$65536,2,FALSE))) | W13: =IF(ISERROR($U13),"",IF(ISBLANK(VLOOKUP('[1]cpte client'!$U13,[1]Base!$A$2:$P$65536,4,FALSE)),"",VLOOKUP('[1]cpte client'!$U13,[1]Base!$A$2:$P$65536,4,FALSE))) | X13: =IF(ISERROR($U13),"",IF(ISBLANK(VLOOKUP('[1]cpte client'!$U13,[1]Base!$A$2:$P$65536,6,FALSE)),"",VLOOKUP('[1]cpte client'!$U13,[1]Base!$A$2:$P$65536,6,FALSE))) | Y13: =IF(ISERROR($U13),"",IF(ISBLANK(VLOOKUP('[1]cpte client'!$U13,[1]Base!$A$2:$P$65536,8,FALSE)),"",VLOOKUP('[1]cpte client'!$U13,[1]Base!$A$2:$P$65536,8,FALSE))) | Z13: =IF(ISERROR($U13),"",IF(ISBLANK(VLOOKUP('[1]cpte client'!$U13,[1]Base!$A$2:$P$65536,7,FALSE)),"",VLOOKUP('[1]cpte client'!$U13,[1]Base!$A$2:$P$65536,7,FALSE))) | AA13: =IF(ISERROR($U13),"",IF(ISBLANK(VLOOKUP('[1]cpte client'!$U13,[1]Base!$A$2:$P$65536,10,FALSE)),"",VLOOKUP('[1]cpte client'!$U13,[1]Base!$A$2:$P$65536,10,FALSE))) | AB13: =IF(ISERROR($U13),"",IF(ISBLANK(VLOOKUP('[1]cpte client'!$U13,[1]Base!$A$2:$P$65536,12,FALSE)),"",VLOOKUP('[1]cpte client'!$U13,[1]Base!$A$2:$P$65536,12,FALSE))) | AC13: =IF(ISERROR($U13),"",IF(ISBLANK(VLOOKUP('[1]cpte client'!$U13,[1]Base!$A$2:$P$65536,13,FALSE)),"",VLOOKUP('[1]cpte client'!$U13,[1]Base!$A$2:$P$65536,13,FALSE))) | AD13: =IF(AC13>0,0,AA13) -> 0
A14: {=INDEX([1]Base!$A$2:$A$65536,SMALL(IF(([1]Base!$C$2:$C$65536="XXX")*1=1,ROW([1]Base!$A$2:$A$65536)-MIN(ROW([1]Base!$A$2:$A$65536))+1),ROWS([1]Base!$A$2:$A13)))} -> #NUM! | B14: =IF(ISERROR($A14),"",IF(ISBLANK(VLOOKUP('[1]cpte client'!$A14,[1]Base!$A$2:$P$65536,2,FALSE)),"",VLOOKUP('[1]cpte client'!$A14,[1]Base!$A$2:$P$65536,2,FALSE))) | C14: =IF(ISERROR($A14),"",IF(ISBLANK(VLOOKUP('[1]cpte client'!$A14,[1]Base!$A$2:$P$65536,4,FALSE)),"",VLOOKUP('[1]cpte client'!$A14,[1]Base!$A$2:$P$65536,4,FALSE))) | D14: =IF(ISERROR($A14),"",IF(ISBLANK(VLOOKUP('[1]cpte client'!$A14,[1]Base!$A$2:$P$65536,6,FALSE)),"",VLOOKUP('[1]cpte client'!$A14,[1]Base!$A$2:$P$65536,6,FALSE))) | E14: =IF(ISERROR($A14),"",IF(ISBLANK(VLOOKUP('[1]cpte client'!$A14,[1]Base!$A$2:$P$65536,8,FALSE)),"",VLOOKUP('[1]cpte client'!$A14,[1]Base!$A$2:$P$65536,8,FALSE))) | F14: =IF(ISERROR($A14),"",IF(ISBLANK(VLOOKUP('[1]cpte client'!$A14,[1]Base!$A$2:$P$65536,7,FALSE)),"",VLOOKUP('[1]cpte client'!$A14,[1]Base!$A$2:$P$65536,7,FALSE))) | G14: =IF(ISERROR($A14),"",IF(ISBLANK(VLOOKUP('[1]cpte client'!$A14,[1]Base!$A$2:$P$65536,10,FALSE)),"",VLOOKUP('[1]cpte client'!$A14,[1]Base!$A$2:$P$65536,10,FALSE))) | H14: =IF(ISERROR($A14),"",IF(ISBLANK(VLOOKUP('[1]cpte client'!$A14,[1]Base!$A$2:$P$65536,12,FALSE)),"",VLOOKUP('[1]cpte client'!$A14,[1]Base!$A$2:$P$65536,12,FALSE))) | I14: =IF(ISERROR($A14),"",IF(ISBLANK(VLOOKUP('[1]cpte client'!$A14,[1]Base!$A$2:$P$65536,13,FALSE)),"",VLOOKUP('[1]cpte client'!$A14,[1]Base!$A$2:$P$65536,13,FALSE))) | J14: =IF(ISBLANK(I14),J13+G14,IFERROR(J13-F14,0)) -> 0 | K14: {=INDEX([1]Base!$A$2:$A$65536,SMALL(IF(([1]Base!$C$2:$C$65536="YYY")*1=1,ROW([1]Base!$A$2:$A$65536)-MIN(ROW([1]Base!$A$2:$A$65536))+1),ROWS([1]Base!$A$2:$A13)))} -> #NUM! | L14: =IF(ISERROR($K14),"",IF(ISBLANK(VLOOKUP('[1]cpte client'!$K14,[1]Base!$A$2:$P$65536,2,FALSE)),"",VLOOKUP('[1]cpte client'!$K14,[1]Base!$A$2:$P$65536,2,FALSE))) | M14: =IF(ISERROR($K14),"",IF(ISBLANK(VLOOKUP('[1]cpte client'!$K14,[1]Base!$A$2:$P$65536,4,FALSE)),"",VLOOKUP('[1]cpte client'!$K14,[1]Base!$A$2:$P$65536,4,FALSE))) | N14: =IF(ISERROR($K14),"",IF(ISBLANK(VLOOKUP('[1]cpte client'!$K14,[1]Base!$A$2:$P$65536,6,FALSE)),"",VLOOKUP('[1]cpte client'!$K14,[1]Base!$A$2:$P$65536,6,FALSE))) | O14: =IF(ISERROR($K14),"",IF(ISBLANK(VLOOKUP('[1]cpte client'!$K14,[1]Base!$A$2:$P$65536,8,FALSE)),"",VLOOKUP('[1]cpte client'!$K14,[1]Base!$A$2:$P$65536,8,FALSE))) | P14: =IF(ISERROR($K14),"",IF(ISBLANK(VLOOKUP('[1]cpte client'!$K14,[1]Base!$A$2:$P$65536,7,FALSE)),"",VLOOKUP('[1]cpte client'!$K14,[1]Base!$A$2:$P$65536,7,FALSE))) | Q14: =IF(ISERROR($K14),"",IF(ISBLANK(VLOOKUP('[1]cpte client'!$K14,[1]Base!$A$2:$P$65536,10,FALSE)),"",VLOOKUP('[1]cpte client'!$K14,[1]Base!$A$2:$P$65536,10,FALSE))) | R14: =IF(ISERROR($K14),"",IF(ISBLANK(VLOOKUP('[1]cpte client'!$K14,[1]Base!$A$2:$P$65536,12,FALSE)),"",VLOOKUP('[1]cpte client'!$K14,[1]Base!$A$2:$P$65536,12,FALSE))) | S14: =IF(ISERROR($K14),"",IF(ISBLANK(VLOOKUP('[1]cpte client'!$K14,[1]Base!$A$2:$P$65536,13,FALSE)),"",VLOOKUP('[1]cpte client'!$K14,[1]Base!$A$2:$P$65536,13,FALSE))) | T14: =IF(ISERROR(K14),"",IF(S14>0,T13-P14,T13+Q14)) | U14: {=INDEX([1]Base!$A$2:$A$65536,SMALL(IF(([1]Base!$C$2:$C$65536="ZZZ")*1=1,ROW([1]Base!$A$2:$A$65536)-MIN(ROW([1]Base!$A$2:$A$65536))+1),ROWS([1]Base!$A$2:$A13)))} -> #NUM! | V14: =IF(ISERROR($U14),"",IF(ISBLANK(VLOOKUP('[1]cpte client'!$U14,[1]Base!$A$2:$P$65536,2,FALSE)),"",VLOOKUP('[1]cpte client'!$U14,[1]Base!$A$2:$P$65536,2,FALSE))) | W14: =IF(ISERROR($U14),"",IF(ISBLANK(VLOOKUP('[1]cpte client'!$U14,[1]Base!$A$2:$P$65536,4,FALSE)),"",VLOOKUP('[1]cpte client'!$U14,[1]Base!$A$2:$P$65536,4,FALSE))) | X14: =IF(ISERROR($U14),"",IF(ISBLANK(VLOOKUP('[1]cpte client'!$U14,[1]Base!$A$2:$P$65536,6,FALSE)),"",VLOOKUP('[1]cpte client'!$U14,[1]Base!$A$2:$P$65536,6,FALSE))) | Y14: =IF(ISERROR($U14),"",IF(ISBLANK(VLOOKUP('[1]cpte client'!$U14,[1]Base!$A$2:$P$65536,8,FALSE)),"",VLOOKUP('[1]cpte client'!$U14,[1]Base!$A$2:$P$65536,8,FALSE))) | Z14: =IF(ISERROR($U14),"",IF(ISBLANK(VLOOKUP('[1]cpte client'!$U14,[1]Base!$A$2:$P$65536,7,FALSE)),"",VLOOKUP('[1]cpte client'!$U14,[1]Base!$A$2:$P$65536,7,FALSE))) | AA14: =IF(ISERROR($U14),"",IF(ISBLANK(VLOOKUP('[1]cpte client'!$U14,[1]Base!$A$2:$P$65536,10,FALSE)),"",VLOOKUP('[1]cpte client'!$U14,[1]Base!$A$2:$P$65536,10,FALSE))) | AB14: =IF(ISERROR($U14),"",IF(ISBLANK(VLOOKUP('[1]cpte client'!$U14,[1]Base!$A$2:$P$65536,12,FALSE)),"",VLOOKUP('[1]cpte client'!$U14,[1]Base!$A$2:$P$65536,12,FALSE))) | AC14: =IF(ISERROR($U14),"",IF(ISBLANK(VLOOKUP('[1]cpte client'!$U14,[1]Base!$A$2:$P$65536,13,FALSE)),"",VLOOKUP('[1]cpte client'!$U14,[1]Base!$A$2:$P$65536,13,FALSE))) | AD14: =IF(AC14>0,0,AA14) -> 0
