Workbook

Sheet 1
A1: compteur principal | B1: nom dépôt | C1: sous compteur | D1: LC | E1: N° Arr | F1: L Arr | G1: S Arr | H1: ICC | I1: Δ% | J1: ΔV | K1: IN | L1: N° terre | M1: Terre | N1: Plans | O1: Réception
A2: C1 | B2: GR-A1 | C2: C1 | D2: E2
B3: BL-B2 | C3: C1.1 | D3: E2 | M3: OK | N3: OK | O3: 41947
A5: C2 | B5: RD-D2 | C5: C2.1 | D5: E22
B6: RD-C7 | C6: C2.1.1 | D6: RD-C6
B7: RD-C4 | C7: C2.2 | D7: E22
B8: RD-C3 | C8: C2.3 | D8: E22 | G8: 4*10 | M8: OK | N8: OK
B9: RD-D4 | C9: C2.4 | D9: E22 | N9: OK | O9: 41529
A11: C3 | B11: PR-A2 | C11: C3 | D11: E2 | H11: 4.18 | N11: OK | O11: 41340
B12: PR-A3 | C12: C3 | D12: E2 | H12: 8.54 | N12: OK | O12: 41340
B13: PR-A6 | C13: C3 | D13: E2 | H13: 1.15 | N13: OK | O13: 41529
A15: C4 | B15: PR-A1 | C15: C4 | D15: E2 | H15: 7.8 | I15: 1.25 | J15: 4.94 | K15: 150 | N15: OK | O15: 41319
B16: PR-A5 | C16: C4.1 | D16: E24 | H16: 1.72
B17: PR-A4 | C17: C4.2 | D17: E24 | H17: 1.72
B18: PR-A7 | C18: C4.3 | D18: E24 | H18: 1.72
B19: commun | C19: C4.4 | D19: E27 | H19: 1.72
B20: PR-A8 | C20: C4.5 | D20: E27 | H20: 1.72 | M20: OK | N20: OK
A22: C5 | B22: BL-C2/D2 | C22: C5.1 | D22: E2 | M22: OK | N22: OK | O22: 41947
B23: BL-F2/G2 | C23: C5.2 | D23: E2 | M23: OK | N23: OK | O23: 41718
B24: GR-B1 | C24: C5.3 | D24: E2
B25: BL-E3 | C25: C5.4 | D25: E2
A27: C6 | B27: GR-C1 | C27: C6.1 | D27: E2 | M27: OK | N27: OK | O27: 41947
B28: GR-C3 | C28: C6.2 | D28: E2 | M28: OK | N28: OK | O28: 41947
B29: RD-B3 | C29: C6.3 | D29: E22 | N29: OK | O29: 41529
B30: RD-B2 | C30: C6.3.1 | D30: RD-B3 | N30: OK | O30: 41529
B31: RD-B4 | C31: C6.4 | D31: E22 | M31: OK | N31: OK | O31: 41947
B32: RD-C2 | C32: C6.5 | D32: E22 | G32: 4*10 | M32: OK | N32: OK
B33: RD-C1 | C33: C6.6 | D33: E22
B34: TC1 | C34: C6.7 | D34: E2
A36: C7 | B36: BL-A2 | C36: C7.1 | D36: E25 | M36: OK | N36: OK | O36: 41947
B37: BL-A3 | C37: C7.2 | D37: E25 | M37: OK | N37: OK | O37: 41947
A39: C8 | B39: RD-A2 | C39: C8.1 | D39: E23 | G39: 4*10 | M39: OK
B40: RD-A4 | C40: C8.2 | D40: E23 | G40: 4*10 | M40: OK | N40: OK | O40: 41718
B41: RD-A5 | C41: C8.3 | D41: E23 | G41: 4*10 | M41: OK | N41: OK | O41: 41718
B42: RD-A1 (reserve) | C42: C8.4 | D42: E23
B43: TCD3 | C43: C8.5 | D43: E23 | H43: 6.93 | M43: OK
B44: RD-D5 | C44: C8.6 | D44: E26 | F44: 25 | G44: 4*10 | H44: 2.33
B45: TC4 | C45: C8.7 | D45: E26 | F45: 10 | G45: 4*10 | H45: 3.46 | M45: OK
B46: WC1 | C46: C8.7.1 | D46: TC4 | F46: 5 | G46: 3G2,5 | H46: 2.11 | M46: OK
B47: WC2 | C47: C8.7.2 | D47: TC4 | F47: 10 | G47: 3G2,5 | H47: 1.5 | M47: OK
B48: GL-C8 | C48: C8.8 | D48: E26 | F48: 30 | G48: 4*10 | H48: 2.1 | M48: OK | N48: OK
B49: RD-A6 | C49: C8.9 | D49: E26 | F49: 20 | G49: 4*10 | H49: 2.62 | M49: OK | N49: OK | O49: 41947
B50: RD-A3 | C50: C8.10 | D50: E26 | F50: 30 | G50: 4*10 | H50: 2.1 | M50: OK | N50: OK
B51: GL - C7 | C51: C8.11 | D51: E26 | F51: 50 | G51: 4*10 | H51: 1.5 | M51: OK | N51: OK
B52: GL - C6 | C52: C8.12 | D52: E26 | F52: 30 | G52: 4*10 | H52: 2.1 | M52: OK | N52: OK
D56: LC | E56: N° Arr | F56: L Arr | G56: S Arr | H56: ICC | I56: Δ% | J56: ΔV | K56: IN | L56: N° terre | M56: Terre | N56: Plans | O56: Réception
A57: C9 | B57: GR-D1/E1 | C57: C9 | D57: E2 | M57: OK
B58: BL-E2 | C58: C9.1 | D58: E2 | N58: OK | O58: 41718
A60: C10 | B60: GR-F1 | C60: C10.1 | D60: E21 | F60: 45 | G60: 4*25 | I60: 3.08 | J60: 12.3 | K60: 463 | M60: OK | N60: OK | O60: 41718
B61: GR-G1 | C61: C10.2 | D61: E21 | K61: 420 | M61: OK
B62: GR-H1 | C62: C10.3 | D62: E21 | K62: 432 | M62: OK
B63: SOD | C63: C10.4 | D63: E21
B64: GR-E1 | C64: C10.5 | D64: E21 | F64: 65 | G64: 4*16 | I64: 3.96 | J64: 16.05 | K64: 440
B65: TC2 | D65: E21 | K65: 420
A67: C11 | B67: RD-D1 | C67: C11.1 | D67: E22 | N67: OK | O67: 41947
B68: RD-D1/D3 | C68: C11.2 | D68: E22
B69: RD-D3 | C69: C11.3 | D69: E22 | N69: OK | O69: 41947
A71: C12 | B71: GL-B2 | C71: C12.1 | D71: E11 | F71: 40 | G71: 4*10 | M71: OK | N71: OK
B72: GL-B6 | C72: C12.2 | D72: E11
B73: Reserve | C73: C12.3 | D73: E11
B74: GL-C4 | C74: C12.4 | D74: E11 | E74: 1104 | F74: 70 | G74: 4*10 | H74: 1.25 | L74: 239 | M74: OK | N74: OK
B75: GL-C5 | C75: C12.5 | D75: E11 | E75: 1105 | F75: 80 | G75: 4*10 | H75: 1.12 | L75: 238 | N75: OK | O75: 41529
B76: GL-C3 | C76: C12.6 | D76: E11 | E76: 1106 | F76: 50 | G76: 4*10 | H76: 1.64 | L76: 237 | M76: OK
B77: GL-B7 | C77: C12.7 | D77: E11 | N77: OK | O77: 41718
B78: GL-C2 | C78: C12.8 | D78: E11 | E78: 1107 | F78: 30 | G78: 4*10 | H78: 2.36 | L78: 242 | M78: OK | N78: OK
B79: GL-B10 | C79: C12.9 | D79: E11 | E79: 1102 | F79: 65 | G79: 4*10 | H79: 1.42 | L79: 248 | M79: OK | N79: OK | O79: 41947
B80: GL-B3/B4 | C80: C12.10 | D80: E11 | E80: 1101 | F80: 45 | G80: 4*10 | H80: 1.78 | L80: 249 | M80: OK | N80: OK
B81: GL-B8/B9 | C81: C12.11 | D81: E11
B82: TC5 | C82: C12.12 | D82: E11 | F82: 4 | G82: 4*10 | M82: OK
B83: TC6 | D83: E11 | F83: 15 | G83: 4*10 | M83: OK
B84: TC7 | D84: TC5 | E84: 1103 | F84: 70 | G84: 5G4 | L84: 295 | M84: OK
B85: GL-B1/C1 | C85: C12.13 | D85: E11 | M85: OK
A87: C13 | B87: GL-A1 | C87: C13 | D87: E1
B88: GL-B5 | C88: C13.1 | D88: E1
A91: LOCAL | C91: C T | D91: IN (A) | E91: L arrivée (m) | F91: Section câble arrivée | H91: ICC (kA) | I91: Δ% | J91: ΔV | K91: COS φ
A92: E1 | H92: 7.04
A93: E2 | H93: 11.366
A94: E11 | B94: E1 | C94: → | D94: 125 | E94: 35 | F94: 3*35+16 | H94: 5.48 | I94: 1.44 | J94: 5.75 | K94: 1
A95: E21 | B95: E2 | D95: 112 | E95: 100 | F95: 3*50+25 | H95: 4.34 | I95: 2.43 | J95: 9.7 | K95: 0.85
A96: E22 | B96: E2 | D96: 63 | E96: 30 | F96: 4*10 | H96: 4.82 | I96: 2.17 | J96: 8.69 | K96: 1
A97: E23 | B97: E2 | C97: → | D97: 125 | E97: 50 | F97: 3*50+25 | H97: 6.97 | I97: 1.41 | J97: 5.75 | K97: 1
A98: E24 | B98: PR-A1 | D98: 80 | E98: 80 | F98: 5G16 | H98: 1.72 | I98: 4.6 | J98: 18.4 | K98: 1
A99: E25 | B99: E2 | D99: 100 | E99: 60 | F99: 4*25 | H99: 3.88 | I99: 2.47 | J99: 9.89 | K99: 0.85
A100: E26 | B100: E23 | C100: → | D100: 80 | E100: 25 | F100: 4*35 | H100: 4.95 | I100: 2.26 | J100: 3.29 | K100: 1
A101: E27 | B101: E24 | C101: →

Sheet 2
B2: =IF('1'!B2<>"",'1'!B2,"") -> GR-A1 | C2: =IF('1'!B$2<>"",'1'!B$2,"") -> GR-A1
B3: =IF('1'!B3<>"",'1'!B3,"") -> BL-B2 | C3: =IF('1'!B$3<>"",'1'!B$3,"") -> BL-B2
B4: =IF('1'!B4<>"",'1'!B4,"")
B5: =IF('1'!B5<>"",'1'!B5,"") -> RD-D2
B6: =IF('1'!B6<>"",'1'!B6,"") -> RD-C7
B7: =IF('1'!B7<>"",'1'!B7,"") -> RD-C4
B8: =IF('1'!B8<>"",'1'!B8,"") -> RD-C3
B9: =IF('1'!B9<>"",'1'!B9,"") -> RD-D4
B10: =IF('1'!B10<>"",'1'!B10,"")
B11: =IF('1'!B11<>"",'1'!B11,"") -> PR-A2
B12: =IF('1'!B12<>"",'1'!B12,"") -> PR-A3
B13: =IF('1'!B13<>"",'1'!B13,"") -> PR-A6
B14: =IF('1'!B14<>"",'1'!B14,"")
B15: =IF('1'!B15<>"",'1'!B15,"") -> PR-A1
... B302: =IF('1'!B302<>"",'1'!B302,"")
