Workbook

Sheet 1
A1: compteur principal | B1: nom dépôt | C1: sous compteur | D1: LC | E1: N° Arr | F1: L Arr | G1: S Arr | H1: ICC | I1: Δ% | J1: ΔV | K1: IN | L1: N° terre | M1: Terre | N1: Plans | O1: Réception
A2: C1 | B2: GR-A1 | C2: C1 | D2: E2
B3: BL-B2 | C3: C1.1 | D3: E2 | M3: OK | N3: OK | O3: 41947
A5: C2 | B5: RD-D2 | C5: C2.1 | D5: E22
B6: RD-C7 | C6: C2.1.1 | D6: RD-C6
B7: RD-C4 | C7: C2.2 | D7: E22
B8: RD-C3 | C8: C2.3 | D8: E22 | G8: 4*10 | M8: OK | N8: OK
B9: RD-D4 | C9: C2.4 | D9: E22 | N9: OK | O9: 41529
A11: C3 | B11: PR-A2 | C11: C3 | D11: E2 | H11: 4.18 | N11: OK | O11: 41340
B12: PR-A3 | C12: C3 | D12: E2 | H12: 8.54 | N12: OK | O12: 41340
B13: PR-A6 | C13: C3 | D13: E2 | H13: 1.15 | N13: OK | O13: 41529
A15: C4 | B15: PR-A1 | C15: C4 | D15: E2 | H15: 7.8 | I15: 1.25 | J15: 4.94 | K15: 150 | N15: OK | O15: 41319
B16: PR-A5 | C16: C4.1 | D16: E24 | H16: 1.72
B17: PR-A4 | C17: C4.2 | D17: E24 | H17: 1.72
B18: PR-A7 | C18: C4.3 | D18: E24 | H18: 1.72
B19: commun | C19: C4.4 | D19: E27 | H19: 1.72
B20: PR-A8 | C20: C4.5 | D20: E27 | H20: 1.72 | M20: OK | N20: OK
A22: C5 | B22: BL-C2/D2 | C22: C5.1 | D22: E2 | M22: OK | N22: OK | O22: 41947
B23: BL-F2/G2 | C23: C5.2 | D23: E2 | M23: OK | N23: OK | O23: 41718
B24: GR-B1 | C24: C5.3 | D24: E2
B25: BL-E3 | C25: C5.4 | D25: E2
A27: C6 | B27: GR-C1 | C27: C6.1 | D27: E2 | M27: OK | N27: OK | O27: 41947
B28: GR-C3 | C28: C6.2 | D28: E2 | M28: OK | N28: OK | O28: 41947
B29: RD-B3 | C29: C6.3 | D29: E22 | N29: OK | O29: 41529
B30: RD-B2 | C30: C6.3.1 | D30: RD-B3 | N30: OK | O30: 41529
B31: RD-B4 | C31: C6.4 | D31: E22 | M31: OK | N31: OK | O31: 41947
B32: RD-C2 | C32: C6.5 | D32: E22 | G32: 4*10 | M32: OK | N32: OK
B33: RD-C1 | C33: C6.6 | D33: E22
B34: TC1 | C34: C6.7 | D34: E2
A36: C7 | B36: BL-A2 | C36: C7.1 | D36: E25 | M36: OK | N36: OK | O36: 41947
B37: BL-A3 | C37: C7.2 | D37: E25 | M37: OK | N37: OK | O37: 41947
A39: C8 | B39: RD-A2 | C39: C8.1 | D39: E23 | G39: 4*10 | M39: OK
B40: RD-A4 | C40: C8.2 | D40: E23 | G40: 4*10 | M40: OK | N40: OK | O40: 41718
B41: RD-A5 | C41: C8.3 | D41: E23 | G41: 4*10 | M41: OK | N41: OK | O41: 41718
B42: RD-A1 (reserve) | C42: C8.4 | D42: E23
B43: TCD3 | C43: C8.5 | D43: E23 | H43: 6.93 | M43: OK
B44: RD-D5 | C44: C8.6 | D44: E26 | F44: 25 | G44: 4*10 | H44: 2.33
B45: TC4 | C45: C8.7 | D45: E26 | F45: 10 | G45: 4*10 | H45: 3.46 | M45: OK
B46: WC1 | C46: C8.7.1 | D46: TC4 | F46: 5 | G46: 3G2,5 | H46: 2.11 | M46: OK
B47: WC2 | C47: C8.7.2 | D47: TC4 | F47: 10 | G47: 3G2,5 | H47: 1.5 | M47: OK
...

Sheet 2
B2: =IF('1'!B2<>"",'1'!B2,"") -> GR-A1 | C2: =IF('1'!B$2<>"",'1'!B$2,"") -> GR-A1
B3: =IF('1'!B3<>"",'1'!B3,"") -> BL-B2 | C3: =IF('1'!B$3<>"",'1'!B$3,"") -> BL-B2
B4: =IF('1'!B4<>"",'1'!B4,"")
B5: =IF('1'!B5<>"",'1'!B5,"") -> RD-D2
B6: =IF('1'!B6<>"",'1'!B6,"") -> RD-C7
B7: =IF('1'!B7<>"",'1'!B7,"") -> RD-C4
B8: =IF('1'!B8<>"",'1'!B8,"") -> RD-C3
B9: =IF('1'!B9<>"",'1'!B9,"") -> RD-D4
B10: =IF('1'!B10<>"",'1'!B10,"")
B11: =IF('1'!B11<>"",'1'!B11,"") -> PR-A2
B12: =IF('1'!B12<>"",'1'!B12,"") -> PR-A3
B13: =IF('1'!B13<>"",'1'!B13,"") -> PR-A6
B14: =IF('1'!B14<>"",'1'!B14,"")
B15: =IF('1'!B15<>"",'1'!B15,"") -> PR-A1
... B302: =IF('1'!B302<>"",'1'!B302,"")
