Workbook

Sheet matériel
A1: Materiel
A3: Date | B3: Fournisseur | C3: HTVA | D3: TVA | E3: TVA | F3: TVAC
D5: =IF(C5<>"",21%,"") | E5: =IF(C5<>"",C5*D5,"") | F5: =IF(C5<>"",C5+E5,"")
A6: 41367 | B6: LECOT | C6: 36.76 | D6: =IF(C6<>"",21%,"") -> 0.21 | E6: =IF(C6<>"",C6*D6,"") -> 7.7196 | F6: =IF(C6<>"",C6+E6,"") -> 44.4796
A7: 41372 | B7: CIPAC | C7: 24.78 | D7: =IF(C7<>"",21%,"") -> 0.21 | E7: =IF(C7<>"",C7*D7,"") -> 5.2038 | F7: =IF(C7<>"",C7+E7,"") -> 29.9838
A8: 41372 | B8: Electric | C8: 626.08 | D8: =IF(C8<>"",21%,"") -> 0.21 | E8: =IF(C7<>"",C7*D8,"") -> 5.2038 | F8: =IF(C7<>"",C7+E8,"") -> 29.9838
A9: 41376 | B9: Lochten | C9: 9.64 | D9: =IF(C9<>"",21%,"") -> 0.21 | E9: =IF(C8<>"",C8*D9,"") -> 131.4768 | F9: =IF(C8<>"",C8+E9,"") -> 757.5568
A10: 41379 | B10: Brico | C10: 29.15 | D10: =IF(C10<>"",21%,"") -> 0.21 | E10: =IF(C10<>"",C10*D10,"") -> 6.1215 | F10: =IF(C10<>"",C10+E10,"") -> 35.2715
A11: 41380 | B11: Brico | C11: 49.49 | D11: =IF(C11<>"",21%,"") -> 0.21 | E11: =IF(C11<>"",C11*D11,"") -> 10.3929 | F11: =IF(C11<>"",C11+E11,"") -> 59.8829
A12: 41380 | B12: CIPAC | C12: 0.74 | D12: =IF(C12<>"",21%,"") -> 0.21 | E12: =IF(C12<>"",C12*D12,"") -> 0.1554 | F12: =IF(C12<>"",C12+E12,"") -> 0.8954
A13: 41382 | B13: ADAM | C13: 257.96 | D13: =IF(C13<>"",21%,"") -> 0.21 | E13: =IF(C13<>"",C13*D13,"") -> 54.1716 | F13: =IF(C13<>"",C13+E13,"") -> 312.1316
A14: 41386 | B14: Electric | C14: 558.5 | D14: =IF(C14<>"",21%,"") -> 0.21 | E14: =IF(C14<>"",C14*D14,"") -> 117.285 | F14: =IF(C14<>"",C14+E14,"") -> 675.785
A15: 41394 | B15: Electric | C15: 165 | D15: =IF(C15<>"",21%,"") -> 0.21 | E15: =IF(C15<>"",C15*D15,"") -> 34.65 | F15: =IF(C15<>"",C15+E15,"") -> 199.65
A16: 41394 | B16: Electric | C16: 335.37 | D16: =IF(C16<>"",21%,"") -> 0.21 | E16: =IF(C16<>"",C16*D16,"") -> 70.4277 | F16: =IF(C16<>"",C16+E16,"") -> 405.7977
A17: 41421 | B17: LECOT | C17: 8.33 | D17: =IF(C17<>"",21%,"") -> 0.21 | E17: =IF(C17<>"",C17*D17,"") -> 1.7493 | F17: =IF(C17<>"",C17+E17,"") -> 10.0793
A18: 41420 | B18: LECOT | C18: 34.66 | D18: =IF(C18<>"",21%,"") -> 0.21 | E18: =IF(C18<>"",C18*D18,"") -> 7.2786 | F18: =IF(C18<>"",C18+E18,"") -> 41.9386
D19: =IF(C19<>"",21%,"") | E19: =IF(C19<>"",C19*D19,"") | F19: =IF(C19<>"",C19+E19,"")
D20: =IF(C20<>"",21%,"") | E20: =IF(C20<>"",C20*D20,"") | F20: =IF(C20<>"",C20+E20,"")
D21: =IF(C21<>"",21%,"") | E21: =IF(C21<>"",C21*D21,"") | F21: =IF(C21<>"",C21+E21,"")
D22: =IF(C22<>"",21%,"") | E22: =IF(C22<>"",C22*D22,"") | F22: =IF(C22<>"",C22+E22,"")
D23: =IF(C23<>"",21%,"") | E23: =IF(C23<>"",C23*D23,"") | F23: =IF(C23<>"",C23+E23,"")
D24: =IF(C24<>"",21%,"") | E24: =IF(C24<>"",C24*D24,"") | F24: =IF(C24<>"",C24+E24,"")
D25: =IF(C25<>"",21%,"") | E25: =IF(C25<>"",C25*D25,"") | F25: =IF(C25<>"",C25+E25,"")
D26: =IF(C26<>"",21%,"") | E26: =IF(C26<>"",C26*D26,"") | F26: =IF(C26<>"",C26+E26,"")
D27: =IF(C27<>"",21%,"") | E27: =IF(C27<>"",C27*D27,"") | F27: =IF(C27<>"",C27+E27,"")
D28: =IF(C28<>"",21%,"") | E28: =IF(C28<>"",C28*D28,"") | F28: =IF(C28<>"",C28+E28,"")
D29: =IF(C29<>"",21%,"") | E29: =IF(C29<>"",C29*D29,"") | F29: =IF(C29<>"",C29+E29,"")
D30: =IF(C30<>"",21%,"") | E30: =IF(C30<>"",C30*D30,"") | F30: =IF(C30<>"",C30+E30,"")
... D34: =IF(C34<>"",21%,"") | E34: =IF(C34<>"",C34*D34,"") | F34: =IF(C34<>"",C34+E34,"")
D35: =IF(C35<>"",21%,"") | E35: =IF(C35<>"",C35*D35,"")
D36: =IF(C36<>"",21%,"") | E36: =IF(C36<>"",C36*D36,"")
D37: =IF(C37<>"",21%,"") | E37: =IF(C37<>"",C37*D37,"")
D38: =IF(C38<>"",21%,"") | E38: =IF(C38<>"",C38*D38,"")
D39: =IF(C39<>"",21%,"")
D40: =IF(C40<>"",21%,"")
D41: =IF(C41<>"",21%,"")
D42: =IF(C42<>"",21%,"")
D43: =IF(C43<>"",21%,"")
D44: =IF(C44<>"",21%,"")

Sheet note de credit
A3: Date | B3: Fournisseur | C3: HTVA | D3: TVA | E3: TVA | F3: TVAC
D5: =IF(C5<>"",21%,"") | E5: =IF(C5<>"",C5*D5,"") | F5: =IF(C5<>"",C5+E5,"")
A6: 41382 | B6: ADAM | C6: 257.96 | D6: =IF(C6<>"",21%,"") -> 0.21 | E6: =IF(C6<>"",C6*D6,"") -> 54.1716 | F6: =IF(C6<>"",C6+E6,"") -> 312.1316
A7: 41394 | B7: Electric | C7: 196.32 | D7: =IF(C7<>"",21%,"") -> 0.21 | E7: =IF(C7<>"",C7*D7,"") -> 41.2272 | F7: =IF(C7<>"",C7+E7,"") -> 237.5472

Sheet frais de déplacement
A1: Frais de déplacement
A2: Date | B2: Fournisseur | C2: HVAC | D2: Taux TVA | E2: TVA | F2: TVAC
A4: 41365 | B4: SPF mobilité transport | C4: 85.01 | D4: 0 | E4: =IF(C4<>"",C4*D4,"") -> 0 | F4: =IF(C4<>"",E4+C4,"") -> 85.01
A5: 41384 | B5: esso | C5: 48.51 | D5: =IF(C5<>"",21%,"") -> 0.21 | E5: =IF(C5<>"",C5*D5,"") -> 10.1871 | F5: =IF(C5<>"",E5+C5,"") -> 58.6971
A6: 41397 | B6: Goca | C6: 47.11 | D6: =IF(C6<>"",21%,"") -> 0.21 | E6: =IF(C6<>"",C6*D6,"") -> 9.8931 | F6: =IF(C6<>"",E6+C6,"") -> 57.0031
A7: 41419 | B7: esso | C7: 46.74 | D7: =IF(C7<>"",21%,"") -> 0.21 | E7: =IF(C7<>"",C7*D7,"") -> 9.8154 | F7: =IF(C7<>"",E7+C7,"") -> 56.5554
D8: =IF(C8<>"",21%,"") | E8: =IF(C8<>"",C8*D8,"") | F8: =IF(C8<>"",E8+C8,"")
D9: =IF(C9<>"",21%,"") | E9: =IF(C9<>"",C9*D9,"") | F9: =IF(C9<>"",E9+C9,"")
D10: =IF(C10<>"",21%,"") | E10: =IF(C10<>"",C10*D10,"") | F10: =IF(C10<>"",E10+C10,"")
D11: =IF(C11<>"",21%,"") | E11: =IF(C11<>"",C11*D11,"") | F11: =IF(C11<>"",E11+C11,"")
D12: =IF(C12<>"",21%,"") | E12: =IF(C12<>"",C12*D12,"") | F12: =IF(C12<>"",E12+C12,"")
D13: =IF(C13<>"",21%,"") | E13: =IF(C13<>"",C13*D13,"") | F13: =IF(C13<>"",E13+C13,"")
D14: =IF(C14<>"",21%,"") | E14: =IF(C14<>"",C14*D14,"") | F14: =IF(C14<>"",E14+C14,"")
D15: =IF(C15<>"",21%,"") | E15: =IF(C15<>"",C15*D15,"") | F15: =IF(C15<>"",E15+C15,"")
D16: =IF(C16<>"",21%,"") | E16: =IF(C16<>"",C16*D16,"") | F16: =IF(C16<>"",E16+C16,"")
D17: =IF(C17<>"",21%,"") | E17: =IF(C17<>"",C17*D17,"") | F17: =IF(C17<>"",E17+C17,"")

Sheet biens et services
A1: bien et services
A3: Date | B3: Fournisseur | C3: C=cocontract | D3: % déductibilité | E3: HTVA | F3: frais déductibles | G3: % TVA | H3: TVA | I3: TVA Déductible
A4: 41367 | B4: LECOT | D4: 1 | E4: 105.46 | F4: =IF(E4<>"",E4*D4,"") -> 105.46 | G4: =IF(E4<>"",21%,"") -> 0.21 | H4: =IF(E4<>"",E4*G4,"") -> 22.1466 | I4: =IF(E4<>"",F4*G4,"") -> 22.1466
A5: 41372 | B5: CIPAC | D5: 1 | E5: 56.27 | F5: =IF(E5<>"",E5*D5,"") -> 56.27 | G5: =IF(E5<>"",21%,"") -> 0.21 | H5: =IF(E5<>"",E5*G5,"") -> 11.8167 | I5: =IF(E5<>"",F5*G5,"") -> 11.8167
A6: 41380 | B6: CIPAC | D6: 1 | E6: 25.68 | F6: =IF(E6<>"",E6*D6,"") -> 25.68 | G6: =IF(E6<>"",21%,"") -> 0.21 | H6: =IF(E6<>"",E6*G6,"") -> 5.3928 | I6: =IF(E6<>"",F6*G6,"") -> 5.3928
A7: 41381 | B7: ITS | D7: 1 | E7: 96.65 | F7: =IF(E7<>"",E7*D7,"") -> 96.65 | G7: =IF(E7<>"",21%,"") -> 0.21 | H7: =IF(E7<>"",E7*G7,"") -> 20.2965 | I7: =IF(E7<>"",F7*G7,"") -> 20.2965
A8: 41393 | B8: BASE | D8: 0.5 | E8: 25.05 | F8: =IF(E8<>"",E8*D8,"") -> 12.525 | G8: =IF(E8<>"",21%,"") -> 0.21 | H8: =IF(E8<>"",E8*G8,"") -> 5.2605 | I8: =IF(E8<>"",F8*G8,"") -> 2.63025
A9: 41395 | B9: TPS | D9: 1 | E9: 21.59 | F9: =IF(E9<>"",E9*D9,"") -> 21.59 | G9: =IF(E9<>"",21%,"") -> 0.21 | H9: =IF(E9<>"",E9*G9,"") -> 4.5339 | I9: =IF(E9<>"",F9*G9,"") -> 4.5339
A10: 41421 | B10: LECOT | D10: 1 | E10: 23.75 | F10: =IF(E10<>"",E10*D10,"") -> 23.75 | G10: =IF(E10<>"",21%,"") -> 0.21 | H10: =IF(E10<>"",E10*G10,"") -> 4.9875 | I10: =IF(E10<>"",F10*G10,"") -> 4.9875
A11: 41422 | B11: LECOT | D11: 1 | E11: 100.24 | F11: =IF(E11<>"",E11*D11,"") -> 100.24 | G11: =IF(E11<>"",21%,"") -> 0.21 | H11: =IF(E11<>"",E11*G11,"") -> 21.0504 | I11: =IF(E11<>"",F11*G11,"") -> 21.0504
A12: 41422 | B12: CIPAC | D12: 1 | E12: 17.7 | F12: =IF(E12<>"",E12*D12,"") -> 17.7 | G12: =IF(E12<>"",21%,"") -> 0.21 | H12: =IF(E12<>"",E12*G12,"") -> 3.717 | I12: =IF(E12<>"",F12*G12,"") -> 3.717
A13: 41445 | B13: UCM | D13: 1 | E13: 75.59 | F13: =IF(E13<>"",E13*D13,"") -> 75.59 | G13: 0 | H13: =IF(E13<>"",E13*G13,"") -> 0 | I13: =IF(E13<>"",F13*G13,"") -> 0
A14: 41423 | B14: BASE | D14: 0.5 | E14: 23.83 | F14: =IF(E14<>"",E14*D14,"") -> 11.915 | G14: =IF(E14<>"",21%,"") -> 0.21 | H14: =IF(E14<>"",E14*G14,"") -> 5.0043 | I14: =IF(E14<>"",F14*G14,"") -> 2.50215
F15: =IF(E15<>"",E15*D15,"") | G15: =IF(E15<>"",21%,"") | H15: =IF(E15<>"",E15*G15,"") | I15: =IF(E15<>"",F15*G15,"")
F16: =IF(E16<>"",E16*D16,"") | G16: =IF(E16<>"",21%,"") | H16: =IF(E16<>"",E16*G16,"") | I16: =IF(E16<>"",F16*G16,"")
F17: =IF(E17<>"",E17*D17,"") | G17: =IF(E17<>"",21%,"") | H17: =IF(E17<>"",E17*G17,"") | I17: =IF(E17<>"",F17*G17,"")
F18: =IF(E18<>"",E18*D18,"") | G18: =IF(E18<>"",21%,"") | H18: =IF(E18<>"",E18*G18,"") | I18: =IF(E18<>"",F18*G18,"")
F19: =IF(E19<>"",E19*D19,"") | G19: =IF(E19<>"",21%,"") | H19: =IF(E19<>"",E19*G19,"") | I19: =IF(E19<>"",F19*G19,"")
F20: =IF(E20<>"",E20*D20,"") | G20: =IF(E20<>"",21%,"") | H20: =IF(E20<>"",E20*G20,"") | I20: =IF(E20<>"",F20*G20,"")
F21: =IF(E21<>"",E21*D21,"") | G21: =IF(E21<>"",21%,"") | H21: =IF(E21<>"",E21*G21,"") | I21: =IF(E21<>"",F21*G21,"")
G22: =IF(E22<>"",21%,"")
F23: =IF(E23<>"",E23*D23,"") | G23: =IF(E23<>"",21%,"") | H23: =IF(E23<>"",E23*G23,"") | I23: =IF(E23<>"",F23*G23,"")
F24: =IF(E24<>"",E24*D24,"") | G24: =IF(E24<>"",21%,"") | H24: =IF(E24<>"",E24*G24,"") | I24: =IF(E24<>"",F24*G24,"")
F25: =IF(E25<>"",E25*D25,"") | G25: =IF(E25<>"",21%,"") | H25: =IF(E25<>"",E25*G25,"") | I25: =IF(E25<>"",F25*G25,"")
F26: =IF(E26<>"",E26*D26,"") | G26: =IF(E26<>"",21%,"") | H26: =IF(E26<>"",E26*G26,"") | I26: =IF(E26<>"",F26*G26,"")
F27: =IF(E27<>"",E27*D27,"") | G27: =IF(E27<>"",21%,"") | H27: =IF(E27<>"",E27*G27,"") | I27: =IF(E27<>"",F27*G27,"")
F28: =IF(E28<>"",E28*D28,"") | G28: =IF(E28<>"",21%,"") | H28: =IF(E28<>"",E28*G28,"") | I28: =IF(E28<>"",F28*G28,"")
F29: =IF(E29<>"",E29*D29,"") | G29: =IF(E29<>"",21%,"") | H29: =IF(E29<>"",E29*G29,"") | I29: =IF(E29<>"",F29*G29,"")
F30: =IF(E30<>"",E30*D30,"") | G30: =IF(E30<>"",21%,"") | H30: =IF(E30<>"",E30*G30,"") | I30: =IF(E30<>"",F30*G30,"")
F31: =IF(E31<>"",E31*D31,"") | G31: =IF(E31<>"",21%,"") | H31: =IF(E31<>"",E31*G31,"") | I31: =IF(E31<>"",F31*G31,"")
F32: =IF(E32<>"",E32*D32,"") | G32: =IF(E32<>"",21%,"") | H32: =IF(E32<>"",E32*G32,"") | I32: =IF(E32<>"",F32*G32,"")
F33: =IF(E33<>"",E33*D33,"") | G33: =IF(E33<>"",21%,"") | H33: =IF(E33<>"",E33*G33,"") | I33: =IF(E33<>"",F33*G33,"")
F34: =IF(E34<>"",E34*D34,"") | G34: =IF(E34<>"",21%,"") | H34: =IF(E34<>"",E34*G34,"") | I34: =IF(E34<>"",F34*G34,"")
... F39: =IF(E39<>"",E39*D39,"") | G39: =IF(E39<>"",21%,"") | H39: =IF(E39<>"",E39*G39,"") | I39: =IF(E39<>"",F39*G39,"")
F40: =IF(E40<>"",E40*D40,"") | G40: =IF(E40<>"",21%,"") | I40: =IF(E40<>"",F40*G40,"")
G41: =IF(E41<>"",21%,"") | I41: =IF(E41<>"",F41*G41,"")
I42: =IF(E42<>"",F42*G42,"")
I43: =IF(E43<>"",F43*G43,"")
I44: =IF(E44<>"",F44*G44,"")
I45: =IF(E45<>"",F45*G45,"")
...

Sheet investissement
A1: investissement
A3: Date | B3: Fournisseur | C3: HTVA | D3: TVA | E3: TVA | F3: TVAC
D4: =IF(C4<>"",21%,"") | E4: =IF(C4<>"",C4*D4,"") | F4: =IF(C4<>"",E4+C4,"")
A5: 41373 | C5: 11590.91 | D5: =IF(C5<>"",21%,"") -> 0.21 | E5: =IF(C5<>"",C5*D5,"") -> 2434.0911 | F5: =IF(C5<>"",E5+C5,"") -> 14025.001
D6: =IF(C6<>"",21%,"") | E6: =IF(C6<>"",C6*D6,"") | F6: =IF(C6<>"",E6+C6,"")
D7: =IF(C7<>"",21%,"") | E7: =IF(C7<>"",C7*D7,"") | F7: =IF(C7<>"",E7+C7,"")
D8: =IF(C8<>"",21%,"") | E8: =IF(C8<>"",C8*D8,"") | F8: =IF(C8<>"",E8+C8,"")
D9: =IF(C9<>"",21%,"") | E9: =IF(C9<>"",C9*D9,"") | F9: =IF(C9<>"",E9+C9,"")
D10: =IF(C10<>"",21%,"") | E10: =IF(C10<>"",C10*D10,"") | F10: =IF(C10<>"",E10+C10,"")
D11: =IF(C11<>"",21%,"") | E11: =IF(C11<>"",C11*D11,"") | F11: =IF(C11<>"",E11+C11,"")
D12: =IF(C12<>"",21%,"") | E12: =IF(C12<>"",C12*D12,"") | F12: =IF(C12<>"",E12+C12,"")
D13: =IF(C13<>"",21%,"") | E13: =IF(C13<>"",C13*D13,"") | F13: =IF(C13<>"",E13+C13,"")
D14: =IF(C14<>"",21%,"") | E14: =IF(C14<>"",C14*D14,"") | F14: =IF(C14<>"",E14+C14,"")
D15: =IF(C15<>"",21%,"") | E15: =IF(C15<>"",C15*D15,"") | F15: =IF(C15<>"",E15+C15,"")
D16: =IF(C16<>"",21%,"") | E16: =IF(C16<>"",C16*D16,"") | F16: =IF(C16<>"",E16+C16,"")
D17: =IF(C17<>"",21%,"") | E17: =IF(C17<>"",C17*D17,"") | F17: =IF(C17<>"",E17+C17,"")

Sheet amortissement
B1: Amortissement
B4: Foreuse Dewalt sds+ D25124 multi
B6: Année | C6: Valeur debut d'exercice | D6: annuité (25%) | E6: annuité cumulé | F6: valeur fin exercice
B7: 2012 | C7: 156 | D7: =C7*0.25 -> 39 | E7: =D7 -> 39 | F7: =C7-E7 -> 117
B8: 2013 | C8: =F7 -> 117 | D8: =D7 -> 39 | E8: =E7+D8 -> 78 | F8: =C8-D8 -> 78
B9: 2014 | C9: =F8 -> 78 | D9: =D8 -> 39 | E9: =E8+D9 -> 117 | F9: =C9-D9 -> 39
B10: 2015 | C10: =F9 -> 39 | D10: =D9 -> 39 | E10: =E9+D10 -> 156 | F10: =C10-D10 -> 0
B13: Combo visseuse-foreuse visseuse a choc DCD985 DCF885 accu 4Ah
B15: Année | C15: Valeur debut d'exercice | D15: annuité (25%) | E15: annuité cumulé | F15: valeur fin exercice
B16: 2012 | C16: 426 | D16: =C16*0.25 -> 106.5 | E16: =D16 -> 106.5 | F16: =C16-E16 -> 319.5
B17: 2013 | C17: =F16 -> 319.5 | D17: =D16 -> 106.5 | E17: =E16+D17 -> 213 | F17: =C17-D17 -> 213
B18: 2014 | C18: =F17 -> 213 | D18: =D17 -> 106.5 | E18: =E17+D18 -> 319.5 | F18: =C18-D18 -> 106.5
B19: 2015 | C19: =F18 -> 106.5 | D19: =D18 -> 106.5 | E19: =E18+D19 -> 426 | F19: =C19-D19 -> 0
B22: Scie rainureuse EMF 150
B24: Année | C24: Valeur debut d'exercice | D24: annuité (25%) | E24: annuité cumulé | F24: valeur fin exercice
B25: 2013 | C25: 432 | D25: =C25*0.25 -> 108 | E25: =D25 -> 108 | F25: =C25-E25 -> 324
B26: 2014 | C26: =F25 -> 324 | D26: =D25 -> 108 | E26: =E25+D26 -> 216 | F26: =C26-D26 -> 216
B27: 2015 | C27: =F26 -> 216 | D27: =D26 -> 108 | E27: =E26+D27 -> 324 | F27: =C27-D27 -> 108
B28: 2016 | C28: =F27 -> 108 | D28: =D27 -> 108 | E28: =E27+D28 -> 432 | F28: =C28-D28 -> 0
B31: Aspirateur starmix 1400W 25L
B33: Année | C33: Valeur debut d'exercice | D33: annuité (25%) | E33: annuité cumulé | F33: valeur fin exercice
B34: 2013 | C34: 123 | D34: =C34*0.25 -> 30.75 | E34: =D34 -> 30.75 | F34: =C34-E34 -> 92.25
B35: 2014 | C35: =F34 -> 92.25 | D35: =D34 -> 30.75 | E35: =E34+D35 -> 61.5 | F35: =C35-D35 -> 61.5
B36: 2015 | C36: =F35 -> 61.5 | D36: =D35 -> 30.75 | E36: =E35+D36 -> 92.25 | F36: =C36-D36 -> 30.75
B37: 2016 | C37: =F36 -> 30.75 | D37: =D36 -> 30.75 | E37: =E36+D37 -> 123 | F37: =C37-D37 -> 0
B40: Marteau piqueur Dewalt SDS-MAX DWD2550k-QS
B42: Année | C42: Valeur debut d'exercice | D42: annuité (25%) | E42: annuité cumulé | F42: valeur fin exercice
B43: 2013 | C43: 367.37 | D43: =C43*0.25 -> 91.8425 | E43: =D43 -> 91.8425 | F43: =C43-E43 -> 275.5275
B44: 2014 | C44: =F43 -> 275.5275 | D44: =D43 -> 91.8425 | E44: =E43+D44 -> 183.685 | F44: =C44-D44 -> 183.685
B45: 2015 | C45: =F44 -> 183.685 | D45: =D44 -> 91.8425 | E45: =E44+D45 -> 275.5275 | F45: =C45-D45 -> 91.8425
B46: 2016 | C46: =F45 -> 91.8425 | D46: =D45 -> 91.8425 | E46: =E45+D46 -> 367.37 | F46: =C46-D46 -> 0
B49: Testeur isolement KYO 3021
B51: Année | C51: Valeur debut d'exercice | D51: annuité (25%) | E51: annuité cumulé | F51: valeur fin exercice
B52: 2013 | C52: 478.57 | D52: =C52*0.25 -> 119.6425 | E52: =D52 -> 119.6425 | F52: =C52-E52 -> 358.9275
B53: 2014 | C53: =F52 -> 358.9275 | D53: =D52 -> 119.6425 | E53: =E52+D53 -> 239.285 | F53: =C53-D53 -> 239.285
B54: 2015 | C54: =F53 -> 239.285 | D54: =D53 -> 119.6425 | E54: =E53+D54 -> 358.9275 | F54: =C54-D54 -> 119.6425
B55: 2016 | C55: =F54 -> 119.6425 | D55: =D54 -> 119.6425 | E55: =E54+D55 -> 478.57 | F55: =C55-D55 -> 0
B58: dacia dokker van
B60: Année | C60: Valeur debut d'exercice | D60: annuité (25%) | E60: annuité cumulé | F60: valeur fin exercice
B61: 2013 | C61: 11590.91 | D61: =C61*0.2 -> 2318.182 | E61: =D61 -> 2318.182 | F61: =C61-E61 -> 9272.728
...

Sheet Chiffre d'affaire
A1: date | B1: numero de facture | C1: Destinataire | D1: Montant HTVA | E1: TVA | F1: TVAC | G1: TVA | I1: Payé
A3: 41365 | B3: 2013.017 | D3: 131.99 | E3: 0.06 | F3: =IF(D3<>"",D3+G3,"") -> 139.9094 | G3: =IF(D3<>"",D3*E3,"") -> 7.9194 | I3: 139.91
A4: 41365 | B4: 2013.018 | D4: 1073.73 | E4: 0.06 | F4: =IF(D4<>"",D4+G4,"") -> 1138.1538 | G4: =IF(D4<>"",D4*E4,"") -> 64.4238 | I4: 1138.15
A5: 41365 | B5: 2013.019 | D5: 423.02 | E5: 0 | F5: =IF(D5<>"",D5+G5,"") -> 423.02 | G5: =IF(D5<>"",D5*E5,"") -> 0 | I5: 423.02
A6: 41368 | B6: 2013.020 | D6: 1193.4 | E6: 0.06 | F6: =IF(D6<>"",D6+G6,"") -> 1265.004 | G6: =IF(D6<>"",D6*E6,"") -> 71.604 | I6: 1265
A7: 41373 | B7: 2013.021 | D7: 1926.28 | E7: 0 | F7: =IF(D7<>"",D7+G7,"") -> 1926.28 | G7: =IF(D7<>"",D7*E7,"") -> 0 | I7: 1926.28
F8: =IF(D8<>"",D8+G8,"") | G8: =IF(D8<>"",D8*E8,"")
F9: =IF(D9<>"",D9+G9,"") | G9: =IF(D9<>"",D9*E9,"")
F10: =IF(D10<>"",D10+G10,"") | G10: =IF(D10<>"",D10*E10,"")
F11: =IF(D11<>"",D11+G11,"") | G11: =IF(D11<>"",D11*E11,"")
F12: =IF(D12<>"",D12+G12,"") | G12: =IF(D12<>"",D12*E12,"")
F13: =IF(D13<>"",D13+G13,"") | G13: =IF(D13<>"",D13*E13,"")
F14: =IF(D14<>"",D14+G14,"") | G14: =IF(D14<>"",D14*E14,"")
F15: =IF(D15<>"",D15+G15,"") | G15: =IF(D15<>"",D15*E15,"")
F16: =IF(D16<>"",D16+G16,"") | G16: =IF(D16<>"",D16*E16,"")
F17: =IF(D17<>"",D17+G17,"") | G17: =IF(D17<>"",D17*E17,"")
F18: =IF(D18<>"",D18+G18,"") | G18: =IF(D18<>"",D18*E18,"")
F19: =IF(D19<>"",D19+G19,"") | G19: =IF(D19<>"",D19*E19,"")
... F22: =IF(D22<>"",D22+G22,"") | G22: =IF(D22<>"",D22*E22,"")
D23: =SUM(D2:D22) -> 4748.42 | F23: =SUM(F2:F22) -> 4892.3672 | I23: =-F23+SUM(I2:I22) -> -0.0072

Sheet Déclaration TVA
A1: Déclaration TVA 01/2012
A2: Opération a la sortie | G2: Grille
A4: A / Régime Particulier | E4: 0 | F4: 0 | G4: 00
E6: 0.06 | F6: =SUMIF('Chiffre d''affaire'!E:E,6%,'Chiffre d''affaire'!D:D) -> 2399.12 | G6: 01
A8: B / ventes au taux de | E8: 0.12 | F8: =SUMIF('Chiffre d''affaire'!E:E,12%,'Chiffre d''affaire'!D:D) -> 0 | G8: 02
E10: 0.21 | F10: =SUMIF('Chiffre d''affaire'!E:E,21%,'Chiffre d''affaire'!D:D) -> 0 | G10: 03
A12: C / Opération pour lesquelles la TVA est due par le cocontractant | F12: =SUMIF('Chiffre d''affaire'!E:E,0%,'Chiffre d''affaire'!D:D) -> 2349.3 | G12: 45
G14: 49
A16: A / Cadre 4 taxes dues relatives aux opérations en grille 01,02 et 03 | F16: =SUM('Chiffre d''affaire'!G:G) -> 143.9472 | G16: 54
A18: Opération à l'entrée | G18: Grille
A20: A / Marchandises | F20: =SUM(matériel!F:F) -> 2603.436 | G20: 81
A22: A / Biens et services | F22: =SUM('biens et services'!F:F)+SUM('frais de déplacement'!C:C) -> 774.74 | G22: 82
A24: A / Investissement | F24: =SUM(investissement!C:C) -> 11590.91 | G24: 83
A26: B/ montant des notes de credit reçue et des corrections négatives : relative aux autres operation du cardre III | F26: =SUM('note de credit'!C:C) -> 454.28 | G26: 85
A28: D / Autres opérations à l'entrée (y compris cocontractant) | F28: =SUMIF('biens et services'!C:C,"c",'biens et services'!F:F) -> 0 | G28: 87
A30: TVA | G30: Grille
A32: A Cadre 5 /TVA déductible | F32: =SUM(matériel!E:E)+SUM('frais de déplacement'!E:E)+SUM('biens et services'!I:I)+SUM(investissement!E:E)-SUM('note de credit'!E:E) -> 2919.4977 | G32: 59
A34: A Cadre 4 / TVA à payer sur grille 87 (y compris cocontractant) | F34: =SUMIF('biens et services'!C:C,"c",'biens et services'!I:I) -> 0 | G34: 56
A36: Balance TVA | G36: Grille
A38: TVA à payer | F38: =F34+F16 -> 143.9472 | G38: xx
A40: TVA déductible | F40: =F32 -> 2919.4977 | G40: yy
A42: Montant dû par contribable | F42: =F38-F40 -> -2775.5505 | G42: 71
A44: Montant dû par l'etat | F44: =F40-F38 -> 2775.5505 | G44: 72

Sheet bilan
A4: I 2013 | D4: II 2013
A6: Sortie | B6: Chiffre Affaire | C6: =[1]bilan!$C$6 -> 11882.756 | D6: Sortie | E6: Chiffre Affaire | F6: ='Chiffre d''affaire'!D23 -> 4748.42
A7: entrées | B7: Materiel | C7: =[1]bilan!$C$7 -> 7715.5474 | D7: entrées | E7: Materiel | F7: =SUM(matériel!C:C)-SUM('note de credit'!C:C) -> 1682.18
B8: frais de deplacement | C8: =[1]bilan!$C$8 -> 266.47 | E8: frais de deplacement | F8: =SUM('frais de déplacement'!C:C) -> 227.37
B9: biens et services | C9: =[1]bilan!$C$9 -> 1246.76 | E9: biens et services | F9: =SUM('biens et services'!F:F) -> 547.37
B10: amortissement | C10: =SUMIF(amortissement!B:B,2013,amortissement!D:D)/4 -> 703.47925 | E10: amortissement | F10: =C10 -> 703.47925
B13: bilan 1er trimestre | C13: =SUM(C6:C6)-SUM(C7:C10) -> 1950.4991 | E13: bilan 2eme trimestre | F13: =SUM(F6:F6)-SUM(F7:F10) -> 1588.0208
A14: III 2013 | D14: IV 2013
A16: Sortie | B16: Chiffre Affaire | D16: Sortie | E16: Chiffre Affaire
A17: entrées | B17: Materiel | D17: entrées | E17: Materiel
B18: frais de deplacement | E18: frais de deplacement
B19: biens et services | E19: biens et services
B20: amortissement | C20: =C10 -> 703.47925 | E20: amortissement | F20: =F10 -> 703.47925
B23: bilan 3em trimestre | C23: =SUM(C16:C16)-SUM(C17:C20) -> -703.47925 | E23: bilan 4em trimestre | F23: =SUM(F16:F16)-SUM(F17:F20) -> -703.47925
B28: Bilan Total 2013
A29: Sortie | B29: Chiffre Affaire | C29: =C6+F6+C16+F16 -> 16631.176
A30: entrées | B30: Materiel | C30: =C7+F7+C17+F17 -> 9397.7274
B31: frais de deplacement | C31: =C18+F18+F8+C8 -> 493.84
B32: biens et services | C32: =C9+F9+F19+C19 -> 1794.13
B33: amortissement | C33: =C10+F10+C20+F20 -> 2813.917
B36: bilan année | C36: =SUM(C29:C29)-SUM(C30:C33) -> 2131.5614
