Workbook
Name Cpt_Débit: 'Journal général'!$C:$C,'Journal général'!$E:$E,'Journal général'!$G:$G
Name Date: 'Journal général'!$A:$A
Name N°_cpte_cred: 'Journal général'!$D:$D
Name N°_cpte_deb: 'Journal général'!$C:$C
Name Opération: 'Journal général'!$B:$B

Sheet Liste opérations
A1: P1
A2: Création de l'entreprise
A3: Achat grumes | B3: PA | C3: 0.69 | D3: Quantité | E3: 9 | F3: TOTAL | G3: =E3*C3 -> 6.21
A4: Paiement achats de grummes
A5: Ventes de grummes | B5: PV | C5: 1.22 | D5: Quantité | E5: 9 | F5: TOTAL | G5: =E5*C5 -> 10.98
A6: Paiement des clients
A7: Embauche de commerciaux | B7: 3
A8: Paiement commerciaux | B8: 3
A9: Paiement salaire dirigeants | B9: 2
A10: Paiement téléphone | B10: 1
A11: Paiement loyer | B11: 1
A14: P2
A15: Achat grumes | B15: PA | C15: 0.75 | D15: Quantité | E15: 11 | F15: TOTAL | G15: =E15*C15 -> 8.25
A16: Paiement achats de grummes | G16: =G15 -> 8.25
A17: Ventes de grummes | B17: PV | C17: 1.42 | D17: Quantité | E17: 11 | F17: TOTAL | G17: =E17*C17 -> 15.62
A18: Paiement des clients | G18: =G17 -> 15.62
A19: Embauche de commerciaux | G19: 2
A20: Paiement commerciaux | G20: 5
A21: Paiement salaire dirigeants | G21: 0
A22: Paiement téléphone | G22: 1
A23: Paiement loyer | G23: 1
A25: P3
A26: Achat grumes | B26: PA | C26: 0.4 | D26: Quantité | E26: 11 | F26: TOTAL | G26: =E26*C26 -> 4.4
A27: Paiement achats de grummes | G27: =G26 -> 4.4
A28: Ventes de grummes | B28: PV | C28: 1.26 | D28: Quantité | E28: 11 | F28: TOTAL | G28: =E28*C28 -> 13.86
A29: Paiement des clients | G29: =G28 -> 13.86
A30: Embauche de commerciaux | G30: 2
A31: Paiement commerciaux | G31: 5
A32: Paiement salaire dirigeants | G32: 0
A33: Paiement téléphone | G33: 1
A34: Paiement loyer | G34: 1

Sheet Journal général
A1: Date | B1: Opération | C1: N° compte débité | D1: N° compte crédité | E1: TITRE DES COMPTES ET EXPLICATIONS | G1: Montant débité | H1: Montant crédité
A2: Colonne1 | B2: Colonne2 | C2: Colonne3 | D2: Colonne4 | E2: Colonne5 | F2: Colonne6 | G2: Colonne7 | H2: Colonne8
A3: P1 | B3: Création de l'entreprise | C3: 512 | E3: =IF(ISNA(VLOOKUP(C3,PCG!$A$2:$B$99,2,FALSE)),"",VLOOKUP(C3,PCG!$A$2:$B$99,2,FALSE)) -> Banques | F3: =IF(ISNA(VLOOKUP(D3,PCG!$A$2:$B$99,2,FALSE)),"",VLOOKUP(D3,PCG!$A$2:$B$99,2,FALSE)) | G3: 5
C4: 1011 | E4: =IF(ISNA(VLOOKUP(C4,PCG!$A$2:$B$99,2,FALSE)),"",VLOOKUP(C4,PCG!$A$2:$B$99,2,FALSE)) -> Capital non appelé | F4: =IF(ISNA(VLOOKUP(D4,PCG!$A$2:$B$99,2,FALSE)),"",VLOOKUP(D4,PCG!$A$2:$B$99,2,FALSE)) | G4: 5
D5: 101 | E5: =IF(ISNA(VLOOKUP(C5,PCG!$A$2:$B$99,2,FALSE)),"",VLOOKUP(C5,PCG!$A$2:$B$99,2,FALSE)) | F5: =IF(ISNA(VLOOKUP(D5,PCG!$A$2:$B$99,2,FALSE)),"",VLOOKUP(D5,PCG!$A$2:$B$99,2,FALSE)) -> Capital | H5: 10
A6: P1 | B6: Achat grumes | C6: 606 | E6: =IF(ISNA(VLOOKUP(C6,PCG!$A$2:$B$99,2,FALSE)),"",VLOOKUP(C6,PCG!$A$2:$B$99,2,FALSE)) -> Achats non stockés de matières et fournitures | F6: =IF(ISNA(VLOOKUP(D6,PCG!$A$2:$B$99,2,FALSE)),"",VLOOKUP(D6,PCG!$A$2:$B$99,2,FALSE)) | G6: 6.21
D7: 401 | E7: =IF(ISNA(VLOOKUP(C7,PCG!$A$2:$B$99,2,FALSE)),"",VLOOKUP(C7,PCG!$A$2:$B$99,2,FALSE)) | F7: =IF(ISNA(VLOOKUP(D7,PCG!$A$2:$B$99,2,FALSE)),"",VLOOKUP(D7,PCG!$A$2:$B$99,2,FALSE)) -> Fournisseurs | H7: 6.21
A8: P1 | B8: Paiement des achats | C8: 401 | E8: =IF(ISNA(VLOOKUP(C8,PCG!$A$2:$B$99,2,FALSE)),"",VLOOKUP(C8,PCG!$A$2:$B$99,2,FALSE)) -> Fournisseurs | F8: =IF(ISNA(VLOOKUP(D8,PCG!$A$2:$B$99,2,FALSE)),"",VLOOKUP(D8,PCG!$A$2:$B$99,2,FALSE)) | G8: 6.21
D9: 512 | E9: =IF(ISNA(VLOOKUP(C9,PCG!$A$2:$B$99,2,FALSE)),"",VLOOKUP(C9,PCG!$A$2:$B$99,2,FALSE)) | F9: =IF(ISNA(VLOOKUP(D9,PCG!$A$2:$B$99,2,FALSE)),"",VLOOKUP(D9,PCG!$A$2:$B$99,2,FALSE)) -> Banques | H9: 6.21
A10: P1 | B10: Vente grumes | C10: 411 | E10: =IF(ISNA(VLOOKUP(C10,PCG!$A$2:$B$99,2,FALSE)),"",VLOOKUP(C10,PCG!$A$2:$B$99,2,FALSE)) -> Clients | F10: =IF(ISNA(VLOOKUP(D10,PCG!$A$2:$B$99,2,FALSE)),"",VLOOKUP(D10,PCG!$A$2:$B$99,2,FALSE)) | G10: 10.98
D11: 701 | E11: =IF(ISNA(VLOOKUP(C11,PCG!$A$2:$B$99,2,FALSE)),"",VLOOKUP(C11,PCG!$A$2:$B$99,2,FALSE)) | F11: =IF(ISNA(VLOOKUP(D11,PCG!$A$2:$B$99,2,FALSE)),"",VLOOKUP(D11,PCG!$A$2:$B$99,2,FALSE)) -> Ventes de produits finis | H11: 10.98
A12: P1 | B12: Paiement Clients | C12: 512 | E12: =IF(ISNA(VLOOKUP(C12,PCG!$A$2:$B$99,2,FALSE)),"",VLOOKUP(C12,PCG!$A$2:$B$99,2,FALSE)) -> Banques | F12: =IF(ISNA(VLOOKUP(D12,PCG!$A$2:$B$99,2,FALSE)),"",VLOOKUP(D12,PCG!$A$2:$B$99,2,FALSE)) | G12: 10.98
D13: 411 | E13: =IF(ISNA(VLOOKUP(C13,PCG!$A$2:$B$99,2,FALSE)),"",VLOOKUP(C13,PCG!$A$2:$B$99,2,FALSE)) | F13: =IF(ISNA(VLOOKUP(D13,PCG!$A$2:$B$99,2,FALSE)),"",VLOOKUP(D13,PCG!$A$2:$B$99,2,FALSE)) -> Clients | H13: 10.98
A14: P1 | B14: Honoraires embauche | C14: 622 | E14: =IF(ISNA(VLOOKUP(C14,PCG!$A$2:$B$99,2,FALSE)),"",VLOOKUP(C14,PCG!$A$2:$B$99,2,FALSE)) -> Rémunérations d'intermédiaires et honoraires | F14: =IF(ISNA(VLOOKUP(D14,PCG!$A$2:$B$99,2,FALSE)),"",VLOOKUP(D14,PCG!$A$2:$B$99,2,FALSE)) | G14: 3
D15: 512 | E15: =IF(ISNA(VLOOKUP(C15,PCG!$A$2:$B$99,2,FALSE)),"",VLOOKUP(C15,PCG!$A$2:$B$99,2,FALSE)) | F15: =IF(ISNA(VLOOKUP(D15,PCG!$A$2:$B$99,2,FALSE)),"",VLOOKUP(D15,PCG!$A$2:$B$99,2,FALSE)) -> Banques | H15: 3
A16: P1 | B16: Paiment salaires représentantes | C16: 641 | E16: =IF(ISNA(VLOOKUP(C16,PCG!$A$2:$B$99,2,FALSE)),"",VLOOKUP(C16,PCG!$A$2:$B$99,2,FALSE)) -> Rémunérations du personnel | F16: =IF(ISNA(VLOOKUP(D16,PCG!$A$2:$B$99,2,FALSE)),"",VLOOKUP(D16,PCG!$A$2:$B$99,2,FALSE)) | G16: 3
D17: 512 | E17: =IF(ISNA(VLOOKUP(C17,PCG!$A$2:$B$99,2,FALSE)),"",VLOOKUP(C17,PCG!$A$2:$B$99,2,FALSE)) | F17: =IF(ISNA(VLOOKUP(D17,PCG!$A$2:$B$99,2,FALSE)),"",VLOOKUP(D17,PCG!$A$2:$B$99,2,FALSE)) -> Banques | H17: 3
A18: P1 | B18: Paiement salaire dirigeants | C18: 641 | E18: =IF(ISNA(VLOOKUP(C18,PCG!$A$2:$B$99,2,FALSE)),"",VLOOKUP(C18,PCG!$A$2:$B$99,2,FALSE)) -> Rémunérations du personnel | F18: =IF(ISNA(VLOOKUP(D18,PCG!$A$2:$B$99,2,FALSE)),"",VLOOKUP(D18,PCG!$A$2:$B$99,2,FALSE)) | G18: 2
D19: 512 | E19: =IF(ISNA(VLOOKUP(C19,PCG!$A$2:$B$99,2,FALSE)),"",VLOOKUP(C19,PCG!$A$2:$B$99,2,FALSE)) | F19: =IF(ISNA(VLOOKUP(D19,PCG!$A$2:$B$99,2,FALSE)),"",VLOOKUP(D19,PCG!$A$2:$B$99,2,FALSE)) -> Banques | H19: 2
A20: P1 | B20: Paiement téléphone | C20: 626 | E20: =IF(ISNA(VLOOKUP(C20,PCG!$A$2:$B$99,2,FALSE)),"",VLOOKUP(C20,PCG!$A$2:$B$99,2,FALSE)) -> Frais postaux et de télécommunications | F20: =IF(ISNA(VLOOKUP(D20,PCG!$A$2:$B$99,2,FALSE)),"",VLOOKUP(D20,PCG!$A$2:$B$99,2,FALSE)) | G20: 1
D21: 512 | E21: =IF(ISNA(VLOOKUP(C21,PCG!$A$2:$B$99,2,FALSE)),"",VLOOKUP(C21,PCG!$A$2:$B$99,2,FALSE)) | F21: =IF(ISNA(VLOOKUP(D21,PCG!$A$2:$B$99,2,FALSE)),"",VLOOKUP(D21,PCG!$A$2:$B$99,2,FALSE)) -> Banques | H21: 1
A22: P1 | B22: Paiement loyer | C22: 612 | E22: =IF(ISNA(VLOOKUP(C22,PCG!$A$2:$B$99,2,FALSE)),"",VLOOKUP(C22,PCG!$A$2:$B$99,2,FALSE)) -> Redevances de crédit-bail | F22: =IF(ISNA(VLOOKUP(D22,PCG!$A$2:$B$99,2,FALSE)),"",VLOOKUP(D22,PCG!$A$2:$B$99,2,FALSE)) | G22: 1
D23: 512 | E23: =IF(ISNA(VLOOKUP(C23,PCG!$A$2:$B$99,2,FALSE)),"",VLOOKUP(C23,PCG!$A$2:$B$99,2,FALSE)) | F23: =IF(ISNA(VLOOKUP(D23,PCG!$A$2:$B$99,2,FALSE)),"",VLOOKUP(D23,PCG!$A$2:$B$99,2,FALSE)) -> Banques | H23: 1
E24: =IF(ISNA(VLOOKUP(C24,PCG!$A$2:$B$99,2,FALSE)),"",VLOOKUP(C24,PCG!$A$2:$B$99,2,FALSE)) | F24: =IF(ISNA(VLOOKUP(D24,PCG!$A$2:$B$99,2,FALSE)),"",VLOOKUP(D24,PCG!$A$2:$B$99,2,FALSE))
E25: =IF(ISNA(VLOOKUP(C25,PCG!$A$2:$B$99,2,FALSE)),"",VLOOKUP(C25,PCG!$A$2:$B$99,2,FALSE)) | F25: =IF(ISNA(VLOOKUP(D25,PCG!$A$2:$B$99,2,FALSE)),"",VLOOKUP(D25,PCG!$A$2:$B$99,2,FALSE))
E26: =IF(ISNA(VLOOKUP(C26,PCG!$A$2:$B$99,2,FALSE)),"",VLOOKUP(C26,PCG!$A$2:$B$99,2,FALSE)) | F26: =IF(ISNA(VLOOKUP(D26,PCG!$A$2:$B$99,2,FALSE)),"",VLOOKUP(D26,PCG!$A$2:$B$99,2,FALSE))
E27: =IF(ISNA(VLOOKUP(C27,PCG!$A$2:$B$99,2,FALSE)),"",VLOOKUP(C27,PCG!$A$2:$B$99,2,FALSE)) | F27: =IF(ISNA(VLOOKUP(D27,PCG!$A$2:$B$99,2,FALSE)),"",VLOOKUP(D27,PCG!$A$2:$B$99,2,FALSE))
E28: =IF(ISNA(VLOOKUP(C28,PCG!$A$2:$B$99,2,FALSE)),"",VLOOKUP(C28,PCG!$A$2:$B$99,2,FALSE)) | F28: =IF(ISNA(VLOOKUP(D28,PCG!$A$2:$B$99,2,FALSE)),"",VLOOKUP(D28,PCG!$A$2:$B$99,2,FALSE))
E29: =IF(ISNA(VLOOKUP(C29,PCG!$A$2:$B$99,2,FALSE)),"",VLOOKUP(C29,PCG!$A$2:$B$99,2,FALSE)) | F29: =IF(ISNA(VLOOKUP(D29,PCG!$A$2:$B$99,2,FALSE)),"",VLOOKUP(D29,PCG!$A$2:$B$99,2,FALSE))
E30: =IF(ISNA(VLOOKUP(C30,PCG!$A$2:$B$99,2,FALSE)),"",VLOOKUP(C30,PCG!$A$2:$B$99,2,FALSE)) | F30: =IF(ISNA(VLOOKUP(D30,PCG!$A$2:$B$99,2,FALSE)),"",VLOOKUP(D30,PCG!$A$2:$B$99,2,FALSE))
E31: =IF(ISNA(VLOOKUP(C31,PCG!$A$2:$B$99,2,FALSE)),"",VLOOKUP(C31,PCG!$A$2:$B$99,2,FALSE)) | F31: =IF(ISNA(VLOOKUP(D31,PCG!$A$2:$B$99,2,FALSE)),"",VLOOKUP(D31,PCG!$A$2:$B$99,2,FALSE))
E32: =IF(ISNA(VLOOKUP(C32,PCG!$A$2:$B$99,2,FALSE)),"",VLOOKUP(C32,PCG!$A$2:$B$99,2,FALSE)) | F32: =IF(ISNA(VLOOKUP(D32,PCG!$A$2:$B$99,2,FALSE)),"",VLOOKUP(D32,PCG!$A$2:$B$99,2,FALSE))
E33: =IF(ISNA(VLOOKUP(C33,PCG!$A$2:$B$99,2,FALSE)),"",VLOOKUP(C33,PCG!$A$2:$B$99,2,FALSE)) | F33: =IF(ISNA(VLOOKUP(D33,PCG!$A$2:$B$99,2,FALSE)),"",VLOOKUP(D33,PCG!$A$2:$B$99,2,FALSE))
E34: =IF(ISNA(VLOOKUP(C34,PCG!$A$2:$B$99,2,FALSE)),"",VLOOKUP(C34,PCG!$A$2:$B$99,2,FALSE)) | F34: =IF(ISNA(VLOOKUP(D34,PCG!$A$2:$B$99,2,FALSE)),"",VLOOKUP(D34,PCG!$A$2:$B$99,2,FALSE))
E35: =IF(ISNA(VLOOKUP(C35,PCG!$A$2:$B$99,2,FALSE)),"",VLOOKUP(C35,PCG!$A$2:$B$99,2,FALSE)) | F35: =IF(ISNA(VLOOKUP(D35,PCG!$A$2:$B$99,2,FALSE)),"",VLOOKUP(D35,PCG!$A$2:$B$99,2,FALSE))
... E391: =IF(ISNA(VLOOKUP(C391,PCG!$A$2:$B$99,2,FALSE)),"",VLOOKUP(C391,PCG!$A$2:$B$99,2,FALSE)) | F391: =IF(ISNA(VLOOKUP(D391,PCG!$A$2:$B$99,2,FALSE)),"",VLOOKUP(D391,PCG!$A$2:$B$99,2,FALSE))
E392: =IF(ISNA(VLOOKUP(C392,PCG!$A$2:$B$99,2,FALSE)),"",VLOOKUP(C392,PCG!$A$2:$B$99,2,FALSE))
E393: =IF(ISNA(VLOOKUP(C393,PCG!$A$2:$B$99,2,FALSE)),"",VLOOKUP(C393,PCG!$A$2:$B$99,2,FALSE))
E394: =IF(ISNA(VLOOKUP(C394,PCG!$A$2:$B$99,2,FALSE)),"",VLOOKUP(C394,PCG!$A$2:$B$99,2,FALSE))
E395: =IF(ISNA(VLOOKUP(C395,PCG!$A$2:$B$99,2,FALSE)),"",VLOOKUP(C395,PCG!$A$2:$B$99,2,FALSE))

Sheet Grand Livre
A1: 512 Banque
A3: Date | B3: Description | C3: Débit | D3: Crédit | E3: Solde
C4: =IF('Journal général'!C3=512,'Journal général'!G3,"") -> 5
C5: =IF('Journal général'!C4=512,'Journal général'!G4,"")
C6: =IF('Journal général'!C5=512,'Journal général'!G5,"")
C7: =IF('Journal général'!C6=512,'Journal général'!G6,"")
C8: =IF('Journal général'!C7=512,'Journal général'!G7,"")
C9: =IF('Journal général'!C8=512,'Journal général'!G8,"")
C10: =IF('Journal général'!C9=512,'Journal général'!G9,"")
C11: =IF('Journal général'!C10=512,'Journal général'!G10,"")
C12: =IF('Journal général'!C11=512,'Journal général'!G11,"")
C13: =IF('Journal général'!C12=512,'Journal général'!G12,"") -> 10.98
C14: =IF('Journal général'!C13=512,'Journal général'!G13,"")
C15: =IF('Journal général'!C14=512,'Journal général'!G14,"")

Sheet PCG
B1: Comptes de capitaux (classe 1)
A2: 101 | B2: Capital
A3: 1011 | B3: Capital non appelé
A4: 1012 | B4: Capital souscrit-appelé, non versé
A5: 1013 | B5: Capital souscrit-appelé, versé
A6: 106 | B6: Réserves
A7: 108 | B7: Compte de l'exploitant
A8: 120 | B8: Résultat de l'exercice (bénéfice)
A9: 129 | B9: Résultat de l'exercice (perte)
A10: 164 | B10: Emprunts auprès des établissements de crédit
A11: 165 | B11: Dépôts et cautionnements reçus
B12: Comptes d'immobilisations (classe 2)
A13: 201 | B13: Frais d'établissement
A14: 207 | B14: Fonds commercial
A15: 211 | B15: Terrains
A16: 213 | B16: Constructions
A17: 215 | B17: Installations techniques, matériels et outillages industriels
A18: 2154 | B18: Matériel industriel
A19: 2181 | B19: Installations générales, agencements, aménagements divers
A20: 2182 | B20: Matériel de transport
A21: 2183 | B21: Matériel de bureau et matériel informatique
A22: 2184 | B22: Mobilier
A23: 261 | B23: Titres de participation
A24: 274 | B24: Prêts
A25: 275 | B25: Dépôts et cautionnements versés
A26: 2801 | B26: Amortissements des frais d'établissement
A27: 2813 | B27: Amortissements des constructions
A28: 2815 | B28: Amortissements des installations techniques, matériels et outillages industriels
A29: 28181 | B29: Amortissements des installations générales, agencements et aménagements divers
... A32: 28184 | B32: Amortissements du mobilier
B33: Comptes de stocks et d'en-cours (classe 3)
A34: 31 | B34: Matières premières (stocks)
A35: 355 | B35: Stocks de produits finis
A36: 37 | B36: Stocks de marchandises
B37: Comptes de tiers (classe 4)
A38: 401 | B38: Fournisseurs
A39: 403 | B39: Fournisseurs, effets à payer
A40: 404 | B40: Fournisseurs d'immobilisations
A41: 405 | B41: Fournisseurs d'immobilisations, effets à payer
A42: 411 | B42: Clients
...
