Workbook

Sheet intermediaire_import_articles-w
A1: default_code | B1: name | C1: standard_price | D1: list_price | E1: seller_ids/name/id | F1: type | G1: procure_method | H1: supply_method | I1: categ_id/id | J1: seller_ids/min_qty | K1: product_tmpl_id
A2: 176001526 | B2: 2mL Vial, scrtop, ambgls w/patch 1000/pk | C2: 294.50 | D2: 334.85 | E2: __export__.res_partner_277 | F2: product | G2: make_to_order | H2: buy | I2: __export__.product_category_7 | J2: 0 | M2: =IF(Feuil1!F2="",B2,"=GAUCHE(B2;Feuil1!F2)") -> 2mL Vial, scrtop, ambgls w/patch 1000/pk
A3: 176001527 | B3: 2mL Vial, scrtop, ambgls w/patch 2000/pk | C3: 565.25 | D3: 642.69 | E3: __export__.res_partner_277 | F3: product | G3: make_to_order | H3: buy | I3: __export__.product_category_7 | J3: 0 | M3: =IF(Feuil1!F3="",B3,"=GAUCHE(B2;Feuil1!F2)") -> 2mL Vial, scrtop, ambgls w/patch 2000/pk
A4: 186000107 | B4: Sentry SymmetryShield RP18 Pre-column 100 Å 5µm 3.9 x 20mm\ Box of 2 | C4: 171.00 | D4: 194.43 | E4: __export__.res_partner_277 | F4: product | G4: make_to_order | H4: buy | I4: __export__.product_category_7 | J4: 0 | M4: =IF(Feuil1!F4="",B4,"=GAUCHE(B2;Feuil1!F2)") -> Sentry SymmetryShield RP18 Pre-column 100 Å 5µm 3.9 x 20mm\ Box of 2
A5: 186000115 | B5: Oasis HLB Extraction Cartridge 60µm 500 mg 6 mL\ Box of 30 | C5: 212.80 | D5: 241.95 | E5: __export__.res_partner_277 | F5: product | G5: make_to_order | H5: buy | I5: __export__.product_category_7 | J5: 0 | M5: =IF(Feuil1!F5="",B5,"=GAUCHE(B2;Feuil1!F2)") -> Oasis HLB Extraction Cartridge 60µm 500 mg 6 mL\ Box of 30
A6: 186000116 | B6: Oasis HLB Extraction Cartridge 60µm 500 mg 12 mL\ Box of 20 | C6: 177.65 | D6: 201.99 | E6: __export__.res_partner_277 | F6: product | G6: make_to_order | H6: buy | I6: __export__.product_category_7 | J6: 0 | M6: =IF(Feuil1!F6="",B6,"=GAUCHE(B2;Feuil1!F2)") -> Oasis HLB Extraction Cartridge 60µm 500 mg 12 mL\ Box of 20
A7: 186000117 | B7: Oasis HLB Extraction Cartridge 60µm 1 g 20 mL\ Box of 20 | C7: 265.05 | D7: 301.36 | E7: __export__.res_partner_277 | F7: product | G7: make_to_order | H7: buy | I7: __export__.product_category_7 | J7: 0 | M7: =IF(Feuil1!F7="",B7,"=GAUCHE(B2;Feuil1!F2)") -> Oasis HLB Extraction Cartridge 60µm 1 g 20 mL\ Box of 20
A8: 186000118 | B8: Oasis HLB Extraction Cartridge 60µm 6 g 35 mL\ Box of 10 | C8: 543.40 | D8: 617.85 | E8: __export__.res_partner_277 | F8: product | G8: make_to_order | H8: buy | I8: __export__.product_category_7 | J8: 0 | M8: =IF(Feuil1!F8="",B8,"=GAUCHE(B2;Feuil1!F2)") -> Oasis HLB Extraction Cartridge 60µm 6 g 35 mL\ Box of 10
A9: 186000128 | B9: Oasis HLB Extraction Plate 30µm 10 mg 96 Wells\ Box of 1 | C9: 320.15 | D9: 364.01 | E9: __export__.res_partner_277 | F9: product | G9: make_to_order | H9: buy | I9: __export__.product_category_7 | J9: 0 | M9: =IF(Feuil1!F9="",B9,"=GAUCHE(B2;Feuil1!F2)") -> Oasis HLB Extraction Plate 30µm 10 mg 96 Wells\ Box of 1
A10: 186000132 | B10: Oasis HLB Extraction Cartridge Plus Type 60µm 225 mg\ Box of 50 | C10: 231.80 | D10: 263.56 | E10: __export__.res_partner_277 | F10: product | G10: make_to_order | H10: buy | I10: __export__.product_category_7 | J10: 0 | M10: =IF(Feuil1!F10="",B10,"=GAUCHE(B2;Feuil1!F2)") -> Oasis HLB Extraction Cartridge Plus Type 60µm 225 mg\ Box of 50
A11: 186000154 | B11: AcroPrep GHP Filter Plate 0.45µm\ Box of 10 | C11: 613.70 | D11: 697.78 | E11: __export__.res_partner_277 | F11: product | G11: make_to_order | H11: buy | I11: __export__.product_category_7 | J11: 0 | M11: =IF(Feuil1!F11="",B11,"=GAUCHE(B2;Feuil1!F2)") -> AcroPrep GHP Filter Plate 0.45µm\ Box of 10
A12: 186000155 | B12: AcroPrep Nylon Filter Plate 0.45µm\ Box of 10 | C12: 613.70 | D12: 697.78 | E12: __export__.res_partner_277 | F12: product | G12: make_to_order | H12: buy | I12: __export__.product_category_7 | J12: 0 | M12: =IF(Feuil1!F12="",B12,"=GAUCHE(B2;Feuil1!F2)") -> AcroPrep Nylon Filter Plate 0.45µm\ Box of 10
A13: 186000156 | B13: AcroPrep PTFE Filter Plate 0.45µm\ Box of 10 | C13: 613.70 | D13: 697.78 | E13: __export__.res_partner_277 | F13: product | G13: make_to_order | H13: buy | I13: __export__.product_category_7 | J13: 0 | M13: =IF(Feuil1!F13="",B13,"=GAUCHE(B2;Feuil1!F2)") -> AcroPrep PTFE Filter Plate 0.45µm\ Box of 10
... A111: 186001017 | B111: XTerra Prep OBD RP8 Column 5µm 10 x 50mm\ Box of 1 | C111: 891.10 | D111: 1013.18 | E111: __export__.res_partner_277 | F111: product | G111: make_to_order | H111: buy | I111: __export__.product_category_7 | J111: 0 | M111: =IF(Feuil1!F111="",B111,"=GAUCHE(B2;Feuil1!F2)") -> XTerra Prep OBD RP8 Column 5µm 10 x 50mm\ Box of 1
A112: 186001018 | B112: XTerra Prep OBD MS C18 Column 5µm 10 x 100mm\ Box of 1 | C112: 1064 | D112: 1209.77 | E112: __export__.res_partner_277 | F112: product | G112: make_to_order | H112: buy | I112: __export__.product_category_7 | J112: 0 | M112: =IF(Feuil1!F112="",B112,"=GAUCHE(B2;Feuil1!F2)") -> XTerra Prep OBD MS C18 Column 5µm 10 x 100mm\ Box of 1
A113: 186001020 | B113: XTerra Prep OBD RP18 Column 5µm 10 x 100mm\ Box of 1 | C113: 1064 | D113: 1209.77 | E113: __export__.res_partner_277 | F113: product | G113: make_to_order | H113: buy | I113: __export__.product_category_7 | J113: 0 | M113: =IF(Feuil1!F113="",B113,"=GAUCHE(B2;Feuil1!F2)") -> XTerra Prep OBD RP18 Column 5µm 10 x 100mm\ Box of 1
A114: 186001021 | B114: XTerra Prep OBD RP8 Column 5µm 10 x 100mm\ Box of 1 | C114: 1064 | D114: 1209.77 | E114: __export__.res_partner_277 | F114: product | G114: make_to_order | H114: buy | I114: __export__.product_category_7 | J114: 0 | M114: =IF(Feuil1!F114="",B114,"=GAUCHE(B2;Feuil1!F2)") -> XTerra Prep OBD RP8 Column 5µm 10 x 100mm\ Box of 1
A115: 186001022 | B115: XTerra Prep MS C18 Column 10µm 10 x 150mm\ Box of 1 | C115: 1187.5 | D115: 1350.19 | E115: __export__.res_partner_277 | F115: product | G115: make_to_order | H115: buy | I115: __export__.product_category_7 | J115: 0 | M115: =IF(Feuil1!F115="",B115,"=GAUCHE(B2;Feuil1!F2)") -> XTerra Prep MS C18 Column 10µm 10 x 150mm\ Box of 1
A116: 186001023 | B116: XTerra Prep OBD MS C8 Column 10µm 10 x 150mm\ Box of 1 | C116: 1187.5 | D116: 1350.19 | E116: __export__.res_partner_277 | F116: product | G116: make_to_order | H116: buy | I116: __export__.product_category_7 | J116: 0 | M116: =IF(Feuil1!F116="",B116,"=GAUCHE(B2;Feuil1!F2)") -> XTerra Prep OBD MS C8 Column 10µm 10 x 150mm\ Box of 1
A117: 186001024 | B117: XTerra Prep OBD RP18 Column 10µm 10 x 150mm\ Box of 1 | C117: 1187.5 | D117: 1350.19 | E117: __export__.res_partner_277 | F117: product | G117: make_to_order | H117: buy | I117: __export__.product_category_7 | J117: 0 | M117: =IF(Feuil1!F117="",B117,"=GAUCHE(B2;Feuil1!F2)") -> XTerra Prep OBD RP18 Column 10µm 10 x 150mm\ Box of 1
A118: 186001025 | B118: XTerra Prep OBD RP8 Column 10µm 10 x 150mm\ Box of 1 | C118: 1187.5 | D118: 1350.19 | E118: __export__.res_partner_277 | F118: product | G118: make_to_order | H118: buy | I118: __export__.product_category_7 | J118: 0 | M118: =IF(Feuil1!F118="",B118,"=GAUCHE(B2;Feuil1!F2)") -> XTerra Prep OBD RP8 Column 10µm 10 x 150mm\ Box of 1
A119: 186001026 | B119: XTerra Prep OBD MS C18 Column 10µm 10 x 250mm\ Box of 1 | C119: 1415.5 | D119: 1609.42 | E119: __export__.res_partner_277 | F119: product | G119: make_to_order | H119: buy | I119: __export__.product_category_7 | J119: 0 | M119: =IF(Feuil1!F119="",B119,"=GAUCHE(B2;Feuil1!F2)") -> XTerra Prep OBD MS C18 Column 10µm 10 x 250mm\ Box of 1
A120: 186001027 | B120: XTerra Prep OBD MS C8 Column 10µm 10 x 250mm\ Box of 1 | C120: 1415.5 | D120: 1609.42 | E120: __export__.res_partner_277 | F120: product | G120: make_to_order | H120: buy | I120: __export__.product_category_7 | J120: 0 | M120: =IF(Feuil1!F120="",B120,"=GAUCHE(B2;Feuil1!F2)") -> XTerra Prep OBD MS C8 Column 10µm 10 x 250mm\ Box of 1
A121: 186001028 | B121: XTerra Prep OBD RP18 Column 10µm 10 x 250mm\ Box of 1 | C121: 1415.5 | D121: 1609.42 | E121: __export__.res_partner_277 | F121: product | G121: make_to_order | H121: buy | I121: __export__.product_category_7 | J121: 0 | M121: =IF(Feuil1!F121="",B121,"=GAUCHE(B2;Feuil1!F2)") -> XTerra Prep OBD RP18 Column 10µm 10 x 250mm\ Box of 1
A122: 186001029 | B122: XTerra Prep OBD RP8 Column 10µm 10 x 250mm\ Box of 1 | C122: 1415.5 | D122: 1609.42 | E122: __export__.res_partner_277 | F122: product | G122: make_to_order | H122: buy | I122: __export__.product_category_7 | J122: 0 | M122: =IF(Feuil1!F122="",B122,"=GAUCHE(B2;Feuil1!F2)") -> XTerra Prep OBD RP8 Column 10µm 10 x 250mm\ Box of 1
A123: 186001030 | B123: XTerra Prep OBD MS C18 Column 10µm 10 x 300mm\ Box of 1 | C123: 1786 | D123: 2030.68 | E123: __export__.res_partner_277 | F123: product | G123: make_to_order | H123: buy | I123: __export__.product_category_7 | J123: 0 | M123: =IF(Feuil1!F123="",B123,"=GAUCHE(B2;Feuil1!F2)") -> XTerra Prep OBD MS C18 Column 10µm 10 x 300mm\ Box of 1
A124: 186001031 | B124: XTerra Prep OBD MS C8 Column 10µm 10 x 300mm\ Box of 1 | C124: 1786 | D124: 2030.68 | E124: __export__.res_partner_277 | F124: product | G124: make_to_order | H124: buy | I124: __export__.product_category_7 | J124: 0 | M124: =IF(Feuil1!F124="",B124,"=GAUCHE(B2;Feuil1!F2)") -> XTerra Prep OBD MS C8 Column 10µm 10 x 300mm\ Box of 1
A125: 186001032 | B125: XTerra Prep OBD RP18 Column 10µm 10 x 300mm\ Box of 1 | C125: 1786 | D125: 2030.68 | E125: __export__.res_partner_277 | F125: product | G125: make_to_order | H125: buy | I125: __export__.product_category_7 | J125: 0 | M125: =IF(Feuil1!F125="",B125,"=GAUCHE(B2;Feuil1!F2)") -> XTerra Prep OBD RP18 Column 10µm 10 x 300mm\ Box of 1
A126: 186001033 | B126: XTerra Prep OBD RP8 Column 10µm 10 x 300mm\ Box of 1 | C126: 1786 | D126: 2030.68 | E126: __export__.res_partner_277 | F126: product | G126: make_to_order | H126: buy | I126: __export__.product_category_7 | J126: 0 | M126: =IF(Feuil1!F126="",B126,"=GAUCHE(B2;Feuil1!F2)") -> XTerra Prep OBD RP8 Column 10µm 10 x 300mm\ Box of 1
A127: 186001152 | B127: XTerra Prep OBD MS C18 Column 5µm 7.8 x 50mm\ Box of 1 | C127: 596.60 | D127: 678.33 | E127: __export__.res_partner_277 | F127: product | G127: make_to_order | H127: buy | I127: __export__.product_category_7 | J127: 0 | M127: =IF(Feuil1!F127="",B127,"=GAUCHE(B2;Feuil1!F2)") -> XTerra Prep OBD MS C18 Column 5µm 7.8 x 50mm\ Box of 1
A128: 186001153 | B128: XTerra Prep OBD MS C8 Column 5µm 7.8 x 50mm\ Box of 1 | C128: 596.60 | D128: 678.33 | E128: __export__.res_partner_277 | F128: product | G128: make_to_order | H128: buy | I128: __export__.product_category_7 | J128: 0 | M128: =IF(Feuil1!F128="",B128,"=GAUCHE(B2;Feuil1!F2)") -> XTerra Prep OBD MS C8 Column 5µm 7.8 x 50mm\ Box of 1
A129: 186001154 | B129: XTerra Prep OBD RP18 Column 5µm 7.8 x 50mm\ Box of 1 | C129: 596.60 | D129: 678.33 | E129: __export__.res_partner_277 | F129: product | G129: make_to_order | H129: buy | I129: __export__.product_category_7 | J129: 0 | M129: =IF(Feuil1!F129="",B129,"=GAUCHE(B2;Feuil1!F2)") -> XTerra Prep OBD RP18 Column 5µm 7.8 x 50mm\ Box of 1
A130: 186001155 | B130: XTerra Prep OBD RP8 Column 5µm 7.8 x 50mm\ Box of 1 | C130: 596.60 | D130: 678.33 | E130: __export__.res_partner_277 | F130: product | G130: make_to_order | H130: buy | I130: __export__.product_category_7 | J130: 0 | M130: =IF(Feuil1!F130="",B130,"=GAUCHE(B2;Feuil1!F2)") -> XTerra Prep OBD RP8 Column 5µm 7.8 x 50mm\ Box of 1
A131: 186001156 | B131: XTerra Prep OBD MS C18 Column 5µm 7.8 x 100mm\ Box of 1 | C131: 869.25 | D131: 988.34 | E131: __export__.res_partner_277 | F131: product | G131: make_to_order | H131: buy | I131: __export__.product_category_7 | J131: 0 | M131: =IF(Feuil1!F131="",B131,"=GAUCHE(B2;Feuil1!F2)") -> XTerra Prep OBD MS C18 Column 5µm 7.8 x 100mm\ Box of 1
A132: 186001157 | B132: XTerra Prep OBD MS C8 Column 5µm 7.8 x 100mm\ Box of 1 | C132: 869.25 | D132: 988.34 | E132: __export__.res_partner_277 | F132: product | G132: make_to_order | H132: buy | I132: __export__.product_category_7 | J132: 0 | M132: =IF(Feuil1!F132="",B132,"=GAUCHE(B2;Feuil1!F2)") -> XTerra Prep OBD MS C8 Column 5µm 7.8 x 100mm\ Box of 1
A133: 186001158 | B133: XTerra Prep OBD RP18 Column 5µm 7.8 x 100mm\ Box of 1 | C133: 869.25 | D133: 988.34 | E133: __export__.res_partner_277 | F133: product | G133: make_to_order | H133: buy | I133: __export__.product_category_7 | J133: 0 | M133: =IF(Feuil1!F133="",B133,"=GAUCHE(B2;Feuil1!F2)") -> XTerra Prep OBD RP18 Column 5µm 7.8 x 100mm\ Box of 1
A134: 186001159 | B134: XTerra Prep OBD RP8 Column 5µm 7.8 x 100mm\ Box of 1 | C134: 869.25 | D134: 988.34 | E134: __export__.res_partner_277 | F134: product | G134: make_to_order | H134: buy | I134: __export__.product_category_7 | J134: 0 | M134: =IF(Feuil1!F134="",B134,"=GAUCHE(B2;Feuil1!F2)") -> XTerra Prep OBD RP8 Column 5µm 7.8 x 100mm\ Box of 1
A135: 186001160 | B135: XTerra Prep MS C18 Column 10µm 7.8 x 150mm\ Box of 1 | C135: 1254 | D135: 1425.8 | E135: __export__.res_partner_277 | F135: product | G135: make_to_order | H135: buy | I135: __export__.product_category_7 | J135: 0 | M135: =IF(Feuil1!F135="",B135,"=GAUCHE(B2;Feuil1!F2)") -> XTerra Prep MS C18 Column 10µm 7.8 x 150mm\ Box of 1
A136: 186001161 | B136: XTerra Prep OBD MS C8 Column 10µm 7.8 x 150mm\ Box of 1 | C136: 1254 | D136: 1425.8 | E136: __export__.res_partner_277 | F136: product | G136: make_to_order | H136: buy | I136: __export__.product_category_7 | J136: 0 | M136: =IF(Feuil1!F136="",B136,"=GAUCHE(B2;Feuil1!F2)") -> XTerra Prep OBD MS C8 Column 10µm 7.8 x 150mm\ Box of 1
A137: 186001162 | B137: XTerra Prep OBD RP18 Column 10µm 7.8 x 150mm\ Box of 1 | C137: 1254 | D137: 1425.8 | E137: __export__.res_partner_277 | F137: product | G137: make_to_order | H137: buy | I137: __export__.product_category_7 | J137: 0 | M137: =IF(Feuil1!F137="",B137,"=GAUCHE(B2;Feuil1!F2)") -> XTerra Prep OBD RP18 Column 10µm 7.8 x 150mm\ Box of 1
A138: 186001163 | B138: XTerra Prep OBD RP8 Column 10µm 7.8 x 150mm\ Box of 1 | C138: 1254 | D138: 1425.8 | E138: __export__.res_partner_277 | F138: product | G138: make_to_order | H138: buy | I138: __export__.product_category_7 | J138: 0 | M138: =IF(Feuil1!F138="",B138,"=GAUCHE(B2;Feuil1!F2)") -> XTerra Prep OBD RP8 Column 10µm 7.8 x 150mm\ Box of 1
A139: 186001164 | B139: XTerra Prep OBD MS C18 Column 10µm 7.8 x 300mm\ Box of 1 | C139: 1624.5 | D139: 1847.06 | E139: __export__.res_partner_277 | F139: product | G139: make_to_order | H139: buy | I139: __export__.product_category_7 | J139: 0 | M139: =IF(Feuil1!F139="",B139,"=GAUCHE(B2;Feuil1!F2)") -> XTerra Prep OBD MS C18 Column 10µm 7.8 x 300mm\ Box of 1
A140: 186001165 | B140: XTerra Prep OBD MS C8 Column 10µm 7.8 x 300mm\ Box of 1 | C140: 1624.5 | D140: 1847.06 | E140: __export__.res_partner_277 | F140: product | G140: make_to_order | H140: buy | I140: __export__.product_category_7 | J140: 0 | M140: =IF(Feuil1!F140="",B140,"=GAUCHE(B2;Feuil1!F2)") -> XTerra Prep OBD MS C8 Column 10µm 7.8 x 300mm\ Box of 1
A141: 186001166 | B141: XTerra Prep RP18 Column 10µm 7.8 x 300mm\ Box of 1 | C141: 1624.5 | D141: 1847.06 | E141: __export__.res_partner_277 | F141: product | G141: make_to_order | H141: buy | I141: __export__.product_category_7 | J141: 0 | M141: =IF(Feuil1!F141="",B141,"=GAUCHE(B2;Feuil1!F2)") -> XTerra Prep RP18 Column 10µm 7.8 x 300mm\ Box of 1
A142: 186001167 | B142: XTerra Prep OBD RP8 Column 10µm 7.8 x 300mm\ Box of 1 | C142: 1624.5 | D142: 1847.06 | E142: __export__.res_partner_277 | F142: product | G142: make_to_order | H142: buy | I142: __export__.product_category_7 | J142: 0 | M142: =IF(Feuil1!F142="",B142,"=GAUCHE(B2;Feuil1!F2)") -> XTerra Prep OBD RP8 Column 10µm 7.8 x 300mm\ Box of 1
A143: 186001188 | B143: XTerra Phenyl Guard Column 3.5µm 2.1 x 10mm\ Box of 2 | C143: 167.20 | D143: 190.11 | E143: __export__.res_partner_277 | F143: product | G143: make_to_order | H143: buy | I143: __export__.product_category_7 | J143: 0 | M143: =IF(Feuil1!F143="",B143,"=GAUCHE(B2;Feuil1!F2)") -> XTerra Phenyl Guard Column 3.5µm 2.1 x 10mm\ Box of 2
A144: 186001189 | B144: XTerra Phenyl Guard Column 3.5µm 2.1 x 20mm\ Box of 2 | C144: 173.85 | D144: 197.67 | E144: __export__.res_partner_277 | F144: product | G144: make_to_order | H144: buy | I144: __export__.product_category_7 | J144: 0 | M144: =IF(Feuil1!F144="",B144,"=GAUCHE(B2;Feuil1!F2)") -> XTerra Phenyl Guard Column 3.5µm 2.1 x 20mm\ Box of 2
A145: 186001190 | B145: XTerra Phenyl Guard Column 3.5µm 3.0 x 20mm\ Box of 2 | C145: 173.85 | D145: 197.67 | E145: __export__.res_partner_277 | F145: product | G145: make_to_order | H145: buy | I145: __export__.product_category_7 | J145: 0 | M145: =IF(Feuil1!F145="",B145,"=GAUCHE(B2;Feuil1!F2)") -> XTerra Phenyl Guard Column 3.5µm 3.0 x 20mm\ Box of 2
A146: 186001191 | B146: XTerra Phenyl Guard Column 3.5µm 3.9 x 20mm\ Box of 2 | C146: 173.85 | D146: 197.67 | E146: __export__.res_partner_277 | F146: product | G146: make_to_order | H146: buy | I146: __export__.product_category_7 | J146: 0 | M146: =IF(Feuil1!F146="",B146,"=GAUCHE(B2;Feuil1!F2)") -> XTerra Phenyl Guard Column 3.5µm 3.9 x 20mm\ Box of 2
A147: 186001192 | B147: XTerra Phenyl Guard Column 5µm 2.1 x 10mm\ Box of 2 | C147: 167.20 | D147: 190.11 | E147: __export__.res_partner_277 | F147: product | G147: make_to_order | H147: buy | I147: __export__.product_category_7 | J147: 0 | M147: =IF(Feuil1!F147="",B147,"=GAUCHE(B2;Feuil1!F2)") -> XTerra Phenyl Guard Column 5µm 2.1 x 10mm\ Box of 2
A148: 186001193 | B148: XTerra Phenyl Guard Column 5µm 2.1 x 20mm\ Box of 2 | C148: 173.85 | D148: 197.67 | E148: __export__.res_partner_277 | F148: product | G148: make_to_order | H148: buy | I148: __export__.product_category_7 | J148: 0 | M148: =IF(Feuil1!F148="",B148,"=GAUCHE(B2;Feuil1!F2)") -> XTerra Phenyl Guard Column 5µm 2.1 x 20mm\ Box of 2
A149: 186001194 | B149: XTerra Phenyl Guard Column 5µm 3.0 x 20mm\ Box of 2 | C149: 173.85 | D149: 197.67 | E149: __export__.res_partner_277 | F149: product | G149: make_to_order | H149: buy | I149: __export__.product_category_7 | J149: 0 | M149: =IF(Feuil1!F149="",B149,"=GAUCHE(B2;Feuil1!F2)") -> XTerra Phenyl Guard Column 5µm 3.0 x 20mm\ Box of 2
A150: 186001195 | B150: XTerra Phenyl Guard Column 5µm 3.9 x 20mm\ Box of 2 | C150: 173.85 | D150: 197.67 | E150: __export__.res_partner_277 | F150: product | G150: make_to_order | H150: buy | I150: __export__.product_category_7 | J150: 0 | M150: =IF(Feuil1!F150="",B150,"=GAUCHE(B2;Feuil1!F2)") -> XTerra Phenyl Guard Column 5µm 3.9 x 20mm\ Box of 2
... A164: 186001435 | B164: Oasis HLB Extraction Cartridge flangeless 750 mg 6 mL\ Box of 500 | C164: 3049.5 | D164: 3467.28 | E164: __export__.res_partner_277 | F164: product | G164: make_to_order | H164: buy | I164: __export__.product_category_7 | J164: 0 | M164: =IF(Feuil1!F164="",B164,"=GAUCHE(B2;Feuil1!F2)") -> Oasis HLB Extraction Cartridge flangeless 750 mg 6 mL\ Box of 500
A165: 186001475 | B165: XTerra Prep MS C18 Column 5µm 7.8 x 150mm\ Box of 1 | C165: 1254 | D165: 1425.8 | E165: __export__.res_partner_277 | F165: product | G165: make_to_order | H165: buy | I165: __export__.product_category_7 | J165: 0 | M165: =IF(Feuil1!F165="",B165,"=GAUCHE(B2;Feuil1!F2)") -> XTerra Prep MS C18 Column 5µm 7.8 x 150mm\ Box of 1
A166: 186001476 | B166: XTerra Prep OBD MS C8 Column 5µm 7.8 x 150mm\ Box of 1 | C166: 1254 | D166: 1425.8 | E166: __export__.res_partner_277 | F166: product | G166: make_to_order | H166: buy | I166: __export__.product_category_7 | J166: 0 | M166: =IF(Feuil1!F166="",B166,"=GAUCHE(B2;Feuil1!F2)") -> XTerra Prep OBD MS C8 Column 5µm 7.8 x 150mm\ Box of 1
A167: 186001477 | B167: XTerra Prep OBD RP18 Column 5µm 7.8 x 150mm\ Box of 1 | C167: 1254 | D167: 1425.8 | E167: __export__.res_partner_277 | F167: product | G167: make_to_order | H167: buy | I167: __export__.product_category_7 | J167: 0 | M167: =IF(Feuil1!F167="",B167,"=GAUCHE(B2;Feuil1!F2)") -> XTerra Prep OBD RP18 Column 5µm 7.8 x 150mm\ Box of 1
A168: 186001478 | B168: XTerra Prep OBD RP8 Column 5µm 7.8 x 150mm\ Box of 1 | C168: 1254 | D168: 1425.8 | E168: __export__.res_partner_277 | F168: product | G168: make_to_order | H168: buy | I168: __export__.product_category_7 | J168: 0 | M168: =IF(Feuil1!F168="",B168,"=GAUCHE(B2;Feuil1!F2)") -> XTerra Prep OBD RP8 Column 5µm 7.8 x 150mm\ Box of 1
A169: 186001479 | B169: XTerra Prep MS C18 Column 5µm 10 x 150mm\ Box of 1 | C169: 1301.5 | D169: 1479.81 | E169: __export__.res_partner_277 | F169: product | G169: make_to_order | H169: buy | I169: __export__.product_category_7 | J169: 0 | M169: =IF(Feuil1!F169="",B169,"=GAUCHE(B2;Feuil1!F2)") -> XTerra Prep MS C18 Column 5µm 10 x 150mm\ Box of 1
A170: 186001480 | B170: XTerra Prep OBD MS C8 Column 5µm 10 x 150mm\ Box of 1 | C170: 1301.5 | D170: 1479.81 | E170: __export__.res_partner_277 | F170: product | G170: make_to_order | H170: buy | I170: __export__.product_category_7 | J170: 0 | M170: =IF(Feuil1!F170="",B170,"=GAUCHE(B2;Feuil1!F2)") -> XTerra Prep OBD MS C8 Column 5µm 10 x 150mm\ Box of 1
A171: 186001481 | B171: XTerra Prep OBD RP18 Column 5µm 10 x 150mm\ Box of 1 | C171: 1301.5 | D171: 1479.81 | E171: __export__.res_partner_277 | F171: product | G171: make_to_order | H171: buy | I171: __export__.product_category_7 | J171: 0 | M171: =IF(Feuil1!F171="",B171,"=GAUCHE(B2;Feuil1!F2)") -> XTerra Prep OBD RP18 Column 5µm 10 x 150mm\ Box of 1
A172: 186001482 | B172: XTerra Prep OBD RP8 Column 5µm 10 x 150mm\ Box of 1 | C172: 1301.5 | D172: 1479.81 | E172: __export__.res_partner_277 | F172: product | G172: make_to_order | H172: buy | I172: __export__.product_category_7 | J172: 0 | M172: =IF(Feuil1!F172="",B172,"=GAUCHE(B2;Feuil1!F2)") -> XTerra Prep OBD RP8 Column 5µm 10 x 150mm\ Box of 1
A173: 186001792 | B173: Oasis HLB Direct Connect Column 25µm 2.0 x 15mm\ Box of 1 | C173: 345.80 | D173: 393.17 | E173: __export__.res_partner_277 | F173: product | G173: make_to_order | H173: buy | I173: __export__.product_category_7 | J173: 0 | M173: =IF(Feuil1!F173="",B173,"=GAUCHE(B2;Feuil1!F2)") -> Oasis HLB Direct Connect Column 25µm 2.0 x 15mm\ Box of 1
A174: 186001829 | B174: Oasis MAX MicroElution Plate 96 Wells\ Box of 1 | C174: 345.80 | D174: 393.17 | E174: __export__.res_partner_277 | F174: product | G174: make_to_order | H174: buy | I174: __export__.product_category_7 | J174: 0 | M174: =IF(Feuil1!F174="",B174,"=GAUCHE(B2;Feuil1!F2)") -> Oasis MAX MicroElution Plate 96 Wells\ Box of 1
A175: 186001835 | B175: SymmetryShield RP18 Pre-column 100 Å 5µm 19 x 10mm\ Box of 1 | C175: 352.45 | D175: 400.74 | E175: __export__.res_partner_277 | F175: product | G175: make_to_order | H175: buy | I175: __export__.product_category_7 | J175: 0 | M175: =IF(Feuil1!F175="",B175,"=GAUCHE(B2;Feuil1!F2)") -> SymmetryShield RP18 Pre-column 100 Å 5µm 19 x 10mm\ Box of 1
A176: 186001841 | B176: SymmetryShield RP8 Pre-column 100 Å 5µm 19 x 10mm\ Box of 1 | C176: 352.45 | D176: 400.74 | E176: __export__.res_partner_277 | F176: product | G176: make_to_order | H176: buy | I176: __export__.product_category_7 | J176: 0 | M176: =IF(Feuil1!F176="",B176,"=GAUCHE(B2;Feuil1!F2)") -> SymmetryShield RP8 Pre-column 100 Å 5µm 19 x 10mm\ Box of 1
A177: 186001847 | B177: Symmetry300 C18 Pre-column 300 Å 5µm 19 x 10mm\ Box of 1 | C177: 373.35 | D177: 424.50 | E177: __export__.res_partner_277 | F177: product | G177: make_to_order | H177: buy | I177: __export__.product_category_7 | J177: 0 | M177: =IF(Feuil1!F177="",B177,"=GAUCHE(B2;Feuil1!F2)") -> Symmetry300 C18 Pre-column 300 Å 5µm 19 x 10mm\ Box of 1
A178: 186001855 | B178: Oasis MAX Extraction Cartridge flangeless with Gilson Adapter 30µm 400 mg 6 mL\ Box of 100 | C178: 582.35 | D178: 662.13 | E178: __export__.res_partner_277 | F178: product | G178: make_to_order | H178: buy | I178: __export__.product_category_7 | J178: 0 | M178: =IF(Feuil1!F178="",B178,"=GAUCHE(B2;Feuil1!F2)") -> Oasis MAX Extraction Cartridge flangeless with Gilson Adapter 30µm 400 mg 6 mL\ Box of 100
A179: 186001879 | B179: Oasis HLB Extraction Cartridge flangeless 30 mg 1 mL\ Box of 100 | C179: 236.55 | D179: 268.96 | E179: __export__.res_partner_277 | F179: product | G179: make_to_order | H179: buy | I179: __export__.product_category_7 | J179: 0 | M179: =IF(Feuil1!F179="",B179,"=GAUCHE(B2;Feuil1!F2)") -> Oasis HLB Extraction Cartridge flangeless 30 mg 1 mL\ Box of 100
A180: 186001880 | B180: Oasis HLB Extraction Cartridge flangeless 60 mg 3 mL\ Box of 100 | C180: 315.40 | D180: 358.61 | E180: __export__.res_partner_277 | F180: product | G180: make_to_order | H180: buy | I180: __export__.product_category_7 | J180: 0 | M180: =IF(Feuil1!F180="",B180,"=GAUCHE(B2;Feuil1!F2)") -> Oasis HLB Extraction Cartridge flangeless 60 mg 3 mL\ Box of 100
... A184: 186001884 | B184: Oasis MAX Extraction Cartridge flangeless 60 mg 3 mL\ Box of 100 | C184: 335.35 | D184: 381.29 | E184: __export__.res_partner_277 | F184: product | G184: make_to_order | H184: buy | I184: __export__.product_category_7 | J184: 0 | M184: =IF(Feuil1!F184="",B184,"=GAUCHE(B2;Feuil1!F2)") -> Oasis MAX Extraction Cartridge flangeless 60 mg 3 mL\ Box of 100
A185: 186001888 | B185: Oasis MCX Cartridge with Gilson Adapter 30 mg 1 mL\ Box of 500 | C185: 1083 | D185: 1231.37 | E185: __export__.res_partner_277 | F185: product | G185: make_to_order | H185: buy | I185: __export__.product_category_7 | J185: 0 | M185: =IF(Feuil1!F185="",B185,"=GAUCHE(B2;Feuil1!F2)") -> Oasis MCX Cartridge with Gilson Adapter 30 mg 1 mL\ Box of 500
A186: 186001913 | B186: Envirogel GPC Cleanup Guard Column 4.6 x 30mm Methylene Chloride\ Box of 1 | C186: 342.95 | D186: 389.93 | E186: __export__.res_partner_277 | F186: product | G186: make_to_order | H186: buy | I186: __export__.product_category_7 | J186: 0 | M186: =IF(Feuil1!F186="",B186,"=GAUCHE(B2;Feuil1!F2)") -> Envirogel GPC Cleanup Guard Column 4.6 x 30mm Methylene Chloride\ Box of 1
A187: 186001914 | B187: Envirogel GPC Cleanup Guard Column 4.6 x 30mm Cyclohexane /Ehylacetate\ Box of 1 | C187: 342.95 | D187: 389.93 | E187: __export__.res_partner_277 | F187: product | G187: make_to_order | H187: buy | I187: __export__.product_category_7 | J187: 0 | M187: =IF(Feuil1!F187="",B187,"=GAUCHE(B2;Feuil1!F2)") -> Envirogel GPC Cleanup Guard Column 4.6 x 30mm Cyclohexane /Ehylacetate\ Box of 1
A188: 186001915 | B188: Envirogel GPC Cleanup Column Cyclohexane/Ehylacetate 19 x 150mm\ Box of 1 | C188: 1985.5 | D188: 2257.51 | E188: __export__.res_partner_277 | F188: product | G188: make_to_order | H188: buy | I188: __export__.product_category_7 | J188: 0 | M188: =IF(Feuil1!F188="",B188,"=GAUCHE(B2;Feuil1!F2)") -> Envirogel GPC Cleanup Column Cyclohexane/Ehylacetate 19 x 150mm\ Box of 1
A189: 186001916 | B189: Envirogel GPC Cleanup Column Cyclohexane/Ehylacetate 19 x 300mm\ Box of 1 | C189: 2755 | D189: 3132.44 | E189: __export__.res_partner_277 | F189: product | G189: make_to_order | H189: buy | I189: __export__.product_category_7 | J189: 0 | M189: =IF(Feuil1!F189="",B189,"=GAUCHE(B2;Feuil1!F2)") -> Envirogel GPC Cleanup Column Cyclohexane/Ehylacetate 19 x 300mm\ Box of 1
A190: 186001917 | B190: Sep-Pak Accell Plus QMA Extraction Plate 100 mg 96 Wells\ Box of 1 | C190: 255.55 | D190: 290.56 | E190: __export__.res_partner_277 | F190: product | G190: make_to_order | H190: buy | I190: __export__.product_category_7 | J190: 0 | M190: =IF(Feuil1!F190="",B190,"=GAUCHE(B2;Feuil1!F2)") -> Sep-Pak Accell Plus QMA Extraction Plate 100 mg 96 Wells\ Box of 1
A191: 186001920 | B191: XTerra MS C18 Column 5µm 4.6 x 10mm (Parker Hardware)\ Box of 3 | C191: 239.40 | D191: 272.20 | E191: __export__.res_partner_277 | F191: product | G191: make_to_order | H191: buy | I191: __export__.product_category_7 | J191: 0 | M191: =IF(Feuil1!F191="",B191,"=GAUCHE(B2;Feuil1!F2)") -> XTerra MS C18 Column 5µm 4.6 x 10mm (Parker Hardware)\ Box of 3
A192: 186001927 | B192: XTerra MS C18 Column 3.5µm 4.6 x 10mm (Parker Hardware)\ Box of 3 | C192: 239.40 | D192: 272.20 | E192: __export__.res_partner_277 | F192: product | G192: make_to_order | H192: buy | I192: __export__.product_category_7 | J192: 0 | M192: =IF(Feuil1!F192="",B192,"=GAUCHE(B2;Feuil1!F2)") -> XTerra MS C18 Column 3.5µm 4.6 x 10mm (Parker Hardware)\ Box of 3
A193: 186001930 | B193: XTerra Prep OBD MS C18 Column 5µm 19 x 50mm\ Box of 1 | C193: 1301.5 | D193: 1479.81 | E193: __export__.res_partner_277 | F193: product | G193: make_to_order | H193: buy | I193: __export__.product_category_7 | J193: 0 | M193: =IF(Feuil1!F193="",B193,"=GAUCHE(B2;Feuil1!F2)") -> XTerra Prep OBD MS C18 Column 5µm 19 x 50mm\ Box of 1
A194: 186001931 | B194: XTerra Prep OBD MS C8 Column 5µm 19 x 50mm\ Box of 1 | C194: 1301.5 | D194: 1479.81 | E194: __export__.res_partner_277 | F194: product | G194: make_to_order | H194: buy | I194: __export__.product_category_7 | J194: 0 | M194: =IF(Feuil1!F194="",B194,"=GAUCHE(B2;Feuil1!F2)") -> XTerra Prep OBD MS C8 Column 5µm 19 x 50mm\ Box of 1
A195: 186001932 | B195: XTerra Prep OBD RP18 Column 5µm 19 x 50mm\ Box of 1 | C195: 1301.5 | D195: 1479.81 | E195: __export__.res_partner_277 | F195: product | G195: make_to_order | H195: buy | I195: __export__.product_category_7 | J195: 0 | M195: =IF(Feuil1!F195="",B195,"=GAUCHE(B2;Feuil1!F2)") -> XTerra Prep OBD RP18 Column 5µm 19 x 50mm\ Box of 1
A196: 186001934 | B196: XTerra Prep OBD MS C18 Column 5µm 19 x 100mm\ Box of 1 | C196: 2166 | D196: 2462.74 | E196: __export__.res_partner_277 | F196: product | G196: make_to_order | H196: buy | I196: __export__.product_category_7 | J196: 0 | M196: =IF(Feuil1!F196="",B196,"=GAUCHE(B2;Feuil1!F2)") -> XTerra Prep OBD MS C18 Column 5µm 19 x 100mm\ Box of 1
A197: 186001935 | B197: XTerra Prep OBD MS C8 Column 5µm 19 x 100mm\ Box of 1 | C197: 2166 | D197: 2462.74 | E197: __export__.res_partner_277 | F197: product | G197: make_to_order | H197: buy | I197: __export__.product_category_7 | J197: 0 | M197: =IF(Feuil1!F197="",B197,"=GAUCHE(B2;Feuil1!F2)") -> XTerra Prep OBD MS C8 Column 5µm 19 x 100mm\ Box of 1
A198: 186001936 | B198: XTerra Prep OBD RP18 Column 5µm 19 x 100mm\ Box of 1 | C198: 2166 | D198: 2462.74 | E198: __export__.res_partner_277 | F198: product | G198: make_to_order | H198: buy | I198: __export__.product_category_7 | J198: 0 | M198: =IF(Feuil1!F198="",B198,"=GAUCHE(B2;Feuil1!F2)") -> XTerra Prep OBD RP18 Column 5µm 19 x 100mm\ Box of 1
A199: 186001937 | B199: XTerra Prep OBD RP8 Column 5µm 19 x 100mm\ Box of 1 | C199: 2166 | D199: 2462.74 | E199: __export__.res_partner_277 | F199: product | G199: make_to_order | H199: buy | I199: __export__.product_category_7 | J199: 0 | M199: =IF(Feuil1!F199="",B199,"=GAUCHE(B2;Feuil1!F2)") -> XTerra Prep OBD RP8 Column 5µm 19 x 100mm\ Box of 1
A200: 186001938 | B200: XTerra Prep OBD MS C18 Column 5µm 30 x 50mm\ Box of 1 | C200: 3192 | D200: 3629.3 | E200: __export__.res_partner_277 | F200: product | G200: make_to_order | H200: buy | I200: __export__.product_category_7 | J200: 0 | M200: =IF(Feuil1!F200="",B200,"=GAUCHE(B2;Feuil1!F2)") -> XTerra Prep OBD MS C18 Column 5µm 30 x 50mm\ Box of 1
A201: 186001940 | B201: XTerra Prep OBD RP18 Column 5µm 30 x 50mm\ Box of 1 | C201: 3192 | D201: 3629.3 | E201: __export__.res_partner_277 | F201: product | G201: make_to_order | H201: buy | I201: __export__.product_category_7 | J201: 0 | M201: =IF(Feuil1!F201="",B201,"=GAUCHE(B2;Feuil1!F2)") -> XTerra Prep OBD RP18 Column 5µm 30 x 50mm\ Box of 1
A202: 186001941 | B202: XTerra Prep OBD RP8 Column 5µm 30 x 50mm\ Box of 1 | C202: 3192 | D202: 3629.3 | E202: __export__.res_partner_277 | F202: product | G202: make_to_order | H202: buy | I202: __export__.product_category_7 | J202: 0 | M202: =IF(Feuil1!F202="",B202,"=GAUCHE(B2;Feuil1!F2)") -> XTerra Prep OBD RP8 Column 5µm 30 x 50mm\ Box of 1
A203: 186001942 | B203: XTerra Prep OBD MS C18 Column 5µm 30 x 100mm\ Box of 1 | C203: 4560 | D203: 5184.72 | E203: __export__.res_partner_277 | F203: product | G203: make_to_order | H203: buy | I203: __export__.product_category_7 | J203: 0 | M203: =IF(Feuil1!F203="",B203,"=GAUCHE(B2;Feuil1!F2)") -> XTerra Prep OBD MS C18 Column 5µm 30 x 100mm\ Box of 1
A204: 186001943 | B204: XTerra Prep OBD MS C8 Column 5µm 30 x 100mm\ Box of 1 | C204: 4560 | D204: 5184.72 | E204: __export__.res_partner_277 | F204: product | G204: make_to_order | H204: buy | I204: __export__.product_category_7 | J204: 0 | M204: =IF(Feuil1!F204="",B204,"=GAUCHE(B2;Feuil1!F2)") -> XTerra Prep OBD MS C8 Column 5µm 30 x 100mm\ Box of 1
A205: 186001944 | B205: XTerra Prep OBD RP18 Column 5µm 30 x 100mm\ Box of 1 | C205: 4560 | D205: 5184.72 | E205: __export__.res_partner_277 | F205: product | G205: make_to_order | H205: buy | I205: __export__.product_category_7 | J205: 0 | M205: =IF(Feuil1!F205="",B205,"=GAUCHE(B2;Feuil1!F2)") -> XTerra Prep OBD RP18 Column 5µm 30 x 100mm\ Box of 1
A206: 186001945 | B206: XTerra Prep OBD RP8 Column 5µm 30 x 100mm\ Box of 1 | C206: 4560 | D206: 5184.72 | E206: __export__.res_partner_277 | F206: product | G206: make_to_order | H206: buy | I206: __export__.product_category_7 | J206: 0 | M206: =IF(Feuil1!F206="",B206,"=GAUCHE(B2;Feuil1!F2)") -> XTerra Prep OBD RP8 Column 5µm 30 x 100mm\ Box of 1
A207: 186002005 | B207: Atlantis HILIC Guard Column 3µm 2.1 x 10mm\ Box of 2 | C207: 181.45 | D207: 206.31 | E207: __export__.res_partner_277 | F207: product | G207: make_to_order | H207: buy | I207: __export__.product_category_7 | J207: 0 | M207: =IF(Feuil1!F207="",B207,"=GAUCHE(B2;Feuil1!F2)") -> Atlantis HILIC Guard Column 3µm 2.1 x 10mm\ Box of 2
A208: 186002006 | B208: Atlantis HILIC Guard Column 5µm 2.1 x 10mm\ Box of 2 | C208: 181.45 | D208: 206.31 | E208: __export__.res_partner_277 | F208: product | G208: make_to_order | H208: buy | I208: __export__.product_category_7 | J208: 0 | M208: =IF(Feuil1!F208="",B208,"=GAUCHE(B2;Feuil1!F2)") -> Atlantis HILIC Guard Column 5µm 2.1 x 10mm\ Box of 2
A209: 186002021 | B209: Atlantis HILIC Guard Column 3µm 3.9 x 20mm\ Box of 2 | C209: 191.90 | D209: 218.19 | E209: __export__.res_partner_277 | F209: product | G209: make_to_order | H209: buy | I209: __export__.product_category_7 | J209: 0 | M209: =IF(Feuil1!F209="",B209,"=GAUCHE(B2;Feuil1!F2)") -> Atlantis HILIC Guard Column 3µm 3.9 x 20mm\ Box of 2
A210: 186002022 | B210: Atlantis HILIC Guard Column 5µm 3.9 x 20mm\ Box of 2 | C210: 191.90 | D210: 218.19 | E210: __export__.res_partner_277 | F210: product | G210: make_to_order | H210: buy | I210: __export__.product_category_7 | J210: 0 | M210: =IF(Feuil1!F210="",B210,"=GAUCHE(B2;Feuil1!F2)") -> Atlantis HILIC Guard Column 5µm 3.9 x 20mm\ Box of 2
A211: 186002023 | B211: Atlantis HILIC Guard Column 3µm 4.6 x 20mm\ Box of 2 | C211: 191.90 | D211: 218.19 | E211: __export__.res_partner_277 | F211: product | G211: make_to_order | H211: buy | I211: __export__.product_category_7 | J211: 0 | M211: =IF(Feuil1!F211="",B211,"=GAUCHE(B2;Feuil1!F2)") -> Atlantis HILIC Guard Column 3µm 4.6 x 20mm\ Box of 2
A212: 186002024 | B212: Atlantis HILIC Guard Column 5µm 4.6 x 20mm\ Box of 2 | C212: 191.90 | D212: 218.19 | E212: __export__.res_partner_277 | F212: product | G212: make_to_order | H212: buy | I212: __export__.product_category_7 | J212: 0 | M212: =IF(Feuil1!F212="",B212,"=GAUCHE(B2;Feuil1!F2)") -> Atlantis HILIC Guard Column 5µm 4.6 x 20mm\ Box of 2
A213: 186002034 | B213: Oasis HLB Extraction Column 5µm 2.1 x 20mm\ Box of 1 | C213: 395.20 | D213: 449.34 | E213: __export__.res_partner_277 | F213: product | G213: make_to_order | H213: buy | I213: __export__.product_category_7 | J213: 0 | M213: =IF(Feuil1!F213="",B213,"=GAUCHE(B2;Feuil1!F2)") -> Oasis HLB Extraction Column 5µm 2.1 x 20mm\ Box of 1
...

Sheet Feuil1
A2: =LEN('intermediaire_import_articles-w'!B2) -> 40 | B2: =LEN(D2) -> 25 | C2: =GESTEP(A2+B2,128) -> 0 | D2: | Waters | origin Irland | F2: =IF(C2 = 1,128-B2,"")
A3: =LEN('intermediaire_import_articles-w'!B3) -> 40 | B3: =LEN(D3) -> 25 | C3: =GESTEP(A3+B3,128) -> 0 | D3: | Waters | origin Irland | F3: =IF(C3 = 1,128-B3,"")
A4: =LEN('intermediaire_import_articles-w'!B4) -> 68 | B4: =LEN(D4) -> 25 | C4: =GESTEP(A4+B4,128) -> 0 | D4: | Waters | origin Irland | F4: =IF(C4 = 1,128-B4,"")
A5: =LEN('intermediaire_import_articles-w'!B5) -> 58 | B5: =LEN(D5) -> 25 | C5: =GESTEP(A5+B5,128) -> 0 | D5: | Waters | origin Irland | F5: =IF(C5 = 1,128-B5,"")
A6: =LEN('intermediaire_import_articles-w'!B6) -> 59 | B6: =LEN(D6) -> 25 | C6: =GESTEP(A6+B6,128) -> 0 | D6: | Waters | origin Irland | F6: =IF(C6 = 1,128-B6,"")
A7: =LEN('intermediaire_import_articles-w'!B7) -> 56 | B7: =LEN(D7) -> 25 | C7: =GESTEP(A7+B7,128) -> 0 | D7: | Waters | origin Irland | F7: =IF(C7 = 1,128-B7,"")
A8: =LEN('intermediaire_import_articles-w'!B8) -> 56 | B8: =LEN(D8) -> 25 | C8: =GESTEP(A8+B8,128) -> 0 | D8: | Waters | origin Irland | F8: =IF(C8 = 1,128-B8,"")
A9: =LEN('intermediaire_import_articles-w'!B9) -> 56 | B9: =LEN(D9) -> 25 | C9: =GESTEP(A9+B9,128) -> 0 | D9: | Waters | origin Irland | F9: =IF(C9 = 1,128-B9,"")
A10: =LEN('intermediaire_import_articles-w'!B10) -> 63 | B10: =LEN(D10) -> 25 | C10: =GESTEP(A10+B10,128) -> 0 | D10: | Waters | origin Irland | F10: =IF(C10 = 1,128-B10,"")
A11: =LEN('intermediaire_import_articles-w'!B11) -> 43 | B11: =LEN(D11) -> 25 | C11: =GESTEP(A11+B11,128) -> 0 | D11: | Waters | origin Irland | F11: =IF(C11 = 1,128-B11,"")
A12: =LEN('intermediaire_import_articles-w'!B12) -> 45 | B12: =LEN(D12) -> 25 | C12: =GESTEP(A12+B12,128) -> 0 | D12: | Waters | origin Irland | F12: =IF(C12 = 1,128-B12,"")
A13: =LEN('intermediaire_import_articles-w'!B13) -> 44 | B13: =LEN(D13) -> 25 | C13: =GESTEP(A13+B13,128) -> 0 | D13: | Waters | origin Irland | F13: =IF(C13 = 1,128-B13,"")
... A1779: =LEN('intermediaire_import_articles-w'!B1779) -> 40 | B1779: =LEN(D1779) -> 25 | C1779: =GESTEP(A1779+B1779,128) -> 0 | D1779: | Waters | origin Irland | F1779: =IF(C1779 = 1,128-B1779,"")
