Workbook

Sheet intermediaire_import_articles-w
A1: default_code | B1: name | C1: standard_price | D1: list_price | E1: seller_ids/name/id | F1: type | G1: procure_method | H1: supply_method | I1: categ_id/id | J1: seller_ids/min_qty | K1: product_tmpl_id
A2: 176001526 | B2: 2mL Vial, scrtop, ambgls w/patch 1000/pk | C2: 294.50 | D2: 334.85 | E2: __export__.res_partner_277 | F2: product | G2: make_to_order | H2: buy | I2: __export__.product_category_7 | J2: 0 | M2: =IF(Feuil1!F2="",B2,"=GAUCHE(B2;Feuil1!F2)") -> 2mL Vial, scrtop, ambgls w/patch 1000/pk
A3: 176001527 | B3: 2mL Vial, scrtop, ambgls w/patch 2000/pk | C3: 565.25 | D3: 642.69 | E3: __export__.res_partner_277 | F3: product | G3: make_to_order | H3: buy | I3: __export__.product_category_7 | J3: 0 | M3: =IF(Feuil1!F3="",B3,"=GAUCHE(B2;Feuil1!F2)") -> 2mL Vial, scrtop, ambgls w/patch 2000/pk
A4: 186000107 | B4: Sentry SymmetryShield RP18 Pre-column 100 Å 5µm 3.9 x 20mm\ Box of 2 | C4: 171.00 | D4: 194.43 | E4: __export__.res_partner_277 | F4: product | G4: make_to_order | H4: buy | I4: __export__.product_category_7 | J4: 0 | M4: =IF(Feuil1!F4="",B4,"=GAUCHE(B2;Feuil1!F2)") -> Sentry SymmetryShield RP18 Pre-column 100 Å 5µm 3.9 x 20mm\ Box of 2
A5: 186000115 | B5: Oasis HLB Extraction Cartridge 60µm 500 mg 6 mL\ Box of 30 | C5: 212.80 | D5: 241.95 | E5: __export__.res_partner_277 | F5: product | G5: make_to_order | H5: buy | I5: __export__.product_category_7 | J5: 0 | M5: =IF(Feuil1!F5="",B5,"=GAUCHE(B2;Feuil1!F2)") -> Oasis HLB Extraction Cartridge 60µm 500 mg 6 mL\ Box of 30
A6: 186000116 | B6: Oasis HLB Extraction Cartridge 60µm 500 mg 12 mL\ Box of 20 | C6: 177.65 | D6: 201.99 | E6: __export__.res_partner_277 | F6: product | G6: make_to_order | H6: buy | I6: __export__.product_category_7 | J6: 0 | M6: =IF(Feuil1!F6="",B6,"=GAUCHE(B2;Feuil1!F2)") -> Oasis HLB Extraction Cartridge 60µm 500 mg 12 mL\ Box of 20
A7: 186000117 | B7: Oasis HLB Extraction Cartridge 60µm 1 g 20 mL\ Box of 20 | C7: 265.05 | D7: 301.36 | E7: __export__.res_partner_277 | F7: product | G7: make_to_order | H7: buy | I7: __export__.product_category_7 | J7: 0 | M7: =IF(Feuil1!F7="",B7,"=GAUCHE(B2;Feuil1!F2)") -> Oasis HLB Extraction Cartridge 60µm 1 g 20 mL\ Box of 20
A8: 186000118 | B8: Oasis HLB Extraction Cartridge 60µm 6 g 35 mL\ Box of 10 | C8: 543.40 | D8: 617.85 | E8: __export__.res_partner_277 | F8: product | G8: make_to_order | H8: buy | I8: __export__.product_category_7 | J8: 0 | M8: =IF(Feuil1!F8="",B8,"=GAUCHE(B2;Feuil1!F2)") -> Oasis HLB Extraction Cartridge 60µm 6 g 35 mL\ Box of 10
A9: 186000128 | B9: Oasis HLB Extraction Plate 30µm 10 mg 96 Wells\ Box of 1 | C9: 320.15 | D9: 364.01 | E9: __export__.res_partner_277 | F9: product | G9: make_to_order | H9: buy | I9: __export__.product_category_7 | J9: 0 | M9: =IF(Feuil1!F9="",B9,"=GAUCHE(B2;Feuil1!F2)") -> Oasis HLB Extraction Plate 30µm 10 mg 96 Wells\ Box of 1
A10: 186000132 | B10: Oasis HLB Extraction Cartridge Plus Type 60µm 225 mg\ Box of 50 | C10: 231.80 | D10: 263.56 | E10: __export__.res_partner_277 | F10: product | G10: make_to_order | H10: buy | I10: __export__.product_category_7 | J10: 0 | M10: =IF(Feuil1!F10="",B10,"=GAUCHE(B2;Feuil1!F2)") -> Oasis HLB Extraction Cartridge Plus Type 60µm 225 mg\ Box of 50
A11: 186000154 | B11: AcroPrep GHP Filter Plate 0.45µm\ Box of 10 | C11: 613.70 | D11: 697.78 | E11: __export__.res_partner_277 | F11: product | G11: make_to_order | H11: buy | I11: __export__.product_category_7 | J11: 0 | M11: =IF(Feuil1!F11="",B11,"=GAUCHE(B2;Feuil1!F2)") -> AcroPrep GHP Filter Plate 0.45µm\ Box of 10
A12: 186000155 | B12: AcroPrep Nylon Filter Plate 0.45µm\ Box of 10 | C12: 613.70 | D12: 697.78 | E12: __export__.res_partner_277 | F12: product | G12: make_to_order | H12: buy | I12: __export__.product_category_7 | J12: 0 | M12: =IF(Feuil1!F12="",B12,"=GAUCHE(B2;Feuil1!F2)") -> AcroPrep Nylon Filter Plate 0.45µm\ Box of 10
A13: 186000156 | B13: AcroPrep PTFE Filter Plate 0.45µm\ Box of 10 | C13: 613.70 | D13: 697.78 | E13: __export__.res_partner_277 | F13: product | G13: make_to_order | H13: buy | I13: __export__.product_category_7 | J13: 0 | M13: =IF(Feuil1!F13="",B13,"=GAUCHE(B2;Feuil1!F2)") -> AcroPrep PTFE Filter Plate 0.45µm\ Box of 10
... A111: 186001017 | B111: XTerra Prep OBD RP8 Column 5µm 10 x 50mm\ Box of 1 | C111: 891.10 | D111: 1013.18 | E111: __export__.res_partner_277 | F111: product | G111: make_to_order | H111: buy | I111: __export__.product_category_7 | J111: 0 | M111: =IF(Feuil1!F111="",B111,"=GAUCHE(B2;Feuil1!F2)") -> XTerra Prep OBD RP8 Column 5µm 10 x 50mm\ Box of 1
A112: 186001018 | B112: XTerra Prep OBD MS C18 Column 5µm 10 x 100mm\ Box of 1 | C112: 1064 | D112: 1209.77 | E112: __export__.res_partner_277 | F112: product | G112: make_to_order | H112: buy | I112: __export__.product_category_7 | J112: 0 | M112: =IF(Feuil1!F112="",B112,"=GAUCHE(B2;Feuil1!F2)") -> XTerra Prep OBD MS C18 Column 5µm 10 x 100mm\ Box of 1
A113: 186001020 | B113: XTerra Prep OBD RP18 Column 5µm 10 x 100mm\ Box of 1 | C113: 1064 | D113: 1209.77 | E113: __export__.res_partner_277 | F113: product | G113: make_to_order | H113: buy | I113: __export__.product_category_7 | J113: 0 | M113: =IF(Feuil1!F113="",B113,"=GAUCHE(B2;Feuil1!F2)") -> XTerra Prep OBD RP18 Column 5µm 10 x 100mm\ Box of 1
A114: 186001021 | B114: XTerra Prep OBD RP8 Column 5µm 10 x 100mm\ Box of 1 | C114: 1064 | D114: 1209.77 | E114: __export__.res_partner_277 | F114: product | G114: make_to_order | H114: buy | I114: __export__.product_category_7 | J114: 0 | M114: =IF(Feuil1!F114="",B114,"=GAUCHE(B2;Feuil1!F2)") -> XTerra Prep OBD RP8 Column 5µm 10 x 100mm\ Box of 1
A115: 186001022 | B115: XTerra Prep MS C18 Column 10µm 10 x 150mm\ Box of 1 | C115: 1187.5 | D115: 1350.19 | E115: __export__.res_partner_277 | F115: product | G115: make_to_order | H115: buy | I115: __export__.product_category_7 | J115: 0 | M115: =IF(Feuil1!F115="",B115,"=GAUCHE(B2;Feuil1!F2)") -> XTerra Prep MS C18 Column 10µm 10 x 150mm\ Box of 1
A116: 186001023 | B116: XTerra Prep OBD MS C8 Column 10µm 10 x 150mm\ Box of 1 | C116: 1187.5 | D116: 1350.19 | E116: __export__.res_partner_277 | F116: product | G116: make_to_order | H116: buy | I116: __export__.product_category_7 | J116: 0 | M116: =IF(Feuil1!F116="",B116,"=GAUCHE(B2;Feuil1!F2)") -> XTerra Prep OBD MS C8 Column 10µm 10 x 150mm\ Box of 1
A117: 186001024 | B117: XTerra Prep OBD RP18 Column 10µm 10 x 150mm\ Box of 1 | C117: 1187.5 | D117: 1350.19 | E117: __export__.res_partner_277 | F117: product | G117: make_to_order | H117: buy | I117: __export__.product_category_7 | J117: 0 | M117: =IF(Feuil1!F117="",B117,"=GAUCHE(B2;Feuil1!F2)") -> XTerra Prep OBD RP18 Column 10µm 10 x 150mm\ Box of 1
A118: 186001025 | B118: XTerra Prep OBD RP8 Column 10µm 10 x 150mm\ Box of 1 | C118: 1187.5 | D118: 1350.19 | E118: __export__.res_partner_277 | F118: product | G118: make_to_order | H118: buy | I118: __export__.product_category_7 | J118: 0 | M118: =IF(Feuil1!F118="",B118,"=GAUCHE(B2;Feuil1!F2)") -> XTerra Prep OBD RP8 Column 10µm 10 x 150mm\ Box of 1
A119: 186001026 | B119: XTerra Prep OBD MS C18 Column 10µm 10 x 250mm\ Box of 1 | C119: 1415.5 | D119: 1609.42 | E119: __export__.res_partner_277 | F119: product | G119: make_to_order | H119: buy | I119: __export__.product_category_7 | J119: 0 | M119: =IF(Feuil1!F119="",B119,"=GAUCHE(B2;Feuil1!F2)") -> XTerra Prep OBD MS C18 Column 10µm 10 x 250mm\ Box of 1
A120: 186001027 | B120: XTerra Prep OBD MS C8 Column 10µm 10 x 250mm\ Box of 1 | C120: 1415.5 | D120: 1609.42 | E120: __export__.res_partner_277 | F120: product | G120: make_to_order | H120: buy | I120: __export__.product_category_7 | J120: 0 | M120: =IF(Feuil1!F120="",B120,"=GAUCHE(B2;Feuil1!F2)") -> XTerra Prep OBD MS C8 Column 10µm 10 x 250mm\ Box of 1
A121: 186001028 | B121: XTerra Prep OBD RP18 Column 10µm 10 x 250mm\ Box of 1 | C121: 1415.5 | D121: 1609.42 | E121: __export__.res_partner_277 | F121: product | G121: make_to_order | H121: buy | I121: __export__.product_category_7 | J121: 0 | M121: =IF(Feuil1!F121="",B121,"=GAUCHE(B2;Feuil1!F2)") -> XTerra Prep OBD RP18 Column 10µm 10 x 250mm\ Box of 1
A122: 186001029 | B122: XTerra Prep OBD RP8 Column 10µm 10 x 250mm\ Box of 1 | C122: 1415.5 | D122: 1609.42 | E122: __export__.res_partner_277 | F122: product | G122: make_to_order | H122: buy | I122: __export__.product_category_7 | J122: 0 | M122: =IF(Feuil1!F122="",B122,"=GAUCHE(B2;Feuil1!F2)") -> XTerra Prep OBD RP8 Column 10µm 10 x 250mm\ Box of 1
A123: 186001030 | B123: XTerra Prep OBD MS C18 Column 10µm 10 x 300mm\ Box of 1 | C123: 1786 | D123: 2030.68 | E123: __export__.res_partner_277 | F123: product | G123: make_to_order | H123: buy | I123: __export__.product_category_7 | J123: 0 | M123: =IF(Feuil1!F123="",B123,"=GAUCHE(B2;Feuil1!F2)") -> XTerra Prep OBD MS C18 Column 10µm 10 x 300mm\ Box of 1
A124: 186001031 | B124: XTerra Prep OBD MS C8 Column 10µm 10 x 300mm\ Box of 1 | C124: 1786 | D124: 2030.68 | E124: __export__.res_partner_277 | F124: product | G124: make_to_order | H124: buy | I124: __export__.product_category_7 | J124: 0 | M124: =IF(Feuil1!F124="",B124,"=GAUCHE(B2;Feuil1!F2)") -> XTerra Prep OBD MS C8 Column 10µm 10 x 300mm\ Box of 1
A125: 186001032 | B125: XTerra Prep OBD RP18 Column 10µm 10 x 300mm\ Box of 1 | C125: 1786 | D125: 2030.68 | E125: __export__.res_partner_277 | F125: product | G125: make_to_order | H125: buy | I125: __export__.product_category_7 | J125: 0 | M125: =IF(Feuil1!F125="",B125,"=GAUCHE(B2;Feuil1!F2)") -> XTerra Prep OBD RP18 Column 10µm 10 x 300mm\ Box of 1
A126: 186001033 | B126: XTerra Prep OBD RP8 Column 10µm 10 x 300mm\ Box of 1 | C126: 1786 | D126: 2030.68 | E126: __export__.res_partner_277 | F126: product | G126: make_to_order | H126: buy | I126: __export__.product_category_7 | J126: 0 | M126: =IF(Feuil1!F126="",B126,"=GAUCHE(B2;Feuil1!F2)") -> XTerra Prep OBD RP8 Column 10µm 10 x 300mm\ Box of 1
A127: 186001152 | B127: XTerra Prep OBD MS C18 Column 5µm 7.8 x 50mm\ Box of 1 | C127: 596.60 | D127: 678.33 | E127: __export__.res_partner_277 | F127: product | G127: make_to_order | H127: buy | I127: __export__.product_category_7 | J127: 0 | M127: =IF(Feuil1!F127="",B127,"=GAUCHE(B2;Feuil1!F2)") -> XTerra Prep OBD MS C18 Column 5µm 7.8 x 50mm\ Box of 1
A128: 186001153 | B128: XTerra Prep OBD MS C8 Column 5µm 7.8 x 50mm\ Box of 1 | C128: 596.60 | D128: 678.33 | E128: __export__.res_partner_277 | F128: product | G128: make_to_order | H128: buy | I128: __export__.product_category_7 | J128: 0 | M128: =IF(Feuil1!F128="",B128,"=GAUCHE(B2;Feuil1!F2)") -> XTerra Prep OBD MS C8 Column 5µm 7.8 x 50mm\ Box of 1
A129: 186001154 | B129: XTerra Prep OBD RP18 Column 5µm 7.8 x 50mm\ Box of 1 | C129: 596.60 | D129: 678.33 | E129: __export__.res_partner_277 | F129: product | G129: make_to_order | H129: buy | I129: __export__.product_category_7 | J129: 0 | M129: =IF(Feuil1!F129="",B129,"=GAUCHE(B2;Feuil1!F2)") -> XTerra Prep OBD RP18 Column 5µm 7.8 x 50mm\ Box of 1
A130: 186001155 | B130: XTerra Prep OBD RP8 Column 5µm 7.8 x 50mm\ Box of 1 | C130: 596.60 | D130: 678.33 | E130: __export__.res_partner_277 | F130: product | G130: make_to_order | H130: buy | I130: __export__.product_category_7 | J130: 0 | M130: =IF(Feuil1!F130="",B130,"=GAUCHE(B2;Feuil1!F2)") -> XTerra Prep OBD RP8 Column 5µm 7.8 x 50mm\ Box of 1
A131: 186001156 | B131: XTerra Prep OBD MS C18 Column 5µm 7.8 x 100mm\ Box of 1 | C131: 869.25 | D131: 988.34 | E131: __export__.res_partner_277 | F131: product | G131: make_to_order | H131: buy | I131: __export__.product_category_7 | J131: 0 | M131: =IF(Feuil1!F131="",B131,"=GAUCHE(B2;Feuil1!F2)") -> XTerra Prep OBD MS C18 Column 5µm 7.8 x 100mm\ Box of 1
A132: 186001157 | B132: XTerra Prep OBD MS C8 Column 5µm 7.8 x 100mm\ Box of 1 | C132: 869.25 | D132: 988.34 | E132: __export__.res_partner_277 | F132: product | G132: make_to_order | H132: buy | I132: __export__.product_category_7 | J132: 0 | M132: =IF(Feuil1!F132="",B132,"=GAUCHE(B2;Feuil1!F2)") -> XTerra Prep OBD MS C8 Column 5µm 7.8 x 100mm\ Box of 1
A133: 186001158 | B133: XTerra Prep OBD RP18 Column 5µm 7.8 x 100mm\ Box of 1 | C133: 869.25 | D133: 988.34 | E133: __export__.res_partner_277 | F133: product | G133: make_to_order | H133: buy | I133: __export__.product_category_7 | J133: 0 | M133: =IF(Feuil1!F133="",B133,"=GAUCHE(B2;Feuil1!F2)") -> XTerra Prep OBD RP18 Column 5µm 7.8 x 100mm\ Box of 1
A134: 186001159 | B134: XTerra Prep OBD RP8 Column 5µm 7.8 x 100mm\ Box of 1 | C134: 869.25 | D134: 988.34 | E134: __export__.res_partner_277 | F134: product | G134: make_to_order | H134: buy | I134: __export__.product_category_7 | J134: 0 | M134: =IF(Feuil1!F134="",B134,"=GAUCHE(B2;Feuil1!F2)") -> XTerra Prep OBD RP8 Column 5µm 7.8 x 100mm\ Box of 1
A135: 186001160 | B135: XTerra Prep MS C18 Column 10µm 7.8 x 150mm\ Box of 1 | C135: 1254 | D135: 1425.8 | E135: __export__.res_partner_277 | F135: product | G135: make_to_order | H135: buy | I135: __export__.product_category_7 | J135: 0 | M135: =IF(Feuil1!F135="",B135,"=GAUCHE(B2;Feuil1!F2)") -> XTerra Prep MS C18 Column 10µm 7.8 x 150mm\ Box of 1
A136: 186001161 | B136: XTerra Prep OBD MS C8 Column 10µm 7.8 x 150mm\ Box of 1 | C136: 1254 | D136: 1425.8 | E136: __export__.res_partner_277 | F136: product | G136: make_to_order | H136: buy | I136: __export__.product_category_7 | J136: 0 | M136: =IF(Feuil1!F136="",B136,"=GAUCHE(B2;Feuil1!F2)") -> XTerra Prep OBD MS C8 Column 10µm 7.8 x 150mm\ Box of 1
A137: 186001162 | B137: XTerra Prep OBD RP18 Column 10µm 7.8 x 150mm\ Box of 1 | C137: 1254 | D137: 1425.8 | E137: __export__.res_partner_277 | F137: product | G137: make_to_order | H137: buy | I137: __export__.product_category_7 | J137: 0 | M137: =IF(Feuil1!F137="",B137,"=GAUCHE(B2;Feuil1!F2)") -> XTerra Prep OBD RP18 Column 10µm 7.8 x 150mm\ Box of 1
...

Sheet Feuil1
A2: =LEN('intermediaire_import_articles-w'!B2) -> 40 | B2: =LEN(D2) -> 25 | C2: =GESTEP(A2+B2,128) -> 0 | D2: | Waters | origin Irland | F2: =IF(C2 = 1,128-B2,"")
A3: =LEN('intermediaire_import_articles-w'!B3) -> 40 | B3: =LEN(D3) -> 25 | C3: =GESTEP(A3+B3,128) -> 0 | D3: | Waters | origin Irland | F3: =IF(C3 = 1,128-B3,"")
A4: =LEN('intermediaire_import_articles-w'!B4) -> 68 | B4: =LEN(D4) -> 25 | C4: =GESTEP(A4+B4,128) -> 0 | D4: | Waters | origin Irland | F4: =IF(C4 = 1,128-B4,"")
A5: =LEN('intermediaire_import_articles-w'!B5) -> 58 | B5: =LEN(D5) -> 25 | C5: =GESTEP(A5+B5,128) -> 0 | D5: | Waters | origin Irland | F5: =IF(C5 = 1,128-B5,"")
A6: =LEN('intermediaire_import_articles-w'!B6) -> 59 | B6: =LEN(D6) -> 25 | C6: =GESTEP(A6+B6,128) -> 0 | D6: | Waters | origin Irland | F6: =IF(C6 = 1,128-B6,"")
A7: =LEN('intermediaire_import_articles-w'!B7) -> 56 | B7: =LEN(D7) -> 25 | C7: =GESTEP(A7+B7,128) -> 0 | D7: | Waters | origin Irland | F7: =IF(C7 = 1,128-B7,"")
A8: =LEN('intermediaire_import_articles-w'!B8) -> 56 | B8: =LEN(D8) -> 25 | C8: =GESTEP(A8+B8,128) -> 0 | D8: | Waters | origin Irland | F8: =IF(C8 = 1,128-B8,"")
A9: =LEN('intermediaire_import_articles-w'!B9) -> 56 | B9: =LEN(D9) -> 25 | C9: =GESTEP(A9+B9,128) -> 0 | D9: | Waters | origin Irland | F9: =IF(C9 = 1,128-B9,"")
A10: =LEN('intermediaire_import_articles-w'!B10) -> 63 | B10: =LEN(D10) -> 25 | C10: =GESTEP(A10+B10,128) -> 0 | D10: | Waters | origin Irland | F10: =IF(C10 = 1,128-B10,"")
A11: =LEN('intermediaire_import_articles-w'!B11) -> 43 | B11: =LEN(D11) -> 25 | C11: =GESTEP(A11+B11,128) -> 0 | D11: | Waters | origin Irland | F11: =IF(C11 = 1,128-B11,"")
A12: =LEN('intermediaire_import_articles-w'!B12) -> 45 | B12: =LEN(D12) -> 25 | C12: =GESTEP(A12+B12,128) -> 0 | D12: | Waters | origin Irland | F12: =IF(C12 = 1,128-B12,"")
A13: =LEN('intermediaire_import_articles-w'!B13) -> 44 | B13: =LEN(D13) -> 25 | C13: =GESTEP(A13+B13,128) -> 0 | D13: | Waters | origin Irland | F13: =IF(C13 = 1,128-B13,"")
... A1779: =LEN('intermediaire_import_articles-w'!B1779) -> 40 | B1779: =LEN(D1779) -> 25 | C1779: =GESTEP(A1779+B1779,128) -> 0 | D1779: | Waters | origin Irland | F1779: =IF(C1779 = 1,128-B1779,"")
