Workbook
Name Produit: OFFSET(Mv!$B$2,,,COUNTA(Mv!$A:$B)-1)

Sheet CA Sous-Famille
A1: Famille | C1: Meilleurs Vendeurs depuis le début du mois
A2: 10 | C2: =IFERROR(INDEX(Mv!$B$1:$B$500,_xlfn.AGGREGATE(15,6,(1/((LEFT(Mv!$A$2:$A$500,2)*1=$A2)))*ROW(Mv!$A$2:$A$500),COLUMN()-2)),"") -> produit 85 | D2: =IFERROR(INDEX(Mv!$B$1:$B$500,_xlfn.AGGREGATE(15,6,(1/((LEFT(Mv!$A$2:$A$500,2)*1=$A2)))*ROW(Mv!$A$2:$A$500),COLUMN()-2)),"") -> produit 92 | E2: =IFERROR(INDEX(Mv!$B$1:$B$500,_xlfn.AGGREGATE(15,6,(1/((LEFT(Mv!$A$2:$A$500,2)*1=$A2)))*ROW(Mv!$A$2:$A$500),COLUMN()-2)),"") -> produit 96
A3: 11 | C3: =IFERROR(INDEX(Mv!$B$1:$B$500,_xlfn.AGGREGATE(15,6,(1/((LEFT(Mv!$A$2:$A$500,2)*1=$A3)))*ROW(Mv!$A$2:$A$500),COLUMN()-2)),"") -> produit 182 | D3: =IFERROR(INDEX(Mv!$B$1:$B$500,_xlfn.AGGREGATE(15,6,(1/((LEFT(Mv!$A$2:$A$500,2)*1=$A3)))*ROW(Mv!$A$2:$A$500),COLUMN()-2)),"") -> produit 229 | E3: =IFERROR(INDEX(Mv!$B$1:$B$500,_xlfn.AGGREGATE(15,6,(1/((LEFT(Mv!$A$2:$A$500,2)*1=$A3)))*ROW(Mv!$A$2:$A$500),COLUMN()-2)),"") -> produit 233
A4: 15 | C4: =IFERROR(INDEX(Mv!$B$1:$B$500,_xlfn.AGGREGATE(15,6,(1/((LEFT(Mv!$A$2:$A$500,2)*1=$A4)))*ROW(Mv!$A$2:$A$500),COLUMN()-2)),"") -> produit 4 | D4: =IFERROR(INDEX(Mv!$B$1:$B$500,_xlfn.AGGREGATE(15,6,(1/((LEFT(Mv!$A$2:$A$500,2)*1=$A4)))*ROW(Mv!$A$2:$A$500),COLUMN()-2)),"") -> produit 5 | E4: =IFERROR(INDEX(Mv!$B$1:$B$500,_xlfn.AGGREGATE(15,6,(1/((LEFT(Mv!$A$2:$A$500,2)*1=$A4)))*ROW(Mv!$A$2:$A$500),COLUMN()-2)),"") -> produit 7
A5: 30 | C5: =IFERROR(INDEX(Mv!$B$1:$B$500,_xlfn.AGGREGATE(15,6,(1/((LEFT(Mv!$A$2:$A$500,2)*1=$A5)))*ROW(Mv!$A$2:$A$500),COLUMN()-2)),"") -> produit 1 | D5: =IFERROR(INDEX(Mv!$B$1:$B$500,_xlfn.AGGREGATE(15,6,(1/((LEFT(Mv!$A$2:$A$500,2)*1=$A5)))*ROW(Mv!$A$2:$A$500),COLUMN()-2)),"") -> produit 15 | E5: =IFERROR(INDEX(Mv!$B$1:$B$500,_xlfn.AGGREGATE(15,6,(1/((LEFT(Mv!$A$2:$A$500,2)*1=$A5)))*ROW(Mv!$A$2:$A$500),COLUMN()-2)),"") -> produit 19
A6: 31 | C6: =IFERROR(INDEX(Mv!$B$1:$B$500,_xlfn.AGGREGATE(15,6,(1/((LEFT(Mv!$A$2:$A$500,2)*1=$A6)))*ROW(Mv!$A$2:$A$500),COLUMN()-2)),"") -> produit 28 | D6: =IFERROR(INDEX(Mv!$B$1:$B$500,_xlfn.AGGREGATE(15,6,(1/((LEFT(Mv!$A$2:$A$500,2)*1=$A6)))*ROW(Mv!$A$2:$A$500),COLUMN()-2)),"") -> produit 130 | E6: =IFERROR(INDEX(Mv!$B$1:$B$500,_xlfn.AGGREGATE(15,6,(1/((LEFT(Mv!$A$2:$A$500,2)*1=$A6)))*ROW(Mv!$A$2:$A$500),COLUMN()-2)),"") -> produit 184
A7: 42 | C7: =IFERROR(INDEX(Mv!$B$1:$B$500,_xlfn.AGGREGATE(15,6,(1/((LEFT(Mv!$A$2:$A$500,2)*1=$A7)))*ROW(Mv!$A$2:$A$500),COLUMN()-2)),"") -> produit 106 | D7: =IFERROR(INDEX(Mv!$B$1:$B$500,_xlfn.AGGREGATE(15,6,(1/((LEFT(Mv!$A$2:$A$500,2)*1=$A7)))*ROW(Mv!$A$2:$A$500),COLUMN()-2)),"") -> produit 132 | E7: =IFERROR(INDEX(Mv!$B$1:$B$500,_xlfn.AGGREGATE(15,6,(1/((LEFT(Mv!$A$2:$A$500,2)*1=$A7)))*ROW(Mv!$A$2:$A$500),COLUMN()-2)),"") -> produit 287
A8: 50 | C8: =IFERROR(INDEX(Mv!$B$1:$B$500,_xlfn.AGGREGATE(15,6,(1/((LEFT(Mv!$A$2:$A$500,2)*1=$A8)))*ROW(Mv!$A$2:$A$500),COLUMN()-2)),"") -> produit 40 | D8: =IFERROR(INDEX(Mv!$B$1:$B$500,_xlfn.AGGREGATE(15,6,(1/((LEFT(Mv!$A$2:$A$500,2)*1=$A8)))*ROW(Mv!$A$2:$A$500),COLUMN()-2)),"") -> produit 42 | E8: =IFERROR(INDEX(Mv!$B$1:$B$500,_xlfn.AGGREGATE(15,6,(1/((LEFT(Mv!$A$2:$A$500,2)*1=$A8)))*ROW(Mv!$A$2:$A$500),COLUMN()-2)),"") -> produit 49
A9: 52 | C9: =IFERROR(INDEX(Mv!$B$1:$B$500,_xlfn.AGGREGATE(15,6,(1/((LEFT(Mv!$A$2:$A$500,2)*1=$A9)))*ROW(Mv!$A$2:$A$500),COLUMN()-2)),"") -> produit 10 | D9: =IFERROR(INDEX(Mv!$B$1:$B$500,_xlfn.AGGREGATE(15,6,(1/((LEFT(Mv!$A$2:$A$500,2)*1=$A9)))*ROW(Mv!$A$2:$A$500),COLUMN()-2)),"") -> produit 11 | E9: =IFERROR(INDEX(Mv!$B$1:$B$500,_xlfn.AGGREGATE(15,6,(1/((LEFT(Mv!$A$2:$A$500,2)*1=$A9)))*ROW(Mv!$A$2:$A$500),COLUMN()-2)),"") -> produit 17
A10: 53 | C10: =IFERROR(INDEX(Mv!$B$1:$B$500,_xlfn.AGGREGATE(15,6,(1/((LEFT(Mv!$A$2:$A$500,2)*1=$A10)))*ROW(Mv!$A$2:$A$500),COLUMN()-2)),"") -> produit 2 | D10: =IFERROR(INDEX(Mv!$B$1:$B$500,_xlfn.AGGREGATE(15,6,(1/((LEFT(Mv!$A$2:$A$500,2)*1=$A10)))*ROW(Mv!$A$2:$A$500),COLUMN()-2)),"") -> produit 3 | E10: =IFERROR(INDEX(Mv!$B$1:$B$500,_xlfn.AGGREGATE(15,6,(1/((LEFT(Mv!$A$2:$A$500,2)*1=$A10)))*ROW(Mv!$A$2:$A$500),COLUMN()-2)),"") -> produit 14
A11: 60 | C11: =IFERROR(INDEX(Mv!$B$1:$B$500,_xlfn.AGGREGATE(15,6,(1/((LEFT(Mv!$A$2:$A$500,2)*1=$A11)))*ROW(Mv!$A$2:$A$500),COLUMN()-2)),"") -> produit 32 | D11: =IFERROR(INDEX(Mv!$B$1:$B$500,_xlfn.AGGREGATE(15,6,(1/((LEFT(Mv!$A$2:$A$500,2)*1=$A11)))*ROW(Mv!$A$2:$A$500),COLUMN()-2)),"") -> produit 43 | E11: =IFERROR(INDEX(Mv!$B$1:$B$500,_xlfn.AGGREGATE(15,6,(1/((LEFT(Mv!$A$2:$A$500,2)*1=$A11)))*ROW(Mv!$A$2:$A$500),COLUMN()-2)),"") -> produit 54
A12: 61 | C12: =IFERROR(INDEX(Mv!$B$1:$B$500,_xlfn.AGGREGATE(15,6,(1/((LEFT(Mv!$A$2:$A$500,2)*1=$A12)))*ROW(Mv!$A$2:$A$500),COLUMN()-2)),"") -> produit 6 | D12: =IFERROR(INDEX(Mv!$B$1:$B$500,_xlfn.AGGREGATE(15,6,(1/((LEFT(Mv!$A$2:$A$500,2)*1=$A12)))*ROW(Mv!$A$2:$A$500),COLUMN()-2)),"") -> produit 8 | E12: =IFERROR(INDEX(Mv!$B$1:$B$500,_xlfn.AGGREGATE(15,6,(1/((LEFT(Mv!$A$2:$A$500,2)*1=$A12)))*ROW(Mv!$A$2:$A$500),COLUMN()-2)),"") -> produit 24

Sheet Mv
A1: Total
A2: 30161870 | B2: produit 1
A3: 53143830 | B3: produit 2
A4: 53142140 | B4: produit 3
A5: 15201020 | B5: produit 4
A6: 15199240 | B6: produit 5
A7: 61169250 | B7: produit 6
A8: 15202310 | B8: produit 7
A9: 61169390 | B9: produit 8
A10: 15204880 | B10: produit 9
A11: 52143350 | B11: produit 10
A12: 52147870 | B12: produit 11
A13: 15202290 | B13: produit 12
... A2281: 17122710 | B2281: produit 2280
