Workbook
Name baseclients: OFFSET(#REF!,,,COUNTA(#REF!),3)
Name commercial: OFFSET(#REF!,,,COUNTA(#REF!))
Name compte: OFFSET(#REF!,,,COUNTA(#REF!))
Name Date: OFFSET(Journal!$A$2,,,COUNTA(Journal!$C:$C)-1)
Name Montt: OFFSET(Journal!$I$2,,,COUNTA(Journal!$C:$C)-1)
Name Nom: OFFSET(Journal!$C$2,,,COUNTA(Journal!$C:$C)-1)
Name NomCli: OFFSET(#REF!,,,COUNTA(#REF!))

Sheet Recap
B2: Nom | C2: 39083 | D2: 39114 | E2: 39142 | F2: 39173 | G2: 39203 | H2: 39234 | I2: 39264 | J2: 39295 | K2: 39326 | L2: 39356 | M2: 39387 | N2: 39417 | O2: Total annuel
B3: =Journal!C2 -> A | C3: =SUMPRODUCT((Nom=$B3)*(MONTH(Date)=MONTH(C$2)),Montt) -> 600 | D3: =SUMPRODUCT((Nom=$B3)*(MONTH(Date)=MONTH(D$2)),Montt) -> 0 | E3: =SUMPRODUCT((Nom=$B3)*(MONTH(Date)=MONTH(E$2)),Montt) -> 0 | F3: =SUMPRODUCT((Nom=$B3)*(MONTH(Date)=MONTH(F$2)),Montt) -> 0 | G3: =SUMPRODUCT((Nom=$B3)*(MONTH(Date)=MONTH(G$2)),Montt) -> 0 | H3: =SUMPRODUCT((Nom=$B3)*(MONTH(Date)=MONTH(H$2)),Montt) -> 0 | I3: =SUMPRODUCT((Nom=$B3)*(MONTH(Date)=MONTH(I$2)),Montt) -> 0 | J3: =SUMPRODUCT((Nom=$B3)*(MONTH(Date)=MONTH(J$2)),Montt) -> 0 | ... N3: =SUMPRODUCT((Nom=$B3)*(MONTH(Date)=MONTH(N$2)),Montt) -> 0 | O3: =SUM(C3:N3) -> 600
B4: =Journal!C3 -> B | C4: =SUMPRODUCT((Nom=$B4)*(MONTH(Date)=MONTH(C$2)),Montt) -> 0 | D4: =SUMPRODUCT((Nom=$B4)*(MONTH(Date)=MONTH(D$2)),Montt) -> 550 | E4: =SUMPRODUCT((Nom=$B4)*(MONTH(Date)=MONTH(E$2)),Montt) -> 0 | F4: =SUMPRODUCT((Nom=$B4)*(MONTH(Date)=MONTH(F$2)),Montt) -> 0 | G4: =SUMPRODUCT((Nom=$B4)*(MONTH(Date)=MONTH(G$2)),Montt) -> 0 | H4: =SUMPRODUCT((Nom=$B4)*(MONTH(Date)=MONTH(H$2)),Montt) -> 0 | I4: =SUMPRODUCT((Nom=$B4)*(MONTH(Date)=MONTH(I$2)),Montt) -> 0 | J4: =SUMPRODUCT((Nom=$B4)*(MONTH(Date)=MONTH(J$2)),Montt) -> 0 | ... N4: =SUMPRODUCT((Nom=$B4)*(MONTH(Date)=MONTH(N$2)),Montt) -> 0 | O4: =SUM(C4:N4) -> 550
B5: =Journal!C4 -> C | C5: =SUMPRODUCT((Nom=$B5)*(MONTH(Date)=MONTH(C$2)),Montt) -> 0 | D5: =SUMPRODUCT((Nom=$B5)*(MONTH(Date)=MONTH(D$2)),Montt) -> 0 | E5: =SUMPRODUCT((Nom=$B5)*(MONTH(Date)=MONTH(E$2)),Montt) -> 600 | F5: =SUMPRODUCT((Nom=$B5)*(MONTH(Date)=MONTH(F$2)),Montt) -> 0 | G5: =SUMPRODUCT((Nom=$B5)*(MONTH(Date)=MONTH(G$2)),Montt) -> 0 | H5: =SUMPRODUCT((Nom=$B5)*(MONTH(Date)=MONTH(H$2)),Montt) -> 0 | I5: =SUMPRODUCT((Nom=$B5)*(MONTH(Date)=MONTH(I$2)),Montt) -> 0 | J5: =SUMPRODUCT((Nom=$B5)*(MONTH(Date)=MONTH(J$2)),Montt) -> 0 | ... N5: =SUMPRODUCT((Nom=$B5)*(MONTH(Date)=MONTH(N$2)),Montt) -> 0 | O5: =SUM(C5:N5) -> 600
B6: =Journal!C5 -> D | C6: =SUMPRODUCT((Nom=$B6)*(MONTH(Date)=MONTH(C$2)),Montt) -> 0 | D6: =SUMPRODUCT((Nom=$B6)*(MONTH(Date)=MONTH(D$2)),Montt) -> 0 | E6: =SUMPRODUCT((Nom=$B6)*(MONTH(Date)=MONTH(E$2)),Montt) -> 0 | F6: =SUMPRODUCT((Nom=$B6)*(MONTH(Date)=MONTH(F$2)),Montt) -> 1320 | G6: =SUMPRODUCT((Nom=$B6)*(MONTH(Date)=MONTH(G$2)),Montt) -> 0 | H6: =SUMPRODUCT((Nom=$B6)*(MONTH(Date)=MONTH(H$2)),Montt) -> 0 | I6: =SUMPRODUCT((Nom=$B6)*(MONTH(Date)=MONTH(I$2)),Montt) -> 0 | J6: =SUMPRODUCT((Nom=$B6)*(MONTH(Date)=MONTH(J$2)),Montt) -> 0 | ... N6: =SUMPRODUCT((Nom=$B6)*(MONTH(Date)=MONTH(N$2)),Montt) -> 0 | O6: =SUM(C6:N6) -> 1320
B7: =Journal!C6 -> E | C7: =SUMPRODUCT((Nom=$B7)*(MONTH(Date)=MONTH(C$2)),Montt) -> 0 | D7: =SUMPRODUCT((Nom=$B7)*(MONTH(Date)=MONTH(D$2)),Montt) -> 0 | E7: =SUMPRODUCT((Nom=$B7)*(MONTH(Date)=MONTH(E$2)),Montt) -> 0 | F7: =SUMPRODUCT((Nom=$B7)*(MONTH(Date)=MONTH(F$2)),Montt) -> 800 | G7: =SUMPRODUCT((Nom=$B7)*(MONTH(Date)=MONTH(G$2)),Montt) -> 0 | H7: =SUMPRODUCT((Nom=$B7)*(MONTH(Date)=MONTH(H$2)),Montt) -> 0 | I7: =SUMPRODUCT((Nom=$B7)*(MONTH(Date)=MONTH(I$2)),Montt) -> 0 | J7: =SUMPRODUCT((Nom=$B7)*(MONTH(Date)=MONTH(J$2)),Montt) -> 0 | ... N7: =SUMPRODUCT((Nom=$B7)*(MONTH(Date)=MONTH(N$2)),Montt) -> 0 | O7: =SUM(C7:N7) -> 800
B8: =Journal!C7 -> F | C8: =SUMPRODUCT((Nom=$B8)*(MONTH(Date)=MONTH(C$2)),Montt) -> 0 | D8: =SUMPRODUCT((Nom=$B8)*(MONTH(Date)=MONTH(D$2)),Montt) -> 0 | E8: =SUMPRODUCT((Nom=$B8)*(MONTH(Date)=MONTH(E$2)),Montt) -> 0 | F8: =SUMPRODUCT((Nom=$B8)*(MONTH(Date)=MONTH(F$2)),Montt) -> 1350 | G8: =SUMPRODUCT((Nom=$B8)*(MONTH(Date)=MONTH(G$2)),Montt) -> 0 | H8: =SUMPRODUCT((Nom=$B8)*(MONTH(Date)=MONTH(H$2)),Montt) -> 0 | I8: =SUMPRODUCT((Nom=$B8)*(MONTH(Date)=MONTH(I$2)),Montt) -> 0 | J8: =SUMPRODUCT((Nom=$B8)*(MONTH(Date)=MONTH(J$2)),Montt) -> 0 | ... N8: =SUMPRODUCT((Nom=$B8)*(MONTH(Date)=MONTH(N$2)),Montt) -> 0 | O8: =SUM(C8:N8) -> 1350
B9: =Journal!C8 -> G | C9: =SUMPRODUCT((Nom=$B9)*(MONTH(Date)=MONTH(C$2)),Montt) -> 0 | D9: =SUMPRODUCT((Nom=$B9)*(MONTH(Date)=MONTH(D$2)),Montt) -> 0 | E9: =SUMPRODUCT((Nom=$B9)*(MONTH(Date)=MONTH(E$2)),Montt) -> 0 | F9: =SUMPRODUCT((Nom=$B9)*(MONTH(Date)=MONTH(F$2)),Montt) -> 0 | G9: =SUMPRODUCT((Nom=$B9)*(MONTH(Date)=MONTH(G$2)),Montt) -> 150 | H9: =SUMPRODUCT((Nom=$B9)*(MONTH(Date)=MONTH(H$2)),Montt) -> 0 | I9: =SUMPRODUCT((Nom=$B9)*(MONTH(Date)=MONTH(I$2)),Montt) -> 0 | J9: =SUMPRODUCT((Nom=$B9)*(MONTH(Date)=MONTH(J$2)),Montt) -> 0 | ... N9: =SUMPRODUCT((Nom=$B9)*(MONTH(Date)=MONTH(N$2)),Montt) -> 0 | O9: =SUM(C9:N9) -> 150
B10: =Journal!C9 -> H | C10: =SUMPRODUCT((Nom=$B10)*(MONTH(Date)=MONTH(C$2)),Montt) -> 0 | D10: =SUMPRODUCT((Nom=$B10)*(MONTH(Date)=MONTH(D$2)),Montt) -> 0 | E10: =SUMPRODUCT((Nom=$B10)*(MONTH(Date)=MONTH(E$2)),Montt) -> 0 | F10: =SUMPRODUCT((Nom=$B10)*(MONTH(Date)=MONTH(F$2)),Montt) -> 0 | G10: =SUMPRODUCT((Nom=$B10)*(MONTH(Date)=MONTH(G$2)),Montt) -> 1370 | H10: =SUMPRODUCT((Nom=$B10)*(MONTH(Date)=MONTH(H$2)),Montt) -> 0 | I10: =SUMPRODUCT((Nom=$B10)*(MONTH(Date)=MONTH(I$2)),Montt) -> 0 | J10: =SUMPRODUCT((Nom=$B10)*(MONTH(Date)=MONTH(J$2)),Montt) -> 0 | ... N10: =SUMPRODUCT((Nom=$B10)*(MONTH(Date)=MONTH(N$2)),Montt) -> 0 | O10: =SUM(C10:N10) -> 1370
B11: =Journal!C10 -> I | C11: =SUMPRODUCT((Nom=$B11)*(MONTH(Date)=MONTH(C$2)),Montt) -> 0 | D11: =SUMPRODUCT((Nom=$B11)*(MONTH(Date)=MONTH(D$2)),Montt) -> 0 | E11: =SUMPRODUCT((Nom=$B11)*(MONTH(Date)=MONTH(E$2)),Montt) -> 0 | F11: =SUMPRODUCT((Nom=$B11)*(MONTH(Date)=MONTH(F$2)),Montt) -> 0 | G11: =SUMPRODUCT((Nom=$B11)*(MONTH(Date)=MONTH(G$2)),Montt) -> 350 | H11: =SUMPRODUCT((Nom=$B11)*(MONTH(Date)=MONTH(H$2)),Montt) -> 0 | I11: =SUMPRODUCT((Nom=$B11)*(MONTH(Date)=MONTH(I$2)),Montt) -> 0 | J11: =SUMPRODUCT((Nom=$B11)*(MONTH(Date)=MONTH(J$2)),Montt) -> 0 | ... N11: =SUMPRODUCT((Nom=$B11)*(MONTH(Date)=MONTH(N$2)),Montt) -> 0 | O11: =SUM(C11:N11) -> 350
B12: =Journal!C11 -> J | C12: =SUMPRODUCT((Nom=$B12)*(MONTH(Date)=MONTH(C$2)),Montt) -> 0 | D12: =SUMPRODUCT((Nom=$B12)*(MONTH(Date)=MONTH(D$2)),Montt) -> 0 | E12: =SUMPRODUCT((Nom=$B12)*(MONTH(Date)=MONTH(E$2)),Montt) -> 0 | F12: =SUMPRODUCT((Nom=$B12)*(MONTH(Date)=MONTH(F$2)),Montt) -> 0 | G12: =SUMPRODUCT((Nom=$B12)*(MONTH(Date)=MONTH(G$2)),Montt) -> 0 | H12: =SUMPRODUCT((Nom=$B12)*(MONTH(Date)=MONTH(H$2)),Montt) -> 950 | I12: =SUMPRODUCT((Nom=$B12)*(MONTH(Date)=MONTH(I$2)),Montt) -> 0 | J12: =SUMPRODUCT((Nom=$B12)*(MONTH(Date)=MONTH(J$2)),Montt) -> 0 | ... N12: =SUMPRODUCT((Nom=$B12)*(MONTH(Date)=MONTH(N$2)),Montt) -> 0 | O12: =SUM(C12:N12) -> 950
B13: =Journal!C12 -> K | C13: =SUMPRODUCT((Nom=$B13)*(MONTH(Date)=MONTH(C$2)),Montt) -> 0 | D13: =SUMPRODUCT((Nom=$B13)*(MONTH(Date)=MONTH(D$2)),Montt) -> 0 | E13: =SUMPRODUCT((Nom=$B13)*(MONTH(Date)=MONTH(E$2)),Montt) -> 0 | F13: =SUMPRODUCT((Nom=$B13)*(MONTH(Date)=MONTH(F$2)),Montt) -> 0 | G13: =SUMPRODUCT((Nom=$B13)*(MONTH(Date)=MONTH(G$2)),Montt) -> 0 | H13: =SUMPRODUCT((Nom=$B13)*(MONTH(Date)=MONTH(H$2)),Montt) -> 600 | I13: =SUMPRODUCT((Nom=$B13)*(MONTH(Date)=MONTH(I$2)),Montt) -> 0 | J13: =SUMPRODUCT((Nom=$B13)*(MONTH(Date)=MONTH(J$2)),Montt) -> 0 | ... N13: =SUMPRODUCT((Nom=$B13)*(MONTH(Date)=MONTH(N$2)),Montt) -> 0 | O13: =SUM(C13:N13) -> 600
B14: =Journal!C13 -> L | C14: =SUMPRODUCT((Nom=$B14)*(MONTH(Date)=MONTH(C$2)),Montt) -> 0 | D14: =SUMPRODUCT((Nom=$B14)*(MONTH(Date)=MONTH(D$2)),Montt) -> 0 | E14: =SUMPRODUCT((Nom=$B14)*(MONTH(Date)=MONTH(E$2)),Montt) -> 0 | F14: =SUMPRODUCT((Nom=$B14)*(MONTH(Date)=MONTH(F$2)),Montt) -> 0 | G14: =SUMPRODUCT((Nom=$B14)*(MONTH(Date)=MONTH(G$2)),Montt) -> 0 | H14: =SUMPRODUCT((Nom=$B14)*(MONTH(Date)=MONTH(H$2)),Montt) -> 1565 | I14: =SUMPRODUCT((Nom=$B14)*(MONTH(Date)=MONTH(I$2)),Montt) -> 0 | J14: =SUMPRODUCT((Nom=$B14)*(MONTH(Date)=MONTH(J$2)),Montt) -> 0 | ... N14: =SUMPRODUCT((Nom=$B14)*(MONTH(Date)=MONTH(N$2)),Montt) -> 0 | O14: =SUM(C14:N14) -> 1565
... B25: =Journal!C24 -> Problème calcul total mensuel par rapport à la date | C25: =SUMPRODUCT((Nom=$B25)*(MONTH(Date)=MONTH(C$2)),Montt) -> 0 | D25: =SUMPRODUCT((Nom=$B25)*(MONTH(Date)=MONTH(D$2)),Montt) -> 0 | E25: =SUMPRODUCT((Nom=$B25)*(MONTH(Date)=MONTH(E$2)),Montt) -> 0 | F25: =SUMPRODUCT((Nom=$B25)*(MONTH(Date)=MONTH(F$2)),Montt) -> 0 | G25: =SUMPRODUCT((Nom=$B25)*(MONTH(Date)=MONTH(G$2)),Montt) -> 0 | H25: =SUMPRODUCT((Nom=$B25)*(MONTH(Date)=MONTH(H$2)),Montt) -> 0 | I25: =SUMPRODUCT((Nom=$B25)*(MONTH(Date)=MONTH(I$2)),Montt) -> 0 | J25: =SUMPRODUCT((Nom=$B25)*(MONTH(Date)=MONTH(J$2)),Montt) -> 0 | ... N25: =SUMPRODUCT((Nom=$B25)*(MONTH(Date)=MONTH(N$2)),Montt) -> 0 | O25: =SUM(C25:N25) -> 0
B29: TOTAL MENSUEL | C29: =SUM(C3:C28) -> 600 | D29: =SUM(D3:D28) -> 550 | E29: =SUM(E3:E28) -> 600 | F29: =SUM(F3:F28) -> 3470 | G29: =SUM(G3:G28) -> 1870 | H29: =SUM(H3:H28) -> 3115 | I29: =SUM(I3:I28) -> 2875 | J29: =SUM(J3:J28) -> 0 | ... O29: =SUM(O3:O28) -> 16150
B30: TOTAL VENTE | O30: =SUMPRODUCT((RIGHT(B30,5)=Journal!$K$2:$K$19)*(Journal!$I$2:$I$19)) -> 15150
B31: TOTAL SERVICE | O31: =SUMPRODUCT((RIGHT(B31,7)=Journal!$K$2:$K$19)*(Journal!$I$2:$I$19)) -> 1000

Sheet Journal
A1: date | B1: N° client | C1: Nom | D1: Montant contrat | E1: Heures supp | F1: Commande supp | G1: Presta supp: 1 | H1: Presta supp: 2 | I1: MONTANT FINAL | J1: Dépenses fournisseur | K1: Prestation
A2: 42385 | B2: 1 | C2: A | D2: 600 | I2: =D2+E2+F2+G2+H2 -> 600 | K2: Vente
A3: 42420 | B3: 2 | C3: B | D3: 550 | I3: =D3+E3+F3+G3+H3 -> 550 | K3: Vente
A4: 42455 | B4: 3 | C4: C | D4: 600 | I4: =D4+E4+F4+G4+H4 -> 600 | K4: Vente
A5: 42462 | B5: 4 | C5: D | D5: 730 | F5: 290 | G5: 300 | I5: =D5+E5+F5+G5+H5 -> 1320 | J5: 182.4 | K5: Vente
A6: 42476 | B6: 5 | C6: E | D6: 800 | I6: =D6+E6+F6+G6+H6 -> 800 | K6: Vente
A7: 42483 | B7: 6 | C7: F | D7: 1250 | E7: 100 | I7: =D7+E7+F7+G7+H7 -> 1350 | K7: Vente
A8: 42498 | B8: 7 | C8: G | D8: 150 | I8: =D8+E8+F8+G8+H8 -> 150 | K8: Service
A9: 42511 | B9: 8 | C9: H | D9: 1370 | I9: =D9+E9+F9+G9+H9 -> 1370 | J9: 59.9 | K9: Vente
A10: 42512 | B10: 9 | C10: I | D10: 350 | I10: =D10+E10+F10+G10+H10 -> 350 | K10: Service
A11: 42525 | B11: 10 | C11: J | D11: 950 | I11: =D11+E11+F11+G11+H11 -> 950 | J11: 89.9 | K11: Vente
A12: 42538 | B12: 11 | C12: K | D12: 600 | I12: =D12+E12+F12+G12+H12 -> 600 | K12: Vente
A13: 42546 | B13: 12 | C13: L | D13: 1490 | E13: 75 | I13: =D13+E13+F13+G13+H13 -> 1565 | J13: 178.94 | K13: Vente
A14: 42553 | B14: 13 | C14: M | D14: 1000 | F14: 40 | I14: =D14+E14+F14+G14+H14 -> 1040 | J14: 51.7 | K14: Vente
A15: 42560 | B15: 14 | C15: N | D15: 1835 | I15: =D15+E15+F15+G15+H15 -> 1835 | K15: Vente
A16: 42623 | B16: 15 | C16: O | D16: 520 | I16: =D16+E16+F16+G16+H16 -> 520 | K16: Vente
A17: 42644 | B17: 16 | C17: P | D17: 1250 | I17: =D17+E17+F17+G17+H17 -> 1250 | K17: Vente
A18: 42659 | B18: 17 | C18: Q | D18: 500 | I18: =D18+E18+F18+G18+H18 -> 500 | K18: Service
A19: 42672 | B19: 18 | C19: R | D19: 800 | I19: =D19+E19+F19+G19+H19 -> 800 | K19: Vente
I20: =D20+E20+F20+G20+H20 -> 0
I21: =D21+E21+F21+G21+H21 -> 0
I22: =D22+E22+F22+G22+H22 -> 0
I23: =D23+E23+F23+G23+H23 -> 0
C24: Problème calcul total mensuel par rapport à la date | I24: =D24+E24+F24+G24+H24 -> 0
D27: =SUM(D2:D26) -> 15345 | H27: TOTAL | I27: =SUM(I2:I26) -> 16150
B29: 2. Je voudrais que dans la feuille Recap, apparaisse également un total pour VENTE et un total pour SERVICE (cf colonne PRESTATION de la feuille Journal).
