Workbook
Name IK: Feuil1!$F$1:$F$15
Name inter: Feuil2!$D$1:$D$14
Name Lieu_intervention: Feuil1!$E$1:$E$15
Name lieux: Feuil2!$A$2:$A$50
Name modedepaie: Feuil2!$G$1:$G$4
Name Nom: Feuil1!$B$1:$B$15

Sheet Feuil1
A1: Date | B1: Nom | C1: Intervention | D1: Tarif théorique | E1: Lieu intervention | F1: IK | G1: Paiement réel | H1: Moyen de paiement | J1: Recherche
A2: 00/00/2016 | B2: non | C2: JKKD001 | D2: =IF(C2="","",VLOOKUP(C2,Feuil2!$D$1:$E$14,2,FALSE)) -> 38.4 | E2: proche | F2: =IF(E2="","",VLOOKUP(E2,Feuil2!$A$2:$B$6,2,FALSE)*0.4) -> 14
B3: oui | C3: SF7 | D3: =IF(C3="","",VLOOKUP(C3,Feuil2!$D$1:$E$14,2,FALSE)) -> 19.6 | E3: cabinet | F3: =IF(E3="","",VLOOKUP(E3,Feuil2!$A$2:$B$6,2,FALSE)*0.4) -> 0 | J3: Nom : | K3: Lieu | L3: Résultat Km
B4: ok | C4: SF7 | D4: =IF(C4="","",VLOOKUP(C4,Feuil2!$D$1:$E$14,2,FALSE)) -> 19.6 | E4: proche | F4: =IF(E4="","",VLOOKUP(E4,Feuil2!$A$2:$B$6,2,FALSE)*0.4) -> 14 | J4: non | K4: {=IF(ISERROR(INDEX(Lieu_intervention,SMALL(IF(Nom=$J$4,ROW(INDIRECT("1:"&ROWS(Nom)))),ROWS($1:1)))),"",INDEX(Lieu_intervention,SMALL(IF(Nom=$J$4,ROW(INDIRECT("1:"&ROWS(Lieu_intervention)))),ROWS($1:1))))} -> proche | L4: {=IF(ISERROR(INDEX(IK,SMALL(IF(Nom=$J$4,ROW(INDIRECT("1:"&ROWS(Nom)))),ROWS($1:1)))),"",INDEX(IK,SMALL(IF(Nom=$J$4,ROW(INDIRECT("1:"&ROWS(IK)))),ROWS($1:1))))} -> 14
B5: non | C5: SF11,6 | D5: =IF(C5="","",VLOOKUP(C5,Feuil2!$D$1:$E$14,2,FALSE)) -> 37.48 | E5: loin | F5: =IF(E5="","",VLOOKUP(E5,Feuil2!$A$2:$B$6,2,FALSE)*0.4) -> 16 | K5: {=IF(ISERROR(INDEX(Lieu_intervention,SMALL(IF(Nom=$J$4,ROW(INDIRECT("1:"&ROWS(Nom)))),ROWS($1:2)))),"",INDEX(Lieu_intervention,SMALL(IF(Nom=$J$4,ROW(INDIRECT("1:"&ROWS(Lieu_intervention)))),ROWS($1:2))))} -> loin | L5: {=IF(ISERROR(INDEX(IK,SMALL(IF(Nom=$J$4,ROW(INDIRECT("1:"&ROWS(Nom)))),ROWS($1:2)))),"",INDEX(IK,SMALL(IF(Nom=$J$4,ROW(INDIRECT("1:"&ROWS(IK)))),ROWS($1:2))))} -> 16
B6: oui | C6: SF15 | D6: =IF(C6="","",VLOOKUP(C6,Feuil2!$D$1:$E$14,2,FALSE)) -> 42 | E6: la bas | F6: =IF(E6="","",VLOOKUP(E6,Feuil2!$A$2:$B$6,2,FALSE)*0.4) -> 6 | K6: {=IF(ISERROR(INDEX(Lieu_intervention,SMALL(IF(Nom=$J$4,ROW(INDIRECT("1:"&ROWS(Nom)))),ROWS($1:3)))),"",INDEX(Lieu_intervention,SMALL(IF(Nom=$J$4,ROW(INDIRECT("1:"&ROWS(Lieu_intervention)))),ROWS($1:3))))} | L6: {=IF(ISERROR(INDEX(IK,SMALL(IF(Nom=$J$4,ROW(INDIRECT("1:"&ROWS(Nom)))),ROWS($1:3)))),"",INDEX(IK,SMALL(IF(Nom=$J$4,ROW(INDIRECT("1:"&ROWS(IK)))),ROWS($1:3))))}
D7: =IF(C7="","",VLOOKUP(C7,Feuil2!$D$1:$E$14,2,FALSE)) | F7: =IF(E7="","",VLOOKUP(E7,Feuil2!$A$2:$B$6,2,FALSE)*0.4) | K7: {=IF(ISERROR(INDEX(Lieu_intervention,SMALL(IF(Nom=$J$4,ROW(INDIRECT("1:"&ROWS(Nom)))),ROWS($1:4)))),"",INDEX(Lieu_intervention,SMALL(IF(Nom=$J$4,ROW(INDIRECT("1:"&ROWS(Lieu_intervention)))),ROWS($1:4))))} | L7: {=IF(ISERROR(INDEX(IK,SMALL(IF(Nom=$J$4,ROW(INDIRECT("1:"&ROWS(Nom)))),ROWS($1:4)))),"",INDEX(IK,SMALL(IF(Nom=$J$4,ROW(INDIRECT("1:"&ROWS(IK)))),ROWS($1:4))))}
D8: =IF(C8="","",VLOOKUP(C8,Feuil2!$D$1:$E$14,2,FALSE)) | F8: =IF(E8="","",VLOOKUP(E8,Feuil2!$A$2:$B$6,2,FALSE)*0.4) | K8: {=IF(ISERROR(INDEX(Lieu_intervention,SMALL(IF(Nom=$J$4,ROW(INDIRECT("1:"&ROWS(Nom)))),ROWS($1:5)))),"",INDEX(Lieu_intervention,SMALL(IF(Nom=$J$4,ROW(INDIRECT("1:"&ROWS(Lieu_intervention)))),ROWS($1:5))))} | L8: {=IF(ISERROR(INDEX(IK,SMALL(IF(Nom=$J$4,ROW(INDIRECT("1:"&ROWS(Nom)))),ROWS($1:5)))),"",INDEX(IK,SMALL(IF(Nom=$J$4,ROW(INDIRECT("1:"&ROWS(IK)))),ROWS($1:5))))}
D9: =IF(C9="","",VLOOKUP(C9,Feuil2!$D$1:$E$14,2,FALSE)) | F9: =IF(E9="","",VLOOKUP(E9,Feuil2!$A$2:$B$6,2,FALSE)*0.4) | K9: {=IF(ISERROR(INDEX(Lieu_intervention,SMALL(IF(Nom=$J$4,ROW(INDIRECT("1:"&ROWS(Nom)))),ROWS($1:6)))),"",INDEX(Lieu_intervention,SMALL(IF(Nom=$J$4,ROW(INDIRECT("1:"&ROWS(Lieu_intervention)))),ROWS($1:6))))} | L9: {=IF(ISERROR(INDEX(IK,SMALL(IF(Nom=$J$4,ROW(INDIRECT("1:"&ROWS(Nom)))),ROWS($1:6)))),"",INDEX(IK,SMALL(IF(Nom=$J$4,ROW(INDIRECT("1:"&ROWS(IK)))),ROWS($1:6))))}
D10: =IF(C10="","",VLOOKUP(C10,Feuil2!$D$1:$E$14,2,FALSE)) | F10: =IF(E10="","",VLOOKUP(E10,Feuil2!$A$2:$B$6,2,FALSE)*0.4) | K10: {=IF(ISERROR(INDEX(Lieu_intervention,SMALL(IF(Nom=$J$4,ROW(INDIRECT("1:"&ROWS(Nom)))),ROWS($1:7)))),"",INDEX(Lieu_intervention,SMALL(IF(Nom=$J$4,ROW(INDIRECT("1:"&ROWS(Lieu_intervention)))),ROWS($1:7))))} | L10: {=IF(ISERROR(INDEX(IK,SMALL(IF(Nom=$J$4,ROW(INDIRECT("1:"&ROWS(Nom)))),ROWS($1:7)))),"",INDEX(IK,SMALL(IF(Nom=$J$4,ROW(INDIRECT("1:"&ROWS(IK)))),ROWS($1:7))))}
D11: =IF(C11="","",VLOOKUP(C11,Feuil2!$D$1:$E$14,2,FALSE)) | F11: =IF(E11="","",VLOOKUP(E11,Feuil2!$A$2:$B$6,2,FALSE)*0.4) | K11: {=IF(ISERROR(INDEX(Lieu_intervention,SMALL(IF(Nom=$J$4,ROW(INDIRECT("1:"&ROWS(Nom)))),ROWS($1:8)))),"",INDEX(Lieu_intervention,SMALL(IF(Nom=$J$4,ROW(INDIRECT("1:"&ROWS(Lieu_intervention)))),ROWS($1:8))))} | L11: {=IF(ISERROR(INDEX(IK,SMALL(IF(Nom=$J$4,ROW(INDIRECT("1:"&ROWS(Nom)))),ROWS($1:8)))),"",INDEX(IK,SMALL(IF(Nom=$J$4,ROW(INDIRECT("1:"&ROWS(IK)))),ROWS($1:8))))}
D12: =IF(C12="","",VLOOKUP(C12,Feuil2!$D$1:$E$14,2,FALSE)) | F12: =IF(E12="","",VLOOKUP(E12,Feuil2!$A$2:$B$6,2,FALSE)*0.4) | K12: {=IF(ISERROR(INDEX(Lieu_intervention,SMALL(IF(Nom=$J$4,ROW(INDIRECT("1:"&ROWS(Nom)))),ROWS($1:9)))),"",INDEX(Lieu_intervention,SMALL(IF(Nom=$J$4,ROW(INDIRECT("1:"&ROWS(Lieu_intervention)))),ROWS($1:9))))} | L12: {=IF(ISERROR(INDEX(IK,SMALL(IF(Nom=$J$4,ROW(INDIRECT("1:"&ROWS(Nom)))),ROWS($1:9)))),"",INDEX(IK,SMALL(IF(Nom=$J$4,ROW(INDIRECT("1:"&ROWS(IK)))),ROWS($1:9))))}
D13: =IF(C13="","",VLOOKUP(C13,Feuil2!$D$1:$E$14,2,FALSE)) | F13: =IF(E13="","",VLOOKUP(E13,Feuil2!$A$2:$B$6,2,FALSE)*0.4) | K13: {=IF(ISERROR(INDEX(Lieu_intervention,SMALL(IF(Nom=$J$4,ROW(INDIRECT("1:"&ROWS(Nom)))),ROWS($1:10)))),"",INDEX(Lieu_intervention,SMALL(IF(Nom=$J$4,ROW(INDIRECT("1:"&ROWS(Lieu_intervention)))),ROWS($1:10))))} | L13: {=IF(ISERROR(INDEX(IK,SMALL(IF(Nom=$J$4,ROW(INDIRECT("1:"&ROWS(Nom)))),ROWS($1:10)))),"",INDEX(IK,SMALL(IF(Nom=$J$4,ROW(INDIRECT("1:"&ROWS(IK)))),ROWS($1:10))))}
D14: =IF(C14="","",VLOOKUP(C14,Feuil2!$D$1:$E$14,2,FALSE)) | F14: =IF(E14="","",VLOOKUP(E14,Feuil2!$A$2:$B$6,2,FALSE)*0.4) | K14: {=IF(ISERROR(INDEX(Lieu_intervention,SMALL(IF(Nom=$J$4,ROW(INDIRECT("1:"&ROWS(Nom)))),ROWS($1:11)))),"",INDEX(Lieu_intervention,SMALL(IF(Nom=$J$4,ROW(INDIRECT("1:"&ROWS(Lieu_intervention)))),ROWS($1:11))))} | L14: {=IF(ISERROR(INDEX(IK,SMALL(IF(Nom=$J$4,ROW(INDIRECT("1:"&ROWS(Nom)))),ROWS($1:11)))),"",INDEX(IK,SMALL(IF(Nom=$J$4,ROW(INDIRECT("1:"&ROWS(IK)))),ROWS($1:11))))}
D15: =IF(C15="","",VLOOKUP(C15,Feuil2!$D$1:$E$14,2,FALSE)) | F15: =IF(E15="","",VLOOKUP(E15,Feuil2!$A$2:$B$6,2,FALSE)*0.4) | K15: {=IF(ISERROR(INDEX(Lieu_intervention,SMALL(IF(Nom=$J$4,ROW(INDIRECT("1:"&ROWS(Nom)))),ROWS($1:12)))),"",INDEX(Lieu_intervention,SMALL(IF(Nom=$J$4,ROW(INDIRECT("1:"&ROWS(Lieu_intervention)))),ROWS($1:12))))} | L15: {=IF(ISERROR(INDEX(IK,SMALL(IF(Nom=$J$4,ROW(INDIRECT("1:"&ROWS(Nom)))),ROWS($1:12)))),"",INDEX(IK,SMALL(IF(Nom=$J$4,ROW(INDIRECT("1:"&ROWS(IK)))),ROWS($1:12))))}
C17: Total théorique | D17: Total IK | E17: Total paiement réel | G17: Différentiel
C18: =SUM(D2:D14) -> 157.08 | D18: =SUM(F2:F14) -> 50 | E18: =SUM(G2:G14) -> 0 | G18: =C18+D18-E18 -> 207.08

Sheet Feuil2
B1: aller retour | D1: QZLA004 | E1: 18 | G1: Non payé
A2: cabinet | B2: 0 | D2: SF7 | E2: 19.6 | G2: Espèce
A3: la bas | B3: 15 | D3: C | E3: 23 | G3: Chèque
A4: proche | B4: 35 | D4: C+JKHD001 | E4: 29.23 | G4: CMU
A5: loin | B5: 40 | D5: SF12 | E5: 33.6
A6: tres loin | B6: 70 | D6: SF11,6 | E6: 37.48
D7: JKLD001 | E7: 38.4
D8: JKKD001 | E8: 38.4
D9: QZGA002 | E9: 41.8
D10: SF15 | E10: 42
D11: SF15+IF | E11: 46
D12: SF16,5 | E12: 46.2
D13: SF16,5+IF | E13: 50.2
D14: SF22 | E14: =22*2.8 -> 61.6

Sheet Feuil3
