Workbook

Sheet Feuil1
B2: RANG | C2: 201604 | D2: RANG | E2: 201605 | F2: RANG | G2: 201606 | H2: RANG | I2: 201607 | J2: RANG | K2: 201608 | L2: RANG | M2: 201609 | N2: Total général
N3: 0
A4: Poules | B4: =IFERROR(RANK(C4,$C$4:$C$11)+COUNTIF(C$3:C3,C4),"") -> 1 | C4: 452 | D4: =IFERROR(RANK(E4,$E$4:$E$11)+COUNTIF(E$3:E3,E4),"") -> 2 | E4: 497 | F4: =IFERROR(RANK(G4,$G$4:$G$11)+COUNTIF(G$3:G3,G4),"") -> 1 | G4: 423 | H4: =IFERROR(RANK(I4,$I$4:$I$11)+COUNTIF(I$3:I3,I4),"") -> 1 | I4: 396 | J4: =IFERROR(RANK(K4,$K$4:$K$11)+COUNTIF(K$3:K3,K4),"") -> 1 | K4: 582 | L4: =IFERROR(RANK(M4,$M$4:$M$11)+COUNTIF(M$3:M3,M4),"") | N4: =SUM(C4:M4) -> 2355
A5: Chats | B5: =IFERROR(RANK(C5,$C$4:$C$11)+COUNTIF(C$3:C4,C5),"") | D5: =IFERROR(RANK(E5,$E$4:$E$11)+COUNTIF(E$3:E4,E5),"") -> 4 | E5: 6 | F5: =IFERROR(RANK(G5,$G$4:$G$11)+COUNTIF(G$3:G4,G5),"") -> 4 | G5: 8 | H5: =IFERROR(RANK(I5,$I$4:$I$11)+COUNTIF(I$3:I4,I5),"") | J5: =IFERROR(RANK(K5,$K$4:$K$11)+COUNTIF(K$3:K4,K5),"") | L5: =IFERROR(RANK(M5,$M$4:$M$11)+COUNTIF(M$3:M4,M5),"") | N5: =SUM(C5:M5) -> 22
A6: Chiens | B6: =IFERROR(RANK(C6,$C$4:$C$11)+COUNTIF(C$3:C5,C6),"") -> 2 | C6: 440 | D6: =IFERROR(RANK(E6,$E$4:$E$11)+COUNTIF(E$3:E5,E6),"") -> 3 | E6: 205 | F6: =IFERROR(RANK(G6,$G$4:$G$11)+COUNTIF(G$3:G5,G6),"") -> 2 | G6: 167 | H6: =IFERROR(RANK(I6,$I$4:$I$11)+COUNTIF(I$3:I5,I6),"") -> 2 | I6: 190 | J6: =IFERROR(RANK(K6,$K$4:$K$11)+COUNTIF(K$3:K5,K6),"") -> 2 | K6: 260 | L6: =IFERROR(RANK(M6,$M$4:$M$11)+COUNTIF(M$3:M5,M6),"") -> 2 | M6: 11 | N6: =SUM(C6:M6) -> 1284
A7: Poneys | B7: =IFERROR(RANK(C7,$C$4:$C$11)+COUNTIF(C$3:C6,C7),"") -> 5 | C7: 7 | D7: =IFERROR(RANK(E7,$E$4:$E$11)+COUNTIF(E$3:E6,E7),"") | F7: =IFERROR(RANK(G7,$G$4:$G$11)+COUNTIF(G$3:G6,G7),"") | H7: =IFERROR(RANK(I7,$I$4:$I$11)+COUNTIF(I$3:I6,I7),"") | J7: =IFERROR(RANK(K7,$K$4:$K$11)+COUNTIF(K$3:K6,K7),"") | L7: =IFERROR(RANK(M7,$M$4:$M$11)+COUNTIF(M$3:M6,M7),"") | N7: =SUM(C7:M7) -> 7
A8: Ragondins | B8: =IFERROR(RANK(C8,$C$4:$C$11)+COUNTIF(C$3:C7,C8),"") -> 4 | C8: 8 | D8: =IFERROR(RANK(E8,$E$4:$E$11)+COUNTIF(E$3:E7,E8),"") -> 1 | E8: 498 | F8: =IFERROR(RANK(G8,$G$4:$G$11)+COUNTIF(G$3:G7,G8),"") | H8: =IFERROR(RANK(I8,$I$4:$I$11)+COUNTIF(I$3:I7,I8),"") | J8: =IFERROR(RANK(K8,$K$4:$K$11)+COUNTIF(K$3:K7,K8),"") | L8: =IFERROR(RANK(M8,$M$4:$M$11)+COUNTIF(M$3:M7,M8),"") | N8: =SUM(C8:M8) -> 507
A9: Truites | B9: =IFERROR(RANK(C9,$C$4:$C$11)+COUNTIF(C$3:C8,C9),"") | D9: =IFERROR(RANK(E9,$E$4:$E$11)+COUNTIF(E$3:E8,E9),"") | F9: =IFERROR(RANK(G9,$G$4:$G$11)+COUNTIF(G$3:G8,G9),"") | H9: =IFERROR(RANK(I9,$I$4:$I$11)+COUNTIF(I$3:I8,I9),"") | J9: =IFERROR(RANK(K9,$K$4:$K$11)+COUNTIF(K$3:K8,K9),"") | L9: =IFERROR(RANK(M9,$M$4:$M$11)+COUNTIF(M$3:M8,M9),"") -> 1 | M9: 30 | N9: =SUM(C9:M9) -> 31
A10: Lapins | B10: =IFERROR(RANK(C10,$C$4:$C$11)+COUNTIF(C$3:C9,C10),"") | D10: =IFERROR(RANK(E10,$E$4:$E$11)+COUNTIF(E$3:E9,E10),"") -> 5 | E10: 6 | F10: =IFERROR(RANK(G10,$G$4:$G$11)+COUNTIF(G$3:G9,G10),"") -> 3 | G10: 11 | H10: =IFERROR(RANK(I10,$I$4:$I$11)+COUNTIF(I$3:I9,I10),"") -> 3 | I10: 11 | J10: =IFERROR(RANK(K10,$K$4:$K$11)+COUNTIF(K$3:K9,K10),"") | L10: =IFERROR(RANK(M10,$M$4:$M$11)+COUNTIF(M$3:M9,M10),"") | N10: =SUM(C10:M10) -> 39
A11: Moutons | B11: =IFERROR(RANK(C11,$C$4:$C$11)+COUNTIF(C$3:C10,C11),"") -> 3 | C11: 10 | D11: =IFERROR(RANK(E11,$E$4:$E$11)+COUNTIF(E$3:E10,E11),"") | F11: =IFERROR(RANK(G11,$G$4:$G$11)+COUNTIF(G$3:G10,G11),"") | H11: =IFERROR(RANK(I11,$I$4:$I$11)+COUNTIF(I$3:I10,I11),"") | J11: =IFERROR(RANK(K11,$K$4:$K$11)+COUNTIF(K$3:K10,K11),"") | L11: =IFERROR(RANK(M11,$M$4:$M$11)+COUNTIF(M$3:M10,M11),"") | N11: =SUM(C11:M11) -> 10

Sheet Feuil2
A1: RANG | B1: Animaux201604 | C1: 201604 | D1: RANG | E1: Animaux201605 | F1: 201605 | G1: RANG | H1: Animaux201606 | I1: 201606 | J1: RANG | K1: Animaux201607 | L1: 201607 | M1: RANG | N1: Animaux201608 | O1: 201608 | P1: RANG | Q1: Animaux201609 | R1: 201609
A2: 1 | B2: =IFERROR(INDEX(Feuil1!$A$4:$A$11,MATCH(A2,Feuil1!$B$4:$B$11,0)),"") -> Poules | C2: =IFERROR(VLOOKUP(A2,Feuil1!$B$4:$C$11,2,0),"") -> 452 | D2: 1 | E2: =IFERROR(INDEX(Feuil1!$A$4:$A$11,MATCH(D2,Feuil1!$D$4:$D$11,0)),"") -> Ragondins | F2: =IFERROR(VLOOKUP(D2,Feuil1!$D$3:$E$11,2,0),"") -> 498 | G2: 1 | H2: =IFERROR(INDEX(Feuil1!$A$4:$A$11,MATCH(G2,Feuil1!$F$4:$F$11,0)),"") -> Poules | I2: =IFERROR(VLOOKUP(G2,Feuil1!$F$4:$H$11,2,0),"") -> 423 | J2: 1 | K2: =IFERROR(INDEX(Feuil1!$A$4:$A$11,MATCH(J2,Feuil1!$H$4:$H$11,0)),"") -> Poules | L2: =IFERROR(VLOOKUP(J2,Feuil1!$H$4:$J$11,2,0),"") -> 396 | M2: 1 | N2: =IFERROR(INDEX(Feuil1!$A$4:$A$11,MATCH(M2,Feuil1!$J$4:$J$11,0)),"") -> Poules | O2: =IFERROR(VLOOKUP(M2,Feuil1!$J$3:$K$11,2,0),"") -> 582 | P2: 1 | Q2: =IFERROR(INDEX(Feuil1!$A$4:$A$11,MATCH(P2,Feuil1!$L$4:$L$11,0)),"") -> Truites | R2: =IFERROR(VLOOKUP(P2,Feuil1!$L$4:$M$11,2,0),"") -> 30
A3: 2 | B3: =IFERROR(INDEX(Feuil1!$A$4:$A$11,MATCH(A3,Feuil1!$B$4:$B$11,0)),"") -> Chiens | C3: =IFERROR(VLOOKUP(A3,Feuil1!$B$4:$C$11,2,0),"") -> 440 | D3: 2 | E3: =IFERROR(INDEX(Feuil1!$A$4:$A$11,MATCH(D3,Feuil1!$D$4:$D$11,0)),"") -> Poules | F3: =IFERROR(VLOOKUP(D3,Feuil1!$D$3:$E$11,2,0),"") -> 497 | G3: 2 | H3: =IFERROR(INDEX(Feuil1!$A$4:$A$11,MATCH(G3,Feuil1!$F$4:$F$11,0)),"") -> Chiens | I3: =IFERROR(VLOOKUP(G3,Feuil1!$F$4:$H$11,2,0),"") -> 167 | J3: 2 | K3: =IFERROR(INDEX(Feuil1!$A$4:$A$11,MATCH(J3,Feuil1!$H$4:$H$11,0)),"") -> Chiens | L3: =IFERROR(VLOOKUP(J3,Feuil1!$H$4:$J$11,2,0),"") -> 190 | M3: 2 | N3: =IFERROR(INDEX(Feuil1!$A$4:$A$11,MATCH(M3,Feuil1!$J$4:$J$11,0)),"") -> Chiens | O3: =IFERROR(VLOOKUP(M3,Feuil1!$J$3:$K$11,2,0),"") -> 260 | P3: 2 | Q3: =IFERROR(INDEX(Feuil1!$A$4:$A$11,MATCH(P3,Feuil1!$L$4:$L$11,0)),"") -> Chiens | R3: =IFERROR(VLOOKUP(P3,Feuil1!$L$4:$M$11,2,0),"") -> 11
A4: 3 | B4: =IFERROR(INDEX(Feuil1!$A$4:$A$11,MATCH(A4,Feuil1!$B$4:$B$11,0)),"") -> Moutons | C4: =IFERROR(VLOOKUP(A4,Feuil1!$B$4:$C$11,2,0),"") -> 10 | D4: 3 | E4: =IFERROR(INDEX(Feuil1!$A$4:$A$11,MATCH(D4,Feuil1!$D$4:$D$11,0)),"") -> Chiens | F4: =IFERROR(VLOOKUP(D4,Feuil1!$D$3:$E$11,2,0),"") -> 205 | G4: 3 | H4: =IFERROR(INDEX(Feuil1!$A$4:$A$11,MATCH(G4,Feuil1!$F$4:$F$11,0)),"") -> Lapins | I4: =IFERROR(VLOOKUP(G4,Feuil1!$F$4:$H$11,2,0),"") -> 11 | J4: 3 | K4: =IFERROR(INDEX(Feuil1!$A$4:$A$11,MATCH(J4,Feuil1!$H$4:$H$11,0)),"") -> Lapins | L4: =IFERROR(VLOOKUP(J4,Feuil1!$H$4:$J$11,2,0),"") -> 11 | M4: 3 | N4: =IFERROR(INDEX(Feuil1!$A$4:$A$11,MATCH(M4,Feuil1!$J$4:$J$11,0)),"") | O4: =IFERROR(VLOOKUP(M4,Feuil1!$J$3:$K$11,2,0),"") | P4: 3 | Q4: =IFERROR(INDEX(Feuil1!$A$4:$A$11,MATCH(P4,Feuil1!$L$4:$L$11,0)),"") | R4: =IFERROR(VLOOKUP(P4,Feuil1!$L$4:$M$11,2,0),"")
A5: 4 | B5: =IFERROR(INDEX(Feuil1!$A$4:$A$11,MATCH(A5,Feuil1!$B$4:$B$11,0)),"") -> Ragondins | C5: =IFERROR(VLOOKUP(A5,Feuil1!$B$4:$C$11,2,0),"") -> 8 | D5: 4 | E5: =IFERROR(INDEX(Feuil1!$A$4:$A$11,MATCH(D5,Feuil1!$D$4:$D$11,0)),"") -> Chats | F5: =IFERROR(VLOOKUP(D5,Feuil1!$D$3:$E$11,2,0),"") -> 6 | G5: 4 | H5: =IFERROR(INDEX(Feuil1!$A$4:$A$11,MATCH(G5,Feuil1!$F$4:$F$11,0)),"") -> Chats | I5: =IFERROR(VLOOKUP(G5,Feuil1!$F$4:$H$11,2,0),"") -> 8 | J5: 4 | K5: =IFERROR(INDEX(Feuil1!$A$4:$A$11,MATCH(J5,Feuil1!$H$4:$H$11,0)),"") | L5: =IFERROR(VLOOKUP(J5,Feuil1!$H$4:$J$11,2,0),"") | M5: 4 | N5: =IFERROR(INDEX(Feuil1!$A$4:$A$11,MATCH(M5,Feuil1!$J$4:$J$11,0)),"") | O5: =IFERROR(VLOOKUP(M5,Feuil1!$J$3:$K$11,2,0),"") | P5: 4 | Q5: =IFERROR(INDEX(Feuil1!$A$4:$A$11,MATCH(P5,Feuil1!$L$4:$L$11,0)),"") | R5: =IFERROR(VLOOKUP(P5,Feuil1!$L$4:$M$11,2,0),"")
A6: 5 | B6: =IFERROR(INDEX(Feuil1!$A$4:$A$11,MATCH(A6,Feuil1!$B$4:$B$11,0)),"") -> Poneys | C6: =IFERROR(VLOOKUP(A6,Feuil1!$B$4:$C$11,2,0),"") -> 7 | D6: 5 | E6: =IFERROR(INDEX(Feuil1!$A$4:$A$11,MATCH(D6,Feuil1!$D$4:$D$11,0)),"") -> Lapins | F6: =IFERROR(VLOOKUP(D6,Feuil1!$D$3:$E$11,2,0),"") -> 6 | G6: 5 | H6: =IFERROR(INDEX(Feuil1!$A$4:$A$11,MATCH(G6,Feuil1!$F$4:$F$11,0)),"") | I6: =IFERROR(VLOOKUP(G6,Feuil1!$F$4:$H$11,2,0),"") | J6: 5 | K6: =IFERROR(INDEX(Feuil1!$A$4:$A$11,MATCH(J6,Feuil1!$H$4:$H$11,0)),"") | L6: =IFERROR(VLOOKUP(J6,Feuil1!$H$4:$J$11,2,0),"") | M6: 5 | N6: =IFERROR(INDEX(Feuil1!$A$4:$A$11,MATCH(M6,Feuil1!$J$4:$J$11,0)),"") | O6: =IFERROR(VLOOKUP(M6,Feuil1!$J$3:$K$11,2,0),"") | P6: 5 | Q6: =IFERROR(INDEX(Feuil1!$A$4:$A$11,MATCH(P6,Feuil1!$L$4:$L$11,0)),"") | R6: =IFERROR(VLOOKUP(P6,Feuil1!$L$4:$M$11,2,0),"")

Sheet Feuil3
