Workbook

Sheet AE
A1: Description activité | D1: Service | E1: Identification des Aspects-Impacts | I1: Fonctionnement | J1: Cotation | M1: Résultat | N1: Classification | O1: Maîtrise | R1: M1 | S1: Résultat | T1: Classification
A2: Code | B2: Activité | C2: NDPN | D2: Service/Section | E2: Aspect | F2: Impact | G2: Details et descriptions | I2: Fonctionnement | J2: G | K2: F | L2: S | M2: Criticité brute | N2: AES | O2: O | P2: H | Q2: T | R2: M1 | S2: Criticité résiduelle | T2: IES
M3: =J3*K3*L3 -> 0 | N3: =IF(M3>=6,"Oui","Non") -> Non | S3: =J3*K3*L3*R3 -> 0 | T3: =IF(S3>=24,"Oui","Non") -> Non
M4: =J4*K4*L4 -> 0 | N4: =IF(M4>=6,"Oui","Non") -> Non | S4: =J4*K4*L4*R4 -> 0 | T4: =IF(S4>=24,"Oui","Non") -> Non
M5: =J5*K5*L5 -> 0 | N5: =IF(M5>=6,"Oui","Non") -> Non | S5: =J5*K5*L5*R5 -> 0 | T5: =IF(S5>=24,"Oui","Non") -> Non
M6: =J6*K6*L6 -> 0 | N6: =IF(M6>=6,"Oui","Non") -> Non | S6: =J6*K6*L6*R6 -> 0 | T6: =IF(S6>=24,"Oui","Non") -> Non
M7: =J7*K7*L7 -> 0 | N7: =IF(M7>=6,"Oui","Non") -> Non | S7: =J7*K7*L7*R7 -> 0 | T7: =IF(S7>=24,"Oui","Non") -> Non
M8: =J8*K8*L8 -> 0 | N8: =IF(M8>=6,"Oui","Non") -> Non | S8: =J8*K8*L8*R8 -> 0 | T8: =IF(S8>=24,"Oui","Non") -> Non
M9: =J9*K9*L9 -> 0 | N9: =IF(M9>=6,"Oui","Non") -> Non | S9: =J9*K9*L9*R9 -> 0 | T9: =IF(S9>=24,"Oui","Non") -> Non
M10: =J10*K10*L10 -> 0 | N10: =IF(M10>=6,"Oui","Non") -> Non | S10: =J10*K10*L10*R10 -> 0 | T10: =IF(S10>=24,"Oui","Non") -> Non
M11: =J11*K11*L11 -> 0 | N11: =IF(M11>=6,"Oui","Non") -> Non | S11: =J11*K11*L11*R11 -> 0 | T11: =IF(S11>=24,"Oui","Non") -> Non
M12: =J12*K12*L12 -> 0 | N12: =IF(M12>=6,"Oui","Non") -> Non | S12: =J12*K12*L12*R12 -> 0 | T12: =IF(S12>=24,"Oui","Non") -> Non
M13: =J13*K13*L13 -> 0 | N13: =IF(M13>=6,"Oui","Non") -> Non | S13: =J13*K13*L13*R13 -> 0 | T13: =IF(S13>=24,"Oui","Non") -> Non
M14: =J14*K14*L14 -> 0 | N14: =IF(M14>=6,"Oui","Non") -> Non | S14: =J14*K14*L14*R14 -> 0 | T14: =IF(S14>=24,"Oui","Non") -> Non
... M1727: =J1727*K1727*L1727 -> 0 | N1727: =IF(M1727>=6,"Oui","Non") -> Non | S1727: =J1727*K1727*L1727*R1727 -> 0 | T1727: =IF(S1727>=24,"Oui","Non") -> Non
M1728: =J1728*K1728*L1728 -> 0 | N1728: =IF(M1728>="Oui","Non") -> FALSE | S1728: =J1728*K1728*L1728*R1728 -> 0 | T1728: =IF(S1728>=24,"Oui","Non") -> Non
M1729: =J1729*K1729*L1729 -> 0 | N1729: =IF(M1729>="Oui","Non") -> FALSE | S1729: =J1729*K1729*L1729*R1729 -> 0 | T1729: =IF(S1729>=24,"Oui","Non") -> Non
M1730: =J1730*K1730*L1730 -> 0 | N1730: =IF(M1730>="Oui","Non") -> FALSE | S1730: =J1730*K1730*L1730*R1730 -> 0 | T1730: =IF(S1730>=24,"Oui","Non") -> Non
M1731: =J1731*K1731*L1731 -> 0 | N1731: =IF(M1731>="Oui","Non") -> FALSE | S1731: =J1731*K1731*L1731*R1731 -> 0 | T1731: =IF(S1731>=24,"Oui","Non") -> Non
M1732: =J1732*K1732*L1732 -> 0 | N1732: =IF(M1732>="Oui","Non") -> FALSE | S1732: =J1732*K1732*L1732*R1732 -> 0 | T1732: =IF(S1732>=24,"Oui","Non") -> Non
M1733: =J1733*K1733*L1733 -> 0 | N1733: =IF(M1733>="Oui","Non") -> FALSE | S1733: =J1733*K1733*L1733*R1733 -> 0 | T1733: =IF(S1733>=24,"Oui","Non") -> Non
M1734: =J1734*K1734*L1734 -> 0 | N1734: =IF(M1734>="Oui","Non") -> FALSE | S1734: =J1734*K1734*L1734*R1734 -> 0 | T1734: =IF(S1734>=24,"Oui","Non") -> Non
M1735: =J1735*K1735*L1735 -> 0 | N1735: =IF(M1735>="Oui","Non") -> FALSE | S1735: =J1735*K1735*L1735*R1735 -> 0 | T1735: =IF(S1735>=24,"Oui","Non") -> Non
M1736: =J1736*K1736*L1736 -> 0 | N1736: =IF(M1736>="Oui","Non") -> FALSE | S1736: =J1736*K1736*L1736*R1736 -> 0 | T1736: =IF(S1736>=24,"Oui","Non") -> Non
M1737: =J1737*K1737*L1737 -> 0 | N1737: =IF(M1737>="Oui","Non") -> FALSE | S1737: =J1737*K1737*L1737*R1737 -> 0 | T1737: =IF(S1737>=24,"Oui","Non") -> Non
M1738: =J1738*K1738*L1738 -> 0 | N1738: =IF(M1738>="Oui","Non") -> FALSE | S1738: =J1738*K1738*L1738*R1738 -> 0 | T1738: =IF(S1738>=24,"Oui","Non") -> Non
M1739: =J1739*K1739*L1739 -> 0 | N1739: =IF(M1739>="Oui","Non") -> FALSE | S1739: =J1739*K1739*L1739*R1739 -> 0 | T1739: =IF(S1739>=24,"Oui","Non") -> Non
... M2270: =J2270*K2270*L2270 -> 0 | N2270: =IF(M2270>="Oui","Non") -> FALSE | S2270: =J2270*K2270*L2270*R2270 -> 0 | T2270: =IF(S2270>=24,"Oui","Non") -> Non
M2271: =J2271*K2271 -> 0 | N2271: =IF(M2271>="Oui","Non") -> FALSE | S2271: =J2271*K2271*L2271*R2271 -> 0 | T2271: =IF(S2271>=24,"Oui","Non") -> Non
M2272: =J2272*K2272 -> 0 | N2272: =IF(M2272>="Oui","Non") -> FALSE | S2272: =J2272*K2272*L2272*R2272 -> 0 | T2272: =IF(S2272>=24,"Oui","Non") -> Non
M2273: =J2273*K2273 -> 0 | N2273: =IF(M2273>="Oui","Non") -> FALSE | S2273: =J2273*K2273*L2273*R2273 -> 0 | T2273: =IF(S2273>=24,"Oui","Non") -> Non
M2274: =J2274*K2274 -> 0 | N2274: =IF(M2274>="Oui","Non") -> FALSE | S2274: =J2274*K2274*L2274*R2274 -> 0 | T2274: =IF(S2274>=24,"Oui","Non") -> Non
M2275: =J2275*K2275 -> 0 | N2275: =IF(M2275>="Oui","Non") -> FALSE | S2275: =J2275*K2275*L2275*R2275 -> 0 | T2275: =IF(S2275>=24,"Oui","Non") -> Non
M2276: =J2276*K2276 -> 0 | N2276: =IF(M2276>="Oui","Non") -> FALSE | S2276: =J2276*K2276*L2276*R2276 -> 0 | T2276: =IF(S2276>=24,"Oui","Non") -> Non
M2277: =J2277*K2277 -> 0 | N2277: =IF(M2277>="Oui","Non") -> FALSE | S2277: =J2277*K2277*L2277*R2277 -> 0 | T2277: =IF(S2277>=24,"Oui","Non") -> Non
M2278: =J2278*K2278 -> 0 | N2278: =IF(M2278>="Oui","Non") -> FALSE | S2278: =J2278*K2278*L2278*R2278 -> 0 | T2278: =IF(S2278>=24,"Oui","Non") -> Non
M2279: =J2279*K2279 -> 0 | N2279: =IF(M2279>="Oui","Non") -> FALSE | S2279: =J2279*K2279*L2279*R2279 -> 0 | T2279: =IF(S2279>=24,"Oui","Non") -> Non
M2280: =J2280*K2280 -> 0 | N2280: =IF(M2280>="Oui","Non") -> FALSE | S2280: =J2280*K2280*L2280*R2280 -> 0 | T2280: =IF(S2280>=24,"Oui","Non") -> Non
M2281: =J2281*K2281 -> 0 | N2281: =IF(M2281>="Oui","Non") -> FALSE | S2281: =J2281*K2281*L2281*R2281 -> 0 | T2281: =IF(S2281>=24,"Oui","Non") -> Non
M2282: =J2282*K2282 -> 0 | N2282: =IF(M2282>="Oui","Non") -> FALSE | S2282: =J2282*K2282*L2282*R2282 -> 0 | T2282: =IF(S2282>=24,"Oui","Non") -> Non
...

Sheet AES
A1: Description activité | D1: Service | E1: Aspect significatif | F1: Impact réel et potentiel | G1: Details et descriptions | I1: Risques | J1: Oportunités | K1: Actions prévues | N1: Responsable | O1: Délais
A2: Code | B2: Activité | C2: NDPN | D2: Service/Section
A3: {=IF(ROWS($3:3)<=COUNTIF(AE!$N$3:$N$4347,"OUI"),INDEX(AE!A$3:A$4347,SMALL(IF(AE!$N$3:$N$4347="OUI",ROW(INDIRECT("1:"&ROWS(AE!$N$3:$N$4347)))),ROWS($3:3))),"")} | B3: {=IF(ROWS($3:3)<=COUNTIF(AE!$N$3:$N$4347,"OUI"),INDEX(AE!B$3:B$4347,SMALL(IF(AE!$N$3:$N$4347="OUI",ROW(INDIRECT("1:"&ROWS(AE!$N$3:$N$4347)))),ROWS($3:3))),"")} | C3: {=IF(ROWS($3:3)<=COUNTIF(AE!$N$3:$N$4347,"OUI"),INDEX(AE!C$3:C$4347,SMALL(IF(AE!$N$3:$N$4347="OUI",ROW(INDIRECT("1:"&ROWS(AE!$N$3:$N$4347)))),ROWS($3:3))),"")} | D3: {=IF(ROWS($3:3)<=COUNTIF(AE!$N$3:$N$4347,"OUI"),INDEX(AE!D$3:D$4347,SMALL(IF(AE!$N$3:$N$4347="OUI",ROW(INDIRECT("1:"&ROWS(AE!$N$3:$N$4347)))),ROWS($3:3))),"")} | E3: {=IF(ROWS($3:3)<=COUNTIF(AE!$N$3:$N$4347,"OUI"),INDEX(AE!E$3:E$4347,SMALL(IF(AE!$N$3:$N$4347="OUI",ROW(INDIRECT("1:"&ROWS(AE!$N$3:$N$4347)))),ROWS($3:3))),"")} | F3: {=IF(ROWS($3:3)<=COUNTIF(AE!$N$3:$N$4347,"OUI"),INDEX(AE!F$3:F$4347,SMALL(IF(AE!$N$3:$N$4347="OUI",ROW(INDIRECT("1:"&ROWS(AE!$N$3:$N$4347)))),ROWS($3:3))),"")}
A4: {=IF(ROWS($3:4)<=COUNTIF(AE!$N$3:$N$4347,"OUI"),INDEX(AE!A$3:A$4347,SMALL(IF(AE!$N$3:$N$4347="OUI",ROW(INDIRECT("1:"&ROWS(AE!$N$3:$N$4347)))),ROWS($3:4))),"")} | B4: {=IF(ROWS($3:4)<=COUNTIF(AE!$N$3:$N$4347,"OUI"),INDEX(AE!B$3:B$4347,SMALL(IF(AE!$N$3:$N$4347="OUI",ROW(INDIRECT("1:"&ROWS(AE!$N$3:$N$4347)))),ROWS($3:4))),"")} | C4: {=IF(ROWS($3:4)<=COUNTIF(AE!$N$3:$N$4347,"OUI"),INDEX(AE!C$3:C$4347,SMALL(IF(AE!$N$3:$N$4347="OUI",ROW(INDIRECT("1:"&ROWS(AE!$N$3:$N$4347)))),ROWS($3:4))),"")} | D4: {=IF(ROWS($3:4)<=COUNTIF(AE!$N$3:$N$4347,"OUI"),INDEX(AE!D$3:D$4347,SMALL(IF(AE!$N$3:$N$4347="OUI",ROW(INDIRECT("1:"&ROWS(AE!$N$3:$N$4347)))),ROWS($3:4))),"")} | E4: {=IF(ROWS($3:4)<=COUNTIF(AE!$N$3:$N$4347,"OUI"),INDEX(AE!E$3:E$4347,SMALL(IF(AE!$N$3:$N$4347="OUI",ROW(INDIRECT("1:"&ROWS(AE!$N$3:$N$4347)))),ROWS($3:4))),"")} | F4: {=IF(ROWS($3:4)<=COUNTIF(AE!$N$3:$N$4347,"OUI"),INDEX(AE!F$3:F$4347,SMALL(IF(AE!$N$3:$N$4347="OUI",ROW(INDIRECT("1:"&ROWS(AE!$N$3:$N$4347)))),ROWS($3:4))),"")}
A5: {=IF(ROWS($3:5)<=COUNTIF(AE!$N$3:$N$4347,"OUI"),INDEX(AE!A$3:A$4347,SMALL(IF(AE!$N$3:$N$4347="OUI",ROW(INDIRECT("1:"&ROWS(AE!$N$3:$N$4347)))),ROWS($3:5))),"")} | B5: {=IF(ROWS($3:5)<=COUNTIF(AE!$N$3:$N$4347,"OUI"),INDEX(AE!B$3:B$4347,SMALL(IF(AE!$N$3:$N$4347="OUI",ROW(INDIRECT("1:"&ROWS(AE!$N$3:$N$4347)))),ROWS($3:5))),"")} | C5: {=IF(ROWS($3:5)<=COUNTIF(AE!$N$3:$N$4347,"OUI"),INDEX(AE!C$3:C$4347,SMALL(IF(AE!$N$3:$N$4347="OUI",ROW(INDIRECT("1:"&ROWS(AE!$N$3:$N$4347)))),ROWS($3:5))),"")} | D5: {=IF(ROWS($3:5)<=COUNTIF(AE!$N$3:$N$4347,"OUI"),INDEX(AE!D$3:D$4347,SMALL(IF(AE!$N$3:$N$4347="OUI",ROW(INDIRECT("1:"&ROWS(AE!$N$3:$N$4347)))),ROWS($3:5))),"")} | E5: {=IF(ROWS($3:5)<=COUNTIF(AE!$N$3:$N$4347,"OUI"),INDEX(AE!E$3:E$4347,SMALL(IF(AE!$N$3:$N$4347="OUI",ROW(INDIRECT("1:"&ROWS(AE!$N$3:$N$4347)))),ROWS($3:5))),"")} | F5: {=IF(ROWS($3:5)<=COUNTIF(AE!$N$3:$N$4347,"OUI"),INDEX(AE!F$3:F$4347,SMALL(IF(AE!$N$3:$N$4347="OUI",ROW(INDIRECT("1:"&ROWS(AE!$N$3:$N$4347)))),ROWS($3:5))),"")}
A6: {=IF(ROWS($3:6)<=COUNTIF(AE!$N$3:$N$4347,"OUI"),INDEX(AE!A$3:A$4347,SMALL(IF(AE!$N$3:$N$4347="OUI",ROW(INDIRECT("1:"&ROWS(AE!$N$3:$N$4347)))),ROWS($3:6))),"")} | B6: {=IF(ROWS($3:6)<=COUNTIF(AE!$N$3:$N$4347,"OUI"),INDEX(AE!B$3:B$4347,SMALL(IF(AE!$N$3:$N$4347="OUI",ROW(INDIRECT("1:"&ROWS(AE!$N$3:$N$4347)))),ROWS($3:6))),"")} | C6: {=IF(ROWS($3:6)<=COUNTIF(AE!$N$3:$N$4347,"OUI"),INDEX(AE!C$3:C$4347,SMALL(IF(AE!$N$3:$N$4347="OUI",ROW(INDIRECT("1:"&ROWS(AE!$N$3:$N$4347)))),ROWS($3:6))),"")} | D6: {=IF(ROWS($3:6)<=COUNTIF(AE!$N$3:$N$4347,"OUI"),INDEX(AE!D$3:D$4347,SMALL(IF(AE!$N$3:$N$4347="OUI",ROW(INDIRECT("1:"&ROWS(AE!$N$3:$N$4347)))),ROWS($3:6))),"")} | E6: {=IF(ROWS($3:6)<=COUNTIF(AE!$N$3:$N$4347,"OUI"),INDEX(AE!E$3:E$4347,SMALL(IF(AE!$N$3:$N$4347="OUI",ROW(INDIRECT("1:"&ROWS(AE!$N$3:$N$4347)))),ROWS($3:6))),"")} | F6: {=IF(ROWS($3:6)<=COUNTIF(AE!$N$3:$N$4347,"OUI"),INDEX(AE!F$3:F$4347,SMALL(IF(AE!$N$3:$N$4347="OUI",ROW(INDIRECT("1:"&ROWS(AE!$N$3:$N$4347)))),ROWS($3:6))),"")}
A7: {=IF(ROWS($3:7)<=COUNTIF(AE!$N$3:$N$4347,"OUI"),INDEX(AE!A$3:A$4347,SMALL(IF(AE!$N$3:$N$4347="OUI",ROW(INDIRECT("1:"&ROWS(AE!$N$3:$N$4347)))),ROWS($3:7))),"")} | B7: {=IF(ROWS($3:7)<=COUNTIF(AE!$N$3:$N$4347,"OUI"),INDEX(AE!B$3:B$4347,SMALL(IF(AE!$N$3:$N$4347="OUI",ROW(INDIRECT("1:"&ROWS(AE!$N$3:$N$4347)))),ROWS($3:7))),"")} | C7: {=IF(ROWS($3:7)<=COUNTIF(AE!$N$3:$N$4347,"OUI"),INDEX(AE!C$3:C$4347,SMALL(IF(AE!$N$3:$N$4347="OUI",ROW(INDIRECT("1:"&ROWS(AE!$N$3:$N$4347)))),ROWS($3:7))),"")} | D7: {=IF(ROWS($3:7)<=COUNTIF(AE!$N$3:$N$4347,"OUI"),INDEX(AE!D$3:D$4347,SMALL(IF(AE!$N$3:$N$4347="OUI",ROW(INDIRECT("1:"&ROWS(AE!$N$3:$N$4347)))),ROWS($3:7))),"")} | E7: {=IF(ROWS($3:7)<=COUNTIF(AE!$N$3:$N$4347,"OUI"),INDEX(AE!E$3:E$4347,SMALL(IF(AE!$N$3:$N$4347="OUI",ROW(INDIRECT("1:"&ROWS(AE!$N$3:$N$4347)))),ROWS($3:7))),"")} | F7: {=IF(ROWS($3:7)<=COUNTIF(AE!$N$3:$N$4347,"OUI"),INDEX(AE!F$3:F$4347,SMALL(IF(AE!$N$3:$N$4347="OUI",ROW(INDIRECT("1:"&ROWS(AE!$N$3:$N$4347)))),ROWS($3:7))),"")}
A8: {=IF(ROWS($3:8)<=COUNTIF(AE!$N$3:$N$4347,"OUI"),INDEX(AE!A$3:A$4347,SMALL(IF(AE!$N$3:$N$4347="OUI",ROW(INDIRECT("1:"&ROWS(AE!$N$3:$N$4347)))),ROWS($3:8))),"")} | B8: {=IF(ROWS($3:8)<=COUNTIF(AE!$N$3:$N$4347,"OUI"),INDEX(AE!B$3:B$4347,SMALL(IF(AE!$N$3:$N$4347="OUI",ROW(INDIRECT("1:"&ROWS(AE!$N$3:$N$4347)))),ROWS($3:8))),"")} | C8: {=IF(ROWS($3:8)<=COUNTIF(AE!$N$3:$N$4347,"OUI"),INDEX(AE!C$3:C$4347,SMALL(IF(AE!$N$3:$N$4347="OUI",ROW(INDIRECT("1:"&ROWS(AE!$N$3:$N$4347)))),ROWS($3:8))),"")} | D8: {=IF(ROWS($3:8)<=COUNTIF(AE!$N$3:$N$4347,"OUI"),INDEX(AE!D$3:D$4347,SMALL(IF(AE!$N$3:$N$4347="OUI",ROW(INDIRECT("1:"&ROWS(AE!$N$3:$N$4347)))),ROWS($3:8))),"")} | E8: {=IF(ROWS($3:8)<=COUNTIF(AE!$N$3:$N$4347,"OUI"),INDEX(AE!E$3:E$4347,SMALL(IF(AE!$N$3:$N$4347="OUI",ROW(INDIRECT("1:"&ROWS(AE!$N$3:$N$4347)))),ROWS($3:8))),"")} | F8: {=IF(ROWS($3:8)<=COUNTIF(AE!$N$3:$N$4347,"OUI"),INDEX(AE!F$3:F$4347,SMALL(IF(AE!$N$3:$N$4347="OUI",ROW(INDIRECT("1:"&ROWS(AE!$N$3:$N$4347)))),ROWS($3:8))),"")}
A9: {=IF(ROWS($3:9)<=COUNTIF(AE!$N$3:$N$4347,"OUI"),INDEX(AE!A$3:A$4347,SMALL(IF(AE!$N$3:$N$4347="OUI",ROW(INDIRECT("1:"&ROWS(AE!$N$3:$N$4347)))),ROWS($3:9))),"")} | B9: {=IF(ROWS($3:9)<=COUNTIF(AE!$N$3:$N$4347,"OUI"),INDEX(AE!B$3:B$4347,SMALL(IF(AE!$N$3:$N$4347="OUI",ROW(INDIRECT("1:"&ROWS(AE!$N$3:$N$4347)))),ROWS($3:9))),"")} | C9: {=IF(ROWS($3:9)<=COUNTIF(AE!$N$3:$N$4347,"OUI"),INDEX(AE!C$3:C$4347,SMALL(IF(AE!$N$3:$N$4347="OUI",ROW(INDIRECT("1:"&ROWS(AE!$N$3:$N$4347)))),ROWS($3:9))),"")} | D9: {=IF(ROWS($3:9)<=COUNTIF(AE!$N$3:$N$4347,"OUI"),INDEX(AE!D$3:D$4347,SMALL(IF(AE!$N$3:$N$4347="OUI",ROW(INDIRECT("1:"&ROWS(AE!$N$3:$N$4347)))),ROWS($3:9))),"")} | E9: {=IF(ROWS($3:9)<=COUNTIF(AE!$N$3:$N$4347,"OUI"),INDEX(AE!E$3:E$4347,SMALL(IF(AE!$N$3:$N$4347="OUI",ROW(INDIRECT("1:"&ROWS(AE!$N$3:$N$4347)))),ROWS($3:9))),"")} | F9: {=IF(ROWS($3:9)<=COUNTIF(AE!$N$3:$N$4347,"OUI"),INDEX(AE!F$3:F$4347,SMALL(IF(AE!$N$3:$N$4347="OUI",ROW(INDIRECT("1:"&ROWS(AE!$N$3:$N$4347)))),ROWS($3:9))),"")}
A10: {=IF(ROWS($3:10)<=COUNTIF(AE!$N$3:$N$4347,"OUI"),INDEX(AE!A$3:A$4347,SMALL(IF(AE!$N$3:$N$4347="OUI",ROW(INDIRECT("1:"&ROWS(AE!$N$3:$N$4347)))),ROWS($3:10))),"")} | B10: {=IF(ROWS($3:10)<=COUNTIF(AE!$N$3:$N$4347,"OUI"),INDEX(AE!B$3:B$4347,SMALL(IF(AE!$N$3:$N$4347="OUI",ROW(INDIRECT("1:"&ROWS(AE!$N$3:$N$4347)))),ROWS($3:10))),"")} | C10: {=IF(ROWS($3:10)<=COUNTIF(AE!$N$3:$N$4347,"OUI"),INDEX(AE!C$3:C$4347,SMALL(IF(AE!$N$3:$N$4347="OUI",ROW(INDIRECT("1:"&ROWS(AE!$N$3:$N$4347)))),ROWS($3:10))),"")} | D10: {=IF(ROWS($3:10)<=COUNTIF(AE!$N$3:$N$4347,"OUI"),INDEX(AE!D$3:D$4347,SMALL(IF(AE!$N$3:$N$4347="OUI",ROW(INDIRECT("1:"&ROWS(AE!$N$3:$N$4347)))),ROWS($3:10))),"")} | E10: {=IF(ROWS($3:10)<=COUNTIF(AE!$N$3:$N$4347,"OUI"),INDEX(AE!E$3:E$4347,SMALL(IF(AE!$N$3:$N$4347="OUI",ROW(INDIRECT("1:"&ROWS(AE!$N$3:$N$4347)))),ROWS($3:10))),"")} | F10: {=IF(ROWS($3:10)<=COUNTIF(AE!$N$3:$N$4347,"OUI"),INDEX(AE!F$3:F$4347,SMALL(IF(AE!$N$3:$N$4347="OUI",ROW(INDIRECT("1:"&ROWS(AE!$N$3:$N$4347)))),ROWS($3:10))),"")}
A11: {=IF(ROWS($3:11)<=COUNTIF(AE!$N$3:$N$4347,"OUI"),INDEX(AE!A$3:A$4347,SMALL(IF(AE!$N$3:$N$4347="OUI",ROW(INDIRECT("1:"&ROWS(AE!$N$3:$N$4347)))),ROWS($3:11))),"")} | B11: {=IF(ROWS($3:11)<=COUNTIF(AE!$N$3:$N$4347,"OUI"),INDEX(AE!B$3:B$4347,SMALL(IF(AE!$N$3:$N$4347="OUI",ROW(INDIRECT("1:"&ROWS(AE!$N$3:$N$4347)))),ROWS($3:11))),"")} | C11: {=IF(ROWS($3:11)<=COUNTIF(AE!$N$3:$N$4347,"OUI"),INDEX(AE!C$3:C$4347,SMALL(IF(AE!$N$3:$N$4347="OUI",ROW(INDIRECT("1:"&ROWS(AE!$N$3:$N$4347)))),ROWS($3:11))),"")} | D11: {=IF(ROWS($3:11)<=COUNTIF(AE!$N$3:$N$4347,"OUI"),INDEX(AE!D$3:D$4347,SMALL(IF(AE!$N$3:$N$4347="OUI",ROW(INDIRECT("1:"&ROWS(AE!$N$3:$N$4347)))),ROWS($3:11))),"")} | E11: {=IF(ROWS($3:11)<=COUNTIF(AE!$N$3:$N$4347,"OUI"),INDEX(AE!E$3:E$4347,SMALL(IF(AE!$N$3:$N$4347="OUI",ROW(INDIRECT("1:"&ROWS(AE!$N$3:$N$4347)))),ROWS($3:11))),"")} | F11: {=IF(ROWS($3:11)<=COUNTIF(AE!$N$3:$N$4347,"OUI"),INDEX(AE!F$3:F$4347,SMALL(IF(AE!$N$3:$N$4347="OUI",ROW(INDIRECT("1:"&ROWS(AE!$N$3:$N$4347)))),ROWS($3:11))),"")}
A12: {=IF(ROWS($3:12)<=COUNTIF(AE!$N$3:$N$4347,"OUI"),INDEX(AE!A$3:A$4347,SMALL(IF(AE!$N$3:$N$4347="OUI",ROW(INDIRECT("1:"&ROWS(AE!$N$3:$N$4347)))),ROWS($3:12))),"")} | B12: {=IF(ROWS($3:12)<=COUNTIF(AE!$N$3:$N$4347,"OUI"),INDEX(AE!B$3:B$4347,SMALL(IF(AE!$N$3:$N$4347="OUI",ROW(INDIRECT("1:"&ROWS(AE!$N$3:$N$4347)))),ROWS($3:12))),"")} | C12: {=IF(ROWS($3:12)<=COUNTIF(AE!$N$3:$N$4347,"OUI"),INDEX(AE!C$3:C$4347,SMALL(IF(AE!$N$3:$N$4347="OUI",ROW(INDIRECT("1:"&ROWS(AE!$N$3:$N$4347)))),ROWS($3:12))),"")} | D12: {=IF(ROWS($3:12)<=COUNTIF(AE!$N$3:$N$4347,"OUI"),INDEX(AE!D$3:D$4347,SMALL(IF(AE!$N$3:$N$4347="OUI",ROW(INDIRECT("1:"&ROWS(AE!$N$3:$N$4347)))),ROWS($3:12))),"")} | E12: {=IF(ROWS($3:12)<=COUNTIF(AE!$N$3:$N$4347,"OUI"),INDEX(AE!E$3:E$4347,SMALL(IF(AE!$N$3:$N$4347="OUI",ROW(INDIRECT("1:"&ROWS(AE!$N$3:$N$4347)))),ROWS($3:12))),"")} | F12: {=IF(ROWS($3:12)<=COUNTIF(AE!$N$3:$N$4347,"OUI"),INDEX(AE!F$3:F$4347,SMALL(IF(AE!$N$3:$N$4347="OUI",ROW(INDIRECT("1:"&ROWS(AE!$N$3:$N$4347)))),ROWS($3:12))),"")}
A13: {=IF(ROWS($3:13)<=COUNTIF(AE!$N$3:$N$4347,"OUI"),INDEX(AE!A$3:A$4347,SMALL(IF(AE!$N$3:$N$4347="OUI",ROW(INDIRECT("1:"&ROWS(AE!$N$3:$N$4347)))),ROWS($3:13))),"")} | B13: {=IF(ROWS($3:13)<=COUNTIF(AE!$N$3:$N$4347,"OUI"),INDEX(AE!B$3:B$4347,SMALL(IF(AE!$N$3:$N$4347="OUI",ROW(INDIRECT("1:"&ROWS(AE!$N$3:$N$4347)))),ROWS($3:13))),"")} | C13: {=IF(ROWS($3:13)<=COUNTIF(AE!$N$3:$N$4347,"OUI"),INDEX(AE!C$3:C$4347,SMALL(IF(AE!$N$3:$N$4347="OUI",ROW(INDIRECT("1:"&ROWS(AE!$N$3:$N$4347)))),ROWS($3:13))),"")} | D13: {=IF(ROWS($3:13)<=COUNTIF(AE!$N$3:$N$4347,"OUI"),INDEX(AE!D$3:D$4347,SMALL(IF(AE!$N$3:$N$4347="OUI",ROW(INDIRECT("1:"&ROWS(AE!$N$3:$N$4347)))),ROWS($3:13))),"")} | E13: {=IF(ROWS($3:13)<=COUNTIF(AE!$N$3:$N$4347,"OUI"),INDEX(AE!E$3:E$4347,SMALL(IF(AE!$N$3:$N$4347="OUI",ROW(INDIRECT("1:"&ROWS(AE!$N$3:$N$4347)))),ROWS($3:13))),"")} | F13: {=IF(ROWS($3:13)<=COUNTIF(AE!$N$3:$N$4347,"OUI"),INDEX(AE!F$3:F$4347,SMALL(IF(AE!$N$3:$N$4347="OUI",ROW(INDIRECT("1:"&ROWS(AE!$N$3:$N$4347)))),ROWS($3:13))),"")}
A14: {=IF(ROWS($3:14)<=COUNTIF(AE!$N$3:$N$4347,"OUI"),INDEX(AE!A$3:A$4347,SMALL(IF(AE!$N$3:$N$4347="OUI",ROW(INDIRECT("1:"&ROWS(AE!$N$3:$N$4347)))),ROWS($3:14))),"")} | B14: {=IF(ROWS($3:14)<=COUNTIF(AE!$N$3:$N$4347,"OUI"),INDEX(AE!B$3:B$4347,SMALL(IF(AE!$N$3:$N$4347="OUI",ROW(INDIRECT("1:"&ROWS(AE!$N$3:$N$4347)))),ROWS($3:14))),"")} | C14: {=IF(ROWS($3:14)<=COUNTIF(AE!$N$3:$N$4347,"OUI"),INDEX(AE!C$3:C$4347,SMALL(IF(AE!$N$3:$N$4347="OUI",ROW(INDIRECT("1:"&ROWS(AE!$N$3:$N$4347)))),ROWS($3:14))),"")} | D14: {=IF(ROWS($3:14)<=COUNTIF(AE!$N$3:$N$4347,"OUI"),INDEX(AE!D$3:D$4347,SMALL(IF(AE!$N$3:$N$4347="OUI",ROW(INDIRECT("1:"&ROWS(AE!$N$3:$N$4347)))),ROWS($3:14))),"")} | E14: {=IF(ROWS($3:14)<=COUNTIF(AE!$N$3:$N$4347,"OUI"),INDEX(AE!E$3:E$4347,SMALL(IF(AE!$N$3:$N$4347="OUI",ROW(INDIRECT("1:"&ROWS(AE!$N$3:$N$4347)))),ROWS($3:14))),"")} | F14: {=IF(ROWS($3:14)<=COUNTIF(AE!$N$3:$N$4347,"OUI"),INDEX(AE!F$3:F$4347,SMALL(IF(AE!$N$3:$N$4347="OUI",ROW(INDIRECT("1:"&ROWS(AE!$N$3:$N$4347)))),ROWS($3:14))),"")}
A15: {=IF(ROWS($3:15)<=COUNTIF(AE!$N$3:$N$4347,"OUI"),INDEX(AE!A$3:A$4347,SMALL(IF(AE!$N$3:$N$4347="OUI",ROW(INDIRECT("1:"&ROWS(AE!$N$3:$N$4347)))),ROWS($3:15))),"")} | B15: {=IF(ROWS($3:15)<=COUNTIF(AE!$N$3:$N$4347,"OUI"),INDEX(AE!B$3:B$4347,SMALL(IF(AE!$N$3:$N$4347="OUI",ROW(INDIRECT("1:"&ROWS(AE!$N$3:$N$4347)))),ROWS($3:15))),"")} | C15: {=IF(ROWS($3:15)<=COUNTIF(AE!$N$3:$N$4347,"OUI"),INDEX(AE!C$3:C$4347,SMALL(IF(AE!$N$3:$N$4347="OUI",ROW(INDIRECT("1:"&ROWS(AE!$N$3:$N$4347)))),ROWS($3:15))),"")} | D15: {=IF(ROWS($3:15)<=COUNTIF(AE!$N$3:$N$4347,"OUI"),INDEX(AE!D$3:D$4347,SMALL(IF(AE!$N$3:$N$4347="OUI",ROW(INDIRECT("1:"&ROWS(AE!$N$3:$N$4347)))),ROWS($3:15))),"")} | E15: {=IF(ROWS($3:15)<=COUNTIF(AE!$N$3:$N$4347,"OUI"),INDEX(AE!E$3:E$4347,SMALL(IF(AE!$N$3:$N$4347="OUI",ROW(INDIRECT("1:"&ROWS(AE!$N$3:$N$4347)))),ROWS($3:15))),"")} | F15: {=IF(ROWS($3:15)<=COUNTIF(AE!$N$3:$N$4347,"OUI"),INDEX(AE!F$3:F$4347,SMALL(IF(AE!$N$3:$N$4347="OUI",ROW(INDIRECT("1:"&ROWS(AE!$N$3:$N$4347)))),ROWS($3:15))),"")}
A16: {=IF(ROWS($3:16)<=COUNTIF(AE!$N$3:$N$4347,"OUI"),INDEX(AE!A$3:A$4347,SMALL(IF(AE!$N$3:$N$4347="OUI",ROW(INDIRECT("1:"&ROWS(AE!$N$3:$N$4347)))),ROWS($3:16))),"")} | B16: {=IF(ROWS($3:16)<=COUNTIF(AE!$N$3:$N$4347,"OUI"),INDEX(AE!B$3:B$4347,SMALL(IF(AE!$N$3:$N$4347="OUI",ROW(INDIRECT("1:"&ROWS(AE!$N$3:$N$4347)))),ROWS($3:16))),"")} | C16: {=IF(ROWS($3:16)<=COUNTIF(AE!$N$3:$N$4347,"OUI"),INDEX(AE!C$3:C$4347,SMALL(IF(AE!$N$3:$N$4347="OUI",ROW(INDIRECT("1:"&ROWS(AE!$N$3:$N$4347)))),ROWS($3:16))),"")} | D16: {=IF(ROWS($3:16)<=COUNTIF(AE!$N$3:$N$4347,"OUI"),INDEX(AE!D$3:D$4347,SMALL(IF(AE!$N$3:$N$4347="OUI",ROW(INDIRECT("1:"&ROWS(AE!$N$3:$N$4347)))),ROWS($3:16))),"")} | E16: {=IF(ROWS($3:16)<=COUNTIF(AE!$N$3:$N$4347,"OUI"),INDEX(AE!E$3:E$4347,SMALL(IF(AE!$N$3:$N$4347="OUI",ROW(INDIRECT("1:"&ROWS(AE!$N$3:$N$4347)))),ROWS($3:16))),"")} | F16: {=IF(ROWS($3:16)<=COUNTIF(AE!$N$3:$N$4347,"OUI"),INDEX(AE!F$3:F$4347,SMALL(IF(AE!$N$3:$N$4347="OUI",ROW(INDIRECT("1:"&ROWS(AE!$N$3:$N$4347)))),ROWS($3:16))),"")}
A17: {=IF(ROWS($3:17)<=COUNTIF(AE!$N$3:$N$4347,"OUI"),INDEX(AE!A$3:A$4347,SMALL(IF(AE!$N$3:$N$4347="OUI",ROW(INDIRECT("1:"&ROWS(AE!$N$3:$N$4347)))),ROWS($3:17))),"")} | B17: {=IF(ROWS($3:17)<=COUNTIF(AE!$N$3:$N$4347,"OUI"),INDEX(AE!B$3:B$4347,SMALL(IF(AE!$N$3:$N$4347="OUI",ROW(INDIRECT("1:"&ROWS(AE!$N$3:$N$4347)))),ROWS($3:17))),"")} | C17: {=IF(ROWS($3:17)<=COUNTIF(AE!$N$3:$N$4347,"OUI"),INDEX(AE!C$3:C$4347,SMALL(IF(AE!$N$3:$N$4347="OUI",ROW(INDIRECT("1:"&ROWS(AE!$N$3:$N$4347)))),ROWS($3:17))),"")} | D17: {=IF(ROWS($3:17)<=COUNTIF(AE!$N$3:$N$4347,"OUI"),INDEX(AE!D$3:D$4347,SMALL(IF(AE!$N$3:$N$4347="OUI",ROW(INDIRECT("1:"&ROWS(AE!$N$3:$N$4347)))),ROWS($3:17))),"")} | E17: {=IF(ROWS($3:17)<=COUNTIF(AE!$N$3:$N$4347,"OUI"),INDEX(AE!E$3:E$4347,SMALL(IF(AE!$N$3:$N$4347="OUI",ROW(INDIRECT("1:"&ROWS(AE!$N$3:$N$4347)))),ROWS($3:17))),"")} | F17: {=IF(ROWS($3:17)<=COUNTIF(AE!$N$3:$N$4347,"OUI"),INDEX(AE!F$3:F$4347,SMALL(IF(AE!$N$3:$N$4347="OUI",ROW(INDIRECT("1:"&ROWS(AE!$N$3:$N$4347)))),ROWS($3:17))),"")}
A18: {=IF(ROWS($3:18)<=COUNTIF(AE!$N$3:$N$4347,"OUI"),INDEX(AE!A$3:A$4347,SMALL(IF(AE!$N$3:$N$4347="OUI",ROW(INDIRECT("1:"&ROWS(AE!$N$3:$N$4347)))),ROWS($3:18))),"")} | B18: {=IF(ROWS($3:18)<=COUNTIF(AE!$N$3:$N$4347,"OUI"),INDEX(AE!B$3:B$4347,SMALL(IF(AE!$N$3:$N$4347="OUI",ROW(INDIRECT("1:"&ROWS(AE!$N$3:$N$4347)))),ROWS($3:18))),"")} | C18: {=IF(ROWS($3:18)<=COUNTIF(AE!$N$3:$N$4347,"OUI"),INDEX(AE!C$3:C$4347,SMALL(IF(AE!$N$3:$N$4347="OUI",ROW(INDIRECT("1:"&ROWS(AE!$N$3:$N$4347)))),ROWS($3:18))),"")} | D18: {=IF(ROWS($3:18)<=COUNTIF(AE!$N$3:$N$4347,"OUI"),INDEX(AE!D$3:D$4347,SMALL(IF(AE!$N$3:$N$4347="OUI",ROW(INDIRECT("1:"&ROWS(AE!$N$3:$N$4347)))),ROWS($3:18))),"")} | E18: {=IF(ROWS($3:18)<=COUNTIF(AE!$N$3:$N$4347,"OUI"),INDEX(AE!E$3:E$4347,SMALL(IF(AE!$N$3:$N$4347="OUI",ROW(INDIRECT("1:"&ROWS(AE!$N$3:$N$4347)))),ROWS($3:18))),"")} | F18: {=IF(ROWS($3:18)<=COUNTIF(AE!$N$3:$N$4347,"OUI"),INDEX(AE!F$3:F$4347,SMALL(IF(AE!$N$3:$N$4347="OUI",ROW(INDIRECT("1:"&ROWS(AE!$N$3:$N$4347)))),ROWS($3:18))),"")}
A19: {=IF(ROWS($3:19)<=COUNTIF(AE!$N$3:$N$4347,"OUI"),INDEX(AE!A$3:A$4347,SMALL(IF(AE!$N$3:$N$4347="OUI",ROW(INDIRECT("1:"&ROWS(AE!$N$3:$N$4347)))),ROWS($3:19))),"")} | B19: {=IF(ROWS($3:19)<=COUNTIF(AE!$N$3:$N$4347,"OUI"),INDEX(AE!B$3:B$4347,SMALL(IF(AE!$N$3:$N$4347="OUI",ROW(INDIRECT("1:"&ROWS(AE!$N$3:$N$4347)))),ROWS($3:19))),"")} | C19: {=IF(ROWS($3:19)<=COUNTIF(AE!$N$3:$N$4347,"OUI"),INDEX(AE!C$3:C$4347,SMALL(IF(AE!$N$3:$N$4347="OUI",ROW(INDIRECT("1:"&ROWS(AE!$N$3:$N$4347)))),ROWS($3:19))),"")} | D19: {=IF(ROWS($3:19)<=COUNTIF(AE!$N$3:$N$4347,"OUI"),INDEX(AE!D$3:D$4347,SMALL(IF(AE!$N$3:$N$4347="OUI",ROW(INDIRECT("1:"&ROWS(AE!$N$3:$N$4347)))),ROWS($3:19))),"")} | E19: {=IF(ROWS($3:19)<=COUNTIF(AE!$N$3:$N$4347,"OUI"),INDEX(AE!E$3:E$4347,SMALL(IF(AE!$N$3:$N$4347="OUI",ROW(INDIRECT("1:"&ROWS(AE!$N$3:$N$4347)))),ROWS($3:19))),"")} | F19: {=IF(ROWS($3:19)<=COUNTIF(AE!$N$3:$N$4347,"OUI"),INDEX(AE!F$3:F$4347,SMALL(IF(AE!$N$3:$N$4347="OUI",ROW(INDIRECT("1:"&ROWS(AE!$N$3:$N$4347)))),ROWS($3:19))),"")}
A20: {=IF(ROWS($3:20)<=COUNTIF(AE!$N$3:$N$4347,"OUI"),INDEX(AE!A$3:A$4347,SMALL(IF(AE!$N$3:$N$4347="OUI",ROW(INDIRECT("1:"&ROWS(AE!$N$3:$N$4347)))),ROWS($3:20))),"")} | B20: {=IF(ROWS($3:20)<=COUNTIF(AE!$N$3:$N$4347,"OUI"),INDEX(AE!B$3:B$4347,SMALL(IF(AE!$N$3:$N$4347="OUI",ROW(INDIRECT("1:"&ROWS(AE!$N$3:$N$4347)))),ROWS($3:20))),"")} | C20: {=IF(ROWS($3:20)<=COUNTIF(AE!$N$3:$N$4347,"OUI"),INDEX(AE!C$3:C$4347,SMALL(IF(AE!$N$3:$N$4347="OUI",ROW(INDIRECT("1:"&ROWS(AE!$N$3:$N$4347)))),ROWS($3:20))),"")} | D20: {=IF(ROWS($3:20)<=COUNTIF(AE!$N$3:$N$4347,"OUI"),INDEX(AE!D$3:D$4347,SMALL(IF(AE!$N$3:$N$4347="OUI",ROW(INDIRECT("1:"&ROWS(AE!$N$3:$N$4347)))),ROWS($3:20))),"")} | E20: {=IF(ROWS($3:20)<=COUNTIF(AE!$N$3:$N$4347,"OUI"),INDEX(AE!E$3:E$4347,SMALL(IF(AE!$N$3:$N$4347="OUI",ROW(INDIRECT("1:"&ROWS(AE!$N$3:$N$4347)))),ROWS($3:20))),"")} | F20: {=IF(ROWS($3:20)<=COUNTIF(AE!$N$3:$N$4347,"OUI"),INDEX(AE!F$3:F$4347,SMALL(IF(AE!$N$3:$N$4347="OUI",ROW(INDIRECT("1:"&ROWS(AE!$N$3:$N$4347)))),ROWS($3:20))),"")}
A21: {=IF(ROWS($3:21)<=COUNTIF(AE!$N$3:$N$4347,"OUI"),INDEX(AE!A$3:A$4347,SMALL(IF(AE!$N$3:$N$4347="OUI",ROW(INDIRECT("1:"&ROWS(AE!$N$3:$N$4347)))),ROWS($3:21))),"")} | B21: {=IF(ROWS($3:21)<=COUNTIF(AE!$N$3:$N$4347,"OUI"),INDEX(AE!B$3:B$4347,SMALL(IF(AE!$N$3:$N$4347="OUI",ROW(INDIRECT("1:"&ROWS(AE!$N$3:$N$4347)))),ROWS($3:21))),"")} | C21: {=IF(ROWS($3:21)<=COUNTIF(AE!$N$3:$N$4347,"OUI"),INDEX(AE!C$3:C$4347,SMALL(IF(AE!$N$3:$N$4347="OUI",ROW(INDIRECT("1:"&ROWS(AE!$N$3:$N$4347)))),ROWS($3:21))),"")} | D21: {=IF(ROWS($3:21)<=COUNTIF(AE!$N$3:$N$4347,"OUI"),INDEX(AE!D$3:D$4347,SMALL(IF(AE!$N$3:$N$4347="OUI",ROW(INDIRECT("1:"&ROWS(AE!$N$3:$N$4347)))),ROWS($3:21))),"")} | E21: {=IF(ROWS($3:21)<=COUNTIF(AE!$N$3:$N$4347,"OUI"),INDEX(AE!E$3:E$4347,SMALL(IF(AE!$N$3:$N$4347="OUI",ROW(INDIRECT("1:"&ROWS(AE!$N$3:$N$4347)))),ROWS($3:21))),"")} | F21: {=IF(ROWS($3:21)<=COUNTIF(AE!$N$3:$N$4347,"OUI"),INDEX(AE!F$3:F$4347,SMALL(IF(AE!$N$3:$N$4347="OUI",ROW(INDIRECT("1:"&ROWS(AE!$N$3:$N$4347)))),ROWS($3:21))),"")}
A22: {=IF(ROWS($3:22)<=COUNTIF(AE!$N$3:$N$4347,"OUI"),INDEX(AE!A$3:A$4347,SMALL(IF(AE!$N$3:$N$4347="OUI",ROW(INDIRECT("1:"&ROWS(AE!$N$3:$N$4347)))),ROWS($3:22))),"")} | B22: {=IF(ROWS($3:22)<=COUNTIF(AE!$N$3:$N$4347,"OUI"),INDEX(AE!B$3:B$4347,SMALL(IF(AE!$N$3:$N$4347="OUI",ROW(INDIRECT("1:"&ROWS(AE!$N$3:$N$4347)))),ROWS($3:22))),"")} | C22: {=IF(ROWS($3:22)<=COUNTIF(AE!$N$3:$N$4347,"OUI"),INDEX(AE!C$3:C$4347,SMALL(IF(AE!$N$3:$N$4347="OUI",ROW(INDIRECT("1:"&ROWS(AE!$N$3:$N$4347)))),ROWS($3:22))),"")} | D22: {=IF(ROWS($3:22)<=COUNTIF(AE!$N$3:$N$4347,"OUI"),INDEX(AE!D$3:D$4347,SMALL(IF(AE!$N$3:$N$4347="OUI",ROW(INDIRECT("1:"&ROWS(AE!$N$3:$N$4347)))),ROWS($3:22))),"")} | E22: {=IF(ROWS($3:22)<=COUNTIF(AE!$N$3:$N$4347,"OUI"),INDEX(AE!E$3:E$4347,SMALL(IF(AE!$N$3:$N$4347="OUI",ROW(INDIRECT("1:"&ROWS(AE!$N$3:$N$4347)))),ROWS($3:22))),"")} | F22: {=IF(ROWS($3:22)<=COUNTIF(AE!$N$3:$N$4347,"OUI"),INDEX(AE!F$3:F$4347,SMALL(IF(AE!$N$3:$N$4347="OUI",ROW(INDIRECT("1:"&ROWS(AE!$N$3:$N$4347)))),ROWS($3:22))),"")}
A23: {=IF(ROWS($3:23)<=COUNTIF(AE!$N$3:$N$4347,"OUI"),INDEX(AE!A$3:A$4347,SMALL(IF(AE!$N$3:$N$4347="OUI",ROW(INDIRECT("1:"&ROWS(AE!$N$3:$N$4347)))),ROWS($3:23))),"")} | B23: {=IF(ROWS($3:23)<=COUNTIF(AE!$N$3:$N$4347,"OUI"),INDEX(AE!B$3:B$4347,SMALL(IF(AE!$N$3:$N$4347="OUI",ROW(INDIRECT("1:"&ROWS(AE!$N$3:$N$4347)))),ROWS($3:23))),"")} | C23: {=IF(ROWS($3:23)<=COUNTIF(AE!$N$3:$N$4347,"OUI"),INDEX(AE!C$3:C$4347,SMALL(IF(AE!$N$3:$N$4347="OUI",ROW(INDIRECT("1:"&ROWS(AE!$N$3:$N$4347)))),ROWS($3:23))),"")} | D23: {=IF(ROWS($3:23)<=COUNTIF(AE!$N$3:$N$4347,"OUI"),INDEX(AE!D$3:D$4347,SMALL(IF(AE!$N$3:$N$4347="OUI",ROW(INDIRECT("1:"&ROWS(AE!$N$3:$N$4347)))),ROWS($3:23))),"")} | E23: {=IF(ROWS($3:23)<=COUNTIF(AE!$N$3:$N$4347,"OUI"),INDEX(AE!E$3:E$4347,SMALL(IF(AE!$N$3:$N$4347="OUI",ROW(INDIRECT("1:"&ROWS(AE!$N$3:$N$4347)))),ROWS($3:23))),"")} | F23: {=IF(ROWS($3:23)<=COUNTIF(AE!$N$3:$N$4347,"OUI"),INDEX(AE!F$3:F$4347,SMALL(IF(AE!$N$3:$N$4347="OUI",ROW(INDIRECT("1:"&ROWS(AE!$N$3:$N$4347)))),ROWS($3:23))),"")}
A24: {=IF(ROWS($3:24)<=COUNTIF(AE!$N$3:$N$4347,"OUI"),INDEX(AE!A$3:A$4347,SMALL(IF(AE!$N$3:$N$4347="OUI",ROW(INDIRECT("1:"&ROWS(AE!$N$3:$N$4347)))),ROWS($3:24))),"")} | B24: {=IF(ROWS($3:24)<=COUNTIF(AE!$N$3:$N$4347,"OUI"),INDEX(AE!B$3:B$4347,SMALL(IF(AE!$N$3:$N$4347="OUI",ROW(INDIRECT("1:"&ROWS(AE!$N$3:$N$4347)))),ROWS($3:24))),"")} | C24: {=IF(ROWS($3:24)<=COUNTIF(AE!$N$3:$N$4347,"OUI"),INDEX(AE!C$3:C$4347,SMALL(IF(AE!$N$3:$N$4347="OUI",ROW(INDIRECT("1:"&ROWS(AE!$N$3:$N$4347)))),ROWS($3:24))),"")} | D24: {=IF(ROWS($3:24)<=COUNTIF(AE!$N$3:$N$4347,"OUI"),INDEX(AE!D$3:D$4347,SMALL(IF(AE!$N$3:$N$4347="OUI",ROW(INDIRECT("1:"&ROWS(AE!$N$3:$N$4347)))),ROWS($3:24))),"")} | E24: {=IF(ROWS($3:24)<=COUNTIF(AE!$N$3:$N$4347,"OUI"),INDEX(AE!E$3:E$4347,SMALL(IF(AE!$N$3:$N$4347="OUI",ROW(INDIRECT("1:"&ROWS(AE!$N$3:$N$4347)))),ROWS($3:24))),"")} | F24: {=IF(ROWS($3:24)<=COUNTIF(AE!$N$3:$N$4347,"OUI"),INDEX(AE!F$3:F$4347,SMALL(IF(AE!$N$3:$N$4347="OUI",ROW(INDIRECT("1:"&ROWS(AE!$N$3:$N$4347)))),ROWS($3:24))),"")}
A25: {=IF(ROWS($3:25)<=COUNTIF(AE!$N$3:$N$4347,"OUI"),INDEX(AE!A$3:A$4347,SMALL(IF(AE!$N$3:$N$4347="OUI",ROW(INDIRECT("1:"&ROWS(AE!$N$3:$N$4347)))),ROWS($3:25))),"")} | B25: {=IF(ROWS($3:25)<=COUNTIF(AE!$N$3:$N$4347,"OUI"),INDEX(AE!B$3:B$4347,SMALL(IF(AE!$N$3:$N$4347="OUI",ROW(INDIRECT("1:"&ROWS(AE!$N$3:$N$4347)))),ROWS($3:25))),"")} | C25: {=IF(ROWS($3:25)<=COUNTIF(AE!$N$3:$N$4347,"OUI"),INDEX(AE!C$3:C$4347,SMALL(IF(AE!$N$3:$N$4347="OUI",ROW(INDIRECT("1:"&ROWS(AE!$N$3:$N$4347)))),ROWS($3:25))),"")} | D25: {=IF(ROWS($3:25)<=COUNTIF(AE!$N$3:$N$4347,"OUI"),INDEX(AE!D$3:D$4347,SMALL(IF(AE!$N$3:$N$4347="OUI",ROW(INDIRECT("1:"&ROWS(AE!$N$3:$N$4347)))),ROWS($3:25))),"")} | E25: {=IF(ROWS($3:25)<=COUNTIF(AE!$N$3:$N$4347,"OUI"),INDEX(AE!E$3:E$4347,SMALL(IF(AE!$N$3:$N$4347="OUI",ROW(INDIRECT("1:"&ROWS(AE!$N$3:$N$4347)))),ROWS($3:25))),"")} | F25: {=IF(ROWS($3:25)<=COUNTIF(AE!$N$3:$N$4347,"OUI"),INDEX(AE!F$3:F$4347,SMALL(IF(AE!$N$3:$N$4347="OUI",ROW(INDIRECT("1:"&ROWS(AE!$N$3:$N$4347)))),ROWS($3:25))),"")}
A26: {=IF(ROWS($3:26)<=COUNTIF(AE!$N$3:$N$4347,"OUI"),INDEX(AE!A$3:A$4347,SMALL(IF(AE!$N$3:$N$4347="OUI",ROW(INDIRECT("1:"&ROWS(AE!$N$3:$N$4347)))),ROWS($3:26))),"")} | B26: {=IF(ROWS($3:26)<=COUNTIF(AE!$N$3:$N$4347,"OUI"),INDEX(AE!B$3:B$4347,SMALL(IF(AE!$N$3:$N$4347="OUI",ROW(INDIRECT("1:"&ROWS(AE!$N$3:$N$4347)))),ROWS($3:26))),"")} | C26: {=IF(ROWS($3:26)<=COUNTIF(AE!$N$3:$N$4347,"OUI"),INDEX(AE!C$3:C$4347,SMALL(IF(AE!$N$3:$N$4347="OUI",ROW(INDIRECT("1:"&ROWS(AE!$N$3:$N$4347)))),ROWS($3:26))),"")} | D26: {=IF(ROWS($3:26)<=COUNTIF(AE!$N$3:$N$4347,"OUI"),INDEX(AE!D$3:D$4347,SMALL(IF(AE!$N$3:$N$4347="OUI",ROW(INDIRECT("1:"&ROWS(AE!$N$3:$N$4347)))),ROWS($3:26))),"")} | E26: {=IF(ROWS($3:26)<=COUNTIF(AE!$N$3:$N$4347,"OUI"),INDEX(AE!E$3:E$4347,SMALL(IF(AE!$N$3:$N$4347="OUI",ROW(INDIRECT("1:"&ROWS(AE!$N$3:$N$4347)))),ROWS($3:26))),"")} | F26: {=IF(ROWS($3:26)<=COUNTIF(AE!$N$3:$N$4347,"OUI"),INDEX(AE!F$3:F$4347,SMALL(IF(AE!$N$3:$N$4347="OUI",ROW(INDIRECT("1:"&ROWS(AE!$N$3:$N$4347)))),ROWS($3:26))),"")}
A27: {=IF(ROWS($3:27)<=COUNTIF(AE!$N$3:$N$4347,"OUI"),INDEX(AE!A$3:A$4347,SMALL(IF(AE!$N$3:$N$4347="OUI",ROW(INDIRECT("1:"&ROWS(AE!$N$3:$N$4347)))),ROWS($3:27))),"")} | B27: {=IF(ROWS($3:27)<=COUNTIF(AE!$N$3:$N$4347,"OUI"),INDEX(AE!B$3:B$4347,SMALL(IF(AE!$N$3:$N$4347="OUI",ROW(INDIRECT("1:"&ROWS(AE!$N$3:$N$4347)))),ROWS($3:27))),"")} | C27: {=IF(ROWS($3:27)<=COUNTIF(AE!$N$3:$N$4347,"OUI"),INDEX(AE!C$3:C$4347,SMALL(IF(AE!$N$3:$N$4347="OUI",ROW(INDIRECT("1:"&ROWS(AE!$N$3:$N$4347)))),ROWS($3:27))),"")} | D27: {=IF(ROWS($3:27)<=COUNTIF(AE!$N$3:$N$4347,"OUI"),INDEX(AE!D$3:D$4347,SMALL(IF(AE!$N$3:$N$4347="OUI",ROW(INDIRECT("1:"&ROWS(AE!$N$3:$N$4347)))),ROWS($3:27))),"")} | E27: {=IF(ROWS($3:27)<=COUNTIF(AE!$N$3:$N$4347,"OUI"),INDEX(AE!E$3:E$4347,SMALL(IF(AE!$N$3:$N$4347="OUI",ROW(INDIRECT("1:"&ROWS(AE!$N$3:$N$4347)))),ROWS($3:27))),"")} | F27: {=IF(ROWS($3:27)<=COUNTIF(AE!$N$3:$N$4347,"OUI"),INDEX(AE!F$3:F$4347,SMALL(IF(AE!$N$3:$N$4347="OUI",ROW(INDIRECT("1:"&ROWS(AE!$N$3:$N$4347)))),ROWS($3:27))),"")}
A28: {=IF(ROWS($3:28)<=COUNTIF(AE!$N$3:$N$4347,"OUI"),INDEX(AE!A$3:A$4347,SMALL(IF(AE!$N$3:$N$4347="OUI",ROW(INDIRECT("1:"&ROWS(AE!$N$3:$N$4347)))),ROWS($3:28))),"")} | B28: {=IF(ROWS($3:28)<=COUNTIF(AE!$N$3:$N$4347,"OUI"),INDEX(AE!B$3:B$4347,SMALL(IF(AE!$N$3:$N$4347="OUI",ROW(INDIRECT("1:"&ROWS(AE!$N$3:$N$4347)))),ROWS($3:28))),"")} | C28: {=IF(ROWS($3:28)<=COUNTIF(AE!$N$3:$N$4347,"OUI"),INDEX(AE!C$3:C$4347,SMALL(IF(AE!$N$3:$N$4347="OUI",ROW(INDIRECT("1:"&ROWS(AE!$N$3:$N$4347)))),ROWS($3:28))),"")} | D28: {=IF(ROWS($3:28)<=COUNTIF(AE!$N$3:$N$4347,"OUI"),INDEX(AE!D$3:D$4347,SMALL(IF(AE!$N$3:$N$4347="OUI",ROW(INDIRECT("1:"&ROWS(AE!$N$3:$N$4347)))),ROWS($3:28))),"")} | E28: {=IF(ROWS($3:28)<=COUNTIF(AE!$N$3:$N$4347,"OUI"),INDEX(AE!E$3:E$4347,SMALL(IF(AE!$N$3:$N$4347="OUI",ROW(INDIRECT("1:"&ROWS(AE!$N$3:$N$4347)))),ROWS($3:28))),"")} | F28: {=IF(ROWS($3:28)<=COUNTIF(AE!$N$3:$N$4347,"OUI"),INDEX(AE!F$3:F$4347,SMALL(IF(AE!$N$3:$N$4347="OUI",ROW(INDIRECT("1:"&ROWS(AE!$N$3:$N$4347)))),ROWS($3:28))),"")}
A29: {=IF(ROWS($3:29)<=COUNTIF(AE!$N$3:$N$4347,"OUI"),INDEX(AE!A$3:A$4347,SMALL(IF(AE!$N$3:$N$4347="OUI",ROW(INDIRECT("1:"&ROWS(AE!$N$3:$N$4347)))),ROWS($3:29))),"")} | B29: {=IF(ROWS($3:29)<=COUNTIF(AE!$N$3:$N$4347,"OUI"),INDEX(AE!B$3:B$4347,SMALL(IF(AE!$N$3:$N$4347="OUI",ROW(INDIRECT("1:"&ROWS(AE!$N$3:$N$4347)))),ROWS($3:29))),"")} | C29: {=IF(ROWS($3:29)<=COUNTIF(AE!$N$3:$N$4347,"OUI"),INDEX(AE!C$3:C$4347,SMALL(IF(AE!$N$3:$N$4347="OUI",ROW(INDIRECT("1:"&ROWS(AE!$N$3:$N$4347)))),ROWS($3:29))),"")} | D29: {=IF(ROWS($3:29)<=COUNTIF(AE!$N$3:$N$4347,"OUI"),INDEX(AE!D$3:D$4347,SMALL(IF(AE!$N$3:$N$4347="OUI",ROW(INDIRECT("1:"&ROWS(AE!$N$3:$N$4347)))),ROWS($3:29))),"")} | E29: {=IF(ROWS($3:29)<=COUNTIF(AE!$N$3:$N$4347,"OUI"),INDEX(AE!E$3:E$4347,SMALL(IF(AE!$N$3:$N$4347="OUI",ROW(INDIRECT("1:"&ROWS(AE!$N$3:$N$4347)))),ROWS($3:29))),"")} | F29: {=IF(ROWS($3:29)<=COUNTIF(AE!$N$3:$N$4347,"OUI"),INDEX(AE!F$3:F$4347,SMALL(IF(AE!$N$3:$N$4347="OUI",ROW(INDIRECT("1:"&ROWS(AE!$N$3:$N$4347)))),ROWS($3:29))),"")}
A30: {=IF(ROWS($3:30)<=COUNTIF(AE!$N$3:$N$4347,"OUI"),INDEX(AE!A$3:A$4347,SMALL(IF(AE!$N$3:$N$4347="OUI",ROW(INDIRECT("1:"&ROWS(AE!$N$3:$N$4347)))),ROWS($3:30))),"")} | B30: {=IF(ROWS($3:30)<=COUNTIF(AE!$N$3:$N$4347,"OUI"),INDEX(AE!B$3:B$4347,SMALL(IF(AE!$N$3:$N$4347="OUI",ROW(INDIRECT("1:"&ROWS(AE!$N$3:$N$4347)))),ROWS($3:30))),"")} | C30: {=IF(ROWS($3:30)<=COUNTIF(AE!$N$3:$N$4347,"OUI"),INDEX(AE!C$3:C$4347,SMALL(IF(AE!$N$3:$N$4347="OUI",ROW(INDIRECT("1:"&ROWS(AE!$N$3:$N$4347)))),ROWS($3:30))),"")} | D30: {=IF(ROWS($3:30)<=COUNTIF(AE!$N$3:$N$4347,"OUI"),INDEX(AE!D$3:D$4347,SMALL(IF(AE!$N$3:$N$4347="OUI",ROW(INDIRECT("1:"&ROWS(AE!$N$3:$N$4347)))),ROWS($3:30))),"")} | E30: {=IF(ROWS($3:30)<=COUNTIF(AE!$N$3:$N$4347,"OUI"),INDEX(AE!E$3:E$4347,SMALL(IF(AE!$N$3:$N$4347="OUI",ROW(INDIRECT("1:"&ROWS(AE!$N$3:$N$4347)))),ROWS($3:30))),"")} | F30: {=IF(ROWS($3:30)<=COUNTIF(AE!$N$3:$N$4347,"OUI"),INDEX(AE!F$3:F$4347,SMALL(IF(AE!$N$3:$N$4347="OUI",ROW(INDIRECT("1:"&ROWS(AE!$N$3:$N$4347)))),ROWS($3:30))),"")}
A31: {=IF(ROWS($3:31)<=COUNTIF(AE!$N$3:$N$4347,"OUI"),INDEX(AE!A$3:A$4347,SMALL(IF(AE!$N$3:$N$4347="OUI",ROW(INDIRECT("1:"&ROWS(AE!$N$3:$N$4347)))),ROWS($3:31))),"")} | B31: {=IF(ROWS($3:31)<=COUNTIF(AE!$N$3:$N$4347,"OUI"),INDEX(AE!B$3:B$4347,SMALL(IF(AE!$N$3:$N$4347="OUI",ROW(INDIRECT("1:"&ROWS(AE!$N$3:$N$4347)))),ROWS($3:31))),"")} | C31: {=IF(ROWS($3:31)<=COUNTIF(AE!$N$3:$N$4347,"OUI"),INDEX(AE!C$3:C$4347,SMALL(IF(AE!$N$3:$N$4347="OUI",ROW(INDIRECT("1:"&ROWS(AE!$N$3:$N$4347)))),ROWS($3:31))),"")} | D31: {=IF(ROWS($3:31)<=COUNTIF(AE!$N$3:$N$4347,"OUI"),INDEX(AE!D$3:D$4347,SMALL(IF(AE!$N$3:$N$4347="OUI",ROW(INDIRECT("1:"&ROWS(AE!$N$3:$N$4347)))),ROWS($3:31))),"")} | E31: {=IF(ROWS($3:31)<=COUNTIF(AE!$N$3:$N$4347,"OUI"),INDEX(AE!E$3:E$4347,SMALL(IF(AE!$N$3:$N$4347="OUI",ROW(INDIRECT("1:"&ROWS(AE!$N$3:$N$4347)))),ROWS($3:31))),"")} | F31: {=IF(ROWS($3:31)<=COUNTIF(AE!$N$3:$N$4347,"OUI"),INDEX(AE!F$3:F$4347,SMALL(IF(AE!$N$3:$N$4347="OUI",ROW(INDIRECT("1:"&ROWS(AE!$N$3:$N$4347)))),ROWS($3:31))),"")}
A32: {=IF(ROWS($3:32)<=COUNTIF(AE!$N$3:$N$4347,"OUI"),INDEX(AE!A$3:A$4347,SMALL(IF(AE!$N$3:$N$4347="OUI",ROW(INDIRECT("1:"&ROWS(AE!$N$3:$N$4347)))),ROWS($3:32))),"")} | B32: {=IF(ROWS($3:32)<=COUNTIF(AE!$N$3:$N$4347,"OUI"),INDEX(AE!B$3:B$4347,SMALL(IF(AE!$N$3:$N$4347="OUI",ROW(INDIRECT("1:"&ROWS(AE!$N$3:$N$4347)))),ROWS($3:32))),"")} | C32: {=IF(ROWS($3:32)<=COUNTIF(AE!$N$3:$N$4347,"OUI"),INDEX(AE!C$3:C$4347,SMALL(IF(AE!$N$3:$N$4347="OUI",ROW(INDIRECT("1:"&ROWS(AE!$N$3:$N$4347)))),ROWS($3:32))),"")} | D32: {=IF(ROWS($3:32)<=COUNTIF(AE!$N$3:$N$4347,"OUI"),INDEX(AE!D$3:D$4347,SMALL(IF(AE!$N$3:$N$4347="OUI",ROW(INDIRECT("1:"&ROWS(AE!$N$3:$N$4347)))),ROWS($3:32))),"")} | E32: {=IF(ROWS($3:32)<=COUNTIF(AE!$N$3:$N$4347,"OUI"),INDEX(AE!E$3:E$4347,SMALL(IF(AE!$N$3:$N$4347="OUI",ROW(INDIRECT("1:"&ROWS(AE!$N$3:$N$4347)))),ROWS($3:32))),"")} | F32: {=IF(ROWS($3:32)<=COUNTIF(AE!$N$3:$N$4347,"OUI"),INDEX(AE!F$3:F$4347,SMALL(IF(AE!$N$3:$N$4347="OUI",ROW(INDIRECT("1:"&ROWS(AE!$N$3:$N$4347)))),ROWS($3:32))),"")}
A33: {=IF(ROWS($3:33)<=COUNTIF(AE!$N$3:$N$4347,"OUI"),INDEX(AE!A$3:A$4347,SMALL(IF(AE!$N$3:$N$4347="OUI",ROW(INDIRECT("1:"&ROWS(AE!$N$3:$N$4347)))),ROWS($3:33))),"")} | B33: {=IF(ROWS($3:33)<=COUNTIF(AE!$N$3:$N$4347,"OUI"),INDEX(AE!B$3:B$4347,SMALL(IF(AE!$N$3:$N$4347="OUI",ROW(INDIRECT("1:"&ROWS(AE!$N$3:$N$4347)))),ROWS($3:33))),"")} | C33: {=IF(ROWS($3:33)<=COUNTIF(AE!$N$3:$N$4347,"OUI"),INDEX(AE!C$3:C$4347,SMALL(IF(AE!$N$3:$N$4347="OUI",ROW(INDIRECT("1:"&ROWS(AE!$N$3:$N$4347)))),ROWS($3:33))),"")} | D33: {=IF(ROWS($3:33)<=COUNTIF(AE!$N$3:$N$4347,"OUI"),INDEX(AE!D$3:D$4347,SMALL(IF(AE!$N$3:$N$4347="OUI",ROW(INDIRECT("1:"&ROWS(AE!$N$3:$N$4347)))),ROWS($3:33))),"")} | E33: {=IF(ROWS($3:33)<=COUNTIF(AE!$N$3:$N$4347,"OUI"),INDEX(AE!E$3:E$4347,SMALL(IF(AE!$N$3:$N$4347="OUI",ROW(INDIRECT("1:"&ROWS(AE!$N$3:$N$4347)))),ROWS($3:33))),"")} | F33: {=IF(ROWS($3:33)<=COUNTIF(AE!$N$3:$N$4347,"OUI"),INDEX(AE!F$3:F$4347,SMALL(IF(AE!$N$3:$N$4347="OUI",ROW(INDIRECT("1:"&ROWS(AE!$N$3:$N$4347)))),ROWS($3:33))),"")}
A34: {=IF(ROWS($3:34)<=COUNTIF(AE!$N$3:$N$4347,"OUI"),INDEX(AE!A$3:A$4347,SMALL(IF(AE!$N$3:$N$4347="OUI",ROW(INDIRECT("1:"&ROWS(AE!$N$3:$N$4347)))),ROWS($3:34))),"")} | B34: {=IF(ROWS($3:34)<=COUNTIF(AE!$N$3:$N$4347,"OUI"),INDEX(AE!B$3:B$4347,SMALL(IF(AE!$N$3:$N$4347="OUI",ROW(INDIRECT("1:"&ROWS(AE!$N$3:$N$4347)))),ROWS($3:34))),"")} | C34: {=IF(ROWS($3:34)<=COUNTIF(AE!$N$3:$N$4347,"OUI"),INDEX(AE!C$3:C$4347,SMALL(IF(AE!$N$3:$N$4347="OUI",ROW(INDIRECT("1:"&ROWS(AE!$N$3:$N$4347)))),ROWS($3:34))),"")} | D34: {=IF(ROWS($3:34)<=COUNTIF(AE!$N$3:$N$4347,"OUI"),INDEX(AE!D$3:D$4347,SMALL(IF(AE!$N$3:$N$4347="OUI",ROW(INDIRECT("1:"&ROWS(AE!$N$3:$N$4347)))),ROWS($3:34))),"")} | E34: {=IF(ROWS($3:34)<=COUNTIF(AE!$N$3:$N$4347,"OUI"),INDEX(AE!E$3:E$4347,SMALL(IF(AE!$N$3:$N$4347="OUI",ROW(INDIRECT("1:"&ROWS(AE!$N$3:$N$4347)))),ROWS($3:34))),"")} | F34: {=IF(ROWS($3:34)<=COUNTIF(AE!$N$3:$N$4347,"OUI"),INDEX(AE!F$3:F$4347,SMALL(IF(AE!$N$3:$N$4347="OUI",ROW(INDIRECT("1:"&ROWS(AE!$N$3:$N$4347)))),ROWS($3:34))),"")}
A35: {=IF(ROWS($3:35)<=COUNTIF(AE!$N$3:$N$4347,"OUI"),INDEX(AE!A$3:A$4347,SMALL(IF(AE!$N$3:$N$4347="OUI",ROW(INDIRECT("1:"&ROWS(AE!$N$3:$N$4347)))),ROWS($3:35))),"")} | B35: {=IF(ROWS($3:35)<=COUNTIF(AE!$N$3:$N$4347,"OUI"),INDEX(AE!B$3:B$4347,SMALL(IF(AE!$N$3:$N$4347="OUI",ROW(INDIRECT("1:"&ROWS(AE!$N$3:$N$4347)))),ROWS($3:35))),"")} | C35: {=IF(ROWS($3:35)<=COUNTIF(AE!$N$3:$N$4347,"OUI"),INDEX(AE!C$3:C$4347,SMALL(IF(AE!$N$3:$N$4347="OUI",ROW(INDIRECT("1:"&ROWS(AE!$N$3:$N$4347)))),ROWS($3:35))),"")} | D35: {=IF(ROWS($3:35)<=COUNTIF(AE!$N$3:$N$4347,"OUI"),INDEX(AE!D$3:D$4347,SMALL(IF(AE!$N$3:$N$4347="OUI",ROW(INDIRECT("1:"&ROWS(AE!$N$3:$N$4347)))),ROWS($3:35))),"")} | E35: {=IF(ROWS($3:35)<=COUNTIF(AE!$N$3:$N$4347,"OUI"),INDEX(AE!E$3:E$4347,SMALL(IF(AE!$N$3:$N$4347="OUI",ROW(INDIRECT("1:"&ROWS(AE!$N$3:$N$4347)))),ROWS($3:35))),"")} | F35: {=IF(ROWS($3:35)<=COUNTIF(AE!$N$3:$N$4347,"OUI"),INDEX(AE!F$3:F$4347,SMALL(IF(AE!$N$3:$N$4347="OUI",ROW(INDIRECT("1:"&ROWS(AE!$N$3:$N$4347)))),ROWS($3:35))),"")}
A36: {=IF(ROWS($3:36)<=COUNTIF(AE!$N$3:$N$4347,"OUI"),INDEX(AE!A$3:A$4347,SMALL(IF(AE!$N$3:$N$4347="OUI",ROW(INDIRECT("1:"&ROWS(AE!$N$3:$N$4347)))),ROWS($3:36))),"")} | B36: {=IF(ROWS($3:36)<=COUNTIF(AE!$N$3:$N$4347,"OUI"),INDEX(AE!B$3:B$4347,SMALL(IF(AE!$N$3:$N$4347="OUI",ROW(INDIRECT("1:"&ROWS(AE!$N$3:$N$4347)))),ROWS($3:36))),"")} | C36: {=IF(ROWS($3:36)<=COUNTIF(AE!$N$3:$N$4347,"OUI"),INDEX(AE!C$3:C$4347,SMALL(IF(AE!$N$3:$N$4347="OUI",ROW(INDIRECT("1:"&ROWS(AE!$N$3:$N$4347)))),ROWS($3:36))),"")} | D36: {=IF(ROWS($3:36)<=COUNTIF(AE!$N$3:$N$4347,"OUI"),INDEX(AE!D$3:D$4347,SMALL(IF(AE!$N$3:$N$4347="OUI",ROW(INDIRECT("1:"&ROWS(AE!$N$3:$N$4347)))),ROWS($3:36))),"")} | E36: {=IF(ROWS($3:36)<=COUNTIF(AE!$N$3:$N$4347,"OUI"),INDEX(AE!E$3:E$4347,SMALL(IF(AE!$N$3:$N$4347="OUI",ROW(INDIRECT("1:"&ROWS(AE!$N$3:$N$4347)))),ROWS($3:36))),"")} | F36: {=IF(ROWS($3:36)<=COUNTIF(AE!$N$3:$N$4347,"OUI"),INDEX(AE!F$3:F$4347,SMALL(IF(AE!$N$3:$N$4347="OUI",ROW(INDIRECT("1:"&ROWS(AE!$N$3:$N$4347)))),ROWS($3:36))),"")}
A37: {=IF(ROWS($3:37)<=COUNTIF(AE!$N$3:$N$4347,"OUI"),INDEX(AE!A$3:A$4347,SMALL(IF(AE!$N$3:$N$4347="OUI",ROW(INDIRECT("1:"&ROWS(AE!$N$3:$N$4347)))),ROWS($3:37))),"")} | B37: {=IF(ROWS($3:37)<=COUNTIF(AE!$N$3:$N$4347,"OUI"),INDEX(AE!B$3:B$4347,SMALL(IF(AE!$N$3:$N$4347="OUI",ROW(INDIRECT("1:"&ROWS(AE!$N$3:$N$4347)))),ROWS($3:37))),"")} | C37: {=IF(ROWS($3:37)<=COUNTIF(AE!$N$3:$N$4347,"OUI"),INDEX(AE!C$3:C$4347,SMALL(IF(AE!$N$3:$N$4347="OUI",ROW(INDIRECT("1:"&ROWS(AE!$N$3:$N$4347)))),ROWS($3:37))),"")} | D37: {=IF(ROWS($3:37)<=COUNTIF(AE!$N$3:$N$4347,"OUI"),INDEX(AE!D$3:D$4347,SMALL(IF(AE!$N$3:$N$4347="OUI",ROW(INDIRECT("1:"&ROWS(AE!$N$3:$N$4347)))),ROWS($3:37))),"")} | E37: {=IF(ROWS($3:37)<=COUNTIF(AE!$N$3:$N$4347,"OUI"),INDEX(AE!E$3:E$4347,SMALL(IF(AE!$N$3:$N$4347="OUI",ROW(INDIRECT("1:"&ROWS(AE!$N$3:$N$4347)))),ROWS($3:37))),"")} | F37: {=IF(ROWS($3:37)<=COUNTIF(AE!$N$3:$N$4347,"OUI"),INDEX(AE!F$3:F$4347,SMALL(IF(AE!$N$3:$N$4347="OUI",ROW(INDIRECT("1:"&ROWS(AE!$N$3:$N$4347)))),ROWS($3:37))),"")}
A38: {=IF(ROWS($3:38)<=COUNTIF(AE!$N$3:$N$4347,"OUI"),INDEX(AE!A$3:A$4347,SMALL(IF(AE!$N$3:$N$4347="OUI",ROW(INDIRECT("1:"&ROWS(AE!$N$3:$N$4347)))),ROWS($3:38))),"")} | B38: {=IF(ROWS($3:38)<=COUNTIF(AE!$N$3:$N$4347,"OUI"),INDEX(AE!B$3:B$4347,SMALL(IF(AE!$N$3:$N$4347="OUI",ROW(INDIRECT("1:"&ROWS(AE!$N$3:$N$4347)))),ROWS($3:38))),"")} | C38: {=IF(ROWS($3:38)<=COUNTIF(AE!$N$3:$N$4347,"OUI"),INDEX(AE!C$3:C$4347,SMALL(IF(AE!$N$3:$N$4347="OUI",ROW(INDIRECT("1:"&ROWS(AE!$N$3:$N$4347)))),ROWS($3:38))),"")} | D38: {=IF(ROWS($3:38)<=COUNTIF(AE!$N$3:$N$4347,"OUI"),INDEX(AE!D$3:D$4347,SMALL(IF(AE!$N$3:$N$4347="OUI",ROW(INDIRECT("1:"&ROWS(AE!$N$3:$N$4347)))),ROWS($3:38))),"")} | E38: {=IF(ROWS($3:38)<=COUNTIF(AE!$N$3:$N$4347,"OUI"),INDEX(AE!E$3:E$4347,SMALL(IF(AE!$N$3:$N$4347="OUI",ROW(INDIRECT("1:"&ROWS(AE!$N$3:$N$4347)))),ROWS($3:38))),"")} | F38: {=IF(ROWS($3:38)<=COUNTIF(AE!$N$3:$N$4347,"OUI"),INDEX(AE!F$3:F$4347,SMALL(IF(AE!$N$3:$N$4347="OUI",ROW(INDIRECT("1:"&ROWS(AE!$N$3:$N$4347)))),ROWS($3:38))),"")}
A39: {=IF(ROWS($3:39)<=COUNTIF(AE!$N$3:$N$4347,"OUI"),INDEX(AE!A$3:A$4347,SMALL(IF(AE!$N$3:$N$4347="OUI",ROW(INDIRECT("1:"&ROWS(AE!$N$3:$N$4347)))),ROWS($3:39))),"")} | B39: {=IF(ROWS($3:39)<=COUNTIF(AE!$N$3:$N$4347,"OUI"),INDEX(AE!B$3:B$4347,SMALL(IF(AE!$N$3:$N$4347="OUI",ROW(INDIRECT("1:"&ROWS(AE!$N$3:$N$4347)))),ROWS($3:39))),"")} | C39: {=IF(ROWS($3:39)<=COUNTIF(AE!$N$3:$N$4347,"OUI"),INDEX(AE!C$3:C$4347,SMALL(IF(AE!$N$3:$N$4347="OUI",ROW(INDIRECT("1:"&ROWS(AE!$N$3:$N$4347)))),ROWS($3:39))),"")} | D39: {=IF(ROWS($3:39)<=COUNTIF(AE!$N$3:$N$4347,"OUI"),INDEX(AE!D$3:D$4347,SMALL(IF(AE!$N$3:$N$4347="OUI",ROW(INDIRECT("1:"&ROWS(AE!$N$3:$N$4347)))),ROWS($3:39))),"")} | E39: {=IF(ROWS($3:39)<=COUNTIF(AE!$N$3:$N$4347,"OUI"),INDEX(AE!E$3:E$4347,SMALL(IF(AE!$N$3:$N$4347="OUI",ROW(INDIRECT("1:"&ROWS(AE!$N$3:$N$4347)))),ROWS($3:39))),"")} | F39: {=IF(ROWS($3:39)<=COUNTIF(AE!$N$3:$N$4347,"OUI"),INDEX(AE!F$3:F$4347,SMALL(IF(AE!$N$3:$N$4347="OUI",ROW(INDIRECT("1:"&ROWS(AE!$N$3:$N$4347)))),ROWS($3:39))),"")}
A40: {=IF(ROWS($3:40)<=COUNTIF(AE!$N$3:$N$4347,"OUI"),INDEX(AE!A$3:A$4347,SMALL(IF(AE!$N$3:$N$4347="OUI",ROW(INDIRECT("1:"&ROWS(AE!$N$3:$N$4347)))),ROWS($3:40))),"")} | B40: {=IF(ROWS($3:40)<=COUNTIF(AE!$N$3:$N$4347,"OUI"),INDEX(AE!B$3:B$4347,SMALL(IF(AE!$N$3:$N$4347="OUI",ROW(INDIRECT("1:"&ROWS(AE!$N$3:$N$4347)))),ROWS($3:40))),"")} | C40: {=IF(ROWS($3:40)<=COUNTIF(AE!$N$3:$N$4347,"OUI"),INDEX(AE!C$3:C$4347,SMALL(IF(AE!$N$3:$N$4347="OUI",ROW(INDIRECT("1:"&ROWS(AE!$N$3:$N$4347)))),ROWS($3:40))),"")} | D40: {=IF(ROWS($3:40)<=COUNTIF(AE!$N$3:$N$4347,"OUI"),INDEX(AE!D$3:D$4347,SMALL(IF(AE!$N$3:$N$4347="OUI",ROW(INDIRECT("1:"&ROWS(AE!$N$3:$N$4347)))),ROWS($3:40))),"")} | E40: {=IF(ROWS($3:40)<=COUNTIF(AE!$N$3:$N$4347,"OUI"),INDEX(AE!E$3:E$4347,SMALL(IF(AE!$N$3:$N$4347="OUI",ROW(INDIRECT("1:"&ROWS(AE!$N$3:$N$4347)))),ROWS($3:40))),"")} | F40: {=IF(ROWS($3:40)<=COUNTIF(AE!$N$3:$N$4347,"OUI"),INDEX(AE!F$3:F$4347,SMALL(IF(AE!$N$3:$N$4347="OUI",ROW(INDIRECT("1:"&ROWS(AE!$N$3:$N$4347)))),ROWS($3:40))),"")}
...
