Workbook

Sheet AE
A1: Description activité | D1: Service | E1: Identification des Aspects-Impacts | I1: Fonctionnement | J1: Cotation | M1: Résultat | N1: Classification | O1: Maîtrise | R1: M1 | S1: Résultat | T1: Classification
A2: Code | B2: Activité | C2: NDPN | D2: Service/Section | E2: Aspect | F2: Impact | G2: Details et descriptions | I2: Fonctionnement | J2: G | K2: F | L2: S | M2: Criticité brute | N2: AES | O2: O | P2: H | Q2: T | R2: M1 | S2: Criticité résiduelle | T2: IES
M3: =J3*K3*L3 -> 0 | N3: =IF(M3>=6,"Oui","Non") -> Non | S3: =J3*K3*L3*R3 -> 0 | T3: =IF(S3>=24,"Oui","Non") -> Non
M4: =J4*K4*L4 -> 0 | N4: =IF(M4>=6,"Oui","Non") -> Non | S4: =J4*K4*L4*R4 -> 0 | T4: =IF(S4>=24,"Oui","Non") -> Non
M5: =J5*K5*L5 -> 0 | N5: =IF(M5>=6,"Oui","Non") -> Non | S5: =J5*K5*L5*R5 -> 0 | T5: =IF(S5>=24,"Oui","Non") -> Non
M6: =J6*K6*L6 -> 0 | N6: =IF(M6>=6,"Oui","Non") -> Non | S6: =J6*K6*L6*R6 -> 0 | T6: =IF(S6>=24,"Oui","Non") -> Non
M7: =J7*K7*L7 -> 0 | N7: =IF(M7>=6,"Oui","Non") -> Non | S7: =J7*K7*L7*R7 -> 0 | T7: =IF(S7>=24,"Oui","Non") -> Non
M8: =J8*K8*L8 -> 0 | N8: =IF(M8>=6,"Oui","Non") -> Non | S8: =J8*K8*L8*R8 -> 0 | T8: =IF(S8>=24,"Oui","Non") -> Non
M9: =J9*K9*L9 -> 0 | N9: =IF(M9>=6,"Oui","Non") -> Non | S9: =J9*K9*L9*R9 -> 0 | T9: =IF(S9>=24,"Oui","Non") -> Non
M10: =J10*K10*L10 -> 0 | N10: =IF(M10>=6,"Oui","Non") -> Non | S10: =J10*K10*L10*R10 -> 0 | T10: =IF(S10>=24,"Oui","Non") -> Non
M11: =J11*K11*L11 -> 0 | N11: =IF(M11>=6,"Oui","Non") -> Non | S11: =J11*K11*L11*R11 -> 0 | T11: =IF(S11>=24,"Oui","Non") -> Non
M12: =J12*K12*L12 -> 0 | N12: =IF(M12>=6,"Oui","Non") -> Non | S12: =J12*K12*L12*R12 -> 0 | T12: =IF(S12>=24,"Oui","Non") -> Non
M13: =J13*K13*L13 -> 0 | N13: =IF(M13>=6,"Oui","Non") -> Non | S13: =J13*K13*L13*R13 -> 0 | T13: =IF(S13>=24,"Oui","Non") -> Non
M14: =J14*K14*L14 -> 0 | N14: =IF(M14>=6,"Oui","Non") -> Non | S14: =J14*K14*L14*R14 -> 0 | T14: =IF(S14>=24,"Oui","Non") -> Non
... M1727: =J1727*K1727*L1727 -> 0 | N1727: =IF(M1727>=6,"Oui","Non") -> Non | S1727: =J1727*K1727*L1727*R1727 -> 0 | T1727: =IF(S1727>=24,"Oui","Non") -> Non
M1728: =J1728*K1728*L1728 -> 0 | N1728: =IF(M1728>="Oui","Non") -> FALSE | S1728: =J1728*K1728*L1728*R1728 -> 0 | T1728: =IF(S1728>=24,"Oui","Non") -> Non
M1729: =J1729*K1729*L1729 -> 0 | N1729: =IF(M1729>="Oui","Non") -> FALSE | S1729: =J1729*K1729*L1729*R1729 -> 0 | T1729: =IF(S1729>=24,"Oui","Non") -> Non
M1730: =J1730*K1730*L1730 -> 0 | N1730: =IF(M1730>="Oui","Non") -> FALSE | S1730: =J1730*K1730*L1730*R1730 -> 0 | T1730: =IF(S1730>=24,"Oui","Non") -> Non
M1731: =J1731*K1731*L1731 -> 0 | N1731: =IF(M1731>="Oui","Non") -> FALSE | S1731: =J1731*K1731*L1731*R1731 -> 0 | T1731: =IF(S1731>=24,"Oui","Non") -> Non
M1732: =J1732*K1732*L1732 -> 0 | N1732: =IF(M1732>="Oui","Non") -> FALSE | S1732: =J1732*K1732*L1732*R1732 -> 0 | T1732: =IF(S1732>=24,"Oui","Non") -> Non
M1733: =J1733*K1733*L1733 -> 0 | N1733: =IF(M1733>="Oui","Non") -> FALSE | S1733: =J1733*K1733*L1733*R1733 -> 0 | T1733: =IF(S1733>=24,"Oui","Non") -> Non
M1734: =J1734*K1734*L1734 -> 0 | N1734: =IF(M1734>="Oui","Non") -> FALSE | S1734: =J1734*K1734*L1734*R1734 -> 0 | T1734: =IF(S1734>=24,"Oui","Non") -> Non
M1735: =J1735*K1735*L1735 -> 0 | N1735: =IF(M1735>="Oui","Non") -> FALSE | S1735: =J1735*K1735*L1735*R1735 -> 0 | T1735: =IF(S1735>=24,"Oui","Non") -> Non
M1736: =J1736*K1736*L1736 -> 0 | N1736: =IF(M1736>="Oui","Non") -> FALSE | S1736: =J1736*K1736*L1736*R1736 -> 0 | T1736: =IF(S1736>=24,"Oui","Non") -> Non
M1737: =J1737*K1737*L1737 -> 0 | N1737: =IF(M1737>="Oui","Non") -> FALSE | S1737: =J1737*K1737*L1737*R1737 -> 0 | T1737: =IF(S1737>=24,"Oui","Non") -> Non
M1738: =J1738*K1738*L1738 -> 0 | N1738: =IF(M1738>="Oui","Non") -> FALSE | S1738: =J1738*K1738*L1738*R1738 -> 0 | T1738: =IF(S1738>=24,"Oui","Non") -> Non
M1739: =J1739*K1739*L1739 -> 0 | N1739: =IF(M1739>="Oui","Non") -> FALSE | S1739: =J1739*K1739*L1739*R1739 -> 0 | T1739: =IF(S1739>=24,"Oui","Non") -> Non
... M2270: =J2270*K2270*L2270 -> 0 | N2270: =IF(M2270>="Oui","Non") -> FALSE | S2270: =J2270*K2270*L2270*R2270 -> 0 | T2270: =IF(S2270>=24,"Oui","Non") -> Non
M2271: =J2271*K2271 -> 0 | N2271: =IF(M2271>="Oui","Non") -> FALSE | S2271: =J2271*K2271*L2271*R2271 -> 0 | T2271: =IF(S2271>=24,"Oui","Non") -> Non
M2272: =J2272*K2272 -> 0 | N2272: =IF(M2272>="Oui","Non") -> FALSE | S2272: =J2272*K2272*L2272*R2272 -> 0 | T2272: =IF(S2272>=24,"Oui","Non") -> Non
M2273: =J2273*K2273 -> 0 | N2273: =IF(M2273>="Oui","Non") -> FALSE | S2273: =J2273*K2273*L2273*R2273 -> 0 | T2273: =IF(S2273>=24,"Oui","Non") -> Non
M2274: =J2274*K2274 -> 0 | N2274: =IF(M2274>="Oui","Non") -> FALSE | S2274: =J2274*K2274*L2274*R2274 -> 0 | T2274: =IF(S2274>=24,"Oui","Non") -> Non
M2275: =J2275*K2275 -> 0 | N2275: =IF(M2275>="Oui","Non") -> FALSE | S2275: =J2275*K2275*L2275*R2275 -> 0 | T2275: =IF(S2275>=24,"Oui","Non") -> Non
M2276: =J2276*K2276 -> 0 | N2276: =IF(M2276>="Oui","Non") -> FALSE | S2276: =J2276*K2276*L2276*R2276 -> 0 | T2276: =IF(S2276>=24,"Oui","Non") -> Non
M2277: =J2277*K2277 -> 0 | N2277: =IF(M2277>="Oui","Non") -> FALSE | S2277: =J2277*K2277*L2277*R2277 -> 0 | T2277: =IF(S2277>=24,"Oui","Non") -> Non
M2278: =J2278*K2278 -> 0 | N2278: =IF(M2278>="Oui","Non") -> FALSE | S2278: =J2278*K2278*L2278*R2278 -> 0 | T2278: =IF(S2278>=24,"Oui","Non") -> Non
M2279: =J2279*K2279 -> 0 | N2279: =IF(M2279>="Oui","Non") -> FALSE | S2279: =J2279*K2279*L2279*R2279 -> 0 | T2279: =IF(S2279>=24,"Oui","Non") -> Non
M2280: =J2280*K2280 -> 0 | N2280: =IF(M2280>="Oui","Non") -> FALSE | S2280: =J2280*K2280*L2280*R2280 -> 0 | T2280: =IF(S2280>=24,"Oui","Non") -> Non
M2281: =J2281*K2281 -> 0 | N2281: =IF(M2281>="Oui","Non") -> FALSE | S2281: =J2281*K2281*L2281*R2281 -> 0 | T2281: =IF(S2281>=24,"Oui","Non") -> Non
M2282: =J2282*K2282 -> 0 | N2282: =IF(M2282>="Oui","Non") -> FALSE | S2282: =J2282*K2282*L2282*R2282 -> 0 | T2282: =IF(S2282>=24,"Oui","Non") -> Non
... M3901: =J3901*K3901 -> 0 | N3901: =IF(M3901>="Oui","Non") -> FALSE | S3901: =J3901*K3901*L3901*R3901 -> 0 | T3901: =IF(S3901>=24,"Oui","Non") -> Non
M3902: =J3902*K3902 -> 0 | N3902: =IF(M3902>="Oui","Non") -> FALSE | S3902: =J3902*K3902*L3902*R3902 -> 0
M3903: =J3903*K3903 -> 0 | N3903: =IF(M3903>="Oui","Non") -> FALSE | S3903: =J3903*K3903*L3903*R3903 -> 0
M3904: =J3904*K3904 -> 0 | N3904: =IF(M3904>="Oui","Non") -> FALSE | S3904: =J3904*K3904*L3904*R3904 -> 0
M3905: =J3905*K3905 -> 0 | N3905: =IF(M3905>="Oui","Non") -> FALSE | S3905: =J3905*K3905*L3905*R3905 -> 0
M3906: =J3906*K3906 -> 0 | N3906: =IF(M3906>="Oui","Non") -> FALSE | S3906: =J3906*K3906*L3906*R3906 -> 0
M3907: =J3907*K3907 -> 0 | N3907: =IF(M3907>="Oui","Non") -> FALSE | S3907: =J3907*K3907*L3907*R3907 -> 0
M3908: =J3908*K3908 -> 0 | N3908: =IF(M3908>="Oui","Non") -> FALSE | S3908: =J3908*K3908*L3908*R3908 -> 0
M3909: =J3909*K3909 -> 0 | N3909: =IF(M3909>="Oui","Non") -> FALSE | S3909: =J3909*K3909*L3909*R3909 -> 0
M3910: =J3910*K3910 -> 0 | N3910: =IF(M3910>="Oui","Non") -> FALSE | S3910: =J3910*K3910*L3910*R3910 -> 0
M3911: =J3911*K3911 -> 0 | N3911: =IF(M3911>="Oui","Non") -> FALSE | S3911: =J3911*K3911*L3911*R3911 -> 0
M3912: =J3912*K3912 -> 0 | N3912: =IF(M3912>="Oui","Non") -> FALSE | S3912: =J3912*K3912*L3912*R3912 -> 0
M3913: =J3913*K3913 -> 0 | N3913: =IF(M3913>="Oui","Non") -> FALSE | S3913: =J3913*K3913*L3913*R3913 -> 0
... M4114: =J4114*K4114 -> 0 | N4114: =IF(M4114>="Oui","Non") -> FALSE | S4114: =J4114*K4114*L4114*R4114 -> 0
N4115: =IF(M4115>="Oui","Non") -> FALSE | S4115: =J4115*K4115*L4115*R4115 -> 0
N4116: =IF(M4116>="Oui","Non") -> FALSE | S4116: =J4116*K4116*L4116*R4116 -> 0
N4117: =IF(M4117>="Oui","Non") -> FALSE | S4117: =J4117*K4117*L4117*R4117 -> 0
N4118: =IF(M4118>="Oui","Non") -> FALSE | S4118: =J4118*K4118*L4118*R4118 -> 0
N4119: =IF(M4119>="Oui","Non") -> FALSE | S4119: =J4119*K4119*R4119 -> 0
N4120: =IF(M4120>="Oui","Non") -> FALSE | S4120: =J4120*K4120*R4120 -> 0
N4121: =IF(M4121>="Oui","Non") -> FALSE | S4121: =J4121*K4121*R4121 -> 0
N4122: =IF(M4122>="Oui","Non") -> FALSE | S4122: =J4122*K4122*R4122 -> 0
N4123: =IF(M4123>="Oui","Non") -> FALSE | S4123: =J4123*K4123*R4123 -> 0
N4124: =IF(M4124>="Oui","Non") -> FALSE | S4124: =J4124*K4124*R4124 -> 0
N4125: =IF(M4125>="Oui","Non") -> FALSE | S4125: =J4125*K4125*R4125 -> 0
N4126: =IF(M4126>="Oui","Non") -> FALSE | S4126: =J4126*K4126*R4126 -> 0
N4127: =IF(M4127>="Oui","Non") -> FALSE | S4127: =J4127*K4127*R4127 -> 0
N4128: =IF(M4128>="Oui","Non") -> FALSE | S4128: =J4128*K4128*R4128 -> 0
N4129: =IF(M4129>="Oui","Non") -> FALSE | S4129: =J4129*K4129*R4129 -> 0
N4130: =IF(M4130>="Oui","Non") -> FALSE | S4130: =J4130*K4130*R4130 -> 0
... N4347: =IF(M4347>="Oui","Non") -> FALSE | S4347: =J4347*K4347*R4347 -> 0
S4348: =J4348*K4348*R4348 -> 0
S4349: =J4349*K4349*R4349 -> 0
S4350: =J4350*K4350*R4350 -> 0
S4351: =J4351*K4351*R4351 -> 0
S4352: =J4352*K4352*R4352 -> 0
S4353: =J4353*K4353*R4353 -> 0
S4354: =J4354*K4354*R4354 -> 0
S4355: =J4355*K4355*R4355 -> 0
S4356: =J4356*K4356*R4356 -> 0
S4357: =J4357*K4357*R4357 -> 0
S4358: =J4358*K4358*R4358 -> 0
S4359: =J4359*K4359*R4359 -> 0
... S4424: =J4424*K4424*R4424 -> 0

Sheet AES
A1: Description activité | D1: Service | E1: Aspect significatif | F1: Impact réel et potentiel | G1: Details et descriptions | I1: Risques | J1: Oportunités | K1: Actions prévues | N1: Responsable | O1: Délais
A2: Code | B2: Activité | C2: NDPN | D2: Service/Section
A3: {=IF(ROWS($3:3)<=COUNTIF(AE!$N$3:$N$4347,"OUI"),INDEX(AE!A$3:A$4347,SMALL(IF(AE!$N$3:$N$4347="OUI",ROW(INDIRECT("1:"&ROWS(AE!$N$3:$N$4347)))),ROWS($3:3))),"")} | B3: {=IF(ROWS($3:3)<=COUNTIF(AE!$N$3:$N$4347,"OUI"),INDEX(AE!B$3:B$4347,SMALL(IF(AE!$N$3:$N$4347="OUI",ROW(INDIRECT("1:"&ROWS(AE!$N$3:$N$4347)))),ROWS($3:3))),"")} | C3: {=IF(ROWS($3:3)<=COUNTIF(AE!$N$3:$N$4347,"OUI"),INDEX(AE!C$3:C$4347,SMALL(IF(AE!$N$3:$N$4347="OUI",ROW(INDIRECT("1:"&ROWS(AE!$N$3:$N$4347)))),ROWS($3:3))),"")} | D3: {=IF(ROWS($3:3)<=COUNTIF(AE!$N$3:$N$4347,"OUI"),INDEX(AE!D$3:D$4347,SMALL(IF(AE!$N$3:$N$4347="OUI",ROW(INDIRECT("1:"&ROWS(AE!$N$3:$N$4347)))),ROWS($3:3))),"")} | E3: {=IF(ROWS($3:3)<=COUNTIF(AE!$N$3:$N$4347,"OUI"),INDEX(AE!E$3:E$4347,SMALL(IF(AE!$N$3:$N$4347="OUI",ROW(INDIRECT("1:"&ROWS(AE!$N$3:$N$4347)))),ROWS($3:3))),"")} | F3: {=IF(ROWS($3:3)<=COUNTIF(AE!$N$3:$N$4347,"OUI"),INDEX(AE!F$3:F$4347,SMALL(IF(AE!$N$3:$N$4347="OUI",ROW(INDIRECT("1:"&ROWS(AE!$N$3:$N$4347)))),ROWS($3:3))),"")}
A4: {=IF(ROWS($3:4)<=COUNTIF(AE!$N$3:$N$4347,"OUI"),INDEX(AE!A$3:A$4347,SMALL(IF(AE!$N$3:$N$4347="OUI",ROW(INDIRECT("1:"&ROWS(AE!$N$3:$N$4347)))),ROWS($3:4))),"")} | B4: {=IF(ROWS($3:4)<=COUNTIF(AE!$N$3:$N$4347,"OUI"),INDEX(AE!B$3:B$4347,SMALL(IF(AE!$N$3:$N$4347="OUI",ROW(INDIRECT("1:"&ROWS(AE!$N$3:$N$4347)))),ROWS($3:4))),"")} | C4: {=IF(ROWS($3:4)<=COUNTIF(AE!$N$3:$N$4347,"OUI"),INDEX(AE!C$3:C$4347,SMALL(IF(AE!$N$3:$N$4347="OUI",ROW(INDIRECT("1:"&ROWS(AE!$N$3:$N$4347)))),ROWS($3:4))),"")} | D4: {=IF(ROWS($3:4)<=COUNTIF(AE!$N$3:$N$4347,"OUI"),INDEX(AE!D$3:D$4347,SMALL(IF(AE!$N$3:$N$4347="OUI",ROW(INDIRECT("1:"&ROWS(AE!$N$3:$N$4347)))),ROWS($3:4))),"")} | E4: {=IF(ROWS($3:4)<=COUNTIF(AE!$N$3:$N$4347,"OUI"),INDEX(AE!E$3:E$4347,SMALL(IF(AE!$N$3:$N$4347="OUI",ROW(INDIRECT("1:"&ROWS(AE!$N$3:$N$4347)))),ROWS($3:4))),"")} | F4: {=IF(ROWS($3:4)<=COUNTIF(AE!$N$3:$N$4347,"OUI"),INDEX(AE!F$3:F$4347,SMALL(IF(AE!$N$3:$N$4347="OUI",ROW(INDIRECT("1:"&ROWS(AE!$N$3:$N$4347)))),ROWS($3:4))),"")}
A5: {=IF(ROWS($3:5)<=COUNTIF(AE!$N$3:$N$4347,"OUI"),INDEX(AE!A$3:A$4347,SMALL(IF(AE!$N$3:$N$4347="OUI",ROW(INDIRECT("1:"&ROWS(AE!$N$3:$N$4347)))),ROWS($3:5))),"")} | B5: {=IF(ROWS($3:5)<=COUNTIF(AE!$N$3:$N$4347,"OUI"),INDEX(AE!B$3:B$4347,SMALL(IF(AE!$N$3:$N$4347="OUI",ROW(INDIRECT("1:"&ROWS(AE!$N$3:$N$4347)))),ROWS($3:5))),"")} | C5: {=IF(ROWS($3:5)<=COUNTIF(AE!$N$3:$N$4347,"OUI"),INDEX(AE!C$3:C$4347,SMALL(IF(AE!$N$3:$N$4347="OUI",ROW(INDIRECT("1:"&ROWS(AE!$N$3:$N$4347)))),ROWS($3:5))),"")} | D5: {=IF(ROWS($3:5)<=COUNTIF(AE!$N$3:$N$4347,"OUI"),INDEX(AE!D$3:D$4347,SMALL(IF(AE!$N$3:$N$4347="OUI",ROW(INDIRECT("1:"&ROWS(AE!$N$3:$N$4347)))),ROWS($3:5))),"")} | E5: {=IF(ROWS($3:5)<=COUNTIF(AE!$N$3:$N$4347,"OUI"),INDEX(AE!E$3:E$4347,SMALL(IF(AE!$N$3:$N$4347="OUI",ROW(INDIRECT("1:"&ROWS(AE!$N$3:$N$4347)))),ROWS($3:5))),"")} | F5: {=IF(ROWS($3:5)<=COUNTIF(AE!$N$3:$N$4347,"OUI"),INDEX(AE!F$3:F$4347,SMALL(IF(AE!$N$3:$N$4347="OUI",ROW(INDIRECT("1:"&ROWS(AE!$N$3:$N$4347)))),ROWS($3:5))),"")}
A6: {=IF(ROWS($3:6)<=COUNTIF(AE!$N$3:$N$4347,"OUI"),INDEX(AE!A$3:A$4347,SMALL(IF(AE!$N$3:$N$4347="OUI",ROW(INDIRECT("1:"&ROWS(AE!$N$3:$N$4347)))),ROWS($3:6))),"")} | B6: {=IF(ROWS($3:6)<=COUNTIF(AE!$N$3:$N$4347,"OUI"),INDEX(AE!B$3:B$4347,SMALL(IF(AE!$N$3:$N$4347="OUI",ROW(INDIRECT("1:"&ROWS(AE!$N$3:$N$4347)))),ROWS($3:6))),"")} | C6: {=IF(ROWS($3:6)<=COUNTIF(AE!$N$3:$N$4347,"OUI"),INDEX(AE!C$3:C$4347,SMALL(IF(AE!$N$3:$N$4347="OUI",ROW(INDIRECT("1:"&ROWS(AE!$N$3:$N$4347)))),ROWS($3:6))),"")} | D6: {=IF(ROWS($3:6)<=COUNTIF(AE!$N$3:$N$4347,"OUI"),INDEX(AE!D$3:D$4347,SMALL(IF(AE!$N$3:$N$4347="OUI",ROW(INDIRECT("1:"&ROWS(AE!$N$3:$N$4347)))),ROWS($3:6))),"")} | E6: {=IF(ROWS($3:6)<=COUNTIF(AE!$N$3:$N$4347,"OUI"),INDEX(AE!E$3:E$4347,SMALL(IF(AE!$N$3:$N$4347="OUI",ROW(INDIRECT("1:"&ROWS(AE!$N$3:$N$4347)))),ROWS($3:6))),"")} | F6: {=IF(ROWS($3:6)<=COUNTIF(AE!$N$3:$N$4347,"OUI"),INDEX(AE!F$3:F$4347,SMALL(IF(AE!$N$3:$N$4347="OUI",ROW(INDIRECT("1:"&ROWS(AE!$N$3:$N$4347)))),ROWS($3:6))),"")}
A7: {=IF(ROWS($3:7)<=COUNTIF(AE!$N$3:$N$4347,"OUI"),INDEX(AE!A$3:A$4347,SMALL(IF(AE!$N$3:$N$4347="OUI",ROW(INDIRECT("1:"&ROWS(AE!$N$3:$N$4347)))),ROWS($3:7))),"")} | B7: {=IF(ROWS($3:7)<=COUNTIF(AE!$N$3:$N$4347,"OUI"),INDEX(AE!B$3:B$4347,SMALL(IF(AE!$N$3:$N$4347="OUI",ROW(INDIRECT("1:"&ROWS(AE!$N$3:$N$4347)))),ROWS($3:7))),"")} | C7: {=IF(ROWS($3:7)<=COUNTIF(AE!$N$3:$N$4347,"OUI"),INDEX(AE!C$3:C$4347,SMALL(IF(AE!$N$3:$N$4347="OUI",ROW(INDIRECT("1:"&ROWS(AE!$N$3:$N$4347)))),ROWS($3:7))),"")} | D7: {=IF(ROWS($3:7)<=COUNTIF(AE!$N$3:$N$4347,"OUI"),INDEX(AE!D$3:D$4347,SMALL(IF(AE!$N$3:$N$4347="OUI",ROW(INDIRECT("1:"&ROWS(AE!$N$3:$N$4347)))),ROWS($3:7))),"")} | E7: {=IF(ROWS($3:7)<=COUNTIF(AE!$N$3:$N$4347,"OUI"),INDEX(AE!E$3:E$4347,SMALL(IF(AE!$N$3:$N$4347="OUI",ROW(INDIRECT("1:"&ROWS(AE!$N$3:$N$4347)))),ROWS($3:7))),"")} | F7: {=IF(ROWS($3:7)<=COUNTIF(AE!$N$3:$N$4347,"OUI"),INDEX(AE!F$3:F$4347,SMALL(IF(AE!$N$3:$N$4347="OUI",ROW(INDIRECT("1:"&ROWS(AE!$N$3:$N$4347)))),ROWS($3:7))),"")}
A8: {=IF(ROWS($3:8)<=COUNTIF(AE!$N$3:$N$4347,"OUI"),INDEX(AE!A$3:A$4347,SMALL(IF(AE!$N$3:$N$4347="OUI",ROW(INDIRECT("1:"&ROWS(AE!$N$3:$N$4347)))),ROWS($3:8))),"")} | B8: {=IF(ROWS($3:8)<=COUNTIF(AE!$N$3:$N$4347,"OUI"),INDEX(AE!B$3:B$4347,SMALL(IF(AE!$N$3:$N$4347="OUI",ROW(INDIRECT("1:"&ROWS(AE!$N$3:$N$4347)))),ROWS($3:8))),"")} | C8: {=IF(ROWS($3:8)<=COUNTIF(AE!$N$3:$N$4347,"OUI"),INDEX(AE!C$3:C$4347,SMALL(IF(AE!$N$3:$N$4347="OUI",ROW(INDIRECT("1:"&ROWS(AE!$N$3:$N$4347)))),ROWS($3:8))),"")} | D8: {=IF(ROWS($3:8)<=COUNTIF(AE!$N$3:$N$4347,"OUI"),INDEX(AE!D$3:D$4347,SMALL(IF(AE!$N$3:$N$4347="OUI",ROW(INDIRECT("1:"&ROWS(AE!$N$3:$N$4347)))),ROWS($3:8))),"")} | E8: {=IF(ROWS($3:8)<=COUNTIF(AE!$N$3:$N$4347,"OUI"),INDEX(AE!E$3:E$4347,SMALL(IF(AE!$N$3:$N$4347="OUI",ROW(INDIRECT("1:"&ROWS(AE!$N$3:$N$4347)))),ROWS($3:8))),"")} | F8: {=IF(ROWS($3:8)<=COUNTIF(AE!$N$3:$N$4347,"OUI"),INDEX(AE!F$3:F$4347,SMALL(IF(AE!$N$3:$N$4347="OUI",ROW(INDIRECT("1:"&ROWS(AE!$N$3:$N$4347)))),ROWS($3:8))),"")}
A9: {=IF(ROWS($3:9)<=COUNTIF(AE!$N$3:$N$4347,"OUI"),INDEX(AE!A$3:A$4347,SMALL(IF(AE!$N$3:$N$4347="OUI",ROW(INDIRECT("1:"&ROWS(AE!$N$3:$N$4347)))),ROWS($3:9))),"")} | B9: {=IF(ROWS($3:9)<=COUNTIF(AE!$N$3:$N$4347,"OUI"),INDEX(AE!B$3:B$4347,SMALL(IF(AE!$N$3:$N$4347="OUI",ROW(INDIRECT("1:"&ROWS(AE!$N$3:$N$4347)))),ROWS($3:9))),"")} | C9: {=IF(ROWS($3:9)<=COUNTIF(AE!$N$3:$N$4347,"OUI"),INDEX(AE!C$3:C$4347,SMALL(IF(AE!$N$3:$N$4347="OUI",ROW(INDIRECT("1:"&ROWS(AE!$N$3:$N$4347)))),ROWS($3:9))),"")} | D9: {=IF(ROWS($3:9)<=COUNTIF(AE!$N$3:$N$4347,"OUI"),INDEX(AE!D$3:D$4347,SMALL(IF(AE!$N$3:$N$4347="OUI",ROW(INDIRECT("1:"&ROWS(AE!$N$3:$N$4347)))),ROWS($3:9))),"")} | E9: {=IF(ROWS($3:9)<=COUNTIF(AE!$N$3:$N$4347,"OUI"),INDEX(AE!E$3:E$4347,SMALL(IF(AE!$N$3:$N$4347="OUI",ROW(INDIRECT("1:"&ROWS(AE!$N$3:$N$4347)))),ROWS($3:9))),"")} | F9: {=IF(ROWS($3:9)<=COUNTIF(AE!$N$3:$N$4347,"OUI"),INDEX(AE!F$3:F$4347,SMALL(IF(AE!$N$3:$N$4347="OUI",ROW(INDIRECT("1:"&ROWS(AE!$N$3:$N$4347)))),ROWS($3:9))),"")}
A10: {=IF(ROWS($3:10)<=COUNTIF(AE!$N$3:$N$4347,"OUI"),INDEX(AE!A$3:A$4347,SMALL(IF(AE!$N$3:$N$4347="OUI",ROW(INDIRECT("1:"&ROWS(AE!$N$3:$N$4347)))),ROWS($3:10))),"")} | B10: {=IF(ROWS($3:10)<=COUNTIF(AE!$N$3:$N$4347,"OUI"),INDEX(AE!B$3:B$4347,SMALL(IF(AE!$N$3:$N$4347="OUI",ROW(INDIRECT("1:"&ROWS(AE!$N$3:$N$4347)))),ROWS($3:10))),"")} | C10: {=IF(ROWS($3:10)<=COUNTIF(AE!$N$3:$N$4347,"OUI"),INDEX(AE!C$3:C$4347,SMALL(IF(AE!$N$3:$N$4347="OUI",ROW(INDIRECT("1:"&ROWS(AE!$N$3:$N$4347)))),ROWS($3:10))),"")} | D10: {=IF(ROWS($3:10)<=COUNTIF(AE!$N$3:$N$4347,"OUI"),INDEX(AE!D$3:D$4347,SMALL(IF(AE!$N$3:$N$4347="OUI",ROW(INDIRECT("1:"&ROWS(AE!$N$3:$N$4347)))),ROWS($3:10))),"")} | E10: {=IF(ROWS($3:10)<=COUNTIF(AE!$N$3:$N$4347,"OUI"),INDEX(AE!E$3:E$4347,SMALL(IF(AE!$N$3:$N$4347="OUI",ROW(INDIRECT("1:"&ROWS(AE!$N$3:$N$4347)))),ROWS($3:10))),"")} | F10: {=IF(ROWS($3:10)<=COUNTIF(AE!$N$3:$N$4347,"OUI"),INDEX(AE!F$3:F$4347,SMALL(IF(AE!$N$3:$N$4347="OUI",ROW(INDIRECT("1:"&ROWS(AE!$N$3:$N$4347)))),ROWS($3:10))),"")}
A11: {=IF(ROWS($3:11)<=COUNTIF(AE!$N$3:$N$4347,"OUI"),INDEX(AE!A$3:A$4347,SMALL(IF(AE!$N$3:$N$4347="OUI",ROW(INDIRECT("1:"&ROWS(AE!$N$3:$N$4347)))),ROWS($3:11))),"")} | B11: {=IF(ROWS($3:11)<=COUNTIF(AE!$N$3:$N$4347,"OUI"),INDEX(AE!B$3:B$4347,SMALL(IF(AE!$N$3:$N$4347="OUI",ROW(INDIRECT("1:"&ROWS(AE!$N$3:$N$4347)))),ROWS($3:11))),"")} | C11: {=IF(ROWS($3:11)<=COUNTIF(AE!$N$3:$N$4347,"OUI"),INDEX(AE!C$3:C$4347,SMALL(IF(AE!$N$3:$N$4347="OUI",ROW(INDIRECT("1:"&ROWS(AE!$N$3:$N$4347)))),ROWS($3:11))),"")} | D11: {=IF(ROWS($3:11)<=COUNTIF(AE!$N$3:$N$4347,"OUI"),INDEX(AE!D$3:D$4347,SMALL(IF(AE!$N$3:$N$4347="OUI",ROW(INDIRECT("1:"&ROWS(AE!$N$3:$N$4347)))),ROWS($3:11))),"")} | E11: {=IF(ROWS($3:11)<=COUNTIF(AE!$N$3:$N$4347,"OUI"),INDEX(AE!E$3:E$4347,SMALL(IF(AE!$N$3:$N$4347="OUI",ROW(INDIRECT("1:"&ROWS(AE!$N$3:$N$4347)))),ROWS($3:11))),"")} | F11: {=IF(ROWS($3:11)<=COUNTIF(AE!$N$3:$N$4347,"OUI"),INDEX(AE!F$3:F$4347,SMALL(IF(AE!$N$3:$N$4347="OUI",ROW(INDIRECT("1:"&ROWS(AE!$N$3:$N$4347)))),ROWS($3:11))),"")}
A12: {=IF(ROWS($3:12)<=COUNTIF(AE!$N$3:$N$4347,"OUI"),INDEX(AE!A$3:A$4347,SMALL(IF(AE!$N$3:$N$4347="OUI",ROW(INDIRECT("1:"&ROWS(AE!$N$3:$N$4347)))),ROWS($3:12))),"")} | B12: {=IF(ROWS($3:12)<=COUNTIF(AE!$N$3:$N$4347,"OUI"),INDEX(AE!B$3:B$4347,SMALL(IF(AE!$N$3:$N$4347="OUI",ROW(INDIRECT("1:"&ROWS(AE!$N$3:$N$4347)))),ROWS($3:12))),"")} | C12: {=IF(ROWS($3:12)<=COUNTIF(AE!$N$3:$N$4347,"OUI"),INDEX(AE!C$3:C$4347,SMALL(IF(AE!$N$3:$N$4347="OUI",ROW(INDIRECT("1:"&ROWS(AE!$N$3:$N$4347)))),ROWS($3:12))),"")} | D12: {=IF(ROWS($3:12)<=COUNTIF(AE!$N$3:$N$4347,"OUI"),INDEX(AE!D$3:D$4347,SMALL(IF(AE!$N$3:$N$4347="OUI",ROW(INDIRECT("1:"&ROWS(AE!$N$3:$N$4347)))),ROWS($3:12))),"")} | E12: {=IF(ROWS($3:12)<=COUNTIF(AE!$N$3:$N$4347,"OUI"),INDEX(AE!E$3:E$4347,SMALL(IF(AE!$N$3:$N$4347="OUI",ROW(INDIRECT("1:"&ROWS(AE!$N$3:$N$4347)))),ROWS($3:12))),"")} | F12: {=IF(ROWS($3:12)<=COUNTIF(AE!$N$3:$N$4347,"OUI"),INDEX(AE!F$3:F$4347,SMALL(IF(AE!$N$3:$N$4347="OUI",ROW(INDIRECT("1:"&ROWS(AE!$N$3:$N$4347)))),ROWS($3:12))),"")}
A13: {=IF(ROWS($3:13)<=COUNTIF(AE!$N$3:$N$4347,"OUI"),INDEX(AE!A$3:A$4347,SMALL(IF(AE!$N$3:$N$4347="OUI",ROW(INDIRECT("1:"&ROWS(AE!$N$3:$N$4347)))),ROWS($3:13))),"")} | B13: {=IF(ROWS($3:13)<=COUNTIF(AE!$N$3:$N$4347,"OUI"),INDEX(AE!B$3:B$4347,SMALL(IF(AE!$N$3:$N$4347="OUI",ROW(INDIRECT("1:"&ROWS(AE!$N$3:$N$4347)))),ROWS($3:13))),"")} | C13: {=IF(ROWS($3:13)<=COUNTIF(AE!$N$3:$N$4347,"OUI"),INDEX(AE!C$3:C$4347,SMALL(IF(AE!$N$3:$N$4347="OUI",ROW(INDIRECT("1:"&ROWS(AE!$N$3:$N$4347)))),ROWS($3:13))),"")} | D13: {=IF(ROWS($3:13)<=COUNTIF(AE!$N$3:$N$4347,"OUI"),INDEX(AE!D$3:D$4347,SMALL(IF(AE!$N$3:$N$4347="OUI",ROW(INDIRECT("1:"&ROWS(AE!$N$3:$N$4347)))),ROWS($3:13))),"")} | E13: {=IF(ROWS($3:13)<=COUNTIF(AE!$N$3:$N$4347,"OUI"),INDEX(AE!E$3:E$4347,SMALL(IF(AE!$N$3:$N$4347="OUI",ROW(INDIRECT("1:"&ROWS(AE!$N$3:$N$4347)))),ROWS($3:13))),"")} | F13: {=IF(ROWS($3:13)<=COUNTIF(AE!$N$3:$N$4347,"OUI"),INDEX(AE!F$3:F$4347,SMALL(IF(AE!$N$3:$N$4347="OUI",ROW(INDIRECT("1:"&ROWS(AE!$N$3:$N$4347)))),ROWS($3:13))),"")}
A14: {=IF(ROWS($3:14)<=COUNTIF(AE!$N$3:$N$4347,"OUI"),INDEX(AE!A$3:A$4347,SMALL(IF(AE!$N$3:$N$4347="OUI",ROW(INDIRECT("1:"&ROWS(AE!$N$3:$N$4347)))),ROWS($3:14))),"")} | B14: {=IF(ROWS($3:14)<=COUNTIF(AE!$N$3:$N$4347,"OUI"),INDEX(AE!B$3:B$4347,SMALL(IF(AE!$N$3:$N$4347="OUI",ROW(INDIRECT("1:"&ROWS(AE!$N$3:$N$4347)))),ROWS($3:14))),"")} | C14: {=IF(ROWS($3:14)<=COUNTIF(AE!$N$3:$N$4347,"OUI"),INDEX(AE!C$3:C$4347,SMALL(IF(AE!$N$3:$N$4347="OUI",ROW(INDIRECT("1:"&ROWS(AE!$N$3:$N$4347)))),ROWS($3:14))),"")} | D14: {=IF(ROWS($3:14)<=COUNTIF(AE!$N$3:$N$4347,"OUI"),INDEX(AE!D$3:D$4347,SMALL(IF(AE!$N$3:$N$4347="OUI",ROW(INDIRECT("1:"&ROWS(AE!$N$3:$N$4347)))),ROWS($3:14))),"")} | E14: {=IF(ROWS($3:14)<=COUNTIF(AE!$N$3:$N$4347,"OUI"),INDEX(AE!E$3:E$4347,SMALL(IF(AE!$N$3:$N$4347="OUI",ROW(INDIRECT("1:"&ROWS(AE!$N$3:$N$4347)))),ROWS($3:14))),"")} | F14: {=IF(ROWS($3:14)<=COUNTIF(AE!$N$3:$N$4347,"OUI"),INDEX(AE!F$3:F$4347,SMALL(IF(AE!$N$3:$N$4347="OUI",ROW(INDIRECT("1:"&ROWS(AE!$N$3:$N$4347)))),ROWS($3:14))),"")}
A15: {=IF(ROWS($3:15)<=COUNTIF(AE!$N$3:$N$4347,"OUI"),INDEX(AE!A$3:A$4347,SMALL(IF(AE!$N$3:$N$4347="OUI",ROW(INDIRECT("1:"&ROWS(AE!$N$3:$N$4347)))),ROWS($3:15))),"")} | B15: {=IF(ROWS($3:15)<=COUNTIF(AE!$N$3:$N$4347,"OUI"),INDEX(AE!B$3:B$4347,SMALL(IF(AE!$N$3:$N$4347="OUI",ROW(INDIRECT("1:"&ROWS(AE!$N$3:$N$4347)))),ROWS($3:15))),"")} | C15: {=IF(ROWS($3:15)<=COUNTIF(AE!$N$3:$N$4347,"OUI"),INDEX(AE!C$3:C$4347,SMALL(IF(AE!$N$3:$N$4347="OUI",ROW(INDIRECT("1:"&ROWS(AE!$N$3:$N$4347)))),ROWS($3:15))),"")} | D15: {=IF(ROWS($3:15)<=COUNTIF(AE!$N$3:$N$4347,"OUI"),INDEX(AE!D$3:D$4347,SMALL(IF(AE!$N$3:$N$4347="OUI",ROW(INDIRECT("1:"&ROWS(AE!$N$3:$N$4347)))),ROWS($3:15))),"")} | E15: {=IF(ROWS($3:15)<=COUNTIF(AE!$N$3:$N$4347,"OUI"),INDEX(AE!E$3:E$4347,SMALL(IF(AE!$N$3:$N$4347="OUI",ROW(INDIRECT("1:"&ROWS(AE!$N$3:$N$4347)))),ROWS($3:15))),"")} | F15: {=IF(ROWS($3:15)<=COUNTIF(AE!$N$3:$N$4347,"OUI"),INDEX(AE!F$3:F$4347,SMALL(IF(AE!$N$3:$N$4347="OUI",ROW(INDIRECT("1:"&ROWS(AE!$N$3:$N$4347)))),ROWS($3:15))),"")}
A16: {=IF(ROWS($3:16)<=COUNTIF(AE!$N$3:$N$4347,"OUI"),INDEX(AE!A$3:A$4347,SMALL(IF(AE!$N$3:$N$4347="OUI",ROW(INDIRECT("1:"&ROWS(AE!$N$3:$N$4347)))),ROWS($3:16))),"")} | B16: {=IF(ROWS($3:16)<=COUNTIF(AE!$N$3:$N$4347,"OUI"),INDEX(AE!B$3:B$4347,SMALL(IF(AE!$N$3:$N$4347="OUI",ROW(INDIRECT("1:"&ROWS(AE!$N$3:$N$4347)))),ROWS($3:16))),"")} | C16: {=IF(ROWS($3:16)<=COUNTIF(AE!$N$3:$N$4347,"OUI"),INDEX(AE!C$3:C$4347,SMALL(IF(AE!$N$3:$N$4347="OUI",ROW(INDIRECT("1:"&ROWS(AE!$N$3:$N$4347)))),ROWS($3:16))),"")} | D16: {=IF(ROWS($3:16)<=COUNTIF(AE!$N$3:$N$4347,"OUI"),INDEX(AE!D$3:D$4347,SMALL(IF(AE!$N$3:$N$4347="OUI",ROW(INDIRECT("1:"&ROWS(AE!$N$3:$N$4347)))),ROWS($3:16))),"")} | E16: {=IF(ROWS($3:16)<=COUNTIF(AE!$N$3:$N$4347,"OUI"),INDEX(AE!E$3:E$4347,SMALL(IF(AE!$N$3:$N$4347="OUI",ROW(INDIRECT("1:"&ROWS(AE!$N$3:$N$4347)))),ROWS($3:16))),"")} | F16: {=IF(ROWS($3:16)<=COUNTIF(AE!$N$3:$N$4347,"OUI"),INDEX(AE!F$3:F$4347,SMALL(IF(AE!$N$3:$N$4347="OUI",ROW(INDIRECT("1:"&ROWS(AE!$N$3:$N$4347)))),ROWS($3:16))),"")}
A17: {=IF(ROWS($3:17)<=COUNTIF(AE!$N$3:$N$4347,"OUI"),INDEX(AE!A$3:A$4347,SMALL(IF(AE!$N$3:$N$4347="OUI",ROW(INDIRECT("1:"&ROWS(AE!$N$3:$N$4347)))),ROWS($3:17))),"")} | B17: {=IF(ROWS($3:17)<=COUNTIF(AE!$N$3:$N$4347,"OUI"),INDEX(AE!B$3:B$4347,SMALL(IF(AE!$N$3:$N$4347="OUI",ROW(INDIRECT("1:"&ROWS(AE!$N$3:$N$4347)))),ROWS($3:17))),"")} | C17: {=IF(ROWS($3:17)<=COUNTIF(AE!$N$3:$N$4347,"OUI"),INDEX(AE!C$3:C$4347,SMALL(IF(AE!$N$3:$N$4347="OUI",ROW(INDIRECT("1:"&ROWS(AE!$N$3:$N$4347)))),ROWS($3:17))),"")} | D17: {=IF(ROWS($3:17)<=COUNTIF(AE!$N$3:$N$4347,"OUI"),INDEX(AE!D$3:D$4347,SMALL(IF(AE!$N$3:$N$4347="OUI",ROW(INDIRECT("1:"&ROWS(AE!$N$3:$N$4347)))),ROWS($3:17))),"")} | E17: {=IF(ROWS($3:17)<=COUNTIF(AE!$N$3:$N$4347,"OUI"),INDEX(AE!E$3:E$4347,SMALL(IF(AE!$N$3:$N$4347="OUI",ROW(INDIRECT("1:"&ROWS(AE!$N$3:$N$4347)))),ROWS($3:17))),"")} | F17: {=IF(ROWS($3:17)<=COUNTIF(AE!$N$3:$N$4347,"OUI"),INDEX(AE!F$3:F$4347,SMALL(IF(AE!$N$3:$N$4347="OUI",ROW(INDIRECT("1:"&ROWS(AE!$N$3:$N$4347)))),ROWS($3:17))),"")}
A18: {=IF(ROWS($3:18)<=COUNTIF(AE!$N$3:$N$4347,"OUI"),INDEX(AE!A$3:A$4347,SMALL(IF(AE!$N$3:$N$4347="OUI",ROW(INDIRECT("1:"&ROWS(AE!$N$3:$N$4347)))),ROWS($3:18))),"")} | B18: {=IF(ROWS($3:18)<=COUNTIF(AE!$N$3:$N$4347,"OUI"),INDEX(AE!B$3:B$4347,SMALL(IF(AE!$N$3:$N$4347="OUI",ROW(INDIRECT("1:"&ROWS(AE!$N$3:$N$4347)))),ROWS($3:18))),"")} | C18: {=IF(ROWS($3:18)<=COUNTIF(AE!$N$3:$N$4347,"OUI"),INDEX(AE!C$3:C$4347,SMALL(IF(AE!$N$3:$N$4347="OUI",ROW(INDIRECT("1:"&ROWS(AE!$N$3:$N$4347)))),ROWS($3:18))),"")} | D18: {=IF(ROWS($3:18)<=COUNTIF(AE!$N$3:$N$4347,"OUI"),INDEX(AE!D$3:D$4347,SMALL(IF(AE!$N$3:$N$4347="OUI",ROW(INDIRECT("1:"&ROWS(AE!$N$3:$N$4347)))),ROWS($3:18))),"")} | E18: {=IF(ROWS($3:18)<=COUNTIF(AE!$N$3:$N$4347,"OUI"),INDEX(AE!E$3:E$4347,SMALL(IF(AE!$N$3:$N$4347="OUI",ROW(INDIRECT("1:"&ROWS(AE!$N$3:$N$4347)))),ROWS($3:18))),"")} | F18: {=IF(ROWS($3:18)<=COUNTIF(AE!$N$3:$N$4347,"OUI"),INDEX(AE!F$3:F$4347,SMALL(IF(AE!$N$3:$N$4347="OUI",ROW(INDIRECT("1:"&ROWS(AE!$N$3:$N$4347)))),ROWS($3:18))),"")}
A19: {=IF(ROWS($3:19)<=COUNTIF(AE!$N$3:$N$4347,"OUI"),INDEX(AE!A$3:A$4347,SMALL(IF(AE!$N$3:$N$4347="OUI",ROW(INDIRECT("1:"&ROWS(AE!$N$3:$N$4347)))),ROWS($3:19))),"")} | B19: {=IF(ROWS($3:19)<=COUNTIF(AE!$N$3:$N$4347,"OUI"),INDEX(AE!B$3:B$4347,SMALL(IF(AE!$N$3:$N$4347="OUI",ROW(INDIRECT("1:"&ROWS(AE!$N$3:$N$4347)))),ROWS($3:19))),"")} | C19: {=IF(ROWS($3:19)<=COUNTIF(AE!$N$3:$N$4347,"OUI"),INDEX(AE!C$3:C$4347,SMALL(IF(AE!$N$3:$N$4347="OUI",ROW(INDIRECT("1:"&ROWS(AE!$N$3:$N$4347)))),ROWS($3:19))),"")} | D19: {=IF(ROWS($3:19)<=COUNTIF(AE!$N$3:$N$4347,"OUI"),INDEX(AE!D$3:D$4347,SMALL(IF(AE!$N$3:$N$4347="OUI",ROW(INDIRECT("1:"&ROWS(AE!$N$3:$N$4347)))),ROWS($3:19))),"")} | E19: {=IF(ROWS($3:19)<=COUNTIF(AE!$N$3:$N$4347,"OUI"),INDEX(AE!E$3:E$4347,SMALL(IF(AE!$N$3:$N$4347="OUI",ROW(INDIRECT("1:"&ROWS(AE!$N$3:$N$4347)))),ROWS($3:19))),"")} | F19: {=IF(ROWS($3:19)<=COUNTIF(AE!$N$3:$N$4347,"OUI"),INDEX(AE!F$3:F$4347,SMALL(IF(AE!$N$3:$N$4347="OUI",ROW(INDIRECT("1:"&ROWS(AE!$N$3:$N$4347)))),ROWS($3:19))),"")}
A20: {=IF(ROWS($3:20)<=COUNTIF(AE!$N$3:$N$4347,"OUI"),INDEX(AE!A$3:A$4347,SMALL(IF(AE!$N$3:$N$4347="OUI",ROW(INDIRECT("1:"&ROWS(AE!$N$3:$N$4347)))),ROWS($3:20))),"")} | B20: {=IF(ROWS($3:20)<=COUNTIF(AE!$N$3:$N$4347,"OUI"),INDEX(AE!B$3:B$4347,SMALL(IF(AE!$N$3:$N$4347="OUI",ROW(INDIRECT("1:"&ROWS(AE!$N$3:$N$4347)))),ROWS($3:20))),"")} | C20: {=IF(ROWS($3:20)<=COUNTIF(AE!$N$3:$N$4347,"OUI"),INDEX(AE!C$3:C$4347,SMALL(IF(AE!$N$3:$N$4347="OUI",ROW(INDIRECT("1:"&ROWS(AE!$N$3:$N$4347)))),ROWS($3:20))),"")} | D20: {=IF(ROWS($3:20)<=COUNTIF(AE!$N$3:$N$4347,"OUI"),INDEX(AE!D$3:D$4347,SMALL(IF(AE!$N$3:$N$4347="OUI",ROW(INDIRECT("1:"&ROWS(AE!$N$3:$N$4347)))),ROWS($3:20))),"")} | E20: {=IF(ROWS($3:20)<=COUNTIF(AE!$N$3:$N$4347,"OUI"),INDEX(AE!E$3:E$4347,SMALL(IF(AE!$N$3:$N$4347="OUI",ROW(INDIRECT("1:"&ROWS(AE!$N$3:$N$4347)))),ROWS($3:20))),"")} | F20: {=IF(ROWS($3:20)<=COUNTIF(AE!$N$3:$N$4347,"OUI"),INDEX(AE!F$3:F$4347,SMALL(IF(AE!$N$3:$N$4347="OUI",ROW(INDIRECT("1:"&ROWS(AE!$N$3:$N$4347)))),ROWS($3:20))),"")}
A21: {=IF(ROWS($3:21)<=COUNTIF(AE!$N$3:$N$4347,"OUI"),INDEX(AE!A$3:A$4347,SMALL(IF(AE!$N$3:$N$4347="OUI",ROW(INDIRECT("1:"&ROWS(AE!$N$3:$N$4347)))),ROWS($3:21))),"")} | B21: {=IF(ROWS($3:21)<=COUNTIF(AE!$N$3:$N$4347,"OUI"),INDEX(AE!B$3:B$4347,SMALL(IF(AE!$N$3:$N$4347="OUI",ROW(INDIRECT("1:"&ROWS(AE!$N$3:$N$4347)))),ROWS($3:21))),"")} | C21: {=IF(ROWS($3:21)<=COUNTIF(AE!$N$3:$N$4347,"OUI"),INDEX(AE!C$3:C$4347,SMALL(IF(AE!$N$3:$N$4347="OUI",ROW(INDIRECT("1:"&ROWS(AE!$N$3:$N$4347)))),ROWS($3:21))),"")} | D21: {=IF(ROWS($3:21)<=COUNTIF(AE!$N$3:$N$4347,"OUI"),INDEX(AE!D$3:D$4347,SMALL(IF(AE!$N$3:$N$4347="OUI",ROW(INDIRECT("1:"&ROWS(AE!$N$3:$N$4347)))),ROWS($3:21))),"")} | E21: {=IF(ROWS($3:21)<=COUNTIF(AE!$N$3:$N$4347,"OUI"),INDEX(AE!E$3:E$4347,SMALL(IF(AE!$N$3:$N$4347="OUI",ROW(INDIRECT("1:"&ROWS(AE!$N$3:$N$4347)))),ROWS($3:21))),"")} | F21: {=IF(ROWS($3:21)<=COUNTIF(AE!$N$3:$N$4347,"OUI"),INDEX(AE!F$3:F$4347,SMALL(IF(AE!$N$3:$N$4347="OUI",ROW(INDIRECT("1:"&ROWS(AE!$N$3:$N$4347)))),ROWS($3:21))),"")}
A22: {=IF(ROWS($3:22)<=COUNTIF(AE!$N$3:$N$4347,"OUI"),INDEX(AE!A$3:A$4347,SMALL(IF(AE!$N$3:$N$4347="OUI",ROW(INDIRECT("1:"&ROWS(AE!$N$3:$N$4347)))),ROWS($3:22))),"")} | B22: {=IF(ROWS($3:22)<=COUNTIF(AE!$N$3:$N$4347,"OUI"),INDEX(AE!B$3:B$4347,SMALL(IF(AE!$N$3:$N$4347="OUI",ROW(INDIRECT("1:"&ROWS(AE!$N$3:$N$4347)))),ROWS($3:22))),"")} | C22: {=IF(ROWS($3:22)<=COUNTIF(AE!$N$3:$N$4347,"OUI"),INDEX(AE!C$3:C$4347,SMALL(IF(AE!$N$3:$N$4347="OUI",ROW(INDIRECT("1:"&ROWS(AE!$N$3:$N$4347)))),ROWS($3:22))),"")} | D22: {=IF(ROWS($3:22)<=COUNTIF(AE!$N$3:$N$4347,"OUI"),INDEX(AE!D$3:D$4347,SMALL(IF(AE!$N$3:$N$4347="OUI",ROW(INDIRECT("1:"&ROWS(AE!$N$3:$N$4347)))),ROWS($3:22))),"")} | E22: {=IF(ROWS($3:22)<=COUNTIF(AE!$N$3:$N$4347,"OUI"),INDEX(AE!E$3:E$4347,SMALL(IF(AE!$N$3:$N$4347="OUI",ROW(INDIRECT("1:"&ROWS(AE!$N$3:$N$4347)))),ROWS($3:22))),"")} | F22: {=IF(ROWS($3:22)<=COUNTIF(AE!$N$3:$N$4347,"OUI"),INDEX(AE!F$3:F$4347,SMALL(IF(AE!$N$3:$N$4347="OUI",ROW(INDIRECT("1:"&ROWS(AE!$N$3:$N$4347)))),ROWS($3:22))),"")}
A23: {=IF(ROWS($3:23)<=COUNTIF(AE!$N$3:$N$4347,"OUI"),INDEX(AE!A$3:A$4347,SMALL(IF(AE!$N$3:$N$4347="OUI",ROW(INDIRECT("1:"&ROWS(AE!$N$3:$N$4347)))),ROWS($3:23))),"")} | B23: {=IF(ROWS($3:23)<=COUNTIF(AE!$N$3:$N$4347,"OUI"),INDEX(AE!B$3:B$4347,SMALL(IF(AE!$N$3:$N$4347="OUI",ROW(INDIRECT("1:"&ROWS(AE!$N$3:$N$4347)))),ROWS($3:23))),"")} | C23: {=IF(ROWS($3:23)<=COUNTIF(AE!$N$3:$N$4347,"OUI"),INDEX(AE!C$3:C$4347,SMALL(IF(AE!$N$3:$N$4347="OUI",ROW(INDIRECT("1:"&ROWS(AE!$N$3:$N$4347)))),ROWS($3:23))),"")} | D23: {=IF(ROWS($3:23)<=COUNTIF(AE!$N$3:$N$4347,"OUI"),INDEX(AE!D$3:D$4347,SMALL(IF(AE!$N$3:$N$4347="OUI",ROW(INDIRECT("1:"&ROWS(AE!$N$3:$N$4347)))),ROWS($3:23))),"")} | E23: {=IF(ROWS($3:23)<=COUNTIF(AE!$N$3:$N$4347,"OUI"),INDEX(AE!E$3:E$4347,SMALL(IF(AE!$N$3:$N$4347="OUI",ROW(INDIRECT("1:"&ROWS(AE!$N$3:$N$4347)))),ROWS($3:23))),"")} | F23: {=IF(ROWS($3:23)<=COUNTIF(AE!$N$3:$N$4347,"OUI"),INDEX(AE!F$3:F$4347,SMALL(IF(AE!$N$3:$N$4347="OUI",ROW(INDIRECT("1:"&ROWS(AE!$N$3:$N$4347)))),ROWS($3:23))),"")}
A24: {=IF(ROWS($3:24)<=COUNTIF(AE!$N$3:$N$4347,"OUI"),INDEX(AE!A$3:A$4347,SMALL(IF(AE!$N$3:$N$4347="OUI",ROW(INDIRECT("1:"&ROWS(AE!$N$3:$N$4347)))),ROWS($3:24))),"")} | B24: {=IF(ROWS($3:24)<=COUNTIF(AE!$N$3:$N$4347,"OUI"),INDEX(AE!B$3:B$4347,SMALL(IF(AE!$N$3:$N$4347="OUI",ROW(INDIRECT("1:"&ROWS(AE!$N$3:$N$4347)))),ROWS($3:24))),"")} | C24: {=IF(ROWS($3:24)<=COUNTIF(AE!$N$3:$N$4347,"OUI"),INDEX(AE!C$3:C$4347,SMALL(IF(AE!$N$3:$N$4347="OUI",ROW(INDIRECT("1:"&ROWS(AE!$N$3:$N$4347)))),ROWS($3:24))),"")} | D24: {=IF(ROWS($3:24)<=COUNTIF(AE!$N$3:$N$4347,"OUI"),INDEX(AE!D$3:D$4347,SMALL(IF(AE!$N$3:$N$4347="OUI",ROW(INDIRECT("1:"&ROWS(AE!$N$3:$N$4347)))),ROWS($3:24))),"")} | E24: {=IF(ROWS($3:24)<=COUNTIF(AE!$N$3:$N$4347,"OUI"),INDEX(AE!E$3:E$4347,SMALL(IF(AE!$N$3:$N$4347="OUI",ROW(INDIRECT("1:"&ROWS(AE!$N$3:$N$4347)))),ROWS($3:24))),"")} | F24: {=IF(ROWS($3:24)<=COUNTIF(AE!$N$3:$N$4347,"OUI"),INDEX(AE!F$3:F$4347,SMALL(IF(AE!$N$3:$N$4347="OUI",ROW(INDIRECT("1:"&ROWS(AE!$N$3:$N$4347)))),ROWS($3:24))),"")}
A25: {=IF(ROWS($3:25)<=COUNTIF(AE!$N$3:$N$4347,"OUI"),INDEX(AE!A$3:A$4347,SMALL(IF(AE!$N$3:$N$4347="OUI",ROW(INDIRECT("1:"&ROWS(AE!$N$3:$N$4347)))),ROWS($3:25))),"")} | B25: {=IF(ROWS($3:25)<=COUNTIF(AE!$N$3:$N$4347,"OUI"),INDEX(AE!B$3:B$4347,SMALL(IF(AE!$N$3:$N$4347="OUI",ROW(INDIRECT("1:"&ROWS(AE!$N$3:$N$4347)))),ROWS($3:25))),"")} | C25: {=IF(ROWS($3:25)<=COUNTIF(AE!$N$3:$N$4347,"OUI"),INDEX(AE!C$3:C$4347,SMALL(IF(AE!$N$3:$N$4347="OUI",ROW(INDIRECT("1:"&ROWS(AE!$N$3:$N$4347)))),ROWS($3:25))),"")} | D25: {=IF(ROWS($3:25)<=COUNTIF(AE!$N$3:$N$4347,"OUI"),INDEX(AE!D$3:D$4347,SMALL(IF(AE!$N$3:$N$4347="OUI",ROW(INDIRECT("1:"&ROWS(AE!$N$3:$N$4347)))),ROWS($3:25))),"")} | E25: {=IF(ROWS($3:25)<=COUNTIF(AE!$N$3:$N$4347,"OUI"),INDEX(AE!E$3:E$4347,SMALL(IF(AE!$N$3:$N$4347="OUI",ROW(INDIRECT("1:"&ROWS(AE!$N$3:$N$4347)))),ROWS($3:25))),"")} | F25: {=IF(ROWS($3:25)<=COUNTIF(AE!$N$3:$N$4347,"OUI"),INDEX(AE!F$3:F$4347,SMALL(IF(AE!$N$3:$N$4347="OUI",ROW(INDIRECT("1:"&ROWS(AE!$N$3:$N$4347)))),ROWS($3:25))),"")}
A26: {=IF(ROWS($3:26)<=COUNTIF(AE!$N$3:$N$4347,"OUI"),INDEX(AE!A$3:A$4347,SMALL(IF(AE!$N$3:$N$4347="OUI",ROW(INDIRECT("1:"&ROWS(AE!$N$3:$N$4347)))),ROWS($3:26))),"")} | B26: {=IF(ROWS($3:26)<=COUNTIF(AE!$N$3:$N$4347,"OUI"),INDEX(AE!B$3:B$4347,SMALL(IF(AE!$N$3:$N$4347="OUI",ROW(INDIRECT("1:"&ROWS(AE!$N$3:$N$4347)))),ROWS($3:26))),"")} | C26: {=IF(ROWS($3:26)<=COUNTIF(AE!$N$3:$N$4347,"OUI"),INDEX(AE!C$3:C$4347,SMALL(IF(AE!$N$3:$N$4347="OUI",ROW(INDIRECT("1:"&ROWS(AE!$N$3:$N$4347)))),ROWS($3:26))),"")} | D26: {=IF(ROWS($3:26)<=COUNTIF(AE!$N$3:$N$4347,"OUI"),INDEX(AE!D$3:D$4347,SMALL(IF(AE!$N$3:$N$4347="OUI",ROW(INDIRECT("1:"&ROWS(AE!$N$3:$N$4347)))),ROWS($3:26))),"")} | E26: {=IF(ROWS($3:26)<=COUNTIF(AE!$N$3:$N$4347,"OUI"),INDEX(AE!E$3:E$4347,SMALL(IF(AE!$N$3:$N$4347="OUI",ROW(INDIRECT("1:"&ROWS(AE!$N$3:$N$4347)))),ROWS($3:26))),"")} | F26: {=IF(ROWS($3:26)<=COUNTIF(AE!$N$3:$N$4347,"OUI"),INDEX(AE!F$3:F$4347,SMALL(IF(AE!$N$3:$N$4347="OUI",ROW(INDIRECT("1:"&ROWS(AE!$N$3:$N$4347)))),ROWS($3:26))),"")}
A27: {=IF(ROWS($3:27)<=COUNTIF(AE!$N$3:$N$4347,"OUI"),INDEX(AE!A$3:A$4347,SMALL(IF(AE!$N$3:$N$4347="OUI",ROW(INDIRECT("1:"&ROWS(AE!$N$3:$N$4347)))),ROWS($3:27))),"")} | B27: {=IF(ROWS($3:27)<=COUNTIF(AE!$N$3:$N$4347,"OUI"),INDEX(AE!B$3:B$4347,SMALL(IF(AE!$N$3:$N$4347="OUI",ROW(INDIRECT("1:"&ROWS(AE!$N$3:$N$4347)))),ROWS($3:27))),"")} | C27: {=IF(ROWS($3:27)<=COUNTIF(AE!$N$3:$N$4347,"OUI"),INDEX(AE!C$3:C$4347,SMALL(IF(AE!$N$3:$N$4347="OUI",ROW(INDIRECT("1:"&ROWS(AE!$N$3:$N$4347)))),ROWS($3:27))),"")} | D27: {=IF(ROWS($3:27)<=COUNTIF(AE!$N$3:$N$4347,"OUI"),INDEX(AE!D$3:D$4347,SMALL(IF(AE!$N$3:$N$4347="OUI",ROW(INDIRECT("1:"&ROWS(AE!$N$3:$N$4347)))),ROWS($3:27))),"")} | E27: {=IF(ROWS($3:27)<=COUNTIF(AE!$N$3:$N$4347,"OUI"),INDEX(AE!E$3:E$4347,SMALL(IF(AE!$N$3:$N$4347="OUI",ROW(INDIRECT("1:"&ROWS(AE!$N$3:$N$4347)))),ROWS($3:27))),"")} | F27: {=IF(ROWS($3:27)<=COUNTIF(AE!$N$3:$N$4347,"OUI"),INDEX(AE!F$3:F$4347,SMALL(IF(AE!$N$3:$N$4347="OUI",ROW(INDIRECT("1:"&ROWS(AE!$N$3:$N$4347)))),ROWS($3:27))),"")}
A28: {=IF(ROWS($3:28)<=COUNTIF(AE!$N$3:$N$4347,"OUI"),INDEX(AE!A$3:A$4347,SMALL(IF(AE!$N$3:$N$4347="OUI",ROW(INDIRECT("1:"&ROWS(AE!$N$3:$N$4347)))),ROWS($3:28))),"")} | B28: {=IF(ROWS($3:28)<=COUNTIF(AE!$N$3:$N$4347,"OUI"),INDEX(AE!B$3:B$4347,SMALL(IF(AE!$N$3:$N$4347="OUI",ROW(INDIRECT("1:"&ROWS(AE!$N$3:$N$4347)))),ROWS($3:28))),"")} | C28: {=IF(ROWS($3:28)<=COUNTIF(AE!$N$3:$N$4347,"OUI"),INDEX(AE!C$3:C$4347,SMALL(IF(AE!$N$3:$N$4347="OUI",ROW(INDIRECT("1:"&ROWS(AE!$N$3:$N$4347)))),ROWS($3:28))),"")} | D28: {=IF(ROWS($3:28)<=COUNTIF(AE!$N$3:$N$4347,"OUI"),INDEX(AE!D$3:D$4347,SMALL(IF(AE!$N$3:$N$4347="OUI",ROW(INDIRECT("1:"&ROWS(AE!$N$3:$N$4347)))),ROWS($3:28))),"")} | E28: {=IF(ROWS($3:28)<=COUNTIF(AE!$N$3:$N$4347,"OUI"),INDEX(AE!E$3:E$4347,SMALL(IF(AE!$N$3:$N$4347="OUI",ROW(INDIRECT("1:"&ROWS(AE!$N$3:$N$4347)))),ROWS($3:28))),"")} | F28: {=IF(ROWS($3:28)<=COUNTIF(AE!$N$3:$N$4347,"OUI"),INDEX(AE!F$3:F$4347,SMALL(IF(AE!$N$3:$N$4347="OUI",ROW(INDIRECT("1:"&ROWS(AE!$N$3:$N$4347)))),ROWS($3:28))),"")}
A29: {=IF(ROWS($3:29)<=COUNTIF(AE!$N$3:$N$4347,"OUI"),INDEX(AE!A$3:A$4347,SMALL(IF(AE!$N$3:$N$4347="OUI",ROW(INDIRECT("1:"&ROWS(AE!$N$3:$N$4347)))),ROWS($3:29))),"")} | B29: {=IF(ROWS($3:29)<=COUNTIF(AE!$N$3:$N$4347,"OUI"),INDEX(AE!B$3:B$4347,SMALL(IF(AE!$N$3:$N$4347="OUI",ROW(INDIRECT("1:"&ROWS(AE!$N$3:$N$4347)))),ROWS($3:29))),"")} | C29: {=IF(ROWS($3:29)<=COUNTIF(AE!$N$3:$N$4347,"OUI"),INDEX(AE!C$3:C$4347,SMALL(IF(AE!$N$3:$N$4347="OUI",ROW(INDIRECT("1:"&ROWS(AE!$N$3:$N$4347)))),ROWS($3:29))),"")} | D29: {=IF(ROWS($3:29)<=COUNTIF(AE!$N$3:$N$4347,"OUI"),INDEX(AE!D$3:D$4347,SMALL(IF(AE!$N$3:$N$4347="OUI",ROW(INDIRECT("1:"&ROWS(AE!$N$3:$N$4347)))),ROWS($3:29))),"")} | E29: {=IF(ROWS($3:29)<=COUNTIF(AE!$N$3:$N$4347,"OUI"),INDEX(AE!E$3:E$4347,SMALL(IF(AE!$N$3:$N$4347="OUI",ROW(INDIRECT("1:"&ROWS(AE!$N$3:$N$4347)))),ROWS($3:29))),"")} | F29: {=IF(ROWS($3:29)<=COUNTIF(AE!$N$3:$N$4347,"OUI"),INDEX(AE!F$3:F$4347,SMALL(IF(AE!$N$3:$N$4347="OUI",ROW(INDIRECT("1:"&ROWS(AE!$N$3:$N$4347)))),ROWS($3:29))),"")}
A30: {=IF(ROWS($3:30)<=COUNTIF(AE!$N$3:$N$4347,"OUI"),INDEX(AE!A$3:A$4347,SMALL(IF(AE!$N$3:$N$4347="OUI",ROW(INDIRECT("1:"&ROWS(AE!$N$3:$N$4347)))),ROWS($3:30))),"")} | B30: {=IF(ROWS($3:30)<=COUNTIF(AE!$N$3:$N$4347,"OUI"),INDEX(AE!B$3:B$4347,SMALL(IF(AE!$N$3:$N$4347="OUI",ROW(INDIRECT("1:"&ROWS(AE!$N$3:$N$4347)))),ROWS($3:30))),"")} | C30: {=IF(ROWS($3:30)<=COUNTIF(AE!$N$3:$N$4347,"OUI"),INDEX(AE!C$3:C$4347,SMALL(IF(AE!$N$3:$N$4347="OUI",ROW(INDIRECT("1:"&ROWS(AE!$N$3:$N$4347)))),ROWS($3:30))),"")} | D30: {=IF(ROWS($3:30)<=COUNTIF(AE!$N$3:$N$4347,"OUI"),INDEX(AE!D$3:D$4347,SMALL(IF(AE!$N$3:$N$4347="OUI",ROW(INDIRECT("1:"&ROWS(AE!$N$3:$N$4347)))),ROWS($3:30))),"")} | E30: {=IF(ROWS($3:30)<=COUNTIF(AE!$N$3:$N$4347,"OUI"),INDEX(AE!E$3:E$4347,SMALL(IF(AE!$N$3:$N$4347="OUI",ROW(INDIRECT("1:"&ROWS(AE!$N$3:$N$4347)))),ROWS($3:30))),"")} | F30: {=IF(ROWS($3:30)<=COUNTIF(AE!$N$3:$N$4347,"OUI"),INDEX(AE!F$3:F$4347,SMALL(IF(AE!$N$3:$N$4347="OUI",ROW(INDIRECT("1:"&ROWS(AE!$N$3:$N$4347)))),ROWS($3:30))),"")}
A31: {=IF(ROWS($3:31)<=COUNTIF(AE!$N$3:$N$4347,"OUI"),INDEX(AE!A$3:A$4347,SMALL(IF(AE!$N$3:$N$4347="OUI",ROW(INDIRECT("1:"&ROWS(AE!$N$3:$N$4347)))),ROWS($3:31))),"")} | B31: {=IF(ROWS($3:31)<=COUNTIF(AE!$N$3:$N$4347,"OUI"),INDEX(AE!B$3:B$4347,SMALL(IF(AE!$N$3:$N$4347="OUI",ROW(INDIRECT("1:"&ROWS(AE!$N$3:$N$4347)))),ROWS($3:31))),"")} | C31: {=IF(ROWS($3:31)<=COUNTIF(AE!$N$3:$N$4347,"OUI"),INDEX(AE!C$3:C$4347,SMALL(IF(AE!$N$3:$N$4347="OUI",ROW(INDIRECT("1:"&ROWS(AE!$N$3:$N$4347)))),ROWS($3:31))),"")} | D31: {=IF(ROWS($3:31)<=COUNTIF(AE!$N$3:$N$4347,"OUI"),INDEX(AE!D$3:D$4347,SMALL(IF(AE!$N$3:$N$4347="OUI",ROW(INDIRECT("1:"&ROWS(AE!$N$3:$N$4347)))),ROWS($3:31))),"")} | E31: {=IF(ROWS($3:31)<=COUNTIF(AE!$N$3:$N$4347,"OUI"),INDEX(AE!E$3:E$4347,SMALL(IF(AE!$N$3:$N$4347="OUI",ROW(INDIRECT("1:"&ROWS(AE!$N$3:$N$4347)))),ROWS($3:31))),"")} | F31: {=IF(ROWS($3:31)<=COUNTIF(AE!$N$3:$N$4347,"OUI"),INDEX(AE!F$3:F$4347,SMALL(IF(AE!$N$3:$N$4347="OUI",ROW(INDIRECT("1:"&ROWS(AE!$N$3:$N$4347)))),ROWS($3:31))),"")}
A32: {=IF(ROWS($3:32)<=COUNTIF(AE!$N$3:$N$4347,"OUI"),INDEX(AE!A$3:A$4347,SMALL(IF(AE!$N$3:$N$4347="OUI",ROW(INDIRECT("1:"&ROWS(AE!$N$3:$N$4347)))),ROWS($3:32))),"")} | B32: {=IF(ROWS($3:32)<=COUNTIF(AE!$N$3:$N$4347,"OUI"),INDEX(AE!B$3:B$4347,SMALL(IF(AE!$N$3:$N$4347="OUI",ROW(INDIRECT("1:"&ROWS(AE!$N$3:$N$4347)))),ROWS($3:32))),"")} | C32: {=IF(ROWS($3:32)<=COUNTIF(AE!$N$3:$N$4347,"OUI"),INDEX(AE!C$3:C$4347,SMALL(IF(AE!$N$3:$N$4347="OUI",ROW(INDIRECT("1:"&ROWS(AE!$N$3:$N$4347)))),ROWS($3:32))),"")} | D32: {=IF(ROWS($3:32)<=COUNTIF(AE!$N$3:$N$4347,"OUI"),INDEX(AE!D$3:D$4347,SMALL(IF(AE!$N$3:$N$4347="OUI",ROW(INDIRECT("1:"&ROWS(AE!$N$3:$N$4347)))),ROWS($3:32))),"")} | E32: {=IF(ROWS($3:32)<=COUNTIF(AE!$N$3:$N$4347,"OUI"),INDEX(AE!E$3:E$4347,SMALL(IF(AE!$N$3:$N$4347="OUI",ROW(INDIRECT("1:"&ROWS(AE!$N$3:$N$4347)))),ROWS($3:32))),"")} | F32: {=IF(ROWS($3:32)<=COUNTIF(AE!$N$3:$N$4347,"OUI"),INDEX(AE!F$3:F$4347,SMALL(IF(AE!$N$3:$N$4347="OUI",ROW(INDIRECT("1:"&ROWS(AE!$N$3:$N$4347)))),ROWS($3:32))),"")}
A33: {=IF(ROWS($3:33)<=COUNTIF(AE!$N$3:$N$4347,"OUI"),INDEX(AE!A$3:A$4347,SMALL(IF(AE!$N$3:$N$4347="OUI",ROW(INDIRECT("1:"&ROWS(AE!$N$3:$N$4347)))),ROWS($3:33))),"")} | B33: {=IF(ROWS($3:33)<=COUNTIF(AE!$N$3:$N$4347,"OUI"),INDEX(AE!B$3:B$4347,SMALL(IF(AE!$N$3:$N$4347="OUI",ROW(INDIRECT("1:"&ROWS(AE!$N$3:$N$4347)))),ROWS($3:33))),"")} | C33: {=IF(ROWS($3:33)<=COUNTIF(AE!$N$3:$N$4347,"OUI"),INDEX(AE!C$3:C$4347,SMALL(IF(AE!$N$3:$N$4347="OUI",ROW(INDIRECT("1:"&ROWS(AE!$N$3:$N$4347)))),ROWS($3:33))),"")} | D33: {=IF(ROWS($3:33)<=COUNTIF(AE!$N$3:$N$4347,"OUI"),INDEX(AE!D$3:D$4347,SMALL(IF(AE!$N$3:$N$4347="OUI",ROW(INDIRECT("1:"&ROWS(AE!$N$3:$N$4347)))),ROWS($3:33))),"")} | E33: {=IF(ROWS($3:33)<=COUNTIF(AE!$N$3:$N$4347,"OUI"),INDEX(AE!E$3:E$4347,SMALL(IF(AE!$N$3:$N$4347="OUI",ROW(INDIRECT("1:"&ROWS(AE!$N$3:$N$4347)))),ROWS($3:33))),"")} | F33: {=IF(ROWS($3:33)<=COUNTIF(AE!$N$3:$N$4347,"OUI"),INDEX(AE!F$3:F$4347,SMALL(IF(AE!$N$3:$N$4347="OUI",ROW(INDIRECT("1:"&ROWS(AE!$N$3:$N$4347)))),ROWS($3:33))),"")}
A34: {=IF(ROWS($3:34)<=COUNTIF(AE!$N$3:$N$4347,"OUI"),INDEX(AE!A$3:A$4347,SMALL(IF(AE!$N$3:$N$4347="OUI",ROW(INDIRECT("1:"&ROWS(AE!$N$3:$N$4347)))),ROWS($3:34))),"")} | B34: {=IF(ROWS($3:34)<=COUNTIF(AE!$N$3:$N$4347,"OUI"),INDEX(AE!B$3:B$4347,SMALL(IF(AE!$N$3:$N$4347="OUI",ROW(INDIRECT("1:"&ROWS(AE!$N$3:$N$4347)))),ROWS($3:34))),"")} | C34: {=IF(ROWS($3:34)<=COUNTIF(AE!$N$3:$N$4347,"OUI"),INDEX(AE!C$3:C$4347,SMALL(IF(AE!$N$3:$N$4347="OUI",ROW(INDIRECT("1:"&ROWS(AE!$N$3:$N$4347)))),ROWS($3:34))),"")} | D34: {=IF(ROWS($3:34)<=COUNTIF(AE!$N$3:$N$4347,"OUI"),INDEX(AE!D$3:D$4347,SMALL(IF(AE!$N$3:$N$4347="OUI",ROW(INDIRECT("1:"&ROWS(AE!$N$3:$N$4347)))),ROWS($3:34))),"")} | E34: {=IF(ROWS($3:34)<=COUNTIF(AE!$N$3:$N$4347,"OUI"),INDEX(AE!E$3:E$4347,SMALL(IF(AE!$N$3:$N$4347="OUI",ROW(INDIRECT("1:"&ROWS(AE!$N$3:$N$4347)))),ROWS($3:34))),"")} | F34: {=IF(ROWS($3:34)<=COUNTIF(AE!$N$3:$N$4347,"OUI"),INDEX(AE!F$3:F$4347,SMALL(IF(AE!$N$3:$N$4347="OUI",ROW(INDIRECT("1:"&ROWS(AE!$N$3:$N$4347)))),ROWS($3:34))),"")}
A35: {=IF(ROWS($3:35)<=COUNTIF(AE!$N$3:$N$4347,"OUI"),INDEX(AE!A$3:A$4347,SMALL(IF(AE!$N$3:$N$4347="OUI",ROW(INDIRECT("1:"&ROWS(AE!$N$3:$N$4347)))),ROWS($3:35))),"")} | B35: {=IF(ROWS($3:35)<=COUNTIF(AE!$N$3:$N$4347,"OUI"),INDEX(AE!B$3:B$4347,SMALL(IF(AE!$N$3:$N$4347="OUI",ROW(INDIRECT("1:"&ROWS(AE!$N$3:$N$4347)))),ROWS($3:35))),"")} | C35: {=IF(ROWS($3:35)<=COUNTIF(AE!$N$3:$N$4347,"OUI"),INDEX(AE!C$3:C$4347,SMALL(IF(AE!$N$3:$N$4347="OUI",ROW(INDIRECT("1:"&ROWS(AE!$N$3:$N$4347)))),ROWS($3:35))),"")} | D35: {=IF(ROWS($3:35)<=COUNTIF(AE!$N$3:$N$4347,"OUI"),INDEX(AE!D$3:D$4347,SMALL(IF(AE!$N$3:$N$4347="OUI",ROW(INDIRECT("1:"&ROWS(AE!$N$3:$N$4347)))),ROWS($3:35))),"")} | E35: {=IF(ROWS($3:35)<=COUNTIF(AE!$N$3:$N$4347,"OUI"),INDEX(AE!E$3:E$4347,SMALL(IF(AE!$N$3:$N$4347="OUI",ROW(INDIRECT("1:"&ROWS(AE!$N$3:$N$4347)))),ROWS($3:35))),"")} | F35: {=IF(ROWS($3:35)<=COUNTIF(AE!$N$3:$N$4347,"OUI"),INDEX(AE!F$3:F$4347,SMALL(IF(AE!$N$3:$N$4347="OUI",ROW(INDIRECT("1:"&ROWS(AE!$N$3:$N$4347)))),ROWS($3:35))),"")}
A36: {=IF(ROWS($3:36)<=COUNTIF(AE!$N$3:$N$4347,"OUI"),INDEX(AE!A$3:A$4347,SMALL(IF(AE!$N$3:$N$4347="OUI",ROW(INDIRECT("1:"&ROWS(AE!$N$3:$N$4347)))),ROWS($3:36))),"")} | B36: {=IF(ROWS($3:36)<=COUNTIF(AE!$N$3:$N$4347,"OUI"),INDEX(AE!B$3:B$4347,SMALL(IF(AE!$N$3:$N$4347="OUI",ROW(INDIRECT("1:"&ROWS(AE!$N$3:$N$4347)))),ROWS($3:36))),"")} | C36: {=IF(ROWS($3:36)<=COUNTIF(AE!$N$3:$N$4347,"OUI"),INDEX(AE!C$3:C$4347,SMALL(IF(AE!$N$3:$N$4347="OUI",ROW(INDIRECT("1:"&ROWS(AE!$N$3:$N$4347)))),ROWS($3:36))),"")} | D36: {=IF(ROWS($3:36)<=COUNTIF(AE!$N$3:$N$4347,"OUI"),INDEX(AE!D$3:D$4347,SMALL(IF(AE!$N$3:$N$4347="OUI",ROW(INDIRECT("1:"&ROWS(AE!$N$3:$N$4347)))),ROWS($3:36))),"")} | E36: {=IF(ROWS($3:36)<=COUNTIF(AE!$N$3:$N$4347,"OUI"),INDEX(AE!E$3:E$4347,SMALL(IF(AE!$N$3:$N$4347="OUI",ROW(INDIRECT("1:"&ROWS(AE!$N$3:$N$4347)))),ROWS($3:36))),"")} | F36: {=IF(ROWS($3:36)<=COUNTIF(AE!$N$3:$N$4347,"OUI"),INDEX(AE!F$3:F$4347,SMALL(IF(AE!$N$3:$N$4347="OUI",ROW(INDIRECT("1:"&ROWS(AE!$N$3:$N$4347)))),ROWS($3:36))),"")}
A37: {=IF(ROWS($3:37)<=COUNTIF(AE!$N$3:$N$4347,"OUI"),INDEX(AE!A$3:A$4347,SMALL(IF(AE!$N$3:$N$4347="OUI",ROW(INDIRECT("1:"&ROWS(AE!$N$3:$N$4347)))),ROWS($3:37))),"")} | B37: {=IF(ROWS($3:37)<=COUNTIF(AE!$N$3:$N$4347,"OUI"),INDEX(AE!B$3:B$4347,SMALL(IF(AE!$N$3:$N$4347="OUI",ROW(INDIRECT("1:"&ROWS(AE!$N$3:$N$4347)))),ROWS($3:37))),"")} | C37: {=IF(ROWS($3:37)<=COUNTIF(AE!$N$3:$N$4347,"OUI"),INDEX(AE!C$3:C$4347,SMALL(IF(AE!$N$3:$N$4347="OUI",ROW(INDIRECT("1:"&ROWS(AE!$N$3:$N$4347)))),ROWS($3:37))),"")} | D37: {=IF(ROWS($3:37)<=COUNTIF(AE!$N$3:$N$4347,"OUI"),INDEX(AE!D$3:D$4347,SMALL(IF(AE!$N$3:$N$4347="OUI",ROW(INDIRECT("1:"&ROWS(AE!$N$3:$N$4347)))),ROWS($3:37))),"")} | E37: {=IF(ROWS($3:37)<=COUNTIF(AE!$N$3:$N$4347,"OUI"),INDEX(AE!E$3:E$4347,SMALL(IF(AE!$N$3:$N$4347="OUI",ROW(INDIRECT("1:"&ROWS(AE!$N$3:$N$4347)))),ROWS($3:37))),"")} | F37: {=IF(ROWS($3:37)<=COUNTIF(AE!$N$3:$N$4347,"OUI"),INDEX(AE!F$3:F$4347,SMALL(IF(AE!$N$3:$N$4347="OUI",ROW(INDIRECT("1:"&ROWS(AE!$N$3:$N$4347)))),ROWS($3:37))),"")}
A38: {=IF(ROWS($3:38)<=COUNTIF(AE!$N$3:$N$4347,"OUI"),INDEX(AE!A$3:A$4347,SMALL(IF(AE!$N$3:$N$4347="OUI",ROW(INDIRECT("1:"&ROWS(AE!$N$3:$N$4347)))),ROWS($3:38))),"")} | B38: {=IF(ROWS($3:38)<=COUNTIF(AE!$N$3:$N$4347,"OUI"),INDEX(AE!B$3:B$4347,SMALL(IF(AE!$N$3:$N$4347="OUI",ROW(INDIRECT("1:"&ROWS(AE!$N$3:$N$4347)))),ROWS($3:38))),"")} | C38: {=IF(ROWS($3:38)<=COUNTIF(AE!$N$3:$N$4347,"OUI"),INDEX(AE!C$3:C$4347,SMALL(IF(AE!$N$3:$N$4347="OUI",ROW(INDIRECT("1:"&ROWS(AE!$N$3:$N$4347)))),ROWS($3:38))),"")} | D38: {=IF(ROWS($3:38)<=COUNTIF(AE!$N$3:$N$4347,"OUI"),INDEX(AE!D$3:D$4347,SMALL(IF(AE!$N$3:$N$4347="OUI",ROW(INDIRECT("1:"&ROWS(AE!$N$3:$N$4347)))),ROWS($3:38))),"")} | E38: {=IF(ROWS($3:38)<=COUNTIF(AE!$N$3:$N$4347,"OUI"),INDEX(AE!E$3:E$4347,SMALL(IF(AE!$N$3:$N$4347="OUI",ROW(INDIRECT("1:"&ROWS(AE!$N$3:$N$4347)))),ROWS($3:38))),"")} | F38: {=IF(ROWS($3:38)<=COUNTIF(AE!$N$3:$N$4347,"OUI"),INDEX(AE!F$3:F$4347,SMALL(IF(AE!$N$3:$N$4347="OUI",ROW(INDIRECT("1:"&ROWS(AE!$N$3:$N$4347)))),ROWS($3:38))),"")}
A39: {=IF(ROWS($3:39)<=COUNTIF(AE!$N$3:$N$4347,"OUI"),INDEX(AE!A$3:A$4347,SMALL(IF(AE!$N$3:$N$4347="OUI",ROW(INDIRECT("1:"&ROWS(AE!$N$3:$N$4347)))),ROWS($3:39))),"")} | B39: {=IF(ROWS($3:39)<=COUNTIF(AE!$N$3:$N$4347,"OUI"),INDEX(AE!B$3:B$4347,SMALL(IF(AE!$N$3:$N$4347="OUI",ROW(INDIRECT("1:"&ROWS(AE!$N$3:$N$4347)))),ROWS($3:39))),"")} | C39: {=IF(ROWS($3:39)<=COUNTIF(AE!$N$3:$N$4347,"OUI"),INDEX(AE!C$3:C$4347,SMALL(IF(AE!$N$3:$N$4347="OUI",ROW(INDIRECT("1:"&ROWS(AE!$N$3:$N$4347)))),ROWS($3:39))),"")} | D39: {=IF(ROWS($3:39)<=COUNTIF(AE!$N$3:$N$4347,"OUI"),INDEX(AE!D$3:D$4347,SMALL(IF(AE!$N$3:$N$4347="OUI",ROW(INDIRECT("1:"&ROWS(AE!$N$3:$N$4347)))),ROWS($3:39))),"")} | E39: {=IF(ROWS($3:39)<=COUNTIF(AE!$N$3:$N$4347,"OUI"),INDEX(AE!E$3:E$4347,SMALL(IF(AE!$N$3:$N$4347="OUI",ROW(INDIRECT("1:"&ROWS(AE!$N$3:$N$4347)))),ROWS($3:39))),"")} | F39: {=IF(ROWS($3:39)<=COUNTIF(AE!$N$3:$N$4347,"OUI"),INDEX(AE!F$3:F$4347,SMALL(IF(AE!$N$3:$N$4347="OUI",ROW(INDIRECT("1:"&ROWS(AE!$N$3:$N$4347)))),ROWS($3:39))),"")}
A40: {=IF(ROWS($3:40)<=COUNTIF(AE!$N$3:$N$4347,"OUI"),INDEX(AE!A$3:A$4347,SMALL(IF(AE!$N$3:$N$4347="OUI",ROW(INDIRECT("1:"&ROWS(AE!$N$3:$N$4347)))),ROWS($3:40))),"")} | B40: {=IF(ROWS($3:40)<=COUNTIF(AE!$N$3:$N$4347,"OUI"),INDEX(AE!B$3:B$4347,SMALL(IF(AE!$N$3:$N$4347="OUI",ROW(INDIRECT("1:"&ROWS(AE!$N$3:$N$4347)))),ROWS($3:40))),"")} | C40: {=IF(ROWS($3:40)<=COUNTIF(AE!$N$3:$N$4347,"OUI"),INDEX(AE!C$3:C$4347,SMALL(IF(AE!$N$3:$N$4347="OUI",ROW(INDIRECT("1:"&ROWS(AE!$N$3:$N$4347)))),ROWS($3:40))),"")} | D40: {=IF(ROWS($3:40)<=COUNTIF(AE!$N$3:$N$4347,"OUI"),INDEX(AE!D$3:D$4347,SMALL(IF(AE!$N$3:$N$4347="OUI",ROW(INDIRECT("1:"&ROWS(AE!$N$3:$N$4347)))),ROWS($3:40))),"")} | E40: {=IF(ROWS($3:40)<=COUNTIF(AE!$N$3:$N$4347,"OUI"),INDEX(AE!E$3:E$4347,SMALL(IF(AE!$N$3:$N$4347="OUI",ROW(INDIRECT("1:"&ROWS(AE!$N$3:$N$4347)))),ROWS($3:40))),"")} | F40: {=IF(ROWS($3:40)<=COUNTIF(AE!$N$3:$N$4347,"OUI"),INDEX(AE!F$3:F$4347,SMALL(IF(AE!$N$3:$N$4347="OUI",ROW(INDIRECT("1:"&ROWS(AE!$N$3:$N$4347)))),ROWS($3:40))),"")}
A41: {=IF(ROWS($3:41)<=COUNTIF(AE!$N$3:$N$4347,"OUI"),INDEX(AE!A$3:A$4347,SMALL(IF(AE!$N$3:$N$4347="OUI",ROW(INDIRECT("1:"&ROWS(AE!$N$3:$N$4347)))),ROWS($3:41))),"")} | B41: {=IF(ROWS($3:41)<=COUNTIF(AE!$N$3:$N$4347,"OUI"),INDEX(AE!B$3:B$4347,SMALL(IF(AE!$N$3:$N$4347="OUI",ROW(INDIRECT("1:"&ROWS(AE!$N$3:$N$4347)))),ROWS($3:41))),"")} | C41: {=IF(ROWS($3:41)<=COUNTIF(AE!$N$3:$N$4347,"OUI"),INDEX(AE!C$3:C$4347,SMALL(IF(AE!$N$3:$N$4347="OUI",ROW(INDIRECT("1:"&ROWS(AE!$N$3:$N$4347)))),ROWS($3:41))),"")} | D41: {=IF(ROWS($3:41)<=COUNTIF(AE!$N$3:$N$4347,"OUI"),INDEX(AE!D$3:D$4347,SMALL(IF(AE!$N$3:$N$4347="OUI",ROW(INDIRECT("1:"&ROWS(AE!$N$3:$N$4347)))),ROWS($3:41))),"")} | E41: {=IF(ROWS($3:41)<=COUNTIF(AE!$N$3:$N$4347,"OUI"),INDEX(AE!E$3:E$4347,SMALL(IF(AE!$N$3:$N$4347="OUI",ROW(INDIRECT("1:"&ROWS(AE!$N$3:$N$4347)))),ROWS($3:41))),"")} | F41: {=IF(ROWS($3:41)<=COUNTIF(AE!$N$3:$N$4347,"OUI"),INDEX(AE!F$3:F$4347,SMALL(IF(AE!$N$3:$N$4347="OUI",ROW(INDIRECT("1:"&ROWS(AE!$N$3:$N$4347)))),ROWS($3:41))),"")}
A42: {=IF(ROWS($3:42)<=COUNTIF(AE!$N$3:$N$4347,"OUI"),INDEX(AE!A$3:A$4347,SMALL(IF(AE!$N$3:$N$4347="OUI",ROW(INDIRECT("1:"&ROWS(AE!$N$3:$N$4347)))),ROWS($3:42))),"")} | B42: {=IF(ROWS($3:42)<=COUNTIF(AE!$N$3:$N$4347,"OUI"),INDEX(AE!B$3:B$4347,SMALL(IF(AE!$N$3:$N$4347="OUI",ROW(INDIRECT("1:"&ROWS(AE!$N$3:$N$4347)))),ROWS($3:42))),"")} | C42: {=IF(ROWS($3:42)<=COUNTIF(AE!$N$3:$N$4347,"OUI"),INDEX(AE!C$3:C$4347,SMALL(IF(AE!$N$3:$N$4347="OUI",ROW(INDIRECT("1:"&ROWS(AE!$N$3:$N$4347)))),ROWS($3:42))),"")} | D42: {=IF(ROWS($3:42)<=COUNTIF(AE!$N$3:$N$4347,"OUI"),INDEX(AE!D$3:D$4347,SMALL(IF(AE!$N$3:$N$4347="OUI",ROW(INDIRECT("1:"&ROWS(AE!$N$3:$N$4347)))),ROWS($3:42))),"")} | E42: {=IF(ROWS($3:42)<=COUNTIF(AE!$N$3:$N$4347,"OUI"),INDEX(AE!E$3:E$4347,SMALL(IF(AE!$N$3:$N$4347="OUI",ROW(INDIRECT("1:"&ROWS(AE!$N$3:$N$4347)))),ROWS($3:42))),"")} | F42: {=IF(ROWS($3:42)<=COUNTIF(AE!$N$3:$N$4347,"OUI"),INDEX(AE!F$3:F$4347,SMALL(IF(AE!$N$3:$N$4347="OUI",ROW(INDIRECT("1:"&ROWS(AE!$N$3:$N$4347)))),ROWS($3:42))),"")}
A43: {=IF(ROWS($3:43)<=COUNTIF(AE!$N$3:$N$4347,"OUI"),INDEX(AE!A$3:A$4347,SMALL(IF(AE!$N$3:$N$4347="OUI",ROW(INDIRECT("1:"&ROWS(AE!$N$3:$N$4347)))),ROWS($3:43))),"")} | B43: {=IF(ROWS($3:43)<=COUNTIF(AE!$N$3:$N$4347,"OUI"),INDEX(AE!B$3:B$4347,SMALL(IF(AE!$N$3:$N$4347="OUI",ROW(INDIRECT("1:"&ROWS(AE!$N$3:$N$4347)))),ROWS($3:43))),"")} | C43: {=IF(ROWS($3:43)<=COUNTIF(AE!$N$3:$N$4347,"OUI"),INDEX(AE!C$3:C$4347,SMALL(IF(AE!$N$3:$N$4347="OUI",ROW(INDIRECT("1:"&ROWS(AE!$N$3:$N$4347)))),ROWS($3:43))),"")} | D43: {=IF(ROWS($3:43)<=COUNTIF(AE!$N$3:$N$4347,"OUI"),INDEX(AE!D$3:D$4347,SMALL(IF(AE!$N$3:$N$4347="OUI",ROW(INDIRECT("1:"&ROWS(AE!$N$3:$N$4347)))),ROWS($3:43))),"")} | E43: {=IF(ROWS($3:43)<=COUNTIF(AE!$N$3:$N$4347,"OUI"),INDEX(AE!E$3:E$4347,SMALL(IF(AE!$N$3:$N$4347="OUI",ROW(INDIRECT("1:"&ROWS(AE!$N$3:$N$4347)))),ROWS($3:43))),"")} | F43: {=IF(ROWS($3:43)<=COUNTIF(AE!$N$3:$N$4347,"OUI"),INDEX(AE!F$3:F$4347,SMALL(IF(AE!$N$3:$N$4347="OUI",ROW(INDIRECT("1:"&ROWS(AE!$N$3:$N$4347)))),ROWS($3:43))),"")}
A44: {=IF(ROWS($3:44)<=COUNTIF(AE!$N$3:$N$4347,"OUI"),INDEX(AE!A$3:A$4347,SMALL(IF(AE!$N$3:$N$4347="OUI",ROW(INDIRECT("1:"&ROWS(AE!$N$3:$N$4347)))),ROWS($3:44))),"")} | B44: {=IF(ROWS($3:44)<=COUNTIF(AE!$N$3:$N$4347,"OUI"),INDEX(AE!B$3:B$4347,SMALL(IF(AE!$N$3:$N$4347="OUI",ROW(INDIRECT("1:"&ROWS(AE!$N$3:$N$4347)))),ROWS($3:44))),"")} | C44: {=IF(ROWS($3:44)<=COUNTIF(AE!$N$3:$N$4347,"OUI"),INDEX(AE!C$3:C$4347,SMALL(IF(AE!$N$3:$N$4347="OUI",ROW(INDIRECT("1:"&ROWS(AE!$N$3:$N$4347)))),ROWS($3:44))),"")} | D44: {=IF(ROWS($3:44)<=COUNTIF(AE!$N$3:$N$4347,"OUI"),INDEX(AE!D$3:D$4347,SMALL(IF(AE!$N$3:$N$4347="OUI",ROW(INDIRECT("1:"&ROWS(AE!$N$3:$N$4347)))),ROWS($3:44))),"")} | E44: {=IF(ROWS($3:44)<=COUNTIF(AE!$N$3:$N$4347,"OUI"),INDEX(AE!E$3:E$4347,SMALL(IF(AE!$N$3:$N$4347="OUI",ROW(INDIRECT("1:"&ROWS(AE!$N$3:$N$4347)))),ROWS($3:44))),"")} | F44: {=IF(ROWS($3:44)<=COUNTIF(AE!$N$3:$N$4347,"OUI"),INDEX(AE!F$3:F$4347,SMALL(IF(AE!$N$3:$N$4347="OUI",ROW(INDIRECT("1:"&ROWS(AE!$N$3:$N$4347)))),ROWS($3:44))),"")}
A45: {=IF(ROWS($3:45)<=COUNTIF(AE!$N$3:$N$4347,"OUI"),INDEX(AE!A$3:A$4347,SMALL(IF(AE!$N$3:$N$4347="OUI",ROW(INDIRECT("1:"&ROWS(AE!$N$3:$N$4347)))),ROWS($3:45))),"")} | B45: {=IF(ROWS($3:45)<=COUNTIF(AE!$N$3:$N$4347,"OUI"),INDEX(AE!B$3:B$4347,SMALL(IF(AE!$N$3:$N$4347="OUI",ROW(INDIRECT("1:"&ROWS(AE!$N$3:$N$4347)))),ROWS($3:45))),"")} | C45: {=IF(ROWS($3:45)<=COUNTIF(AE!$N$3:$N$4347,"OUI"),INDEX(AE!C$3:C$4347,SMALL(IF(AE!$N$3:$N$4347="OUI",ROW(INDIRECT("1:"&ROWS(AE!$N$3:$N$4347)))),ROWS($3:45))),"")} | D45: {=IF(ROWS($3:45)<=COUNTIF(AE!$N$3:$N$4347,"OUI"),INDEX(AE!D$3:D$4347,SMALL(IF(AE!$N$3:$N$4347="OUI",ROW(INDIRECT("1:"&ROWS(AE!$N$3:$N$4347)))),ROWS($3:45))),"")} | E45: {=IF(ROWS($3:45)<=COUNTIF(AE!$N$3:$N$4347,"OUI"),INDEX(AE!E$3:E$4347,SMALL(IF(AE!$N$3:$N$4347="OUI",ROW(INDIRECT("1:"&ROWS(AE!$N$3:$N$4347)))),ROWS($3:45))),"")} | F45: {=IF(ROWS($3:45)<=COUNTIF(AE!$N$3:$N$4347,"OUI"),INDEX(AE!F$3:F$4347,SMALL(IF(AE!$N$3:$N$4347="OUI",ROW(INDIRECT("1:"&ROWS(AE!$N$3:$N$4347)))),ROWS($3:45))),"")}
A46: {=IF(ROWS($3:46)<=COUNTIF(AE!$N$3:$N$4347,"OUI"),INDEX(AE!A$3:A$4347,SMALL(IF(AE!$N$3:$N$4347="OUI",ROW(INDIRECT("1:"&ROWS(AE!$N$3:$N$4347)))),ROWS($3:46))),"")} | B46: {=IF(ROWS($3:46)<=COUNTIF(AE!$N$3:$N$4347,"OUI"),INDEX(AE!B$3:B$4347,SMALL(IF(AE!$N$3:$N$4347="OUI",ROW(INDIRECT("1:"&ROWS(AE!$N$3:$N$4347)))),ROWS($3:46))),"")} | C46: {=IF(ROWS($3:46)<=COUNTIF(AE!$N$3:$N$4347,"OUI"),INDEX(AE!C$3:C$4347,SMALL(IF(AE!$N$3:$N$4347="OUI",ROW(INDIRECT("1:"&ROWS(AE!$N$3:$N$4347)))),ROWS($3:46))),"")} | D46: {=IF(ROWS($3:46)<=COUNTIF(AE!$N$3:$N$4347,"OUI"),INDEX(AE!D$3:D$4347,SMALL(IF(AE!$N$3:$N$4347="OUI",ROW(INDIRECT("1:"&ROWS(AE!$N$3:$N$4347)))),ROWS($3:46))),"")} | E46: {=IF(ROWS($3:46)<=COUNTIF(AE!$N$3:$N$4347,"OUI"),INDEX(AE!E$3:E$4347,SMALL(IF(AE!$N$3:$N$4347="OUI",ROW(INDIRECT("1:"&ROWS(AE!$N$3:$N$4347)))),ROWS($3:46))),"")} | F46: {=IF(ROWS($3:46)<=COUNTIF(AE!$N$3:$N$4347,"OUI"),INDEX(AE!F$3:F$4347,SMALL(IF(AE!$N$3:$N$4347="OUI",ROW(INDIRECT("1:"&ROWS(AE!$N$3:$N$4347)))),ROWS($3:46))),"")}
A47: {=IF(ROWS($3:47)<=COUNTIF(AE!$N$3:$N$4347,"OUI"),INDEX(AE!A$3:A$4347,SMALL(IF(AE!$N$3:$N$4347="OUI",ROW(INDIRECT("1:"&ROWS(AE!$N$3:$N$4347)))),ROWS($3:47))),"")} | B47: {=IF(ROWS($3:47)<=COUNTIF(AE!$N$3:$N$4347,"OUI"),INDEX(AE!B$3:B$4347,SMALL(IF(AE!$N$3:$N$4347="OUI",ROW(INDIRECT("1:"&ROWS(AE!$N$3:$N$4347)))),ROWS($3:47))),"")} | C47: {=IF(ROWS($3:47)<=COUNTIF(AE!$N$3:$N$4347,"OUI"),INDEX(AE!C$3:C$4347,SMALL(IF(AE!$N$3:$N$4347="OUI",ROW(INDIRECT("1:"&ROWS(AE!$N$3:$N$4347)))),ROWS($3:47))),"")} | D47: {=IF(ROWS($3:47)<=COUNTIF(AE!$N$3:$N$4347,"OUI"),INDEX(AE!D$3:D$4347,SMALL(IF(AE!$N$3:$N$4347="OUI",ROW(INDIRECT("1:"&ROWS(AE!$N$3:$N$4347)))),ROWS($3:47))),"")} | E47: {=IF(ROWS($3:47)<=COUNTIF(AE!$N$3:$N$4347,"OUI"),INDEX(AE!E$3:E$4347,SMALL(IF(AE!$N$3:$N$4347="OUI",ROW(INDIRECT("1:"&ROWS(AE!$N$3:$N$4347)))),ROWS($3:47))),"")} | F47: {=IF(ROWS($3:47)<=COUNTIF(AE!$N$3:$N$4347,"OUI"),INDEX(AE!F$3:F$4347,SMALL(IF(AE!$N$3:$N$4347="OUI",ROW(INDIRECT("1:"&ROWS(AE!$N$3:$N$4347)))),ROWS($3:47))),"")}
A48: {=IF(ROWS($3:48)<=COUNTIF(AE!$N$3:$N$4347,"OUI"),INDEX(AE!A$3:A$4347,SMALL(IF(AE!$N$3:$N$4347="OUI",ROW(INDIRECT("1:"&ROWS(AE!$N$3:$N$4347)))),ROWS($3:48))),"")} | B48: {=IF(ROWS($3:48)<=COUNTIF(AE!$N$3:$N$4347,"OUI"),INDEX(AE!B$3:B$4347,SMALL(IF(AE!$N$3:$N$4347="OUI",ROW(INDIRECT("1:"&ROWS(AE!$N$3:$N$4347)))),ROWS($3:48))),"")} | C48: {=IF(ROWS($3:48)<=COUNTIF(AE!$N$3:$N$4347,"OUI"),INDEX(AE!C$3:C$4347,SMALL(IF(AE!$N$3:$N$4347="OUI",ROW(INDIRECT("1:"&ROWS(AE!$N$3:$N$4347)))),ROWS($3:48))),"")} | D48: {=IF(ROWS($3:48)<=COUNTIF(AE!$N$3:$N$4347,"OUI"),INDEX(AE!D$3:D$4347,SMALL(IF(AE!$N$3:$N$4347="OUI",ROW(INDIRECT("1:"&ROWS(AE!$N$3:$N$4347)))),ROWS($3:48))),"")} | E48: {=IF(ROWS($3:48)<=COUNTIF(AE!$N$3:$N$4347,"OUI"),INDEX(AE!E$3:E$4347,SMALL(IF(AE!$N$3:$N$4347="OUI",ROW(INDIRECT("1:"&ROWS(AE!$N$3:$N$4347)))),ROWS($3:48))),"")} | F48: {=IF(ROWS($3:48)<=COUNTIF(AE!$N$3:$N$4347,"OUI"),INDEX(AE!F$3:F$4347,SMALL(IF(AE!$N$3:$N$4347="OUI",ROW(INDIRECT("1:"&ROWS(AE!$N$3:$N$4347)))),ROWS($3:48))),"")}
A49: {=IF(ROWS($3:49)<=COUNTIF(AE!$N$3:$N$4347,"OUI"),INDEX(AE!A$3:A$4347,SMALL(IF(AE!$N$3:$N$4347="OUI",ROW(INDIRECT("1:"&ROWS(AE!$N$3:$N$4347)))),ROWS($3:49))),"")} | B49: {=IF(ROWS($3:49)<=COUNTIF(AE!$N$3:$N$4347,"OUI"),INDEX(AE!B$3:B$4347,SMALL(IF(AE!$N$3:$N$4347="OUI",ROW(INDIRECT("1:"&ROWS(AE!$N$3:$N$4347)))),ROWS($3:49))),"")} | C49: {=IF(ROWS($3:49)<=COUNTIF(AE!$N$3:$N$4347,"OUI"),INDEX(AE!C$3:C$4347,SMALL(IF(AE!$N$3:$N$4347="OUI",ROW(INDIRECT("1:"&ROWS(AE!$N$3:$N$4347)))),ROWS($3:49))),"")} | D49: {=IF(ROWS($3:49)<=COUNTIF(AE!$N$3:$N$4347,"OUI"),INDEX(AE!D$3:D$4347,SMALL(IF(AE!$N$3:$N$4347="OUI",ROW(INDIRECT("1:"&ROWS(AE!$N$3:$N$4347)))),ROWS($3:49))),"")} | E49: {=IF(ROWS($3:49)<=COUNTIF(AE!$N$3:$N$4347,"OUI"),INDEX(AE!E$3:E$4347,SMALL(IF(AE!$N$3:$N$4347="OUI",ROW(INDIRECT("1:"&ROWS(AE!$N$3:$N$4347)))),ROWS($3:49))),"")} | F49: {=IF(ROWS($3:49)<=COUNTIF(AE!$N$3:$N$4347,"OUI"),INDEX(AE!F$3:F$4347,SMALL(IF(AE!$N$3:$N$4347="OUI",ROW(INDIRECT("1:"&ROWS(AE!$N$3:$N$4347)))),ROWS($3:49))),"")}
A50: {=IF(ROWS($3:50)<=COUNTIF(AE!$N$3:$N$4347,"OUI"),INDEX(AE!A$3:A$4347,SMALL(IF(AE!$N$3:$N$4347="OUI",ROW(INDIRECT("1:"&ROWS(AE!$N$3:$N$4347)))),ROWS($3:50))),"")} | B50: {=IF(ROWS($3:50)<=COUNTIF(AE!$N$3:$N$4347,"OUI"),INDEX(AE!B$3:B$4347,SMALL(IF(AE!$N$3:$N$4347="OUI",ROW(INDIRECT("1:"&ROWS(AE!$N$3:$N$4347)))),ROWS($3:50))),"")} | C50: {=IF(ROWS($3:50)<=COUNTIF(AE!$N$3:$N$4347,"OUI"),INDEX(AE!C$3:C$4347,SMALL(IF(AE!$N$3:$N$4347="OUI",ROW(INDIRECT("1:"&ROWS(AE!$N$3:$N$4347)))),ROWS($3:50))),"")} | D50: {=IF(ROWS($3:50)<=COUNTIF(AE!$N$3:$N$4347,"OUI"),INDEX(AE!D$3:D$4347,SMALL(IF(AE!$N$3:$N$4347="OUI",ROW(INDIRECT("1:"&ROWS(AE!$N$3:$N$4347)))),ROWS($3:50))),"")} | E50: {=IF(ROWS($3:50)<=COUNTIF(AE!$N$3:$N$4347,"OUI"),INDEX(AE!E$3:E$4347,SMALL(IF(AE!$N$3:$N$4347="OUI",ROW(INDIRECT("1:"&ROWS(AE!$N$3:$N$4347)))),ROWS($3:50))),"")} | F50: {=IF(ROWS($3:50)<=COUNTIF(AE!$N$3:$N$4347,"OUI"),INDEX(AE!F$3:F$4347,SMALL(IF(AE!$N$3:$N$4347="OUI",ROW(INDIRECT("1:"&ROWS(AE!$N$3:$N$4347)))),ROWS($3:50))),"")}
A51: {=IF(ROWS($3:51)<=COUNTIF(AE!$N$3:$N$4347,"OUI"),INDEX(AE!A$3:A$4347,SMALL(IF(AE!$N$3:$N$4347="OUI",ROW(INDIRECT("1:"&ROWS(AE!$N$3:$N$4347)))),ROWS($3:51))),"")} | B51: {=IF(ROWS($3:51)<=COUNTIF(AE!$N$3:$N$4347,"OUI"),INDEX(AE!B$3:B$4347,SMALL(IF(AE!$N$3:$N$4347="OUI",ROW(INDIRECT("1:"&ROWS(AE!$N$3:$N$4347)))),ROWS($3:51))),"")} | C51: {=IF(ROWS($3:51)<=COUNTIF(AE!$N$3:$N$4347,"OUI"),INDEX(AE!C$3:C$4347,SMALL(IF(AE!$N$3:$N$4347="OUI",ROW(INDIRECT("1:"&ROWS(AE!$N$3:$N$4347)))),ROWS($3:51))),"")} | D51: {=IF(ROWS($3:51)<=COUNTIF(AE!$N$3:$N$4347,"OUI"),INDEX(AE!D$3:D$4347,SMALL(IF(AE!$N$3:$N$4347="OUI",ROW(INDIRECT("1:"&ROWS(AE!$N$3:$N$4347)))),ROWS($3:51))),"")} | E51: {=IF(ROWS($3:51)<=COUNTIF(AE!$N$3:$N$4347,"OUI"),INDEX(AE!E$3:E$4347,SMALL(IF(AE!$N$3:$N$4347="OUI",ROW(INDIRECT("1:"&ROWS(AE!$N$3:$N$4347)))),ROWS($3:51))),"")} | F51: {=IF(ROWS($3:51)<=COUNTIF(AE!$N$3:$N$4347,"OUI"),INDEX(AE!F$3:F$4347,SMALL(IF(AE!$N$3:$N$4347="OUI",ROW(INDIRECT("1:"&ROWS(AE!$N$3:$N$4347)))),ROWS($3:51))),"")}
A52: {=IF(ROWS($3:52)<=COUNTIF(AE!$N$3:$N$4347,"OUI"),INDEX(AE!A$3:A$4347,SMALL(IF(AE!$N$3:$N$4347="OUI",ROW(INDIRECT("1:"&ROWS(AE!$N$3:$N$4347)))),ROWS($3:52))),"")} | B52: {=IF(ROWS($3:52)<=COUNTIF(AE!$N$3:$N$4347,"OUI"),INDEX(AE!B$3:B$4347,SMALL(IF(AE!$N$3:$N$4347="OUI",ROW(INDIRECT("1:"&ROWS(AE!$N$3:$N$4347)))),ROWS($3:52))),"")} | C52: {=IF(ROWS($3:52)<=COUNTIF(AE!$N$3:$N$4347,"OUI"),INDEX(AE!C$3:C$4347,SMALL(IF(AE!$N$3:$N$4347="OUI",ROW(INDIRECT("1:"&ROWS(AE!$N$3:$N$4347)))),ROWS($3:52))),"")} | D52: {=IF(ROWS($3:52)<=COUNTIF(AE!$N$3:$N$4347,"OUI"),INDEX(AE!D$3:D$4347,SMALL(IF(AE!$N$3:$N$4347="OUI",ROW(INDIRECT("1:"&ROWS(AE!$N$3:$N$4347)))),ROWS($3:52))),"")} | E52: {=IF(ROWS($3:52)<=COUNTIF(AE!$N$3:$N$4347,"OUI"),INDEX(AE!E$3:E$4347,SMALL(IF(AE!$N$3:$N$4347="OUI",ROW(INDIRECT("1:"&ROWS(AE!$N$3:$N$4347)))),ROWS($3:52))),"")} | F52: {=IF(ROWS($3:52)<=COUNTIF(AE!$N$3:$N$4347,"OUI"),INDEX(AE!F$3:F$4347,SMALL(IF(AE!$N$3:$N$4347="OUI",ROW(INDIRECT("1:"&ROWS(AE!$N$3:$N$4347)))),ROWS($3:52))),"")}
A53: {=IF(ROWS($3:53)<=COUNTIF(AE!$N$3:$N$4347,"OUI"),INDEX(AE!A$3:A$4347,SMALL(IF(AE!$N$3:$N$4347="OUI",ROW(INDIRECT("1:"&ROWS(AE!$N$3:$N$4347)))),ROWS($3:53))),"")} | B53: {=IF(ROWS($3:53)<=COUNTIF(AE!$N$3:$N$4347,"OUI"),INDEX(AE!B$3:B$4347,SMALL(IF(AE!$N$3:$N$4347="OUI",ROW(INDIRECT("1:"&ROWS(AE!$N$3:$N$4347)))),ROWS($3:53))),"")} | C53: {=IF(ROWS($3:53)<=COUNTIF(AE!$N$3:$N$4347,"OUI"),INDEX(AE!C$3:C$4347,SMALL(IF(AE!$N$3:$N$4347="OUI",ROW(INDIRECT("1:"&ROWS(AE!$N$3:$N$4347)))),ROWS($3:53))),"")} | D53: {=IF(ROWS($3:53)<=COUNTIF(AE!$N$3:$N$4347,"OUI"),INDEX(AE!D$3:D$4347,SMALL(IF(AE!$N$3:$N$4347="OUI",ROW(INDIRECT("1:"&ROWS(AE!$N$3:$N$4347)))),ROWS($3:53))),"")} | E53: {=IF(ROWS($3:53)<=COUNTIF(AE!$N$3:$N$4347,"OUI"),INDEX(AE!E$3:E$4347,SMALL(IF(AE!$N$3:$N$4347="OUI",ROW(INDIRECT("1:"&ROWS(AE!$N$3:$N$4347)))),ROWS($3:53))),"")} | F53: {=IF(ROWS($3:53)<=COUNTIF(AE!$N$3:$N$4347,"OUI"),INDEX(AE!F$3:F$4347,SMALL(IF(AE!$N$3:$N$4347="OUI",ROW(INDIRECT("1:"&ROWS(AE!$N$3:$N$4347)))),ROWS($3:53))),"")}
A54: {=IF(ROWS($3:54)<=COUNTIF(AE!$N$3:$N$4347,"OUI"),INDEX(AE!A$3:A$4347,SMALL(IF(AE!$N$3:$N$4347="OUI",ROW(INDIRECT("1:"&ROWS(AE!$N$3:$N$4347)))),ROWS($3:54))),"")} | B54: {=IF(ROWS($3:54)<=COUNTIF(AE!$N$3:$N$4347,"OUI"),INDEX(AE!B$3:B$4347,SMALL(IF(AE!$N$3:$N$4347="OUI",ROW(INDIRECT("1:"&ROWS(AE!$N$3:$N$4347)))),ROWS($3:54))),"")} | C54: {=IF(ROWS($3:54)<=COUNTIF(AE!$N$3:$N$4347,"OUI"),INDEX(AE!C$3:C$4347,SMALL(IF(AE!$N$3:$N$4347="OUI",ROW(INDIRECT("1:"&ROWS(AE!$N$3:$N$4347)))),ROWS($3:54))),"")} | D54: {=IF(ROWS($3:54)<=COUNTIF(AE!$N$3:$N$4347,"OUI"),INDEX(AE!D$3:D$4347,SMALL(IF(AE!$N$3:$N$4347="OUI",ROW(INDIRECT("1:"&ROWS(AE!$N$3:$N$4347)))),ROWS($3:54))),"")} | E54: {=IF(ROWS($3:54)<=COUNTIF(AE!$N$3:$N$4347,"OUI"),INDEX(AE!E$3:E$4347,SMALL(IF(AE!$N$3:$N$4347="OUI",ROW(INDIRECT("1:"&ROWS(AE!$N$3:$N$4347)))),ROWS($3:54))),"")} | F54: {=IF(ROWS($3:54)<=COUNTIF(AE!$N$3:$N$4347,"OUI"),INDEX(AE!F$3:F$4347,SMALL(IF(AE!$N$3:$N$4347="OUI",ROW(INDIRECT("1:"&ROWS(AE!$N$3:$N$4347)))),ROWS($3:54))),"")}
A55: {=IF(ROWS($3:55)<=COUNTIF(AE!$N$3:$N$4347,"OUI"),INDEX(AE!A$3:A$4347,SMALL(IF(AE!$N$3:$N$4347="OUI",ROW(INDIRECT("1:"&ROWS(AE!$N$3:$N$4347)))),ROWS($3:55))),"")} | B55: {=IF(ROWS($3:55)<=COUNTIF(AE!$N$3:$N$4347,"OUI"),INDEX(AE!B$3:B$4347,SMALL(IF(AE!$N$3:$N$4347="OUI",ROW(INDIRECT("1:"&ROWS(AE!$N$3:$N$4347)))),ROWS($3:55))),"")} | C55: {=IF(ROWS($3:55)<=COUNTIF(AE!$N$3:$N$4347,"OUI"),INDEX(AE!C$3:C$4347,SMALL(IF(AE!$N$3:$N$4347="OUI",ROW(INDIRECT("1:"&ROWS(AE!$N$3:$N$4347)))),ROWS($3:55))),"")} | D55: {=IF(ROWS($3:55)<=COUNTIF(AE!$N$3:$N$4347,"OUI"),INDEX(AE!D$3:D$4347,SMALL(IF(AE!$N$3:$N$4347="OUI",ROW(INDIRECT("1:"&ROWS(AE!$N$3:$N$4347)))),ROWS($3:55))),"")} | E55: {=IF(ROWS($3:55)<=COUNTIF(AE!$N$3:$N$4347,"OUI"),INDEX(AE!E$3:E$4347,SMALL(IF(AE!$N$3:$N$4347="OUI",ROW(INDIRECT("1:"&ROWS(AE!$N$3:$N$4347)))),ROWS($3:55))),"")} | F55: {=IF(ROWS($3:55)<=COUNTIF(AE!$N$3:$N$4347,"OUI"),INDEX(AE!F$3:F$4347,SMALL(IF(AE!$N$3:$N$4347="OUI",ROW(INDIRECT("1:"&ROWS(AE!$N$3:$N$4347)))),ROWS($3:55))),"")}
A56: {=IF(ROWS($3:56)<=COUNTIF(AE!$N$3:$N$4347,"OUI"),INDEX(AE!A$3:A$4347,SMALL(IF(AE!$N$3:$N$4347="OUI",ROW(INDIRECT("1:"&ROWS(AE!$N$3:$N$4347)))),ROWS($3:56))),"")} | B56: {=IF(ROWS($3:56)<=COUNTIF(AE!$N$3:$N$4347,"OUI"),INDEX(AE!B$3:B$4347,SMALL(IF(AE!$N$3:$N$4347="OUI",ROW(INDIRECT("1:"&ROWS(AE!$N$3:$N$4347)))),ROWS($3:56))),"")} | C56: {=IF(ROWS($3:56)<=COUNTIF(AE!$N$3:$N$4347,"OUI"),INDEX(AE!C$3:C$4347,SMALL(IF(AE!$N$3:$N$4347="OUI",ROW(INDIRECT("1:"&ROWS(AE!$N$3:$N$4347)))),ROWS($3:56))),"")} | D56: {=IF(ROWS($3:56)<=COUNTIF(AE!$N$3:$N$4347,"OUI"),INDEX(AE!D$3:D$4347,SMALL(IF(AE!$N$3:$N$4347="OUI",ROW(INDIRECT("1:"&ROWS(AE!$N$3:$N$4347)))),ROWS($3:56))),"")} | E56: {=IF(ROWS($3:56)<=COUNTIF(AE!$N$3:$N$4347,"OUI"),INDEX(AE!E$3:E$4347,SMALL(IF(AE!$N$3:$N$4347="OUI",ROW(INDIRECT("1:"&ROWS(AE!$N$3:$N$4347)))),ROWS($3:56))),"")} | F56: {=IF(ROWS($3:56)<=COUNTIF(AE!$N$3:$N$4347,"OUI"),INDEX(AE!F$3:F$4347,SMALL(IF(AE!$N$3:$N$4347="OUI",ROW(INDIRECT("1:"&ROWS(AE!$N$3:$N$4347)))),ROWS($3:56))),"")}
A57: {=IF(ROWS($3:57)<=COUNTIF(AE!$N$3:$N$4347,"OUI"),INDEX(AE!A$3:A$4347,SMALL(IF(AE!$N$3:$N$4347="OUI",ROW(INDIRECT("1:"&ROWS(AE!$N$3:$N$4347)))),ROWS($3:57))),"")} | B57: {=IF(ROWS($3:57)<=COUNTIF(AE!$N$3:$N$4347,"OUI"),INDEX(AE!B$3:B$4347,SMALL(IF(AE!$N$3:$N$4347="OUI",ROW(INDIRECT("1:"&ROWS(AE!$N$3:$N$4347)))),ROWS($3:57))),"")} | C57: {=IF(ROWS($3:57)<=COUNTIF(AE!$N$3:$N$4347,"OUI"),INDEX(AE!C$3:C$4347,SMALL(IF(AE!$N$3:$N$4347="OUI",ROW(INDIRECT("1:"&ROWS(AE!$N$3:$N$4347)))),ROWS($3:57))),"")} | D57: {=IF(ROWS($3:57)<=COUNTIF(AE!$N$3:$N$4347,"OUI"),INDEX(AE!D$3:D$4347,SMALL(IF(AE!$N$3:$N$4347="OUI",ROW(INDIRECT("1:"&ROWS(AE!$N$3:$N$4347)))),ROWS($3:57))),"")} | E57: {=IF(ROWS($3:57)<=COUNTIF(AE!$N$3:$N$4347,"OUI"),INDEX(AE!E$3:E$4347,SMALL(IF(AE!$N$3:$N$4347="OUI",ROW(INDIRECT("1:"&ROWS(AE!$N$3:$N$4347)))),ROWS($3:57))),"")} | F57: {=IF(ROWS($3:57)<=COUNTIF(AE!$N$3:$N$4347,"OUI"),INDEX(AE!F$3:F$4347,SMALL(IF(AE!$N$3:$N$4347="OUI",ROW(INDIRECT("1:"&ROWS(AE!$N$3:$N$4347)))),ROWS($3:57))),"")}
A58: {=IF(ROWS($3:58)<=COUNTIF(AE!$N$3:$N$4347,"OUI"),INDEX(AE!A$3:A$4347,SMALL(IF(AE!$N$3:$N$4347="OUI",ROW(INDIRECT("1:"&ROWS(AE!$N$3:$N$4347)))),ROWS($3:58))),"")} | B58: {=IF(ROWS($3:58)<=COUNTIF(AE!$N$3:$N$4347,"OUI"),INDEX(AE!B$3:B$4347,SMALL(IF(AE!$N$3:$N$4347="OUI",ROW(INDIRECT("1:"&ROWS(AE!$N$3:$N$4347)))),ROWS($3:58))),"")} | C58: {=IF(ROWS($3:58)<=COUNTIF(AE!$N$3:$N$4347,"OUI"),INDEX(AE!C$3:C$4347,SMALL(IF(AE!$N$3:$N$4347="OUI",ROW(INDIRECT("1:"&ROWS(AE!$N$3:$N$4347)))),ROWS($3:58))),"")} | D58: {=IF(ROWS($3:58)<=COUNTIF(AE!$N$3:$N$4347,"OUI"),INDEX(AE!D$3:D$4347,SMALL(IF(AE!$N$3:$N$4347="OUI",ROW(INDIRECT("1:"&ROWS(AE!$N$3:$N$4347)))),ROWS($3:58))),"")} | E58: {=IF(ROWS($3:58)<=COUNTIF(AE!$N$3:$N$4347,"OUI"),INDEX(AE!E$3:E$4347,SMALL(IF(AE!$N$3:$N$4347="OUI",ROW(INDIRECT("1:"&ROWS(AE!$N$3:$N$4347)))),ROWS($3:58))),"")} | F58: {=IF(ROWS($3:58)<=COUNTIF(AE!$N$3:$N$4347,"OUI"),INDEX(AE!F$3:F$4347,SMALL(IF(AE!$N$3:$N$4347="OUI",ROW(INDIRECT("1:"&ROWS(AE!$N$3:$N$4347)))),ROWS($3:58))),"")}
A59: {=IF(ROWS($3:59)<=COUNTIF(AE!$N$3:$N$4347,"OUI"),INDEX(AE!A$3:A$4347,SMALL(IF(AE!$N$3:$N$4347="OUI",ROW(INDIRECT("1:"&ROWS(AE!$N$3:$N$4347)))),ROWS($3:59))),"")} | B59: {=IF(ROWS($3:59)<=COUNTIF(AE!$N$3:$N$4347,"OUI"),INDEX(AE!B$3:B$4347,SMALL(IF(AE!$N$3:$N$4347="OUI",ROW(INDIRECT("1:"&ROWS(AE!$N$3:$N$4347)))),ROWS($3:59))),"")} | C59: {=IF(ROWS($3:59)<=COUNTIF(AE!$N$3:$N$4347,"OUI"),INDEX(AE!C$3:C$4347,SMALL(IF(AE!$N$3:$N$4347="OUI",ROW(INDIRECT("1:"&ROWS(AE!$N$3:$N$4347)))),ROWS($3:59))),"")} | D59: {=IF(ROWS($3:59)<=COUNTIF(AE!$N$3:$N$4347,"OUI"),INDEX(AE!D$3:D$4347,SMALL(IF(AE!$N$3:$N$4347="OUI",ROW(INDIRECT("1:"&ROWS(AE!$N$3:$N$4347)))),ROWS($3:59))),"")} | E59: {=IF(ROWS($3:59)<=COUNTIF(AE!$N$3:$N$4347,"OUI"),INDEX(AE!E$3:E$4347,SMALL(IF(AE!$N$3:$N$4347="OUI",ROW(INDIRECT("1:"&ROWS(AE!$N$3:$N$4347)))),ROWS($3:59))),"")} | F59: {=IF(ROWS($3:59)<=COUNTIF(AE!$N$3:$N$4347,"OUI"),INDEX(AE!F$3:F$4347,SMALL(IF(AE!$N$3:$N$4347="OUI",ROW(INDIRECT("1:"&ROWS(AE!$N$3:$N$4347)))),ROWS($3:59))),"")}
A60: {=IF(ROWS($3:60)<=COUNTIF(AE!$N$3:$N$4347,"OUI"),INDEX(AE!A$3:A$4347,SMALL(IF(AE!$N$3:$N$4347="OUI",ROW(INDIRECT("1:"&ROWS(AE!$N$3:$N$4347)))),ROWS($3:60))),"")} | B60: {=IF(ROWS($3:60)<=COUNTIF(AE!$N$3:$N$4347,"OUI"),INDEX(AE!B$3:B$4347,SMALL(IF(AE!$N$3:$N$4347="OUI",ROW(INDIRECT("1:"&ROWS(AE!$N$3:$N$4347)))),ROWS($3:60))),"")} | C60: {=IF(ROWS($3:60)<=COUNTIF(AE!$N$3:$N$4347,"OUI"),INDEX(AE!C$3:C$4347,SMALL(IF(AE!$N$3:$N$4347="OUI",ROW(INDIRECT("1:"&ROWS(AE!$N$3:$N$4347)))),ROWS($3:60))),"")} | D60: {=IF(ROWS($3:60)<=COUNTIF(AE!$N$3:$N$4347,"OUI"),INDEX(AE!D$3:D$4347,SMALL(IF(AE!$N$3:$N$4347="OUI",ROW(INDIRECT("1:"&ROWS(AE!$N$3:$N$4347)))),ROWS($3:60))),"")} | E60: {=IF(ROWS($3:60)<=COUNTIF(AE!$N$3:$N$4347,"OUI"),INDEX(AE!E$3:E$4347,SMALL(IF(AE!$N$3:$N$4347="OUI",ROW(INDIRECT("1:"&ROWS(AE!$N$3:$N$4347)))),ROWS($3:60))),"")} | F60: {=IF(ROWS($3:60)<=COUNTIF(AE!$N$3:$N$4347,"OUI"),INDEX(AE!F$3:F$4347,SMALL(IF(AE!$N$3:$N$4347="OUI",ROW(INDIRECT("1:"&ROWS(AE!$N$3:$N$4347)))),ROWS($3:60))),"")}
A61: {=IF(ROWS($3:61)<=COUNTIF(AE!$N$3:$N$4347,"OUI"),INDEX(AE!A$3:A$4347,SMALL(IF(AE!$N$3:$N$4347="OUI",ROW(INDIRECT("1:"&ROWS(AE!$N$3:$N$4347)))),ROWS($3:61))),"")} | B61: {=IF(ROWS($3:61)<=COUNTIF(AE!$N$3:$N$4347,"OUI"),INDEX(AE!B$3:B$4347,SMALL(IF(AE!$N$3:$N$4347="OUI",ROW(INDIRECT("1:"&ROWS(AE!$N$3:$N$4347)))),ROWS($3:61))),"")} | C61: {=IF(ROWS($3:61)<=COUNTIF(AE!$N$3:$N$4347,"OUI"),INDEX(AE!C$3:C$4347,SMALL(IF(AE!$N$3:$N$4347="OUI",ROW(INDIRECT("1:"&ROWS(AE!$N$3:$N$4347)))),ROWS($3:61))),"")} | D61: {=IF(ROWS($3:61)<=COUNTIF(AE!$N$3:$N$4347,"OUI"),INDEX(AE!D$3:D$4347,SMALL(IF(AE!$N$3:$N$4347="OUI",ROW(INDIRECT("1:"&ROWS(AE!$N$3:$N$4347)))),ROWS($3:61))),"")} | E61: {=IF(ROWS($3:61)<=COUNTIF(AE!$N$3:$N$4347,"OUI"),INDEX(AE!E$3:E$4347,SMALL(IF(AE!$N$3:$N$4347="OUI",ROW(INDIRECT("1:"&ROWS(AE!$N$3:$N$4347)))),ROWS($3:61))),"")} | F61: {=IF(ROWS($3:61)<=COUNTIF(AE!$N$3:$N$4347,"OUI"),INDEX(AE!F$3:F$4347,SMALL(IF(AE!$N$3:$N$4347="OUI",ROW(INDIRECT("1:"&ROWS(AE!$N$3:$N$4347)))),ROWS($3:61))),"")}
A62: {=IF(ROWS($3:62)<=COUNTIF(AE!$N$3:$N$4347,"OUI"),INDEX(AE!A$3:A$4347,SMALL(IF(AE!$N$3:$N$4347="OUI",ROW(INDIRECT("1:"&ROWS(AE!$N$3:$N$4347)))),ROWS($3:62))),"")} | B62: {=IF(ROWS($3:62)<=COUNTIF(AE!$N$3:$N$4347,"OUI"),INDEX(AE!B$3:B$4347,SMALL(IF(AE!$N$3:$N$4347="OUI",ROW(INDIRECT("1:"&ROWS(AE!$N$3:$N$4347)))),ROWS($3:62))),"")} | C62: {=IF(ROWS($3:62)<=COUNTIF(AE!$N$3:$N$4347,"OUI"),INDEX(AE!C$3:C$4347,SMALL(IF(AE!$N$3:$N$4347="OUI",ROW(INDIRECT("1:"&ROWS(AE!$N$3:$N$4347)))),ROWS($3:62))),"")} | D62: {=IF(ROWS($3:62)<=COUNTIF(AE!$N$3:$N$4347,"OUI"),INDEX(AE!D$3:D$4347,SMALL(IF(AE!$N$3:$N$4347="OUI",ROW(INDIRECT("1:"&ROWS(AE!$N$3:$N$4347)))),ROWS($3:62))),"")} | E62: {=IF(ROWS($3:62)<=COUNTIF(AE!$N$3:$N$4347,"OUI"),INDEX(AE!E$3:E$4347,SMALL(IF(AE!$N$3:$N$4347="OUI",ROW(INDIRECT("1:"&ROWS(AE!$N$3:$N$4347)))),ROWS($3:62))),"")} | F62: {=IF(ROWS($3:62)<=COUNTIF(AE!$N$3:$N$4347,"OUI"),INDEX(AE!F$3:F$4347,SMALL(IF(AE!$N$3:$N$4347="OUI",ROW(INDIRECT("1:"&ROWS(AE!$N$3:$N$4347)))),ROWS($3:62))),"")}
A63: {=IF(ROWS($3:63)<=COUNTIF(AE!$N$3:$N$4347,"OUI"),INDEX(AE!A$3:A$4347,SMALL(IF(AE!$N$3:$N$4347="OUI",ROW(INDIRECT("1:"&ROWS(AE!$N$3:$N$4347)))),ROWS($3:63))),"")} | B63: {=IF(ROWS($3:63)<=COUNTIF(AE!$N$3:$N$4347,"OUI"),INDEX(AE!B$3:B$4347,SMALL(IF(AE!$N$3:$N$4347="OUI",ROW(INDIRECT("1:"&ROWS(AE!$N$3:$N$4347)))),ROWS($3:63))),"")} | C63: {=IF(ROWS($3:63)<=COUNTIF(AE!$N$3:$N$4347,"OUI"),INDEX(AE!C$3:C$4347,SMALL(IF(AE!$N$3:$N$4347="OUI",ROW(INDIRECT("1:"&ROWS(AE!$N$3:$N$4347)))),ROWS($3:63))),"")} | D63: {=IF(ROWS($3:63)<=COUNTIF(AE!$N$3:$N$4347,"OUI"),INDEX(AE!D$3:D$4347,SMALL(IF(AE!$N$3:$N$4347="OUI",ROW(INDIRECT("1:"&ROWS(AE!$N$3:$N$4347)))),ROWS($3:63))),"")} | E63: {=IF(ROWS($3:63)<=COUNTIF(AE!$N$3:$N$4347,"OUI"),INDEX(AE!E$3:E$4347,SMALL(IF(AE!$N$3:$N$4347="OUI",ROW(INDIRECT("1:"&ROWS(AE!$N$3:$N$4347)))),ROWS($3:63))),"")} | F63: {=IF(ROWS($3:63)<=COUNTIF(AE!$N$3:$N$4347,"OUI"),INDEX(AE!F$3:F$4347,SMALL(IF(AE!$N$3:$N$4347="OUI",ROW(INDIRECT("1:"&ROWS(AE!$N$3:$N$4347)))),ROWS($3:63))),"")}
A64: {=IF(ROWS($3:64)<=COUNTIF(AE!$N$3:$N$4347,"OUI"),INDEX(AE!A$3:A$4347,SMALL(IF(AE!$N$3:$N$4347="OUI",ROW(INDIRECT("1:"&ROWS(AE!$N$3:$N$4347)))),ROWS($3:64))),"")} | B64: {=IF(ROWS($3:64)<=COUNTIF(AE!$N$3:$N$4347,"OUI"),INDEX(AE!B$3:B$4347,SMALL(IF(AE!$N$3:$N$4347="OUI",ROW(INDIRECT("1:"&ROWS(AE!$N$3:$N$4347)))),ROWS($3:64))),"")} | C64: {=IF(ROWS($3:64)<=COUNTIF(AE!$N$3:$N$4347,"OUI"),INDEX(AE!C$3:C$4347,SMALL(IF(AE!$N$3:$N$4347="OUI",ROW(INDIRECT("1:"&ROWS(AE!$N$3:$N$4347)))),ROWS($3:64))),"")} | D64: {=IF(ROWS($3:64)<=COUNTIF(AE!$N$3:$N$4347,"OUI"),INDEX(AE!D$3:D$4347,SMALL(IF(AE!$N$3:$N$4347="OUI",ROW(INDIRECT("1:"&ROWS(AE!$N$3:$N$4347)))),ROWS($3:64))),"")} | E64: {=IF(ROWS($3:64)<=COUNTIF(AE!$N$3:$N$4347,"OUI"),INDEX(AE!E$3:E$4347,SMALL(IF(AE!$N$3:$N$4347="OUI",ROW(INDIRECT("1:"&ROWS(AE!$N$3:$N$4347)))),ROWS($3:64))),"")} | F64: {=IF(ROWS($3:64)<=COUNTIF(AE!$N$3:$N$4347,"OUI"),INDEX(AE!F$3:F$4347,SMALL(IF(AE!$N$3:$N$4347="OUI",ROW(INDIRECT("1:"&ROWS(AE!$N$3:$N$4347)))),ROWS($3:64))),"")}
A65: {=IF(ROWS($3:65)<=COUNTIF(AE!$N$3:$N$4347,"OUI"),INDEX(AE!A$3:A$4347,SMALL(IF(AE!$N$3:$N$4347="OUI",ROW(INDIRECT("1:"&ROWS(AE!$N$3:$N$4347)))),ROWS($3:65))),"")} | B65: {=IF(ROWS($3:65)<=COUNTIF(AE!$N$3:$N$4347,"OUI"),INDEX(AE!B$3:B$4347,SMALL(IF(AE!$N$3:$N$4347="OUI",ROW(INDIRECT("1:"&ROWS(AE!$N$3:$N$4347)))),ROWS($3:65))),"")} | C65: {=IF(ROWS($3:65)<=COUNTIF(AE!$N$3:$N$4347,"OUI"),INDEX(AE!C$3:C$4347,SMALL(IF(AE!$N$3:$N$4347="OUI",ROW(INDIRECT("1:"&ROWS(AE!$N$3:$N$4347)))),ROWS($3:65))),"")} | D65: {=IF(ROWS($3:65)<=COUNTIF(AE!$N$3:$N$4347,"OUI"),INDEX(AE!D$3:D$4347,SMALL(IF(AE!$N$3:$N$4347="OUI",ROW(INDIRECT("1:"&ROWS(AE!$N$3:$N$4347)))),ROWS($3:65))),"")} | E65: {=IF(ROWS($3:65)<=COUNTIF(AE!$N$3:$N$4347,"OUI"),INDEX(AE!E$3:E$4347,SMALL(IF(AE!$N$3:$N$4347="OUI",ROW(INDIRECT("1:"&ROWS(AE!$N$3:$N$4347)))),ROWS($3:65))),"")} | F65: {=IF(ROWS($3:65)<=COUNTIF(AE!$N$3:$N$4347,"OUI"),INDEX(AE!F$3:F$4347,SMALL(IF(AE!$N$3:$N$4347="OUI",ROW(INDIRECT("1:"&ROWS(AE!$N$3:$N$4347)))),ROWS($3:65))),"")}
A66: {=IF(ROWS($3:66)<=COUNTIF(AE!$N$3:$N$4347,"OUI"),INDEX(AE!A$3:A$4347,SMALL(IF(AE!$N$3:$N$4347="OUI",ROW(INDIRECT("1:"&ROWS(AE!$N$3:$N$4347)))),ROWS($3:66))),"")} | B66: {=IF(ROWS($3:66)<=COUNTIF(AE!$N$3:$N$4347,"OUI"),INDEX(AE!B$3:B$4347,SMALL(IF(AE!$N$3:$N$4347="OUI",ROW(INDIRECT("1:"&ROWS(AE!$N$3:$N$4347)))),ROWS($3:66))),"")} | C66: {=IF(ROWS($3:66)<=COUNTIF(AE!$N$3:$N$4347,"OUI"),INDEX(AE!C$3:C$4347,SMALL(IF(AE!$N$3:$N$4347="OUI",ROW(INDIRECT("1:"&ROWS(AE!$N$3:$N$4347)))),ROWS($3:66))),"")} | D66: {=IF(ROWS($3:66)<=COUNTIF(AE!$N$3:$N$4347,"OUI"),INDEX(AE!D$3:D$4347,SMALL(IF(AE!$N$3:$N$4347="OUI",ROW(INDIRECT("1:"&ROWS(AE!$N$3:$N$4347)))),ROWS($3:66))),"")} | E66: {=IF(ROWS($3:66)<=COUNTIF(AE!$N$3:$N$4347,"OUI"),INDEX(AE!E$3:E$4347,SMALL(IF(AE!$N$3:$N$4347="OUI",ROW(INDIRECT("1:"&ROWS(AE!$N$3:$N$4347)))),ROWS($3:66))),"")} | F66: {=IF(ROWS($3:66)<=COUNTIF(AE!$N$3:$N$4347,"OUI"),INDEX(AE!F$3:F$4347,SMALL(IF(AE!$N$3:$N$4347="OUI",ROW(INDIRECT("1:"&ROWS(AE!$N$3:$N$4347)))),ROWS($3:66))),"")}
A67: {=IF(ROWS($3:67)<=COUNTIF(AE!$N$3:$N$4347,"OUI"),INDEX(AE!A$3:A$4347,SMALL(IF(AE!$N$3:$N$4347="OUI",ROW(INDIRECT("1:"&ROWS(AE!$N$3:$N$4347)))),ROWS($3:67))),"")} | B67: {=IF(ROWS($3:67)<=COUNTIF(AE!$N$3:$N$4347,"OUI"),INDEX(AE!B$3:B$4347,SMALL(IF(AE!$N$3:$N$4347="OUI",ROW(INDIRECT("1:"&ROWS(AE!$N$3:$N$4347)))),ROWS($3:67))),"")} | C67: {=IF(ROWS($3:67)<=COUNTIF(AE!$N$3:$N$4347,"OUI"),INDEX(AE!C$3:C$4347,SMALL(IF(AE!$N$3:$N$4347="OUI",ROW(INDIRECT("1:"&ROWS(AE!$N$3:$N$4347)))),ROWS($3:67))),"")} | D67: {=IF(ROWS($3:67)<=COUNTIF(AE!$N$3:$N$4347,"OUI"),INDEX(AE!D$3:D$4347,SMALL(IF(AE!$N$3:$N$4347="OUI",ROW(INDIRECT("1:"&ROWS(AE!$N$3:$N$4347)))),ROWS($3:67))),"")} | E67: {=IF(ROWS($3:67)<=COUNTIF(AE!$N$3:$N$4347,"OUI"),INDEX(AE!E$3:E$4347,SMALL(IF(AE!$N$3:$N$4347="OUI",ROW(INDIRECT("1:"&ROWS(AE!$N$3:$N$4347)))),ROWS($3:67))),"")} | F67: {=IF(ROWS($3:67)<=COUNTIF(AE!$N$3:$N$4347,"OUI"),INDEX(AE!F$3:F$4347,SMALL(IF(AE!$N$3:$N$4347="OUI",ROW(INDIRECT("1:"&ROWS(AE!$N$3:$N$4347)))),ROWS($3:67))),"")}
A68: {=IF(ROWS($3:68)<=COUNTIF(AE!$N$3:$N$4347,"OUI"),INDEX(AE!A$3:A$4347,SMALL(IF(AE!$N$3:$N$4347="OUI",ROW(INDIRECT("1:"&ROWS(AE!$N$3:$N$4347)))),ROWS($3:68))),"")} | B68: {=IF(ROWS($3:68)<=COUNTIF(AE!$N$3:$N$4347,"OUI"),INDEX(AE!B$3:B$4347,SMALL(IF(AE!$N$3:$N$4347="OUI",ROW(INDIRECT("1:"&ROWS(AE!$N$3:$N$4347)))),ROWS($3:68))),"")} | C68: {=IF(ROWS($3:68)<=COUNTIF(AE!$N$3:$N$4347,"OUI"),INDEX(AE!C$3:C$4347,SMALL(IF(AE!$N$3:$N$4347="OUI",ROW(INDIRECT("1:"&ROWS(AE!$N$3:$N$4347)))),ROWS($3:68))),"")} | D68: {=IF(ROWS($3:68)<=COUNTIF(AE!$N$3:$N$4347,"OUI"),INDEX(AE!D$3:D$4347,SMALL(IF(AE!$N$3:$N$4347="OUI",ROW(INDIRECT("1:"&ROWS(AE!$N$3:$N$4347)))),ROWS($3:68))),"")} | E68: {=IF(ROWS($3:68)<=COUNTIF(AE!$N$3:$N$4347,"OUI"),INDEX(AE!E$3:E$4347,SMALL(IF(AE!$N$3:$N$4347="OUI",ROW(INDIRECT("1:"&ROWS(AE!$N$3:$N$4347)))),ROWS($3:68))),"")} | F68: {=IF(ROWS($3:68)<=COUNTIF(AE!$N$3:$N$4347,"OUI"),INDEX(AE!F$3:F$4347,SMALL(IF(AE!$N$3:$N$4347="OUI",ROW(INDIRECT("1:"&ROWS(AE!$N$3:$N$4347)))),ROWS($3:68))),"")}
A69: {=IF(ROWS($3:69)<=COUNTIF(AE!$N$3:$N$4347,"OUI"),INDEX(AE!A$3:A$4347,SMALL(IF(AE!$N$3:$N$4347="OUI",ROW(INDIRECT("1:"&ROWS(AE!$N$3:$N$4347)))),ROWS($3:69))),"")} | B69: {=IF(ROWS($3:69)<=COUNTIF(AE!$N$3:$N$4347,"OUI"),INDEX(AE!B$3:B$4347,SMALL(IF(AE!$N$3:$N$4347="OUI",ROW(INDIRECT("1:"&ROWS(AE!$N$3:$N$4347)))),ROWS($3:69))),"")} | C69: {=IF(ROWS($3:69)<=COUNTIF(AE!$N$3:$N$4347,"OUI"),INDEX(AE!C$3:C$4347,SMALL(IF(AE!$N$3:$N$4347="OUI",ROW(INDIRECT("1:"&ROWS(AE!$N$3:$N$4347)))),ROWS($3:69))),"")} | D69: {=IF(ROWS($3:69)<=COUNTIF(AE!$N$3:$N$4347,"OUI"),INDEX(AE!D$3:D$4347,SMALL(IF(AE!$N$3:$N$4347="OUI",ROW(INDIRECT("1:"&ROWS(AE!$N$3:$N$4347)))),ROWS($3:69))),"")} | E69: {=IF(ROWS($3:69)<=COUNTIF(AE!$N$3:$N$4347,"OUI"),INDEX(AE!E$3:E$4347,SMALL(IF(AE!$N$3:$N$4347="OUI",ROW(INDIRECT("1:"&ROWS(AE!$N$3:$N$4347)))),ROWS($3:69))),"")} | F69: {=IF(ROWS($3:69)<=COUNTIF(AE!$N$3:$N$4347,"OUI"),INDEX(AE!F$3:F$4347,SMALL(IF(AE!$N$3:$N$4347="OUI",ROW(INDIRECT("1:"&ROWS(AE!$N$3:$N$4347)))),ROWS($3:69))),"")}
A70: {=IF(ROWS($3:70)<=COUNTIF(AE!$N$3:$N$4347,"OUI"),INDEX(AE!A$3:A$4347,SMALL(IF(AE!$N$3:$N$4347="OUI",ROW(INDIRECT("1:"&ROWS(AE!$N$3:$N$4347)))),ROWS($3:70))),"")} | B70: {=IF(ROWS($3:70)<=COUNTIF(AE!$N$3:$N$4347,"OUI"),INDEX(AE!B$3:B$4347,SMALL(IF(AE!$N$3:$N$4347="OUI",ROW(INDIRECT("1:"&ROWS(AE!$N$3:$N$4347)))),ROWS($3:70))),"")} | C70: {=IF(ROWS($3:70)<=COUNTIF(AE!$N$3:$N$4347,"OUI"),INDEX(AE!C$3:C$4347,SMALL(IF(AE!$N$3:$N$4347="OUI",ROW(INDIRECT("1:"&ROWS(AE!$N$3:$N$4347)))),ROWS($3:70))),"")} | D70: {=IF(ROWS($3:70)<=COUNTIF(AE!$N$3:$N$4347,"OUI"),INDEX(AE!D$3:D$4347,SMALL(IF(AE!$N$3:$N$4347="OUI",ROW(INDIRECT("1:"&ROWS(AE!$N$3:$N$4347)))),ROWS($3:70))),"")} | E70: {=IF(ROWS($3:70)<=COUNTIF(AE!$N$3:$N$4347,"OUI"),INDEX(AE!E$3:E$4347,SMALL(IF(AE!$N$3:$N$4347="OUI",ROW(INDIRECT("1:"&ROWS(AE!$N$3:$N$4347)))),ROWS($3:70))),"")} | F70: {=IF(ROWS($3:70)<=COUNTIF(AE!$N$3:$N$4347,"OUI"),INDEX(AE!F$3:F$4347,SMALL(IF(AE!$N$3:$N$4347="OUI",ROW(INDIRECT("1:"&ROWS(AE!$N$3:$N$4347)))),ROWS($3:70))),"")}
A71: {=IF(ROWS($3:71)<=COUNTIF(AE!$N$3:$N$4347,"OUI"),INDEX(AE!A$3:A$4347,SMALL(IF(AE!$N$3:$N$4347="OUI",ROW(INDIRECT("1:"&ROWS(AE!$N$3:$N$4347)))),ROWS($3:71))),"")} | B71: {=IF(ROWS($3:71)<=COUNTIF(AE!$N$3:$N$4347,"OUI"),INDEX(AE!B$3:B$4347,SMALL(IF(AE!$N$3:$N$4347="OUI",ROW(INDIRECT("1:"&ROWS(AE!$N$3:$N$4347)))),ROWS($3:71))),"")} | C71: {=IF(ROWS($3:71)<=COUNTIF(AE!$N$3:$N$4347,"OUI"),INDEX(AE!C$3:C$4347,SMALL(IF(AE!$N$3:$N$4347="OUI",ROW(INDIRECT("1:"&ROWS(AE!$N$3:$N$4347)))),ROWS($3:71))),"")} | D71: {=IF(ROWS($3:71)<=COUNTIF(AE!$N$3:$N$4347,"OUI"),INDEX(AE!D$3:D$4347,SMALL(IF(AE!$N$3:$N$4347="OUI",ROW(INDIRECT("1:"&ROWS(AE!$N$3:$N$4347)))),ROWS($3:71))),"")} | E71: {=IF(ROWS($3:71)<=COUNTIF(AE!$N$3:$N$4347,"OUI"),INDEX(AE!E$3:E$4347,SMALL(IF(AE!$N$3:$N$4347="OUI",ROW(INDIRECT("1:"&ROWS(AE!$N$3:$N$4347)))),ROWS($3:71))),"")} | F71: {=IF(ROWS($3:71)<=COUNTIF(AE!$N$3:$N$4347,"OUI"),INDEX(AE!F$3:F$4347,SMALL(IF(AE!$N$3:$N$4347="OUI",ROW(INDIRECT("1:"&ROWS(AE!$N$3:$N$4347)))),ROWS($3:71))),"")}
A72: {=IF(ROWS($3:72)<=COUNTIF(AE!$N$3:$N$4347,"OUI"),INDEX(AE!A$3:A$4347,SMALL(IF(AE!$N$3:$N$4347="OUI",ROW(INDIRECT("1:"&ROWS(AE!$N$3:$N$4347)))),ROWS($3:72))),"")} | B72: {=IF(ROWS($3:72)<=COUNTIF(AE!$N$3:$N$4347,"OUI"),INDEX(AE!B$3:B$4347,SMALL(IF(AE!$N$3:$N$4347="OUI",ROW(INDIRECT("1:"&ROWS(AE!$N$3:$N$4347)))),ROWS($3:72))),"")} | C72: {=IF(ROWS($3:72)<=COUNTIF(AE!$N$3:$N$4347,"OUI"),INDEX(AE!C$3:C$4347,SMALL(IF(AE!$N$3:$N$4347="OUI",ROW(INDIRECT("1:"&ROWS(AE!$N$3:$N$4347)))),ROWS($3:72))),"")} | D72: {=IF(ROWS($3:72)<=COUNTIF(AE!$N$3:$N$4347,"OUI"),INDEX(AE!D$3:D$4347,SMALL(IF(AE!$N$3:$N$4347="OUI",ROW(INDIRECT("1:"&ROWS(AE!$N$3:$N$4347)))),ROWS($3:72))),"")} | E72: {=IF(ROWS($3:72)<=COUNTIF(AE!$N$3:$N$4347,"OUI"),INDEX(AE!E$3:E$4347,SMALL(IF(AE!$N$3:$N$4347="OUI",ROW(INDIRECT("1:"&ROWS(AE!$N$3:$N$4347)))),ROWS($3:72))),"")} | F72: {=IF(ROWS($3:72)<=COUNTIF(AE!$N$3:$N$4347,"OUI"),INDEX(AE!F$3:F$4347,SMALL(IF(AE!$N$3:$N$4347="OUI",ROW(INDIRECT("1:"&ROWS(AE!$N$3:$N$4347)))),ROWS($3:72))),"")}
A73: {=IF(ROWS($3:73)<=COUNTIF(AE!$N$3:$N$4347,"OUI"),INDEX(AE!A$3:A$4347,SMALL(IF(AE!$N$3:$N$4347="OUI",ROW(INDIRECT("1:"&ROWS(AE!$N$3:$N$4347)))),ROWS($3:73))),"")} | B73: {=IF(ROWS($3:73)<=COUNTIF(AE!$N$3:$N$4347,"OUI"),INDEX(AE!B$3:B$4347,SMALL(IF(AE!$N$3:$N$4347="OUI",ROW(INDIRECT("1:"&ROWS(AE!$N$3:$N$4347)))),ROWS($3:73))),"")} | C73: {=IF(ROWS($3:73)<=COUNTIF(AE!$N$3:$N$4347,"OUI"),INDEX(AE!C$3:C$4347,SMALL(IF(AE!$N$3:$N$4347="OUI",ROW(INDIRECT("1:"&ROWS(AE!$N$3:$N$4347)))),ROWS($3:73))),"")} | D73: {=IF(ROWS($3:73)<=COUNTIF(AE!$N$3:$N$4347,"OUI"),INDEX(AE!D$3:D$4347,SMALL(IF(AE!$N$3:$N$4347="OUI",ROW(INDIRECT("1:"&ROWS(AE!$N$3:$N$4347)))),ROWS($3:73))),"")} | E73: {=IF(ROWS($3:73)<=COUNTIF(AE!$N$3:$N$4347,"OUI"),INDEX(AE!E$3:E$4347,SMALL(IF(AE!$N$3:$N$4347="OUI",ROW(INDIRECT("1:"&ROWS(AE!$N$3:$N$4347)))),ROWS($3:73))),"")} | F73: {=IF(ROWS($3:73)<=COUNTIF(AE!$N$3:$N$4347,"OUI"),INDEX(AE!F$3:F$4347,SMALL(IF(AE!$N$3:$N$4347="OUI",ROW(INDIRECT("1:"&ROWS(AE!$N$3:$N$4347)))),ROWS($3:73))),"")}
A74: {=IF(ROWS($3:74)<=COUNTIF(AE!$N$3:$N$4347,"OUI"),INDEX(AE!A$3:A$4347,SMALL(IF(AE!$N$3:$N$4347="OUI",ROW(INDIRECT("1:"&ROWS(AE!$N$3:$N$4347)))),ROWS($3:74))),"")} | B74: {=IF(ROWS($3:74)<=COUNTIF(AE!$N$3:$N$4347,"OUI"),INDEX(AE!B$3:B$4347,SMALL(IF(AE!$N$3:$N$4347="OUI",ROW(INDIRECT("1:"&ROWS(AE!$N$3:$N$4347)))),ROWS($3:74))),"")} | C74: {=IF(ROWS($3:74)<=COUNTIF(AE!$N$3:$N$4347,"OUI"),INDEX(AE!C$3:C$4347,SMALL(IF(AE!$N$3:$N$4347="OUI",ROW(INDIRECT("1:"&ROWS(AE!$N$3:$N$4347)))),ROWS($3:74))),"")} | D74: {=IF(ROWS($3:74)<=COUNTIF(AE!$N$3:$N$4347,"OUI"),INDEX(AE!D$3:D$4347,SMALL(IF(AE!$N$3:$N$4347="OUI",ROW(INDIRECT("1:"&ROWS(AE!$N$3:$N$4347)))),ROWS($3:74))),"")} | E74: {=IF(ROWS($3:74)<=COUNTIF(AE!$N$3:$N$4347,"OUI"),INDEX(AE!E$3:E$4347,SMALL(IF(AE!$N$3:$N$4347="OUI",ROW(INDIRECT("1:"&ROWS(AE!$N$3:$N$4347)))),ROWS($3:74))),"")} | F74: {=IF(ROWS($3:74)<=COUNTIF(AE!$N$3:$N$4347,"OUI"),INDEX(AE!F$3:F$4347,SMALL(IF(AE!$N$3:$N$4347="OUI",ROW(INDIRECT("1:"&ROWS(AE!$N$3:$N$4347)))),ROWS($3:74))),"")}
A75: {=IF(ROWS($3:75)<=COUNTIF(AE!$N$3:$N$4347,"OUI"),INDEX(AE!A$3:A$4347,SMALL(IF(AE!$N$3:$N$4347="OUI",ROW(INDIRECT("1:"&ROWS(AE!$N$3:$N$4347)))),ROWS($3:75))),"")} | B75: {=IF(ROWS($3:75)<=COUNTIF(AE!$N$3:$N$4347,"OUI"),INDEX(AE!B$3:B$4347,SMALL(IF(AE!$N$3:$N$4347="OUI",ROW(INDIRECT("1:"&ROWS(AE!$N$3:$N$4347)))),ROWS($3:75))),"")} | C75: {=IF(ROWS($3:75)<=COUNTIF(AE!$N$3:$N$4347,"OUI"),INDEX(AE!C$3:C$4347,SMALL(IF(AE!$N$3:$N$4347="OUI",ROW(INDIRECT("1:"&ROWS(AE!$N$3:$N$4347)))),ROWS($3:75))),"")} | D75: {=IF(ROWS($3:75)<=COUNTIF(AE!$N$3:$N$4347,"OUI"),INDEX(AE!D$3:D$4347,SMALL(IF(AE!$N$3:$N$4347="OUI",ROW(INDIRECT("1:"&ROWS(AE!$N$3:$N$4347)))),ROWS($3:75))),"")} | E75: {=IF(ROWS($3:75)<=COUNTIF(AE!$N$3:$N$4347,"OUI"),INDEX(AE!E$3:E$4347,SMALL(IF(AE!$N$3:$N$4347="OUI",ROW(INDIRECT("1:"&ROWS(AE!$N$3:$N$4347)))),ROWS($3:75))),"")} | F75: {=IF(ROWS($3:75)<=COUNTIF(AE!$N$3:$N$4347,"OUI"),INDEX(AE!F$3:F$4347,SMALL(IF(AE!$N$3:$N$4347="OUI",ROW(INDIRECT("1:"&ROWS(AE!$N$3:$N$4347)))),ROWS($3:75))),"")}
A76: {=IF(ROWS($3:76)<=COUNTIF(AE!$N$3:$N$4347,"OUI"),INDEX(AE!A$3:A$4347,SMALL(IF(AE!$N$3:$N$4347="OUI",ROW(INDIRECT("1:"&ROWS(AE!$N$3:$N$4347)))),ROWS($3:76))),"")} | B76: {=IF(ROWS($3:76)<=COUNTIF(AE!$N$3:$N$4347,"OUI"),INDEX(AE!B$3:B$4347,SMALL(IF(AE!$N$3:$N$4347="OUI",ROW(INDIRECT("1:"&ROWS(AE!$N$3:$N$4347)))),ROWS($3:76))),"")} | C76: {=IF(ROWS($3:76)<=COUNTIF(AE!$N$3:$N$4347,"OUI"),INDEX(AE!C$3:C$4347,SMALL(IF(AE!$N$3:$N$4347="OUI",ROW(INDIRECT("1:"&ROWS(AE!$N$3:$N$4347)))),ROWS($3:76))),"")} | D76: {=IF(ROWS($3:76)<=COUNTIF(AE!$N$3:$N$4347,"OUI"),INDEX(AE!D$3:D$4347,SMALL(IF(AE!$N$3:$N$4347="OUI",ROW(INDIRECT("1:"&ROWS(AE!$N$3:$N$4347)))),ROWS($3:76))),"")} | E76: {=IF(ROWS($3:76)<=COUNTIF(AE!$N$3:$N$4347,"OUI"),INDEX(AE!E$3:E$4347,SMALL(IF(AE!$N$3:$N$4347="OUI",ROW(INDIRECT("1:"&ROWS(AE!$N$3:$N$4347)))),ROWS($3:76))),"")} | F76: {=IF(ROWS($3:76)<=COUNTIF(AE!$N$3:$N$4347,"OUI"),INDEX(AE!F$3:F$4347,SMALL(IF(AE!$N$3:$N$4347="OUI",ROW(INDIRECT("1:"&ROWS(AE!$N$3:$N$4347)))),ROWS($3:76))),"")}
A77: {=IF(ROWS($3:77)<=COUNTIF(AE!$N$3:$N$4347,"OUI"),INDEX(AE!A$3:A$4347,SMALL(IF(AE!$N$3:$N$4347="OUI",ROW(INDIRECT("1:"&ROWS(AE!$N$3:$N$4347)))),ROWS($3:77))),"")} | B77: {=IF(ROWS($3:77)<=COUNTIF(AE!$N$3:$N$4347,"OUI"),INDEX(AE!B$3:B$4347,SMALL(IF(AE!$N$3:$N$4347="OUI",ROW(INDIRECT("1:"&ROWS(AE!$N$3:$N$4347)))),ROWS($3:77))),"")} | C77: {=IF(ROWS($3:77)<=COUNTIF(AE!$N$3:$N$4347,"OUI"),INDEX(AE!C$3:C$4347,SMALL(IF(AE!$N$3:$N$4347="OUI",ROW(INDIRECT("1:"&ROWS(AE!$N$3:$N$4347)))),ROWS($3:77))),"")} | D77: {=IF(ROWS($3:77)<=COUNTIF(AE!$N$3:$N$4347,"OUI"),INDEX(AE!D$3:D$4347,SMALL(IF(AE!$N$3:$N$4347="OUI",ROW(INDIRECT("1:"&ROWS(AE!$N$3:$N$4347)))),ROWS($3:77))),"")} | E77: {=IF(ROWS($3:77)<=COUNTIF(AE!$N$3:$N$4347,"OUI"),INDEX(AE!E$3:E$4347,SMALL(IF(AE!$N$3:$N$4347="OUI",ROW(INDIRECT("1:"&ROWS(AE!$N$3:$N$4347)))),ROWS($3:77))),"")} | F77: {=IF(ROWS($3:77)<=COUNTIF(AE!$N$3:$N$4347,"OUI"),INDEX(AE!F$3:F$4347,SMALL(IF(AE!$N$3:$N$4347="OUI",ROW(INDIRECT("1:"&ROWS(AE!$N$3:$N$4347)))),ROWS($3:77))),"")}
A78: {=IF(ROWS($3:78)<=COUNTIF(AE!$N$3:$N$4347,"OUI"),INDEX(AE!A$3:A$4347,SMALL(IF(AE!$N$3:$N$4347="OUI",ROW(INDIRECT("1:"&ROWS(AE!$N$3:$N$4347)))),ROWS($3:78))),"")} | B78: {=IF(ROWS($3:78)<=COUNTIF(AE!$N$3:$N$4347,"OUI"),INDEX(AE!B$3:B$4347,SMALL(IF(AE!$N$3:$N$4347="OUI",ROW(INDIRECT("1:"&ROWS(AE!$N$3:$N$4347)))),ROWS($3:78))),"")} | C78: {=IF(ROWS($3:78)<=COUNTIF(AE!$N$3:$N$4347,"OUI"),INDEX(AE!C$3:C$4347,SMALL(IF(AE!$N$3:$N$4347="OUI",ROW(INDIRECT("1:"&ROWS(AE!$N$3:$N$4347)))),ROWS($3:78))),"")} | D78: {=IF(ROWS($3:78)<=COUNTIF(AE!$N$3:$N$4347,"OUI"),INDEX(AE!D$3:D$4347,SMALL(IF(AE!$N$3:$N$4347="OUI",ROW(INDIRECT("1:"&ROWS(AE!$N$3:$N$4347)))),ROWS($3:78))),"")} | E78: {=IF(ROWS($3:78)<=COUNTIF(AE!$N$3:$N$4347,"OUI"),INDEX(AE!E$3:E$4347,SMALL(IF(AE!$N$3:$N$4347="OUI",ROW(INDIRECT("1:"&ROWS(AE!$N$3:$N$4347)))),ROWS($3:78))),"")} | F78: {=IF(ROWS($3:78)<=COUNTIF(AE!$N$3:$N$4347,"OUI"),INDEX(AE!F$3:F$4347,SMALL(IF(AE!$N$3:$N$4347="OUI",ROW(INDIRECT("1:"&ROWS(AE!$N$3:$N$4347)))),ROWS($3:78))),"")}
A79: {=IF(ROWS($3:79)<=COUNTIF(AE!$N$3:$N$4347,"OUI"),INDEX(AE!A$3:A$4347,SMALL(IF(AE!$N$3:$N$4347="OUI",ROW(INDIRECT("1:"&ROWS(AE!$N$3:$N$4347)))),ROWS($3:79))),"")} | B79: {=IF(ROWS($3:79)<=COUNTIF(AE!$N$3:$N$4347,"OUI"),INDEX(AE!B$3:B$4347,SMALL(IF(AE!$N$3:$N$4347="OUI",ROW(INDIRECT("1:"&ROWS(AE!$N$3:$N$4347)))),ROWS($3:79))),"")} | C79: {=IF(ROWS($3:79)<=COUNTIF(AE!$N$3:$N$4347,"OUI"),INDEX(AE!C$3:C$4347,SMALL(IF(AE!$N$3:$N$4347="OUI",ROW(INDIRECT("1:"&ROWS(AE!$N$3:$N$4347)))),ROWS($3:79))),"")} | D79: {=IF(ROWS($3:79)<=COUNTIF(AE!$N$3:$N$4347,"OUI"),INDEX(AE!D$3:D$4347,SMALL(IF(AE!$N$3:$N$4347="OUI",ROW(INDIRECT("1:"&ROWS(AE!$N$3:$N$4347)))),ROWS($3:79))),"")} | E79: {=IF(ROWS($3:79)<=COUNTIF(AE!$N$3:$N$4347,"OUI"),INDEX(AE!E$3:E$4347,SMALL(IF(AE!$N$3:$N$4347="OUI",ROW(INDIRECT("1:"&ROWS(AE!$N$3:$N$4347)))),ROWS($3:79))),"")} | F79: {=IF(ROWS($3:79)<=COUNTIF(AE!$N$3:$N$4347,"OUI"),INDEX(AE!F$3:F$4347,SMALL(IF(AE!$N$3:$N$4347="OUI",ROW(INDIRECT("1:"&ROWS(AE!$N$3:$N$4347)))),ROWS($3:79))),"")}
A80: {=IF(ROWS($3:80)<=COUNTIF(AE!$N$3:$N$4347,"OUI"),INDEX(AE!A$3:A$4347,SMALL(IF(AE!$N$3:$N$4347="OUI",ROW(INDIRECT("1:"&ROWS(AE!$N$3:$N$4347)))),ROWS($3:80))),"")} | B80: {=IF(ROWS($3:80)<=COUNTIF(AE!$N$3:$N$4347,"OUI"),INDEX(AE!B$3:B$4347,SMALL(IF(AE!$N$3:$N$4347="OUI",ROW(INDIRECT("1:"&ROWS(AE!$N$3:$N$4347)))),ROWS($3:80))),"")} | C80: {=IF(ROWS($3:80)<=COUNTIF(AE!$N$3:$N$4347,"OUI"),INDEX(AE!C$3:C$4347,SMALL(IF(AE!$N$3:$N$4347="OUI",ROW(INDIRECT("1:"&ROWS(AE!$N$3:$N$4347)))),ROWS($3:80))),"")} | D80: {=IF(ROWS($3:80)<=COUNTIF(AE!$N$3:$N$4347,"OUI"),INDEX(AE!D$3:D$4347,SMALL(IF(AE!$N$3:$N$4347="OUI",ROW(INDIRECT("1:"&ROWS(AE!$N$3:$N$4347)))),ROWS($3:80))),"")} | E80: {=IF(ROWS($3:80)<=COUNTIF(AE!$N$3:$N$4347,"OUI"),INDEX(AE!E$3:E$4347,SMALL(IF(AE!$N$3:$N$4347="OUI",ROW(INDIRECT("1:"&ROWS(AE!$N$3:$N$4347)))),ROWS($3:80))),"")} | F80: {=IF(ROWS($3:80)<=COUNTIF(AE!$N$3:$N$4347,"OUI"),INDEX(AE!F$3:F$4347,SMALL(IF(AE!$N$3:$N$4347="OUI",ROW(INDIRECT("1:"&ROWS(AE!$N$3:$N$4347)))),ROWS($3:80))),"")}
A81: {=IF(ROWS($3:81)<=COUNTIF(AE!$N$3:$N$4347,"OUI"),INDEX(AE!A$3:A$4347,SMALL(IF(AE!$N$3:$N$4347="OUI",ROW(INDIRECT("1:"&ROWS(AE!$N$3:$N$4347)))),ROWS($3:81))),"")} | B81: {=IF(ROWS($3:81)<=COUNTIF(AE!$N$3:$N$4347,"OUI"),INDEX(AE!B$3:B$4347,SMALL(IF(AE!$N$3:$N$4347="OUI",ROW(INDIRECT("1:"&ROWS(AE!$N$3:$N$4347)))),ROWS($3:81))),"")} | C81: {=IF(ROWS($3:81)<=COUNTIF(AE!$N$3:$N$4347,"OUI"),INDEX(AE!C$3:C$4347,SMALL(IF(AE!$N$3:$N$4347="OUI",ROW(INDIRECT("1:"&ROWS(AE!$N$3:$N$4347)))),ROWS($3:81))),"")} | D81: {=IF(ROWS($3:81)<=COUNTIF(AE!$N$3:$N$4347,"OUI"),INDEX(AE!D$3:D$4347,SMALL(IF(AE!$N$3:$N$4347="OUI",ROW(INDIRECT("1:"&ROWS(AE!$N$3:$N$4347)))),ROWS($3:81))),"")} | E81: {=IF(ROWS($3:81)<=COUNTIF(AE!$N$3:$N$4347,"OUI"),INDEX(AE!E$3:E$4347,SMALL(IF(AE!$N$3:$N$4347="OUI",ROW(INDIRECT("1:"&ROWS(AE!$N$3:$N$4347)))),ROWS($3:81))),"")} | F81: {=IF(ROWS($3:81)<=COUNTIF(AE!$N$3:$N$4347,"OUI"),INDEX(AE!F$3:F$4347,SMALL(IF(AE!$N$3:$N$4347="OUI",ROW(INDIRECT("1:"&ROWS(AE!$N$3:$N$4347)))),ROWS($3:81))),"")}
A82: {=IF(ROWS($3:82)<=COUNTIF(AE!$N$3:$N$4347,"OUI"),INDEX(AE!A$3:A$4347,SMALL(IF(AE!$N$3:$N$4347="OUI",ROW(INDIRECT("1:"&ROWS(AE!$N$3:$N$4347)))),ROWS($3:82))),"")} | B82: {=IF(ROWS($3:82)<=COUNTIF(AE!$N$3:$N$4347,"OUI"),INDEX(AE!B$3:B$4347,SMALL(IF(AE!$N$3:$N$4347="OUI",ROW(INDIRECT("1:"&ROWS(AE!$N$3:$N$4347)))),ROWS($3:82))),"")} | C82: {=IF(ROWS($3:82)<=COUNTIF(AE!$N$3:$N$4347,"OUI"),INDEX(AE!C$3:C$4347,SMALL(IF(AE!$N$3:$N$4347="OUI",ROW(INDIRECT("1:"&ROWS(AE!$N$3:$N$4347)))),ROWS($3:82))),"")} | D82: {=IF(ROWS($3:82)<=COUNTIF(AE!$N$3:$N$4347,"OUI"),INDEX(AE!D$3:D$4347,SMALL(IF(AE!$N$3:$N$4347="OUI",ROW(INDIRECT("1:"&ROWS(AE!$N$3:$N$4347)))),ROWS($3:82))),"")} | E82: {=IF(ROWS($3:82)<=COUNTIF(AE!$N$3:$N$4347,"OUI"),INDEX(AE!E$3:E$4347,SMALL(IF(AE!$N$3:$N$4347="OUI",ROW(INDIRECT("1:"&ROWS(AE!$N$3:$N$4347)))),ROWS($3:82))),"")} | F82: {=IF(ROWS($3:82)<=COUNTIF(AE!$N$3:$N$4347,"OUI"),INDEX(AE!F$3:F$4347,SMALL(IF(AE!$N$3:$N$4347="OUI",ROW(INDIRECT("1:"&ROWS(AE!$N$3:$N$4347)))),ROWS($3:82))),"")}
A83: {=IF(ROWS($3:83)<=COUNTIF(AE!$N$3:$N$4347,"OUI"),INDEX(AE!A$3:A$4347,SMALL(IF(AE!$N$3:$N$4347="OUI",ROW(INDIRECT("1:"&ROWS(AE!$N$3:$N$4347)))),ROWS($3:83))),"")} | B83: {=IF(ROWS($3:83)<=COUNTIF(AE!$N$3:$N$4347,"OUI"),INDEX(AE!B$3:B$4347,SMALL(IF(AE!$N$3:$N$4347="OUI",ROW(INDIRECT("1:"&ROWS(AE!$N$3:$N$4347)))),ROWS($3:83))),"")} | C83: {=IF(ROWS($3:83)<=COUNTIF(AE!$N$3:$N$4347,"OUI"),INDEX(AE!C$3:C$4347,SMALL(IF(AE!$N$3:$N$4347="OUI",ROW(INDIRECT("1:"&ROWS(AE!$N$3:$N$4347)))),ROWS($3:83))),"")} | D83: {=IF(ROWS($3:83)<=COUNTIF(AE!$N$3:$N$4347,"OUI"),INDEX(AE!D$3:D$4347,SMALL(IF(AE!$N$3:$N$4347="OUI",ROW(INDIRECT("1:"&ROWS(AE!$N$3:$N$4347)))),ROWS($3:83))),"")} | E83: {=IF(ROWS($3:83)<=COUNTIF(AE!$N$3:$N$4347,"OUI"),INDEX(AE!E$3:E$4347,SMALL(IF(AE!$N$3:$N$4347="OUI",ROW(INDIRECT("1:"&ROWS(AE!$N$3:$N$4347)))),ROWS($3:83))),"")} | F83: {=IF(ROWS($3:83)<=COUNTIF(AE!$N$3:$N$4347,"OUI"),INDEX(AE!F$3:F$4347,SMALL(IF(AE!$N$3:$N$4347="OUI",ROW(INDIRECT("1:"&ROWS(AE!$N$3:$N$4347)))),ROWS($3:83))),"")}
A84: {=IF(ROWS($3:84)<=COUNTIF(AE!$N$3:$N$4347,"OUI"),INDEX(AE!A$3:A$4347,SMALL(IF(AE!$N$3:$N$4347="OUI",ROW(INDIRECT("1:"&ROWS(AE!$N$3:$N$4347)))),ROWS($3:84))),"")} | B84: {=IF(ROWS($3:84)<=COUNTIF(AE!$N$3:$N$4347,"OUI"),INDEX(AE!B$3:B$4347,SMALL(IF(AE!$N$3:$N$4347="OUI",ROW(INDIRECT("1:"&ROWS(AE!$N$3:$N$4347)))),ROWS($3:84))),"")} | C84: {=IF(ROWS($3:84)<=COUNTIF(AE!$N$3:$N$4347,"OUI"),INDEX(AE!C$3:C$4347,SMALL(IF(AE!$N$3:$N$4347="OUI",ROW(INDIRECT("1:"&ROWS(AE!$N$3:$N$4347)))),ROWS($3:84))),"")} | D84: {=IF(ROWS($3:84)<=COUNTIF(AE!$N$3:$N$4347,"OUI"),INDEX(AE!D$3:D$4347,SMALL(IF(AE!$N$3:$N$4347="OUI",ROW(INDIRECT("1:"&ROWS(AE!$N$3:$N$4347)))),ROWS($3:84))),"")} | E84: {=IF(ROWS($3:84)<=COUNTIF(AE!$N$3:$N$4347,"OUI"),INDEX(AE!E$3:E$4347,SMALL(IF(AE!$N$3:$N$4347="OUI",ROW(INDIRECT("1:"&ROWS(AE!$N$3:$N$4347)))),ROWS($3:84))),"")} | F84: {=IF(ROWS($3:84)<=COUNTIF(AE!$N$3:$N$4347,"OUI"),INDEX(AE!F$3:F$4347,SMALL(IF(AE!$N$3:$N$4347="OUI",ROW(INDIRECT("1:"&ROWS(AE!$N$3:$N$4347)))),ROWS($3:84))),"")}
A85: {=IF(ROWS($3:85)<=COUNTIF(AE!$N$3:$N$4347,"OUI"),INDEX(AE!A$3:A$4347,SMALL(IF(AE!$N$3:$N$4347="OUI",ROW(INDIRECT("1:"&ROWS(AE!$N$3:$N$4347)))),ROWS($3:85))),"")} | B85: {=IF(ROWS($3:85)<=COUNTIF(AE!$N$3:$N$4347,"OUI"),INDEX(AE!B$3:B$4347,SMALL(IF(AE!$N$3:$N$4347="OUI",ROW(INDIRECT("1:"&ROWS(AE!$N$3:$N$4347)))),ROWS($3:85))),"")} | C85: {=IF(ROWS($3:85)<=COUNTIF(AE!$N$3:$N$4347,"OUI"),INDEX(AE!C$3:C$4347,SMALL(IF(AE!$N$3:$N$4347="OUI",ROW(INDIRECT("1:"&ROWS(AE!$N$3:$N$4347)))),ROWS($3:85))),"")} | D85: {=IF(ROWS($3:85)<=COUNTIF(AE!$N$3:$N$4347,"OUI"),INDEX(AE!D$3:D$4347,SMALL(IF(AE!$N$3:$N$4347="OUI",ROW(INDIRECT("1:"&ROWS(AE!$N$3:$N$4347)))),ROWS($3:85))),"")} | E85: {=IF(ROWS($3:85)<=COUNTIF(AE!$N$3:$N$4347,"OUI"),INDEX(AE!E$3:E$4347,SMALL(IF(AE!$N$3:$N$4347="OUI",ROW(INDIRECT("1:"&ROWS(AE!$N$3:$N$4347)))),ROWS($3:85))),"")} | F85: {=IF(ROWS($3:85)<=COUNTIF(AE!$N$3:$N$4347,"OUI"),INDEX(AE!F$3:F$4347,SMALL(IF(AE!$N$3:$N$4347="OUI",ROW(INDIRECT("1:"&ROWS(AE!$N$3:$N$4347)))),ROWS($3:85))),"")}
A86: {=IF(ROWS($3:86)<=COUNTIF(AE!$N$3:$N$4347,"OUI"),INDEX(AE!A$3:A$4347,SMALL(IF(AE!$N$3:$N$4347="OUI",ROW(INDIRECT("1:"&ROWS(AE!$N$3:$N$4347)))),ROWS($3:86))),"")} | B86: {=IF(ROWS($3:86)<=COUNTIF(AE!$N$3:$N$4347,"OUI"),INDEX(AE!B$3:B$4347,SMALL(IF(AE!$N$3:$N$4347="OUI",ROW(INDIRECT("1:"&ROWS(AE!$N$3:$N$4347)))),ROWS($3:86))),"")} | C86: {=IF(ROWS($3:86)<=COUNTIF(AE!$N$3:$N$4347,"OUI"),INDEX(AE!C$3:C$4347,SMALL(IF(AE!$N$3:$N$4347="OUI",ROW(INDIRECT("1:"&ROWS(AE!$N$3:$N$4347)))),ROWS($3:86))),"")} | D86: {=IF(ROWS($3:86)<=COUNTIF(AE!$N$3:$N$4347,"OUI"),INDEX(AE!D$3:D$4347,SMALL(IF(AE!$N$3:$N$4347="OUI",ROW(INDIRECT("1:"&ROWS(AE!$N$3:$N$4347)))),ROWS($3:86))),"")} | E86: {=IF(ROWS($3:86)<=COUNTIF(AE!$N$3:$N$4347,"OUI"),INDEX(AE!E$3:E$4347,SMALL(IF(AE!$N$3:$N$4347="OUI",ROW(INDIRECT("1:"&ROWS(AE!$N$3:$N$4347)))),ROWS($3:86))),"")} | F86: {=IF(ROWS($3:86)<=COUNTIF(AE!$N$3:$N$4347,"OUI"),INDEX(AE!F$3:F$4347,SMALL(IF(AE!$N$3:$N$4347="OUI",ROW(INDIRECT("1:"&ROWS(AE!$N$3:$N$4347)))),ROWS($3:86))),"")}
A87: {=IF(ROWS($3:87)<=COUNTIF(AE!$N$3:$N$4347,"OUI"),INDEX(AE!A$3:A$4347,SMALL(IF(AE!$N$3:$N$4347="OUI",ROW(INDIRECT("1:"&ROWS(AE!$N$3:$N$4347)))),ROWS($3:87))),"")} | B87: {=IF(ROWS($3:87)<=COUNTIF(AE!$N$3:$N$4347,"OUI"),INDEX(AE!B$3:B$4347,SMALL(IF(AE!$N$3:$N$4347="OUI",ROW(INDIRECT("1:"&ROWS(AE!$N$3:$N$4347)))),ROWS($3:87))),"")} | C87: {=IF(ROWS($3:87)<=COUNTIF(AE!$N$3:$N$4347,"OUI"),INDEX(AE!C$3:C$4347,SMALL(IF(AE!$N$3:$N$4347="OUI",ROW(INDIRECT("1:"&ROWS(AE!$N$3:$N$4347)))),ROWS($3:87))),"")} | D87: {=IF(ROWS($3:87)<=COUNTIF(AE!$N$3:$N$4347,"OUI"),INDEX(AE!D$3:D$4347,SMALL(IF(AE!$N$3:$N$4347="OUI",ROW(INDIRECT("1:"&ROWS(AE!$N$3:$N$4347)))),ROWS($3:87))),"")} | E87: {=IF(ROWS($3:87)<=COUNTIF(AE!$N$3:$N$4347,"OUI"),INDEX(AE!E$3:E$4347,SMALL(IF(AE!$N$3:$N$4347="OUI",ROW(INDIRECT("1:"&ROWS(AE!$N$3:$N$4347)))),ROWS($3:87))),"")} | F87: {=IF(ROWS($3:87)<=COUNTIF(AE!$N$3:$N$4347,"OUI"),INDEX(AE!F$3:F$4347,SMALL(IF(AE!$N$3:$N$4347="OUI",ROW(INDIRECT("1:"&ROWS(AE!$N$3:$N$4347)))),ROWS($3:87))),"")}
A88: {=IF(ROWS($3:88)<=COUNTIF(AE!$N$3:$N$4347,"OUI"),INDEX(AE!A$3:A$4347,SMALL(IF(AE!$N$3:$N$4347="OUI",ROW(INDIRECT("1:"&ROWS(AE!$N$3:$N$4347)))),ROWS($3:88))),"")} | B88: {=IF(ROWS($3:88)<=COUNTIF(AE!$N$3:$N$4347,"OUI"),INDEX(AE!B$3:B$4347,SMALL(IF(AE!$N$3:$N$4347="OUI",ROW(INDIRECT("1:"&ROWS(AE!$N$3:$N$4347)))),ROWS($3:88))),"")} | C88: {=IF(ROWS($3:88)<=COUNTIF(AE!$N$3:$N$4347,"OUI"),INDEX(AE!C$3:C$4347,SMALL(IF(AE!$N$3:$N$4347="OUI",ROW(INDIRECT("1:"&ROWS(AE!$N$3:$N$4347)))),ROWS($3:88))),"")} | D88: {=IF(ROWS($3:88)<=COUNTIF(AE!$N$3:$N$4347,"OUI"),INDEX(AE!D$3:D$4347,SMALL(IF(AE!$N$3:$N$4347="OUI",ROW(INDIRECT("1:"&ROWS(AE!$N$3:$N$4347)))),ROWS($3:88))),"")} | E88: {=IF(ROWS($3:88)<=COUNTIF(AE!$N$3:$N$4347,"OUI"),INDEX(AE!E$3:E$4347,SMALL(IF(AE!$N$3:$N$4347="OUI",ROW(INDIRECT("1:"&ROWS(AE!$N$3:$N$4347)))),ROWS($3:88))),"")} | F88: {=IF(ROWS($3:88)<=COUNTIF(AE!$N$3:$N$4347,"OUI"),INDEX(AE!F$3:F$4347,SMALL(IF(AE!$N$3:$N$4347="OUI",ROW(INDIRECT("1:"&ROWS(AE!$N$3:$N$4347)))),ROWS($3:88))),"")}
A89: {=IF(ROWS($3:89)<=COUNTIF(AE!$N$3:$N$4347,"OUI"),INDEX(AE!A$3:A$4347,SMALL(IF(AE!$N$3:$N$4347="OUI",ROW(INDIRECT("1:"&ROWS(AE!$N$3:$N$4347)))),ROWS($3:89))),"")} | B89: {=IF(ROWS($3:89)<=COUNTIF(AE!$N$3:$N$4347,"OUI"),INDEX(AE!B$3:B$4347,SMALL(IF(AE!$N$3:$N$4347="OUI",ROW(INDIRECT("1:"&ROWS(AE!$N$3:$N$4347)))),ROWS($3:89))),"")} | C89: {=IF(ROWS($3:89)<=COUNTIF(AE!$N$3:$N$4347,"OUI"),INDEX(AE!C$3:C$4347,SMALL(IF(AE!$N$3:$N$4347="OUI",ROW(INDIRECT("1:"&ROWS(AE!$N$3:$N$4347)))),ROWS($3:89))),"")} | D89: {=IF(ROWS($3:89)<=COUNTIF(AE!$N$3:$N$4347,"OUI"),INDEX(AE!D$3:D$4347,SMALL(IF(AE!$N$3:$N$4347="OUI",ROW(INDIRECT("1:"&ROWS(AE!$N$3:$N$4347)))),ROWS($3:89))),"")} | E89: {=IF(ROWS($3:89)<=COUNTIF(AE!$N$3:$N$4347,"OUI"),INDEX(AE!E$3:E$4347,SMALL(IF(AE!$N$3:$N$4347="OUI",ROW(INDIRECT("1:"&ROWS(AE!$N$3:$N$4347)))),ROWS($3:89))),"")} | F89: {=IF(ROWS($3:89)<=COUNTIF(AE!$N$3:$N$4347,"OUI"),INDEX(AE!F$3:F$4347,SMALL(IF(AE!$N$3:$N$4347="OUI",ROW(INDIRECT("1:"&ROWS(AE!$N$3:$N$4347)))),ROWS($3:89))),"")}
A90: {=IF(ROWS($3:90)<=COUNTIF(AE!$N$3:$N$4347,"OUI"),INDEX(AE!A$3:A$4347,SMALL(IF(AE!$N$3:$N$4347="OUI",ROW(INDIRECT("1:"&ROWS(AE!$N$3:$N$4347)))),ROWS($3:90))),"")} | B90: {=IF(ROWS($3:90)<=COUNTIF(AE!$N$3:$N$4347,"OUI"),INDEX(AE!B$3:B$4347,SMALL(IF(AE!$N$3:$N$4347="OUI",ROW(INDIRECT("1:"&ROWS(AE!$N$3:$N$4347)))),ROWS($3:90))),"")} | C90: {=IF(ROWS($3:90)<=COUNTIF(AE!$N$3:$N$4347,"OUI"),INDEX(AE!C$3:C$4347,SMALL(IF(AE!$N$3:$N$4347="OUI",ROW(INDIRECT("1:"&ROWS(AE!$N$3:$N$4347)))),ROWS($3:90))),"")} | D90: {=IF(ROWS($3:90)<=COUNTIF(AE!$N$3:$N$4347,"OUI"),INDEX(AE!D$3:D$4347,SMALL(IF(AE!$N$3:$N$4347="OUI",ROW(INDIRECT("1:"&ROWS(AE!$N$3:$N$4347)))),ROWS($3:90))),"")} | E90: {=IF(ROWS($3:90)<=COUNTIF(AE!$N$3:$N$4347,"OUI"),INDEX(AE!E$3:E$4347,SMALL(IF(AE!$N$3:$N$4347="OUI",ROW(INDIRECT("1:"&ROWS(AE!$N$3:$N$4347)))),ROWS($3:90))),"")} | F90: {=IF(ROWS($3:90)<=COUNTIF(AE!$N$3:$N$4347,"OUI"),INDEX(AE!F$3:F$4347,SMALL(IF(AE!$N$3:$N$4347="OUI",ROW(INDIRECT("1:"&ROWS(AE!$N$3:$N$4347)))),ROWS($3:90))),"")}
A91: {=IF(ROWS($3:91)<=COUNTIF(AE!$N$3:$N$4347,"OUI"),INDEX(AE!A$3:A$4347,SMALL(IF(AE!$N$3:$N$4347="OUI",ROW(INDIRECT("1:"&ROWS(AE!$N$3:$N$4347)))),ROWS($3:91))),"")} | B91: {=IF(ROWS($3:91)<=COUNTIF(AE!$N$3:$N$4347,"OUI"),INDEX(AE!B$3:B$4347,SMALL(IF(AE!$N$3:$N$4347="OUI",ROW(INDIRECT("1:"&ROWS(AE!$N$3:$N$4347)))),ROWS($3:91))),"")} | C91: {=IF(ROWS($3:91)<=COUNTIF(AE!$N$3:$N$4347,"OUI"),INDEX(AE!C$3:C$4347,SMALL(IF(AE!$N$3:$N$4347="OUI",ROW(INDIRECT("1:"&ROWS(AE!$N$3:$N$4347)))),ROWS($3:91))),"")} | D91: {=IF(ROWS($3:91)<=COUNTIF(AE!$N$3:$N$4347,"OUI"),INDEX(AE!D$3:D$4347,SMALL(IF(AE!$N$3:$N$4347="OUI",ROW(INDIRECT("1:"&ROWS(AE!$N$3:$N$4347)))),ROWS($3:91))),"")} | E91: {=IF(ROWS($3:91)<=COUNTIF(AE!$N$3:$N$4347,"OUI"),INDEX(AE!E$3:E$4347,SMALL(IF(AE!$N$3:$N$4347="OUI",ROW(INDIRECT("1:"&ROWS(AE!$N$3:$N$4347)))),ROWS($3:91))),"")} | F91: {=IF(ROWS($3:91)<=COUNTIF(AE!$N$3:$N$4347,"OUI"),INDEX(AE!F$3:F$4347,SMALL(IF(AE!$N$3:$N$4347="OUI",ROW(INDIRECT("1:"&ROWS(AE!$N$3:$N$4347)))),ROWS($3:91))),"")}
A92: {=IF(ROWS($3:92)<=COUNTIF(AE!$N$3:$N$4347,"OUI"),INDEX(AE!A$3:A$4347,SMALL(IF(AE!$N$3:$N$4347="OUI",ROW(INDIRECT("1:"&ROWS(AE!$N$3:$N$4347)))),ROWS($3:92))),"")} | B92: {=IF(ROWS($3:92)<=COUNTIF(AE!$N$3:$N$4347,"OUI"),INDEX(AE!B$3:B$4347,SMALL(IF(AE!$N$3:$N$4347="OUI",ROW(INDIRECT("1:"&ROWS(AE!$N$3:$N$4347)))),ROWS($3:92))),"")} | C92: {=IF(ROWS($3:92)<=COUNTIF(AE!$N$3:$N$4347,"OUI"),INDEX(AE!C$3:C$4347,SMALL(IF(AE!$N$3:$N$4347="OUI",ROW(INDIRECT("1:"&ROWS(AE!$N$3:$N$4347)))),ROWS($3:92))),"")} | D92: {=IF(ROWS($3:92)<=COUNTIF(AE!$N$3:$N$4347,"OUI"),INDEX(AE!D$3:D$4347,SMALL(IF(AE!$N$3:$N$4347="OUI",ROW(INDIRECT("1:"&ROWS(AE!$N$3:$N$4347)))),ROWS($3:92))),"")} | E92: {=IF(ROWS($3:92)<=COUNTIF(AE!$N$3:$N$4347,"OUI"),INDEX(AE!E$3:E$4347,SMALL(IF(AE!$N$3:$N$4347="OUI",ROW(INDIRECT("1:"&ROWS(AE!$N$3:$N$4347)))),ROWS($3:92))),"")} | F92: {=IF(ROWS($3:92)<=COUNTIF(AE!$N$3:$N$4347,"OUI"),INDEX(AE!F$3:F$4347,SMALL(IF(AE!$N$3:$N$4347="OUI",ROW(INDIRECT("1:"&ROWS(AE!$N$3:$N$4347)))),ROWS($3:92))),"")}
A93: {=IF(ROWS($3:93)<=COUNTIF(AE!$N$3:$N$4347,"OUI"),INDEX(AE!A$3:A$4347,SMALL(IF(AE!$N$3:$N$4347="OUI",ROW(INDIRECT("1:"&ROWS(AE!$N$3:$N$4347)))),ROWS($3:93))),"")} | B93: {=IF(ROWS($3:93)<=COUNTIF(AE!$N$3:$N$4347,"OUI"),INDEX(AE!B$3:B$4347,SMALL(IF(AE!$N$3:$N$4347="OUI",ROW(INDIRECT("1:"&ROWS(AE!$N$3:$N$4347)))),ROWS($3:93))),"")} | C93: {=IF(ROWS($3:93)<=COUNTIF(AE!$N$3:$N$4347,"OUI"),INDEX(AE!C$3:C$4347,SMALL(IF(AE!$N$3:$N$4347="OUI",ROW(INDIRECT("1:"&ROWS(AE!$N$3:$N$4347)))),ROWS($3:93))),"")} | D93: {=IF(ROWS($3:93)<=COUNTIF(AE!$N$3:$N$4347,"OUI"),INDEX(AE!D$3:D$4347,SMALL(IF(AE!$N$3:$N$4347="OUI",ROW(INDIRECT("1:"&ROWS(AE!$N$3:$N$4347)))),ROWS($3:93))),"")} | E93: {=IF(ROWS($3:93)<=COUNTIF(AE!$N$3:$N$4347,"OUI"),INDEX(AE!E$3:E$4347,SMALL(IF(AE!$N$3:$N$4347="OUI",ROW(INDIRECT("1:"&ROWS(AE!$N$3:$N$4347)))),ROWS($3:93))),"")} | F93: {=IF(ROWS($3:93)<=COUNTIF(AE!$N$3:$N$4347,"OUI"),INDEX(AE!F$3:F$4347,SMALL(IF(AE!$N$3:$N$4347="OUI",ROW(INDIRECT("1:"&ROWS(AE!$N$3:$N$4347)))),ROWS($3:93))),"")}
A94: {=IF(ROWS($3:94)<=COUNTIF(AE!$N$3:$N$4347,"OUI"),INDEX(AE!A$3:A$4347,SMALL(IF(AE!$N$3:$N$4347="OUI",ROW(INDIRECT("1:"&ROWS(AE!$N$3:$N$4347)))),ROWS($3:94))),"")} | B94: {=IF(ROWS($3:94)<=COUNTIF(AE!$N$3:$N$4347,"OUI"),INDEX(AE!B$3:B$4347,SMALL(IF(AE!$N$3:$N$4347="OUI",ROW(INDIRECT("1:"&ROWS(AE!$N$3:$N$4347)))),ROWS($3:94))),"")} | C94: {=IF(ROWS($3:94)<=COUNTIF(AE!$N$3:$N$4347,"OUI"),INDEX(AE!C$3:C$4347,SMALL(IF(AE!$N$3:$N$4347="OUI",ROW(INDIRECT("1:"&ROWS(AE!$N$3:$N$4347)))),ROWS($3:94))),"")} | D94: {=IF(ROWS($3:94)<=COUNTIF(AE!$N$3:$N$4347,"OUI"),INDEX(AE!D$3:D$4347,SMALL(IF(AE!$N$3:$N$4347="OUI",ROW(INDIRECT("1:"&ROWS(AE!$N$3:$N$4347)))),ROWS($3:94))),"")} | E94: {=IF(ROWS($3:94)<=COUNTIF(AE!$N$3:$N$4347,"OUI"),INDEX(AE!E$3:E$4347,SMALL(IF(AE!$N$3:$N$4347="OUI",ROW(INDIRECT("1:"&ROWS(AE!$N$3:$N$4347)))),ROWS($3:94))),"")} | F94: {=IF(ROWS($3:94)<=COUNTIF(AE!$N$3:$N$4347,"OUI"),INDEX(AE!F$3:F$4347,SMALL(IF(AE!$N$3:$N$4347="OUI",ROW(INDIRECT("1:"&ROWS(AE!$N$3:$N$4347)))),ROWS($3:94))),"")}
A95: {=IF(ROWS($3:95)<=COUNTIF(AE!$N$3:$N$4347,"OUI"),INDEX(AE!A$3:A$4347,SMALL(IF(AE!$N$3:$N$4347="OUI",ROW(INDIRECT("1:"&ROWS(AE!$N$3:$N$4347)))),ROWS($3:95))),"")} | B95: {=IF(ROWS($3:95)<=COUNTIF(AE!$N$3:$N$4347,"OUI"),INDEX(AE!B$3:B$4347,SMALL(IF(AE!$N$3:$N$4347="OUI",ROW(INDIRECT("1:"&ROWS(AE!$N$3:$N$4347)))),ROWS($3:95))),"")} | C95: {=IF(ROWS($3:95)<=COUNTIF(AE!$N$3:$N$4347,"OUI"),INDEX(AE!C$3:C$4347,SMALL(IF(AE!$N$3:$N$4347="OUI",ROW(INDIRECT("1:"&ROWS(AE!$N$3:$N$4347)))),ROWS($3:95))),"")} | D95: {=IF(ROWS($3:95)<=COUNTIF(AE!$N$3:$N$4347,"OUI"),INDEX(AE!D$3:D$4347,SMALL(IF(AE!$N$3:$N$4347="OUI",ROW(INDIRECT("1:"&ROWS(AE!$N$3:$N$4347)))),ROWS($3:95))),"")} | E95: {=IF(ROWS($3:95)<=COUNTIF(AE!$N$3:$N$4347,"OUI"),INDEX(AE!E$3:E$4347,SMALL(IF(AE!$N$3:$N$4347="OUI",ROW(INDIRECT("1:"&ROWS(AE!$N$3:$N$4347)))),ROWS($3:95))),"")} | F95: {=IF(ROWS($3:95)<=COUNTIF(AE!$N$3:$N$4347,"OUI"),INDEX(AE!F$3:F$4347,SMALL(IF(AE!$N$3:$N$4347="OUI",ROW(INDIRECT("1:"&ROWS(AE!$N$3:$N$4347)))),ROWS($3:95))),"")}
A96: {=IF(ROWS($3:96)<=COUNTIF(AE!$N$3:$N$4347,"OUI"),INDEX(AE!A$3:A$4347,SMALL(IF(AE!$N$3:$N$4347="OUI",ROW(INDIRECT("1:"&ROWS(AE!$N$3:$N$4347)))),ROWS($3:96))),"")} | B96: {=IF(ROWS($3:96)<=COUNTIF(AE!$N$3:$N$4347,"OUI"),INDEX(AE!B$3:B$4347,SMALL(IF(AE!$N$3:$N$4347="OUI",ROW(INDIRECT("1:"&ROWS(AE!$N$3:$N$4347)))),ROWS($3:96))),"")} | C96: {=IF(ROWS($3:96)<=COUNTIF(AE!$N$3:$N$4347,"OUI"),INDEX(AE!C$3:C$4347,SMALL(IF(AE!$N$3:$N$4347="OUI",ROW(INDIRECT("1:"&ROWS(AE!$N$3:$N$4347)))),ROWS($3:96))),"")} | D96: {=IF(ROWS($3:96)<=COUNTIF(AE!$N$3:$N$4347,"OUI"),INDEX(AE!D$3:D$4347,SMALL(IF(AE!$N$3:$N$4347="OUI",ROW(INDIRECT("1:"&ROWS(AE!$N$3:$N$4347)))),ROWS($3:96))),"")} | E96: {=IF(ROWS($3:96)<=COUNTIF(AE!$N$3:$N$4347,"OUI"),INDEX(AE!E$3:E$4347,SMALL(IF(AE!$N$3:$N$4347="OUI",ROW(INDIRECT("1:"&ROWS(AE!$N$3:$N$4347)))),ROWS($3:96))),"")} | F96: {=IF(ROWS($3:96)<=COUNTIF(AE!$N$3:$N$4347,"OUI"),INDEX(AE!F$3:F$4347,SMALL(IF(AE!$N$3:$N$4347="OUI",ROW(INDIRECT("1:"&ROWS(AE!$N$3:$N$4347)))),ROWS($3:96))),"")}
A97: {=IF(ROWS($3:97)<=COUNTIF(AE!$N$3:$N$4347,"OUI"),INDEX(AE!A$3:A$4347,SMALL(IF(AE!$N$3:$N$4347="OUI",ROW(INDIRECT("1:"&ROWS(AE!$N$3:$N$4347)))),ROWS($3:97))),"")} | B97: {=IF(ROWS($3:97)<=COUNTIF(AE!$N$3:$N$4347,"OUI"),INDEX(AE!B$3:B$4347,SMALL(IF(AE!$N$3:$N$4347="OUI",ROW(INDIRECT("1:"&ROWS(AE!$N$3:$N$4347)))),ROWS($3:97))),"")} | C97: {=IF(ROWS($3:97)<=COUNTIF(AE!$N$3:$N$4347,"OUI"),INDEX(AE!C$3:C$4347,SMALL(IF(AE!$N$3:$N$4347="OUI",ROW(INDIRECT("1:"&ROWS(AE!$N$3:$N$4347)))),ROWS($3:97))),"")} | D97: {=IF(ROWS($3:97)<=COUNTIF(AE!$N$3:$N$4347,"OUI"),INDEX(AE!D$3:D$4347,SMALL(IF(AE!$N$3:$N$4347="OUI",ROW(INDIRECT("1:"&ROWS(AE!$N$3:$N$4347)))),ROWS($3:97))),"")} | E97: {=IF(ROWS($3:97)<=COUNTIF(AE!$N$3:$N$4347,"OUI"),INDEX(AE!E$3:E$4347,SMALL(IF(AE!$N$3:$N$4347="OUI",ROW(INDIRECT("1:"&ROWS(AE!$N$3:$N$4347)))),ROWS($3:97))),"")} | F97: {=IF(ROWS($3:97)<=COUNTIF(AE!$N$3:$N$4347,"OUI"),INDEX(AE!F$3:F$4347,SMALL(IF(AE!$N$3:$N$4347="OUI",ROW(INDIRECT("1:"&ROWS(AE!$N$3:$N$4347)))),ROWS($3:97))),"")}
A98: {=IF(ROWS($3:98)<=COUNTIF(AE!$N$3:$N$4347,"OUI"),INDEX(AE!A$3:A$4347,SMALL(IF(AE!$N$3:$N$4347="OUI",ROW(INDIRECT("1:"&ROWS(AE!$N$3:$N$4347)))),ROWS($3:98))),"")} | B98: {=IF(ROWS($3:98)<=COUNTIF(AE!$N$3:$N$4347,"OUI"),INDEX(AE!B$3:B$4347,SMALL(IF(AE!$N$3:$N$4347="OUI",ROW(INDIRECT("1:"&ROWS(AE!$N$3:$N$4347)))),ROWS($3:98))),"")} | C98: {=IF(ROWS($3:98)<=COUNTIF(AE!$N$3:$N$4347,"OUI"),INDEX(AE!C$3:C$4347,SMALL(IF(AE!$N$3:$N$4347="OUI",ROW(INDIRECT("1:"&ROWS(AE!$N$3:$N$4347)))),ROWS($3:98))),"")} | D98: {=IF(ROWS($3:98)<=COUNTIF(AE!$N$3:$N$4347,"OUI"),INDEX(AE!D$3:D$4347,SMALL(IF(AE!$N$3:$N$4347="OUI",ROW(INDIRECT("1:"&ROWS(AE!$N$3:$N$4347)))),ROWS($3:98))),"")} | E98: {=IF(ROWS($3:98)<=COUNTIF(AE!$N$3:$N$4347,"OUI"),INDEX(AE!E$3:E$4347,SMALL(IF(AE!$N$3:$N$4347="OUI",ROW(INDIRECT("1:"&ROWS(AE!$N$3:$N$4347)))),ROWS($3:98))),"")} | F98: {=IF(ROWS($3:98)<=COUNTIF(AE!$N$3:$N$4347,"OUI"),INDEX(AE!F$3:F$4347,SMALL(IF(AE!$N$3:$N$4347="OUI",ROW(INDIRECT("1:"&ROWS(AE!$N$3:$N$4347)))),ROWS($3:98))),"")}
A99: {=IF(ROWS($3:99)<=COUNTIF(AE!$N$3:$N$4347,"OUI"),INDEX(AE!A$3:A$4347,SMALL(IF(AE!$N$3:$N$4347="OUI",ROW(INDIRECT("1:"&ROWS(AE!$N$3:$N$4347)))),ROWS($3:99))),"")} | B99: {=IF(ROWS($3:99)<=COUNTIF(AE!$N$3:$N$4347,"OUI"),INDEX(AE!B$3:B$4347,SMALL(IF(AE!$N$3:$N$4347="OUI",ROW(INDIRECT("1:"&ROWS(AE!$N$3:$N$4347)))),ROWS($3:99))),"")} | C99: {=IF(ROWS($3:99)<=COUNTIF(AE!$N$3:$N$4347,"OUI"),INDEX(AE!C$3:C$4347,SMALL(IF(AE!$N$3:$N$4347="OUI",ROW(INDIRECT("1:"&ROWS(AE!$N$3:$N$4347)))),ROWS($3:99))),"")} | D99: {=IF(ROWS($3:99)<=COUNTIF(AE!$N$3:$N$4347,"OUI"),INDEX(AE!D$3:D$4347,SMALL(IF(AE!$N$3:$N$4347="OUI",ROW(INDIRECT("1:"&ROWS(AE!$N$3:$N$4347)))),ROWS($3:99))),"")} | E99: {=IF(ROWS($3:99)<=COUNTIF(AE!$N$3:$N$4347,"OUI"),INDEX(AE!E$3:E$4347,SMALL(IF(AE!$N$3:$N$4347="OUI",ROW(INDIRECT("1:"&ROWS(AE!$N$3:$N$4347)))),ROWS($3:99))),"")} | F99: {=IF(ROWS($3:99)<=COUNTIF(AE!$N$3:$N$4347,"OUI"),INDEX(AE!F$3:F$4347,SMALL(IF(AE!$N$3:$N$4347="OUI",ROW(INDIRECT("1:"&ROWS(AE!$N$3:$N$4347)))),ROWS($3:99))),"")}
A100: {=IF(ROWS($3:100)<=COUNTIF(AE!$N$3:$N$4347,"OUI"),INDEX(AE!A$3:A$4347,SMALL(IF(AE!$N$3:$N$4347="OUI",ROW(INDIRECT("1:"&ROWS(AE!$N$3:$N$4347)))),ROWS($3:100))),"")} | B100: {=IF(ROWS($3:100)<=COUNTIF(AE!$N$3:$N$4347,"OUI"),INDEX(AE!B$3:B$4347,SMALL(IF(AE!$N$3:$N$4347="OUI",ROW(INDIRECT("1:"&ROWS(AE!$N$3:$N$4347)))),ROWS($3:100))),"")} | C100: {=IF(ROWS($3:100)<=COUNTIF(AE!$N$3:$N$4347,"OUI"),INDEX(AE!C$3:C$4347,SMALL(IF(AE!$N$3:$N$4347="OUI",ROW(INDIRECT("1:"&ROWS(AE!$N$3:$N$4347)))),ROWS($3:100))),"")} | D100: {=IF(ROWS($3:100)<=COUNTIF(AE!$N$3:$N$4347,"OUI"),INDEX(AE!D$3:D$4347,SMALL(IF(AE!$N$3:$N$4347="OUI",ROW(INDIRECT("1:"&ROWS(AE!$N$3:$N$4347)))),ROWS($3:100))),"")} | E100: {=IF(ROWS($3:100)<=COUNTIF(AE!$N$3:$N$4347,"OUI"),INDEX(AE!E$3:E$4347,SMALL(IF(AE!$N$3:$N$4347="OUI",ROW(INDIRECT("1:"&ROWS(AE!$N$3:$N$4347)))),ROWS($3:100))),"")} | F100: {=IF(ROWS($3:100)<=COUNTIF(AE!$N$3:$N$4347,"OUI"),INDEX(AE!F$3:F$4347,SMALL(IF(AE!$N$3:$N$4347="OUI",ROW(INDIRECT("1:"&ROWS(AE!$N$3:$N$4347)))),ROWS($3:100))),"")}
...
