Workbook
Name IK: Feuil1!$G$1:$G$1001
Name inter: Feuil2!$D$1:$D$14
Name Lieu_intervention: Feuil1!$F$1:$F$1001
Name lieux: Feuil2!$A$2:$A$50
Name modedepaie: Feuil2!$G$1:$G$4
Name Nom: Feuil1!$C$1:$C$1001

Sheet Feuil1
A1: Date | B1: NOM | D1: Intervention | E1: Tarif théorique | F1: Lieu intervention | G1: IK | H1: Paiement réel | I1: Moyen de paiement | K1: Recherche
A2: 00/00/2016 | C2: non | D2: JKKD001 | E2: =IF(D2="","",VLOOKUP(D2,Feuil2!$D$1:$E$14,2,FALSE)) -> 38.4 | F2: proche | G2: =IF(F2="","",VLOOKUP(F2,Feuil2!$A$2:$B$6,2,FALSE)*0.4) -> 14
C3: oui | D3: SF7 | E3: =IF(D3="","",VLOOKUP(D3,Feuil2!$D$1:$E$14,2,FALSE)) -> 19.6 | F3: cabinet | G3: =IF(F3="","",VLOOKUP(F3,Feuil2!$A$2:$B$6,2,FALSE)*0.4) -> 0 | K3: Nom : | L3: Lieu | M3: Résultat Km
C4: ok | D4: SF7 | E4: =IF(D4="","",VLOOKUP(D4,Feuil2!$D$1:$E$14,2,FALSE)) -> 19.6 | F4: proche | G4: =IF(F4="","",VLOOKUP(F4,Feuil2!$A$2:$B$6,2,FALSE)*0.4) -> 14 | K4: 12 | L4: {=IF(ISERROR(INDEX(Lieu_intervention,SMALL(IF(Nom=$K$4,ROW(INDIRECT("1:"&ROWS(Nom)))),ROWS($1:1)))),"",INDEX(Lieu_intervention,SMALL(IF(Nom=$K$4,ROW(INDIRECT("1:"&ROWS(Lieu_intervention)))),ROWS($1:1))))} -> cabinet | M4: {=IF(ISERROR(INDEX(IK,SMALL(IF(Nom=$K$4,ROW(INDIRECT("1:"&ROWS(Nom)))),ROWS($1:1)))),"",INDEX(IK,SMALL(IF(Nom=$K$4,ROW(INDIRECT("1:"&ROWS(IK)))),ROWS($1:1))))} -> 0
C5: non | D5: SF11,6 | E5: =IF(D5="","",VLOOKUP(D5,Feuil2!$D$1:$E$14,2,FALSE)) -> 37.48 | F5: loin | G5: =IF(F5="","",VLOOKUP(F5,Feuil2!$A$2:$B$6,2,FALSE)*0.4) -> 16 | L5: {=IF(ISERROR(INDEX(Lieu_intervention,SMALL(IF(Nom=$K$4,ROW(INDIRECT("1:"&ROWS(Nom)))),ROWS($1:2)))),"",INDEX(Lieu_intervention,SMALL(IF(Nom=$K$4,ROW(INDIRECT("1:"&ROWS(Lieu_intervention)))),ROWS($1:2))))} -> tres loin | M5: {=IF(ISERROR(INDEX(IK,SMALL(IF(Nom=$K$4,ROW(INDIRECT("1:"&ROWS(Nom)))),ROWS($1:2)))),"",INDEX(IK,SMALL(IF(Nom=$K$4,ROW(INDIRECT("1:"&ROWS(IK)))),ROWS($1:2))))} -> 28
C6: oui | D6: SF15 | E6: =IF(D6="","",VLOOKUP(D6,Feuil2!$D$1:$E$14,2,FALSE)) -> 42 | F6: la bas | G6: =IF(F6="","",VLOOKUP(F6,Feuil2!$A$2:$B$6,2,FALSE)*0.4) -> 6 | L6: {=IF(ISERROR(INDEX(Lieu_intervention,SMALL(IF(Nom=$K$4,ROW(INDIRECT("1:"&ROWS(Nom)))),ROWS($1:3)))),"",INDEX(Lieu_intervention,SMALL(IF(Nom=$K$4,ROW(INDIRECT("1:"&ROWS(Lieu_intervention)))),ROWS($1:3))))} -> loin | M6: {=IF(ISERROR(INDEX(IK,SMALL(IF(Nom=$K$4,ROW(INDIRECT("1:"&ROWS(Nom)))),ROWS($1:3)))),"",INDEX(IK,SMALL(IF(Nom=$K$4,ROW(INDIRECT("1:"&ROWS(IK)))),ROWS($1:3))))} -> 16
E7: =IF(D7="","",VLOOKUP(D7,Feuil2!$D$1:$E$14,2,FALSE)) | G7: =IF(F7="","",VLOOKUP(F7,Feuil2!$A$2:$B$6,2,FALSE)*0.4) | L7: {=IF(ISERROR(INDEX(Lieu_intervention,SMALL(IF(Nom=$K$4,ROW(INDIRECT("1:"&ROWS(Nom)))),ROWS($1:4)))),"",INDEX(Lieu_intervention,SMALL(IF(Nom=$K$4,ROW(INDIRECT("1:"&ROWS(Lieu_intervention)))),ROWS($1:4))))} | M7: {=IF(ISERROR(INDEX(IK,SMALL(IF(Nom=$K$4,ROW(INDIRECT("1:"&ROWS(Nom)))),ROWS($1:4)))),"",INDEX(IK,SMALL(IF(Nom=$K$4,ROW(INDIRECT("1:"&ROWS(IK)))),ROWS($1:4))))}
C8: Machin | E8: =IF(D8="","",VLOOKUP(D8,Feuil2!$D$1:$E$14,2,FALSE)) | G8: =IF(F8="","",VLOOKUP(F8,Feuil2!$A$2:$B$6,2,FALSE)*0.4) | L8: {=IF(ISERROR(INDEX(Lieu_intervention,SMALL(IF(Nom=$K$4,ROW(INDIRECT("1:"&ROWS(Nom)))),ROWS($1:5)))),"",INDEX(Lieu_intervention,SMALL(IF(Nom=$K$4,ROW(INDIRECT("1:"&ROWS(Lieu_intervention)))),ROWS($1:5))))} | M8: {=IF(ISERROR(INDEX(IK,SMALL(IF(Nom=$K$4,ROW(INDIRECT("1:"&ROWS(Nom)))),ROWS($1:5)))),"",INDEX(IK,SMALL(IF(Nom=$K$4,ROW(INDIRECT("1:"&ROWS(IK)))),ROWS($1:5))))}
C9: Bidule | E9: =IF(D9="","",VLOOKUP(D9,Feuil2!$D$1:$E$14,2,FALSE)) | G9: =IF(F9="","",VLOOKUP(F9,Feuil2!$A$2:$B$6,2,FALSE)*0.4) | L9: {=IF(ISERROR(INDEX(Lieu_intervention,SMALL(IF(Nom=$K$4,ROW(INDIRECT("1:"&ROWS(Nom)))),ROWS($1:6)))),"",INDEX(Lieu_intervention,SMALL(IF(Nom=$K$4,ROW(INDIRECT("1:"&ROWS(Lieu_intervention)))),ROWS($1:6))))} | M9: {=IF(ISERROR(INDEX(IK,SMALL(IF(Nom=$K$4,ROW(INDIRECT("1:"&ROWS(Nom)))),ROWS($1:6)))),"",INDEX(IK,SMALL(IF(Nom=$K$4,ROW(INDIRECT("1:"&ROWS(IK)))),ROWS($1:6))))}
E10: =IF(D10="","",VLOOKUP(D10,Feuil2!$D$1:$E$14,2,FALSE)) | G10: =IF(F10="","",VLOOKUP(F10,Feuil2!$A$2:$B$6,2,FALSE)*0.4) | L10: {=IF(ISERROR(INDEX(Lieu_intervention,SMALL(IF(Nom=$K$4,ROW(INDIRECT("1:"&ROWS(Nom)))),ROWS($1:7)))),"",INDEX(Lieu_intervention,SMALL(IF(Nom=$K$4,ROW(INDIRECT("1:"&ROWS(Lieu_intervention)))),ROWS($1:7))))} | M10: {=IF(ISERROR(INDEX(IK,SMALL(IF(Nom=$K$4,ROW(INDIRECT("1:"&ROWS(Nom)))),ROWS($1:7)))),"",INDEX(IK,SMALL(IF(Nom=$K$4,ROW(INDIRECT("1:"&ROWS(IK)))),ROWS($1:7))))}
E11: =IF(D11="","",VLOOKUP(D11,Feuil2!$D$1:$E$14,2,FALSE)) | G11: =IF(F11="","",VLOOKUP(F11,Feuil2!$A$2:$B$6,2,FALSE)*0.4) | L11: {=IF(ISERROR(INDEX(Lieu_intervention,SMALL(IF(Nom=$K$4,ROW(INDIRECT("1:"&ROWS(Nom)))),ROWS($1:8)))),"",INDEX(Lieu_intervention,SMALL(IF(Nom=$K$4,ROW(INDIRECT("1:"&ROWS(Lieu_intervention)))),ROWS($1:8))))} | M11: {=IF(ISERROR(INDEX(IK,SMALL(IF(Nom=$K$4,ROW(INDIRECT("1:"&ROWS(Nom)))),ROWS($1:8)))),"",INDEX(IK,SMALL(IF(Nom=$K$4,ROW(INDIRECT("1:"&ROWS(IK)))),ROWS($1:8))))}
E12: =IF(D12="","",VLOOKUP(D12,Feuil2!$D$1:$E$14,2,FALSE)) | G12: =IF(F12="","",VLOOKUP(F12,Feuil2!$A$2:$B$6,2,FALSE)*0.4) | L12: {=IF(ISERROR(INDEX(Lieu_intervention,SMALL(IF(Nom=$K$4,ROW(INDIRECT("1:"&ROWS(Nom)))),ROWS($1:9)))),"",INDEX(Lieu_intervention,SMALL(IF(Nom=$K$4,ROW(INDIRECT("1:"&ROWS(Lieu_intervention)))),ROWS($1:9))))} | M12: {=IF(ISERROR(INDEX(IK,SMALL(IF(Nom=$K$4,ROW(INDIRECT("1:"&ROWS(Nom)))),ROWS($1:9)))),"",INDEX(IK,SMALL(IF(Nom=$K$4,ROW(INDIRECT("1:"&ROWS(IK)))),ROWS($1:9))))}
E13: =IF(D13="","",VLOOKUP(D13,Feuil2!$D$1:$E$14,2,FALSE)) | G13: =IF(F13="","",VLOOKUP(F13,Feuil2!$A$2:$B$6,2,FALSE)*0.4) | L13: {=IF(ISERROR(INDEX(Lieu_intervention,SMALL(IF(Nom=$K$4,ROW(INDIRECT("1:"&ROWS(Nom)))),ROWS($1:10)))),"",INDEX(Lieu_intervention,SMALL(IF(Nom=$K$4,ROW(INDIRECT("1:"&ROWS(Lieu_intervention)))),ROWS($1:10))))} | M13: {=IF(ISERROR(INDEX(IK,SMALL(IF(Nom=$K$4,ROW(INDIRECT("1:"&ROWS(Nom)))),ROWS($1:10)))),"",INDEX(IK,SMALL(IF(Nom=$K$4,ROW(INDIRECT("1:"&ROWS(IK)))),ROWS($1:10))))}
E14: =IF(D14="","",VLOOKUP(D14,Feuil2!$D$1:$E$14,2,FALSE)) | G14: =IF(F14="","",VLOOKUP(F14,Feuil2!$A$2:$B$6,2,FALSE)*0.4) | L14: {=IF(ISERROR(INDEX(Lieu_intervention,SMALL(IF(Nom=$K$4,ROW(INDIRECT("1:"&ROWS(Nom)))),ROWS($1:11)))),"",INDEX(Lieu_intervention,SMALL(IF(Nom=$K$4,ROW(INDIRECT("1:"&ROWS(Lieu_intervention)))),ROWS($1:11))))} | M14: {=IF(ISERROR(INDEX(IK,SMALL(IF(Nom=$K$4,ROW(INDIRECT("1:"&ROWS(Nom)))),ROWS($1:11)))),"",INDEX(IK,SMALL(IF(Nom=$K$4,ROW(INDIRECT("1:"&ROWS(IK)))),ROWS($1:11))))}
E15: =IF(D15="","",VLOOKUP(D15,Feuil2!$D$1:$E$14,2,FALSE)) | G15: =IF(F15="","",VLOOKUP(F15,Feuil2!$A$2:$B$6,2,FALSE)*0.4) | L15: {=IF(ISERROR(INDEX(Lieu_intervention,SMALL(IF(Nom=$K$4,ROW(INDIRECT("1:"&ROWS(Nom)))),ROWS($1:12)))),"",INDEX(Lieu_intervention,SMALL(IF(Nom=$K$4,ROW(INDIRECT("1:"&ROWS(Lieu_intervention)))),ROWS($1:12))))} | M15: {=IF(ISERROR(INDEX(IK,SMALL(IF(Nom=$K$4,ROW(INDIRECT("1:"&ROWS(Nom)))),ROWS($1:12)))),"",INDEX(IK,SMALL(IF(Nom=$K$4,ROW(INDIRECT("1:"&ROWS(IK)))),ROWS($1:12))))}
D17: Total théorique | E17: Total IK | F17: Total paiement réel | H17: Différentiel
D18: =SUM(E2:E14) -> 157.08 | E18: =SUM(G2:G14) -> 50 | F18: =SUM(H2:H14) -> 0 | H18: =D18+E18-F18 -> 207.08
A21: Date | B21: NOM | D21: Intervention | E21: Tarif théorique | F21: Lieu intervention | G21: IK | H21: Paiement réel | I21: Moyen de paiement
A22: 00/00/2016 | C22: Truc | D22: QZLA004 | E22: =IF(D22="","",VLOOKUP(D22,Feuil2!$D$1:$E$14,2,FALSE)) -> 18 | F22: proche | G22: =IF(F22="","",VLOOKUP(F22,Feuil2!$A$2:$B$6,2,FALSE)*0.4) -> 14
C23: oui | D23: SF7 | E23: =IF(D23="","",VLOOKUP(D23,Feuil2!$D$1:$E$14,2,FALSE)) -> 19.6 | F23: cabinet | G23: =IF(F23="","",VLOOKUP(F23,Feuil2!$A$2:$B$6,2,FALSE)*0.4) -> 0
C24: ok | D24: SF7 | E24: =IF(D24="","",VLOOKUP(D24,Feuil2!$D$1:$E$14,2,FALSE)) -> 19.6 | F24: proche | G24: =IF(F24="","",VLOOKUP(F24,Feuil2!$A$2:$B$6,2,FALSE)*0.4) -> 14
C25: non | D25: SF11,6 | E25: =IF(D25="","",VLOOKUP(D25,Feuil2!$D$1:$E$14,2,FALSE)) -> 37.48 | F25: loin | G25: =IF(F25="","",VLOOKUP(F25,Feuil2!$A$2:$B$6,2,FALSE)*0.4) -> 16
C26: oui | D26: SF15 | E26: =IF(D26="","",VLOOKUP(D26,Feuil2!$D$1:$E$14,2,FALSE)) -> 42 | F26: la bas | G26: =IF(F26="","",VLOOKUP(F26,Feuil2!$A$2:$B$6,2,FALSE)*0.4) -> 6
C27: Truc | E27: =IF(D27="","",VLOOKUP(D27,Feuil2!$D$1:$E$14,2,FALSE)) | G27: =IF(F27="","",VLOOKUP(F27,Feuil2!$A$2:$B$6,2,FALSE)*0.4)
C28: Machin | E28: =IF(D28="","",VLOOKUP(D28,Feuil2!$D$1:$E$14,2,FALSE)) | G28: =IF(F28="","",VLOOKUP(F28,Feuil2!$A$2:$B$6,2,FALSE)*0.4)
C29: Bidule | E29: =IF(D29="","",VLOOKUP(D29,Feuil2!$D$1:$E$14,2,FALSE)) | G29: =IF(F29="","",VLOOKUP(F29,Feuil2!$A$2:$B$6,2,FALSE)*0.4)
C30: Sinom | E30: =IF(D30="","",VLOOKUP(D30,Feuil2!$D$1:$E$14,2,FALSE)) | G30: =IF(F30="","",VLOOKUP(F30,Feuil2!$A$2:$B$6,2,FALSE)*0.4)
E31: =IF(D31="","",VLOOKUP(D31,Feuil2!$D$1:$E$14,2,FALSE)) | G31: =IF(F31="","",VLOOKUP(F31,Feuil2!$A$2:$B$6,2,FALSE)*0.4)
E32: =IF(D32="","",VLOOKUP(D32,Feuil2!$D$1:$E$14,2,FALSE)) | G32: =IF(F32="","",VLOOKUP(F32,Feuil2!$A$2:$B$6,2,FALSE)*0.4)
E33: =IF(D33="","",VLOOKUP(D33,Feuil2!$D$1:$E$14,2,FALSE)) | G33: =IF(F33="","",VLOOKUP(F33,Feuil2!$A$2:$B$6,2,FALSE)*0.4)
E34: =IF(D34="","",VLOOKUP(D34,Feuil2!$D$1:$E$14,2,FALSE)) | G34: =IF(F34="","",VLOOKUP(F34,Feuil2!$A$2:$B$6,2,FALSE)*0.4)
E35: =IF(D35="","",VLOOKUP(D35,Feuil2!$D$1:$E$14,2,FALSE)) | G35: =IF(F35="","",VLOOKUP(F35,Feuil2!$A$2:$B$6,2,FALSE)*0.4)
D37: Total théorique | E37: Total IK | F37: Total paiement réel | H37: Différentiel
D38: =SUM(E22:E34) -> 136.68 | E38: =SUM(G22:G34) -> 50 | F38: =SUM(H22:H34) -> 0 | H38: =D38+E38-F38 -> 186.68
A41: Date | B41: NOM | D41: Intervention | E41: Tarif théorique | F41: Lieu intervention | G41: IK | H41: Paiement réel | I41: Moyen de paiement
A42: 00/00/2016 | C42: 10 | D42: QZLA004 | E42: =IF(D42="","",VLOOKUP(D42,Feuil2!$D$1:$E$14,2,FALSE)) -> 18 | F42: proche | G42: =IF(F42="","",VLOOKUP(F42,Feuil2!$A$2:$B$6,2,FALSE)*0.4) -> 14
C43: 12 | D43: SF7 | E43: =IF(D43="","",VLOOKUP(D43,Feuil2!$D$1:$E$14,2,FALSE)) -> 19.6 | F43: cabinet | G43: =IF(F43="","",VLOOKUP(F43,Feuil2!$A$2:$B$6,2,FALSE)*0.4) -> 0
C44: 12 | D44: C+JKHD001 | E44: =IF(D44="","",VLOOKUP(D44,Feuil2!$D$1:$E$14,2,FALSE)) -> 29.23 | F44: tres loin | G44: =IF(F44="","",VLOOKUP(F44,Feuil2!$A$2:$B$6,2,FALSE)*0.4) -> 28
C45: 12 | D45: SF11,6 | E45: =IF(D45="","",VLOOKUP(D45,Feuil2!$D$1:$E$14,2,FALSE)) -> 37.48 | F45: loin | G45: =IF(F45="","",VLOOKUP(F45,Feuil2!$A$2:$B$6,2,FALSE)*0.4) -> 16
C46: 14 | D46: QZGA002 | E46: =IF(D46="","",VLOOKUP(D46,Feuil2!$D$1:$E$14,2,FALSE)) -> 41.8 | F46: tres loin | G46: =IF(F46="","",VLOOKUP(F46,Feuil2!$A$2:$B$6,2,FALSE)*0.4) -> 28
C47: 15 | E47: =IF(D47="","",VLOOKUP(D47,Feuil2!$D$1:$E$14,2,FALSE)) | G47: =IF(F47="","",VLOOKUP(F47,Feuil2!$A$2:$B$6,2,FALSE)*0.4)
C48: 16 | E48: =IF(D48="","",VLOOKUP(D48,Feuil2!$D$1:$E$14,2,FALSE)) | G48: =IF(F48="","",VLOOKUP(F48,Feuil2!$A$2:$B$6,2,FALSE)*0.4)
C49: 17 | E49: =IF(D49="","",VLOOKUP(D49,Feuil2!$D$1:$E$14,2,FALSE)) | G49: =IF(F49="","",VLOOKUP(F49,Feuil2!$A$2:$B$6,2,FALSE)*0.4)
C50: 18 | E50: =IF(D50="","",VLOOKUP(D50,Feuil2!$D$1:$E$14,2,FALSE)) | G50: =IF(F50="","",VLOOKUP(F50,Feuil2!$A$2:$B$6,2,FALSE)*0.4)
C51: 19 | E51: =IF(D51="","",VLOOKUP(D51,Feuil2!$D$1:$E$14,2,FALSE)) | G51: =IF(F51="","",VLOOKUP(F51,Feuil2!$A$2:$B$6,2,FALSE)*0.4)
C52: 20 | E52: =IF(D52="","",VLOOKUP(D52,Feuil2!$D$1:$E$14,2,FALSE)) | G52: =IF(F52="","",VLOOKUP(F52,Feuil2!$A$2:$B$6,2,FALSE)*0.4)
C53: 21 | E53: =IF(D53="","",VLOOKUP(D53,Feuil2!$D$1:$E$14,2,FALSE)) | G53: =IF(F53="","",VLOOKUP(F53,Feuil2!$A$2:$B$6,2,FALSE)*0.4)
C54: 22 | E54: =IF(D54="","",VLOOKUP(D54,Feuil2!$D$1:$E$14,2,FALSE)) | G54: =IF(F54="","",VLOOKUP(F54,Feuil2!$A$2:$B$6,2,FALSE)*0.4)
E55: =IF(D55="","",VLOOKUP(D55,Feuil2!$D$1:$E$14,2,FALSE)) | G55: =IF(F55="","",VLOOKUP(F55,Feuil2!$A$2:$B$6,2,FALSE)*0.4)
D57: Total théorique | E57: Total IK | F57: Total paiement réel | H57: Différentiel
D58: =SUM(E42:E54) -> 146.11 | E58: =SUM(G42:G54) -> 86 | F58: =SUM(H42:H54) -> 0 | H58: =D58+E58-F58 -> 232.11

Sheet Feuil2
B1: aller retour | D1: QZLA004 | E1: 18 | G1: Non payé
A2: cabinet | B2: 0 | D2: SF7 | E2: 19.6 | G2: Espèce
A3: la bas | B3: 15 | D3: C | E3: 23 | G3: Chèque
A4: proche | B4: 35 | D4: C+JKHD001 | E4: 29.23 | G4: CMU
A5: loin | B5: 40 | D5: SF12 | E5: 33.6
A6: tres loin | B6: 70 | D6: SF11,6 | E6: 37.48
D7: JKLD001 | E7: 38.4
D8: JKKD001 | E8: 38.4
D9: QZGA002 | E9: 41.8
D10: SF15 | E10: 42
D11: SF15+IF | E11: 46
D12: SF16,5 | E12: 46.2
D13: SF16,5+IF | E13: 50.2
D14: SF22 | E14: =22*2.8 -> 61.6

Sheet Feuil3
