Workbook

Sheet Feuil1
B21: Serie | E21: Activité | I21: Désignation de l'activité | W21: CP
B22: =LOOKUP(9^9,Feuil2!$A$23:$A$1000) -> 60 | E22: =VLOOKUP($B22,Feuil2!$A$23:$H$1000,2,0) -> TD60 | I22: =VLOOKUP($B22,Feuil2!$A$23:$H$1000,3,0) -> lecture 60
B23: =LOOKUP(9^9,Feuil2!$A$23:$A$1000)-1 -> 59 | E23: =VLOOKUP($B23,Feuil2!$A$23:$H$1000,2,0) -> TD59 | I23: =VLOOKUP($B23,Feuil2!$A$23:$H$1000,3,0) -> lecture 59
B24: =LOOKUP(9^9,Feuil2!$A$23:$A$1000)-2 -> 58 | E24: =VLOOKUP($B24,Feuil2!$A$23:$H$1000,2,0) -> TD58 | I24: =VLOOKUP($B24,Feuil2!$A$23:$H$1000,3,0) -> lecture 58
B25: =LOOKUP(9^9,Feuil2!$A$23:$A$1000)-3 -> 57 | E25: =VLOOKUP($B25,Feuil2!$A$23:$H$1000,2,0) -> TD57 | I25: =VLOOKUP($B25,Feuil2!$A$23:$H$1000,3,0) -> lecture 57
B26: =LOOKUP(9^9,Feuil2!$A$23:$A$1000)-4 -> 56 | E26: =VLOOKUP($B26,Feuil2!$A$23:$H$1000,2,0) -> TD56 | I26: =VLOOKUP($B26,Feuil2!$A$23:$H$1000,3,0) -> lecture 56
B27: =LOOKUP(9^9,Feuil2!$A$23:$A$1000)-5 -> 55 | E27: =VLOOKUP($B27,Feuil2!$A$23:$H$1000,2,0) -> TD55 | I27: =VLOOKUP($B27,Feuil2!$A$23:$H$1000,3,0) -> lecture 55
B28: =LOOKUP(9^9,Feuil2!$A$23:$A$1000)-6 -> 54 | E28: =VLOOKUP($B28,Feuil2!$A$23:$H$1000,2,0) -> TD54 | I28: =VLOOKUP($B28,Feuil2!$A$23:$H$1000,3,0) -> lecture 54
B29: =LOOKUP(9^9,Feuil2!$A$23:$A$1000)-7 -> 53 | E29: =VLOOKUP($B29,Feuil2!$A$23:$H$1000,2,0) -> TD53 | I29: =VLOOKUP($B29,Feuil2!$A$23:$H$1000,3,0) -> lecture 53
B30: =LOOKUP(9^9,Feuil2!$A$23:$A$1000)-8 -> 52 | E30: =VLOOKUP($B30,Feuil2!$A$23:$H$1000,2,0) -> TD52 | I30: =VLOOKUP($B30,Feuil2!$A$23:$H$1000,3,0) -> lecture 52
B31: =LOOKUP(9^9,Feuil2!$A$23:$A$1000)-9 -> 51 | E31: =VLOOKUP($B31,Feuil2!$A$23:$H$1000,2,0) -> TD51 | I31: =VLOOKUP($B31,Feuil2!$A$23:$H$1000,3,0) -> lecture 51
B32: =LOOKUP(9^9,Feuil2!$A$23:$A$1000)-10 -> 50 | E32: =VLOOKUP($B32,Feuil2!$A$23:$H$1000,2,0) -> TD50 | I32: =VLOOKUP($B32,Feuil2!$A$23:$H$1000,3,0) -> lecture 50
B33: =LOOKUP(9^9,Feuil2!$A$23:$A$1000)-11 -> 49 | E33: =VLOOKUP($B33,Feuil2!$A$23:$H$1000,2,0) -> TD49 | I33: =VLOOKUP($B33,Feuil2!$A$23:$H$1000,3,0) -> lecture 49
B34: =LOOKUP(9^9,Feuil2!$A$23:$A$1000)-12 -> 48 | E34: =VLOOKUP($B34,Feuil2!$A$23:$H$1000,2,0) -> TD48 | I34: =VLOOKUP($B34,Feuil2!$A$23:$H$1000,3,0) -> lecture 48
B35: =LOOKUP(9^9,Feuil2!$A$23:$A$1000)-13 -> 47 | E35: =VLOOKUP($B35,Feuil2!$A$23:$H$1000,2,0) -> TD47 | I35: =VLOOKUP($B35,Feuil2!$A$23:$H$1000,3,0) -> lecture 47
B36: =LOOKUP(9^9,Feuil2!$A$23:$A$1000)-14 -> 46 | E36: =VLOOKUP($B36,Feuil2!$A$23:$H$1000,2,0) -> TD46 | I36: =VLOOKUP($B36,Feuil2!$A$23:$H$1000,3,0) -> lecture 46

Sheet Feuil2
L21: Note | N21: Indi | O21: Date
A22: Serie | B22: Activité | C22: Désignation de l'activité | I22: CP
A23: 1 | B23: TD1 | C23: lecture 1
A26: 2 | B26: TD2 | C26: lecture 2
A29: 3 | B29: TD3 | C29: lecture 3
A32: 4 | B32: TD4 | C32: lecture 4
A35: 5 | B35: TD5 | C35: lecture 5
A38: 6 | B38: TD6 | C38: lecture 6
A41: 7 | B41: TD7 | C41: lecture 7
A44: 8 | B44: TD8 | C44: lecture 8
A47: 9 | B47: TD9 | C47: lecture 9
A50: 10 | B50: TD10 | C50: lecture 10
A53: 11 | B53: TD11 | C53: lecture 11
A56: 12 | B56: TD12 | C56: lecture 12
... A200: 60 | B200: TD60 | C200: lecture 60

Sheet Feuil3
