Workbook
Name CATEGORIES_DESCRIPTION: 'Liste déroulante'!$D$4:$D$56
Name ColD: OFFSET('Liste déroulante'!$D$4,,,COUNTIF('Liste déroulante'!$D:$D,"><"))
Name Départ: 'Liste déroulante'!$D$4
Name Pointage_opérations_vs_facture: 'Liste déroulante'!$A$5:$A$6

Sheet TCD 2
A3: Somme de Montant operation | C3: Année | D3: Mois
C4: 2016 | E4: Total 2016 | F4: 2017 | G4: Total 2017 | H4: Total général
A5: Categorie iVesta | B5: Categorie description | C5: 11 | D5: 12 | F5: 1
A6: CAT01 - LOCAUX | B6: ASSURANCE LOCAUX | C6: -277.13 | D6: -1026.83 | E6: -1303.96 | H6: -1303.96
B7: DÉCORATION | D7: -636 | E7: -636 | H7: -636
B8: LOYER / PARKING | C8: -1783.66 | D8: -34559.98 | E8: -36343.64 | H8: -36343.64
B9: MOBILIER DE BUREAU | D9: -3216.65 | E9: -3216.65 | H9: -3216.65
A10: Total CAT01 - LOCAUX | C10: -2060.79 | D10: -39439.46 | E10: -41500.25 | H10: -41500.25
A11: CAT02 - FRAIS GENERAUX | B11: FOURNITURES ADMINISTRATIVES | C11: -794.64 | D11: -822.1 | E11: -1616.74 | H11: -1616.74
B12: FOURNITURES CONSOMMABLES | C12: -95.49 | D12: -622.15 | E12: -717.64 | H12: -717.64
B13: FOURNITURES D'ENTRETIENS ET PETIT ÉQUIPEMENT | C13: -626.47 | D13: -422.04 | E13: -1048.51 | H13: -1048.51
B14: IMPRIMANTES | D14: -2720 | E14: -2720 | H14: -2720
B15: LA POSTE | C15: -20.6 | D15: -176 | E15: -196.6 | H15: -196.6
B16: TELEPHONIE / INTERNET | C16: -90.83 | D16: -241.37 | E16: -332.2 | F16: -159.44 | G16: -159.44 | H16: -491.64
A17: Total CAT02 - FRAIS GENERAUX | C17: -1628.03 | D17: -5003.66 | E17: -6631.69 | F17: -159.44 | G17: -159.44 | H17: -6791.13
A18: CAT03 - INFORMATIQUE | B18: ABONNEMENT INFORMATIQUE | D18: -470.4 | E18: -470.4 | H18: -470.4
B19: ACQUISITION MATÉRIEL INFORMATIQUE | C19: -2894.16 | D19: -1112.46 | E19: -4006.62 | H19: -4006.62
B20: RESEAU INFORMATIQUE | C20: -1124.4 | E20: -1124.4 | H20: -1124.4
A21: Total CAT03 - INFORMATIQUE | C21: -4018.56 | D21: -1582.86 | E21: -5601.42 | H21: -5601.42
A22: CAT04 - CORPORATE | B22: ABONNEMENT MAGAZINES | C22: -125.4 | D22: -25 | E22: -150.4 | H22: -150.4
B23: PAIEMENT FINTECH | C23: -5000 | D23: -2000 | E23: -7000 | H23: -7000
B24: SEMINAIRE - COLOQUE - CONFERENCE - SALON | D24: -2016 | E24: -2016 | H24: -2016
A25: Total CAT04 - CORPORATE | C25: -5125.4 | D25: -4041 | E25: -9166.4 | H25: -9166.4
A26: CAT05 - NOTE DE FRAIS | B26: CADEAUX A LA CLIENTELE | D26: -1153.72 | E26: -1153.72 | H26: -1153.72
B27: DEPLACEMENTS / VOYAGES | C27: -4.5 | D27: -218.32 | E27: -222.82 | H27: -222.82
B28: FORMALITES | C28: -28.82 | E28: -28.82 | H28: -28.82
B29: MISSION | D29: -88.8 | E29: -88.8 | H29: -88.8
B30: RECEPTION | C30: -287.05 | D30: -750.3 | E30: -1037.35 | H30: -1037.35
A31: Total CAT05 - NOTE DE FRAIS | C31: -320.37 | D31: -2211.14 | E31: -2531.51 | H31: -2531.51
A32: CAT06 - RH | B32: NDF | D32: -176.3 | E32: -176.3 | H32: -176.3
B33: NDF ASO | D33: -531.99 | E33: -531.99 | H33: -531.99
B34: NDF CNO | D34: -57.07 | E34: -57.07 | H34: -57.07
B35: NDF RDO | D35: -426.38 | E35: -426.38 | H35: -426.38
B36: SALAIRE | D36: -2363.35 | E36: -2363.35 | H36: -2363.35
A37: Total CAT06 - RH | D37: -3555.09 | E37: -3555.09 | H37: -3555.09
A38: CAT07 - RECETTES | B38: LEVEE | C38: 18300 | E38: 18300 | H38: 18300
B39: LIBERTY MANAGEMENT | D39: 65000 | E39: 65000 | H39: 65000
B40: REMBOURSEMENT | D40: 8.28 | E40: 8.28 | H40: 8.28
A41: Total CAT07 - RECETTES | C41: 18300 | D41: 65008.28 | E41: 83308.28 | H41: 83308.28
A42: CAT08 - BANQUE | B42: FRAIS BANCAIRE | D42: -27.1 | E42: -27.1 | F42: -27.1 | G42: -27.1 | H42: -54.2
...

Sheet TRESO
A1: Solde au 22/12/2016
A4: Categorie description | B4: Categorie iVesta | C4: Categorie Compta
A5: FRAIS BANCAIRE | B5: =IFERROR(VLOOKUP($A5,CATEGORIES!$A$4:C$51,COLUMN()-1,FALSE),"") -> FRAIS BANCAIRE | C5: =IFERROR(VLOOKUP($A5,CATEGORIES!$A$4:D$51,COLUMN()-1,FALSE),"") -> CAT08 - BANQUE | D5: FRAIS BANCAIRE
A6: TELEPHONIE / INTERNET | B6: =IFERROR(VLOOKUP($A6,CATEGORIES!$A$4:C$51,COLUMN()-1,FALSE),"") -> TELEPHONIE / INTERNET | C6: =IFERROR(VLOOKUP($A6,CATEGORIES!$A$4:D$51,COLUMN()-1,FALSE),"") -> CAT02 - FRAIS GENERAUX | D6: TELEPHONIE / INTERNET
A7: FRAIS BANCAIRE | B7: =IFERROR(VLOOKUP($A7,CATEGORIES!$A$4:C$51,COLUMN()-1,FALSE),"") -> FRAIS BANCAIRE | C7: =IFERROR(VLOOKUP($A7,CATEGORIES!$A$4:D$51,COLUMN()-1,FALSE),"") -> CAT08 - BANQUE | D7: FRAIS BANCAIRE
B8: =IFERROR(VLOOKUP($A8,CATEGORIES!$A$4:C$51,COLUMN()-1,FALSE),"") | C8: =IFERROR(VLOOKUP($A8,CATEGORIES!$A$4:D$51,COLUMN()-1,FALSE),"") | D8: Non défini
B9: =IFERROR(VLOOKUP($A9,CATEGORIES!$A$4:C$51,COLUMN()-1,FALSE),"") | C9: =IFERROR(VLOOKUP($A9,CATEGORIES!$A$4:D$51,COLUMN()-1,FALSE),"") | D9: FOURNITURES CONSOMMABLES
B10: =IFERROR(VLOOKUP($A10,CATEGORIES!$A$4:C$51,COLUMN()-1,FALSE),"") | C10: =IFERROR(VLOOKUP($A10,CATEGORIES!$A$4:D$51,COLUMN()-1,FALSE),"") | D10: FOURNITURES ADMINISTRATIVES
B11: =IFERROR(VLOOKUP($A11,CATEGORIES!$A$4:C$51,COLUMN()-1,FALSE),"") | C11: =IFERROR(VLOOKUP($A11,CATEGORIES!$A$4:D$51,COLUMN()-1,FALSE),"") | D11: RECEPTION
B12: =IFERROR(VLOOKUP($A12,CATEGORIES!$A$4:C$51,COLUMN()-1,FALSE),"") | C12: =IFERROR(VLOOKUP($A12,CATEGORIES!$A$4:D$51,COLUMN()-1,FALSE),"") | D12: DEPLACEMENTS / VOYAGES
B13: =IFERROR(VLOOKUP($A13,CATEGORIES!$A$4:C$51,COLUMN()-1,FALSE),"") | C13: =IFERROR(VLOOKUP($A13,CATEGORIES!$A$4:D$51,COLUMN()-1,FALSE),"") | D13: FOURNITURES ADMINISTRATIVES
B14: =IFERROR(VLOOKUP($A14,CATEGORIES!$A$4:C$51,COLUMN()-1,FALSE),"") | C14: =IFERROR(VLOOKUP($A14,CATEGORIES!$A$4:D$51,COLUMN()-1,FALSE),"") | D14: FOURNITURES ADMINISTRATIVES
B15: =IFERROR(VLOOKUP($A15,CATEGORIES!$A$4:C$51,COLUMN()-1,FALSE),"") | C15: =IFERROR(VLOOKUP($A15,CATEGORIES!$A$4:D$51,COLUMN()-1,FALSE),"") | D15: RECEPTION
B16: =IFERROR(VLOOKUP($A16,CATEGORIES!$A$4:C$51,COLUMN()-1,FALSE),"") | C16: =IFERROR(VLOOKUP($A16,CATEGORIES!$A$4:D$51,COLUMN()-1,FALSE),"") | D16: RECEPTION
B17: =IFERROR(VLOOKUP($A17,CATEGORIES!$A$4:C$51,COLUMN()-1,FALSE),"") | C17: =IFERROR(VLOOKUP($A17,CATEGORIES!$A$4:D$51,COLUMN()-1,FALSE),"") | D17: FOURNITURES D'ENTRETIENS ET PETIT ÉQUIPEMENT
B18: =IFERROR(VLOOKUP($A18,CATEGORIES!$A$4:C$51,COLUMN()-1,FALSE),"") | C18: =IFERROR(VLOOKUP($A18,CATEGORIES!$A$4:D$51,COLUMN()-1,FALSE),"") | D18: FOURNITURES D'ENTRETIENS ET PETIT ÉQUIPEMENT
B19: =IFERROR(VLOOKUP($A19,CATEGORIES!$A$4:C$51,COLUMN()-1,FALSE),"") | C19: =IFERROR(VLOOKUP($A19,CATEGORIES!$A$4:D$51,COLUMN()-1,FALSE),"") | D19: MISSION
... B118: =IFERROR(VLOOKUP($A118,CATEGORIES!$A$4:C$51,COLUMN()-1,FALSE),"") | C118: =IFERROR(VLOOKUP($A118,CATEGORIES!$A$4:D$51,COLUMN()-1,FALSE),"") | D118: LOYER / PARKING
B119: =IFERROR(VLOOKUP($A119,CATEGORIES!$A$4:C$51,COLUMN()-1,FALSE),"") | C119: =IFERROR(VLOOKUP($A119,CATEGORIES!$A$4:D$51,COLUMN()-1,FALSE),"")
B120: =IFERROR(VLOOKUP($A120,CATEGORIES!$A$4:C$51,COLUMN()-1,FALSE),"") | C120: =IFERROR(VLOOKUP($A120,CATEGORIES!$A$4:D$51,COLUMN()-1,FALSE),"") | D120: TELEPHONIE / INTERNET
B121: =IFERROR(VLOOKUP($A121,CATEGORIES!$A$4:C$51,COLUMN()-1,FALSE),"") | C121: =IFERROR(VLOOKUP($A121,CATEGORIES!$A$4:D$51,COLUMN()-1,FALSE),"")
B122: =IFERROR(VLOOKUP($A122,CATEGORIES!$A$4:C$51,COLUMN()-1,FALSE),"") | C122: =IFERROR(VLOOKUP($A122,CATEGORIES!$A$4:D$51,COLUMN()-1,FALSE),"")
B123: =IFERROR(VLOOKUP($A123,CATEGORIES!$A$4:C$51,COLUMN()-1,FALSE),"") | C123: =IFERROR(VLOOKUP($A123,CATEGORIES!$A$4:D$51,COLUMN()-1,FALSE),"")
B124: =IFERROR(VLOOKUP($A124,CATEGORIES!$A$4:C$51,COLUMN()-1,FALSE),"") | C124: =IFERROR(VLOOKUP($A124,CATEGORIES!$A$4:D$51,COLUMN()-1,FALSE),"")
B125: =IFERROR(VLOOKUP($A125,CATEGORIES!$A$4:C$51,COLUMN()-1,FALSE),"") | C125: =IFERROR(VLOOKUP($A125,CATEGORIES!$A$4:D$51,COLUMN()-1,FALSE),"")
B126: =IFERROR(VLOOKUP($A126,CATEGORIES!$A$4:C$51,COLUMN()-1,FALSE),"") | C126: =IFERROR(VLOOKUP($A126,CATEGORIES!$A$4:D$51,COLUMN()-1,FALSE),"")
B127: =IFERROR(VLOOKUP($A127,CATEGORIES!$A$4:C$51,COLUMN()-1,FALSE),"") | C127: =IFERROR(VLOOKUP($A127,CATEGORIES!$A$4:D$51,COLUMN()-1,FALSE),"")
B128: =IFERROR(VLOOKUP($A128,CATEGORIES!$A$4:C$51,COLUMN()-1,FALSE),"") | C128: =IFERROR(VLOOKUP($A128,CATEGORIES!$A$4:D$51,COLUMN()-1,FALSE),"")
B129: =IFERROR(VLOOKUP($A129,CATEGORIES!$A$4:C$51,COLUMN()-1,FALSE),"") | C129: =IFERROR(VLOOKUP($A129,CATEGORIES!$A$4:D$51,COLUMN()-1,FALSE),"") | D129: TELEPHONIE / INTERNET
B130: =IFERROR(VLOOKUP($A130,CATEGORIES!$A$4:C$51,COLUMN()-1,FALSE),"") | C130: =IFERROR(VLOOKUP($A130,CATEGORIES!$A$4:D$51,COLUMN()-1,FALSE),"")
B131: =IFERROR(VLOOKUP($A131,CATEGORIES!$A$4:C$51,COLUMN()-1,FALSE),"") | C131: =IFERROR(VLOOKUP($A131,CATEGORIES!$A$4:D$51,COLUMN()-1,FALSE),"")
B132: =IFERROR(VLOOKUP($A132,CATEGORIES!$A$4:C$51,COLUMN()-1,FALSE),"") | C132: =IFERROR(VLOOKUP($A132,CATEGORIES!$A$4:D$51,COLUMN()-1,FALSE),"")
B133: =IFERROR(VLOOKUP($A133,CATEGORIES!$A$4:C$51,COLUMN()-1,FALSE),"") | C133: =IFERROR(VLOOKUP($A133,CATEGORIES!$A$4:D$51,COLUMN()-1,FALSE),"")
B134: =IFERROR(VLOOKUP($A134,CATEGORIES!$A$4:C$51,COLUMN()-1,FALSE),"") | C134: =IFERROR(VLOOKUP($A134,CATEGORIES!$A$4:D$51,COLUMN()-1,FALSE),"") | D134: MEDECINE DU TRAVAIL
B135: =IFERROR(VLOOKUP($A135,CATEGORIES!$A$4:C$51,COLUMN()-1,FALSE),"") | C135: =IFERROR(VLOOKUP($A135,CATEGORIES!$A$4:D$51,COLUMN()-1,FALSE),"") | D135: TELEPHONIE / INTERNET
B136: =IFERROR(VLOOKUP($A136,CATEGORIES!$A$4:C$51,COLUMN()-1,FALSE),"") | C136: =IFERROR(VLOOKUP($A136,CATEGORIES!$A$4:D$51,COLUMN()-1,FALSE),"")
B137: =IFERROR(VLOOKUP($A137,CATEGORIES!$A$4:C$51,COLUMN()-1,FALSE),"") | C137: =IFERROR(VLOOKUP($A137,CATEGORIES!$A$4:D$51,COLUMN()-1,FALSE),"")
B138: =IFERROR(VLOOKUP($A138,CATEGORIES!$A$4:C$51,COLUMN()-1,FALSE),"") | C138: =IFERROR(VLOOKUP($A138,CATEGORIES!$A$4:D$51,COLUMN()-1,FALSE),"")
B139: =IFERROR(VLOOKUP($A139,CATEGORIES!$A$4:C$51,COLUMN()-1,FALSE),"") | C139: =IFERROR(VLOOKUP($A139,CATEGORIES!$A$4:D$51,COLUMN()-1,FALSE),"") | D139: ABONNEMENT MAGAZINES
B140: =IFERROR(VLOOKUP($A140,CATEGORIES!$A$4:C$51,COLUMN()-1,FALSE),"") | C140: =IFERROR(VLOOKUP($A140,CATEGORIES!$A$4:D$51,COLUMN()-1,FALSE),"") | D140: ÉLECTRICTÉ / EAU
...

Sheet Feuil1

Sheet CATEGORIES
A3: CATEGORIES DESCRIPTION | B3: CATEGORIES | C3: CODE COMPTABLE | D3: COMMENTAIRES
A4: LOYER / PARKING | B4: CAT01 - LOCAUX | C4: 6132 | D4: Location de locaux, parking, location de matériel
A5: ASSURANCE LOCAUX | B5: CAT01 - LOCAUX | C5: 616 | D5: Exemple : Assurance responsabilité civile, assurance des locaux, assurance des véhicules appartenant à l'association.
A6: DÉCORATION | B6: CAT01 - LOCAUX
A7: CHARGES LOCATIVES | B7: CAT01 - LOCAUX | C7: 614
A8: DEPOT CAUTION | B8: CAT01 - LOCAUX | C8: 2751
A9: MOBILIER DE BUREAU | B9: CAT01 - LOCAUX | C9: 218 | D9: achat bureau
A10: ÉLECTRICTÉ / EAU | B10: CAT02 - FRAIS GENERAUX | C10: 6061 | D10: Regroupe les achats non stockés du fait de leur caratère non stockable (eau, électricité, gaz)
A11: FOURNITURES ADMINISTRATIVES | B11: CAT02 - FRAIS GENERAUX | C11: 6064 | D11: Exemple : enveloppes, ramettes de papier, cartouches d'encre pour imprimantes, stylos, livres
A12: FOURNITURES D'ENTRETIENS ET PETIT ÉQUIPEMENT | B12: CAT02 - FRAIS GENERAUX | C12: 6063 | D12: Exemple : papier toilettes, savon, produits de nettoyage, ustensiles de cuisine mais aussi petit équiquement non immobilisable (petit meuble valeur < 500 €) ex: chaises, téléphone...
A13: FOURNITURES CONSOMMABLES | B13: CAT02 - FRAIS GENERAUX | C13: 6068 | D13: Exemple : café, boissons, gâteau, sucre…ooshop…
A14: LA POSTE | B14: CAT02 - FRAIS GENERAUX | C14: 626 | D14: affranchissements (timbres, lettres recommandées, chronopost, colis etc.)
A15: TELEPHONIE / INTERNET | B15: CAT02 - FRAIS GENERAUX | C15: 626 | D15: abonnements téléphoniques (fixes, mobiles), les abonnements internet
A16: IMPRIMANTES | B16: CAT02 - FRAIS GENERAUX | D16: Avenir DSI
A17: ABONNEMENT INFORMATIQUE | B17: CAT03 - INFORMATIQUE | D17: Abonnement Easy Service
A18: ACQUISITION MATÉRIEL INFORMATIQUE | B18: CAT03 - INFORMATIQUE | D18: ordinateurs…
A19: RESEAU INFORMATIQUE | B19: CAT03 - INFORMATIQUE
A20: EXPERT COMPTABLE | B20: CAT04 - CORPORATE | C20: 6226
A21: COACHING | B21: CAT04 - CORPORATE
A22: FORMATION ET VEILLE TECHINIQUE | B22: CAT04 - CORPORATE
A23: ANACOFI / AMF COTISATIONS | B23: CAT04 - CORPORATE
A24: SEMINAIRE - COLOQUE - CONFERENCE - SALON | B24: CAT04 - CORPORATE | C24: 6185 | D24: Frais de colloques, séminaires, conférences
A25: ABONNEMENT MAGAZINES | B25: CAT04 - CORPORATE | C25: 6181 | D25: Frais de documentation et d'abonnement à des publications. Exemple : les Echos (regiepress)
A26: PAIEMENT FINTECH | B26: CAT04 - CORPORATE | D26: Lydia, leetchi, paypal
A27: FORMALITES | B27: CAT05 - NOTE DE FRAIS | D27: exemple : règlement de visa esta pour les US
A28: DEPLACEMENTS / VOYAGES | B28: CAT05 - NOTE DE FRAIS | C28: 6251 | D28: Frais de transport du personnel (train, péage, avion…)
A29: MISSION | B29: CAT05 - NOTE DE FRAIS | C29: 6256 | D29: Déplacement du salarié (nourriture, logement)
A30: RECEPTION | B30: CAT05 - NOTE DE FRAIS | C30: 6257 | D30: Salariés invitant des clients de l'entreprise au restaurant ou restaurant entre salariés et/ou associés. Pour déduction charges et TVA justifier le caractère professionnel en précisant le nom des invités (clients, associés, salariés)
A31: CADEAUX A LA CLIENTELE | B31: CAT05 - NOTE DE FRAIS | C31: 6234
A32: SALAIRE | B32: CAT06 - RH | C32: 6411 | D32: Versement iVesta
A33: NDF | B33: CAT06 - RH | C33: 625
A34: NDF ASO | B34: CAT06 - RH | C34: 625 | D34: Ariane
A35: NDF PIM | B35: CAT06 - RH | C35: 625 | D35: Pierre-Marie
A36: NDF RDO | B36: CAT06 - RH | C36: 625 | D36: Rémi
A37: NDF CNO | B37: CAT06 - RH | C37: 625 | D37: Corinne
A38: MUTUELLE | B38: CAT06 - RH | C38: 6452 | D38: Cotisations santé AXA
A39: PRÉVOYANCE | B39: CAT06 - RH | C39: 645 | D39: Axa
A40: RETRAITE | B40: CAT06 - RH | C40: 6453
A41: ACOMPTE | B41: CAT06 - RH | C41: 425 | D41: Acompte sur salaire
A42: RECRUTEMENT | B42: CAT06 - RH | C42: 6284 | D42: coût de recrutement externe - frais d’appel à une agence de recrutement, frais de recrutement de talents spécifiques auprès d’agences spécialisées, frais de publications d’annonces sur Internet et dans des journaux, frais de participation à des salons
...

Sheet Liste déroulante
A3: Pointage opérations vs facture | D3: CATEGORIES DESCRIPTION
D4: ABONNEMENT INFORMATIQUE
A5: OK | D5: ABONNEMENT MAGAZINES
A6: KO | D6: ACOMPTE
D7: ACQUISITION MATÉRIEL INFORMATIQUE
D8: ANACOFI / AMF COTISATIONS
D9: ASSURANCE LOCAUX
D10: AVOCAT
D11: CADEAUX A LA CLIENTELE
D12: CHARGES LOCATIVES
D13: CHARGES SALARIALES
D14: CLIENT C
D15: CLIENT D
D16: COACHING
D17: DÉCORATION
D18: DEPLACEMENTS / VOYAGES
... D56: TVA
