Workbook
Name BASILI: #REF!
Name BASILI: #REF!
Name CLEMENT: #REF!
Name CLEMENT: #REF!

Sheet légende
A3: IMG | B3: implantation gorisse
A4: IMA | B4: implantation azimut
A5: TR | B5: Terrassement Ricbourg
A6: TG | B6: Terrassement Gsa
A7: PL | B7: plancher RDC (chainage phenix)
A8: RR | B8: Remblai Ricbourg
A9: RG | B9: Remblai Gsa
A10: CH | B10: Charpente
A11: DA | B11: Dalles
B15: équipe SOARES
B16: équipe MACHADO
B17: équipe FRANCISCO
B18: équipe VIEIRA
B19: équipe

Sheet suivi
AI3: 2016 | AJ3: =DATE(AI3,9,5) -> 42618 | AK3: =IF(WEEKDAY(AJ3)=6,AJ3+3,AJ3+1) -> 42619 | AL3: =IF(WEEKDAY(AK3)=6,AK3+3,AK3+1) -> 42620 | AM3: =IF(WEEKDAY(AL3)=6,AL3+3,AL3+1) -> 42621 | AN3: =IF(WEEKDAY(AM3)=6,AM3+3,AM3+1) -> 42622 | AO3: =IF(WEEKDAY(AN3)=6,AN3+3,AN3+1) -> 42625 | AP3: =IF(WEEKDAY(AO3)=6,AO3+3,AO3+1) -> 42626 | AQ3: =IF(WEEKDAY(AP3)=6,AP3+3,AP3+1) -> 42627 | AR3: =IF(WEEKDAY(AQ3)=6,AQ3+3,AQ3+1) -> 42628 | ... FI3: =IF(WEEKDAY(FH3)=6,FH3+3,FH3+1) -> 42797
A4: ENC | B4: Nom du client | C4: CT | D4: Type | E4: TTX | F4: VT | G4: MAP | H4: Plan bornage | I4: Implant | J4: PGSC | K4: Com. charp.dal | L4: Comm. envoyées | M4: livr. Chain | N4: livr. Charp | O4: livr. Dalles | P4: Chauffage | Q4: sous-sol | R4: plancher chauffant | S4: Porte entrée | T4: livré le | U4: Men. Ext | V4: livré le | W4: Volets (type) | X4: Volet (fourniss) | Y4: livré le | Z4: Perrin | AA4: OCC | AB4: FON | AC4: ELE | AD4: MHE | AE4: EQ1 | AF4: EQ2 | AG4: ACH | AH4: LIV | AI4: sertarien | AJ4: ="S "&IF(AJ3="","",INT(MOD(INT((AJ3*1-2+(DAY(1)=2)*6)/7)+3/5+((DAY(1)=2)*208),52+5/28))+1) -> S 36 | AO4: ="S "&IF(AO3="","",INT(MOD(INT((AO3*1-2+(DAY(1)=2)*6)/7)+3/5+((DAY(1)=2)*208),52+5/28))+1) -> S 37 | AT4: ="S "&IF(AT3="","",INT(MOD(INT((AT3*1-2+(DAY(1)=2)*6)/7)+3/5+((DAY(1)=2)*208),52+5/28))+1) -> S 38 | AY4: ="S "&IF(AY3="","",INT(MOD(INT((AY3*1-2+(DAY(1)=2)*6)/7)+3/5+((DAY(1)=2)*208),52+5/28))+1) -> S 39 | BD4: ="S "&IF(BD3="","",INT(MOD(INT((BD3*1-2+(DAY(1)=2)*6)/7)+3/5+((DAY(1)=2)*208),52+5/28))+1) -> S 40 | BI4: ="S "&IF(BI3="","",INT(MOD(INT((BI3*1-2+(DAY(1)=2)*6)/7)+3/5+((DAY(1)=2)*208),52+5/28))+1) -> S 41 | BN4: ="S "&IF(BN3="","",INT(MOD(INT((BN3*1-2+(DAY(1)=2)*6)/7)+3/5+((DAY(1)=2)*208),52+5/28))+1) -> S 42 | BS4: ="S "&IF(BS3="","",INT(MOD(INT((BS3*1-2+(DAY(1)=2)*6)/7)+3/5+((DAY(1)=2)*208),52+5/28))+1) -> S 43 | BX4: ="S "&IF(BX3="","",INT(MOD(INT((BX3*1-2+(DAY(1)=2)*6)/7)+3/5+((DAY(1)=2)*208),52+5/28))+1) -> S 44 | CC4: ="S "&IF(CC3="","",INT(MOD(INT((CC3*1-2+(DAY(1)=2)*6)/7)+3/5+((DAY(1)=2)*208),52+5/28))+1) -> S 45 | CH4: ="S "&IF(CH3="","",INT(MOD(INT((CH3*1-2+(DAY(1)=2)*6)/7)+3/5+((DAY(1)=2)*208),52+5/28))+1) -> S 46 | CM4: ="S "&IF(CM3="","",INT(MOD(INT((CM3*1-2+(DAY(1)=2)*6)/7)+3/5+((DAY(1)=2)*208),52+5/28))+1) -> S 47 | CR4: ="S "&IF(CR3="","",INT(MOD(INT((CR3*1-2+(DAY(1)=2)*6)/7)+3/5+((DAY(1)=2)*208),52+5/28))+1) -> S 48 | CW4: ="S "&IF(CW3="","",INT(MOD(INT((CW3*1-2+(DAY(1)=2)*6)/7)+3/5+((DAY(1)=2)*208),52+5/28))+1) -> S 49 | DB4: ="S "&IF(DB3="","",INT(MOD(INT((DB3*1-2+(DAY(1)=2)*6)/7)+3/5+((DAY(1)=2)*208),52+5/28))+1) -> S 50 | DG4: ="S "&IF(DG3="","",INT(MOD(INT((DG3*1-2+(DAY(1)=2)*6)/7)+3/5+((DAY(1)=2)*208),52+5/28))+1) -> S 51 | DL4: ="S "&IF(DL3="","",INT(MOD(INT((DL3*1-2+(DAY(1)=2)*6)/7)+3/5+((DAY(1)=2)*208),52+5/28))+1) -> S 52 | DQ4: ="S "&IF(DQ3="","",INT(MOD(INT((DQ3*1-2+(DAY(1)=2)*6)/7)+3/5+((DAY(1)=2)*208),52+5/28))+1) -> S 1 | DV4: ="S "&IF(DV3="","",INT(MOD(INT((DV3*1-2+(DAY(1)=2)*6)/7)+3/5+((DAY(1)=2)*208),52+5/28))+1) -> S 2 | EA4: ="S "&IF(EA3="","",INT(MOD(INT((EA3*1-2+(DAY(1)=2)*6)/7)+3/5+((DAY(1)=2)*208),52+5/28))+1) -> S 3 | EF4: ="S "&IF(EF3="","",INT(MOD(INT((EF3*1-2+(DAY(1)=2)*6)/7)+3/5+((DAY(1)=2)*208),52+5/28))+1) -> S 4 | EK4: ="S "&IF(EK3="","",INT(MOD(INT((EK3*1-2+(DAY(1)=2)*6)/7)+3/5+((DAY(1)=2)*208),52+5/28))+1) -> S 5 | EP4: ="S "&IF(EP3="","",INT(MOD(INT((EP3*1-2+(DAY(1)=2)*6)/7)+3/5+((DAY(1)=2)*208),52+5/28))+1) -> S 6 | EU4: ="S "&IF(EU3="","",INT(MOD(INT((EU3*1-2+(DAY(1)=2)*6)/7)+3/5+((DAY(1)=2)*208),52+5/28))+1) -> S 7 | EZ4: ="S "&IF(EZ3="","",INT(MOD(INT((EZ3*1-2+(DAY(1)=2)*6)/7)+3/5+((DAY(1)=2)*208),52+5/28))+1) -> S 8 | FE4: ="S "&IF(FE3="","",INT(MOD(INT((FE3*1-2+(DAY(1)=2)*6)/7)+3/5+((DAY(1)=2)*208),52+5/28))+1) -> S 9
A5: x | B5: test1 | C5: MiL | D5: R+Combles | E5: x | F5: x | G5: x | H5: x | I5: x | J5: x | K5: x | L5: x | M5: 42625 | N5: 42627 | O5: 42632 | P5: Poële | Q5: nn | R5: nn | S5: Gervais | U5: Bremaud | AJ5: =IF(AJ$3=$M5,"PL",IF(AJ$3=$N5,"CH",IF(AJ$3=$O5,"DA",""))) | AK5: =IF(AK$3=$M5,"PL",IF(AK$3=$N5,"CH",IF(AK$3=$O5,"DA",""))) | AL5: =IF(AL$3=$M5,"PL",IF(AL$3=$N5,"CH",IF(AL$3=$O5,"DA",""))) | AM5: =IF(AM$3=$M5,"PL",IF(AM$3=$N5,"CH",IF(AM$3=$O5,"DA",""))) | AN5: =IF(AN$3=$M5,"PL",IF(AN$3=$N5,"CH",IF(AN$3=$O5,"DA",""))) | AO5: =IF(AO$3=$M5,"PL",IF(AO$3=$N5,"CH",IF(AO$3=$O5,"DA",""))) -> PL | AP5: =IF(AP$3=$M5,"PL",IF(AP$3=$N5,"CH",IF(AP$3=$O5,"DA",""))) | AQ5: =IF(AQ$3=$M5,"PL",IF(AQ$3=$N5,"CH",IF(AQ$3=$O5,"DA",""))) -> CH | ... FI5: =IF(FI$3=$M5,"PL",IF(FI$3=$N5,"CH",IF(FI$3=$O5,"DA","")))
A6: x | B6: test2 | C6: MoL | D6: R+1 | E6: x | F6: x | G6: x | H6: x | I6: x | J6: x | K6: x | L6: x | M6: 42622 | N6: 42628 | O6: 42632 | AJ6: =IF(AJ$3=$M6,"PL",IF(AJ$3=$N6,"CH",IF(AJ$3=$O6,"DA",""))) | AK6: =IF(AK$3=$M6,"PL",IF(AK$3=$N6,"CH",IF(AK$3=$O6,"DA",""))) | AL6: =IF(AL$3=$M6,"PL",IF(AL$3=$N6,"CH",IF(AL$3=$O6,"DA",""))) | AM6: =IF(AM$3=$M6,"PL",IF(AM$3=$N6,"CH",IF(AM$3=$O6,"DA",""))) | AN6: =IF(AN$3=$M6,"PL",IF(AN$3=$N6,"CH",IF(AN$3=$O6,"DA",""))) -> PL | AO6: =IF(AO$3=$M6,"PL",IF(AO$3=$N6,"CH",IF(AO$3=$O6,"DA",""))) | AP6: =IF(AP$3=$M6,"PL",IF(AP$3=$N6,"CH",IF(AP$3=$O6,"DA",""))) | AQ6: =IF(AQ$3=$M6,"PL",IF(AQ$3=$N6,"CH",IF(AQ$3=$O6,"DA",""))) | ... BH6: =IF(BH$3=$M6,"PL",IF(BH$3=$N6,"CH",IF(BH$3=$O6,"DA",""))) | BI6: TR | BJ6: =IF(BJ$3=$M6,"PL",IF(BJ$3=$N6,"CH",IF(BJ$3=$O6,"DA",""))) | BK6: =IF(BK$3=$M6,"PL",IF(BK$3=$N6,"CH",IF(BK$3=$O6,"DA",""))) | BL6: =IF(BL$3=$M6,"PL",IF(BL$3=$N6,"CH",IF(BL$3=$O6,"DA",""))) | BM6: =IF(BM$3=$M6,"PL",IF(BM$3=$N6,"CH",IF(BM$3=$O6,"DA",""))) | BN6: =IF(BN$3=$M6,"PL",IF(BN$3=$N6,"CH",IF(BN$3=$O6,"DA",""))) | BO6: =IF(BO$3=$M6,"PL",IF(BO$3=$N6,"CH",IF(BO$3=$O6,"DA",""))) | BP6: =IF(BP$3=$M6,"PL",IF(BP$3=$N6,"CH",IF(BP$3=$O6,"DA",""))) | BQ6: =IF(BQ$3=$M6,"PL",IF(BQ$3=$N6,"CH",IF(BQ$3=$O6,"DA",""))) | ... FI6: =IF(FI$3=$M6,"PL",IF(FI$3=$N6,"CH",IF(FI$3=$O6,"DA","")))
A7: x | B7: test3 | C7: GP | D7: R+1 | E7: x | F7: x | G7: x | H7: x | I7: x | J7: x | K7: x | L7: x | M7: 42625 | N7: 42629 | O7: 42633 | AJ7: =IF(AJ$3=$M7,"PL",IF(AJ$3=$N7,"CH",IF(AJ$3=$O7,"DA",""))) | AK7: =IF(AK$3=$M7,"PL",IF(AK$3=$N7,"CH",IF(AK$3=$O7,"DA",""))) | AL7: =IF(AL$3=$M7,"PL",IF(AL$3=$N7,"CH",IF(AL$3=$O7,"DA",""))) | AM7: =IF(AM$3=$M7,"PL",IF(AM$3=$N7,"CH",IF(AM$3=$O7,"DA",""))) | AN7: =IF(AN$3=$M7,"PL",IF(AN$3=$N7,"CH",IF(AN$3=$O7,"DA",""))) | AO7: =IF(AO$3=$M7,"PL",IF(AO$3=$N7,"CH",IF(AO$3=$O7,"DA",""))) -> PL | AP7: =IF(AP$3=$M7,"PL",IF(AP$3=$N7,"CH",IF(AP$3=$O7,"DA",""))) | AQ7: =IF(AQ$3=$M7,"PL",IF(AQ$3=$N7,"CH",IF(AQ$3=$O7,"DA",""))) | ... FI7: =IF(FI$3=$M7,"PL",IF(FI$3=$N7,"CH",IF(FI$3=$O7,"DA","")))
A8: x | B8: test4 | C8: GP | D8: Plein Pied | E8: x | F8: x | G8: x | H8: x | I8: x | J8: x | K8: x | L8: x | AJ8: =IF(AJ$3=$M8,"PL",IF(AJ$3=$N8,"CH",IF(AJ$3=$O8,"DA",""))) | AK8: =IF(AK$3=$M8,"PL",IF(AK$3=$N8,"CH",IF(AK$3=$O8,"DA",""))) | AL8: =IF(AL$3=$M8,"PL",IF(AL$3=$N8,"CH",IF(AL$3=$O8,"DA",""))) | AM8: =IF(AM$3=$M8,"PL",IF(AM$3=$N8,"CH",IF(AM$3=$O8,"DA",""))) | AN8: =IF(AN$3=$M8,"PL",IF(AN$3=$N8,"CH",IF(AN$3=$O8,"DA",""))) | AO8: =IF(AO$3=$M8,"PL",IF(AO$3=$N8,"CH",IF(AO$3=$O8,"DA",""))) | AP8: =IF(AP$3=$M8,"PL",IF(AP$3=$N8,"CH",IF(AP$3=$O8,"DA",""))) | AQ8: =IF(AQ$3=$M8,"PL",IF(AQ$3=$N8,"CH",IF(AQ$3=$O8,"DA",""))) | ... BH8: =IF(BH$3=$M8,"PL",IF(BH$3=$N8,"CH",IF(BH$3=$O8,"DA",""))) | BI8: TR | BJ8: =IF(BJ$3=$M8,"PL",IF(BJ$3=$N8,"CH",IF(BJ$3=$O8,"DA",""))) | BK8: =IF(BK$3=$M8,"PL",IF(BK$3=$N8,"CH",IF(BK$3=$O8,"DA",""))) | BL8: =IF(BL$3=$M8,"PL",IF(BL$3=$N8,"CH",IF(BL$3=$O8,"DA",""))) | BM8: =IF(BM$3=$M8,"PL",IF(BM$3=$N8,"CH",IF(BM$3=$O8,"DA",""))) | BN8: =IF(BN$3=$M8,"PL",IF(BN$3=$N8,"CH",IF(BN$3=$O8,"DA",""))) | BO8: =IF(BO$3=$M8,"PL",IF(BO$3=$N8,"CH",IF(BO$3=$O8,"DA",""))) | BP8: =IF(BP$3=$M8,"PL",IF(BP$3=$N8,"CH",IF(BP$3=$O8,"DA",""))) | BQ8: =IF(BQ$3=$M8,"PL",IF(BQ$3=$N8,"CH",IF(BQ$3=$O8,"DA",""))) | ... FI8: =IF(FI$3=$M8,"PL",IF(FI$3=$N8,"CH",IF(FI$3=$O8,"DA","")))
A9: x | B9: test5 | C9: GP | D9: Plein Pied | E9: x | F9: x | G9: x | H9: x | I9: x | J9: x | K9: x | L9: x | AJ9: =IF(AJ$3=$M9,"PL",IF(AJ$3=$N9,"CH",IF(AJ$3=$O9,"DA",""))) | AK9: =IF(AK$3=$M9,"PL",IF(AK$3=$N9,"CH",IF(AK$3=$O9,"DA",""))) | AL9: =IF(AL$3=$M9,"PL",IF(AL$3=$N9,"CH",IF(AL$3=$O9,"DA",""))) | AM9: =IF(AM$3=$M9,"PL",IF(AM$3=$N9,"CH",IF(AM$3=$O9,"DA",""))) | AN9: =IF(AN$3=$M9,"PL",IF(AN$3=$N9,"CH",IF(AN$3=$O9,"DA",""))) | AO9: =IF(AO$3=$M9,"PL",IF(AO$3=$N9,"CH",IF(AO$3=$O9,"DA",""))) | AP9: =IF(AP$3=$M9,"PL",IF(AP$3=$N9,"CH",IF(AP$3=$O9,"DA",""))) | AQ9: =IF(AQ$3=$M9,"PL",IF(AQ$3=$N9,"CH",IF(AQ$3=$O9,"DA",""))) | ... FI9: =IF(FI$3=$M9,"PL",IF(FI$3=$N9,"CH",IF(FI$3=$O9,"DA","")))
AI11: fonction Recherche insuffisante
B22: Type de maison | C22: Conduc | D22: type de porte | E22: chauffage | F22: Menuiseries ext | G22: type VR | H22: Fournisseur VR
B23: Plein Pied | C23: MiL | D23: Gervais | E23: Gaz | F23: Bremaud | G23: VR/VRE | H23: Bremaud
A24: X | B24: R+1 | C24: PP | D24: MID | E24: PAC | F24: Elva | G24: battants | H24: Lallemand
B25: SS+R | C25: MoL | D25: autre | E25: Poële | F25: autre
B26: R+Co. aménagées | E26: autre
B27: R+Co. non aménagées | C27: GP
B28: SS+R+1 | C28: GM
C29: ?
B51: R+Combles | C51: MiL | D51: Gervais
A52: X | B52: R+1 | C52: PP | D52: MID
B53: SS+R+combles | C53: MoL | D53: autre
B55: SS+R | C55: GP
B56: SS+R+1 | C56: GM
B57: R+combles non aménagés | C57: ?
B58: Plein Pied

Sheet xx
A1: PLANNING DE CHARGE
A2: =TODAY() -> 42648 | B2: TERRASSEMENT | C2: TR | E2: fournisseur xx
A3: Semaine | B3: Semaine | C3: Semaine | D3: Semaine | E3: Semaine | AJ3: 42618 | AK3: 42619 | AL3: 42620 | AM3: 42621 | AN3: 42622 | AO3: 42625 | AP3: 42626 | AQ3: 42627 | AR3: 42628 | AS3: 42629 | AT3: 42632 | AU3: 42633 | AV3: 42634 | AW3: 42635 | AX3: 42636 | AY3: 42639 | AZ3: 42640 | BA3: 42641 | BB3: 42642 | BC3: 42643 | BD3: 42646 | BE3: 42647 | BF3: 42648 | BG3: 42649 | BH3: 42650 | BI3: 42653 | BJ3: 42654 | BK3: 42655 | BL3: 42656 | BM3: 42657 | BN3: 42660 | BO3: 42661 | BP3: 42662 | BQ3: 42663 | BR3: 42664 | BS3: 42667 | BT3: 42668 | BU3: 42669 | BV3: 42670 | BW3: 42671 | BX3: 42674 | BY3: 42675 | BZ3: 42676 | CA3: 42677 | CB3: 42678 | CC3: 42681 | CD3: 42682 | CE3: 42683 | CF3: 42684 | CG3: 42685 | CH3: 42688 | CI3: 42689 | CJ3: 42690 | CK3: 42691 | CL3: 42692 | CM3: 42695 | CN3: 42696 | CO3: 42697 | CP3: 42698 | CQ3: 42699 | CR3: 42702 | CS3: 42703 | CT3: 42704 | CU3: 42705 | CV3: 42706 | CW3: 42709 | CX3: 42710 | CY3: 42711 | CZ3: 42712 | DA3: 42713 | DB3: 42716 | DC3: 42717 | DD3: 42718 | DE3: 42719 | DF3: 42720 | DG3: 42723 | DH3: 42724 | DI3: 42725 | DJ3: 42726 | DK3: 42727 | DL3: 42730 | DM3: 42731 | DN3: 42732 | DO3: 42733 | DP3: 42734 | DQ3: 42737 | DR3: 42738 | DS3: 42739 | DT3: 42740 | DU3: 42741 | DV3: 42744 | DW3: 42745 | DX3: 42746 | DY3: 42747 | DZ3: 42748 | EA3: 42751 | EB3: 42752 | EC3: 42753 | ED3: 42754 | EE3: 42755 | EF3: 42758 | EG3: 42759 | EH3: 42760 | EI3: 42761 | EJ3: 42762 | EK3: 42765 | EL3: 42766 | EM3: 42767 | EN3: 42768 | EO3: 42769 | EP3: 42772 | EQ3: 42773 | ER3: 42774 | ES3: 42775 | ET3: 42776 | EU3: 42779 | EV3: 42780 | EW3: 42781 | EX3: 42782 | EY3: 42783 | EZ3: 42786 | FA3: 42787 | FB3: 42788 | FC3: 42789 | FD3: 42790 | FE3: 42793 | FF3: 42794 | FG3: 42795 | FH3: 42796 | FI3: 42797
A4: ="S "&INT(MOD(INT(($A$2-2+(DAY(1)=2)*6)/7)+0.6+((DAY(1)=2)*208),52+5/28))+2 -> S 41 | B4: ="S "&INT(MOD(INT(($A$2-2+(DAY(1)=2)*6)/7)+0.6+((DAY(1)=2)*208),52+5/28))+3 -> S 42 | C4: ="S "&INT(MOD(INT(($A$2-2+(DAY(1)=2)*6)/7)+0.6+((DAY(1)=2)*208),52+5/28))+4 -> S 43 | D4: ="S "&INT(MOD(INT(($A$2-2+(DAY(1)=2)*6)/7)+0.6+((DAY(1)=2)*208),52+5/28))+5 -> S 44 | E4: ="S "&INT(MOD(INT(($A$2-2+(DAY(1)=2)*6)/7)+0.6+((DAY(1)=2)*208),52+5/28))+6 -> S 45 | AJ4: S36 | AO4: S37 | AT4: S38 | AY4: S39 | BD4: S40 | BI4: S41 | BN4: S42 | BS4: S43 | BX4: S44 | CC4: S45 | CH4: S46 | CM4: S47 | CR4: S48 | CW4: S49 | DB4: S50 | DG4: S51 | DL4: S52 | DQ4: S01 | DV4: S02 | EA4: S03 | EF4: S04 | EK4: S05 | EP4: S06 | EU4: S07 | EZ4: S08 | FE4: S09
A5: =VLOOKUP("TR",BI5:BM5,$AJ5,FALSE) -> #N/A | B5: =IF($BN5="TR",suivi!$B5,IF($BO5="TR",suivi!$B5,IF($BP5="TR",suivi!$B5,IF($BQ5="TR",suivi!$B5,IF($BR5="TR",suivi!$B5,""))))) | C5: =IF($BS5="TR",suivi!$B5,IF($BT5="TR",suivi!$B5,IF($BU5="TR",suivi!$B5,IF($BV5="TR",suivi!$B5,IF($BW5="TR",suivi!$B5,""))))) | D5: =IF($BI5=$C$2,suivi!$B5,IF($BJ5=$C$2,suivi!$B5,IF($BK5=$C$2,suivi!$B5,IF($BL5=$C$2,suivi!$B5,IF($BM5=$C$2,suivi!$B5,""))))) | E5: =IF($BI5="TR",suivi!$B5,"") | AI5: =suivi!B5 -> test1 | AJ5: =suivi!AJ5 | AK5: =suivi!AK5 | AL5: =suivi!AL5 | AM5: =suivi!AM5 | AN5: =suivi!AN5 | AO5: =suivi!AO5 -> PL | AP5: =suivi!AP5 | AQ5: =suivi!AQ5 -> CH | ... FI5: =suivi!FI5
A6: =IF($BI6=$C$2,suivi!$B6,IF($BJ6=$C$2,suivi!$B6,IF($BK6=$C$2,suivi!$B6,IF($BL6=$C$2,suivi!$B6,IF($BM6=$C$2,suivi!$B6,""))))) -> test2 | B6: =IF($BI6="TR",suivi!$B6,"") -> test2 | C6: =IF($BI6="TR",suivi!$B6,"") -> test2 | D6: =IF($BI6="TR",suivi!$B6,"") -> test2 | E6: =IF($BI6="TR",suivi!$B6,"") -> test2 | AI6: =suivi!B6 -> test2 | AJ6: =suivi!AJ6 | AK6: =suivi!AK6 | AL6: =suivi!AL6 | AM6: =suivi!AM6 | AN6: =suivi!AN6 -> PL | AO6: =suivi!AO6 | AP6: =suivi!AP6 | AQ6: =suivi!AQ6 | ... FI6: =suivi!FI6
A7: =IF($BI7=$C$2,suivi!$B7,IF($BJ7=$C$2,suivi!$B7,IF($BK7=$C$2,suivi!$B7,IF($BL7=$C$2,suivi!$B7,IF($BM7=$C$2,suivi!$B7,""))))) | B7: =IF($BI7="TR",suivi!$B7,"") | C7: =IF($BI7="TR",suivi!$B7,"") | D7: =IF($BI7="TR",suivi!$B7,"") | E7: =IF($BI7="TR",suivi!$B7,"") | AI7: =suivi!B7 -> test3 | AJ7: =suivi!AJ7 | AK7: =suivi!AK7 | AL7: =suivi!AL7 | AM7: =suivi!AM7 | AN7: =suivi!AN7 | AO7: =suivi!AO7 -> PL | AP7: =suivi!AP7 | AQ7: =suivi!AQ7 | ... FI7: =suivi!FI7
A8: =IF($BI8=$C$2,suivi!$B8,IF($BJ8=$C$2,suivi!$B8,IF($BK8=$C$2,suivi!$B8,IF($BL8=$C$2,suivi!$B8,IF($BM8=$C$2,suivi!$B8,""))))) -> test4 | B8: =IF($BI8="TR",suivi!$B8,"") -> test4 | C8: =IF($BI8="TR",suivi!$B8,"") -> test4 | D8: =IF($BI8="TR",suivi!$B8,"") -> test4 | E8: =IF($BI8="TR",suivi!$B8,"") -> test4 | AI8: =suivi!B8 -> test4 | AJ8: =suivi!AJ8 | AK8: =suivi!AK8 | AL8: =suivi!AL8 | AM8: =suivi!AM8 | AN8: =suivi!AN8 | AO8: =suivi!AO8 | AP8: =suivi!AP8 | AQ8: =suivi!AQ8 | ... FI8: =suivi!FI8
A9: =IF($BI9=$C$2,suivi!$B9,IF($BJ9=$C$2,suivi!$B9,IF($BK9=$C$2,suivi!$B9,IF($BL9=$C$2,suivi!$B9,IF($BM9=$C$2,suivi!$B9,""))))) | B9: =IF($BI9="TR",suivi!$B9,"") | C9: =IF($BI9="TR",suivi!$B9,"") | D9: =IF($BI9="TR",suivi!$B9,"") | E9: =IF($BI9="TR",suivi!$B9,"") | AI9: =suivi!B9 -> test5 | AJ9: =suivi!AJ9 | AK9: =suivi!AK9 | AL9: =suivi!AL9 | AM9: =suivi!AM9 | AN9: =suivi!AN9 | AO9: =suivi!AO9 | AP9: =suivi!AP9 | AQ9: =suivi!AQ9 | ... FI9: =suivi!FI9
A10: =IF($BI10=$C$2,suivi!#REF!,IF($BJ10=$C$2,suivi!#REF!,IF($BK10=$C$2,suivi!#REF!,IF($BL10=$C$2,suivi!#REF!,IF($BM10=$C$2,suivi!#REF!,""))))) | B10: =IF($BI10="TR",suivi!#REF!,"") | C10: =IF($BI10="TR",suivi!#REF!,"") | D10: =IF($BI10="TR",suivi!#REF!,"") | E10: =IF($BI10="TR",suivi!#REF!,"")
A11: =IF($BI11=$C$2,suivi!#REF!,IF($BJ11=$C$2,suivi!#REF!,IF($BK11=$C$2,suivi!#REF!,IF($BL11=$C$2,suivi!#REF!,IF($BM11=$C$2,suivi!#REF!,""))))) | C11: =IF($BI11="TR",suivi!#REF!,"") | D11: =IF($BI11="TR",suivi!#REF!,"") | E11: =IF($BI11="TR",suivi!#REF!,"")
A12: =IF($BI12=$C$2,suivi!#REF!,IF($BJ12=$C$2,suivi!#REF!,IF($BK12=$C$2,suivi!#REF!,IF($BL12=$C$2,suivi!#REF!,IF($BM12=$C$2,suivi!#REF!,""))))) | B12: =IF($BI12="TR",suivi!#REF!,"") | C12: =IF($BI12="TR",suivi!#REF!,"") | D12: =IF($BI12="TR",suivi!#REF!,"") | E12: =IF($BI12="TR",suivi!#REF!,"")
A13: =IF($BI13=$C$2,suivi!#REF!,IF($BJ13=$C$2,suivi!#REF!,IF($BK13=$C$2,suivi!#REF!,IF($BL13=$C$2,suivi!#REF!,IF($BM13=$C$2,suivi!#REF!,""))))) | B13: =IF($BI13="TR",suivi!#REF!,"") | C13: =IF($BI13="TR",suivi!#REF!,"") | D13: =IF($BI13="TR",suivi!#REF!,"") | E13: =IF($BI13="TR",suivi!#REF!,"")
A14: =IF($BI14=$C$2,suivi!#REF!,IF($BJ14=$C$2,suivi!#REF!,IF($BK14=$C$2,suivi!#REF!,IF($BL14=$C$2,suivi!#REF!,IF($BM14=$C$2,suivi!#REF!,""))))) | B14: =IF($BI14="TR",suivi!#REF!,"") | C14: =IF($BI14="TR",suivi!#REF!,"") | D14: =IF($BI14="TR",suivi!#REF!,"") | E14: =IF($BI14="TR",suivi!#REF!,"")
A15: =IF($BI15=$C$2,suivi!#REF!,IF($BJ15=$C$2,suivi!#REF!,IF($BK15=$C$2,suivi!#REF!,IF($BL15=$C$2,suivi!#REF!,IF($BM15=$C$2,suivi!#REF!,""))))) | B15: =IF($BI15="TR",suivi!#REF!,"") | C15: =IF($BI15="TR",suivi!#REF!,"") | D15: =IF($BI15="TR",suivi!#REF!,"") | E15: =IF($BI15="TR",suivi!#REF!,"")
A16: =IF($BI16=$C$2,suivi!#REF!,IF($BJ16=$C$2,suivi!#REF!,IF($BK16=$C$2,suivi!#REF!,IF($BL16=$C$2,suivi!#REF!,IF($BM16=$C$2,suivi!#REF!,""))))) | B16: =IF($BI16="TR",suivi!#REF!,"") | C16: =IF($BI16="TR",suivi!#REF!,"") | D16: =IF($BI16="TR",suivi!#REF!,"") | E16: =IF($BI16="TR",suivi!#REF!,"")
A17: =IF($BI17=$C$2,suivi!#REF!,IF($BJ17=$C$2,suivi!#REF!,IF($BK17=$C$2,suivi!#REF!,IF($BL17=$C$2,suivi!#REF!,IF($BM17=$C$2,suivi!#REF!,""))))) | B17: =IF($BI17="TR",suivi!#REF!,"") | C17: =IF($BI17="TR",suivi!#REF!,"") | D17: =IF($BI17="TR",suivi!#REF!,"") | E17: =IF($BI17="TR",suivi!#REF!,"")
A18: =IF($BI18=$C$2,suivi!#REF!,IF($BJ18=$C$2,suivi!#REF!,IF($BK18=$C$2,suivi!#REF!,IF($BL18=$C$2,suivi!#REF!,IF($BM18=$C$2,suivi!#REF!,""))))) | B18: =IF($BI18="TR",suivi!#REF!,"") | C18: =IF($BI18="TR",suivi!#REF!,"") | D18: =IF($BI18="TR",suivi!#REF!,"") | E18: =IF($BI18="TR",suivi!#REF!,"")
A19: =IF($BI19=$C$2,suivi!#REF!,IF($BJ19=$C$2,suivi!#REF!,IF($BK19=$C$2,suivi!#REF!,IF($BL19=$C$2,suivi!#REF!,IF($BM19=$C$2,suivi!#REF!,""))))) | B19: =IF($BI19="TR",suivi!#REF!,"") | C19: =IF($BI19="TR",suivi!#REF!,"") | D19: =IF($BI19="TR",suivi!#REF!,"") | E19: =IF($BI19="TR",suivi!#REF!,"")
A20: =IF($BI20=$C$2,suivi!#REF!,IF($BJ20=$C$2,suivi!#REF!,IF($BK20=$C$2,suivi!#REF!,IF($BL20=$C$2,suivi!#REF!,IF($BM20=$C$2,suivi!#REF!,""))))) | B20: =IF($BI20="TR",suivi!#REF!,"") | C20: =IF($BI20="TR",suivi!#REF!,"") | D20: =IF($BI20="TR",suivi!#REF!,"") | E20: =IF($BI20="TR",suivi!#REF!,"")
A21: =IF($BI21=$C$2,suivi!#REF!,IF($BJ21=$C$2,suivi!#REF!,IF($BK21=$C$2,suivi!#REF!,IF($BL21=$C$2,suivi!#REF!,IF($BM21=$C$2,suivi!#REF!,""))))) | B21: =IF($BI21="TR",suivi!#REF!,"") | C21: =IF($BI21="TR",suivi!#REF!,"") | D21: =IF($BI21="TR",suivi!#REF!,"") | E21: =IF($BI21="TR",suivi!#REF!,"")
A22: =IF($BI22=$C$2,suivi!#REF!,IF($BJ22=$C$2,suivi!#REF!,IF($BK22=$C$2,suivi!#REF!,IF($BL22=$C$2,suivi!#REF!,IF($BM22=$C$2,suivi!#REF!,""))))) | B22: =IF($BI22="TR",suivi!#REF!,"") | C22: =IF($BI22="TR",suivi!#REF!,"") | D22: =IF($BI22="TR",suivi!#REF!,"") | E22: =IF($BI22="TR",suivi!#REF!,"")
A23: =IF($BI23="TR",suivi!#REF!,"") | B23: =IF($BI23="TR",suivi!#REF!,"") | C23: =IF($BI23="TR",suivi!#REF!,"") | D23: =IF($BI23="TR",suivi!#REF!,"") | E23: =IF($BI23="TR",suivi!#REF!,"")
A24: =IF(OR($C$2=suivi!#REF!,$C$2=suivi!#REF!,$C$2=suivi!#REF!,$C$2=suivi!#REF!,$C$2=suivi!#REF!),suivi!#REF!,"") -> #REF!
A25: =IF(OR($C$2=suivi!#REF!,$C$2=suivi!#REF!,$C$2=suivi!#REF!,$C$2=suivi!#REF!,$C$2=suivi!#REF!),suivi!#REF!,"") -> #REF!
A26: =IF(OR($C$2=suivi!#REF!,$C$2=suivi!#REF!,$C$2=suivi!#REF!,$C$2=suivi!#REF!,$C$2=suivi!#REF!),suivi!#REF!,"") -> #REF!
A27: =IF(OR($C$2=suivi!#REF!,$C$2=suivi!#REF!,$C$2=suivi!#REF!,$C$2=suivi!#REF!,$C$2=suivi!#REF!),suivi!#REF!,"") -> #REF!
A28: =IF(OR($C$2=suivi!#REF!,$C$2=suivi!#REF!,$C$2=suivi!#REF!,$C$2=suivi!#REF!,$C$2=suivi!#REF!),suivi!#REF!,"") -> #REF!
A29: =IF(OR($C$2=suivi!#REF!,$C$2=suivi!#REF!,$C$2=suivi!#REF!,$C$2=suivi!#REF!,$C$2=suivi!#REF!),suivi!#REF!,"") -> #REF!
A30: =IF(OR($C$2=suivi!#REF!,$C$2=suivi!#REF!,$C$2=suivi!#REF!,$C$2=suivi!#REF!,$C$2=suivi!#REF!),suivi!#REF!,"") -> #REF!
A31: =IF(OR($C$2=suivi!#REF!,$C$2=suivi!#REF!,$C$2=suivi!#REF!,$C$2=suivi!#REF!,$C$2=suivi!#REF!),suivi!#REF!,"") -> #REF!
A32: =IF(OR($C$2=suivi!#REF!,$C$2=suivi!#REF!,$C$2=suivi!#REF!,$C$2=suivi!#REF!,$C$2=suivi!#REF!),suivi!#REF!,"") -> #REF!
A33: =IF(OR($C$2=suivi!#REF!,$C$2=suivi!#REF!,$C$2=suivi!#REF!,$C$2=suivi!#REF!,$C$2=suivi!#REF!),suivi!#REF!,"") -> #REF!
A34: =IF(OR($C$2=suivi!#REF!,$C$2=suivi!#REF!,$C$2=suivi!#REF!,$C$2=suivi!#REF!,$C$2=suivi!#REF!),suivi!#REF!,"") -> #REF!
A35: =IF(OR($C$2=suivi!#REF!,$C$2=suivi!#REF!,$C$2=suivi!#REF!,$C$2=suivi!#REF!,$C$2=suivi!#REF!),suivi!#REF!,"") -> #REF!
... A71: =IF(OR($C$2=suivi!#REF!,$C$2=suivi!#REF!,$C$2=suivi!#REF!,$C$2=suivi!#REF!,$C$2=suivi!#REF!),suivi!#REF!,"") -> #REF!
A72: =IF(OR($C$2=suivi!BI10,$C$2=suivi!BJ10,$C$2=suivi!BK10,$C$2=suivi!BL10,$C$2=suivi!BM10),suivi!B10,"")
A73: =IF(OR($C$2=suivi!BI11,$C$2=suivi!BJ11,$C$2=suivi!BK11,$C$2=suivi!BL11,$C$2=suivi!BM11),suivi!B11,"")
A74: =IF(OR($C$2=suivi!BI12,$C$2=suivi!BJ12,$C$2=suivi!BK12,$C$2=suivi!BL12,$C$2=suivi!BM12),suivi!B12,"")
A75: =IF(OR($C$2=suivi!BI13,$C$2=suivi!BJ13,$C$2=suivi!BK13,$C$2=suivi!BL13,$C$2=suivi!BM13),suivi!B13,"")
...
