Workbook
Name Fériés: OFFSET(Fériés!$C$2,,,COUNTA(Fériés!$C:$C)-1)
Name Hdéb: Janvier!$D$6
Name Hfin: Janvier!$D$7

Sheet Fériés
A1: Année | B1: Fêtes Fériées | C1: Jours Fériés
A2: 2017 | B2: Premier de l'AN | C2: =DATE(A2,1,1) -> 42736
B3: Pâques | C3: =ROUND(DATE(A2,4,MOD(234-11*MOD(A2,19),30))/7,0)*7-6 -> 42841
B4: Lundi de Pâques | C4: =C3+1 -> 42842
B5: Fête du travail | C5: =DATE(A2,5,1) -> 42856
B6: Victoire de 1945 | C6: =DATE(A2,5,8) -> 42863
B7: Ascension | C7: =C3+39 -> 42880
B8: Pentecôte | C8: =C3+50 -> 42891
B9: Fête nationale | C9: =DATE(A2,7,14) -> 42930
B10: Assomption | C10: =DATE(A2,8,15) -> 42962
B11: Toussaint | C11: =DATE(A2,11,1) -> 43040
B12: Armistice | C12: =DATE(A2,11,11) -> 43050
B13: Noël | C13: =DATE(A2,12,25) -> 43094
A14: 2018 | B14: Premier de l'AN | C14: =DATE(A14,1,1) -> 43101
B15: Pâques | C15: =ROUND(DATE(A14,4,MOD(234-11*MOD(A14,19),30))/7,0)*7-6 -> 43191
B16: Lundi de Pâques | C16: =C15+1 -> 43192
B17: Fête du travail | C17: =DATE(A14,5,1) -> 43221
B18: Victoire de 1945 | C18: =DATE(A14,5,8) -> 43228
B19: Ascension | C19: =C15+39 -> 43230
B20: Pentecôte | C20: =C15+50 -> 43241
B21: Fête nationale | C21: =DATE(A14,7,14) -> 43295
B22: Assomption | C22: =DATE(A14,8,15) -> 43327
B23: Toussaint | C23: =DATE(A14,11,1) -> 43405
B24: Armistice | C24: =DATE(A14,11,11) -> 43415
B25: Noël | C25: =DATE(A14,12,25) -> 43459
A26: =A14+1 -> 2019 | B26: Premier de l'AN | C26: =DATE(A26,1,1) -> 43466
B27: Pâques | C27: =ROUND(DATE(A26,4,MOD(234-11*MOD(A26,19),30))/7,0)*7-6 -> 43576
B28: Lundi de Pâques | C28: =C27+1 -> 43577
B29: Fête du travail | C29: =DATE(A26,5,1) -> 43586
B30: Victoire de 1945 | C30: =DATE(A26,5,8) -> 43593
B31: Ascension | C31: =C27+39 -> 43615
B32: Pentecôte | C32: =C27+50 -> 43626
B33: Fête nationale | C33: =DATE(A26,7,14) -> 43660
B34: Assomption | C34: =DATE(A26,8,15) -> 43692
B35: Toussaint | C35: =DATE(A26,11,1) -> 43770
B36: Armistice | C36: =DATE(A26,11,11) -> 43780
B37: Noël | C37: =DATE(A26,12,25) -> 43824
A38: =A26+1 -> 2020 | B38: Premier de l'AN | C38: =DATE(A38,1,1) -> 43831
B39: Pâques | C39: =ROUND(DATE(A38,4,MOD(234-11*MOD(A38,19),30))/7,0)*7-6 -> 43933
B40: Lundi de Pâques | C40: =C39+1 -> 43934
...

Sheet Janvier
A1: Calcul des horaires de travail
C6: 2019 | D6: 0.83333333 | E6: <=Hdéb | I6: Heure de Nuit | N6: Cumul / Mois | O6: =O7 -> 4.9833333 | P6: H à 25% | Q6: H à 50% | R6: H à 100% | S6: Total
D7: 0.29166667 | E7: <=Hfin | I7: 20h00 à 7h00 | L7: 35 | M7: 43 | N7: Heure du mois | O7: =SUM(J9:J39) -> 4.9833333 | P7: 25% | Q7: 50% | R7: 100% | S7: H Sup
A8: Semaine | B8: Mois de : | C8: =MID(CELL("nomfichier",C8),FIND("]",CELL("nomfichier",C8))+1,20) -> Janvier | D8: Arrivée | E8: Départ | F8: Arrivée | G8: Départ | H8: Heures / Jour | I8: Heures / Nuit | J8: Heures / Sem | K8: Normal | L8: > 35h < 43h | M8: > 43h | N8: Heures Fériés | O8: Heures Dim | P8: Heures Supplémentaires Majorées
A9: =IFERROR(IF(WEEKDAY(C9,2)=7,WEEKNUM(C9,2),""),"") | B9: =IFERROR(CHOOSE(WEEKDAY(C9),"Dim","Lun","Mar","Mer","Jeu","Ven","Sam"),"") -> Mar | C9: =IF(MONTH(DATE($C$6,MONTH(1&$C$8),ROW()-8))=MONTH(1&$C$8),DATE($C$6,MONTH(1&$C$8),ROW()-8),"") -> 43466 | D9: 0.5 | E9: 0.875 | F9: 0.91666667 | G9: 0.26041667 | H9: =IF(C9="","",IF(AND(D9<>"",E9=""),0,MAX(0,MIN(E9+(E9<D9),Hdéb)-MAX(Hfin,D9))+MAX(0,MIN(Hdéb+1,E9+(E9<D9))-MAX(Hfin+1,D9)))+IF(AND(F9<>"",G9=""),0,MAX(0,MIN(G9+(G9<F9),Hdéb)- MAX(Hfin,F9))+MAX(0,MIN(Hdéb+1,G9+(G9<F9))-MAX(Hfin+1,F9)))) -> 0.33333333 | I9: =IF(C9="","",IF(OR(D9="",E9=""),0,IF(AND(D9<>"",E9<>"",MOD(D9-E9,1)=0),MOD(Hfin-Hdéb,1),(MOD(E9-D9,1)-IF(E9>D9,MAX(0,MIN(E9,Hdéb/1)-MAX(D9,Hfin/1)),MAX(0,Hdéb/1-MAX(D9,Hfin/1))+MAX(0,MIN(E9,Hdéb/1)-Hfin/1)))))+IF(OR(F9="",G9=""),0,IF(AND(F9<>"",G9<>"",MOD(F9-G9,1)=0),MOD(Hfin-Hdéb,1),(MOD(G9-F9,1)-IF(G9>F9,MAX(0,MIN(G9,Hdéb/1)-MAX(F9,Hfin/1)),MAX(0,Hdéb/1-MAX(F9,Hfin/1))+MAX(0,MIN(G9,Hdéb/1)-Hfin/1)))))) -> 0.38541667 | J9: =IFERROR(IF(WEEKDAY($C9)=1,SUM($H3:$H9)+SUM($I3:$I9),""),"") | K9: =IFERROR(J9*24-L9-M9,"") | L9: =IFERROR(IF(J9*24<=$L$7,0,IF(AND(J9*24>$L$7,M9<>""),J9*24-$L$7-M9,J9*24-$L$7)),"") | M9: =IFERROR(IF(J9*24>$L$7,IF(AND(J9*24>$L$7,J9*24<=$M$7),0,J9*24-$L$7-($M$7-$L$7)),0),"") | N9: =IF(C9="","",IF(COUNTIF(Fériés,$C9)>0,($H9+$I9)*24,0)) -> 17.25 | O9: =IFERROR(IF(C9="","",IF(AND(WEEKDAY($C9,1)=1,COUNTIF(Fériés,$C9)<>1),($H9+$I9)*24,0)),0) -> 0 | P9: =IFERROR(L9,0) | Q9: =IFERROR(M9,0) | R9: =IFERROR(IF(COUNTIF(Fériés,$C9)>0,($H9+$I9)*24,IF(WEEKDAY($C9)<>1,$I9*24,IF(COUNTIF(Fériés,$C9)>0,($H9+$I9)*0,IF(COUNTIF(Fériés,$C9)=WEEKDAY($C9)=1,0,($H9+$I9)*24)))),"") -> 17.25 | S9: =IFERROR(IF(WEEKDAY($C9)=1,SUM($P3:$P9)*1.25+SUM($Q3:$Q9)*1.5+SUM($R3:$R9)*2,""),"")
A10: =IFERROR(IF(WEEKDAY(C10,2)=7,WEEKNUM(C10,2),""),"") | B10: =IFERROR(CHOOSE(WEEKDAY(C10),"Dim","Lun","Mar","Mer","Jeu","Ven","Sam"),"") -> Mer | C10: =IF(MONTH(DATE($C$6,MONTH(1&$C$8),ROW()-8))=MONTH(1&$C$8),DATE($C$6,MONTH(1&$C$8),ROW()-8),"") -> 43467 | D10: 0.33333333 | E10: 0.375 | F10: 0.83333333 | G10: 0.875 | H10: =IF(C10="","",IF(AND(D10<>"",E10=""),0,MAX(0,MIN(E10+(E10<D10),Hdéb)-MAX(Hfin,D10))+MAX(0,MIN(Hdéb+1,E10+(E10<D10))-MAX(Hfin+1,D10)))+IF(AND(F10<>"",G10=""),0,MAX(0,MIN(G10+(G10<F10),Hdéb)- MAX(Hfin,F10))+MAX(0,MIN(Hdéb+1,G10+(G10<F10))-MAX(Hfin+1,F10)))) -> 0.041666667 | I10: =IF(C10="","",IF(OR(D10="",E10=""),0,IF(AND(D10<>"",E10<>"",MOD(D10-E10,1)=0),MOD(Hfin-Hdéb,1),(MOD(E10-D10,1)-IF(E10>D10,MAX(0,MIN(E10,Hdéb/1)-MAX(D10,Hfin/1)),MAX(0,Hdéb/1-MAX(D10,Hfin/1))+MAX(0,MIN(E10,Hdéb/1)-Hfin/1)))))+IF(OR(F10="",G10=""),0,IF(AND(F10<>"",G10<>"",MOD(F10-G10,1)=0),MOD(Hfin-Hdéb,1),(MOD(G10-F10,1)-IF(G10>F10,MAX(0,MIN(G10,Hdéb/1)-MAX(F10,Hfin/1)),MAX(0,Hdéb/1-MAX(F10,Hfin/1))+MAX(0,MIN(G10,Hdéb/1)-Hfin/1)))))) -> 0.041666667 | J10: =IFERROR(IF(WEEKDAY($C10)=1,SUM($H4:$H10)+SUM($I4:$I10),""),"") | K10: =IFERROR(J10*24-L10-M10,"") | L10: =IFERROR(IF(J10*24<=$L$7,0,IF(AND(J10*24>$L$7,M10<>""),J10*24-$L$7-M10,J10*24-$L$7)),"") | M10: =IFERROR(IF(J10*24>$L$7,IF(AND(J10*24>$L$7,J10*24<=$M$7),0,J10*24-$L$7-($M$7-$L$7)),0),"") | N10: =IF(C10="","",IF(COUNTIF(Fériés,$C10)>0,($H10+$I10)*24,0)) -> 0 | O10: =IFERROR(IF(C10="","",IF(AND(WEEKDAY($C10,1)=1,COUNTIF(Fériés,$C10)<>1),($H10+$I10)*24,0)),0) -> 0 | P10: =IFERROR(L10,0) | Q10: =IFERROR(M10,0) | R10: =IFERROR(IF(COUNTIF(Fériés,$C10)>0,($H10+$I10)*24,IF(WEEKDAY($C10)<>1,$I10*24,IF(COUNTIF(Fériés,$C10)>0,($H10+$I10)*0,IF(COUNTIF(Fériés,$C10)=WEEKDAY($C10)=1,0,($H10+$I10)*24)))),"") -> 1 | S10: =IFERROR(IF(WEEKDAY($C10)=1,SUM($P4:$P10)*1.25+SUM($Q4:$Q10)*1.5+SUM($R4:$R10)*2,""),"")
A11: =IFERROR(IF(WEEKDAY(C11,2)=7,WEEKNUM(C11,2),""),"") | B11: =IFERROR(CHOOSE(WEEKDAY(C11),"Dim","Lun","Mar","Mer","Jeu","Ven","Sam"),"") -> Jeu | C11: =IF(MONTH(DATE($C$6,MONTH(1&$C$8),ROW()-8))=MONTH(1&$C$8),DATE($C$6,MONTH(1&$C$8),ROW()-8),"") -> 43468 | D11: 0.83333333 | E11: 0.875 | F11: 0.25 | G11: 0.39583333 | H11: =IF(C11="","",IF(AND(D11<>"",E11=""),0,MAX(0,MIN(E11+(E11<D11),Hdéb)-MAX(Hfin,D11))+MAX(0,MIN(Hdéb+1,E11+(E11<D11))-MAX(Hfin+1,D11)))+IF(AND(F11<>"",G11=""),0,MAX(0,MIN(G11+(G11<F11),Hdéb)- MAX(Hfin,F11))+MAX(0,MIN(Hdéb+1,G11+(G11<F11))-MAX(Hfin+1,F11)))) -> 0.10416667 | I11: =IF(C11="","",IF(OR(D11="",E11=""),0,IF(AND(D11<>"",E11<>"",MOD(D11-E11,1)=0),MOD(Hfin-Hdéb,1),(MOD(E11-D11,1)-IF(E11>D11,MAX(0,MIN(E11,Hdéb/1)-MAX(D11,Hfin/1)),MAX(0,Hdéb/1-MAX(D11,Hfin/1))+MAX(0,MIN(E11,Hdéb/1)-Hfin/1)))))+IF(OR(F11="",G11=""),0,IF(AND(F11<>"",G11<>"",MOD(F11-G11,1)=0),MOD(Hfin-Hdéb,1),(MOD(G11-F11,1)-IF(G11>F11,MAX(0,MIN(G11,Hdéb/1)-MAX(F11,Hfin/1)),MAX(0,Hdéb/1-MAX(F11,Hfin/1))+MAX(0,MIN(G11,Hdéb/1)-Hfin/1)))))) -> 0.083333333 | J11: =IFERROR(IF(WEEKDAY($C11)=1,SUM($H5:$H11)+SUM($I5:$I11),""),"") | K11: =IFERROR(J11*24-L11-M11,"") | L11: =IFERROR(IF(J11*24<=$L$7,0,IF(AND(J11*24>$L$7,M11<>""),J11*24-$L$7-M11,J11*24-$L$7)),"") | M11: =IFERROR(IF(J11*24>$L$7,IF(AND(J11*24>$L$7,J11*24<=$M$7),0,J11*24-$L$7-($M$7-$L$7)),0),"") | N11: =IF(C11="","",IF(COUNTIF(Fériés,$C11)>0,($H11+$I11)*24,0)) -> 0 | O11: =IFERROR(IF(C11="","",IF(AND(WEEKDAY($C11,1)=1,COUNTIF(Fériés,$C11)<>1),($H11+$I11)*24,0)),0) -> 0 | P11: =IFERROR(L11,0) | Q11: =IFERROR(M11,0) | R11: =IFERROR(IF(COUNTIF(Fériés,$C11)>0,($H11+$I11)*24,IF(WEEKDAY($C11)<>1,$I11*24,IF(COUNTIF(Fériés,$C11)>0,($H11+$I11)*0,IF(COUNTIF(Fériés,$C11)=WEEKDAY($C11)=1,0,($H11+$I11)*24)))),"") -> 2 | S11: =IFERROR(IF(WEEKDAY($C11)=1,SUM($P5:$P11)*1.25+SUM($Q5:$Q11)*1.5+SUM($R5:$R11)*2,""),"")
A12: =IFERROR(IF(WEEKDAY(C12,2)=7,WEEKNUM(C12,2),""),"") | B12: =IFERROR(CHOOSE(WEEKDAY(C12),"Dim","Lun","Mar","Mer","Jeu","Ven","Sam"),"") -> Ven | C12: =IF(MONTH(DATE($C$6,MONTH(1&$C$8),ROW()-8))=MONTH(1&$C$8),DATE($C$6,MONTH(1&$C$8),ROW()-8),"") -> 43469 | D12: 0.83333333 | E12: 0.91666667 | H12: =IF(C12="","",IF(AND(D12<>"",E12=""),0,MAX(0,MIN(E12+(E12<D12),Hdéb)-MAX(Hfin,D12))+MAX(0,MIN(Hdéb+1,E12+(E12<D12))-MAX(Hfin+1,D12)))+IF(AND(F12<>"",G12=""),0,MAX(0,MIN(G12+(G12<F12),Hdéb)- MAX(Hfin,F12))+MAX(0,MIN(Hdéb+1,G12+(G12<F12))-MAX(Hfin+1,F12)))) -> 0 | I12: =IF(C12="","",IF(OR(D12="",E12=""),0,IF(AND(D12<>"",E12<>"",MOD(D12-E12,1)=0),MOD(Hfin-Hdéb,1),(MOD(E12-D12,1)-IF(E12>D12,MAX(0,MIN(E12,Hdéb/1)-MAX(D12,Hfin/1)),MAX(0,Hdéb/1-MAX(D12,Hfin/1))+MAX(0,MIN(E12,Hdéb/1)-Hfin/1)))))+IF(OR(F12="",G12=""),0,IF(AND(F12<>"",G12<>"",MOD(F12-G12,1)=0),MOD(Hfin-Hdéb,1),(MOD(G12-F12,1)-IF(G12>F12,MAX(0,MIN(G12,Hdéb/1)-MAX(F12,Hfin/1)),MAX(0,Hdéb/1-MAX(F12,Hfin/1))+MAX(0,MIN(G12,Hdéb/1)-Hfin/1)))))) -> 0.083333333 | J12: =IFERROR(IF(WEEKDAY($C12)=1,SUM($H6:$H12)+SUM($I6:$I12),""),"") | K12: =IFERROR(J12*24-L12-M12,"") | L12: =IFERROR(IF(J12*24<=$L$7,0,IF(AND(J12*24>$L$7,M12<>""),J12*24-$L$7-M12,J12*24-$L$7)),"") | M12: =IFERROR(IF(J12*24>$L$7,IF(AND(J12*24>$L$7,J12*24<=$M$7),0,J12*24-$L$7-($M$7-$L$7)),0),"") | N12: =IF(C12="","",IF(COUNTIF(Fériés,$C12)>0,($H12+$I12)*24,0)) -> 0 | O12: =IFERROR(IF(C12="","",IF(AND(WEEKDAY($C12,1)=1,COUNTIF(Fériés,$C12)<>1),($H12+$I12)*24,0)),0) -> 0 | P12: =IFERROR(L12,0) | Q12: =IFERROR(M12,0) | R12: =IFERROR(IF(COUNTIF(Fériés,$C12)>0,($H12+$I12)*24,IF(WEEKDAY($C12)<>1,$I12*24,IF(COUNTIF(Fériés,$C12)>0,($H12+$I12)*0,IF(COUNTIF(Fériés,$C12)=WEEKDAY($C12)=1,0,($H12+$I12)*24)))),"") -> 2 | S12: =IFERROR(IF(WEEKDAY($C12)=1,SUM($P6:$P12)*1.25+SUM($Q6:$Q12)*1.5+SUM($R6:$R12)*2,""),"")
A13: =IFERROR(IF(WEEKDAY(C13,2)=7,WEEKNUM(C13,2),""),"") | B13: =IFERROR(CHOOSE(WEEKDAY(C13),"Dim","Lun","Mar","Mer","Jeu","Ven","Sam"),"") -> Sam | C13: =IF(MONTH(DATE($C$6,MONTH(1&$C$8),ROW()-8))=MONTH(1&$C$8),DATE($C$6,MONTH(1&$C$8),ROW()-8),"") -> 43470 | D13: 0.29166667 | E13: 0.79166667 | F13: 0.83333333 | G13: 0.375 | H13: =IF(C13="","",IF(AND(D13<>"",E13=""),0,MAX(0,MIN(E13+(E13<D13),Hdéb)-MAX(Hfin,D13))+MAX(0,MIN(Hdéb+1,E13+(E13<D13))-MAX(Hfin+1,D13)))+IF(AND(F13<>"",G13=""),0,MAX(0,MIN(G13+(G13<F13),Hdéb)- MAX(Hfin,F13))+MAX(0,MIN(Hdéb+1,G13+(G13<F13))-MAX(Hfin+1,F13)))) -> 0.58333333 | I13: =IF(C13="","",IF(OR(D13="",E13=""),0,IF(AND(D13<>"",E13<>"",MOD(D13-E13,1)=0),MOD(Hfin-Hdéb,1),(MOD(E13-D13,1)-IF(E13>D13,MAX(0,MIN(E13,Hdéb/1)-MAX(D13,Hfin/1)),MAX(0,Hdéb/1-MAX(D13,Hfin/1))+MAX(0,MIN(E13,Hdéb/1)-Hfin/1)))))+IF(OR(F13="",G13=""),0,IF(AND(F13<>"",G13<>"",MOD(F13-G13,1)=0),MOD(Hfin-Hdéb,1),(MOD(G13-F13,1)-IF(G13>F13,MAX(0,MIN(G13,Hdéb/1)-MAX(F13,Hfin/1)),MAX(0,Hdéb/1-MAX(F13,Hfin/1))+MAX(0,MIN(G13,Hdéb/1)-Hfin/1)))))) -> 0.45833333 | J13: =IFERROR(IF(WEEKDAY($C13)=1,SUM($H7:$H13)+SUM($I7:$I13),""),"") | K13: =IFERROR(J13*24-L13-M13,"") | L13: =IFERROR(IF(J13*24<=$L$7,0,IF(AND(J13*24>$L$7,M13<>""),J13*24-$L$7-M13,J13*24-$L$7)),"") | M13: =IFERROR(IF(J13*24>$L$7,IF(AND(J13*24>$L$7,J13*24<=$M$7),0,J13*24-$L$7-($M$7-$L$7)),0),"") | N13: =IF(C13="","",IF(COUNTIF(Fériés,$C13)>0,($H13+$I13)*24,0)) -> 0 | O13: =IFERROR(IF(C13="","",IF(AND(WEEKDAY($C13,1)=1,COUNTIF(Fériés,$C13)<>1),($H13+$I13)*24,0)),0) -> 0 | P13: =IFERROR(L13,0) | Q13: =IFERROR(M13,0) | R13: =IFERROR(IF(COUNTIF(Fériés,$C13)>0,($H13+$I13)*24,IF(WEEKDAY($C13)<>1,$I13*24,IF(COUNTIF(Fériés,$C13)>0,($H13+$I13)*0,IF(COUNTIF(Fériés,$C13)=WEEKDAY($C13)=1,0,($H13+$I13)*24)))),"") -> 11 | S13: =IFERROR(IF(WEEKDAY($C13)=1,SUM($P7:$P13)*1.25+SUM($Q7:$Q13)*1.5+SUM($R7:$R13)*2,""),"")
A14: =IFERROR(IF(WEEKDAY(C14,2)=7,WEEKNUM(C14,2),""),"") -> 1 | B14: =IFERROR(CHOOSE(WEEKDAY(C14),"Dim","Lun","Mar","Mer","Jeu","Ven","Sam"),"") -> Dim | C14: =IF(MONTH(DATE($C$6,MONTH(1&$C$8),ROW()-8))=MONTH(1&$C$8),DATE($C$6,MONTH(1&$C$8),ROW()-8),"") -> 43471 | F14: 0.79166667 | G14: 0.92708333 | H14: =IF(C14="","",IF(AND(D14<>"",E14=""),0,MAX(0,MIN(E14+(E14<D14),Hdéb)-MAX(Hfin,D14))+MAX(0,MIN(Hdéb+1,E14+(E14<D14))-MAX(Hfin+1,D14)))+IF(AND(F14<>"",G14=""),0,MAX(0,MIN(G14+(G14<F14),Hdéb)- MAX(Hfin,F14))+MAX(0,MIN(Hdéb+1,G14+(G14<F14))-MAX(Hfin+1,F14)))) -> 0.041666667 | I14: =IF(C14="","",IF(OR(D14="",E14=""),0,IF(AND(D14<>"",E14<>"",MOD(D14-E14,1)=0),MOD(Hfin-Hdéb,1),(MOD(E14-D14,1)-IF(E14>D14,MAX(0,MIN(E14,Hdéb/1)-MAX(D14,Hfin/1)),MAX(0,Hdéb/1-MAX(D14,Hfin/1))+MAX(0,MIN(E14,Hdéb/1)-Hfin/1)))))+IF(OR(F14="",G14=""),0,IF(AND(F14<>"",G14<>"",MOD(F14-G14,1)=0),MOD(Hfin-Hdéb,1),(MOD(G14-F14,1)-IF(G14>F14,MAX(0,MIN(G14,Hdéb/1)-MAX(F14,Hfin/1)),MAX(0,Hdéb/1-MAX(F14,Hfin/1))+MAX(0,MIN(G14,Hdéb/1)-Hfin/1)))))) -> 0.09375 | J14: =IFERROR(IF(WEEKDAY($C14)=1,SUM($H8:$H14)+SUM($I8:$I14),""),"") -> 2.25 | K14: =IFERROR(J14*24-L14-M14,"") -> 35 | L14: =IFERROR(IF(J14*24<=$L$7,0,IF(AND(J14*24>$L$7,M14<>""),J14*24-$L$7-M14,J14*24-$L$7)),"") -> 8 | M14: =IFERROR(IF(J14*24>$L$7,IF(AND(J14*24>$L$7,J14*24<=$M$7),0,J14*24-$L$7-($M$7-$L$7)),0),"") -> 11 | N14: =IF(C14="","",IF(COUNTIF(Fériés,$C14)>0,($H14+$I14)*24,0)) -> 0 | O14: =IFERROR(IF(C14="","",IF(AND(WEEKDAY($C14,1)=1,COUNTIF(Fériés,$C14)<>1),($H14+$I14)*24,0)),0) -> 3.25 | P14: =IFERROR(L14,0) -> 8 | Q14: =IFERROR(M14,0) -> 11 | R14: =IFERROR(IF(COUNTIF(Fériés,$C14)>0,($H14+$I14)*24,IF(WEEKDAY($C14)<>1,$I14*24,IF(COUNTIF(Fériés,$C14)>0,($H14+$I14)*0,IF(COUNTIF(Fériés,$C14)=WEEKDAY($C14)=1,0,($H14+$I14)*24)))),"") -> 3.25 | S14: =IFERROR(IF(WEEKDAY($C14)=1,SUM($P8:$P14)*1.25+SUM($Q8:$Q14)*1.5+SUM($R8:$R14)*2,""),"") -> 99.5
A15: =IFERROR(IF(WEEKDAY(C15,2)=7,WEEKNUM(C15,2),""),"") | B15: =IFERROR(CHOOSE(WEEKDAY(C15),"Dim","Lun","Mar","Mer","Jeu","Ven","Sam"),"") -> Lun | C15: =IF(MONTH(DATE($C$6,MONTH(1&$C$8),ROW()-8))=MONTH(1&$C$8),DATE($C$6,MONTH(1&$C$8),ROW()-8),"") -> 43472 | D15: 0.83333333 | E15: 0.92708333 | F15: 0.125 | G15: 0.33333333 | H15: =IF(C15="","",IF(AND(D15<>"",E15=""),0,MAX(0,MIN(E15+(E15<D15),Hdéb)-MAX(Hfin,D15))+MAX(0,MIN(Hdéb+1,E15+(E15<D15))-MAX(Hfin+1,D15)))+IF(AND(F15<>"",G15=""),0,MAX(0,MIN(G15+(G15<F15),Hdéb)- MAX(Hfin,F15))+MAX(0,MIN(Hdéb+1,G15+(G15<F15))-MAX(Hfin+1,F15)))) -> 0.041666667 | I15: =IF(C15="","",IF(OR(D15="",E15=""),0,IF(AND(D15<>"",E15<>"",MOD(D15-E15,1)=0),MOD(Hfin-Hdéb,1),(MOD(E15-D15,1)-IF(E15>D15,MAX(0,MIN(E15,Hdéb/1)-MAX(D15,Hfin/1)),MAX(0,Hdéb/1-MAX(D15,Hfin/1))+MAX(0,MIN(E15,Hdéb/1)-Hfin/1)))))+IF(OR(F15="",G15=""),0,IF(AND(F15<>"",G15<>"",MOD(F15-G15,1)=0),MOD(Hfin-Hdéb,1),(MOD(G15-F15,1)-IF(G15>F15,MAX(0,MIN(G15,Hdéb/1)-MAX(F15,Hfin/1)),MAX(0,Hdéb/1-MAX(F15,Hfin/1))+MAX(0,MIN(G15,Hdéb/1)-Hfin/1)))))) -> 0.26041667 | J15: =IFERROR(IF(WEEKDAY($C15)=1,SUM($H9:$H15)+SUM($I9:$I15),""),"") | K15: =IFERROR(J15*24-L15-M15,"") | L15: =IFERROR(IF(J15*24<=$L$7,0,IF(AND(J15*24>$L$7,M15<>""),J15*24-$L$7-M15,J15*24-$L$7)),"") | M15: =IFERROR(IF(J15*24>$L$7,IF(AND(J15*24>$L$7,J15*24<=$M$7),0,J15*24-$L$7-($M$7-$L$7)),0),"") | N15: =IF(C15="","",IF(COUNTIF(Fériés,$C15)>0,($H15+$I15)*24,0)) -> 0 | O15: =IFERROR(IF(C15="","",IF(AND(WEEKDAY($C15,1)=1,COUNTIF(Fériés,$C15)<>1),($H15+$I15)*24,0)),0) -> 0 | P15: =IFERROR(L15,0) | Q15: =IFERROR(M15,0) | R15: =IFERROR(IF(COUNTIF(Fériés,$C15)>0,($H15+$I15)*24,IF(WEEKDAY($C15)<>1,$I15*24,IF(COUNTIF(Fériés,$C15)>0,($H15+$I15)*0,IF(COUNTIF(Fériés,$C15)=WEEKDAY($C15)=1,0,($H15+$I15)*24)))),"") -> 6.25 | S15: =IFERROR(IF(WEEKDAY($C15)=1,SUM($P9:$P15)*1.25+SUM($Q9:$Q15)*1.5+SUM($R9:$R15)*2,""),"")
A16: =IFERROR(IF(WEEKDAY(C16,2)=7,WEEKNUM(C16,2),""),"") | B16: =IFERROR(CHOOSE(WEEKDAY(C16),"Dim","Lun","Mar","Mer","Jeu","Ven","Sam"),"") -> Mar | C16: =IF(MONTH(DATE($C$6,MONTH(1&$C$8),ROW()-8))=MONTH(1&$C$8),DATE($C$6,MONTH(1&$C$8),ROW()-8),"") -> 43473 | D16: 0.79166667 | E16: 0.92708333 | H16: =IF(C16="","",IF(AND(D16<>"",E16=""),0,MAX(0,MIN(E16+(E16<D16),Hdéb)-MAX(Hfin,D16))+MAX(0,MIN(Hdéb+1,E16+(E16<D16))-MAX(Hfin+1,D16)))+IF(AND(F16<>"",G16=""),0,MAX(0,MIN(G16+(G16<F16),Hdéb)- MAX(Hfin,F16))+MAX(0,MIN(Hdéb+1,G16+(G16<F16))-MAX(Hfin+1,F16)))) -> 0.041666667 | I16: =IF(C16="","",IF(OR(D16="",E16=""),0,IF(AND(D16<>"",E16<>"",MOD(D16-E16,1)=0),MOD(Hfin-Hdéb,1),(MOD(E16-D16,1)-IF(E16>D16,MAX(0,MIN(E16,Hdéb/1)-MAX(D16,Hfin/1)),MAX(0,Hdéb/1-MAX(D16,Hfin/1))+MAX(0,MIN(E16,Hdéb/1)-Hfin/1)))))+IF(OR(F16="",G16=""),0,IF(AND(F16<>"",G16<>"",MOD(F16-G16,1)=0),MOD(Hfin-Hdéb,1),(MOD(G16-F16,1)-IF(G16>F16,MAX(0,MIN(G16,Hdéb/1)-MAX(F16,Hfin/1)),MAX(0,Hdéb/1-MAX(F16,Hfin/1))+MAX(0,MIN(G16,Hdéb/1)-Hfin/1)))))) -> 0.09375 | J16: =IFERROR(IF(WEEKDAY($C16)=1,SUM($H10:$H16)+SUM($I10:$I16),""),"") | K16: =IFERROR(J16*24-L16-M16,"") | L16: =IFERROR(IF(J16*24<=$L$7,0,IF(AND(J16*24>$L$7,M16<>""),J16*24-$L$7-M16,J16*24-$L$7)),"") | M16: =IFERROR(IF(J16*24>$L$7,IF(AND(J16*24>$L$7,J16*24<=$M$7),0,J16*24-$L$7-($M$7-$L$7)),0),"") | N16: =IF(C16="","",IF(COUNTIF(Fériés,$C16)>0,($H16+$I16)*24,0)) -> 0 | O16: =IFERROR(IF(C16="","",IF(AND(WEEKDAY($C16,1)=1,COUNTIF(Fériés,$C16)<>1),($H16+$I16)*24,0)),0) -> 0 | P16: =IFERROR(L16,0) | Q16: =IFERROR(M16,0) | R16: =IFERROR(IF(COUNTIF(Fériés,$C16)>0,($H16+$I16)*24,IF(WEEKDAY($C16)<>1,$I16*24,IF(COUNTIF(Fériés,$C16)>0,($H16+$I16)*0,IF(COUNTIF(Fériés,$C16)=WEEKDAY($C16)=1,0,($H16+$I16)*24)))),"") -> 2.25 | S16: =IFERROR(IF(WEEKDAY($C16)=1,SUM($P10:$P16)*1.25+SUM($Q10:$Q16)*1.5+SUM($R10:$R16)*2,""),"")
A17: =IFERROR(IF(WEEKDAY(C17,2)=7,WEEKNUM(C17,2),""),"") | B17: =IFERROR(CHOOSE(WEEKDAY(C17),"Dim","Lun","Mar","Mer","Jeu","Ven","Sam"),"") -> Mer | C17: =IF(MONTH(DATE($C$6,MONTH(1&$C$8),ROW()-8))=MONTH(1&$C$8),DATE($C$6,MONTH(1&$C$8),ROW()-8),"") -> 43474 | D17: 0.83333333 | E17: 0.375 | H17: =IF(C17="","",IF(AND(D17<>"",E17=""),0,MAX(0,MIN(E17+(E17<D17),Hdéb)-MAX(Hfin,D17))+MAX(0,MIN(Hdéb+1,E17+(E17<D17))-MAX(Hfin+1,D17)))+IF(AND(F17<>"",G17=""),0,MAX(0,MIN(G17+(G17<F17),Hdéb)- MAX(Hfin,F17))+MAX(0,MIN(Hdéb+1,G17+(G17<F17))-MAX(Hfin+1,F17)))) -> 0.083333333 | I17: =IF(C17="","",IF(OR(D17="",E17=""),0,IF(AND(D17<>"",E17<>"",MOD(D17-E17,1)=0),MOD(Hfin-Hdéb,1),(MOD(E17-D17,1)-IF(E17>D17,MAX(0,MIN(E17,Hdéb/1)-MAX(D17,Hfin/1)),MAX(0,Hdéb/1-MAX(D17,Hfin/1))+MAX(0,MIN(E17,Hdéb/1)-Hfin/1)))))+IF(OR(F17="",G17=""),0,IF(AND(F17<>"",G17<>"",MOD(F17-G17,1)=0),MOD(Hfin-Hdéb,1),(MOD(G17-F17,1)-IF(G17>F17,MAX(0,MIN(G17,Hdéb/1)-MAX(F17,Hfin/1)),MAX(0,Hdéb/1-MAX(F17,Hfin/1))+MAX(0,MIN(G17,Hdéb/1)-Hfin/1)))))) -> 0.45833333 | J17: =IFERROR(IF(WEEKDAY($C17)=1,SUM($H11:$H17)+SUM($I11:$I17),""),"") | K17: =IFERROR(J17*24-L17-M17,"") | L17: =IFERROR(IF(J17*24<=$L$7,0,IF(AND(J17*24>$L$7,M17<>""),J17*24-$L$7-M17,J17*24-$L$7)),"") | M17: =IFERROR(IF(J17*24>$L$7,IF(AND(J17*24>$L$7,J17*24<=$M$7),0,J17*24-$L$7-($M$7-$L$7)),0),"") | N17: =IF(C17="","",IF(COUNTIF(Fériés,$C17)>0,($H17+$I17)*24,0)) -> 0 | O17: =IFERROR(IF(C17="","",IF(AND(WEEKDAY($C17,1)=1,COUNTIF(Fériés,$C17)<>1),($H17+$I17)*24,0)),0) -> 0 | P17: =IFERROR(L17,0) | Q17: =IFERROR(M17,0) | R17: =IFERROR(IF(COUNTIF(Fériés,$C17)>0,($H17+$I17)*24,IF(WEEKDAY($C17)<>1,$I17*24,IF(COUNTIF(Fériés,$C17)>0,($H17+$I17)*0,IF(COUNTIF(Fériés,$C17)=WEEKDAY($C17)=1,0,($H17+$I17)*24)))),"") -> 11 | S17: =IFERROR(IF(WEEKDAY($C17)=1,SUM($P11:$P17)*1.25+SUM($Q11:$Q17)*1.5+SUM($R11:$R17)*2,""),"")
A18: =IFERROR(IF(WEEKDAY(C18,2)=7,WEEKNUM(C18,2),""),"") | B18: =IFERROR(CHOOSE(WEEKDAY(C18),"Dim","Lun","Mar","Mer","Jeu","Ven","Sam"),"") -> Jeu | C18: =IF(MONTH(DATE($C$6,MONTH(1&$C$8),ROW()-8))=MONTH(1&$C$8),DATE($C$6,MONTH(1&$C$8),ROW()-8),"") -> 43475 | D18: 0.29166667 | E18: 0.375 | H18: =IF(C18="","",IF(AND(D18<>"",E18=""),0,MAX(0,MIN(E18+(E18<D18),Hdéb)-MAX(Hfin,D18))+MAX(0,MIN(Hdéb+1,E18+(E18<D18))-MAX(Hfin+1,D18)))+IF(AND(F18<>"",G18=""),0,MAX(0,MIN(G18+(G18<F18),Hdéb)- MAX(Hfin,F18))+MAX(0,MIN(Hdéb+1,G18+(G18<F18))-MAX(Hfin+1,F18)))) -> 0.083333333 | I18: =IF(C18="","",IF(OR(D18="",E18=""),0,IF(AND(D18<>"",E18<>"",MOD(D18-E18,1)=0),MOD(Hfin-Hdéb,1),(MOD(E18-D18,1)-IF(E18>D18,MAX(0,MIN(E18,Hdéb/1)-MAX(D18,Hfin/1)),MAX(0,Hdéb/1-MAX(D18,Hfin/1))+MAX(0,MIN(E18,Hdéb/1)-Hfin/1)))))+IF(OR(F18="",G18=""),0,IF(AND(F18<>"",G18<>"",MOD(F18-G18,1)=0),MOD(Hfin-Hdéb,1),(MOD(G18-F18,1)-IF(G18>F18,MAX(0,MIN(G18,Hdéb/1)-MAX(F18,Hfin/1)),MAX(0,Hdéb/1-MAX(F18,Hfin/1))+MAX(0,MIN(G18,Hdéb/1)-Hfin/1)))))) -> 0 | J18: =IFERROR(IF(WEEKDAY($C18)=1,SUM($H12:$H18)+SUM($I12:$I18),""),"") | K18: =IFERROR(J18*24-L18-M18,"") | L18: =IFERROR(IF(J18*24<=$L$7,0,IF(AND(J18*24>$L$7,M18<>""),J18*24-$L$7-M18,J18*24-$L$7)),"") | M18: =IFERROR(IF(J18*24>$L$7,IF(AND(J18*24>$L$7,J18*24<=$M$7),0,J18*24-$L$7-($M$7-$L$7)),0),"") | N18: =IF(C18="","",IF(COUNTIF(Fériés,$C18)>0,($H18+$I18)*24,0)) -> 0 | O18: =IFERROR(IF(C18="","",IF(AND(WEEKDAY($C18,1)=1,COUNTIF(Fériés,$C18)<>1),($H18+$I18)*24,0)),0) -> 0 | P18: =IFERROR(L18,0) | Q18: =IFERROR(M18,0) | R18: =IFERROR(IF(COUNTIF(Fériés,$C18)>0,($H18+$I18)*24,IF(WEEKDAY($C18)<>1,$I18*24,IF(COUNTIF(Fériés,$C18)>0,($H18+$I18)*0,IF(COUNTIF(Fériés,$C18)=WEEKDAY($C18)=1,0,($H18+$I18)*24)))),"") -> 0 | S18: =IFERROR(IF(WEEKDAY($C18)=1,SUM($P12:$P18)*1.25+SUM($Q12:$Q18)*1.5+SUM($R12:$R18)*2,""),"")
A19: =IFERROR(IF(WEEKDAY(C19,2)=7,WEEKNUM(C19,2),""),"") | B19: =IFERROR(CHOOSE(WEEKDAY(C19),"Dim","Lun","Mar","Mer","Jeu","Ven","Sam"),"") -> Ven | C19: =IF(MONTH(DATE($C$6,MONTH(1&$C$8),ROW()-8))=MONTH(1&$C$8),DATE($C$6,MONTH(1&$C$8),ROW()-8),"") -> 43476 | D19: 0.79166667 | E19: 0.375 | H19: =IF(C19="","",IF(AND(D19<>"",E19=""),0,MAX(0,MIN(E19+(E19<D19),Hdéb)-MAX(Hfin,D19))+MAX(0,MIN(Hdéb+1,E19+(E19<D19))-MAX(Hfin+1,D19)))+IF(AND(F19<>"",G19=""),0,MAX(0,MIN(G19+(G19<F19),Hdéb)- MAX(Hfin,F19))+MAX(0,MIN(Hdéb+1,G19+(G19<F19))-MAX(Hfin+1,F19)))) -> 0.125 | I19: =IF(C19="","",IF(OR(D19="",E19=""),0,IF(AND(D19<>"",E19<>"",MOD(D19-E19,1)=0),MOD(Hfin-Hdéb,1),(MOD(E19-D19,1)-IF(E19>D19,MAX(0,MIN(E19,Hdéb/1)-MAX(D19,Hfin/1)),MAX(0,Hdéb/1-MAX(D19,Hfin/1))+MAX(0,MIN(E19,Hdéb/1)-Hfin/1)))))+IF(OR(F19="",G19=""),0,IF(AND(F19<>"",G19<>"",MOD(F19-G19,1)=0),MOD(Hfin-Hdéb,1),(MOD(G19-F19,1)-IF(G19>F19,MAX(0,MIN(G19,Hdéb/1)-MAX(F19,Hfin/1)),MAX(0,Hdéb/1-MAX(F19,Hfin/1))+MAX(0,MIN(G19,Hdéb/1)-Hfin/1)))))) -> 0.45833333 | J19: =IFERROR(IF(WEEKDAY($C19)=1,SUM($H13:$H19)+SUM($I13:$I19),""),"") | K19: =IFERROR(J19*24-L19-M19,"") | L19: =IFERROR(IF(J19*24<=$L$7,0,IF(AND(J19*24>$L$7,M19<>""),J19*24-$L$7-M19,J19*24-$L$7)),"") | M19: =IFERROR(IF(J19*24>$L$7,IF(AND(J19*24>$L$7,J19*24<=$M$7),0,J19*24-$L$7-($M$7-$L$7)),0),"") | N19: =IF(C19="","",IF(COUNTIF(Fériés,$C19)>0,($H19+$I19)*24,0)) -> 0 | O19: =IFERROR(IF(C19="","",IF(AND(WEEKDAY($C19,1)=1,COUNTIF(Fériés,$C19)<>1),($H19+$I19)*24,0)),0) -> 0 | P19: =IFERROR(L19,0) | Q19: =IFERROR(M19,0) | R19: =IFERROR(IF(COUNTIF(Fériés,$C19)>0,($H19+$I19)*24,IF(WEEKDAY($C19)<>1,$I19*24,IF(COUNTIF(Fériés,$C19)>0,($H19+$I19)*0,IF(COUNTIF(Fériés,$C19)=WEEKDAY($C19)=1,0,($H19+$I19)*24)))),"") -> 11 | S19: =IFERROR(IF(WEEKDAY($C19)=1,SUM($P13:$P19)*1.25+SUM($Q13:$Q19)*1.5+SUM($R13:$R19)*2,""),"")
A20: =IFERROR(IF(WEEKDAY(C20,2)=7,WEEKNUM(C20,2),""),"") | B20: =IFERROR(CHOOSE(WEEKDAY(C20),"Dim","Lun","Mar","Mer","Jeu","Ven","Sam"),"") -> Sam | C20: =IF(MONTH(DATE($C$6,MONTH(1&$C$8),ROW()-8))=MONTH(1&$C$8),DATE($C$6,MONTH(1&$C$8),ROW()-8),"") -> 43477 | H20: =IF(C20="","",IF(AND(D20<>"",E20=""),0,MAX(0,MIN(E20+(E20<D20),Hdéb)-MAX(Hfin,D20))+MAX(0,MIN(Hdéb+1,E20+(E20<D20))-MAX(Hfin+1,D20)))+IF(AND(F20<>"",G20=""),0,MAX(0,MIN(G20+(G20<F20),Hdéb)- MAX(Hfin,F20))+MAX(0,MIN(Hdéb+1,G20+(G20<F20))-MAX(Hfin+1,F20)))) -> 0 | I20: =IF(C20="","",IF(OR(D20="",E20=""),0,IF(AND(D20<>"",E20<>"",MOD(D20-E20,1)=0),MOD(Hfin-Hdéb,1),(MOD(E20-D20,1)-IF(E20>D20,MAX(0,MIN(E20,Hdéb/1)-MAX(D20,Hfin/1)),MAX(0,Hdéb/1-MAX(D20,Hfin/1))+MAX(0,MIN(E20,Hdéb/1)-Hfin/1)))))+IF(OR(F20="",G20=""),0,IF(AND(F20<>"",G20<>"",MOD(F20-G20,1)=0),MOD(Hfin-Hdéb,1),(MOD(G20-F20,1)-IF(G20>F20,MAX(0,MIN(G20,Hdéb/1)-MAX(F20,Hfin/1)),MAX(0,Hdéb/1-MAX(F20,Hfin/1))+MAX(0,MIN(G20,Hdéb/1)-Hfin/1)))))) -> 0 | J20: =IFERROR(IF(WEEKDAY($C20)=1,SUM($H14:$H20)+SUM($I14:$I20),""),"") | K20: =IFERROR(J20*24-L20-M20,"") | L20: =IFERROR(IF(J20*24<=$L$7,0,IF(AND(J20*24>$L$7,M20<>""),J20*24-$L$7-M20,J20*24-$L$7)),"") | M20: =IFERROR(IF(J20*24>$L$7,IF(AND(J20*24>$L$7,J20*24<=$M$7),0,J20*24-$L$7-($M$7-$L$7)),0),"") | N20: =IF(C20="","",IF(COUNTIF(Fériés,$C20)>0,($H20+$I20)*24,0)) -> 0 | O20: =IFERROR(IF(C20="","",IF(AND(WEEKDAY($C20,1)=1,COUNTIF(Fériés,$C20)<>1),($H20+$I20)*24,0)),0) -> 0 | P20: =IFERROR(L20,0) | Q20: =IFERROR(M20,0) | R20: =IFERROR(IF(COUNTIF(Fériés,$C20)>0,($H20+$I20)*24,IF(WEEKDAY($C20)<>1,$I20*24,IF(COUNTIF(Fériés,$C20)>0,($H20+$I20)*0,IF(COUNTIF(Fériés,$C20)=WEEKDAY($C20)=1,0,($H20+$I20)*24)))),"") -> 0 | S20: =IFERROR(IF(WEEKDAY($C20)=1,SUM($P14:$P20)*1.25+SUM($Q14:$Q20)*1.5+SUM($R14:$R20)*2,""),"")
A21: =IFERROR(IF(WEEKDAY(C21,2)=7,WEEKNUM(C21,2),""),"") -> 2 | B21: =IFERROR(CHOOSE(WEEKDAY(C21),"Dim","Lun","Mar","Mer","Jeu","Ven","Sam"),"") -> Dim | C21: =IF(MONTH(DATE($C$6,MONTH(1&$C$8),ROW()-8))=MONTH(1&$C$8),DATE($C$6,MONTH(1&$C$8),ROW()-8),"") -> 43478 | H21: =IF(C21="","",IF(AND(D21<>"",E21=""),0,MAX(0,MIN(E21+(E21<D21),Hdéb)-MAX(Hfin,D21))+MAX(0,MIN(Hdéb+1,E21+(E21<D21))-MAX(Hfin+1,D21)))+IF(AND(F21<>"",G21=""),0,MAX(0,MIN(G21+(G21<F21),Hdéb)- MAX(Hfin,F21))+MAX(0,MIN(Hdéb+1,G21+(G21<F21))-MAX(Hfin+1,F21)))) -> 0 | I21: =IF(C21="","",IF(OR(D21="",E21=""),0,IF(AND(D21<>"",E21<>"",MOD(D21-E21,1)=0),MOD(Hfin-Hdéb,1),(MOD(E21-D21,1)-IF(E21>D21,MAX(0,MIN(E21,Hdéb/1)-MAX(D21,Hfin/1)),MAX(0,Hdéb/1-MAX(D21,Hfin/1))+MAX(0,MIN(E21,Hdéb/1)-Hfin/1)))))+IF(OR(F21="",G21=""),0,IF(AND(F21<>"",G21<>"",MOD(F21-G21,1)=0),MOD(Hfin-Hdéb,1),(MOD(G21-F21,1)-IF(G21>F21,MAX(0,MIN(G21,Hdéb/1)-MAX(F21,Hfin/1)),MAX(0,Hdéb/1-MAX(F21,Hfin/1))+MAX(0,MIN(G21,Hdéb/1)-Hfin/1)))))) -> 0 | J21: =IFERROR(IF(WEEKDAY($C21)=1,SUM($H15:$H21)+SUM($I15:$I21),""),"") -> 1.6458333 | K21: =IFERROR(J21*24-L21-M21,"") -> 35 | L21: =IFERROR(IF(J21*24<=$L$7,0,IF(AND(J21*24>$L$7,M21<>""),J21*24-$L$7-M21,J21*24-$L$7)),"") -> 4.5 | M21: =IFERROR(IF(J21*24>$L$7,IF(AND(J21*24>$L$7,J21*24<=$M$7),0,J21*24-$L$7-($M$7-$L$7)),0),"") -> 0 | N21: =IF(C21="","",IF(COUNTIF(Fériés,$C21)>0,($H21+$I21)*24,0)) -> 0 | O21: =IFERROR(IF(C21="","",IF(AND(WEEKDAY($C21,1)=1,COUNTIF(Fériés,$C21)<>1),($H21+$I21)*24,0)),0) -> 0 | P21: =IFERROR(L21,0) -> 4.5 | Q21: =IFERROR(M21,0) -> 0 | R21: =IFERROR(IF(COUNTIF(Fériés,$C21)>0,($H21+$I21)*24,IF(WEEKDAY($C21)<>1,$I21*24,IF(COUNTIF(Fériés,$C21)>0,($H21+$I21)*0,IF(COUNTIF(Fériés,$C21)=WEEKDAY($C21)=1,0,($H21+$I21)*24)))),"") -> 0 | S21: =IFERROR(IF(WEEKDAY($C21)=1,SUM($P15:$P21)*1.25+SUM($Q15:$Q21)*1.5+SUM($R15:$R21)*2,""),"") -> 66.625
A22: =IFERROR(IF(WEEKDAY(C22,2)=7,WEEKNUM(C22,2),""),"") | B22: =IFERROR(CHOOSE(WEEKDAY(C22),"Dim","Lun","Mar","Mer","Jeu","Ven","Sam"),"") -> Lun | C22: =IF(MONTH(DATE($C$6,MONTH(1&$C$8),ROW()-8))=MONTH(1&$C$8),DATE($C$6,MONTH(1&$C$8),ROW()-8),"") -> 43479 | H22: =IF(C22="","",IF(AND(D22<>"",E22=""),0,MAX(0,MIN(E22+(E22<D22),Hdéb)-MAX(Hfin,D22))+MAX(0,MIN(Hdéb+1,E22+(E22<D22))-MAX(Hfin+1,D22)))+IF(AND(F22<>"",G22=""),0,MAX(0,MIN(G22+(G22<F22),Hdéb)- MAX(Hfin,F22))+MAX(0,MIN(Hdéb+1,G22+(G22<F22))-MAX(Hfin+1,F22)))) -> 0 | I22: =IF(C22="","",IF(OR(D22="",E22=""),0,IF(AND(D22<>"",E22<>"",MOD(D22-E22,1)=0),MOD(Hfin-Hdéb,1),(MOD(E22-D22,1)-IF(E22>D22,MAX(0,MIN(E22,Hdéb/1)-MAX(D22,Hfin/1)),MAX(0,Hdéb/1-MAX(D22,Hfin/1))+MAX(0,MIN(E22,Hdéb/1)-Hfin/1)))))+IF(OR(F22="",G22=""),0,IF(AND(F22<>"",G22<>"",MOD(F22-G22,1)=0),MOD(Hfin-Hdéb,1),(MOD(G22-F22,1)-IF(G22>F22,MAX(0,MIN(G22,Hdéb/1)-MAX(F22,Hfin/1)),MAX(0,Hdéb/1-MAX(F22,Hfin/1))+MAX(0,MIN(G22,Hdéb/1)-Hfin/1)))))) -> 0 | J22: =IFERROR(IF(WEEKDAY($C22)=1,SUM($H16:$H22)+SUM($I16:$I22),""),"") | K22: =IFERROR(J22*24-L22-M22,"") | L22: =IFERROR(IF(J22*24<=$L$7,0,IF(AND(J22*24>$L$7,M22<>""),J22*24-$L$7-M22,J22*24-$L$7)),"") | M22: =IFERROR(IF(J22*24>$L$7,IF(AND(J22*24>$L$7,J22*24<=$M$7),0,J22*24-$L$7-($M$7-$L$7)),0),"") | N22: =IF(C22="","",IF(COUNTIF(Fériés,$C22)>0,($H22+$I22)*24,0)) -> 0 | O22: =IFERROR(IF(C22="","",IF(AND(WEEKDAY($C22,1)=1,COUNTIF(Fériés,$C22)<>1),($H22+$I22)*24,0)),0) -> 0 | P22: =IFERROR(L22,0) | Q22: =IFERROR(M22,0) | R22: =IFERROR(IF(COUNTIF(Fériés,$C22)>0,($H22+$I22)*24,IF(WEEKDAY($C22)<>1,$I22*24,IF(COUNTIF(Fériés,$C22)>0,($H22+$I22)*0,IF(COUNTIF(Fériés,$C22)=WEEKDAY($C22)=1,0,($H22+$I22)*24)))),"") -> 0 | S22: =IFERROR(IF(WEEKDAY($C22)=1,SUM($P16:$P22)*1.25+SUM($Q16:$Q22)*1.5+SUM($R16:$R22)*2,""),"")
A23: =IFERROR(IF(WEEKDAY(C23,2)=7,WEEKNUM(C23,2),""),"") | B23: =IFERROR(CHOOSE(WEEKDAY(C23),"Dim","Lun","Mar","Mer","Jeu","Ven","Sam"),"") -> Mar | C23: =IF(MONTH(DATE($C$6,MONTH(1&$C$8),ROW()-8))=MONTH(1&$C$8),DATE($C$6,MONTH(1&$C$8),ROW()-8),"") -> 43480 | D23: 0.80347222 | E23: 0 | F23: 0.25 | G23: 0.43263889 | H23: =IF(C23="","",IF(AND(D23<>"",E23=""),0,MAX(0,MIN(E23+(E23<D23),Hdéb)-MAX(Hfin,D23))+MAX(0,MIN(Hdéb+1,E23+(E23<D23))-MAX(Hfin+1,D23)))+IF(AND(F23<>"",G23=""),0,MAX(0,MIN(G23+(G23<F23),Hdéb)- MAX(Hfin,F23))+MAX(0,MIN(Hdéb+1,G23+(G23<F23))-MAX(Hfin+1,F23)))) -> 0.17083333 | I23: =IF(C23="","",IF(OR(D23="",E23=""),0,IF(AND(D23<>"",E23<>"",MOD(D23-E23,1)=0),MOD(Hfin-Hdéb,1),(MOD(E23-D23,1)-IF(E23>D23,MAX(0,MIN(E23,Hdéb/1)-MAX(D23,Hfin/1)),MAX(0,Hdéb/1-MAX(D23,Hfin/1))+MAX(0,MIN(E23,Hdéb/1)-Hfin/1)))))+IF(OR(F23="",G23=""),0,IF(AND(F23<>"",G23<>"",MOD(F23-G23,1)=0),MOD(Hfin-Hdéb,1),(MOD(G23-F23,1)-IF(G23>F23,MAX(0,MIN(G23,Hdéb/1)-MAX(F23,Hfin/1)),MAX(0,Hdéb/1-MAX(F23,Hfin/1))+MAX(0,MIN(G23,Hdéb/1)-Hfin/1)))))) -> 0.20833333 | J23: =IFERROR(IF(WEEKDAY($C23)=1,SUM($H17:$H23)+SUM($I17:$I23),""),"") | K23: =IFERROR(J23*24-L23-M23,"") | L23: =IFERROR(IF(J23*24<=$L$7,0,IF(AND(J23*24>$L$7,M23<>""),J23*24-$L$7-M23,J23*24-$L$7)),"") | M23: =IFERROR(IF(J23*24>$L$7,IF(AND(J23*24>$L$7,J23*24<=$M$7),0,J23*24-$L$7-($M$7-$L$7)),0),"") | N23: =IF(C23="","",IF(COUNTIF(Fériés,$C23)>0,($H23+$I23)*24,0)) -> 0 | O23: =IFERROR(IF(C23="","",IF(AND(WEEKDAY($C23,1)=1,COUNTIF(Fériés,$C23)<>1),($H23+$I23)*24,0)),0) -> 0 | P23: =IFERROR(L23,0) | Q23: =IFERROR(M23,0) | R23: =IFERROR(IF(COUNTIF(Fériés,$C23)>0,($H23+$I23)*24,IF(WEEKDAY($C23)<>1,$I23*24,IF(COUNTIF(Fériés,$C23)>0,($H23+$I23)*0,IF(COUNTIF(Fériés,$C23)=WEEKDAY($C23)=1,0,($H23+$I23)*24)))),"") -> 5 | S23: =IFERROR(IF(WEEKDAY($C23)=1,SUM($P17:$P23)*1.25+SUM($Q17:$Q23)*1.5+SUM($R17:$R23)*2,""),"")
A24: =IFERROR(IF(WEEKDAY(C24,2)=7,WEEKNUM(C24,2),""),"") | B24: =IFERROR(CHOOSE(WEEKDAY(C24),"Dim","Lun","Mar","Mer","Jeu","Ven","Sam"),"") -> Mer | C24: =IF(MONTH(DATE($C$6,MONTH(1&$C$8),ROW()-8))=MONTH(1&$C$8),DATE($C$6,MONTH(1&$C$8),ROW()-8),"") -> 43481 | H24: =IF(C24="","",IF(AND(D24<>"",E24=""),0,MAX(0,MIN(E24+(E24<D24),Hdéb)-MAX(Hfin,D24))+MAX(0,MIN(Hdéb+1,E24+(E24<D24))-MAX(Hfin+1,D24)))+IF(AND(F24<>"",G24=""),0,MAX(0,MIN(G24+(G24<F24),Hdéb)- MAX(Hfin,F24))+MAX(0,MIN(Hdéb+1,G24+(G24<F24))-MAX(Hfin+1,F24)))) -> 0 | I24: =IF(C24="","",IF(OR(D24="",E24=""),0,IF(AND(D24<>"",E24<>"",MOD(D24-E24,1)=0),MOD(Hfin-Hdéb,1),(MOD(E24-D24,1)-IF(E24>D24,MAX(0,MIN(E24,Hdéb/1)-MAX(D24,Hfin/1)),MAX(0,Hdéb/1-MAX(D24,Hfin/1))+MAX(0,MIN(E24,Hdéb/1)-Hfin/1)))))+IF(OR(F24="",G24=""),0,IF(AND(F24<>"",G24<>"",MOD(F24-G24,1)=0),MOD(Hfin-Hdéb,1),(MOD(G24-F24,1)-IF(G24>F24,MAX(0,MIN(G24,Hdéb/1)-MAX(F24,Hfin/1)),MAX(0,Hdéb/1-MAX(F24,Hfin/1))+MAX(0,MIN(G24,Hdéb/1)-Hfin/1)))))) -> 0 | J24: =IFERROR(IF(WEEKDAY($C24)=1,SUM($H18:$H24)+SUM($I18:$I24),""),"") | K24: =IFERROR(J24*24-L24-M24,"") | L24: =IFERROR(IF(J24*24<=$L$7,0,IF(AND(J24*24>$L$7,M24<>""),J24*24-$L$7-M24,J24*24-$L$7)),"") | M24: =IFERROR(IF(J24*24>$L$7,IF(AND(J24*24>$L$7,J24*24<=$M$7),0,J24*24-$L$7-($M$7-$L$7)),0),"") | N24: =IF(C24="","",IF(COUNTIF(Fériés,$C24)>0,($H24+$I24)*24,0)) -> 0 | O24: =IFERROR(IF(C24="","",IF(AND(WEEKDAY($C24,1)=1,COUNTIF(Fériés,$C24)<>1),($H24+$I24)*24,0)),0) -> 0 | P24: =IFERROR(L24,0) | Q24: =IFERROR(M24,0) | R24: =IFERROR(IF(COUNTIF(Fériés,$C24)>0,($H24+$I24)*24,IF(WEEKDAY($C24)<>1,$I24*24,IF(COUNTIF(Fériés,$C24)>0,($H24+$I24)*0,IF(COUNTIF(Fériés,$C24)=WEEKDAY($C24)=1,0,($H24+$I24)*24)))),"") -> 0 | S24: =IFERROR(IF(WEEKDAY($C24)=1,SUM($P18:$P24)*1.25+SUM($Q18:$Q24)*1.5+SUM($R18:$R24)*2,""),"")
A25: =IFERROR(IF(WEEKDAY(C25,2)=7,WEEKNUM(C25,2),""),"") | B25: =IFERROR(CHOOSE(WEEKDAY(C25),"Dim","Lun","Mar","Mer","Jeu","Ven","Sam"),"") -> Jeu | C25: =IF(MONTH(DATE($C$6,MONTH(1&$C$8),ROW()-8))=MONTH(1&$C$8),DATE($C$6,MONTH(1&$C$8),ROW()-8),"") -> 43482 | H25: =IF(C25="","",IF(AND(D25<>"",E25=""),0,MAX(0,MIN(E25+(E25<D25),Hdéb)-MAX(Hfin,D25))+MAX(0,MIN(Hdéb+1,E25+(E25<D25))-MAX(Hfin+1,D25)))+IF(AND(F25<>"",G25=""),0,MAX(0,MIN(G25+(G25<F25),Hdéb)- MAX(Hfin,F25))+MAX(0,MIN(Hdéb+1,G25+(G25<F25))-MAX(Hfin+1,F25)))) -> 0 | I25: =IF(C25="","",IF(OR(D25="",E25=""),0,IF(AND(D25<>"",E25<>"",MOD(D25-E25,1)=0),MOD(Hfin-Hdéb,1),(MOD(E25-D25,1)-IF(E25>D25,MAX(0,MIN(E25,Hdéb/1)-MAX(D25,Hfin/1)),MAX(0,Hdéb/1-MAX(D25,Hfin/1))+MAX(0,MIN(E25,Hdéb/1)-Hfin/1)))))+IF(OR(F25="",G25=""),0,IF(AND(F25<>"",G25<>"",MOD(F25-G25,1)=0),MOD(Hfin-Hdéb,1),(MOD(G25-F25,1)-IF(G25>F25,MAX(0,MIN(G25,Hdéb/1)-MAX(F25,Hfin/1)),MAX(0,Hdéb/1-MAX(F25,Hfin/1))+MAX(0,MIN(G25,Hdéb/1)-Hfin/1)))))) -> 0 | J25: =IFERROR(IF(WEEKDAY($C25)=1,SUM($H19:$H25)+SUM($I19:$I25),""),"") | K25: =IFERROR(J25*24-L25-M25,"") | L25: =IFERROR(IF(J25*24<=$L$7,0,IF(AND(J25*24>$L$7,M25<>""),J25*24-$L$7-M25,J25*24-$L$7)),"") | M25: =IFERROR(IF(J25*24>$L$7,IF(AND(J25*24>$L$7,J25*24<=$M$7),0,J25*24-$L$7-($M$7-$L$7)),0),"") | N25: =IF(C25="","",IF(COUNTIF(Fériés,$C25)>0,($H25+$I25)*24,0)) -> 0 | O25: =IFERROR(IF(C25="","",IF(AND(WEEKDAY($C25,1)=1,COUNTIF(Fériés,$C25)<>1),($H25+$I25)*24,0)),0) -> 0 | P25: =IFERROR(L25,0) | Q25: =IFERROR(M25,0) | R25: =IFERROR(IF(COUNTIF(Fériés,$C25)>0,($H25+$I25)*24,IF(WEEKDAY($C25)<>1,$I25*24,IF(COUNTIF(Fériés,$C25)>0,($H25+$I25)*0,IF(COUNTIF(Fériés,$C25)=WEEKDAY($C25)=1,0,($H25+$I25)*24)))),"") -> 0 | S25: =IFERROR(IF(WEEKDAY($C25)=1,SUM($P19:$P25)*1.25+SUM($Q19:$Q25)*1.5+SUM($R19:$R25)*2,""),"")
A26: =IFERROR(IF(WEEKDAY(C26,2)=7,WEEKNUM(C26,2),""),"") | B26: =IFERROR(CHOOSE(WEEKDAY(C26),"Dim","Lun","Mar","Mer","Jeu","Ven","Sam"),"") -> Ven | C26: =IF(MONTH(DATE($C$6,MONTH(1&$C$8),ROW()-8))=MONTH(1&$C$8),DATE($C$6,MONTH(1&$C$8),ROW()-8),"") -> 43483 | H26: =IF(C26="","",IF(AND(D26<>"",E26=""),0,MAX(0,MIN(E26+(E26<D26),Hdéb)-MAX(Hfin,D26))+MAX(0,MIN(Hdéb+1,E26+(E26<D26))-MAX(Hfin+1,D26)))+IF(AND(F26<>"",G26=""),0,MAX(0,MIN(G26+(G26<F26),Hdéb)- MAX(Hfin,F26))+MAX(0,MIN(Hdéb+1,G26+(G26<F26))-MAX(Hfin+1,F26)))) -> 0 | I26: =IF(C26="","",IF(OR(D26="",E26=""),0,IF(AND(D26<>"",E26<>"",MOD(D26-E26,1)=0),MOD(Hfin-Hdéb,1),(MOD(E26-D26,1)-IF(E26>D26,MAX(0,MIN(E26,Hdéb/1)-MAX(D26,Hfin/1)),MAX(0,Hdéb/1-MAX(D26,Hfin/1))+MAX(0,MIN(E26,Hdéb/1)-Hfin/1)))))+IF(OR(F26="",G26=""),0,IF(AND(F26<>"",G26<>"",MOD(F26-G26,1)=0),MOD(Hfin-Hdéb,1),(MOD(G26-F26,1)-IF(G26>F26,MAX(0,MIN(G26,Hdéb/1)-MAX(F26,Hfin/1)),MAX(0,Hdéb/1-MAX(F26,Hfin/1))+MAX(0,MIN(G26,Hdéb/1)-Hfin/1)))))) -> 0 | J26: =IFERROR(IF(WEEKDAY($C26)=1,SUM($H20:$H26)+SUM($I20:$I26),""),"") | K26: =IFERROR(J26*24-L26-M26,"") | L26: =IFERROR(IF(J26*24<=$L$7,0,IF(AND(J26*24>$L$7,M26<>""),J26*24-$L$7-M26,J26*24-$L$7)),"") | M26: =IFERROR(IF(J26*24>$L$7,IF(AND(J26*24>$L$7,J26*24<=$M$7),0,J26*24-$L$7-($M$7-$L$7)),0),"") | N26: =IF(C26="","",IF(COUNTIF(Fériés,$C26)>0,($H26+$I26)*24,0)) -> 0 | O26: =IFERROR(IF(C26="","",IF(AND(WEEKDAY($C26,1)=1,COUNTIF(Fériés,$C26)<>1),($H26+$I26)*24,0)),0) -> 0 | P26: =IFERROR(L26,0) | Q26: =IFERROR(M26,0) | R26: =IFERROR(IF(COUNTIF(Fériés,$C26)>0,($H26+$I26)*24,IF(WEEKDAY($C26)<>1,$I26*24,IF(COUNTIF(Fériés,$C26)>0,($H26+$I26)*0,IF(COUNTIF(Fériés,$C26)=WEEKDAY($C26)=1,0,($H26+$I26)*24)))),"") -> 0 | S26: =IFERROR(IF(WEEKDAY($C26)=1,SUM($P20:$P26)*1.25+SUM($Q20:$Q26)*1.5+SUM($R20:$R26)*2,""),"")
A27: =IFERROR(IF(WEEKDAY(C27,2)=7,WEEKNUM(C27,2),""),"") | B27: =IFERROR(CHOOSE(WEEKDAY(C27),"Dim","Lun","Mar","Mer","Jeu","Ven","Sam"),"") -> Sam | C27: =IF(MONTH(DATE($C$6,MONTH(1&$C$8),ROW()-8))=MONTH(1&$C$8),DATE($C$6,MONTH(1&$C$8),ROW()-8),"") -> 43484 | H27: =IF(C27="","",IF(AND(D27<>"",E27=""),0,MAX(0,MIN(E27+(E27<D27),Hdéb)-MAX(Hfin,D27))+MAX(0,MIN(Hdéb+1,E27+(E27<D27))-MAX(Hfin+1,D27)))+IF(AND(F27<>"",G27=""),0,MAX(0,MIN(G27+(G27<F27),Hdéb)- MAX(Hfin,F27))+MAX(0,MIN(Hdéb+1,G27+(G27<F27))-MAX(Hfin+1,F27)))) -> 0 | I27: =IF(C27="","",IF(OR(D27="",E27=""),0,IF(AND(D27<>"",E27<>"",MOD(D27-E27,1)=0),MOD(Hfin-Hdéb,1),(MOD(E27-D27,1)-IF(E27>D27,MAX(0,MIN(E27,Hdéb/1)-MAX(D27,Hfin/1)),MAX(0,Hdéb/1-MAX(D27,Hfin/1))+MAX(0,MIN(E27,Hdéb/1)-Hfin/1)))))+IF(OR(F27="",G27=""),0,IF(AND(F27<>"",G27<>"",MOD(F27-G27,1)=0),MOD(Hfin-Hdéb,1),(MOD(G27-F27,1)-IF(G27>F27,MAX(0,MIN(G27,Hdéb/1)-MAX(F27,Hfin/1)),MAX(0,Hdéb/1-MAX(F27,Hfin/1))+MAX(0,MIN(G27,Hdéb/1)-Hfin/1)))))) -> 0 | J27: =IFERROR(IF(WEEKDAY($C27)=1,SUM($H21:$H27)+SUM($I21:$I27),""),"") | K27: =IFERROR(J27*24-L27-M27,"") | L27: =IFERROR(IF(J27*24<=$L$7,0,IF(AND(J27*24>$L$7,M27<>""),J27*24-$L$7-M27,J27*24-$L$7)),"") | M27: =IFERROR(IF(J27*24>$L$7,IF(AND(J27*24>$L$7,J27*24<=$M$7),0,J27*24-$L$7-($M$7-$L$7)),0),"") | N27: =IF(C27="","",IF(COUNTIF(Fériés,$C27)>0,($H27+$I27)*24,0)) -> 0 | O27: =IFERROR(IF(C27="","",IF(AND(WEEKDAY($C27,1)=1,COUNTIF(Fériés,$C27)<>1),($H27+$I27)*24,0)),0) -> 0 | P27: =IFERROR(L27,0) | Q27: =IFERROR(M27,0) | R27: =IFERROR(IF(COUNTIF(Fériés,$C27)>0,($H27+$I27)*24,IF(WEEKDAY($C27)<>1,$I27*24,IF(COUNTIF(Fériés,$C27)>0,($H27+$I27)*0,IF(COUNTIF(Fériés,$C27)=WEEKDAY($C27)=1,0,($H27+$I27)*24)))),"") -> 0 | S27: =IFERROR(IF(WEEKDAY($C27)=1,SUM($P21:$P27)*1.25+SUM($Q21:$Q27)*1.5+SUM($R21:$R27)*2,""),"")
A28: =IFERROR(IF(WEEKDAY(C28,2)=7,WEEKNUM(C28,2),""),"") -> 3 | B28: =IFERROR(CHOOSE(WEEKDAY(C28),"Dim","Lun","Mar","Mer","Jeu","Ven","Sam"),"") -> Dim | C28: =IF(MONTH(DATE($C$6,MONTH(1&$C$8),ROW()-8))=MONTH(1&$C$8),DATE($C$6,MONTH(1&$C$8),ROW()-8),"") -> 43485 | H28: =IF(C28="","",IF(AND(D28<>"",E28=""),0,MAX(0,MIN(E28+(E28<D28),Hdéb)-MAX(Hfin,D28))+MAX(0,MIN(Hdéb+1,E28+(E28<D28))-MAX(Hfin+1,D28)))+IF(AND(F28<>"",G28=""),0,MAX(0,MIN(G28+(G28<F28),Hdéb)- MAX(Hfin,F28))+MAX(0,MIN(Hdéb+1,G28+(G28<F28))-MAX(Hfin+1,F28)))) -> 0 | I28: =IF(C28="","",IF(OR(D28="",E28=""),0,IF(AND(D28<>"",E28<>"",MOD(D28-E28,1)=0),MOD(Hfin-Hdéb,1),(MOD(E28-D28,1)-IF(E28>D28,MAX(0,MIN(E28,Hdéb/1)-MAX(D28,Hfin/1)),MAX(0,Hdéb/1-MAX(D28,Hfin/1))+MAX(0,MIN(E28,Hdéb/1)-Hfin/1)))))+IF(OR(F28="",G28=""),0,IF(AND(F28<>"",G28<>"",MOD(F28-G28,1)=0),MOD(Hfin-Hdéb,1),(MOD(G28-F28,1)-IF(G28>F28,MAX(0,MIN(G28,Hdéb/1)-MAX(F28,Hfin/1)),MAX(0,Hdéb/1-MAX(F28,Hfin/1))+MAX(0,MIN(G28,Hdéb/1)-Hfin/1)))))) -> 0 | J28: =IFERROR(IF(WEEKDAY($C28)=1,SUM($H22:$H28)+SUM($I22:$I28),""),"") -> 0.37916667 | K28: =IFERROR(J28*24-L28-M28,"") -> 9.1 | L28: =IFERROR(IF(J28*24<=$L$7,0,IF(AND(J28*24>$L$7,M28<>""),J28*24-$L$7-M28,J28*24-$L$7)),"") -> 0 | M28: =IFERROR(IF(J28*24>$L$7,IF(AND(J28*24>$L$7,J28*24<=$M$7),0,J28*24-$L$7-($M$7-$L$7)),0),"") -> 0 | N28: =IF(C28="","",IF(COUNTIF(Fériés,$C28)>0,($H28+$I28)*24,0)) -> 0 | O28: =IFERROR(IF(C28="","",IF(AND(WEEKDAY($C28,1)=1,COUNTIF(Fériés,$C28)<>1),($H28+$I28)*24,0)),0) -> 0 | P28: =IFERROR(L28,0) -> 0 | Q28: =IFERROR(M28,0) -> 0 | R28: =IFERROR(IF(COUNTIF(Fériés,$C28)>0,($H28+$I28)*24,IF(WEEKDAY($C28)<>1,$I28*24,IF(COUNTIF(Fériés,$C28)>0,($H28+$I28)*0,IF(COUNTIF(Fériés,$C28)=WEEKDAY($C28)=1,0,($H28+$I28)*24)))),"") -> 0 | S28: =IFERROR(IF(WEEKDAY($C28)=1,SUM($P22:$P28)*1.25+SUM($Q22:$Q28)*1.5+SUM($R22:$R28)*2,""),"") -> 10
A29: =IFERROR(IF(WEEKDAY(C29,2)=7,WEEKNUM(C29,2),""),"") | B29: =IFERROR(CHOOSE(WEEKDAY(C29),"Dim","Lun","Mar","Mer","Jeu","Ven","Sam"),"") -> Lun | C29: =IF(MONTH(DATE($C$6,MONTH(1&$C$8),ROW()-8))=MONTH(1&$C$8),DATE($C$6,MONTH(1&$C$8),ROW()-8),"") -> 43486 | H29: =IF(C29="","",IF(AND(D29<>"",E29=""),0,MAX(0,MIN(E29+(E29<D29),Hdéb)-MAX(Hfin,D29))+MAX(0,MIN(Hdéb+1,E29+(E29<D29))-MAX(Hfin+1,D29)))+IF(AND(F29<>"",G29=""),0,MAX(0,MIN(G29+(G29<F29),Hdéb)- MAX(Hfin,F29))+MAX(0,MIN(Hdéb+1,G29+(G29<F29))-MAX(Hfin+1,F29)))) -> 0 | I29: =IF(C29="","",IF(OR(D29="",E29=""),0,IF(AND(D29<>"",E29<>"",MOD(D29-E29,1)=0),MOD(Hfin-Hdéb,1),(MOD(E29-D29,1)-IF(E29>D29,MAX(0,MIN(E29,Hdéb/1)-MAX(D29,Hfin/1)),MAX(0,Hdéb/1-MAX(D29,Hfin/1))+MAX(0,MIN(E29,Hdéb/1)-Hfin/1)))))+IF(OR(F29="",G29=""),0,IF(AND(F29<>"",G29<>"",MOD(F29-G29,1)=0),MOD(Hfin-Hdéb,1),(MOD(G29-F29,1)-IF(G29>F29,MAX(0,MIN(G29,Hdéb/1)-MAX(F29,Hfin/1)),MAX(0,Hdéb/1-MAX(F29,Hfin/1))+MAX(0,MIN(G29,Hdéb/1)-Hfin/1)))))) -> 0 | J29: =IFERROR(IF(WEEKDAY($C29)=1,SUM($H23:$H29)+SUM($I23:$I29),""),"") | K29: =IFERROR(J29*24-L29-M29,"") | L29: =IFERROR(IF(J29*24<=$L$7,0,IF(AND(J29*24>$L$7,M29<>""),J29*24-$L$7-M29,J29*24-$L$7)),"") | M29: =IFERROR(IF(J29*24>$L$7,IF(AND(J29*24>$L$7,J29*24<=$M$7),0,J29*24-$L$7-($M$7-$L$7)),0),"") | N29: =IF(C29="","",IF(COUNTIF(Fériés,$C29)>0,($H29+$I29)*24,0)) -> 0 | O29: =IFERROR(IF(C29="","",IF(AND(WEEKDAY($C29,1)=1,COUNTIF(Fériés,$C29)<>1),($H29+$I29)*24,0)),0) -> 0 | P29: =IFERROR(L29,0) | Q29: =IFERROR(M29,0) | R29: =IFERROR(IF(COUNTIF(Fériés,$C29)>0,($H29+$I29)*24,IF(WEEKDAY($C29)<>1,$I29*24,IF(COUNTIF(Fériés,$C29)>0,($H29+$I29)*0,IF(COUNTIF(Fériés,$C29)=WEEKDAY($C29)=1,0,($H29+$I29)*24)))),"") -> 0 | S29: =IFERROR(IF(WEEKDAY($C29)=1,SUM($P23:$P29)*1.25+SUM($Q23:$Q29)*1.5+SUM($R23:$R29)*2,""),"")
A30: =IFERROR(IF(WEEKDAY(C30,2)=7,WEEKNUM(C30,2),""),"") | B30: =IFERROR(CHOOSE(WEEKDAY(C30),"Dim","Lun","Mar","Mer","Jeu","Ven","Sam"),"") -> Mar | C30: =IF(MONTH(DATE($C$6,MONTH(1&$C$8),ROW()-8))=MONTH(1&$C$8),DATE($C$6,MONTH(1&$C$8),ROW()-8),"") -> 43487 | H30: =IF(C30="","",IF(AND(D30<>"",E30=""),0,MAX(0,MIN(E30+(E30<D30),Hdéb)-MAX(Hfin,D30))+MAX(0,MIN(Hdéb+1,E30+(E30<D30))-MAX(Hfin+1,D30)))+IF(AND(F30<>"",G30=""),0,MAX(0,MIN(G30+(G30<F30),Hdéb)- MAX(Hfin,F30))+MAX(0,MIN(Hdéb+1,G30+(G30<F30))-MAX(Hfin+1,F30)))) -> 0 | I30: =IF(C30="","",IF(OR(D30="",E30=""),0,IF(AND(D30<>"",E30<>"",MOD(D30-E30,1)=0),MOD(Hfin-Hdéb,1),(MOD(E30-D30,1)-IF(E30>D30,MAX(0,MIN(E30,Hdéb/1)-MAX(D30,Hfin/1)),MAX(0,Hdéb/1-MAX(D30,Hfin/1))+MAX(0,MIN(E30,Hdéb/1)-Hfin/1)))))+IF(OR(F30="",G30=""),0,IF(AND(F30<>"",G30<>"",MOD(F30-G30,1)=0),MOD(Hfin-Hdéb,1),(MOD(G30-F30,1)-IF(G30>F30,MAX(0,MIN(G30,Hdéb/1)-MAX(F30,Hfin/1)),MAX(0,Hdéb/1-MAX(F30,Hfin/1))+MAX(0,MIN(G30,Hdéb/1)-Hfin/1)))))) -> 0 | J30: =IFERROR(IF(WEEKDAY($C30)=1,SUM($H24:$H30)+SUM($I24:$I30),""),"") | K30: =IFERROR(J30*24-L30-M30,"") | L30: =IFERROR(IF(J30*24<=$L$7,0,IF(AND(J30*24>$L$7,M30<>""),J30*24-$L$7-M30,J30*24-$L$7)),"") | M30: =IFERROR(IF(J30*24>$L$7,IF(AND(J30*24>$L$7,J30*24<=$M$7),0,J30*24-$L$7-($M$7-$L$7)),0),"") | N30: =IF(C30="","",IF(COUNTIF(Fériés,$C30)>0,($H30+$I30)*24,0)) -> 0 | O30: =IFERROR(IF(C30="","",IF(AND(WEEKDAY($C30,1)=1,COUNTIF(Fériés,$C30)<>1),($H30+$I30)*24,0)),0) -> 0 | P30: =IFERROR(L30,0) | Q30: =IFERROR(M30,0) | R30: =IFERROR(IF(COUNTIF(Fériés,$C30)>0,($H30+$I30)*24,IF(WEEKDAY($C30)<>1,$I30*24,IF(COUNTIF(Fériés,$C30)>0,($H30+$I30)*0,IF(COUNTIF(Fériés,$C30)=WEEKDAY($C30)=1,0,($H30+$I30)*24)))),"") -> 0 | S30: =IFERROR(IF(WEEKDAY($C30)=1,SUM($P24:$P30)*1.25+SUM($Q24:$Q30)*1.5+SUM($R24:$R30)*2,""),"")
A31: =IFERROR(IF(WEEKDAY(C31,2)=7,WEEKNUM(C31,2),""),"") | B31: =IFERROR(CHOOSE(WEEKDAY(C31),"Dim","Lun","Mar","Mer","Jeu","Ven","Sam"),"") -> Mer | C31: =IF(MONTH(DATE($C$6,MONTH(1&$C$8),ROW()-8))=MONTH(1&$C$8),DATE($C$6,MONTH(1&$C$8),ROW()-8),"") -> 43488 | H31: =IF(C31="","",IF(AND(D31<>"",E31=""),0,MAX(0,MIN(E31+(E31<D31),Hdéb)-MAX(Hfin,D31))+MAX(0,MIN(Hdéb+1,E31+(E31<D31))-MAX(Hfin+1,D31)))+IF(AND(F31<>"",G31=""),0,MAX(0,MIN(G31+(G31<F31),Hdéb)- MAX(Hfin,F31))+MAX(0,MIN(Hdéb+1,G31+(G31<F31))-MAX(Hfin+1,F31)))) -> 0 | I31: =IF(C31="","",IF(OR(D31="",E31=""),0,IF(AND(D31<>"",E31<>"",MOD(D31-E31,1)=0),MOD(Hfin-Hdéb,1),(MOD(E31-D31,1)-IF(E31>D31,MAX(0,MIN(E31,Hdéb/1)-MAX(D31,Hfin/1)),MAX(0,Hdéb/1-MAX(D31,Hfin/1))+MAX(0,MIN(E31,Hdéb/1)-Hfin/1)))))+IF(OR(F31="",G31=""),0,IF(AND(F31<>"",G31<>"",MOD(F31-G31,1)=0),MOD(Hfin-Hdéb,1),(MOD(G31-F31,1)-IF(G31>F31,MAX(0,MIN(G31,Hdéb/1)-MAX(F31,Hfin/1)),MAX(0,Hdéb/1-MAX(F31,Hfin/1))+MAX(0,MIN(G31,Hdéb/1)-Hfin/1)))))) -> 0 | J31: =IFERROR(IF(WEEKDAY($C31)=1,SUM($H25:$H31)+SUM($I25:$I31),""),"") | K31: =IFERROR(J31*24-L31-M31,"") | L31: =IFERROR(IF(J31*24<=$L$7,0,IF(AND(J31*24>$L$7,M31<>""),J31*24-$L$7-M31,J31*24-$L$7)),"") | M31: =IFERROR(IF(J31*24>$L$7,IF(AND(J31*24>$L$7,J31*24<=$M$7),0,J31*24-$L$7-($M$7-$L$7)),0),"") | N31: =IF(C31="","",IF(COUNTIF(Fériés,$C31)>0,($H31+$I31)*24,0)) -> 0 | O31: =IFERROR(IF(C31="","",IF(AND(WEEKDAY($C31,1)=1,COUNTIF(Fériés,$C31)<>1),($H31+$I31)*24,0)),0) -> 0 | P31: =IFERROR(L31,0) | Q31: =IFERROR(M31,0) | R31: =IFERROR(IF(COUNTIF(Fériés,$C31)>0,($H31+$I31)*24,IF(WEEKDAY($C31)<>1,$I31*24,IF(COUNTIF(Fériés,$C31)>0,($H31+$I31)*0,IF(COUNTIF(Fériés,$C31)=WEEKDAY($C31)=1,0,($H31+$I31)*24)))),"") -> 0 | S31: =IFERROR(IF(WEEKDAY($C31)=1,SUM($P25:$P31)*1.25+SUM($Q25:$Q31)*1.5+SUM($R25:$R31)*2,""),"")
A32: =IFERROR(IF(WEEKDAY(C32,2)=7,WEEKNUM(C32,2),""),"") | B32: =IFERROR(CHOOSE(WEEKDAY(C32),"Dim","Lun","Mar","Mer","Jeu","Ven","Sam"),"") -> Jeu | C32: =IF(MONTH(DATE($C$6,MONTH(1&$C$8),ROW()-8))=MONTH(1&$C$8),DATE($C$6,MONTH(1&$C$8),ROW()-8),"") -> 43489 | H32: =IF(C32="","",IF(AND(D32<>"",E32=""),0,MAX(0,MIN(E32+(E32<D32),Hdéb)-MAX(Hfin,D32))+MAX(0,MIN(Hdéb+1,E32+(E32<D32))-MAX(Hfin+1,D32)))+IF(AND(F32<>"",G32=""),0,MAX(0,MIN(G32+(G32<F32),Hdéb)- MAX(Hfin,F32))+MAX(0,MIN(Hdéb+1,G32+(G32<F32))-MAX(Hfin+1,F32)))) -> 0 | I32: =IF(C32="","",IF(OR(D32="",E32=""),0,IF(AND(D32<>"",E32<>"",MOD(D32-E32,1)=0),MOD(Hfin-Hdéb,1),(MOD(E32-D32,1)-IF(E32>D32,MAX(0,MIN(E32,Hdéb/1)-MAX(D32,Hfin/1)),MAX(0,Hdéb/1-MAX(D32,Hfin/1))+MAX(0,MIN(E32,Hdéb/1)-Hfin/1)))))+IF(OR(F32="",G32=""),0,IF(AND(F32<>"",G32<>"",MOD(F32-G32,1)=0),MOD(Hfin-Hdéb,1),(MOD(G32-F32,1)-IF(G32>F32,MAX(0,MIN(G32,Hdéb/1)-MAX(F32,Hfin/1)),MAX(0,Hdéb/1-MAX(F32,Hfin/1))+MAX(0,MIN(G32,Hdéb/1)-Hfin/1)))))) -> 0 | J32: =IFERROR(IF(WEEKDAY($C32)=1,SUM($H26:$H32)+SUM($I26:$I32),""),"") | K32: =IFERROR(J32*24-L32-M32,"") | L32: =IFERROR(IF(J32*24<=$L$7,0,IF(AND(J32*24>$L$7,M32<>""),J32*24-$L$7-M32,J32*24-$L$7)),"") | M32: =IFERROR(IF(J32*24>$L$7,IF(AND(J32*24>$L$7,J32*24<=$M$7),0,J32*24-$L$7-($M$7-$L$7)),0),"") | N32: =IF(C32="","",IF(COUNTIF(Fériés,$C32)>0,($H32+$I32)*24,0)) -> 0 | O32: =IFERROR(IF(C32="","",IF(AND(WEEKDAY($C32,1)=1,COUNTIF(Fériés,$C32)<>1),($H32+$I32)*24,0)),0) -> 0 | P32: =IFERROR(L32,0) | Q32: =IFERROR(M32,0) | R32: =IFERROR(IF(COUNTIF(Fériés,$C32)>0,($H32+$I32)*24,IF(WEEKDAY($C32)<>1,$I32*24,IF(COUNTIF(Fériés,$C32)>0,($H32+$I32)*0,IF(COUNTIF(Fériés,$C32)=WEEKDAY($C32)=1,0,($H32+$I32)*24)))),"") -> 0 | S32: =IFERROR(IF(WEEKDAY($C32)=1,SUM($P26:$P32)*1.25+SUM($Q26:$Q32)*1.5+SUM($R26:$R32)*2,""),"")
A33: =IFERROR(IF(WEEKDAY(C33,2)=7,WEEKNUM(C33,2),""),"") | B33: =IFERROR(CHOOSE(WEEKDAY(C33),"Dim","Lun","Mar","Mer","Jeu","Ven","Sam"),"") -> Ven | C33: =IF(MONTH(DATE($C$6,MONTH(1&$C$8),ROW()-8))=MONTH(1&$C$8),DATE($C$6,MONTH(1&$C$8),ROW()-8),"") -> 43490 | H33: =IF(C33="","",IF(AND(D33<>"",E33=""),0,MAX(0,MIN(E33+(E33<D33),Hdéb)-MAX(Hfin,D33))+MAX(0,MIN(Hdéb+1,E33+(E33<D33))-MAX(Hfin+1,D33)))+IF(AND(F33<>"",G33=""),0,MAX(0,MIN(G33+(G33<F33),Hdéb)- MAX(Hfin,F33))+MAX(0,MIN(Hdéb+1,G33+(G33<F33))-MAX(Hfin+1,F33)))) -> 0 | I33: =IF(C33="","",IF(OR(D33="",E33=""),0,IF(AND(D33<>"",E33<>"",MOD(D33-E33,1)=0),MOD(Hfin-Hdéb,1),(MOD(E33-D33,1)-IF(E33>D33,MAX(0,MIN(E33,Hdéb/1)-MAX(D33,Hfin/1)),MAX(0,Hdéb/1-MAX(D33,Hfin/1))+MAX(0,MIN(E33,Hdéb/1)-Hfin/1)))))+IF(OR(F33="",G33=""),0,IF(AND(F33<>"",G33<>"",MOD(F33-G33,1)=0),MOD(Hfin-Hdéb,1),(MOD(G33-F33,1)-IF(G33>F33,MAX(0,MIN(G33,Hdéb/1)-MAX(F33,Hfin/1)),MAX(0,Hdéb/1-MAX(F33,Hfin/1))+MAX(0,MIN(G33,Hdéb/1)-Hfin/1)))))) -> 0 | J33: =IFERROR(IF(WEEKDAY($C33)=1,SUM($H27:$H33)+SUM($I27:$I33),""),"") | K33: =IFERROR(J33*24-L33-M33,"") | L33: =IFERROR(IF(J33*24<=$L$7,0,IF(AND(J33*24>$L$7,M33<>""),J33*24-$L$7-M33,J33*24-$L$7)),"") | M33: =IFERROR(IF(J33*24>$L$7,IF(AND(J33*24>$L$7,J33*24<=$M$7),0,J33*24-$L$7-($M$7-$L$7)),0),"") | N33: =IF(C33="","",IF(COUNTIF(Fériés,$C33)>0,($H33+$I33)*24,0)) -> 0 | O33: =IFERROR(IF(C33="","",IF(AND(WEEKDAY($C33,1)=1,COUNTIF(Fériés,$C33)<>1),($H33+$I33)*24,0)),0) -> 0 | P33: =IFERROR(L33,0) | Q33: =IFERROR(M33,0) | R33: =IFERROR(IF(COUNTIF(Fériés,$C33)>0,($H33+$I33)*24,IF(WEEKDAY($C33)<>1,$I33*24,IF(COUNTIF(Fériés,$C33)>0,($H33+$I33)*0,IF(COUNTIF(Fériés,$C33)=WEEKDAY($C33)=1,0,($H33+$I33)*24)))),"") -> 0 | S33: =IFERROR(IF(WEEKDAY($C33)=1,SUM($P27:$P33)*1.25+SUM($Q27:$Q33)*1.5+SUM($R27:$R33)*2,""),"")
A34: =IFERROR(IF(WEEKDAY(C34,2)=7,WEEKNUM(C34,2),""),"") | B34: =IFERROR(CHOOSE(WEEKDAY(C34),"Dim","Lun","Mar","Mer","Jeu","Ven","Sam"),"") -> Sam | C34: =IF(MONTH(DATE($C$6,MONTH(1&$C$8),ROW()-8))=MONTH(1&$C$8),DATE($C$6,MONTH(1&$C$8),ROW()-8),"") -> 43491 | D34: 0.33333333 | E34: 0.5 | H34: =IF(C34="","",IF(AND(D34<>"",E34=""),0,MAX(0,MIN(E34+(E34<D34),Hdéb)-MAX(Hfin,D34))+MAX(0,MIN(Hdéb+1,E34+(E34<D34))-MAX(Hfin+1,D34)))+IF(AND(F34<>"",G34=""),0,MAX(0,MIN(G34+(G34<F34),Hdéb)- MAX(Hfin,F34))+MAX(0,MIN(Hdéb+1,G34+(G34<F34))-MAX(Hfin+1,F34)))) -> 0.16666667 | I34: =IF(C34="","",IF(OR(D34="",E34=""),0,IF(AND(D34<>"",E34<>"",MOD(D34-E34,1)=0),MOD(Hfin-Hdéb,1),(MOD(E34-D34,1)-IF(E34>D34,MAX(0,MIN(E34,Hdéb/1)-MAX(D34,Hfin/1)),MAX(0,Hdéb/1-MAX(D34,Hfin/1))+MAX(0,MIN(E34,Hdéb/1)-Hfin/1)))))+IF(OR(F34="",G34=""),0,IF(AND(F34<>"",G34<>"",MOD(F34-G34,1)=0),MOD(Hfin-Hdéb,1),(MOD(G34-F34,1)-IF(G34>F34,MAX(0,MIN(G34,Hdéb/1)-MAX(F34,Hfin/1)),MAX(0,Hdéb/1-MAX(F34,Hfin/1))+MAX(0,MIN(G34,Hdéb/1)-Hfin/1)))))) -> 0 | J34: =IFERROR(IF(WEEKDAY($C34)=1,SUM($H28:$H34)+SUM($I28:$I34),""),"") | K34: =IFERROR(J34*24-L34-M34,"") | L34: =IFERROR(IF(J34*24<=$L$7,0,IF(AND(J34*24>$L$7,M34<>""),J34*24-$L$7-M34,J34*24-$L$7)),"") | M34: =IFERROR(IF(J34*24>$L$7,IF(AND(J34*24>$L$7,J34*24<=$M$7),0,J34*24-$L$7-($M$7-$L$7)),0),"") | N34: =IF(C34="","",IF(COUNTIF(Fériés,$C34)>0,($H34+$I34)*24,0)) -> 0 | O34: =IFERROR(IF(C34="","",IF(AND(WEEKDAY($C34,1)=1,COUNTIF(Fériés,$C34)<>1),($H34+$I34)*24,0)),0) -> 0 | P34: =IFERROR(L34,0) | Q34: =IFERROR(M34,0) | R34: =IFERROR(IF(COUNTIF(Fériés,$C34)>0,($H34+$I34)*24,IF(WEEKDAY($C34)<>1,$I34*24,IF(COUNTIF(Fériés,$C34)>0,($H34+$I34)*0,IF(COUNTIF(Fériés,$C34)=WEEKDAY($C34)=1,0,($H34+$I34)*24)))),"") -> 0 | S34: =IFERROR(IF(WEEKDAY($C34)=1,SUM($P28:$P34)*1.25+SUM($Q28:$Q34)*1.5+SUM($R28:$R34)*2,""),"")
A35: =IFERROR(IF(WEEKDAY(C35,2)=7,WEEKNUM(C35,2),""),"") -> 4 | B35: =IFERROR(CHOOSE(WEEKDAY(C35),"Dim","Lun","Mar","Mer","Jeu","Ven","Sam"),"") -> Dim | C35: =IF(MONTH(DATE($C$6,MONTH(1&$C$8),ROW()-8))=MONTH(1&$C$8),DATE($C$6,MONTH(1&$C$8),ROW()-8),"") -> 43492 | D35: 0.33333333 | E35: 0.5 | F35: 0.54166667 | G35: 0.91666667 | H35: =IF(C35="","",IF(AND(D35<>"",E35=""),0,MAX(0,MIN(E35+(E35<D35),Hdéb)-MAX(Hfin,D35))+MAX(0,MIN(Hdéb+1,E35+(E35<D35))-MAX(Hfin+1,D35)))+IF(AND(F35<>"",G35=""),0,MAX(0,MIN(G35+(G35<F35),Hdéb)- MAX(Hfin,F35))+MAX(0,MIN(Hdéb+1,G35+(G35<F35))-MAX(Hfin+1,F35)))) -> 0.45833333 | I35: =IF(C35="","",IF(OR(D35="",E35=""),0,IF(AND(D35<>"",E35<>"",MOD(D35-E35,1)=0),MOD(Hfin-Hdéb,1),(MOD(E35-D35,1)-IF(E35>D35,MAX(0,MIN(E35,Hdéb/1)-MAX(D35,Hfin/1)),MAX(0,Hdéb/1-MAX(D35,Hfin/1))+MAX(0,MIN(E35,Hdéb/1)-Hfin/1)))))+IF(OR(F35="",G35=""),0,IF(AND(F35<>"",G35<>"",MOD(F35-G35,1)=0),MOD(Hfin-Hdéb,1),(MOD(G35-F35,1)-IF(G35>F35,MAX(0,MIN(G35,Hdéb/1)-MAX(F35,Hfin/1)),MAX(0,Hdéb/1-MAX(F35,Hfin/1))+MAX(0,MIN(G35,Hdéb/1)-Hfin/1)))))) -> 0.083333333 | J35: =IFERROR(IF(WEEKDAY($C35)=1,SUM($H29:$H35)+SUM($I29:$I35),""),"") -> 0.70833333 | K35: =IFERROR(J35*24-L35-M35,"") -> 17 | L35: =IFERROR(IF(J35*24<=$L$7,0,IF(AND(J35*24>$L$7,M35<>""),J35*24-$L$7-M35,J35*24-$L$7)),"") -> 0 | M35: =IFERROR(IF(J35*24>$L$7,IF(AND(J35*24>$L$7,J35*24<=$M$7),0,J35*24-$L$7-($M$7-$L$7)),0),"") -> 0 | N35: =IF(C35="","",IF(COUNTIF(Fériés,$C35)>0,($H35+$I35)*24,0)) -> 0 | O35: =IFERROR(IF(C35="","",IF(AND(WEEKDAY($C35,1)=1,COUNTIF(Fériés,$C35)<>1),($H35+$I35)*24,0)),0) -> 13 | P35: =IFERROR(L35,0) -> 0 | Q35: =IFERROR(M35,0) -> 0 | R35: =IFERROR(IF(COUNTIF(Fériés,$C35)>0,($H35+$I35)*24,IF(WEEKDAY($C35)<>1,$I35*24,IF(COUNTIF(Fériés,$C35)>0,($H35+$I35)*0,IF(COUNTIF(Fériés,$C35)=WEEKDAY($C35)=1,0,($H35+$I35)*24)))),"") -> 13 | S35: =IFERROR(IF(WEEKDAY($C35)=1,SUM($P29:$P35)*1.25+SUM($Q29:$Q35)*1.5+SUM($R29:$R35)*2,""),"") -> 26
A36: =IFERROR(IF(WEEKDAY(C36,2)=7,WEEKNUM(C36,2),""),"") | B36: =IFERROR(CHOOSE(WEEKDAY(C36),"Dim","Lun","Mar","Mer","Jeu","Ven","Sam"),"") -> Lun | C36: =IF(MONTH(DATE($C$6,MONTH(1&$C$8),ROW()-8))=MONTH(1&$C$8),DATE($C$6,MONTH(1&$C$8),ROW()-8),"") -> 43493 | D36: 0.33333333 | E36: 0.5 | F36: 0.54166667 | G36: 0.91666667 | H36: =IF(C36="","",IF(AND(D36<>"",E36=""),0,MAX(0,MIN(E36+(E36<D36),Hdéb)-MAX(Hfin,D36))+MAX(0,MIN(Hdéb+1,E36+(E36<D36))-MAX(Hfin+1,D36)))+IF(AND(F36<>"",G36=""),0,MAX(0,MIN(G36+(G36<F36),Hdéb)- MAX(Hfin,F36))+MAX(0,MIN(Hdéb+1,G36+(G36<F36))-MAX(Hfin+1,F36)))) -> 0.45833333 | I36: =IF(C36="","",IF(OR(D36="",E36=""),0,IF(AND(D36<>"",E36<>"",MOD(D36-E36,1)=0),MOD(Hfin-Hdéb,1),(MOD(E36-D36,1)-IF(E36>D36,MAX(0,MIN(E36,Hdéb/1)-MAX(D36,Hfin/1)),MAX(0,Hdéb/1-MAX(D36,Hfin/1))+MAX(0,MIN(E36,Hdéb/1)-Hfin/1)))))+IF(OR(F36="",G36=""),0,IF(AND(F36<>"",G36<>"",MOD(F36-G36,1)=0),MOD(Hfin-Hdéb,1),(MOD(G36-F36,1)-IF(G36>F36,MAX(0,MIN(G36,Hdéb/1)-MAX(F36,Hfin/1)),MAX(0,Hdéb/1-MAX(F36,Hfin/1))+MAX(0,MIN(G36,Hdéb/1)-Hfin/1)))))) -> 0.083333333 | J36: =IFERROR(IF(WEEKDAY($C36)=1,SUM($H30:$H36)+SUM($I30:$I36),""),"") | K36: =IFERROR(J36*24-L36-M36,"") | L36: =IFERROR(IF(J36*24<=$L$7,0,IF(AND(J36*24>$L$7,M36<>""),J36*24-$L$7-M36,J36*24-$L$7)),"") | M36: =IFERROR(IF(J36*24>$L$7,IF(AND(J36*24>$L$7,J36*24<=$M$7),0,J36*24-$L$7-($M$7-$L$7)),0),"") | N36: =IF(C36="","",IF(COUNTIF(Fériés,$C36)>0,($H36+$I36)*24,0)) -> 0 | O36: =IFERROR(IF(C36="","",IF(AND(WEEKDAY($C36,1)=1,COUNTIF(Fériés,$C36)<>1),($H36+$I36)*24,0)),0) -> 0 | P36: =IFERROR(L36,0) | Q36: =IFERROR(M36,0) | R36: =IFERROR(IF(COUNTIF(Fériés,$C36)>0,($H36+$I36)*24,IF(WEEKDAY($C36)<>1,$I36*24,IF(COUNTIF(Fériés,$C36)>0,($H36+$I36)*0,IF(COUNTIF(Fériés,$C36)=WEEKDAY($C36)=1,0,($H36+$I36)*24)))),"") -> 2 | S36: =IFERROR(IF(WEEKDAY($C36)=1,SUM($P30:$P36)*1.25+SUM($Q30:$Q36)*1.5+SUM($R30:$R36)*2,""),"")
A37: =IFERROR(IF(WEEKDAY(C37,2)=7,WEEKNUM(C37,2),""),"") | B37: =IFERROR(CHOOSE(WEEKDAY(C37),"Dim","Lun","Mar","Mer","Jeu","Ven","Sam"),"") -> Mar | C37: =IF(MONTH(DATE($C$6,MONTH(1&$C$8),ROW()-8))=MONTH(1&$C$8),DATE($C$6,MONTH(1&$C$8),ROW()-8),"") -> 43494 | D37: 0.33333333 | E37: 0.5 | F37: 0.54166667 | G37: 0.91666667 | H37: =IF(C37="","",IF(AND(D37<>"",E37=""),0,MAX(0,MIN(E37+(E37<D37),Hdéb)-MAX(Hfin,D37))+MAX(0,MIN(Hdéb+1,E37+(E37<D37))-MAX(Hfin+1,D37)))+IF(AND(F37<>"",G37=""),0,MAX(0,MIN(G37+(G37<F37),Hdéb)- MAX(Hfin,F37))+MAX(0,MIN(Hdéb+1,G37+(G37<F37))-MAX(Hfin+1,F37)))) -> 0.45833333 | I37: =IF(C37="","",IF(OR(D37="",E37=""),0,IF(AND(D37<>"",E37<>"",MOD(D37-E37,1)=0),MOD(Hfin-Hdéb,1),(MOD(E37-D37,1)-IF(E37>D37,MAX(0,MIN(E37,Hdéb/1)-MAX(D37,Hfin/1)),MAX(0,Hdéb/1-MAX(D37,Hfin/1))+MAX(0,MIN(E37,Hdéb/1)-Hfin/1)))))+IF(OR(F37="",G37=""),0,IF(AND(F37<>"",G37<>"",MOD(F37-G37,1)=0),MOD(Hfin-Hdéb,1),(MOD(G37-F37,1)-IF(G37>F37,MAX(0,MIN(G37,Hdéb/1)-MAX(F37,Hfin/1)),MAX(0,Hdéb/1-MAX(F37,Hfin/1))+MAX(0,MIN(G37,Hdéb/1)-Hfin/1)))))) -> 0.083333333 | J37: =IFERROR(IF(WEEKDAY($C37)=1,SUM($H31:$H37)+SUM($I31:$I37),""),"") | K37: =IFERROR(J37*24-L37-M37,"") | L37: =IFERROR(IF(J37*24<=$L$7,0,IF(AND(J37*24>$L$7,M37<>""),J37*24-$L$7-M37,J37*24-$L$7)),"") | M37: =IFERROR(IF(J37*24>$L$7,IF(AND(J37*24>$L$7,J37*24<=$M$7),0,J37*24-$L$7-($M$7-$L$7)),0),"") | N37: =IF(C37="","",IF(COUNTIF(Fériés,$C37)>0,($H37+$I37)*24,0)) -> 0 | O37: =IFERROR(IF(C37="","",IF(AND(WEEKDAY($C37,1)=1,COUNTIF(Fériés,$C37)<>1),($H37+$I37)*24,0)),0) -> 0 | P37: =IFERROR(L37,0) | Q37: =IFERROR(M37,0) | R37: =IFERROR(IF(COUNTIF(Fériés,$C37)>0,($H37+$I37)*24,IF(WEEKDAY($C37)<>1,$I37*24,IF(COUNTIF(Fériés,$C37)>0,($H37+$I37)*0,IF(COUNTIF(Fériés,$C37)=WEEKDAY($C37)=1,0,($H37+$I37)*24)))),"") -> 2 | S37: =IFERROR(IF(WEEKDAY($C37)=1,SUM($P31:$P37)*1.25+SUM($Q31:$Q37)*1.5+SUM($R31:$R37)*2,""),"")
A38: =IFERROR(IF(WEEKDAY(C38,2)=7,WEEKNUM(C38,2),""),"") | B38: =IFERROR(CHOOSE(WEEKDAY(C38),"Dim","Lun","Mar","Mer","Jeu","Ven","Sam"),"") -> Mer | C38: =IF(MONTH(DATE($C$6,MONTH(1&$C$8),ROW()-8))=MONTH(1&$C$8),DATE($C$6,MONTH(1&$C$8),ROW()-8),"") -> 43495 | D38: 0.33333333 | E38: 0.5 | F38: 0.54166667 | G38: 0.25 | H38: =IF(C38="","",IF(AND(D38<>"",E38=""),0,MAX(0,MIN(E38+(E38<D38),Hdéb)-MAX(Hfin,D38))+MAX(0,MIN(Hdéb+1,E38+(E38<D38))-MAX(Hfin+1,D38)))+IF(AND(F38<>"",G38=""),0,MAX(0,MIN(G38+(G38<F38),Hdéb)- MAX(Hfin,F38))+MAX(0,MIN(Hdéb+1,G38+(G38<F38))-MAX(Hfin+1,F38)))) -> 0.45833333 | I38: =IF(C38="","",IF(OR(D38="",E38=""),0,IF(AND(D38<>"",E38<>"",MOD(D38-E38,1)=0),MOD(Hfin-Hdéb,1),(MOD(E38-D38,1)-IF(E38>D38,MAX(0,MIN(E38,Hdéb/1)-MAX(D38,Hfin/1)),MAX(0,Hdéb/1-MAX(D38,Hfin/1))+MAX(0,MIN(E38,Hdéb/1)-Hfin/1)))))+IF(OR(F38="",G38=""),0,IF(AND(F38<>"",G38<>"",MOD(F38-G38,1)=0),MOD(Hfin-Hdéb,1),(MOD(G38-F38,1)-IF(G38>F38,MAX(0,MIN(G38,Hdéb/1)-MAX(F38,Hfin/1)),MAX(0,Hdéb/1-MAX(F38,Hfin/1))+MAX(0,MIN(G38,Hdéb/1)-Hfin/1)))))) -> 0.41666667 | J38: =IFERROR(IF(WEEKDAY($C38)=1,SUM($H32:$H38)+SUM($I32:$I38),""),"") | K38: =IFERROR(J38*24-L38-M38,"") | L38: =IFERROR(IF(J38*24<=$L$7,0,IF(AND(J38*24>$L$7,M38<>""),J38*24-$L$7-M38,J38*24-$L$7)),"") | M38: =IFERROR(IF(J38*24>$L$7,IF(AND(J38*24>$L$7,J38*24<=$M$7),0,J38*24-$L$7-($M$7-$L$7)),0),"") | N38: =IF(C38="","",IF(COUNTIF(Fériés,$C38)>0,($H38+$I38)*24,0)) -> 0 | O38: =IFERROR(IF(C38="","",IF(AND(WEEKDAY($C38,1)=1,COUNTIF(Fériés,$C38)<>1),($H38+$I38)*24,0)),0) -> 0 | P38: =IFERROR(L38,0) | Q38: =IFERROR(M38,0) | R38: =IFERROR(IF(COUNTIF(Fériés,$C38)>0,($H38+$I38)*24,IF(WEEKDAY($C38)<>1,$I38*24,IF(COUNTIF(Fériés,$C38)>0,($H38+$I38)*0,IF(COUNTIF(Fériés,$C38)=WEEKDAY($C38)=1,0,($H38+$I38)*24)))),"") -> 10 | S38: =IFERROR(IF(WEEKDAY($C38)=1,SUM($P32:$P38)*1.25+SUM($Q32:$Q38)*1.5+SUM($R32:$R38)*2,""),"")
A39: =IFERROR(IF(WEEKDAY(C39,2)=7,WEEKNUM(C39,2),""),"") | B39: =IFERROR(CHOOSE(WEEKDAY(C39),"Dim","Lun","Mar","Mer","Jeu","Ven","Sam"),"") -> Jeu | C39: =IF(MONTH(DATE($C$6,MONTH(1&$C$8),ROW()-8))=MONTH(1&$C$8),DATE($C$6,MONTH(1&$C$8),ROW()-8),"") -> 43496 | D39: 0.33333333 | E39: 0.5 | F39: 0.54166667 | G39: 0.33333333 | H39: =IF(C39="","",IF(AND(D39<>"",E39=""),0,MAX(0,MIN(E39+(E39<D39),Hdéb)-MAX(Hfin,D39))+MAX(0,MIN(Hdéb+1,E39+(E39<D39))-MAX(Hfin+1,D39)))+IF(AND(F39<>"",G39=""),0,MAX(0,MIN(G39+(G39<F39),Hdéb)- MAX(Hfin,F39))+MAX(0,MIN(Hdéb+1,G39+(G39<F39))-MAX(Hfin+1,F39)))) -> 0.5 | I39: =IF(C39="","",IF(OR(D39="",E39=""),0,IF(AND(D39<>"",E39<>"",MOD(D39-E39,1)=0),MOD(Hfin-Hdéb,1),(MOD(E39-D39,1)-IF(E39>D39,MAX(0,MIN(E39,Hdéb/1)-MAX(D39,Hfin/1)),MAX(0,Hdéb/1-MAX(D39,Hfin/1))+MAX(0,MIN(E39,Hdéb/1)-Hfin/1)))))+IF(OR(F39="",G39=""),0,IF(AND(F39<>"",G39<>"",MOD(F39-G39,1)=0),MOD(Hfin-Hdéb,1),(MOD(G39-F39,1)-IF(G39>F39,MAX(0,MIN(G39,Hdéb/1)-MAX(F39,Hfin/1)),MAX(0,Hdéb/1-MAX(F39,Hfin/1))+MAX(0,MIN(G39,Hdéb/1)-Hfin/1)))))) -> 0.45833333 | J39: =IFERROR(IF(WEEKDAY($C39)=1,SUM($H33:$H39)+SUM($I33:$I39),""),"") | K39: =IFERROR(J39*24-L39-M39,"") | L39: =IFERROR(IF(J39*24<=$L$7,0,IF(AND(J39*24>$L$7,M39<>""),J39*24-$L$7-M39,J39*24-$L$7)),"") | M39: =IFERROR(IF(J39*24>$L$7,IF(AND(J39*24>$L$7,J39*24<=$M$7),0,J39*24-$L$7-($M$7-$L$7)),0),"") | N39: =IF(C39="","",IF(COUNTIF(Fériés,$C39)>0,($H39+$I39)*24,0)) -> 0 | O39: =IFERROR(IF(C39="","",IF(AND(WEEKDAY($C39,1)=1,COUNTIF(Fériés,$C39)<>1),($H39+$I39)*24,0)),0) -> 0 | P39: =IFERROR(L39,0) | Q39: =IFERROR(M39,0) | R39: =IFERROR(IF(COUNTIF(Fériés,$C39)>0,($H39+$I39)*24,IF(WEEKDAY($C39)<>1,$I39*24,IF(COUNTIF(Fériés,$C39)>0,($H39+$I39)*0,IF(COUNTIF(Fériés,$C39)=WEEKDAY($C39)=1,0,($H39+$I39)*24)))),"") -> 11 | S39: =IFERROR(IF(WEEKDAY($C39)=1,SUM($P33:$P39)*1.25+SUM($Q33:$Q39)*1.5+SUM($R33:$R39)*2,""),"")
