Workbook

Sheet Feuil1
C1: IDENTIFIANTS
C2: Totaux
C3: Code attributaire | D3: Code Ligne | E3: Heure début course | F3: Heure fin course | G3: Vt. | H3: Code lot | I3: Code sous lot | J3: Période /Jour | K3: n° de service agent
A5: 5A1 | C5: ROUILLARD | D5: LES | E5: 0.17013889 | F5: 0.19652778 | G5: 1 | H5: 5 | I5: 5A | J5: PS-LMJ | K5: 705 M
C6: ROUILLARD | D6: LES | E6: 0.17013889 | F6: 0.19652778 | G6: 1 | H6: 5 | I6: 5A | J6: PS-C | K6: 705 M
C7: ROUILLARD | D7: LES | E7: 0.17013889 | F7: 0.19652778 | G7: 1 | H7: 5 | I7: 5A | J7: PS-V | K7: 705 M
C8: ROUILLARD | D8: LES | E8: 0.17013889 | F8: 0.19652778 | G8: 1 | H8: 5 | I8: 5A | J8: VS-LMCJ | K8: 805 M
C9: ROUILLARD | D9: LES | E9: 0.17013889 | F9: 0.19652778 | G9: 1 | H9: 5 | I9: 5A | J9: VS-V | K9: 805 M
C10: ROUILLARD | D10: LES | E10: 0.17013889 | F10: 0.19652778 | G10: 1 | H10: 5 | I10: 5A | J10: ETE-LMCJ | K10: 905M
C11: ROUILLARD | D11: LES | E11: 0.17013889 | F11: 0.19652778 | G11: 1 | H11: 5 | I11: 5A | J11: ETE-V | K11: 905M
A12: 4A1 | C12: ROUILLARD | D12: M3 | E12: 0.21319444 | F12: 0.23888889 | G12: 1 | H12: 4 | I12: 4A | J12: PS-LMJ | K12: 702 M
A13: 4A12 | C13: ROUILLARD | D13: M3 | E13: 0.21319444 | F13: 0.23888889 | G13: 1 | H13: 4 | I13: 4A | J13: PS-C | K13: 702 M
C14: ROUILLARD | D14: M3 | E14: 0.21319444 | F14: 0.23888889 | G14: 1 | H14: 4 | I14: 4A | J14: PS-V | K14: 702 M
C15: ROUILLARD | D15: M3 | E15: 0.21319444 | F15: 0.23888889 | G15: 1 | H15: 4 | I15: 4A | J15: PS-S | K15: 702 M
C16: ROUILLARD | D16: M3 | E16: 0.21319444 | F16: 0.23888889 | G16: 1 | H16: 4 | I16: 4A | J16: VS-LMCJ | K16: 702 M
C17: ROUILLARD | D17: M3 | E17: 0.21319444 | F17: 0.23888889 | G17: 1 | H17: 4 | I17: 4A | J17: VS-V | K17: 702 M
C18: ROUILLARD | D18: M3 | E18: 0.21319444 | F18: 0.23888889 | G18: 1 | H18: 4 | I18: 4A | J18: VS-S | K18: 702 M
C19: ROUILLARD | D19: M3 | E19: 0.21319444 | F19: 0.23888889 | G19: 1 | H19: 4 | I19: 5D | J19: ETE-LMCJ | K19: 902M
C20: ROUILLARD | D20: M3 | E20: 0.21319444 | F20: 0.23888889 | G20: 1 | H20: 4 | I20: 5D | J20: ETE-V | K20: 902M
C21: ROUILLARD | D21: M3 | E21: 0.21319444 | F21: 0.23888889 | G21: 1 | H21: 4 | I21: 5D | J21: ETE-S | K21: 902M
A22: 2A1 | D22: M2 | E22: 0.21388889 | F22: 0.24166667 | G22: 12 | H22: 2 | I22: 2A | J22: PS-LMJ
A23: 5A2 | C23: ROUILLARD | D23: M2 | E23: 0.21388889 | F23: 0.24166667 | G23: 11 | H23: 5 | I23: 5A | J23: PS-LMJ | K23: 705 M
C24: ROUILLARD | D24: M2 | E24: 0.21388889 | F24: 0.24166667 | G24: 11 | H24: 5 | I24: 5A | J24: PS-C | K24: 705 M
A25: 2A12 | C25: ROUILLARD | D25: M2 | E25: 0.21388889 | F25: 0.24166667 | G25: 12 | H25: 2 | I25: 2A | J25: PS-C | K25: 701 M
C26: ROUILLARD | D26: M2 | E26: 0.21388889 | F26: 0.24166667 | G26: 11 | H26: 5 | I26: 5A | J26: PS-V | K26: 705 M
C27: ROUILLARD | D27: M2 | E27: 0.21388889 | F27: 0.24166667 | G27: 12 | H27: 2 | I27: 2A | J27: PS-V | K27: 701 M
C28: ROUILLARD | D28: M2 | E28: 0.21388889 | F28: 0.24166667 | G28: 11 | H28: 5 | I28: 5A | J28: PS-S | K28: 705 M
C29: ROUILLARD | D29: M2 | E29: 0.21388889 | F29: 0.24166667 | G29: 12 | H29: 2 | I29: 2A | J29: PS-S | K29: 701 M
C30: ROUILLARD | D30: M2 | E30: 0.21388889 | F30: 0.24166667 | G30: 12 | H30: 2 | I30: 2A | J30: VS-LMCJ | K30: 701 M
C31: ROUILLARD | D31: M2 | E31: 0.21388889 | F31: 0.24166667 | G31: 11 | H31: 5 | I31: 5A | J31: VS-LMCJ | K31: 805 M
C32: ROUILLARD | D32: M2 | E32: 0.21388889 | F32: 0.24166667 | G32: 11 | H32: 5 | I32: 5A | J32: VS-V | K32: 805 M
C33: ROUILLARD | D33: M2 | E33: 0.21388889 | F33: 0.24166667 | G33: 12 | H33: 2 | I33: 2A | J33: VS-V | K33: 701 M
C34: ROUILLARD | D34: M2 | E34: 0.21388889 | F34: 0.24166667 | G34: 12 | H34: 2 | I34: 2A | J34: VS-S | K34: 701 M
C35: ROUILLARD | D35: M2 | E35: 0.21388889 | F35: 0.24166667 | G35: 11 | H35: 5 | I35: 5A | J35: VS-S | K35: 705 M
C36: ROUILLARD | D36: M2 | E36: 0.21388889 | F36: 0.24166667 | G36: 11 | H36: 5 | I36: 5A | J36: ETE-LMCJ | K36: 905M
C37: ROUILLARD | D37: M2 | E37: 0.21388889 | F37: 0.24166667 | G37: 12 | H37: 2 | I37: 2A | J37: ETE-LMCJ | K37: 901M
... C41: ROUILLARD | D41: M2 | E41: 0.21388889 | F41: 0.24166667 | G41: 12 | H41: 2 | I41: 2A | J41: ETE-S | K41: 901M
A42: 6A1 | C42: ROUILLARD | D42: M1 | E42: 0.22222222 | F42: 0.24027778 | G42: 6 | H42: 6 | I42: 6A | J42: PS-LMJ | K42: 710 M
C43: ROUILLARD | D43: M1 | E43: 0.22222222 | F43: 0.24027778 | G43: 6 | H43: 6 | I43: 6A | J43: PS-C | K43: 710 M
C44: ROUILLARD | D44: M1 | E44: 0.22222222 | F44: 0.24027778 | G44: 6 | H44: 6 | I44: 6A | J44: PS-V | K44: 710 M
C45: ROUILLARD | D45: M1 | E45: 0.22222222 | F45: 0.24027778 | G45: 6 | H45: 6 | I45: 6A | J45: PS-S | K45: 710 M
C46: ROUILLARD | D46: M1 | E46: 0.22222222 | F46: 0.24027778 | G46: 6 | H46: 6 | I46: 6A | J46: VS-LMCJ | K46: 710 M
C47: ROUILLARD | D47: M1 | E47: 0.22222222 | F47: 0.24027778 | G47: 6 | H47: 6 | I47: 6A | J47: VS-V | K47: 710 M
C48: ROUILLARD | D48: M1 | E48: 0.22222222 | F48: 0.24027778 | G48: 6 | H48: 6 | I48: 6A | J48: VS-S | K48: 710 M
C49: ROUILLARD | D49: M1 | E49: 0.22222222 | F49: 0.24027778 | G49: 6 | H49: 6 | I49: 6A | J49: ETE-LMCJ | K49: 910M
C50: ROUILLARD | D50: M1 | E50: 0.22222222 | F50: 0.24027778 | G50: 6 | H50: 6 | I50: 6A | J50: ETE-V | K50: 910M
C51: ROUILLARD | D51: M1 | E51: 0.22222222 | F51: 0.24027778 | G51: 6 | H51: 6 | I51: 6A | J51: ETE-S | K51: 910M
C52: ROUILLARD | D52: B | E52: 0.25069444 | F52: 0.28055556 | G52: 1 | H52: 2 | I52: 2A | J52: PS-S | K52: 701 M
C53: ROUILLARD | D53: B | E53: 0.25069444 | F53: 0.28055556 | G53: 1 | H53: 2 | I53: 2A | J53: VS-LMCJ | K53: 701 M
C54: ROUILLARD | D54: B | E54: 0.25069444 | F54: 0.28055556 | G54: 1 | H54: 2 | I54: 2A | J54: VS-V | K54: 701 M
... C58: ROUILLARD | D58: B | E58: 0.25069444 | F58: 0.28055556 | G58: 1 | H58: 2 | I58: 2A | J58: ETE-S | K58: 901M
A59: 6A2 | C59: ROUILLARD | D59: A | E59: 0.25555556 | F59: 0.27430556 | G59: 1 | H59: 6 | I59: 6A | J59: PS-LMJ | K59: 710 M
C60: ROUILLARD | D60: A | E60: 0.25555556 | F60: 0.27430556 | G60: 1 | H60: 6 | I60: 6A | J60: PS-C | K60: 710 M
C61: ROUILLARD | D61: A | E61: 0.25555556 | F61: 0.27430556 | G61: 1 | H61: 6 | I61: 6A | J61: PS-V | K61: 710 M
C62: ROUILLARD | D62: E | E62: 0.25555556 | F62: 0.84444444 | G62: 1 | H62: 5 | I62: 5B | J62: ETE-LMCJ | K62: 906M-902M-906S
C63: ROUILLARD | D63: E | E63: 0.25555556 | F63: 0.84444444 | G63: 1 | H63: 5 | I63: 5B | J63: ETE-V | K63: 906M-902M-906S
C64: ROUILLARD | D64: E | E64: 0.25555556 | F64: 0.84444444 | G64: 1 | H64: 5 | I64: 5B | J64: ETE-S | K64: 906M-902M-906S
A65: 5C1 | C65: ROUILLARD | D65: S702 | E65: 0.26597222 | F65: 0.28611111 | G65: 1 | H65: 5 | I65: 5C | J65: PS-LMJ | K65: 707
C66: ROUILLARD | D66: S702 | E66: 0.26597222 | F66: 0.28611111 | G66: 1 | H66: 5 | I66: 5C | J66: PS-C | K66: 707
C67: ROUILLARD | D67: S702 | E67: 0.26597222 | F67: 0.28611111 | G67: 1 | H67: 5 | I67: 5C | J67: PS-V | K67: 707
C68: ROUILLARD | D68: E | E68: 0.27013889 | F68: 0.82708333 | G68: 2 | H68: 5 | I68: 5C | J68: ETE-LMCJ | K68: 907M / 907S
C69: ROUILLARD | D69: E | E69: 0.27013889 | F69: 0.82708333 | G69: 2 | H69: 5 | I69: 5C | J69: ETE-V | K69: 907M / 907S
C70: ROUILLARD | D70: E | E70: 0.27013889 | F70: 0.82708333 | G70: 2 | H70: 5 | I70: 5C | J70: ETE-S | K70: 907M-907S-901S
C71: ROUILLARD | D71: S108 | E71: 0.27291667 | F71: 0.28958333 | G71: 1 | H71: 6 | I71: 6E | J71: PS-V | K71: 714
A72: 6E1 | C72: ROUILLARD | D72: S108 | E72: 0.27291667 | F72: 0.28958333 | G72: 1 | H72: 6 | I72: 6E | J72: PS-LMJ | K72: 714
C73: ROUILLARD | D73: E | E73: 0.27430556 | F73: 0.80625 | G73: 3 | H73: 5 | I73: 5D | J73: ETE-LMCJ | K73: 902M-908S-903M
C74: ROUILLARD | D74: E | E74: 0.27430556 | F74: 0.80625 | G74: 3 | H74: 5 | I74: 5D | J74: ETE-V | K74: 902M-908S-903M
C75: ROUILLARD | D75: E | E75: 0.27430556 | F75: 0.74097222 | G75: 3 | H75: 5 | I75: 5D | J75: ETE-S | K75: 902M-901M-905M-907M
A76: 4A2 | C76: ROUILLARD | D76: 70 | E76: 0.27569444 | F76: 0.37708333 | G76: 1 | H76: 4 | I76: 4A | J76: PS-LMJ | K76: 702 M
A77: 4A13 | C77: ROUILLARD | D77: 70 | E77: 0.27569444 | F77: 0.37708333 | G77: 1 | H77: 4 | I77: 4A | J77: PS-C | K77: 702 M
C78: ROUILLARD | D78: 70 | E78: 0.27569444 | F78: 0.37708333 | G78: 1 | H78: 4 | I78: 4A | J78: PS-V | K78: 702 M
A79: 6C1 | C79: ROUILLARD | D79: TE11 | E79: 0.28263889 | F79: 0.31944444 | G79: 1 | H79: 6 | I79: 6C | J79: PS-LMJ | K79: 712
C80: ROUILLARD | D80: TE11 | E80: 0.28263889 | F80: 0.31944444 | G80: 1 | H80: 6 | I80: 6C | J80: PS-C | K80: 712
C81: ROUILLARD | D81: TE11 | E81: 0.28263889 | F81: 0.31944444 | G81: 1 | H81: 6 | I81: 6C | J81: PS-V | K81: 712
C82: ROUILLARD | D82: B | E82: 0.28472222 | F82: 0.41458333 | G82: 2 | H82: 6 | I82: 6A | J82: PS-S | K82: 710 M
C83: ROUILLARD | D83: B | E83: 0.28472222 | F83: 0.41458333 | G83: 2 | H83: 6 | I83: 6A | J83: VS-LMCJ | K83: 710 M
C84: ROUILLARD | D84: B | E84: 0.28472222 | F84: 0.41458333 | G84: 2 | H84: 6 | I84: 6A | J84: VS-V | K84: 710 M
C85: ROUILLARD | D85: B | E85: 0.28472222 | F85: 0.41458333 | G85: 2 | H85: 6 | I85: 6A | J85: VS-S | K85: 710 M
C86: ROUILLARD | D86: B | E86: 0.28472222 | F86: 0.41458333 | G86: 4 | H86: 6 | I86: 6A | J86: ETE-LMCJ | K86: 910M
C87: ROUILLARD | D87: B | E87: 0.28472222 | F87: 0.41458333 | G87: 4 | H87: 6 | I87: 6A | J87: ETE-V | K87: 910M
C88: ROUILLARD | D88: B | E88: 0.28472222 | F88: 0.41458333 | G88: 4 | H88: 6 | I88: 6A | J88: ETE-S | K88: 910M
A89: 10C1 | C89: ROUILLARD | D89: S502 | E89: 0.2875 | F89: 0.33888889 | G89: 1 | H89: 10 | I89: 10C | J89: PS-LMJ | K89: 722 CAT
C90: ROUILLARD | D90: S502 | E90: 0.2875 | F90: 0.33888889 | G90: 1 | H90: 10 | I90: 10C | J90: PS-C | K90: 722 CAT
C91: ROUILLARD | D91: S502 | E91: 0.2875 | F91: 0.33888889 | G91: 1 | H91: 10 | I91: 10C | J91: PS-V | K91: 722 CAT
A92: 6A3 | C92: ROUILLARD | D92: 60 | E92: 0.28819444 | F92: 0.30833333 | G92: 17 | H92: 6 | I92: 6A | J92: PS-LMJ | K92: 710 M
C93: ROUILLARD | D93: 60 | E93: 0.28819444 | F93: 0.30833333 | G93: 17 | H93: 6 | I93: 6A | J93: PS-C | K93: 710 M
C94: ROUILLARD | D94: 60 | E94: 0.28819444 | F94: 0.30833333 | G94: 17 | H94: 6 | I94: 6A | J94: PS-V | K94: 710 M
A95: 5B1 | C95: ROUILLARD | D95: D | E95: 0.28888889 | F95: 0.33125 | G95: 11 | H95: 5 | I95: 5B | J95: PS-LMJ | K95: 706
C96: ROUILLARD | D96: D | E96: 0.28888889 | F96: 0.33125 | G96: 11 | H96: 5 | I96: 5B | J96: PS-C | K96: 706
C97: ROUILLARD | D97: D | E97: 0.28888889 | F97: 0.33125 | G97: 11 | H97: 5 | I97: 5B | J97: PS-V | K97: 706
A98: 4B1 | C98: ROUILLARD | D98: 120 | E98: 0.29027778 | F98: 0.36111111 | G98: 11 | H98: 4 | I98: 4B | J98: PS-LMJ | K98: 703 M
A99: 5C2 | C99: ROUILLARD | D99: S702 | E99: 0.29027778 | F99: 0.31041667 | G99: 2 | H99: 5 | I99: 5C | J99: PS-LMJ | K99: 707
C100: ROUILLARD | D100: 120 | E100: 0.29027778 | F100: 0.36111111 | G100: 11 | H100: 4 | I100: 4B | J100: PS-C | K100: 703 M
C101: ROUILLARD | D101: S702 | E101: 0.29027778 | F101: 0.31041667 | G101: 2 | H101: 5 | I101: 5C | J101: PS-C | K101: 707
C102: ROUILLARD | D102: 120 | E102: 0.29027778 | F102: 0.36111111 | G102: 11 | H102: 4 | I102: 4B | J102: PS-V | K102: 703 M
C103: ROUILLARD | D103: S702 | E103: 0.29027778 | F103: 0.31041667 | G103: 2 | H103: 5 | I103: 5C | J103: PS-V | K103: 707
C104: ROUILLARD | D104: 120 | E104: 0.29027778 | F104: 0.36111111 | G104: 11 | H104: 4 | I104: 4B | J104: VS-LMCJ | K104: 803 M
C105: ROUILLARD | D105: 120 | E105: 0.29027778 | F105: 0.36111111 | G105: 11 | H105: 4 | I105: 4B | J105: VS-V | K105: 803 M
C106: ROUILLARD | D106: 120 | E106: 0.29027778 | F106: 0.36111111 | G106: 11 | H106: 4 | I106: 4B | J106: ETE-LMCJ | K106: 903M
C107: ROUILLARD | D107: 120 | E107: 0.29027778 | F107: 0.36111111 | G107: 11 | H107: 4 | I107: 4B | J107: ETE-V | K107: 903M
...

Sheet Feuil 2
E3: 2A | F3: Code attributaire | G3: Code Ligne | H3: Heure début course | I3: Heure fin course | J3: Vt. | K3: Code lot | L3: Code sous lot | M3: Période /Jour | N3: n° de service agent
E4: PS-LMJ
E5: Version rentrée
B6: =$E$3 -> 2A | C6: 1 | D6: =_xlfn.CONCAT(B6,"",C6) -> 2A1 | G6: =IFERROR(INDEX(Feuil1!D$5:D$697,_xlfn.AGGREGATE(15,6,(1/((Feuil1!$I$5:$I$697=$E$3)*(Feuil1!$A$5:$A$697=$D6))*ROW(Feuil1!D$5:D$697)-4),ROW($A$1))),"") -> M2 | H6: =SUMIFS(Feuil1!E$5:E$697,Feuil1!$I$5:$I$697,$E$3,Feuil1!$A$5:$A$697,$D6) -> 0.21388889 | I6: =SUMIFS(Feuil1!F$5:F$697,Feuil1!$I$5:$I$697,$E$3,Feuil1!$A$5:$A$697,$D6) -> 0.24166667 | J6: =SUMIFS(Feuil1!G$5:G$697,Feuil1!$I$5:$I$697,$E$3,Feuil1!$A$5:$A$697,$D6) -> 12 | K6: =SUMIFS(Feuil1!H$5:H$697,Feuil1!$I$5:$I$697,$E$3,Feuil1!$A$5:$A$697,$D6) -> 2 | L6: =$E$3 -> 2A
B7: =$E$3 -> 2A | C7: 2 | D7: =_xlfn.CONCAT(B7,"",C7) -> 2A2 | G7: =IFERROR(INDEX(Feuil1!D$5:D$697,_xlfn.AGGREGATE(15,6,(1/((Feuil1!$I$5:$I$697=$E$3)*(Feuil1!$A$5:$A$697=$D7))*ROW(Feuil1!D$5:D$697)-4),ROW($A$1))),"") -> 20 | H7: =SUMIFS(Feuil1!E$5:E$697,Feuil1!$I$5:$I$697,$E$3,Feuil1!$A$5:$A$697,$D7) -> 0.29513889 | I7: =SUMIFS(Feuil1!F$5:F$697,Feuil1!$I$5:$I$697,$E$3,Feuil1!$A$5:$A$697,$D7) -> 0.41111111 | J7: =SUMIFS(Feuil1!G$5:G$697,Feuil1!$I$5:$I$697,$E$3,Feuil1!$A$5:$A$697,$D7) -> 2 | K7: =SUMIFS(Feuil1!H$5:H$697,Feuil1!$I$5:$I$697,$E$3,Feuil1!$A$5:$A$697,$D7) -> 2 | L7: =$E$3 -> 2A
B8: =$E$3 -> 2A | C8: 3 | D8: =_xlfn.CONCAT(B8,"",C8) -> 2A3 | G8: =IFERROR(INDEX(Feuil1!D$5:D$697,_xlfn.AGGREGATE(15,6,(1/((Feuil1!$I$5:$I$697=$E$3)*(Feuil1!$A$5:$A$697=$D8))*ROW(Feuil1!D$5:D$697)-4),ROW($A$1))),"") -> 90 | H8: =SUMIFS(Feuil1!E$5:E$697,Feuil1!$I$5:$I$697,$E$3,Feuil1!$A$5:$A$697,$D8) -> 0.71111111 | I8: =SUMIFS(Feuil1!F$5:F$697,Feuil1!$I$5:$I$697,$E$3,Feuil1!$A$5:$A$697,$D8) -> 0.73819444 | J8: =SUMIFS(Feuil1!G$5:G$697,Feuil1!$I$5:$I$697,$E$3,Feuil1!$A$5:$A$697,$D8) -> 14 | K8: =SUMIFS(Feuil1!H$5:H$697,Feuil1!$I$5:$I$697,$E$3,Feuil1!$A$5:$A$697,$D8) -> 2 | L8: =$E$3 -> 2A
B9: =$E$3 -> 2A | C9: 4 | D9: =_xlfn.CONCAT(B9,"",C9) -> 2A4 | G9: =IFERROR(INDEX(Feuil1!D$5:D$697,_xlfn.AGGREGATE(15,6,(1/((Feuil1!$I$5:$I$697=$E$3)*(Feuil1!$A$5:$A$697=$D9))*ROW(Feuil1!D$5:D$697)-4),ROW($A$1))),"") -> 20 | H9: =SUMIFS(Feuil1!E$5:E$697,Feuil1!$I$5:$I$697,$E$3,Feuil1!$A$5:$A$697,$D9) -> 0.80555556 | I9: =SUMIFS(Feuil1!F$5:F$697,Feuil1!$I$5:$I$697,$E$3,Feuil1!$A$5:$A$697,$D9) -> 0.82916667 | J9: =SUMIFS(Feuil1!G$5:G$697,Feuil1!$I$5:$I$697,$E$3,Feuil1!$A$5:$A$697,$D9) -> 8 | K9: =SUMIFS(Feuil1!H$5:H$697,Feuil1!$I$5:$I$697,$E$3,Feuil1!$A$5:$A$697,$D9) -> 2 | L9: =$E$3 -> 2A
B10: =$E$3 -> 2A | C10: 5 | D10: =_xlfn.CONCAT(B10,"",C10) -> 2A5 | G10: =IFERROR(INDEX(Feuil1!D$5:D$697,_xlfn.AGGREGATE(15,6,(1/((Feuil1!$I$5:$I$697=$E$3)*(Feuil1!$A$5:$A$697=$D10))*ROW(Feuil1!D$5:D$697)-4),ROW($A$1))),"") -> D | H10: =SUMIFS(Feuil1!E$5:E$697,Feuil1!$I$5:$I$697,$E$3,Feuil1!$A$5:$A$697,$D10) -> 0.84375 | I10: =SUMIFS(Feuil1!F$5:F$697,Feuil1!$I$5:$I$697,$E$3,Feuil1!$A$5:$A$697,$D10) -> 0.85069444 | J10: =SUMIFS(Feuil1!G$5:G$697,Feuil1!$I$5:$I$697,$E$3,Feuil1!$A$5:$A$697,$D10) -> 10 | K10: =SUMIFS(Feuil1!H$5:H$697,Feuil1!$I$5:$I$697,$E$3,Feuil1!$A$5:$A$697,$D10) -> 2 | L10: =$E$3 -> 2A
B11: =$E$3 -> 2A | C11: 6 | D11: =_xlfn.CONCAT(B11,"",C11) -> 2A6 | G11: =IFERROR(INDEX(Feuil1!D$5:D$697,_xlfn.AGGREGATE(15,6,(1/((Feuil1!$I$5:$I$697=$E$3)*(Feuil1!$A$5:$A$697=$D11))*ROW(Feuil1!D$5:D$697)-4),ROW($A$1))),"") -> N3 | H11: =SUMIFS(Feuil1!E$5:E$697,Feuil1!$I$5:$I$697,$E$3,Feuil1!$A$5:$A$697,$D11) -> 0.85416667 | I11: =SUMIFS(Feuil1!F$5:F$697,Feuil1!$I$5:$I$697,$E$3,Feuil1!$A$5:$A$697,$D11) -> 0.94444444 | J11: =SUMIFS(Feuil1!G$5:G$697,Feuil1!$I$5:$I$697,$E$3,Feuil1!$A$5:$A$697,$D11) -> 2 | K11: =SUMIFS(Feuil1!H$5:H$697,Feuil1!$I$5:$I$697,$E$3,Feuil1!$A$5:$A$697,$D11) -> 2 | L11: =$E$3 -> 2A
B12: =$E$3 -> 2A | C12: 7 | D12: =_xlfn.CONCAT(B12,"",C12) -> 2A7 | F12: =IF(K12>0,"ROUILLARD","") | G12: =IFERROR(INDEX(Feuil1!D$5:D$697,_xlfn.AGGREGATE(15,6,(1/((Feuil1!$I$5:$I$697=$E$3)*(Feuil1!$A$5:$A$697=$D12))*ROW(Feuil1!D$5:D$697)-4),ROW($A$1))),"") | H12: =SUMIFS(Feuil1!E$5:E$697,Feuil1!$I$5:$I$697,$E$3,Feuil1!$A$5:$A$697,$D12) -> 0 | I12: =SUMIFS(Feuil1!F$5:F$697,Feuil1!$I$5:$I$697,$E$3,Feuil1!$A$5:$A$697,$D12) -> 0 | J12: =SUMIFS(Feuil1!G$5:G$697,Feuil1!$I$5:$I$697,$E$3,Feuil1!$A$5:$A$697,$D12) -> 0 | K12: =SUMIFS(Feuil1!H$5:H$697,Feuil1!$I$5:$I$697,$E$3,Feuil1!$A$5:$A$697,$D12) -> 0
B13: =$E$3 -> 2A | C13: 8 | D13: =_xlfn.CONCAT(B13,"",C13) -> 2A8 | F13: =IF(K13>0,"ROUILLARD","") | G13: =IFERROR(INDEX(Feuil1!D$5:D$697,_xlfn.AGGREGATE(15,6,(1/((Feuil1!$I$5:$I$697=$E$3)*(Feuil1!$A$5:$A$697=$D13))*ROW(Feuil1!D$5:D$697)-4),ROW($A$1))),"") | H13: =SUMIFS(Feuil1!E$5:E$697,Feuil1!$I$5:$I$697,$E$3,Feuil1!$A$5:$A$697,$D13) -> 0 | I13: =SUMIFS(Feuil1!F$5:F$697,Feuil1!$I$5:$I$697,$E$3,Feuil1!$A$5:$A$697,$D13) -> 0 | J13: =SUMIFS(Feuil1!G$5:G$697,Feuil1!$I$5:$I$697,$E$3,Feuil1!$A$5:$A$697,$D13) -> 0 | K13: =SUMIFS(Feuil1!H$5:H$697,Feuil1!$I$5:$I$697,$E$3,Feuil1!$A$5:$A$697,$D13) -> 0
B14: =$E$3 -> 2A | C14: 9 | D14: =_xlfn.CONCAT(B14,"",C14) -> 2A9 | F14: =IF(K14>0,"ROUILLARD","") | G14: =IFERROR(INDEX(Feuil1!D$5:D$697,_xlfn.AGGREGATE(15,6,(1/((Feuil1!$I$5:$I$697=$E$3)*(Feuil1!$A$5:$A$697=$D14))*ROW(Feuil1!D$5:D$697)-4),ROW($A$1))),"") | H14: =SUMIFS(Feuil1!E$5:E$697,Feuil1!$I$5:$I$697,$E$3,Feuil1!$A$5:$A$697,$D14) -> 0 | I14: =SUMIFS(Feuil1!F$5:F$697,Feuil1!$I$5:$I$697,$E$3,Feuil1!$A$5:$A$697,$D14) -> 0 | J14: =SUMIFS(Feuil1!G$5:G$697,Feuil1!$I$5:$I$697,$E$3,Feuil1!$A$5:$A$697,$D14) -> 0 | K14: =SUMIFS(Feuil1!H$5:H$697,Feuil1!$I$5:$I$697,$E$3,Feuil1!$A$5:$A$697,$D14) -> 0
B15: =$E$3 -> 2A | C15: 10 | D15: =_xlfn.CONCAT(B15,"",C15) -> 2A10 | F15: =IF(K15>0,"ROUILLARD","") | G15: =IFERROR(INDEX(Feuil1!D$5:D$697,_xlfn.AGGREGATE(15,6,(1/((Feuil1!$I$5:$I$697=$E$3)*(Feuil1!$A$5:$A$697=$D15))*ROW(Feuil1!D$5:D$697)-4),ROW($A$1))),"") | H15: =SUMIFS(Feuil1!E$5:E$697,Feuil1!$I$5:$I$697,$E$3,Feuil1!$A$5:$A$697,$D15) -> 0 | I15: =SUMIFS(Feuil1!F$5:F$697,Feuil1!$I$5:$I$697,$E$3,Feuil1!$A$5:$A$697,$D15) -> 0 | J15: =SUMIFS(Feuil1!G$5:G$697,Feuil1!$I$5:$I$697,$E$3,Feuil1!$A$5:$A$697,$D15) -> 0 | K15: =SUMIFS(Feuil1!H$5:H$697,Feuil1!$I$5:$I$697,$E$3,Feuil1!$A$5:$A$697,$D15) -> 0
B16: =$E$3 -> 2A | C16: 11 | D16: =_xlfn.CONCAT(B16,"",C16) -> 2A11 | F16: =IF(K16>0,"ROUILLARD","") | G16: =IFERROR(INDEX(Feuil1!D$5:D$697,_xlfn.AGGREGATE(15,6,(1/((Feuil1!$I$5:$I$697=$E$3)*(Feuil1!$A$5:$A$697=$D16))*ROW(Feuil1!D$5:D$697)-4),ROW($A$1))),"") | H16: =SUMIFS(Feuil1!E$5:E$697,Feuil1!$I$5:$I$697,$E$3,Feuil1!$A$5:$A$697,$D16) -> 0 | I16: =SUMIFS(Feuil1!F$5:F$697,Feuil1!$I$5:$I$697,$E$3,Feuil1!$A$5:$A$697,$D16) -> 0 | J16: =SUMIFS(Feuil1!G$5:G$697,Feuil1!$I$5:$I$697,$E$3,Feuil1!$A$5:$A$697,$D16) -> 0 | K16: =SUMIFS(Feuil1!H$5:H$697,Feuil1!$I$5:$I$697,$E$3,Feuil1!$A$5:$A$697,$D16) -> 0
