Workbook

Sheet Feuil1
C1: IDENTIFIANTS
C2: Totaux
C3: Code attributaire | D3: Code Ligne | E3: Heure début course | F3: Heure fin course | G3: Vt. | H3: Code lot | I3: Code sous lot | J3: Période /Jour | K3: n° de service agent
A5: 5A1 | C5: ROUILLARD | D5: LES | E5: 0.17013889 | F5: 0.19652778 | G5: 1 | H5: 5 | I5: 5A | J5: PS-LMJ | K5: 705 M
C6: ROUILLARD | D6: LES | E6: 0.17013889 | F6: 0.19652778 | G6: 1 | H6: 5 | I6: 5A | J6: PS-C | K6: 705 M
C7: ROUILLARD | D7: LES | E7: 0.17013889 | F7: 0.19652778 | G7: 1 | H7: 5 | I7: 5A | J7: PS-V | K7: 705 M
C8: ROUILLARD | D8: LES | E8: 0.17013889 | F8: 0.19652778 | G8: 1 | H8: 5 | I8: 5A | J8: VS-LMCJ | K8: 805 M
C9: ROUILLARD | D9: LES | E9: 0.17013889 | F9: 0.19652778 | G9: 1 | H9: 5 | I9: 5A | J9: VS-V | K9: 805 M
C10: ROUILLARD | D10: LES | E10: 0.17013889 | F10: 0.19652778 | G10: 1 | H10: 5 | I10: 5A | J10: ETE-LMCJ | K10: 905M
C11: ROUILLARD | D11: LES | E11: 0.17013889 | F11: 0.19652778 | G11: 1 | H11: 5 | I11: 5A | J11: ETE-V | K11: 905M
A12: 4A1 | C12: ROUILLARD | D12: M3 | E12: 0.21319444 | F12: 0.23888889 | G12: 1 | H12: 4 | I12: 4A | J12: PS-LMJ | K12: 702 M
A13: 4A12 | C13: ROUILLARD | D13: M3 | E13: 0.21319444 | F13: 0.23888889 | G13: 1 | H13: 4 | I13: 4A | J13: PS-C | K13: 702 M
C14: ROUILLARD | D14: M3 | E14: 0.21319444 | F14: 0.23888889 | G14: 1 | H14: 4 | I14: 4A | J14: PS-V | K14: 702 M
C15: ROUILLARD | D15: M3 | E15: 0.21319444 | F15: 0.23888889 | G15: 1 | H15: 4 | I15: 4A | J15: PS-S | K15: 702 M
C16: ROUILLARD | D16: M3 | E16: 0.21319444 | F16: 0.23888889 | G16: 1 | H16: 4 | I16: 4A | J16: VS-LMCJ | K16: 702 M
C17: ROUILLARD | D17: M3 | E17: 0.21319444 | F17: 0.23888889 | G17: 1 | H17: 4 | I17: 4A | J17: VS-V | K17: 702 M
C18: ROUILLARD | D18: M3 | E18: 0.21319444 | F18: 0.23888889 | G18: 1 | H18: 4 | I18: 4A | J18: VS-S | K18: 702 M
C19: ROUILLARD | D19: M3 | E19: 0.21319444 | F19: 0.23888889 | G19: 1 | H19: 4 | I19: 5D | J19: ETE-LMCJ | K19: 902M
C20: ROUILLARD | D20: M3 | E20: 0.21319444 | F20: 0.23888889 | G20: 1 | H20: 4 | I20: 5D | J20: ETE-V | K20: 902M
C21: ROUILLARD | D21: M3 | E21: 0.21319444 | F21: 0.23888889 | G21: 1 | H21: 4 | I21: 5D | J21: ETE-S | K21: 902M
A22: 2A1 | D22: M2 | E22: 0.21388889 | F22: 0.24166667 | G22: 12 | H22: 2 | I22: 2A | J22: PS-LMJ
A23: 5A2 | C23: ROUILLARD | D23: M2 | E23: 0.21388889 | F23: 0.24166667 | G23: 11 | H23: 5 | I23: 5A | J23: PS-LMJ | K23: 705 M
C24: ROUILLARD | D24: M2 | E24: 0.21388889 | F24: 0.24166667 | G24: 11 | H24: 5 | I24: 5A | J24: PS-C | K24: 705 M
A25: 2A12 | C25: ROUILLARD | D25: M2 | E25: 0.21388889 | F25: 0.24166667 | G25: 12 | H25: 2 | I25: 2A | J25: PS-C | K25: 701 M
C26: ROUILLARD | D26: M2 | E26: 0.21388889 | F26: 0.24166667 | G26: 11 | H26: 5 | I26: 5A | J26: PS-V | K26: 705 M
C27: ROUILLARD | D27: M2 | E27: 0.21388889 | F27: 0.24166667 | G27: 12 | H27: 2 | I27: 2A | J27: PS-V | K27: 701 M
C28: ROUILLARD | D28: M2 | E28: 0.21388889 | F28: 0.24166667 | G28: 11 | H28: 5 | I28: 5A | J28: PS-S | K28: 705 M
C29: ROUILLARD | D29: M2 | E29: 0.21388889 | F29: 0.24166667 | G29: 12 | H29: 2 | I29: 2A | J29: PS-S | K29: 701 M
C30: ROUILLARD | D30: M2 | E30: 0.21388889 | F30: 0.24166667 | G30: 12 | H30: 2 | I30: 2A | J30: VS-LMCJ | K30: 701 M
C31: ROUILLARD | D31: M2 | E31: 0.21388889 | F31: 0.24166667 | G31: 11 | H31: 5 | I31: 5A | J31: VS-LMCJ | K31: 805 M
C32: ROUILLARD | D32: M2 | E32: 0.21388889 | F32: 0.24166667 | G32: 11 | H32: 5 | I32: 5A | J32: VS-V | K32: 805 M
C33: ROUILLARD | D33: M2 | E33: 0.21388889 | F33: 0.24166667 | G33: 12 | H33: 2 | I33: 2A | J33: VS-V | K33: 701 M
C34: ROUILLARD | D34: M2 | E34: 0.21388889 | F34: 0.24166667 | G34: 12 | H34: 2 | I34: 2A | J34: VS-S | K34: 701 M
C35: ROUILLARD | D35: M2 | E35: 0.21388889 | F35: 0.24166667 | G35: 11 | H35: 5 | I35: 5A | J35: VS-S | K35: 705 M
C36: ROUILLARD | D36: M2 | E36: 0.21388889 | F36: 0.24166667 | G36: 11 | H36: 5 | I36: 5A | J36: ETE-LMCJ | K36: 905M
C37: ROUILLARD | D37: M2 | E37: 0.21388889 | F37: 0.24166667 | G37: 12 | H37: 2 | I37: 2A | J37: ETE-LMCJ | K37: 901M
... C41: ROUILLARD | D41: M2 | E41: 0.21388889 | F41: 0.24166667 | G41: 12 | H41: 2 | I41: 2A | J41: ETE-S | K41: 901M
A42: 6A1 | C42: ROUILLARD | D42: M1 | E42: 0.22222222 | F42: 0.24027778 | G42: 6 | H42: 6 | I42: 6A | J42: PS-LMJ | K42: 710 M
C43: ROUILLARD | D43: M1 | E43: 0.22222222 | F43: 0.24027778 | G43: 6 | H43: 6 | I43: 6A | J43: PS-C | K43: 710 M
C44: ROUILLARD | D44: M1 | E44: 0.22222222 | F44: 0.24027778 | G44: 6 | H44: 6 | I44: 6A | J44: PS-V | K44: 710 M
...

Sheet Feuil 2
E3: 2A | F3: Code attributaire | G3: Code Ligne | H3: Heure début course | I3: Heure fin course | J3: Vt. | K3: Code lot | L3: Code sous lot | M3: Période /Jour | N3: n° de service agent
E4: PS-LMJ
E5: Version rentrée
B6: =$E$3 -> 2A | C6: 1 | D6: =_xlfn.CONCAT(B6,"",C6) -> 2A1 | G6: =IFERROR(INDEX(Feuil1!D$5:D$697,_xlfn.AGGREGATE(15,6,(1/((Feuil1!$I$5:$I$697=$E$3)*(Feuil1!$A$5:$A$697=$D6))*ROW(Feuil1!D$5:D$697)-4),ROW($A$1))),"") -> M2 | H6: =SUMIFS(Feuil1!E$5:E$697,Feuil1!$I$5:$I$697,$E$3,Feuil1!$A$5:$A$697,$D6) -> 0.21388889 | I6: =SUMIFS(Feuil1!F$5:F$697,Feuil1!$I$5:$I$697,$E$3,Feuil1!$A$5:$A$697,$D6) -> 0.24166667 | J6: =SUMIFS(Feuil1!G$5:G$697,Feuil1!$I$5:$I$697,$E$3,Feuil1!$A$5:$A$697,$D6) -> 12 | K6: =SUMIFS(Feuil1!H$5:H$697,Feuil1!$I$5:$I$697,$E$3,Feuil1!$A$5:$A$697,$D6) -> 2 | L6: =$E$3 -> 2A
B7: =$E$3 -> 2A | C7: 2 | D7: =_xlfn.CONCAT(B7,"",C7) -> 2A2 | G7: =IFERROR(INDEX(Feuil1!D$5:D$697,_xlfn.AGGREGATE(15,6,(1/((Feuil1!$I$5:$I$697=$E$3)*(Feuil1!$A$5:$A$697=$D7))*ROW(Feuil1!D$5:D$697)-4),ROW($A$1))),"") -> 20 | H7: =SUMIFS(Feuil1!E$5:E$697,Feuil1!$I$5:$I$697,$E$3,Feuil1!$A$5:$A$697,$D7) -> 0.29513889 | I7: =SUMIFS(Feuil1!F$5:F$697,Feuil1!$I$5:$I$697,$E$3,Feuil1!$A$5:$A$697,$D7) -> 0.41111111 | J7: =SUMIFS(Feuil1!G$5:G$697,Feuil1!$I$5:$I$697,$E$3,Feuil1!$A$5:$A$697,$D7) -> 2 | K7: =SUMIFS(Feuil1!H$5:H$697,Feuil1!$I$5:$I$697,$E$3,Feuil1!$A$5:$A$697,$D7) -> 2 | L7: =$E$3 -> 2A
B8: =$E$3 -> 2A | C8: 3 | D8: =_xlfn.CONCAT(B8,"",C8) -> 2A3 | G8: =IFERROR(INDEX(Feuil1!D$5:D$697,_xlfn.AGGREGATE(15,6,(1/((Feuil1!$I$5:$I$697=$E$3)*(Feuil1!$A$5:$A$697=$D8))*ROW(Feuil1!D$5:D$697)-4),ROW($A$1))),"") -> 90 | H8: =SUMIFS(Feuil1!E$5:E$697,Feuil1!$I$5:$I$697,$E$3,Feuil1!$A$5:$A$697,$D8) -> 0.71111111 | I8: =SUMIFS(Feuil1!F$5:F$697,Feuil1!$I$5:$I$697,$E$3,Feuil1!$A$5:$A$697,$D8) -> 0.73819444 | J8: =SUMIFS(Feuil1!G$5:G$697,Feuil1!$I$5:$I$697,$E$3,Feuil1!$A$5:$A$697,$D8) -> 14 | K8: =SUMIFS(Feuil1!H$5:H$697,Feuil1!$I$5:$I$697,$E$3,Feuil1!$A$5:$A$697,$D8) -> 2 | L8: =$E$3 -> 2A
B9: =$E$3 -> 2A | C9: 4 | D9: =_xlfn.CONCAT(B9,"",C9) -> 2A4 | G9: =IFERROR(INDEX(Feuil1!D$5:D$697,_xlfn.AGGREGATE(15,6,(1/((Feuil1!$I$5:$I$697=$E$3)*(Feuil1!$A$5:$A$697=$D9))*ROW(Feuil1!D$5:D$697)-4),ROW($A$1))),"") -> 20 | H9: =SUMIFS(Feuil1!E$5:E$697,Feuil1!$I$5:$I$697,$E$3,Feuil1!$A$5:$A$697,$D9) -> 0.80555556 | I9: =SUMIFS(Feuil1!F$5:F$697,Feuil1!$I$5:$I$697,$E$3,Feuil1!$A$5:$A$697,$D9) -> 0.82916667 | J9: =SUMIFS(Feuil1!G$5:G$697,Feuil1!$I$5:$I$697,$E$3,Feuil1!$A$5:$A$697,$D9) -> 8 | K9: =SUMIFS(Feuil1!H$5:H$697,Feuil1!$I$5:$I$697,$E$3,Feuil1!$A$5:$A$697,$D9) -> 2 | L9: =$E$3 -> 2A
B10: =$E$3 -> 2A | C10: 5 | D10: =_xlfn.CONCAT(B10,"",C10) -> 2A5 | G10: =IFERROR(INDEX(Feuil1!D$5:D$697,_xlfn.AGGREGATE(15,6,(1/((Feuil1!$I$5:$I$697=$E$3)*(Feuil1!$A$5:$A$697=$D10))*ROW(Feuil1!D$5:D$697)-4),ROW($A$1))),"") -> D | H10: =SUMIFS(Feuil1!E$5:E$697,Feuil1!$I$5:$I$697,$E$3,Feuil1!$A$5:$A$697,$D10) -> 0.84375 | I10: =SUMIFS(Feuil1!F$5:F$697,Feuil1!$I$5:$I$697,$E$3,Feuil1!$A$5:$A$697,$D10) -> 0.85069444 | J10: =SUMIFS(Feuil1!G$5:G$697,Feuil1!$I$5:$I$697,$E$3,Feuil1!$A$5:$A$697,$D10) -> 10 | K10: =SUMIFS(Feuil1!H$5:H$697,Feuil1!$I$5:$I$697,$E$3,Feuil1!$A$5:$A$697,$D10) -> 2 | L10: =$E$3 -> 2A
B11: =$E$3 -> 2A | C11: 6 | D11: =_xlfn.CONCAT(B11,"",C11) -> 2A6 | G11: =IFERROR(INDEX(Feuil1!D$5:D$697,_xlfn.AGGREGATE(15,6,(1/((Feuil1!$I$5:$I$697=$E$3)*(Feuil1!$A$5:$A$697=$D11))*ROW(Feuil1!D$5:D$697)-4),ROW($A$1))),"") -> N3 | H11: =SUMIFS(Feuil1!E$5:E$697,Feuil1!$I$5:$I$697,$E$3,Feuil1!$A$5:$A$697,$D11) -> 0.85416667 | I11: =SUMIFS(Feuil1!F$5:F$697,Feuil1!$I$5:$I$697,$E$3,Feuil1!$A$5:$A$697,$D11) -> 0.94444444 | J11: =SUMIFS(Feuil1!G$5:G$697,Feuil1!$I$5:$I$697,$E$3,Feuil1!$A$5:$A$697,$D11) -> 2 | K11: =SUMIFS(Feuil1!H$5:H$697,Feuil1!$I$5:$I$697,$E$3,Feuil1!$A$5:$A$697,$D11) -> 2 | L11: =$E$3 -> 2A
B12: =$E$3 -> 2A | C12: 7 | D12: =_xlfn.CONCAT(B12,"",C12) -> 2A7 | F12: =IF(K12>0,"ROUILLARD","") | G12: =IFERROR(INDEX(Feuil1!D$5:D$697,_xlfn.AGGREGATE(15,6,(1/((Feuil1!$I$5:$I$697=$E$3)*(Feuil1!$A$5:$A$697=$D12))*ROW(Feuil1!D$5:D$697)-4),ROW($A$1))),"") | H12: =SUMIFS(Feuil1!E$5:E$697,Feuil1!$I$5:$I$697,$E$3,Feuil1!$A$5:$A$697,$D12) -> 0 | I12: =SUMIFS(Feuil1!F$5:F$697,Feuil1!$I$5:$I$697,$E$3,Feuil1!$A$5:$A$697,$D12) -> 0 | J12: =SUMIFS(Feuil1!G$5:G$697,Feuil1!$I$5:$I$697,$E$3,Feuil1!$A$5:$A$697,$D12) -> 0 | K12: =SUMIFS(Feuil1!H$5:H$697,Feuil1!$I$5:$I$697,$E$3,Feuil1!$A$5:$A$697,$D12) -> 0
B13: =$E$3 -> 2A | C13: 8 | D13: =_xlfn.CONCAT(B13,"",C13) -> 2A8 | F13: =IF(K13>0,"ROUILLARD","") | G13: =IFERROR(INDEX(Feuil1!D$5:D$697,_xlfn.AGGREGATE(15,6,(1/((Feuil1!$I$5:$I$697=$E$3)*(Feuil1!$A$5:$A$697=$D13))*ROW(Feuil1!D$5:D$697)-4),ROW($A$1))),"") | H13: =SUMIFS(Feuil1!E$5:E$697,Feuil1!$I$5:$I$697,$E$3,Feuil1!$A$5:$A$697,$D13) -> 0 | I13: =SUMIFS(Feuil1!F$5:F$697,Feuil1!$I$5:$I$697,$E$3,Feuil1!$A$5:$A$697,$D13) -> 0 | J13: =SUMIFS(Feuil1!G$5:G$697,Feuil1!$I$5:$I$697,$E$3,Feuil1!$A$5:$A$697,$D13) -> 0 | K13: =SUMIFS(Feuil1!H$5:H$697,Feuil1!$I$5:$I$697,$E$3,Feuil1!$A$5:$A$697,$D13) -> 0
B14: =$E$3 -> 2A | C14: 9 | D14: =_xlfn.CONCAT(B14,"",C14) -> 2A9 | F14: =IF(K14>0,"ROUILLARD","") | G14: =IFERROR(INDEX(Feuil1!D$5:D$697,_xlfn.AGGREGATE(15,6,(1/((Feuil1!$I$5:$I$697=$E$3)*(Feuil1!$A$5:$A$697=$D14))*ROW(Feuil1!D$5:D$697)-4),ROW($A$1))),"") | H14: =SUMIFS(Feuil1!E$5:E$697,Feuil1!$I$5:$I$697,$E$3,Feuil1!$A$5:$A$697,$D14) -> 0 | I14: =SUMIFS(Feuil1!F$5:F$697,Feuil1!$I$5:$I$697,$E$3,Feuil1!$A$5:$A$697,$D14) -> 0 | J14: =SUMIFS(Feuil1!G$5:G$697,Feuil1!$I$5:$I$697,$E$3,Feuil1!$A$5:$A$697,$D14) -> 0 | K14: =SUMIFS(Feuil1!H$5:H$697,Feuil1!$I$5:$I$697,$E$3,Feuil1!$A$5:$A$697,$D14) -> 0
B15: =$E$3 -> 2A | C15: 10 | D15: =_xlfn.CONCAT(B15,"",C15) -> 2A10 | F15: =IF(K15>0,"ROUILLARD","") | G15: =IFERROR(INDEX(Feuil1!D$5:D$697,_xlfn.AGGREGATE(15,6,(1/((Feuil1!$I$5:$I$697=$E$3)*(Feuil1!$A$5:$A$697=$D15))*ROW(Feuil1!D$5:D$697)-4),ROW($A$1))),"") | H15: =SUMIFS(Feuil1!E$5:E$697,Feuil1!$I$5:$I$697,$E$3,Feuil1!$A$5:$A$697,$D15) -> 0 | I15: =SUMIFS(Feuil1!F$5:F$697,Feuil1!$I$5:$I$697,$E$3,Feuil1!$A$5:$A$697,$D15) -> 0 | J15: =SUMIFS(Feuil1!G$5:G$697,Feuil1!$I$5:$I$697,$E$3,Feuil1!$A$5:$A$697,$D15) -> 0 | K15: =SUMIFS(Feuil1!H$5:H$697,Feuil1!$I$5:$I$697,$E$3,Feuil1!$A$5:$A$697,$D15) -> 0
B16: =$E$3 -> 2A | C16: 11 | D16: =_xlfn.CONCAT(B16,"",C16) -> 2A11 | F16: =IF(K16>0,"ROUILLARD","") | G16: =IFERROR(INDEX(Feuil1!D$5:D$697,_xlfn.AGGREGATE(15,6,(1/((Feuil1!$I$5:$I$697=$E$3)*(Feuil1!$A$5:$A$697=$D16))*ROW(Feuil1!D$5:D$697)-4),ROW($A$1))),"") | H16: =SUMIFS(Feuil1!E$5:E$697,Feuil1!$I$5:$I$697,$E$3,Feuil1!$A$5:$A$697,$D16) -> 0 | I16: =SUMIFS(Feuil1!F$5:F$697,Feuil1!$I$5:$I$697,$E$3,Feuil1!$A$5:$A$697,$D16) -> 0 | J16: =SUMIFS(Feuil1!G$5:G$697,Feuil1!$I$5:$I$697,$E$3,Feuil1!$A$5:$A$697,$D16) -> 0 | K16: =SUMIFS(Feuil1!H$5:H$697,Feuil1!$I$5:$I$697,$E$3,Feuil1!$A$5:$A$697,$D16) -> 0
