Workbook

Sheet DONNEES
A4: JEAN | B4: A | C4: 1
A5: PIERRE | B5: B | C5: 2 | D5: 1
A6: PHILIPPE | B6: C | C6: 3
A7: MARC | B7: D | C7: 4
A8: HENRI | B8: A | C8: 1
A9: BASTIEN | B9: B | C9: 2
A10: PAUL | B10: C | C10: 3
A11: ANTONY | B11: D | C11: 4
A12: JULIEN | B12: A | C12: 1
A13: ERIC | B13: B | C13: 2
A14: DAVID | B14: C | C14: 3
A15: DENIS | B15: D | C15: 4

Sheet Feuil2
B10: Je voudrais pouvoir glisser r les cellules des colonnes C ou H comme ci dessous . J'ai une centaine de lignes et 7 tableaux rasion pour laquelle je voulais glisser les formules des colonnes B ,D et G I mais ça ne fonctionne pas
B14: TABLEAU | G14: TABLEAU
B15: =IF(INDIRECT(ADDRESS(ROW(),COLUMN()+1))="","",VLOOKUP(INDIRECT(ADDRESS(ROW(),COLUMN()+1)),DONNEES!$A$4:$C$15,2,0)) -> A | C15: JEAN | D15: =IF(INDIRECT(ADDRESS(ROW(),COLUMN()-1))="","",VLOOKUP(INDIRECT(ADDRESS(ROW(),COLUMN()-1)),DONNEES!$A$4:$C$15,3,0)) -> 1 | G15: =IF(INDIRECT(ADDRESS(ROW(),COLUMN()+1))="","",VLOOKUP(INDIRECT(ADDRESS(ROW(),COLUMN()+1)),DONNEES!$A$4:$C$15,2,0)) -> A | H15: HENRI | I15: =IF(INDIRECT(ADDRESS(ROW(),COLUMN()-1))="","",VLOOKUP(INDIRECT(ADDRESS(ROW(),COLUMN()-1)),DONNEES!$A$4:$C$15,3,0)) -> 1
B16: =IF(INDIRECT(ADDRESS(ROW(),COLUMN()+1))="","",VLOOKUP(INDIRECT(ADDRESS(ROW(),COLUMN()+1)),DONNEES!$A$4:$C$15,2,0)) | D16: =IF(INDIRECT(ADDRESS(ROW(),COLUMN()-1))="","",VLOOKUP(INDIRECT(ADDRESS(ROW(),COLUMN()-1)),DONNEES!$A$4:$C$15,3,0)) | G16: =IF(INDIRECT(ADDRESS(ROW(),COLUMN()+1))="","",VLOOKUP(INDIRECT(ADDRESS(ROW(),COLUMN()+1)),DONNEES!$A$4:$C$15,2,0)) | I16: =IF(INDIRECT(ADDRESS(ROW(),COLUMN()-1))="","",VLOOKUP(INDIRECT(ADDRESS(ROW(),COLUMN()-1)),DONNEES!$A$4:$C$15,3,0))
B17: =IF(INDIRECT(ADDRESS(ROW(),COLUMN()+1))="","",VLOOKUP(INDIRECT(ADDRESS(ROW(),COLUMN()+1)),DONNEES!$A$4:$C$15,2,0)) -> B | C17: ERIC | D17: =IF(INDIRECT(ADDRESS(ROW(),COLUMN()-1))="","",VLOOKUP(INDIRECT(ADDRESS(ROW(),COLUMN()-1)),DONNEES!$A$4:$C$15,3,0)) -> 2 | G17: =IF(INDIRECT(ADDRESS(ROW(),COLUMN()+1))="","",VLOOKUP(INDIRECT(ADDRESS(ROW(),COLUMN()+1)),DONNEES!$A$4:$C$15,2,0)) | I17: =IF(INDIRECT(ADDRESS(ROW(),COLUMN()-1))="","",VLOOKUP(INDIRECT(ADDRESS(ROW(),COLUMN()-1)),DONNEES!$A$4:$C$15,3,0))
B18: =IF(INDIRECT(ADDRESS(ROW(),COLUMN()+1))="","",VLOOKUP(INDIRECT(ADDRESS(ROW(),COLUMN()+1)),DONNEES!$A$4:$C$15,2,0)) | D18: =IF(INDIRECT(ADDRESS(ROW(),COLUMN()-1))="","",VLOOKUP(INDIRECT(ADDRESS(ROW(),COLUMN()-1)),DONNEES!$A$4:$C$15,3,0)) | G18: =IF(INDIRECT(ADDRESS(ROW(),COLUMN()+1))="","",VLOOKUP(INDIRECT(ADDRESS(ROW(),COLUMN()+1)),DONNEES!$A$4:$C$15,2,0)) | I18: =IF(INDIRECT(ADDRESS(ROW(),COLUMN()-1))="","",VLOOKUP(INDIRECT(ADDRESS(ROW(),COLUMN()-1)),DONNEES!$A$4:$C$15,3,0))
B19: =IF(INDIRECT(ADDRESS(ROW(),COLUMN()+1))="","",VLOOKUP(INDIRECT(ADDRESS(ROW(),COLUMN()+1)),DONNEES!$A$4:$C$15,2,0)) -> A | C19: JULIEN | D19: =IF(INDIRECT(ADDRESS(ROW(),COLUMN()-1))="","",VLOOKUP(INDIRECT(ADDRESS(ROW(),COLUMN()-1)),DONNEES!$A$4:$C$15,3,0)) -> 1 | G19: =IF(INDIRECT(ADDRESS(ROW(),COLUMN()+1))="","",VLOOKUP(INDIRECT(ADDRESS(ROW(),COLUMN()+1)),DONNEES!$A$4:$C$15,2,0)) -> D | H19: MARC | I19: =IF(INDIRECT(ADDRESS(ROW(),COLUMN()-1))="","",VLOOKUP(INDIRECT(ADDRESS(ROW(),COLUMN()-1)),DONNEES!$A$4:$C$15,3,0)) -> 4
B20: =IF(INDIRECT(ADDRESS(20,3))="","",VLOOKUP(INDIRECT(ADDRESS(20,3)),DONNEES!$A$4:$C$15,2,0)) | D20: =IF(INDIRECT(ADDRESS(20,3))="","",VLOOKUP(INDIRECT(ADDRESS(15,3)),DONNEES!$A$4:$C$15,3,0))
