Workbook

Sheet Info générale
B12: Nom | C12: Prénom | D12: Grade | E12: Niveau | F12: DDN | G12: Date Admission | H12: Poste | I12: Section | J12: Actif
B13: gagnon | C13: alfred | D13: Sgt | E13: 4 | F13: 39191 | G13: 44866 | H13: Cdt Cmdt | I13: État-Major | J13: OUI
B14: Lefebvre | C14: bob | D14: Cpl/S | E14: 3 | F14: 39591 | G14: 44874 | H14: Cdt Cmdt A | I14: État-Major | J14: OUI
B15: pichette | C15: kevin | D15: Cdt | E15: 1 | F15: 38352 | G15: 43046 | H15: Aucun | I15: Section 1 | J15: OUI
B16: Leclerc | C16: jacob | D16: Cdt | E16: 1 | F16: 40364 | G16: 44146 | H16: Aucun | I16: Section 1 | J16: NON
B17: duchesne | C17: Sylvain | D17: Cpl | E17: 2 | F17: 39379 | G17: 44882 | H17: Aucun | I17: Section 1 | J17: OUI
B18: brisebois | C18: Alexis | D18: Cdt | E18: 2 | F18: 39962 | G18: 44866 | H18: Aucun | I18: Section 1 | J18: OUI
B19: langlois | C19: pierre | D19: Cdt | E19: 2 | F19: 38044 | G19: 44525 | H19: Aucun | I19: Section 1 | J19: OUI
B20: Gagnon | C20: joelle | D20: Cpl | E20: 2 | F20: 39923 | G20: 44153 | H20: Aucun | I20: Section 1 | J20: OUI
B21: lefebvre | C21: jeremie | D21: Cpl | E21: 2 | F21: 39882 | G21: 44517 | H21: Aucun | I21: Section 1 | J21: OUI
B22: Bélanger | C22: pierre | D22: Cdt | E22: 3 | F22: 38371 | G22: 44707 | H22: Aucun | I22: Section 1 | J22: OUI
B23: gagnon | C23: sebastien | D23: Cdt | E23: 3 | F23: 39217 | G23: 44669 | H23: Aucun | I23: Section 1 | J23: OUI
B24: belanger | C24: Jacob | D24: Cpl | E24: 3 | F24: 39484 | G24: 44637 | H24: Aucun | I24: Section 1 | J24: NON
B25: gingras | C25: dany | D25: Cpl | E25: 3 | F25: 39027 | G25: 44866 | H25: Service | I25: Section 1 | J25: NON

Sheet tableau voulu
C12: Grade | D12: Nom | E12: Prénom
C13: =IFERROR(INDEX('Info générale'!$D$13:$D$2500,_xlfn.AGGREGATE(15,6,(1/(('Info générale'!$J$13:$J$2500="OUI"))*ROW('Info générale'!$D$13:$D$2500)-12),ROW()-12)),"") -> Sgt | D13: =IFERROR(INDEX('Info générale'!B$13:B$2500,_xlfn.AGGREGATE(15,6,(1/(('Info générale'!$J$13:$J$2500="OUI"))*ROW('Info générale'!$D$13:$D$2500)-12),ROW()-12)),"") -> gagnon | E13: =IFERROR(INDEX('Info générale'!C$13:C$2500,_xlfn.AGGREGATE(15,6,(1/(('Info générale'!$J$13:$J$2500="OUI"))*ROW('Info générale'!$D$13:$D$2500)-12),ROW()-12)),"") -> alfred
C14: =IFERROR(INDEX('Info générale'!$D$13:$D$2500,_xlfn.AGGREGATE(15,6,(1/(('Info générale'!$J$13:$J$2500="OUI"))*ROW('Info générale'!$D$13:$D$2500)-12),ROW()-12)),"") -> Cpl/S | D14: =IFERROR(INDEX('Info générale'!B$13:B$2500,_xlfn.AGGREGATE(15,6,(1/(('Info générale'!$J$13:$J$2500="OUI"))*ROW('Info générale'!$D$13:$D$2500)-12),ROW()-12)),"") -> Lefebvre | E14: =IFERROR(INDEX('Info générale'!C$13:C$2500,_xlfn.AGGREGATE(15,6,(1/(('Info générale'!$J$13:$J$2500="OUI"))*ROW('Info générale'!$D$13:$D$2500)-12),ROW()-12)),"") -> bob
C15: =IFERROR(INDEX('Info générale'!$D$13:$D$2500,_xlfn.AGGREGATE(15,6,(1/(('Info générale'!$J$13:$J$2500="OUI"))*ROW('Info générale'!$D$13:$D$2500)-12),ROW()-12)),"") -> Cdt | D15: =IFERROR(INDEX('Info générale'!B$13:B$2500,_xlfn.AGGREGATE(15,6,(1/(('Info générale'!$J$13:$J$2500="OUI"))*ROW('Info générale'!$D$13:$D$2500)-12),ROW()-12)),"") -> pichette | E15: =IFERROR(INDEX('Info générale'!C$13:C$2500,_xlfn.AGGREGATE(15,6,(1/(('Info générale'!$J$13:$J$2500="OUI"))*ROW('Info générale'!$D$13:$D$2500)-12),ROW()-12)),"") -> kevin
C16: =IFERROR(INDEX('Info générale'!$D$13:$D$2500,_xlfn.AGGREGATE(15,6,(1/(('Info générale'!$J$13:$J$2500="OUI"))*ROW('Info générale'!$D$13:$D$2500)-12),ROW()-12)),"") -> Cpl | D16: =IFERROR(INDEX('Info générale'!B$13:B$2500,_xlfn.AGGREGATE(15,6,(1/(('Info générale'!$J$13:$J$2500="OUI"))*ROW('Info générale'!$D$13:$D$2500)-12),ROW()-12)),"") -> duchesne | E16: =IFERROR(INDEX('Info générale'!C$13:C$2500,_xlfn.AGGREGATE(15,6,(1/(('Info générale'!$J$13:$J$2500="OUI"))*ROW('Info générale'!$D$13:$D$2500)-12),ROW()-12)),"") -> Sylvain
C17: =IFERROR(INDEX('Info générale'!$D$13:$D$2500,_xlfn.AGGREGATE(15,6,(1/(('Info générale'!$J$13:$J$2500="OUI"))*ROW('Info générale'!$D$13:$D$2500)-12),ROW()-12)),"") -> Cdt | D17: =IFERROR(INDEX('Info générale'!B$13:B$2500,_xlfn.AGGREGATE(15,6,(1/(('Info générale'!$J$13:$J$2500="OUI"))*ROW('Info générale'!$D$13:$D$2500)-12),ROW()-12)),"") -> brisebois | E17: =IFERROR(INDEX('Info générale'!C$13:C$2500,_xlfn.AGGREGATE(15,6,(1/(('Info générale'!$J$13:$J$2500="OUI"))*ROW('Info générale'!$D$13:$D$2500)-12),ROW()-12)),"") -> Alexis
C18: =IFERROR(INDEX('Info générale'!$D$13:$D$2500,_xlfn.AGGREGATE(15,6,(1/(('Info générale'!$J$13:$J$2500="OUI"))*ROW('Info générale'!$D$13:$D$2500)-12),ROW()-12)),"") -> Cdt | D18: =IFERROR(INDEX('Info générale'!B$13:B$2500,_xlfn.AGGREGATE(15,6,(1/(('Info générale'!$J$13:$J$2500="OUI"))*ROW('Info générale'!$D$13:$D$2500)-12),ROW()-12)),"") -> langlois | E18: =IFERROR(INDEX('Info générale'!C$13:C$2500,_xlfn.AGGREGATE(15,6,(1/(('Info générale'!$J$13:$J$2500="OUI"))*ROW('Info générale'!$D$13:$D$2500)-12),ROW()-12)),"") -> pierre
C19: =IFERROR(INDEX('Info générale'!$D$13:$D$2500,_xlfn.AGGREGATE(15,6,(1/(('Info générale'!$J$13:$J$2500="OUI"))*ROW('Info générale'!$D$13:$D$2500)-12),ROW()-12)),"") -> Cpl | D19: =IFERROR(INDEX('Info générale'!B$13:B$2500,_xlfn.AGGREGATE(15,6,(1/(('Info générale'!$J$13:$J$2500="OUI"))*ROW('Info générale'!$D$13:$D$2500)-12),ROW()-12)),"") -> Gagnon | E19: =IFERROR(INDEX('Info générale'!C$13:C$2500,_xlfn.AGGREGATE(15,6,(1/(('Info générale'!$J$13:$J$2500="OUI"))*ROW('Info générale'!$D$13:$D$2500)-12),ROW()-12)),"") -> joelle
C20: =IFERROR(INDEX('Info générale'!$D$13:$D$2500,_xlfn.AGGREGATE(15,6,(1/(('Info générale'!$J$13:$J$2500="OUI"))*ROW('Info générale'!$D$13:$D$2500)-12),ROW()-12)),"") -> Cpl | D20: =IFERROR(INDEX('Info générale'!B$13:B$2500,_xlfn.AGGREGATE(15,6,(1/(('Info générale'!$J$13:$J$2500="OUI"))*ROW('Info générale'!$D$13:$D$2500)-12),ROW()-12)),"") -> lefebvre | E20: =IFERROR(INDEX('Info générale'!C$13:C$2500,_xlfn.AGGREGATE(15,6,(1/(('Info générale'!$J$13:$J$2500="OUI"))*ROW('Info générale'!$D$13:$D$2500)-12),ROW()-12)),"") -> jeremie
C21: =IFERROR(INDEX('Info générale'!$D$13:$D$2500,_xlfn.AGGREGATE(15,6,(1/(('Info générale'!$J$13:$J$2500="OUI"))*ROW('Info générale'!$D$13:$D$2500)-12),ROW()-12)),"") -> Cdt | D21: =IFERROR(INDEX('Info générale'!B$13:B$2500,_xlfn.AGGREGATE(15,6,(1/(('Info générale'!$J$13:$J$2500="OUI"))*ROW('Info générale'!$D$13:$D$2500)-12),ROW()-12)),"") -> Bélanger | E21: =IFERROR(INDEX('Info générale'!C$13:C$2500,_xlfn.AGGREGATE(15,6,(1/(('Info générale'!$J$13:$J$2500="OUI"))*ROW('Info générale'!$D$13:$D$2500)-12),ROW()-12)),"") -> pierre
C22: =IFERROR(INDEX('Info générale'!$D$13:$D$2500,_xlfn.AGGREGATE(15,6,(1/(('Info générale'!$J$13:$J$2500="OUI"))*ROW('Info générale'!$D$13:$D$2500)-12),ROW()-12)),"") -> Cdt | D22: =IFERROR(INDEX('Info générale'!B$13:B$2500,_xlfn.AGGREGATE(15,6,(1/(('Info générale'!$J$13:$J$2500="OUI"))*ROW('Info générale'!$D$13:$D$2500)-12),ROW()-12)),"") -> gagnon | E22: =IFERROR(INDEX('Info générale'!C$13:C$2500,_xlfn.AGGREGATE(15,6,(1/(('Info générale'!$J$13:$J$2500="OUI"))*ROW('Info générale'!$D$13:$D$2500)-12),ROW()-12)),"") -> sebastien
C23: =IFERROR(INDEX('Info générale'!$D$13:$D$2500,_xlfn.AGGREGATE(15,6,(1/(('Info générale'!$J$13:$J$2500="OUI"))*ROW('Info générale'!$D$13:$D$2500)-12),ROW()-12)),"") | D23: =IFERROR(INDEX('Info générale'!B$13:B$2500,_xlfn.AGGREGATE(15,6,(1/(('Info générale'!$J$13:$J$2500="OUI"))*ROW('Info générale'!$D$13:$D$2500)-12),ROW()-12)),"") | E23: =IFERROR(INDEX('Info générale'!C$13:C$2500,_xlfn.AGGREGATE(15,6,(1/(('Info générale'!$J$13:$J$2500="OUI"))*ROW('Info générale'!$D$13:$D$2500)-12),ROW()-12)),"")
C24: =IFERROR(INDEX('Info générale'!$D$13:$D$2500,_xlfn.AGGREGATE(15,6,(1/(('Info générale'!$J$13:$J$2500="OUI"))*ROW('Info générale'!$D$13:$D$2500)-12),ROW()-12)),"") | D24: =IFERROR(INDEX('Info générale'!B$13:B$2500,_xlfn.AGGREGATE(15,6,(1/(('Info générale'!$J$13:$J$2500="OUI"))*ROW('Info générale'!$D$13:$D$2500)-12),ROW()-12)),"") | E24: =IFERROR(INDEX('Info générale'!C$13:C$2500,_xlfn.AGGREGATE(15,6,(1/(('Info générale'!$J$13:$J$2500="OUI"))*ROW('Info générale'!$D$13:$D$2500)-12),ROW()-12)),"")
... C31: =IFERROR(INDEX('Info générale'!$D$13:$D$2500,_xlfn.AGGREGATE(15,6,(1/(('Info générale'!$J$13:$J$2500="OUI"))*ROW('Info générale'!$D$13:$D$2500)-12),ROW()-12)),"") | D31: =IFERROR(INDEX('Info générale'!B$13:B$2500,_xlfn.AGGREGATE(15,6,(1/(('Info générale'!$J$13:$J$2500="OUI"))*ROW('Info générale'!$D$13:$D$2500)-12),ROW()-12)),"") | E31: =IFERROR(INDEX('Info générale'!C$13:C$2500,_xlfn.AGGREGATE(15,6,(1/(('Info générale'!$J$13:$J$2500="OUI"))*ROW('Info générale'!$D$13:$D$2500)-12),ROW()-12)),"")
