Workbook
Name Fé_Co: OFFSET('Fériés Congés'!$C$3:$ID$3,,,COUNTA('Fériés Congés'!$C:$C)-1)
Name Fériés: OFFSET('Fériés Congés'!$C$3,,,COUNTA('Fériés Congés'!$C:$C)-1)
Name Noms: OFFSET('Fériés Congés'!$D$2,,,,COUNTA('Fériés Congés'!$2:$2))

Sheet Calendrier 2022
A1: Janvier | D1: Février | G1: Mars | J1: Avril | M1: Mai | P1: Juin | S1: Juillet | V1: Août | Y1: Septembre | AB1: Octobre | AE1: Novembre | AH1: Décembre
A2: 1 | B2: S | D2: 1 | E2: M | G2: 1 | H2: M | J2: 1 | K2: V | M2: 1 | N2: D | P2: 1 | Q2: M | S2: 1 | T2: V | V2: 1 | W2: L | Y2: 1 | Z2: J | AB2: 1 | AC2: S | AE2: 1 | AF2: M | AH2: 1 | AI2: J
A3: 2 | B3: D | D3: 2 | E3: M | G3: 2 | H3: M | J3: 2 | K3: S | M3: 2 | N3: L | P3: 2 | Q3: J | S3: 2 | T3: S | V3: 2 | W3: M | Y3: 2 | Z3: V | AB3: 2 | AC3: D | AE3: 2 | AF3: M | AH3: 2 | AI3: V
A4: 3 | B4: L | D4: 3 | E4: J | G4: 3 | H4: J | J4: 3 | K4: D | M4: 3 | N4: M | P4: 3 | Q4: V | S4: 3 | T4: D | V4: 3 | W4: M | Y4: 3 | Z4: S | AB4: 3 | AC4: L | AE4: 3 | AF4: J | AH4: 3 | AI4: S
A5: 4 | B5: M | D5: 4 | E5: V | G5: 4 | H5: V | J5: 4 | K5: L | M5: 4 | N5: M | P5: 4 | Q5: S | S5: 4 | T5: L | V5: 4 | W5: J | Y5: 4 | Z5: D | AB5: 4 | AC5: M | AE5: 4 | AF5: V | AH5: 4 | AI5: D
A6: 5 | B6: M | D6: 5 | E6: S | G6: 5 | H6: S | J6: 5 | K6: M | M6: 5 | N6: J | P6: 5 | Q6: D | S6: 5 | T6: M | V6: 5 | W6: V | Y6: 5 | Z6: L | AB6: 5 | AC6: M | AE6: 5 | AF6: S | AH6: 5 | AI6: L
A7: 6 | B7: J | D7: 6 | E7: D | G7: 6 | H7: D | J7: 6 | K7: M | M7: 6 | N7: V | P7: 6 | Q7: L | S7: 6 | T7: M | V7: 6 | W7: S | Y7: 6 | Z7: M | AB7: 6 | AC7: J | AE7: 6 | AF7: D | AH7: 6 | AI7: M
A8: 7 | B8: V | D8: 7 | E8: L | G8: 7 | H8: L | J8: 7 | K8: J | M8: 7 | N8: S | P8: 7 | Q8: M | S8: 7 | T8: J | V8: 7 | W8: D | Y8: 7 | Z8: M | AB8: 7 | AC8: V | AE8: 7 | AF8: L | AH8: 7 | AI8: M
A9: 8 | B9: S | D9: 8 | E9: M | G9: 8 | H9: M | J9: 8 | K9: V | M9: 8 | N9: D | P9: 8 | Q9: M | S9: 8 | T9: V | V9: 8 | W9: L | Y9: 8 | Z9: J | AB9: 8 | AC9: S | AE9: 8 | AF9: M | AH9: 8 | AI9: J
A10: 9 | B10: D | D10: 9 | E10: M | G10: 9 | H10: M | J10: 9 | K10: S | M10: 9 | N10: L | P10: 9 | Q10: J | S10: 9 | T10: S | V10: 9 | W10: M | Y10: 9 | Z10: V | AB10: 9 | AC10: D | AE10: 9 | AF10: M | AH10: 9 | AI10: V
A11: 10 | B11: L | D11: 10 | E11: J | G11: 10 | H11: J | J11: 10 | K11: D | M11: 10 | N11: M | P11: 10 | Q11: V | S11: 10 | T11: D | V11: 10 | W11: M | Y11: 10 | Z11: S | AB11: 10 | AC11: L | AE11: 10 | AF11: J | AH11: 10 | AI11: S
A12: 11 | B12: M | D12: 11 | E12: V | G12: 11 | H12: V | J12: 11 | K12: L | M12: 11 | N12: M | P12: 11 | Q12: S | S12: 11 | T12: L | V12: 11 | W12: J | Y12: 11 | Z12: D | AB12: 11 | AC12: M | AE12: 11 | AF12: V | AH12: 11 | AI12: D
A13: 12 | B13: M | D13: 12 | E13: S | G13: 12 | H13: S | J13: 12 | K13: M | M13: 12 | N13: J | P13: 12 | Q13: D | S13: 12 | T13: M | V13: 12 | W13: V | Y13: 12 | Z13: L | AB13: 12 | AC13: M | AE13: 12 | AF13: S | AH13: 12 | AI13: L
... A29: 28 | B29: V | D29: 28 | E29: L | G29: 28 | H29: L | J29: 28 | K29: J | M29: 28 | N29: S | P29: 28 | Q29: M | S29: 28 | T29: J | V29: 28 | W29: D | Y29: 28 | Z29: M | AB29: 28 | AC29: V | AE29: 28 | AF29: L | AH29: 28 | AI29: M
A30: 29 | B30: S | G30: 29 | H30: M | J30: 29 | K30: V | M30: 29 | N30: D | P30: 29 | Q30: M | S30: 29 | T30: V | V30: 29 | W30: L | Y30: 29 | Z30: J | AB30: 29 | AC30: S | AE30: 29 | AF30: M | AH30: 29 | AI30: J
A31: 30 | B31: D | G31: 30 | H31: M | J31: 30 | K31: S | M31: 30 | N31: L | P31: 30 | Q31: J | S31: 30 | T31: S | V31: 30 | W31: M | Y31: 30 | Z31: V | AB31: 30 | AC31: D | AE31: 30 | AF31: M | AH31: 30 | AI31: V
A32: 31 | B32: L | G32: 31 | H32: J | M32: 31 | N32: M | S32: 31 | T32: D | V32: 31 | W32: M | AB32: 31 | AC32: L | AH32: 31 | AI32: S
A33: iCalendrier.fr

Sheet ETUDIANTS ABS DU AU
A1: Elèves | B1: DEBUT ABS | C1: FIN D'ABS | D1: DUREE D'ABS | E1: DUREE REELE AVEC PRISE EN COMPTE DES JOURS FERIES DES WEEK-END ET DES JOURS DEVANT ETRE TRAVAILLES | F1: JOUR FERIES | G1: JOURS TRAVAILLES | H1: VOIR CALENDRIER 2022
A2: BENAYOUN Déborah (1CG, EXT) | B2: 04/05/2022 08:15 | C2: 04/05/2022 13:05 | D2: =INT(C2-B2)+MOD(C2-B2,1) -> 0.20138889 | E2: =IF(DAY(B2)=DAY(C2),INT(C2-B2)+MOD(C2-B2,1),NETWORKDAYS.INTL(B2,C2-1,"0000011",Fériés)-SUMPRODUCT((Noms=$A2)*('Fériés Congés'!$D$3:$ID$301>0))+MOD(C2-B2,1)) -> 0.20138889
A3: BENICHOU Carla (1CG, EXT) | B3: 11/05/2022 14:05 | C3: 11/05/2022 17:05 | D3: =INT(C3-B3)+MOD(C3-B3,1) -> 0.125 | E3: =IF(DAY(B3)=DAY(C3),INT(C3-B3)+MOD(C3-B3,1),NETWORKDAYS.INTL(B3,C3-1,"0000011",Fériés)-SUMPRODUCT((Noms=$A3)*('Fériés Congés'!$D$3:$ID$301>0))+MOD(C3-B3,1)) -> 0.125
A4: BENICHOU Carla (1CG, EXT) | B4: 10/05/2022 08:15 | C4: 10/05/2022 17:05 | D4: =INT(C4-B4)+MOD(C4-B4,1) -> 0.36805556 | E4: =IF(DAY(B4)=DAY(C4),INT(C4-B4)+MOD(C4-B4,1),NETWORKDAYS.INTL(B4,C4-1,"0000011",Fériés)-SUMPRODUCT((Noms=$A4)*('Fériés Congés'!$D$3:$ID$301>0))+MOD(C4-B4,1)) -> 0.36805556
A5: GHENASSIA Dvora (1CG, EXT) | B5: 24/05/2022 08:15 | C5: 24/05/2022 10:05 | D5: =INT(C5-B5)+MOD(C5-B5,1) -> 0.076388889 | E5: =IF(DAY(B5)=DAY(C5),INT(C5-B5)+MOD(C5-B5,1),NETWORKDAYS.INTL(B5,C5-1,"0000011",Fériés)-SUMPRODUCT((Noms=$A5)*('Fériés Congés'!$D$3:$ID$301>0))+MOD(C5-B5,1)) -> 0.076388889
A6: HALIMI Shirel (1CG, EXT) | B6: 11/05/2022 14:05 | C6: 11/05/2022 17:05 | D6: =INT(C6-B6)+MOD(C6-B6,1) -> 0.125 | E6: =IF(DAY(B6)=DAY(C6),INT(C6-B6)+MOD(C6-B6,1),NETWORKDAYS.INTL(B6,C6-1,"0000011",Fériés)-SUMPRODUCT((Noms=$A6)*('Fériés Congés'!$D$3:$ID$301>0))+MOD(C6-B6,1)) -> 0.125
A7: HALIMI Shirel (1CG, EXT) | B7: 10/05/2022 08:15 | C7: 10/05/2022 17:05 | D7: =INT(C7-B7)+MOD(C7-B7,1) -> 0.36805556 | E7: =IF(DAY(B7)=DAY(C7),INT(C7-B7)+MOD(C7-B7,1),NETWORKDAYS.INTL(B7,C7-1,"0000011",Fériés)-SUMPRODUCT((Noms=$A7)*('Fériés Congés'!$D$3:$ID$301>0))+MOD(C7-B7,1)) -> 0.36805556
A8: LOUINEAU Amélie (1CG, EXT) | B8: 10/11/2021 15:00 | C8: 17/11/2021 17:05 | D8: =INT(C8-B8)+MOD(C8-B8,1) -> 7.0868056 | E8: =IF(DAY(B8)=DAY(C8),INT(C8-B8)+MOD(C8-B8,1),NETWORKDAYS.INTL(B8,C8-1,"0000011",Fériés)-SUMPRODUCT((Noms=$A8)*('Fériés Congés'!$D$3:$ID$301>0))+MOD(C8-B8,1)) -> 5.0868056
A9: LOUINEAU Amélie (1CG, EXT) | B9: 24/05/2022 08:15 | C9: 25/05/2022 13:05 | D9: =INT(C9-B9)+MOD(C9-B9,1) -> 1.2013889 | E9: =IF(DAY(B9)=DAY(C9),INT(C9-B9)+MOD(C9-B9,1),NETWORKDAYS.INTL(B9,C9-1,"0000011",Fériés)-SUMPRODUCT((Noms=$A9)*('Fériés Congés'!$D$3:$ID$301>0))+MOD(C9-B9,1)) -> 1.2013889
A10: NGASSA Pernelle (1CG, EXT) | B10: 01/06/2022 08:15 | C10: 01/06/2022 13:05 | D10: =INT(C10-B10)+MOD(C10-B10,1) -> 0.20138889 | E10: =IF(DAY(B10)=DAY(C10),INT(C10-B10)+MOD(C10-B10,1),NETWORKDAYS.INTL(B10,C10-1,"0000011",Fériés)-SUMPRODUCT((Noms=$A10)*('Fériés Congés'!$D$3:$ID$301>0))+MOD(C10-B10,1)) -> 0.20138889
A11: NGASSA Pernelle (1CG, EXT) | B11: 18/05/2022 16:10 | C11: 24/05/2022 17:05 | D11: =INT(C11-B11)+MOD(C11-B11,1) -> 6.0381944 | E11: =IF(DAY(B11)=DAY(C11),INT(C11-B11)+MOD(C11-B11,1),NETWORKDAYS.INTL(B11,C11-1,"0000011",Fériés)-SUMPRODUCT((Noms=$A11)*('Fériés Congés'!$D$3:$ID$301>0))+MOD(C11-B11,1)) -> 2.0381944 | F11: NORNALEMENT CETTE PERSONNE ON DEVRAIT LUI ENLEVER 4 JOURS : 2 JOURS DU SAMEDI ET DIMANCHE ET 2 JOURS OU ELLE NE DOIT PAS TRAVAILLER LUNDI 23 ET VENDREDI 20
A12: NGASSA Pernelle (1CG, EXT) | B12: 17/05/2022 08:15 | C12: 17/05/2022 17:05 | D12: =INT(C12-B12)+MOD(C12-B12,1) -> 0.36805556 | E12: =IF(DAY(B12)=DAY(C12),INT(C12-B12)+MOD(C12-B12,1),NETWORKDAYS.INTL(B12,C12-1,"0000011",Fériés)-SUMPRODUCT((Noms=$A12)*('Fériés Congés'!$D$3:$ID$301>0))+MOD(C12-B12,1)) -> 0.36805556
A13: NGASSA Pernelle (1CG, EXT) | B13: 11/05/2022 14:05 | C13: 11/05/2022 17:05 | D13: =INT(C13-B13)+MOD(C13-B13,1) -> 0.125 | E13: =IF(DAY(B13)=DAY(C13),INT(C13-B13)+MOD(C13-B13,1),NETWORKDAYS.INTL(B13,C13-1,"0000011",Fériés)-SUMPRODUCT((Noms=$A13)*('Fériés Congés'!$D$3:$ID$301>0))+MOD(C13-B13,1)) -> 0.125
A14: NGASSA Pernelle (1CG, EXT) | B14: 10/05/2022 08:15 | C14: 10/05/2022 17:05 | D14: =INT(C14-B14)+MOD(C14-B14,1) -> 0.36805556 | E14: =IF(DAY(B14)=DAY(C14),INT(C14-B14)+MOD(C14-B14,1),NETWORKDAYS.INTL(B14,C14-1,"0000011",Fériés)-SUMPRODUCT((Noms=$A14)*('Fériés Congés'!$D$3:$ID$301>0))+MOD(C14-B14,1)) -> 0.36805556
A15: NGASSA Pernelle (1CG, EXT) | B15: 03/05/2022 08:15 | C15: 03/05/2022 12:10 | D15: =INT(C15-B15)+MOD(C15-B15,1) -> 0.16319444 | E15: =IF(DAY(B15)=DAY(C15),INT(C15-B15)+MOD(C15-B15,1),NETWORKDAYS.INTL(B15,C15-1,"0000011",Fériés)-SUMPRODUCT((Noms=$A15)*('Fériés Congés'!$D$3:$ID$301>0))+MOD(C15-B15,1)) -> 0.16319444
A16: RIVIERE Nathan (1CG, EXT) | B16: 18/05/2022 16:10 | C16: 18/05/2022 17:05 | D16: =INT(C16-B16)+MOD(C16-B16,1) -> 0.038194444 | E16: =IF(DAY(B16)=DAY(C16),INT(C16-B16)+MOD(C16-B16,1),NETWORKDAYS.INTL(B16,C16-1,"0000011",Fériés)-SUMPRODUCT((Noms=$A16)*('Fériés Congés'!$D$3:$ID$301>0))+MOD(C16-B16,1)) -> 0.038194444
A17: ROCHEDIX Benjamin (1CG, EXT) | B17: 17/05/2022 13:10 | C17: 17/05/2022 17:05 | D17: =INT(C17-B17)+MOD(C17-B17,1) -> 0.16319444 | E17: =IF(DAY(B17)=DAY(C17),INT(C17-B17)+MOD(C17-B17,1),NETWORKDAYS.INTL(B17,C17-1,"0000011",Fériés)-SUMPRODUCT((Noms=$A17)*('Fériés Congés'!$D$3:$ID$301>0))+MOD(C17-B17,1)) -> 0.16319444
A18: ROCHEDIX Benjamin (1CG, EXT) | B18: 04/05/2022 16:42 | C18: 04/05/2022 17:05 | D18: =INT(C18-B18)+MOD(C18-B18,1) -> 0.015972222 | E18: =IF(DAY(B18)=DAY(C18),INT(C18-B18)+MOD(C18-B18,1),NETWORKDAYS.INTL(B18,C18-1,"0000011",Fériés)-SUMPRODUCT((Noms=$A18)*('Fériés Congés'!$D$3:$ID$301>0))+MOD(C18-B18,1)) -> 0.015972222
A19: SARI Oguzhan (1CG, EXT) | B19: 31/05/2022 13:10 | C19: 31/05/2022 17:05 | D19: =INT(C19-B19)+MOD(C19-B19,1) -> 0.16319444 | E19: =IF(DAY(B19)=DAY(C19),INT(C19-B19)+MOD(C19-B19,1),NETWORKDAYS.INTL(B19,C19-1,"0000011",Fériés)-SUMPRODUCT((Noms=$A19)*('Fériés Congés'!$D$3:$ID$301>0))+MOD(C19-B19,1)) -> 0.16319444
A20: SARI Oguzhan (1CG, EXT) | B20: 18/05/2022 16:10 | C20: 18/05/2022 17:05 | D20: =INT(C20-B20)+MOD(C20-B20,1) -> 0.038194444 | E20: =IF(DAY(B20)=DAY(C20),INT(C20-B20)+MOD(C20-B20,1),NETWORKDAYS.INTL(B20,C20-1,"0000011",Fériés)-SUMPRODUCT((Noms=$A20)*('Fériés Congés'!$D$3:$ID$301>0))+MOD(C20-B20,1)) -> 0.038194444
A21: SARI Oguzhan (1CG, EXT) | B21: 17/05/2022 08:15 | C21: 17/05/2022 10:05 | D21: =INT(C21-B21)+MOD(C21-B21,1) -> 0.076388889 | E21: =IF(DAY(B21)=DAY(C21),INT(C21-B21)+MOD(C21-B21,1),NETWORKDAYS.INTL(B21,C21-1,"0000011",Fériés)-SUMPRODUCT((Noms=$A21)*('Fériés Congés'!$D$3:$ID$301>0))+MOD(C21-B21,1)) -> 0.076388889
A22: TRAORE Adama (1CG, EXT) | B22: 31/05/2022 13:10 | C22: 31/05/2022 17:05 | D22: =INT(C22-B22)+MOD(C22-B22,1) -> 0.16319444 | E22: =IF(DAY(B22)=DAY(C22),INT(C22-B22)+MOD(C22-B22,1),NETWORKDAYS.INTL(B22,C22-1,"0000011",Fériés)-SUMPRODUCT((Noms=$A22)*('Fériés Congés'!$D$3:$ID$301>0))+MOD(C22-B22,1)) -> 0.16319444
A23: TRAORE Adama (1CG, EXT) | B23: 18/05/2022 16:10 | C23: 18/05/2022 17:05 | D23: =INT(C23-B23)+MOD(C23-B23,1) -> 0.038194444 | E23: =IF(DAY(B23)=DAY(C23),INT(C23-B23)+MOD(C23-B23,1),NETWORKDAYS.INTL(B23,C23-1,"0000011",Fériés)-SUMPRODUCT((Noms=$A23)*('Fériés Congés'!$D$3:$ID$301>0))+MOD(C23-B23,1)) -> 0.038194444
... A662: TOURE YEREBIN Nelly (TTECH, EXT) | B662: 13/05/2022 08:00 | C662: 13/05/2022 09:50 | D662: =INT(C662-B662)+MOD(C662-B662,1) -> 0.076388889 | E662: =IF(DAY(B662)=DAY(C662),INT(C662-B662)+MOD(C662-B662,1),NETWORKDAYS.INTL(B662,C662-1,"0000011",Fériés)-SUMPRODUCT((Noms=$A662)*('Fériés Congés'!$D$3:$ID$301>0))+MOD(C662-B662,1)) -> 0.076388889

Sheet Fériés Congés
C1: Fériés | D1: Congés | E1: Congés | F1: Congés | G1: Congés | H1: Congés | I1: Congés | J1: Congés | K1: Congés | L1: Congés | M1: Congés | N1: Congés | O1: Congés | P1: Congés | Q1: Congés | R1: Congés | S1: Congés | T1: Congés | U1: Congés | V1: Congés | W1: Congés | X1: Congés | Y1: Congés | Z1: Congés | AA1: Congés | AB1: Congés | AC1: Congés | AD1: Congés | AE1: Congés | AF1: Congés | AG1: Congés | AH1: Congés | AI1: Congés | AJ1: Congés | AK1: Congés | AL1: Congés | AM1: Congés | AN1: Congés | AO1: Congés | AP1: Congés | AQ1: Congés | AR1: Congés | AS1: Congés | AT1: Congés | AU1: Congés | AV1: Congés | AW1: Congés | AX1: Congés | AY1: Congés | AZ1: Congés | BA1: Congés | BB1: Congés | BC1: Congés | BD1: Congés | BE1: Congés | BF1: Congés | BG1: Congés | BH1: Congés | BI1: Congés | BJ1: Congés | BK1: Congés | BL1: Congés | BM1: Congés | BN1: Congés | BO1: Congés | BP1: Congés | BQ1: Congés | BR1: Congés | BS1: Congés | BT1: Congés | BU1: Congés | BV1: Congés | BW1: Congés | BX1: Congés | BY1: Congés | BZ1: Congés | CA1: Congés | CB1: Congés | CC1: Congés | CD1: Congés | CE1: Congés | CF1: Congés | CG1: Congés | CH1: Congés | CI1: Congés | CJ1: Congés | CK1: Congés | CL1: Congés | CM1: Congés | CN1: Congés | CO1: Congés | CP1: Congés | CQ1: Congés | CR1: Congés | CS1: Congés | CT1: Congés | CU1: Congés | CV1: Congés | CW1: Congés | CX1: Congés | CY1: Congés | CZ1: Congés | DA1: Congés | DB1: Congés | DC1: Congés | DD1: Congés | DE1: Congés | DF1: Congés | DG1: Congés | DH1: Congés | DI1: Congés | DJ1: Congés | DK1: Congés | DL1: Congés | DM1: Congés | DN1: Congés | DO1: Congés | DP1: Congés | DQ1: Congés | DR1: Congés | DS1: Congés | DT1: Congés | DU1: Congés | DV1: Congés | DW1: Congés | DX1: Congés | DY1: Congés | DZ1: Congés | EA1: Congés | EB1: Congés | EC1: Congés | ED1: Congés | EE1: Congés | EF1: Congés | EG1: Congés | EH1: Congés | EI1: Congés | EJ1: Congés | EK1: Congés | EL1: Congés | EM1: Congés | EN1: Congés | EO1: Congés | EP1: Congés | EQ1: Congés | ER1: Congés | ES1: Congés | ET1: Congés | EU1: Congés | EV1: Congés | EW1: Congés | EX1: Congés | EY1: Congés | EZ1: Congés | FA1: Congés | FB1: Congés | FC1: Congés | FD1: Congés | FE1: Congés | FF1: Congés | FG1: Congés | FH1: Congés | FI1: Congés | FJ1: Congés | FK1: Congés | FL1: Congés | FM1: Congés | FN1: Congés | FO1: Congés | FP1: Congés | FQ1: Congés | FR1: Congés | FS1: Congés | FT1: Congés | FU1: Congés | FV1: Congés | FW1: Congés | FX1: Congés | FY1: Congés | FZ1: Congés | GA1: Congés | GB1: Congés | GC1: Congés | GD1: Congés | GE1: Congés | GF1: Congés | GG1: Congés | GH1: Congés | GI1: Congés | GJ1: Congés | GK1: Congés | GL1: Congés | GM1: Congés | GN1: Congés | GO1: Congés | GP1: Congés | GQ1: Congés | GR1: Congés | GS1: Congés | GT1: Congés | GU1: Congés | GV1: Congés | GW1: Congés | GX1: Congés | GY1: Congés | GZ1: Congés | HA1: Congés | HB1: Congés | HC1: Congés | HD1: Congés | HE1: Congés | HF1: Congés | HG1: Congés | HH1: Congés | HI1: Congés | HJ1: Congés | HK1: Congés | HL1: Congés | HM1: Congés | HN1: Congés | HO1: Congés | HP1: Congés | HQ1: Congés | HR1: Congés | HS1: Congés | HT1: Congés | HU1: Congés | HV1: Congés | HW1: Congés | HX1: Congés | HY1: Congés | HZ1: Congés | IA1: Congés | IB1: Congés | IC1: Congés | ID1: Congés
D2: BENAYOUN Déborah (1CG, EXT) | E2: BENICHOU Carla (1CG, EXT) | F2: GHENASSIA Dvora (1CG, EXT) | G2: HALIMI Shirel (1CG, EXT) | H2: LOUINEAU Amélie (1CG, EXT) | I2: NGASSA Pernelle (1CG, EXT) | J2: RIVIERE Nathan (1CG, EXT) | K2: ROCHEDIX Benjamin (1CG, EXT) | L2: SARI Oguzhan (1CG, EXT) | M2: TRAORE Adama (1CG, EXT) | N2: BRUSCHI Tom (1DSCG, EXT) | O2: ESSOMO Nadine (1DSCG, EXT) | P2: GERMAIN Léa (1DSCG, EXT) | Q2: GUEYE Johana (1DSCG, EXT) | R2: SUFRACI Siddik (1DSCG, EXT) | S2: ZOUGS Hugo (1DSCG, EXT) | T2: AMOZIGH Maxime (1GPMEA, EXT) | U2: BOULON Eva (1GPMEA, EXT) | V2: CHERFA Seif Eddine (1GPMEA, EXT) | W2: DJEDIDI Sabrina (1GPMEA, EXT) | X2: EVA OCEANE (1GPMEA, EXT) | Y2: FROISSARD Camille (1GPMEA, EXT) | Z2: GRIENAY JULIA (1GPMEA, EXT) | AA2: HUGUET Tiphanie (1GPMEA, EXT) | AB2: LEVY Shelly (1GPMEA, EXT) | AC2: LOGEROT Arthur (1GPMEA, EXT) | AD2: SEFAJ Altina (1GPMEA, EXT) | AE2: SEMHOUN Shanny (1GPMEA, EXT) | AF2: TEMPERE Mareva (1GPMEA, EXT) | AG2: ALVES Maria (1GPMEI, EXT) | AH2: BERISHA Alessia (1GPMEI, EXT) | AI2: GUEVORGUIAN Annie (1GPMEI, EXT) | AJ2: NHIOMOCK Isaac (1GPMEI, EXT) | AK2: VARESANO Marion (1GPMEI, EXT) | AL2: BIDARI Philippe (1PAGO, DP) | AM2: HABIBOU Lea (1PAGO, DP) | AN2: LOUARTANI Lylia (1PAGO, DP) | AO2: MZOUGHI Maryem (1PAGO, DP) | AP2: SIKSIK Sacha (1PAGO, DP) | AQ2: HADET Aurelien (1PSN, DP) | AR2: LAYANI Aaron (1PSN, DP) | AS2: PLE Mael (1PSN, DP) | AT2: EL HADRI Marwan (1PSN, EXT) | AU2: AKAY Omer (1SIO, EXT) | AV2: BOUMALLASSA Ayoub (1SIO, EXT) | AW2: GARCIA DE LA PINERA Victorio (1SIO, EXT) | AX2: LAFI Rayan (1SIO, EXT) | AY2: LECONTE Benjamin (1SIO, EXT) | AZ2: MRHIZER Mohamed-jessim (1SIO, EXT) | BA2: NEKKOUR Ayoub (1SIO, EXT) | BB2: PATOUILLARD Virgile (1SIO, EXT) | BC2: BOUBAKER Nelys (1SNIR, EXT) | BD2: BOUDAOUD Yanis (1SNIR, EXT) | BE2: BOUGADOUM Chakib (1SNIR, EXT) | BF2: BRON Adrien (1SNIR, EXT) | BG2: CANAC Andy (1SNIR, EXT) | BH2: DONABEDIAN Louis (1SNIR, EXT) | BI2: GONZALEZ Anthony (1SNIR, EXT) | BJ2: HADJI Mohamed (1SNIR, EXT) | BK2: SETTAR Elyes (1SNIR, EXT) | BL2: TARRIDE Anthony (1SNIR, EXT) | BM2: AMSELLEM Elona (1TECH, DP) | BN2: BENYAMINE Annah (1TECH, DP) | BO2: BOUVIER Valentin (1TECH, DP) | BP2: ENNEDAM Rachel (1TECH, DP) | BQ2: ETTOUATI Sarah (1TECH, DP) | BR2: MAMANE Rahel (1TECH, DP) | BS2: MESLATI Noa (1TECH, DP) | BT2: PALAZON Thomas (1TECH, DP) | BU2: SEBAG Shana (1TECH, DP) | BV2: DER ARSENIAN Vahe (1TECH, EXT) | BW2: ALVAREZ-BRETON Alexane (2CG, EXT) | BX2: BOUZAGLOU Myriam (2CG, EXT) | BY2: BRAUNEISSEN Thomas (2CG, EXT) | BZ2: CHABANNE Antonin (2CG, EXT) | CA2: CHAROUD Louis (2CG, EXT) | CB2: CHAROUD Maxime (2CG, EXT) | CC2: COSTE Romane (2CG, EXT) | CD2: DA-CRUZ Margot (2CG, EXT) | CE2: DE ABREU David (2CG, EXT) | CF2: KABUEMI PEMI Fortuna (2CG, EXT) | CG2: LEMOING Erica (2CG, EXT) | CH2: MUSY Paul (2CG, EXT) | CI2: NAVARRO Galaad (2CG, EXT) | CJ2: SIKCIK Anaelle (2CG, EXT) | CK2: ABILI Exaucee (2DCG) | CL2: BOUBAKER Moufida (2DCG) | CM2: HAJARINE Emma (2DCG) | CN2: MORNEY Colin (2DCG) | CO2: SOUCHON William (2DCG) | CP2: AMOZIGH Ylan (2DCG, EXT) | CQ2: LIABOT Igor (2DCG, EXT) | CR2: LOUDDAD Yazid (2DCG, EXT) | CS2: MENDEZ Kévin (2DCG, EXT) | CT2: OJEDA Damien (2DCG, EXT) | CU2: AMAR Julia (2GPMEA, EXT) | CV2: AMARAL DOS SANTOS Béatriz (2GPMEA, EXT) | CW2: BAPTE Brendy (2GPMEA, EXT) | CX2: BELLEVILLE Celestin (2GPMEA, EXT) | CY2: BODART Amélie (2GPMEA, EXT) | CZ2: BOUSSON Robin (2GPMEA, EXT) | DA2: BRUN Lindy (2GPMEA, EXT) | DB2: BRUNET Robin (2GPMEA, EXT) | DC2: COHEN Anaël (2GPMEA, EXT) | DD2: COSTAZ Noé (2GPMEA, EXT) | DE2: GAILLARD Romain (2GPMEA, EXT) | DF2: GATEPAILLE Angèle (2GPMEA, EXT) | DG2: JAOUI Julia (2GPMEA, EXT) | DH2: JOMET Lisa (2GPMEA, EXT) | DI2: KASSI Myriam (2GPMEA, EXT) | DJ2: LIGNEREUX Laure (2GPMEA, EXT) | DK2: LION Murliana (2GPMEA, EXT) | DL2: MADAR Yossef (2GPMEA, EXT) | DM2: NANGA Pedro (2GPMEA, EXT) | DN2: PICAVET Victor (2GPMEA, EXT) | DO2: REBOISSON Anais (2GPMEA, EXT) | DP2: SARAN David (2GPMEA, EXT) | DQ2: TOLEDANO Shirly (2GPMEA, EXT) | DR2: ALLOIN Louise (2GPMEI, EXT) | DS2: BEDDA Sirine (2GPMEI, EXT) | DT2: BENDADA Emira (2GPMEI, EXT) | DU2: ESSADKI Ines (2GPMEI, EXT) | DV2: HAVLOUDJIAN Mathieu (2GPMEI, EXT) | DW2: KOUIDRI Sarah (2GPMEI, EXT) | DX2: LEVY Anna (2GPMEI, EXT) | DY2: LOBODA Victoria (2GPMEI, EXT) | DZ2: MAMATA Meredith Solène (2GPMEI, EXT) | EA2: MANGA Keren (2GPMEI, EXT) | EB2: MOLIVIER Maëva (2GPMEI, EXT) | EC2: ROSIER Jessica (2GPMEI, EXT) | ED2: SELHAMI Yasmina - Nacéra (2GPMEI, EXT) | EE2: YELKOUNI Sarah (2GPMEI, EXT) | EF2: CHAMBA George (2PAGO, EXT) | EG2: SERRANO Flavio (2PAGO, EXT) | EH2: FROMENT Mathis (2PSN, DP) | EI2: OURDOUILLIE Rémy (2PSN, DP) | EJ2: ABDALLAH Toufaha (2SIO, EXT) | EK2: BERNARD BRET Chloë (2SIO, EXT) | EL2: BEUROT Mathis (2SIO, EXT) | EM2: KEUGA FOTSI Maella (2SIO, EXT) | EN2: LADJILI Khalil (2SIO, EXT) | EO2: NEDJAH Lucas (2SIO, EXT) | EP2: PERRICHON Martin (2SIO, EXT) | EQ2: QUESNOT Scotty (2SIO, EXT) | ER2: SAMORA Ulrich (2SIO, EXT) | ES2: VIERA NUNES Ruben Filipe (2SIO, EXT) | ET2: BENITA Eitan (2SNIR, EXT) | EU2: BIBI Ahmed (2SNIR, EXT) | EV2: BRUN Aloïs (2SNIR, EXT) | EW2: GARCIA-HERRA Mathieu (2SNIR, EXT) | EX2: GUTIERREZ Roméo (2SNIR, EXT) | EY2: JOLY Loïs (2SNIR, EXT) | EZ2: MEBKHOUTI Jad'allah (2SNIR, EXT) | FA2: PHILIP Nicolas (2SNIR, EXT) | FB2: SAUVAGE Thimothée (2SNIR, EXT) | FC2: VAZ Alexandre (2SNIR, EXT) | FD2: AGNOLY Honorine (3DCG, EXT) | FE2: GRANADOS-BRITEL Thomas (3DCG, EXT) | FF2: MEJEAN Lou (3DCG, EXT) | FG2: MORARDET Kévin (3DCG, EXT) | FH2: MUNCH Claire (3DCG, EXT) | FI2: PELLETIER Maurine (3DCG, EXT) | FJ2: BETTON Hugo (3OLEN, EXT) | FK2: COTE Xavier (3OLEN, EXT) | FL2: DESSEIGNET Lohan (3OLEN, EXT) | FM2: EMERYDUVAREILLE Pierre Emmanuel (3OLEN, EXT) | FN2: ILONI Ethan (3OLEN, EXT) | FO2: LAFFI Habib (3OLEN, EXT) | FP2: LAFFI Rayan (3OLEN, EXT) | FQ2: MAGALHAES Quentin (3OLEN, EXT) | FR2: MAGNARD Julien (3OLEN, EXT) | FS2: MAUCHAMP Jules (3OLEN, EXT) | FT2: SELLAM Netaniel (3OLEN, EXT) | FU2: STEIBLEN Jean-Yves (3OLEN, EXT) | FV2: AMOUYAL Ygal (3PM, DP) | FW2: BITTON Rony (3PM, DP) | FX2: CHOUKROUN Gad (3PM, DP) | FY2: MESLATI Sasha (3PM, DP) | FZ2: SELLEM Raphael (3PM, DP) | GA2: GJOKA Alesja (3PM, EXT) | GB2: MOUTAKI Sarah (4DRH, EXT) | GC2: DOS SANTOS Julien (4OLEN, EXT) | GD2: HEDHLI Walid (4OLEN, EXT) | GE2: KIKI Anas (4OLEN, EXT) | GF2: LOVELACE Mathieu (5DRH, EXT) | GG2: ABADIE Alexia (CDRH, EXT) | GH2: ANCIAN Justine (CDRH, EXT) | GI2: BLANC Fleur (CDRH, EXT) | GJ2: DANA Elona (CDRH, EXT) | GK2: GOUNINE Dalèle (CDRH, EXT) | GL2: LARRIVE Thelma (CDRH, EXT) | GM2: LIATOUD Lauryne (CDRH, EXT) | GN2: MELIH Ines (CDRH, EXT) | GO2: MENZOU Elena (CDRH, EXT) | GP2: PEREIRA FERREIRA Beatriz (CDRH, EXT) | GQ2: RICA Amida (CDRH, EXT) | GR2: ROCH Bertrand (CDRH, EXT) | GS2: STANGRET Véronique (CDRH, EXT) | GT2: TAIEB Guila (CDRH, EXT) | GU2: ZAFRAN Siona (CDRH, EXT) | GV2: HABIB Chiara (SGT, DP) | GW2: HADJ-ARAB Inès (SGT, DP) | GX2: SEBA Liora (SGT, DP) | GY2: BENKLIFA Gamliel (TPGA, DP) | GZ2: DIB Ines (TPGA, DP) | HA2: NAKACHE Levana (TPGA, DP) | HB2: PEDRAZZI Clara (TPGA, DP) | HC2: TABET Melinda (TPGA, DP) | HD2: BOSSE Chloé (TPGA, EXT) | HE2: TEBOUL Hillel (TPGA, EXT) | HF2: CHEKROUN Hillel (TPSN, DP) | HG2: HATHOUT Mohamed-Ismail (TPSN, DP) | HH2: HUGUES Robin (TPSN, DP) | HI2: KNAFOU David (TPSN, DP) | HJ2: MANASSIAN Sandro (TPSN, DP) | HK2: SELLAM Benjamin (TPSN, DP) | HL2: SPENNATO Luca (TPSN, DP) | HM2: AMOUYAL Lisa (TTECH, DP) | HN2: BAEZA Julien (TTECH, DP) | HO2: CHOUKROUN Daniel (TTECH, DP) | HP2: CHOUKROUN Naomie (TTECH, DP) | HQ2: FERBER Ethan (TTECH, DP) | HR2: FROMAGE Anthony (TTECH, DP) | HS2: LARBI Ilias (TTECH, DP) | HT2: LEVY Léa (TTECH, DP) | HU2: RICHARD Flavien (TTECH, DP) | HV2: TAIEB Alone (TTECH, DP) | HW2: TEBOUL Shirly (TTECH, DP) | HX2: BARDE Charline (TTECH, EXT) | HY2: COURBON Ilian (TTECH, EXT) | HZ2: E SILVA Fanélie (TTECH, EXT) | IA2: EL HADRI Nesrine (TTECH, EXT) | IB2: PENYA Eyal (TTECH, EXT) | IC2: SEBBAN Chamaï (TTECH, EXT) | ID2: TOURE YEREBIN Nelly (TTECH, EXT)
A3: 2022 | B3: Premier de l'AN | C3: =DATE(A3,1,1) -> 44562 | I3: 44701
B4: Pâques | C4: =ROUND(DATE(A3,4,MOD(234-11*MOD(A3,19),30))/7,0)*7-6 -> 44668 | I4: 44704
B5: Lundi de Pâques | C5: =C4+1 -> 44669
B6: Fête du travail | C6: =DATE(A3,5,1) -> 44682
B7: Victoire de 1945 | C7: =DATE(A3,5,8) -> 44689
B8: Ascension | C8: =C4+39 -> 44707
B9: Pentecôte | C9: =C4+50 -> 44718
B10: Fête nationale | C10: =DATE(A3,7,14) -> 44756
B11: Assomption | C11: =DATE(A3,8,15) -> 44788
B12: Toussaint | C12: =DATE(A3,11,1) -> 44866
B13: Armistice | C13: =DATE(A3,11,11) -> 44876
B14: Noël | C14: =DATE(A3,12,25) -> 44920
