Workbook

Sheet BDD
A1: Nom & Prénom | B1: Date de naissance | C1: Données 1 | D1: Données 2 | E1: Données 3 | F1: Données 4 | G1: Données 5 | H1: Données 6
A2: MOREAU Gérard-Louis | B2: 42370 | C2: 10 | D2: 5 | E2: =C2+D2 -> 15 | F2: =C2*D2+E2 -> 65 | G2: =F2/2 -> 32.5 | H2: =G2-C2 -> 22.5
A3: Fratus Jean-Pierre | B3: 42371 | C3: =C2+10 -> 20 | D3: =D2+5 -> 10 | E3: =C3+D3 -> 30 | F3: =C3*D3+E3 -> 230 | G3: =F3/2 -> 115 | H3: =G3-C3 -> 95
A4: Moru Guy | B4: 42372 | C4: =C3+10 -> 30 | D4: =D3+5 -> 15 | E4: =C4+D4 -> 45 | F4: =C4*D4+E4 -> 495 | G4: =F4/2 -> 247.5 | H4: =G4-C4 -> 217.5
A5: magniere isabelle | B5: 42373 | C5: =C4+10 -> 40 | D5: =D4+5 -> 20 | E5: =C5+D5 -> 60 | F5: =C5*D5+E5 -> 860 | G5: =F5/2 -> 430 | H5: =G5-C5 -> 390
A6: Froment Marie-Chantal | B6: 42374 | C6: =C5+10 -> 50 | D6: =D5+5 -> 25 | E6: =C6+D6 -> 75 | F6: =C6*D6+E6 -> 1325 | G6: =F6/2 -> 662.5 | H6: =G6-C6 -> 612.5
A7: Magniere Christophe | B7: 42375 | C7: =C6+10 -> 60 | D7: =D6+5 -> 30 | E7: =C7+D7 -> 90 | F7: =C7*D7+E7 -> 1890 | G7: =F7/2 -> 945 | H7: =G7-C7 -> 885
A8: Marchand Laure | B8: 42376 | C8: =C7+10 -> 70 | D8: =D7+5 -> 35 | E8: =C8+D8 -> 105 | F8: =C8*D8+E8 -> 2555 | G8: =F8/2 -> 1277.5 | H8: =G8-C8 -> 1207.5
A9: Gentil Christophe | B9: 42377 | C9: =C8+10 -> 80 | D9: =D8+5 -> 40 | E9: =C9+D9 -> 120 | F9: =C9*D9+E9 -> 3320 | G9: =F9/2 -> 1660 | H9: =G9-C9 -> 1580
A10: Chauvette Gilles | B10: 42378 | C10: =C9+10 -> 90 | D10: =D9+5 -> 45 | E10: =C10+D10 -> 135 | F10: =C10*D10+E10 -> 4185 | G10: =F10/2 -> 2092.5 | H10: =G10-C10 -> 2002.5
A11: GROIN JEAN JACQUES | B11: 42380 | C11: =C10+10 -> 100 | D11: =D10+5 -> 50 | E11: =C11+D11 -> 150 | F11: =C11*D11+E11 -> 5150 | G11: =F11/2 -> 2575 | H11: =G11-C11 -> 2475
A12: Grouin Rogers | B12: 42381 | C12: =C11+10 -> 110 | D12: =D11+5 -> 55 | E12: =C12+D12 -> 165 | F12: =C12*D12+E12 -> 6215 | G12: =F12/2 -> 3107.5 | H12: =G12-C12 -> 2997.5
A13: Goldaraz Christine | B13: 42382 | C13: =C12+10 -> 120 | D13: =D12+5 -> 60 | E13: =C13+D13 -> 180 | F13: =C13*D13+E13 -> 7380 | G13: =F13/2 -> 3690 | H13: =G13-C13 -> 3570
A14: BURLIS DOM | B14: 42383 | C14: =C13+10 -> 130 | D14: =D13+5 -> 65 | E14: =C14+D14 -> 195 | F14: =C14*D14+E14 -> 8645 | G14: =F14/2 -> 4322.5 | H14: =G14-C14 -> 4192.5
... A46: Cantinotti Jacky | B46: 42415 | C46: =C45+10 -> 450 | D46: =D45+5 -> 225 | E46: =C46+D46 -> 675 | F46: =C46*D46+E46 -> 101925 | G46: =F46/2 -> 50962.5 | H46: =G46-C46 -> 50512.5

Sheet Liste
A1: 9
F2: Nom & Prénom | G2: =INDEX(BDD!$A$2:$A$46,Liste!$A$1) -> Chauvette Gilles
F3: Date de naissance | G3: =VLOOKUP($G$2,BDD!$A:$H,2,0) -> 42378
F4: Données 1 | G4: =VLOOKUP($G$2,BDD!$A:$H,3,0) -> 90
F5: Données 2 | G5: =VLOOKUP($G$2,BDD!$A:$H,4,0) -> 45
F6: Données 3 | G6: =VLOOKUP($G$2,BDD!$A:$H,5,0) -> 135
F7: Données 4 | G7: =VLOOKUP($G$2,BDD!$A:$H,6,0) -> 4185
F8: Données 5 | G8: =VLOOKUP($G$2,BDD!$A:$H,7,0) -> 2092.5
F9: Données 6 | G9: =VLOOKUP($G$2,BDD!$A:$H,8,0) -> 2002.5
