Workbook

Sheet Feuil1
A1: date | B1: nom
A2: {=IFERROR(MAX(IF((DAY(Feuil2!B$3:B$40)=SMALL(IF(MONTH(Feuil2!B$3:B$40)=MONTH(Feuil2!$B$2),DAY(Feuil2!$B$3:$B$40),""),ROW(A1)))*(MONTH(Feuil2!B$3:B$40)=MONTH(Feuil2!B$2)),DAY(Feuil2!B$3:B$40),"")),"")} -> 1 | B2: {=IFERROR(INDEX(Feuil2!A$3:A$40,SMALL(IF(DAY(Feuil2!$B$3:$B$40)=$A2,ROW(Feuil2!$B$3:$B$40)-2,""),COUNTIF($A$2:$A2,$A2))),"")} -> a12 | C2: {=IFERROR(INDEX(Feuil2!B$3:B$40,SMALL(IF(DAY(Feuil2!$B$3:$B$40)=$A2,ROW(Feuil2!$B$3:$B$40)-2,""),COUNTIF($A$2:$A2,$A2))),"")} -> 18994
A3: {=IFERROR(MAX(IF((DAY(Feuil2!B$3:B$40)=SMALL(IF(MONTH(Feuil2!B$3:B$40)=MONTH(Feuil2!$B$2),DAY(Feuil2!$B$3:$B$40),""),ROW(A2)))*(MONTH(Feuil2!B$3:B$40)=MONTH(Feuil2!B$2)),DAY(Feuil2!B$3:B$40),"")),"")} -> 2 | B3: {=IFERROR(INDEX(Feuil2!A$3:A$40,SMALL(IF(DAY(Feuil2!$B$3:$B$40)=$A3,ROW(Feuil2!$B$3:$B$40)-2,""),COUNTIF($A$2:$A3,$A3))),"")} -> a15 | C3: {=IFERROR(INDEX(Feuil2!B$3:B$40,SMALL(IF(DAY(Feuil2!$B$3:$B$40)=$A3,ROW(Feuil2!$B$3:$B$40)-2,""),COUNTIF($A$2:$A3,$A3))),"")} -> 5815 | E3: les jours anniversaires sont classés croissant
A4: {=IFERROR(MAX(IF((DAY(Feuil2!B$3:B$40)=SMALL(IF(MONTH(Feuil2!B$3:B$40)=MONTH(Feuil2!$B$2),DAY(Feuil2!$B$3:$B$40),""),ROW(A3)))*(MONTH(Feuil2!B$3:B$40)=MONTH(Feuil2!B$2)),DAY(Feuil2!B$3:B$40),"")),"")} -> 3 | B4: {=IFERROR(INDEX(Feuil2!A$3:A$40,SMALL(IF(DAY(Feuil2!$B$3:$B$40)=$A4,ROW(Feuil2!$B$3:$B$40)-2,""),COUNTIF($A$2:$A4,$A4))),"")} -> a35 | C4: {=IFERROR(INDEX(Feuil2!B$3:B$40,SMALL(IF(DAY(Feuil2!$B$3:$B$40)=$A4,ROW(Feuil2!$B$3:$B$40)-2,""),COUNTIF($A$2:$A4,$A4))),"")} -> 13243
A5: {=IFERROR(MAX(IF((DAY(Feuil2!B$3:B$40)=SMALL(IF(MONTH(Feuil2!B$3:B$40)=MONTH(Feuil2!$B$2),DAY(Feuil2!$B$3:$B$40),""),ROW(A4)))*(MONTH(Feuil2!B$3:B$40)=MONTH(Feuil2!B$2)),DAY(Feuil2!B$3:B$40),"")),"")} -> 5 | B5: {=IFERROR(INDEX(Feuil2!A$3:A$40,SMALL(IF(DAY(Feuil2!$B$3:$B$40)=$A5,ROW(Feuil2!$B$3:$B$40)-2,""),COUNTIF($A$2:$A5,$A5))),"")} -> a2 | C5: {=IFERROR(INDEX(Feuil2!B$3:B$40,SMALL(IF(DAY(Feuil2!$B$3:$B$40)=$A5,ROW(Feuil2!$B$3:$B$40)-2,""),COUNTIF($A$2:$A5,$A5))),"")} -> 11784
A6: {=IFERROR(MAX(IF((DAY(Feuil2!B$3:B$40)=SMALL(IF(MONTH(Feuil2!B$3:B$40)=MONTH(Feuil2!$B$2),DAY(Feuil2!$B$3:$B$40),""),ROW(A5)))*(MONTH(Feuil2!B$3:B$40)=MONTH(Feuil2!B$2)),DAY(Feuil2!B$3:B$40),"")),"")} -> 7 | B6: {=IFERROR(INDEX(Feuil2!A$3:A$40,SMALL(IF(DAY(Feuil2!$B$3:$B$40)=$A6,ROW(Feuil2!$B$3:$B$40)-2,""),COUNTIF($A$2:$A6,$A6))),"")} -> a17 | C6: {=IFERROR(INDEX(Feuil2!B$3:B$40,SMALL(IF(DAY(Feuil2!$B$3:$B$40)=$A6,ROW(Feuil2!$B$3:$B$40)-2,""),COUNTIF($A$2:$A6,$A6))),"")} -> 14708
A7: {=IFERROR(MAX(IF((DAY(Feuil2!B$3:B$40)=SMALL(IF(MONTH(Feuil2!B$3:B$40)=MONTH(Feuil2!$B$2),DAY(Feuil2!$B$3:$B$40),""),ROW(A6)))*(MONTH(Feuil2!B$3:B$40)=MONTH(Feuil2!B$2)),DAY(Feuil2!B$3:B$40),"")),"")} -> 9 | B7: {=IFERROR(INDEX(Feuil2!A$3:A$40,SMALL(IF(DAY(Feuil2!$B$3:$B$40)=$A7,ROW(Feuil2!$B$3:$B$40)-2,""),COUNTIF($A$2:$A7,$A7))),"")} -> a24 | C7: {=IFERROR(INDEX(Feuil2!B$3:B$40,SMALL(IF(DAY(Feuil2!$B$3:$B$40)=$A7,ROW(Feuil2!$B$3:$B$40)-2,""),COUNTIF($A$2:$A7,$A7))),"")} -> 11422
A8: {=IFERROR(MAX(IF((DAY(Feuil2!B$3:B$40)=SMALL(IF(MONTH(Feuil2!B$3:B$40)=MONTH(Feuil2!$B$2),DAY(Feuil2!$B$3:$B$40),""),ROW(A7)))*(MONTH(Feuil2!B$3:B$40)=MONTH(Feuil2!B$2)),DAY(Feuil2!B$3:B$40),"")),"")} -> 11 | B8: {=IFERROR(INDEX(Feuil2!A$3:A$40,SMALL(IF(DAY(Feuil2!$B$3:$B$40)=$A8,ROW(Feuil2!$B$3:$B$40)-2,""),COUNTIF($A$2:$A8,$A8))),"")} -> a16 | C8: {=IFERROR(INDEX(Feuil2!B$3:B$40,SMALL(IF(DAY(Feuil2!$B$3:$B$40)=$A8,ROW(Feuil2!$B$3:$B$40)-2,""),COUNTIF($A$2:$A8,$A8))),"")} -> 26034
A9: {=IFERROR(MAX(IF((DAY(Feuil2!B$3:B$40)=SMALL(IF(MONTH(Feuil2!B$3:B$40)=MONTH(Feuil2!$B$2),DAY(Feuil2!$B$3:$B$40),""),ROW(A8)))*(MONTH(Feuil2!B$3:B$40)=MONTH(Feuil2!B$2)),DAY(Feuil2!B$3:B$40),"")),"")} -> 29 | B9: {=IFERROR(INDEX(Feuil2!A$3:A$40,SMALL(IF(DAY(Feuil2!$B$3:$B$40)=$A9,ROW(Feuil2!$B$3:$B$40)-2,""),COUNTIF($A$2:$A9,$A9))),"")} -> a14 | C9: {=IFERROR(INDEX(Feuil2!B$3:B$40,SMALL(IF(DAY(Feuil2!$B$3:$B$40)=$A9,ROW(Feuil2!$B$3:$B$40)-2,""),COUNTIF($A$2:$A9,$A9))),"")} -> 15095
A10: {=IFERROR(MAX(IF((DAY(Feuil2!B$3:B$40)=SMALL(IF(MONTH(Feuil2!B$3:B$40)=MONTH(Feuil2!$B$2),DAY(Feuil2!$B$3:$B$40),""),ROW(A9)))*(MONTH(Feuil2!B$3:B$40)=MONTH(Feuil2!B$2)),DAY(Feuil2!B$3:B$40),"")),"")} -> 29 | B10: {=IFERROR(INDEX(Feuil2!A$3:A$40,SMALL(IF(DAY(Feuil2!$B$3:$B$40)=$A10,ROW(Feuil2!$B$3:$B$40)-2,""),COUNTIF($A$2:$A10,$A10))),"")} -> a29 | C10: {=IFERROR(INDEX(Feuil2!B$3:B$40,SMALL(IF(DAY(Feuil2!$B$3:$B$40)=$A10,ROW(Feuil2!$B$3:$B$40)-2,""),COUNTIF($A$2:$A10,$A10))),"")} -> 13634
A11: {=IFERROR(MAX(IF((DAY(Feuil2!B$3:B$40)=SMALL(IF(MONTH(Feuil2!B$3:B$40)=MONTH(Feuil2!$B$2),DAY(Feuil2!$B$3:$B$40),""),ROW(A10)))*(MONTH(Feuil2!B$3:B$40)=MONTH(Feuil2!B$2)),DAY(Feuil2!B$3:B$40),"")),"")} | B11: {=IFERROR(INDEX(Feuil2!A$3:A$40,SMALL(IF(DAY(Feuil2!$B$3:$B$40)=$A11,ROW(Feuil2!$B$3:$B$40)-2,""),COUNTIF($A$2:$A11,$A11))),"")} | C11: {=IFERROR(INDEX(Feuil2!B$3:B$40,SMALL(IF(DAY(Feuil2!$B$3:$B$40)=$A11,ROW(Feuil2!$B$3:$B$40)-2,""),COUNTIF($A$2:$A11,$A11))),"")}
A12: {=IFERROR(MAX(IF((DAY(Feuil2!B$3:B$40)=SMALL(IF(MONTH(Feuil2!B$3:B$40)=MONTH(Feuil2!$B$2),DAY(Feuil2!$B$3:$B$40),""),ROW(A11)))*(MONTH(Feuil2!B$3:B$40)=MONTH(Feuil2!B$2)),DAY(Feuil2!B$3:B$40),"")),"")} | B12: {=IFERROR(INDEX(Feuil2!A$3:A$40,SMALL(IF(DAY(Feuil2!$B$3:$B$40)=$A12,ROW(Feuil2!$B$3:$B$40)-2,""),COUNTIF($A$2:$A12,$A12))),"")} | C12: {=IFERROR(INDEX(Feuil2!B$3:B$40,SMALL(IF(DAY(Feuil2!$B$3:$B$40)=$A12,ROW(Feuil2!$B$3:$B$40)-2,""),COUNTIF($A$2:$A12,$A12))),"")}
A13: {=IFERROR(MAX(IF((DAY(Feuil2!B$3:B$40)=SMALL(IF(MONTH(Feuil2!B$3:B$40)=MONTH(Feuil2!$B$2),DAY(Feuil2!$B$3:$B$40),""),ROW(A12)))*(MONTH(Feuil2!B$3:B$40)=MONTH(Feuil2!B$2)),DAY(Feuil2!B$3:B$40),"")),"")} | B13: {=IFERROR(INDEX(Feuil2!A$3:A$40,SMALL(IF(DAY(Feuil2!$B$3:$B$40)=$A13,ROW(Feuil2!$B$3:$B$40)-2,""),COUNTIF($A$2:$A13,$A13))),"")} | C13: {=IFERROR(INDEX(Feuil2!B$3:B$40,SMALL(IF(DAY(Feuil2!$B$3:$B$40)=$A13,ROW(Feuil2!$B$3:$B$40)-2,""),COUNTIF($A$2:$A13,$A13))),"")}
A14: {=IFERROR(MAX(IF((DAY(Feuil2!B$3:B$40)=SMALL(IF(MONTH(Feuil2!B$3:B$40)=MONTH(Feuil2!$B$2),DAY(Feuil2!$B$3:$B$40),""),ROW(A13)))*(MONTH(Feuil2!B$3:B$40)=MONTH(Feuil2!B$2)),DAY(Feuil2!B$3:B$40),"")),"")} | B14: {=IFERROR(INDEX(Feuil2!A$3:A$40,SMALL(IF(DAY(Feuil2!$B$3:$B$40)=$A14,ROW(Feuil2!$B$3:$B$40)-2,""),COUNTIF($A$2:$A14,$A14))),"")} | C14: {=IFERROR(INDEX(Feuil2!B$3:B$40,SMALL(IF(DAY(Feuil2!$B$3:$B$40)=$A14,ROW(Feuil2!$B$3:$B$40)-2,""),COUNTIF($A$2:$A14,$A14))),"")}
A15: {=IFERROR(MAX(IF((DAY(Feuil2!B$3:B$40)=SMALL(IF(MONTH(Feuil2!B$3:B$40)=MONTH(Feuil2!$B$2),DAY(Feuil2!$B$3:$B$40),""),ROW(A14)))*(MONTH(Feuil2!B$3:B$40)=MONTH(Feuil2!B$2)),DAY(Feuil2!B$3:B$40),"")),"")} | B15: {=IFERROR(INDEX(Feuil2!A$3:A$40,SMALL(IF(DAY(Feuil2!$B$3:$B$40)=$A15,ROW(Feuil2!$B$3:$B$40)-2,""),COUNTIF($A$2:$A15,$A15))),"")} | C15: {=IFERROR(INDEX(Feuil2!B$3:B$40,SMALL(IF(DAY(Feuil2!$B$3:$B$40)=$A15,ROW(Feuil2!$B$3:$B$40)-2,""),COUNTIF($A$2:$A15,$A15))),"")}
A16: {=IFERROR(MAX(IF((DAY(Feuil2!B$3:B$40)=SMALL(IF(MONTH(Feuil2!B$3:B$40)=MONTH(Feuil2!$B$2),DAY(Feuil2!$B$3:$B$40),""),ROW(A15)))*(MONTH(Feuil2!B$3:B$40)=MONTH(Feuil2!B$2)),DAY(Feuil2!B$3:B$40),"")),"")} | B16: {=IFERROR(INDEX(Feuil2!A$3:A$40,SMALL(IF(DAY(Feuil2!$B$3:$B$40)=$A16,ROW(Feuil2!$B$3:$B$40)-2,""),COUNTIF($A$2:$A16,$A16))),"")} | C16: {=IFERROR(INDEX(Feuil2!B$3:B$40,SMALL(IF(DAY(Feuil2!$B$3:$B$40)=$A16,ROW(Feuil2!$B$3:$B$40)-2,""),COUNTIF($A$2:$A16,$A16))),"")}

Sheet Feuil2
A1: NOM | B1: DN
B2: =TODAY() -> 44655
A3: a1 | B3: 13498
A4: a2 | B4: 11784
A5: a3 | B5: 25543
A6: a4 | B6: 13566
A7: a5
A8: a6 | B8: 13148
A9: a7 | B9: 15423
A10: a8 | B10: 17498
A11: a9 | B11: 23502
A12: a10 | B12: 16944
A13: a11 | B13: 12027
A14: a12 | B14: 18994
A15: a13 | B15: 30950
A16: a14 | B16: 15095
A17: a15 | B17: 5815
A18: a16 | B18: 26034
A19: a17 | B19: 14708
... A40: a38 | B40: 18835
