Workbook

Sheet BDD
A1: LIBELLE DE COMPTE | B1: COMPTE | C1: INFORMATION | D1: TAUX | E1: TOTAL HT | F1: TOTAL TTC | G1: TVA | I1: LIBELLE DE COMPTE | J1: COMPTE | K1: INFORMATION | L1: TAUX | M1: TOTAL HT | N1: TOTAL TTC | O1: TVA
C2: TVA COLLECTEE | K2: TVA DEDUCTIBLE
A3: TVA collectée sur immos 1 | B3: 445710 | G3: =IF(E3>0,D3*E3,F3/(1+D3)*D3) -> 0 | I3: TVA déd sur immos 1 | J3: 445620 | L3: 0.2 | N3: 780.51 | O3: =IF(M3>0,L3*M3,N3/(1+L3)*L3) -> 130.085
A4: TVA collectée sur immos 2 | B4: 445710 | C4: Vente d'immos FR | G4: =IF(E4>0,D4*E4,F4/(1+D4)*D4) -> 0 | I4: TVA déd sur immos 2 | J4: 445620 | K4: Achat d'immo FR | O4: =IF(M4>0,L4*M4,N4/(1+L4)*L4) -> 0
A5: TVA collectée sur immos 3 | B5: 445710 | G5: =IF(E5>0,D5*E5,F5/(1+D5)*D5) -> 0 | I5: TVA déd sur immos 3 | J5: 445620 | O5: =IF(M5>0,L5*M5,N5/(1+L5)*L5) -> 0
A6: TVA collectée sur immos 4 | B6: 445710 | G6: =IF(E6>0,D6*E6,F6/(1+D6)*D6) -> 0 | I6: TVA déd sur immos 4 | J6: 445620 | O6: =IF(M6>0,L6*M6,N6/(1+L6)*L6) -> 0
E7: TOTAL | G7: =SUM(G3:G6) -> 0 | M7: TOTAL | O7: =SUM(O3:O6) -> 130.085
A8: TVA collectée sur ABS 1 | B8: 445711 | D8: 0.2 | F8: 9852.39 | G8: =IF(E8>0,D8*E8,F8/(1+D8)*D8) -> 1642.065 | I8: TVA déd sur ABS 1 | J8: 445660 | L8: 0.2 | N8: 3566.99 | O8: =IF(M8>0,L8*M8,N8/(1+L8)*L8) -> 594.49833
A9: TVA collectée sur ABS 2 | B9: 445711 | C9: Vente d'ABS FR | D9: 0.055 | F9: 258.67 | G9: =IF(E9>0,D9*E9,F9/(1+D9)*D9) -> 13.485166 | I9: TVA déd sur ABS 2 | J9: 445660 | K9: Achat d'ABS FR | L9: 0.055 | N9: 560.02 | O9: =IF(M9>0,L9*M9,N9/(1+L9)*L9) -> 29.195355
A10: TVA collectée sur ABS 3 | B10: 445711 | G10: =IF(E10>0,D10*E10,F10/(1+D10)*D10) -> 0 | I10: TVA déd sur ABS 3 | J10: 445660 | O10: =IF(M10>0,L10*M10,N10/(1+L10)*L10) -> 0
A11: TVA collectée sur ABS 4 | B11: 445711 | G11: =IF(E11>0,D11*E11,F11/(1+D11)*D11) -> 0 | I11: TVA déd sur ABS 4 | J11: 445660 | O11: =IF(M11>0,L11*M11,N11/(1+L11)*L11) -> 0
E12: TOTAL | G12: =SUM(G8:G11) -> 1655.5502 | M12: TOTAL | O12: =SUM(O8:O11) -> 623.69369
A13: TVA due intraco immos 1 | B13: 445200 | D13: 0.2 | F13: 21128.34 | G13: =IF(E13>0,D13*E13,F13/(1+D13)*D13) -> 3521.39 | I13: TVA déd intraco sur immos 1 | J13: 445662 | L13: 0.2 | N13: 21128.34 | O13: =IF(M13>0,L13*M13,N13/(1+L13)*L13) -> 3521.39
A14: TVA due intraco immos 2 | B14: 445200 | C14: Vente d'immos EU | G14: =IF(E14>0,D14*E14,F14/(1+D14)*D14) -> 0 | I14: TVA déd intraco sur immos 2 | J14: 445662 | K14: Achat d'immos EU | O14: =IF(M14>0,L14*M14,N14/(1+L14)*L14) -> 0
A15: TVA due intraco immos 3 | B15: 445200 | G15: =IF(E15>0,D15*E15,F15/(1+D15)*D15) -> 0 | I15: TVA déd intraco sur immos 3 | J15: 445662 | O15: =IF(M15>0,L15*M15,N15/(1+L15)*L15) -> 0
A16: TVA due intraco immos 4 | B16: 445200 | G16: =IF(E16>0,D16*E16,F16/(1+D16)*D16) -> 0 | I16: TVA déd intraco sur immos 4 | J16: 445662 | O16: =IF(M16>0,L16*M16,N16/(1+L16)*L16) -> 0
E17: TOTAL | G17: =SUM(G13:G16) -> 3521.39 | M17: TOTAL | O17: =SUM(O13:O16) -> 3521.39
A18: TVA due intraco ABS 1 | B18: 445201 | G18: =IF(E18>0,D18*E18,F18/(1+D18)*D18) -> 0 | I18: TVA déd intraco sur ABS 1 | J18: 445663 | O18: =IF(M18>0,L18*M18,N18/(1+L18)*L18) -> 0
A19: TVA due intraco ABS 2 | B19: 445201 | C19: Vente d'ABS EU | G19: =IF(E19>0,D19*E19,F19/(1+D19)*D19) -> 0 | I19: TVA déd intraco sur ABS 2 | J19: 445663 | K19: Achat d'ABS EU | O19: =IF(M19>0,L19*M19,N19/(1+L19)*L19) -> 0
A20: TVA due intraco ABS 3 | B20: 445201 | G20: =IF(E20>0,D20*E20,F20/(1+D20)*D20) -> 0 | I20: TVA déd intraco sur ABS 3 | J20: 445663 | O20: =IF(M20>0,L20*M20,N20/(1+L20)*L20) -> 0
A21: TVA due intraco ABS 4 | B21: 445201 | G21: =IF(E21>0,D21*E21,F21/(1+D21)*D21) -> 0 | I21: TVA déd intraco sur ABS 4 | J21: 445663 | O21: =IF(M21>0,L21*M21,N21/(1+L21)*L21) -> 0
E22: TOTAL | G22: =SUM(G18:G21) -> 0 | M22: TOTAL | O22: =SUM(O18:O21) -> 0
I23: TVA déd hors EU sur immos | J23: 445660 | K23: Achat d'immos Hors EU | O23: =TVAdeductible[[#This Row],[TAUX]]*TVAdeductible[[#This Row],[TOTAL HT]] -> 0
C24: CALCUL DE TVA | I24: TVA déd intraco hors EU ABS | J24: 445660 | K24: Achat d'ABS Hors EU | O24: =TVAdeductible[[#This Row],[TAUX]]*TVAdeductible[[#This Row],[TOTAL HT]] -> 0
I25: Crédit de TVA Mois -1 | J25: 445670 | O25: 320
C26: HT | D26: Taux TVA | E26: TVA | F26: TTC
E27: =C27*D27 -> 0 | F27: =C27+E27 -> 0 | I27: TAUX
C28: =F28/(1+D28) -> 0 | E28: =F28-C28 -> 0 | H28: Taux très réduit / particulier | I28: 0.021
C29: =E29*(1/D29) -> 0 | D29: 0.2 | F29: =C29+E29 -> 0 | H29: Taux réduit | I29: 0.055
H30: Taux intermédiaire | I30: 0.1
H31: Taux normal | I31: 0.2

Sheet Impression
C1: CALCUL TVA | G1: MOIS
C2: LIBELLE | D2: COMPTES | E2: TAUX | F2: REEL | G2: ARRONDI
E3: TVA COLLECTEE
C4: =IFERROR(INDEX(BDD!A$3:A$22,_xlfn.AGGREGATE(15,6,(1/((BDD!$G$3:$G$22>0)*(BDD!$E$3:$E$22<>"TOTAL"))*(ROW(BDD!$A$3:$A$22)-2)),ROW(B1))),"") -> TVA collectée sur ABS 1 | D4: =IFERROR(VLOOKUP($C4,BDD!$A$3:$G$21,2,FALSE),"") -> 445711 | E4: =IFERROR(VLOOKUP(C4,BDD!$A3:$G21,4,FALSE),"") -> 0.2 | F4: =IFERROR(VLOOKUP($C4,BDD!$A$3:$G$22,7,FALSE),"") -> 1642.065 | G4: =IFERROR(ROUND(F4,0),"") -> 1642
A5: ICI NE PAS FAIRE APPARAITRE LE TOTAL SI POSSIBLE (LES 0) | C5: =IFERROR(INDEX(BDD!A$3:A$22,_xlfn.AGGREGATE(15,6,(1/((BDD!$G$3:$G$22>0)*(BDD!$E$3:$E$22<>"TOTAL"))*(ROW(BDD!$A$3:$A$22)-2)),ROW(B2))),"") -> TVA collectée sur ABS 2 | D5: =IFERROR(VLOOKUP($C5,BDD!$A$3:$G$21,2,FALSE),"") -> 445711 | E5: =IFERROR(VLOOKUP(C5,BDD!$A4:$G22,4,FALSE),"") -> 0.055 | F5: =IFERROR(VLOOKUP($C5,BDD!$A$3:$G$22,7,FALSE),"") -> 13.485166 | G5: =IFERROR(ROUND(F5,0),"") -> 13
C6: =IFERROR(INDEX(BDD!A$3:A$22,_xlfn.AGGREGATE(15,6,(1/((BDD!$G$3:$G$22>0)*(BDD!$E$3:$E$22<>"TOTAL"))*(ROW(BDD!$A$3:$A$22)-2)),ROW(B3))),"") -> TVA due intraco immos 1 | D6: =IFERROR(VLOOKUP($C6,BDD!$A$3:$G$21,2,FALSE),"") -> 445200 | E6: =IFERROR(VLOOKUP(C6,BDD!$A5:$G23,4,FALSE),"") -> 0.2 | F6: =IFERROR(VLOOKUP($C6,BDD!$A$3:$G$22,7,FALSE),"") -> 3521.39 | G6: =IFERROR(ROUND(F6,0),"") -> 3521
C7: =IFERROR(INDEX(BDD!A$3:A$22,_xlfn.AGGREGATE(15,6,(1/((BDD!$G$3:$G$22>0)*(BDD!$E$3:$E$22<>"TOTAL"))*(ROW(BDD!$A$3:$A$22)-2)),ROW(B4))),"") | D7: =IFERROR(VLOOKUP($C7,BDD!$A$3:$G$21,2,FALSE),"") | E7: =IFERROR(VLOOKUP(C7,BDD!$A6:$G24,4,FALSE),"") | F7: =IFERROR(VLOOKUP($C7,BDD!$A$3:$G$22,7,FALSE),"") | G7: =IFERROR(ROUND(F7,0),"")
C8: =IFERROR(INDEX(BDD!A$3:A$22,_xlfn.AGGREGATE(15,6,(1/((BDD!$G$3:$G$22>0)*(BDD!$E$3:$E$22<>"TOTAL"))*(ROW(BDD!$A$3:$A$22)-2)),ROW(B5))),"") | D8: =IFERROR(VLOOKUP($C8,BDD!$A$3:$G$21,2,FALSE),"") | E8: =IFERROR(VLOOKUP(C8,BDD!$A7:$G25,4,FALSE),"") | F8: =IFERROR(VLOOKUP($C8,BDD!$A$3:$G$22,7,FALSE),"") | G8: =IFERROR(ROUND(F8,0),"")
C9: =IFERROR(INDEX(BDD!A$3:A$22,_xlfn.AGGREGATE(15,6,(1/((BDD!$G$3:$G$22>0)*(BDD!$E$3:$E$22<>"TOTAL"))*(ROW(BDD!$A$3:$A$22)-2)),ROW(B6))),"") | D9: =IFERROR(VLOOKUP($C9,BDD!$A$3:$G$21,2,FALSE),"") | E9: =IFERROR(VLOOKUP(C9,BDD!$A8:$G26,4,FALSE),"") | F9: =IFERROR(VLOOKUP($C9,BDD!$A$3:$G$22,7,FALSE),"") | G9: =IFERROR(ROUND(F9,0),"")
C10: =IFERROR(INDEX(BDD!A$3:A$22,_xlfn.AGGREGATE(15,6,(1/((BDD!$G$3:$G$22>0)*(BDD!$E$3:$E$22<>"TOTAL"))*(ROW(BDD!$A$3:$A$22)-2)),ROW(B7))),"") | D10: =IFERROR(VLOOKUP($C10,BDD!$A$3:$G$21,2,FALSE),"") | E10: =IFERROR(VLOOKUP(C10,BDD!$A9:$G27,4,FALSE),"") | F10: =IFERROR(VLOOKUP($C10,BDD!$A$3:$G$22,7,FALSE),"") | G10: =IFERROR(ROUND(F10,0),"")
C11: =IFERROR(INDEX(BDD!A$3:A$22,_xlfn.AGGREGATE(15,6,(1/((BDD!$G$3:$G$22>0)*(BDD!$E$3:$E$22<>"TOTAL"))*(ROW(BDD!$A$3:$A$22)-2)),ROW(B8))),"") | D11: =IFERROR(VLOOKUP($C11,BDD!$A$3:$G$21,2,FALSE),"") | E11: =IFERROR(VLOOKUP(C11,BDD!$A10:$G28,4,FALSE),"") | F11: =IFERROR(VLOOKUP($C11,BDD!$A$3:$G$22,7,FALSE),"") | G11: =IFERROR(ROUND(F11,0),"")
C12: =IFERROR(INDEX(BDD!A$3:A$22,_xlfn.AGGREGATE(15,6,(1/((BDD!$G$3:$G$22>0)*(BDD!$E$3:$E$22<>"TOTAL"))*(ROW(BDD!$A$3:$A$22)-2)),ROW(B9))),"") | D12: =IFERROR(VLOOKUP($C12,BDD!$A$3:$G$21,2,FALSE),"") | E12: =IFERROR(VLOOKUP(C12,BDD!$A11:$G29,4,FALSE),"") | F12: =IFERROR(VLOOKUP($C12,BDD!$A$3:$G$22,7,FALSE),"") | G12: =IFERROR(ROUND(F12,0),"")
C13: =IFERROR(INDEX(BDD!A$3:A$22,_xlfn.AGGREGATE(15,6,(1/((BDD!$G$3:$G$22>0)*(BDD!$E$3:$E$22<>"TOTAL"))*(ROW(BDD!$A$3:$A$22)-2)),ROW(B10))),"") | D13: =IFERROR(VLOOKUP($C13,BDD!$A$3:$G$21,2,FALSE),"") | E13: =IFERROR(VLOOKUP(C13,BDD!$A12:$G30,4,FALSE),"") | F13: =IFERROR(VLOOKUP($C13,BDD!$A$3:$G$22,7,FALSE),"") | G13: =IFERROR(ROUND(F13,0),"")
E14: Total TVA coll. | F14: =SUM(F4:F6) -> 5176.9402 | G14: =SUM(G4:G6) -> 5176
E15: TVA DEDUCTIBLE
C16: =IFERROR(INDEX(BDD!I$3:I$22,_xlfn.AGGREGATE(15,6,(1/((BDD!$O$3:$O$22>0)*(BDD!$M$3:$M$22<>"TOTAL"))*(ROW(BDD!$I$3:$I$22)-2)),ROW(A1))),"") -> TVA déd sur immos 1 | D16: =IFERROR(VLOOKUP($C16,BDD!$I$3:$O$24,2,FALSE),"") -> 445620 | E16: =IFERROR(VLOOKUP($C16,BDD!I3:O24,4,FALSE),"") -> 0.2 | F16: =IFERROR(VLOOKUP($C16,BDD!$I$3:$O$24,7,FALSE),"") -> 130.085 | G16: =IFERROR(ROUND(F16,0),"") -> 130
C17: =IFERROR(INDEX(BDD!I$3:I$22,_xlfn.AGGREGATE(15,6,(1/((BDD!$O$3:$O$22>0)*(BDD!$M$3:$M$22<>"TOTAL"))*(ROW(BDD!$I$3:$I$22)-2)),ROW(A2))),"") -> TVA déd sur ABS 1 | D17: =IFERROR(VLOOKUP($C17,BDD!$I$3:$O$24,2,FALSE),"") -> 445660 | E17: =IFERROR(VLOOKUP($C17,BDD!I4:O25,4,FALSE),"") -> 0.2 | F17: =IFERROR(VLOOKUP($C17,BDD!$I$3:$O$24,7,FALSE),"") -> 594.49833 | G17: =IFERROR(ROUND(F17,0),"") -> 594
C18: =IFERROR(INDEX(BDD!I$3:I$22,_xlfn.AGGREGATE(15,6,(1/((BDD!$O$3:$O$22>0)*(BDD!$M$3:$M$22<>"TOTAL"))*(ROW(BDD!$I$3:$I$22)-2)),ROW(A3))),"") -> TVA déd sur ABS 2 | D18: =IFERROR(VLOOKUP($C18,BDD!$I$3:$O$24,2,FALSE),"") -> 445660 | E18: =IFERROR(VLOOKUP($C18,BDD!I5:O26,4,FALSE),"") -> 0.055 | F18: =IFERROR(VLOOKUP($C18,BDD!$I$3:$O$24,7,FALSE),"") -> 29.195355 | G18: =IFERROR(ROUND(F18,0),"") -> 29
C19: =IFERROR(INDEX(BDD!I$3:I$22,_xlfn.AGGREGATE(15,6,(1/((BDD!$O$3:$O$22>0)*(BDD!$M$3:$M$22<>"TOTAL"))*(ROW(BDD!$I$3:$I$22)-2)),ROW(A4))),"") -> TVA déd intraco sur immos 1 | D19: =IFERROR(VLOOKUP($C19,BDD!$I$3:$O$24,2,FALSE),"") -> 445662 | E19: =IFERROR(VLOOKUP($C19,BDD!I6:O27,4,FALSE),"") -> 0.2 | F19: =IFERROR(VLOOKUP($C19,BDD!$I$3:$O$24,7,FALSE),"") -> 3521.39 | G19: =IFERROR(ROUND(F19,0),"") -> 3521
C20: =IFERROR(INDEX(BDD!I$3:I$22,_xlfn.AGGREGATE(15,6,(1/((BDD!$O$3:$O$22>0)*(BDD!$M$3:$M$22<>"TOTAL"))*(ROW(BDD!$I$3:$I$22)-2)),ROW(A5))),"") | D20: =IFERROR(VLOOKUP($C20,BDD!$I$3:$O$24,2,FALSE),"") | E20: =IFERROR(VLOOKUP($C20,BDD!I7:O28,4,FALSE),"") | F20: =IFERROR(VLOOKUP($C20,BDD!$I$3:$O$24,7,FALSE),"") | G20: =IFERROR(ROUND(F20,0),"")
C21: =IFERROR(INDEX(BDD!I$3:I$22,_xlfn.AGGREGATE(15,6,(1/((BDD!$O$3:$O$22>0)*(BDD!$M$3:$M$22<>"TOTAL"))*(ROW(BDD!$I$3:$I$22)-2)),ROW(A6))),"") | D21: =IFERROR(VLOOKUP($C21,BDD!$I$3:$O$24,2,FALSE),"") | E21: =IFERROR(VLOOKUP($C21,BDD!I8:O29,4,FALSE),"") | F21: =IFERROR(VLOOKUP($C21,BDD!$I$3:$O$24,7,FALSE),"") | G21: =IFERROR(ROUND(F21,0),"")
C22: =IFERROR(INDEX(BDD!I$3:I$22,_xlfn.AGGREGATE(15,6,(1/((BDD!$O$3:$O$22>0)*(BDD!$M$3:$M$22<>"TOTAL"))*(ROW(BDD!$I$3:$I$22)-2)),ROW(A7))),"") | D22: =IFERROR(VLOOKUP($C22,BDD!$I$3:$O$24,2,FALSE),"") | E22: =IFERROR(VLOOKUP($C22,BDD!I9:O30,4,FALSE),"") | F22: =IFERROR(VLOOKUP($C22,BDD!$I$3:$O$24,7,FALSE),"") | G22: =IFERROR(ROUND(F22,0),"")
C23: =IFERROR(INDEX(BDD!I$3:I$22,_xlfn.AGGREGATE(15,6,(1/((BDD!$O$3:$O$22>0)*(BDD!$M$3:$M$22<>"TOTAL"))*(ROW(BDD!$I$3:$I$22)-2)),ROW(A8))),"") | D23: =IFERROR(VLOOKUP($C23,BDD!$I$3:$O$24,2,FALSE),"") | E23: =IFERROR(VLOOKUP($C23,BDD!I10:O31,4,FALSE),"") | F23: =IFERROR(VLOOKUP($C23,BDD!$I$3:$O$24,7,FALSE),"") | G23: =IFERROR(ROUND(F23,0),"")
C24: =IFERROR(INDEX(BDD!I$3:I$22,_xlfn.AGGREGATE(15,6,(1/((BDD!$O$3:$O$22>0)*(BDD!$M$3:$M$22<>"TOTAL"))*(ROW(BDD!$I$3:$I$22)-2)),ROW(A9))),"") | D24: =IFERROR(VLOOKUP($C24,BDD!$I$3:$O$24,2,FALSE),"") | E24: =IFERROR(VLOOKUP($C24,BDD!I11:O32,4,FALSE),"") | F24: =IFERROR(VLOOKUP($C24,BDD!$I$3:$O$24,7,FALSE),"") | G24: =IFERROR(ROUND(F24,0),"")
C25: =IFERROR(INDEX(BDD!I$3:I$22,_xlfn.AGGREGATE(15,6,(1/((BDD!$O$3:$O$22>0)*(BDD!$M$3:$M$22<>"TOTAL"))*(ROW(BDD!$I$3:$I$22)-2)),ROW(A10))),"") | D25: =IFERROR(VLOOKUP($C25,BDD!$I$3:$O$24,2,FALSE),"") | E25: =IFERROR(VLOOKUP($C25,BDD!I12:O33,4,FALSE),"") | F25: =IFERROR(VLOOKUP($C25,BDD!$I$3:$O$24,7,FALSE),"") | G25: =IFERROR(ROUND(F25,0),"")
E26: Total TVA déductible | F26: =SUM(F16:F20) -> 4275.1687 | G26: =SUM(G16:G20) -> 4274
C27: =IF(F14-F26>0,"TVA à décaisser","Crédit de TVA") -> TVA à décaisser | D27: =IF(C27="TVA à décaisser","445 510","445 670") -> 445 510 | F27: =F14-F26 -> 901.77148 | G27: =ROUND(F27,0) -> 902
C28: Produit diverses | D28: 758000 | G28: =IF(F27-G27>0,F27-G27,0) -> 0
C29: Charges diverses | D29: 658000 | F29: =IF(G27-F27>0,G27-F27,0) -> 0.22852291
A31: Enregistrement de la déclaration de TVA
A32: JNL | B32: Date | C32: Libellé | D32: Compte | E32: Débit | F32: Crédit
C33: =IFERROR(INDEX(C$4:C$25,_xlfn.AGGREGATE(15,6,(1/((C$4:C$25<>""))*(ROW($C$4:$C$25)-3)),ROW(A1))),"") -> TVA collectée sur ABS 1 | D33: =IFERROR(INDEX(D$4:D$25,_xlfn.AGGREGATE(15,6,(1/((D$4:D$25<>""))*(ROW($C$4:$C$25)-3)),ROW(B1))),"") -> 445711 | G33: ICI FAIRE APPARAITRE AUTOMATIQUEMENT TOUT CE QUI EST REMPLI DANS LE TABLEAU CI-DESSUS SAUF TOTAL
C34: =IFERROR(INDEX(C$4:C$25,_xlfn.AGGREGATE(15,6,(1/((C$4:C$25<>""))*(ROW($C$4:$C$25)-3)),ROW(A2))),"") -> TVA collectée sur ABS 2 | D34: =IFERROR(INDEX(D$4:D$25,_xlfn.AGGREGATE(15,6,(1/((D$4:D$25<>""))*(ROW($C$4:$C$25)-3)),ROW(B2))),"") -> 445711
C35: =IFERROR(INDEX(C$4:C$25,_xlfn.AGGREGATE(15,6,(1/((C$4:C$25<>""))*(ROW($C$4:$C$25)-3)),ROW(A3))),"") -> TVA due intraco immos 1 | D35: =IFERROR(INDEX(D$4:D$25,_xlfn.AGGREGATE(15,6,(1/((D$4:D$25<>""))*(ROW($C$4:$C$25)-3)),ROW(B3))),"") -> 445200
C36: =IFERROR(INDEX(C$4:C$25,_xlfn.AGGREGATE(15,6,(1/((C$4:C$25<>""))*(ROW($C$4:$C$25)-3)),ROW(A4))),"") -> TVA déd sur immos 1 | D36: =IFERROR(INDEX(D$4:D$25,_xlfn.AGGREGATE(15,6,(1/((D$4:D$25<>""))*(ROW($C$4:$C$25)-3)),ROW(B4))),"") -> 445620
C37: =IFERROR(INDEX(C$4:C$25,_xlfn.AGGREGATE(15,6,(1/((C$4:C$25<>""))*(ROW($C$4:$C$25)-3)),ROW(A5))),"") -> TVA déd sur ABS 1 | D37: =IFERROR(INDEX(D$4:D$25,_xlfn.AGGREGATE(15,6,(1/((D$4:D$25<>""))*(ROW($C$4:$C$25)-3)),ROW(B5))),"") -> 445660
C38: =IFERROR(INDEX(C$4:C$25,_xlfn.AGGREGATE(15,6,(1/((C$4:C$25<>""))*(ROW($C$4:$C$25)-3)),ROW(A6))),"") -> TVA déd sur ABS 2 | D38: =IFERROR(INDEX(D$4:D$25,_xlfn.AGGREGATE(15,6,(1/((D$4:D$25<>""))*(ROW($C$4:$C$25)-3)),ROW(B6))),"") -> 445660
C39: =IFERROR(INDEX(C$4:C$25,_xlfn.AGGREGATE(15,6,(1/((C$4:C$25<>""))*(ROW($C$4:$C$25)-3)),ROW(A7))),"") -> TVA déd intraco sur immos 1 | D39: =IFERROR(INDEX(D$4:D$25,_xlfn.AGGREGATE(15,6,(1/((D$4:D$25<>""))*(ROW($C$4:$C$25)-3)),ROW(B7))),"") -> 445662
C40: =IFERROR(INDEX(C$4:C$25,_xlfn.AGGREGATE(15,6,(1/((C$4:C$25<>""))*(ROW($C$4:$C$25)-3)),ROW(A8))),"") | D40: =IFERROR(INDEX(D$4:D$25,_xlfn.AGGREGATE(15,6,(1/((D$4:D$25<>""))*(ROW($C$4:$C$25)-3)),ROW(B8))),"")
C41: =IFERROR(INDEX(C$4:C$25,_xlfn.AGGREGATE(15,6,(1/((C$4:C$25<>""))*(ROW($C$4:$C$25)-3)),ROW(A9))),"") | D41: =IFERROR(INDEX(D$4:D$25,_xlfn.AGGREGATE(15,6,(1/((D$4:D$25<>""))*(ROW($C$4:$C$25)-3)),ROW(B9))),"")
C42: =IFERROR(INDEX(C$4:C$25,_xlfn.AGGREGATE(15,6,(1/((C$4:C$25<>""))*(ROW($C$4:$C$25)-3)),ROW(A10))),"") | D42: =IFERROR(INDEX(D$4:D$25,_xlfn.AGGREGATE(15,6,(1/((D$4:D$25<>""))*(ROW($C$4:$C$25)-3)),ROW(B10))),"")
C43: =IFERROR(INDEX(C$4:C$25,_xlfn.AGGREGATE(15,6,(1/((C$4:C$25<>""))*(ROW($C$4:$C$25)-3)),ROW(A11))),"") | D43: =IFERROR(INDEX(D$4:D$25,_xlfn.AGGREGATE(15,6,(1/((D$4:D$25<>""))*(ROW($C$4:$C$25)-3)),ROW(B11))),"")
C44: =IFERROR(INDEX(C$4:C$25,_xlfn.AGGREGATE(15,6,(1/((C$4:C$25<>""))*(ROW($C$4:$C$25)-3)),ROW(A12))),"") | D44: =IFERROR(INDEX(D$4:D$25,_xlfn.AGGREGATE(15,6,(1/((D$4:D$25<>""))*(ROW($C$4:$C$25)-3)),ROW(B12))),"")
C45: =IFERROR(INDEX(C$4:C$25,_xlfn.AGGREGATE(15,6,(1/((C$4:C$25<>""))*(ROW($C$4:$C$25)-3)),ROW(A13))),"") | D45: =IFERROR(INDEX(D$4:D$25,_xlfn.AGGREGATE(15,6,(1/((D$4:D$25<>""))*(ROW($C$4:$C$25)-3)),ROW(B13))),"")
... C49: =IFERROR(INDEX(C$4:C$25,_xlfn.AGGREGATE(15,6,(1/((C$4:C$25<>""))*(ROW($C$4:$C$25)-3)),ROW(A17))),"") | D49: =IFERROR(INDEX(D$4:D$25,_xlfn.AGGREGATE(15,6,(1/((D$4:D$25<>""))*(ROW($C$4:$C$25)-3)),ROW(B17))),"")
C50: =IFERROR(INDEX(BDD!I$3:I$24,SUMPRODUCT(SMALL((BDD!O$3:O$24>0)*ROW(BDD!O$3:O$24),COUNTIF(BDD!O$3:O$24,"=0")+ROW(A8)))-2),"") | D50: =IFERROR(VLOOKUP($C23,BDD!$I$3:$O$24,2,FALSE),"") | F50: =IFERROR(VLOOKUP($C23,BDD!$I$3:$O$24,7,FALSE),"")
C51: =IFERROR(INDEX(BDD!I$3:I$24,SUMPRODUCT(SMALL((BDD!O$3:O$24>0)*ROW(BDD!O$3:O$24),COUNTIF(BDD!O$3:O$24,"=0")+ROW(A9)))-2),"") | D51: =IFERROR(VLOOKUP($C24,BDD!$I$3:$O$24,2,FALSE),"") | F51: =IFERROR(VLOOKUP($C24,BDD!$I$3:$O$24,7,FALSE),"")
C52: =IFERROR(INDEX(BDD!I$3:I$24,SUMPRODUCT(SMALL((BDD!O$3:O$24>0)*ROW(BDD!O$3:O$24),COUNTIF(BDD!O$3:O$24,"=0")+ROW(A10)))-2),"") | D52: =IFERROR(VLOOKUP($C25,BDD!$I$3:$O$24,2,FALSE),"") | F52: =IFERROR(VLOOKUP($C25,BDD!$I$3:$O$24,7,FALSE),"")
C53: =IFERROR(INDEX(BDD!I$3:I$24,SUMPRODUCT(SMALL((BDD!O$3:O$24>0)*ROW(BDD!O$3:O$24),COUNTIF(BDD!O$3:O$24,"=0")+ROW(A11)))-2),"") | F53: =IFERROR(VLOOKUP($C26,BDD!$I$3:$O$24,7,FALSE),"")
F54: =IFERROR(VLOOKUP($C27,BDD!$I$3:$O$24,7,FALSE),"")
F55: =IFERROR(VLOOKUP($C28,BDD!$I$3:$O$24,7,FALSE),"")

Sheet Feuil1
A1: Hebergement | C1: Restauration | E1: Véhicule de tourisme | G1: Carburant
A12: Cadeaux CLT
