Workbook

Sheet ABCD
A5: ref | B5: qté | C5: p u | D5: tv | E5: remise | F5: Total
A6: 1.2.5.1 | F6: 624.3
A7: 3.2.5.2 | F7: 200
A8: 1.2.5.3 | F8: 136
A9: 7.2.5.4 | F9: 994
A10: 1.2.5.5 | F10: 552
A11: 1.8.5.6 | F11: 130
A12: 4.2.5.7 | F12: 634
A13: 1.2.0.8 | F13: 543
A14: 1.2.5.9 | F14: 130
A15: 1.2.2.10 | F15: 444
A16: 1.3.5.7 | F16: 630
A17: 8.2.5.12 | F17: 123
... A24: 3.2.3.19 | F24: 213

Sheet at ABCD
A2: Réf | B2: az | C2: ae | D2: ar | E2: y | F2: ur | G2: j | H2: k | I2: aet | J2: af | K2: s | L2: q | M2: Total
A3: 1.2.5.1 | M3: =SUMIF(ABCD!$A$6:$A$24,$A3,ABCD!$F$6:$F$24) -> 624.3
M4: =SUMIF(ABCD!$A$6:$A$24,$A4,ABCD!$F$6:$F$24) -> 0
A5: 3.2.3.19 | M5: =SUMIF(ABCD!$A$6:$A$24,$A5,ABCD!$F$6:$F$24) -> 213
M6: =SUMIF(ABCD!$A$6:$A$24,$A6,ABCD!$F$6:$F$24) -> 0
A7: 1.2.5.9 | M7: =SUMIF(ABCD!$A$6:$A$24,$A7,ABCD!$F$6:$F$24) -> 130
M8: =SUMIF(ABCD!$A$6:$A$24,$A8,ABCD!$F$6:$F$24) -> 0
A9: 8.2.5.12 | M9: =SUMIF(ABCD!$A$6:$A$24,$A9,ABCD!$F$6:$F$24) -> 123
M10: =SUMIF(ABCD!$A$6:$A$24,$A10,ABCD!$F$6:$F$24) -> 0
A11: 3.2.5.2 | M11: =SUMIF(ABCD!$A$6:$A$24,$A11,ABCD!$F$6:$F$24) -> 200
M12: =SUMIF(ABCD!$A$6:$A$24,$A12,ABCD!$F$6:$F$24) -> 0
A13: 1.2.5.3 | M13: =SUMIF(ABCD!$A$6:$A$24,$A13,ABCD!$F$6:$F$24) -> 136
M14: =SUMIF(ABCD!$A$6:$A$24,$A14,ABCD!$F$6:$F$24) -> 0
A15: 1.2.2.10 | M15: =SUMIF(ABCD!$A$6:$A$24,$A15,ABCD!$F$6:$F$24) -> 444
M16: =SUMIF(ABCD!$A$6:$A$24,$A16,ABCD!$F$6:$F$24) -> 0
A17: 4.2.5.7 | M17: =SUMIF(ABCD!$A$6:$A$24,$A17,ABCD!$F$6:$F$24) -> 634
M18: =SUMIF(ABCD!$A$6:$A$24,$A18,ABCD!$F$6:$F$24) -> 0
A19: 1.2.7.0 | M19: =SUMIF(ABCD!$A$6:$A$24,$A19,ABCD!$F$6:$F$24) -> 14
M20: =SUMIF(ABCD!$A$6:$A$24,$A20,ABCD!$F$6:$F$24) -> 0
A21: 5.2.5.5 | M21: =SUMIF(ABCD!$A$6:$A$24,$A21,ABCD!$F$6:$F$24) -> 124
M22: =SUMIF(ABCD!$A$6:$A$24,$A22,ABCD!$F$6:$F$24) -> 0
A23: 3.2.7.16 | M23: =SUMIF(ABCD!$A$6:$A$24,$A23,ABCD!$F$6:$F$24) -> 123
M24: =SUMIF(ABCD!$A$6:$A$24,$A24,ABCD!$F$6:$F$24) -> 0
A25: 1.2.0.8 | M25: =SUMIF(ABCD!$A$6:$A$24,$A25,ABCD!$F$6:$F$24) -> 543
M26: =SUMIF(ABCD!$A$6:$A$24,$A26,ABCD!$F$6:$F$24) -> 0
A27: 1.2.5.5 | M27: =SUMIF(ABCD!$A$6:$A$24,$A27,ABCD!$F$6:$F$24) -> 552
M28: =SUMIF(ABCD!$A$6:$A$24,$A28,ABCD!$F$6:$F$24) -> 0
A29: 4.4.5.13 | M29: =SUMIF(ABCD!$A$6:$A$24,$A29,ABCD!$F$6:$F$24) -> 200
