Workbook

Sheet Feuil1
A1: Type véhicule | B1: Référence dossier | C1: Service | D1: Intitulé | E1: Initiales directeur | F1: Date envoi | G1: Date réception
A2: Peugeot | B2: A1234 | C2: DAC | D2: hozhfoNFOZ | E2: LW | F2: 44489 | G2: 44491
A3: Renault | B3: A4567 | C3: DRH | D3: COH HFIEFH hie | E3: LW | F3: 44489
A4: Peugeot | B4: A7689 | C4: DRH | D4: hfef hiehfo ffeoz | E4: LW | F4: 44495
A5: Citroen | B5: A5544 | C5: DITTT | D5: zfj hzf
A6: Audi | B6: A1562 | C6: DAPM | D6: fzf ffi
A9: Si un dossier est envoyé au directeur (il faut donc que les colonnes E et F soient renseignées ) et seulement si le dossier n'est pas revenu (colonne G vide), dire :
A10: quel est le type de véhicule (colonne A)
A11: quelle est la référence dossier (colonne B)
A12: quel est le service concerné (colonne C)
A13: quel est l'intutilé (colonne D)
A15: => mettres ces résultats sur une feuille 2

Sheet Feuil2
A1: Type véhicule | B1: Référence dossier | C1: Service | D1: Intitulé
A2: =IFERROR(INDEX(Feuil1!$A$2:$A$6,_xlfn.AGGREGATE(15,6,(1/((Feuil1!$E$2:$E$6<>"")*(Feuil1!$F$2:$F$6<>"")*(Feuil1!$G$2:$G$6="")))*(ROW(Feuil1!$A$2:$A$6)-1),ROW()-1)),"") -> Renault | B2: =IFERROR(INDEX(Feuil1!$B$2:$B$6,_xlfn.AGGREGATE(15,6,(1/((Feuil1!$E$2:$E$6<>"")*(Feuil1!$F$2:$F$6<>"")*(Feuil1!$G$2:$G$6="")))*(ROW(Feuil1!$A$2:$A$6)-1),ROW()-1)),"") -> A4567 | C2: =IFERROR(INDEX(Feuil1!$C$2:$C$6,_xlfn.AGGREGATE(15,6,(1/((Feuil1!$E$2:$E$6<>"")*(Feuil1!$F$2:$F$6<>"")*(Feuil1!$G$2:$G$6="")))*(ROW(Feuil1!$A$2:$A$6)-1),ROW()-1)),"") -> DRH | D2: =IFERROR(INDEX(Feuil1!$D$2:$D$6,_xlfn.AGGREGATE(15,6,(1/((Feuil1!$E$2:$E$6<>"")*(Feuil1!$F$2:$F$6<>"")*(Feuil1!$G$2:$G$6="")))*(ROW(Feuil1!$A$2:$A$6)-1),ROW()-1)),"") -> COH HFIEFH hie
A3: =IFERROR(INDEX(Feuil1!$A$2:$A$6,_xlfn.AGGREGATE(15,6,(1/((Feuil1!$E$2:$E$6<>"")*(Feuil1!$F$2:$F$6<>"")*(Feuil1!$G$2:$G$6="")))*(ROW(Feuil1!$A$2:$A$6)-1),ROW()-1)),"") -> Peugeot | B3: =IFERROR(INDEX(Feuil1!$B$2:$B$6,_xlfn.AGGREGATE(15,6,(1/((Feuil1!$E$2:$E$6<>"")*(Feuil1!$F$2:$F$6<>"")*(Feuil1!$G$2:$G$6="")))*(ROW(Feuil1!$A$2:$A$6)-1),ROW()-1)),"") -> A7689 | C3: =IFERROR(INDEX(Feuil1!$C$2:$C$6,_xlfn.AGGREGATE(15,6,(1/((Feuil1!$E$2:$E$6<>"")*(Feuil1!$F$2:$F$6<>"")*(Feuil1!$G$2:$G$6="")))*(ROW(Feuil1!$A$2:$A$6)-1),ROW()-1)),"") -> DRH | D3: =IFERROR(INDEX(Feuil1!$D$2:$D$6,_xlfn.AGGREGATE(15,6,(1/((Feuil1!$E$2:$E$6<>"")*(Feuil1!$F$2:$F$6<>"")*(Feuil1!$G$2:$G$6="")))*(ROW(Feuil1!$A$2:$A$6)-1),ROW()-1)),"") -> hfef hiehfo ffeoz
A4: =IFERROR(INDEX(Feuil1!$A$2:$A$6,_xlfn.AGGREGATE(15,6,(1/((Feuil1!$E$2:$E$6<>"")*(Feuil1!$F$2:$F$6<>"")*(Feuil1!$G$2:$G$6="")))*(ROW(Feuil1!$A$2:$A$6)-1),ROW()-1)),"") | B4: =IFERROR(INDEX(Feuil1!$B$2:$B$6,_xlfn.AGGREGATE(15,6,(1/((Feuil1!$E$2:$E$6<>"")*(Feuil1!$F$2:$F$6<>"")*(Feuil1!$G$2:$G$6="")))*(ROW(Feuil1!$A$2:$A$6)-1),ROW()-1)),"") | C4: =IFERROR(INDEX(Feuil1!$C$2:$C$6,_xlfn.AGGREGATE(15,6,(1/((Feuil1!$E$2:$E$6<>"")*(Feuil1!$F$2:$F$6<>"")*(Feuil1!$G$2:$G$6="")))*(ROW(Feuil1!$A$2:$A$6)-1),ROW()-1)),"") | D4: =IFERROR(INDEX(Feuil1!$D$2:$D$6,_xlfn.AGGREGATE(15,6,(1/((Feuil1!$E$2:$E$6<>"")*(Feuil1!$F$2:$F$6<>"")*(Feuil1!$G$2:$G$6="")))*(ROW(Feuil1!$A$2:$A$6)-1),ROW()-1)),"")
A5: =IFERROR(INDEX(Feuil1!$A$2:$A$6,_xlfn.AGGREGATE(15,6,(1/((Feuil1!$E$2:$E$6<>"")*(Feuil1!$F$2:$F$6<>"")*(Feuil1!$G$2:$G$6="")))*(ROW(Feuil1!$A$2:$A$6)-1),ROW()-1)),"") | B5: =IFERROR(INDEX(Feuil1!$B$2:$B$6,_xlfn.AGGREGATE(15,6,(1/((Feuil1!$E$2:$E$6<>"")*(Feuil1!$F$2:$F$6<>"")*(Feuil1!$G$2:$G$6="")))*(ROW(Feuil1!$A$2:$A$6)-1),ROW()-1)),"") | C5: =IFERROR(INDEX(Feuil1!$C$2:$C$6,_xlfn.AGGREGATE(15,6,(1/((Feuil1!$E$2:$E$6<>"")*(Feuil1!$F$2:$F$6<>"")*(Feuil1!$G$2:$G$6="")))*(ROW(Feuil1!$A$2:$A$6)-1),ROW()-1)),"") | D5: =IFERROR(INDEX(Feuil1!$D$2:$D$6,_xlfn.AGGREGATE(15,6,(1/((Feuil1!$E$2:$E$6<>"")*(Feuil1!$F$2:$F$6<>"")*(Feuil1!$G$2:$G$6="")))*(ROW(Feuil1!$A$2:$A$6)-1),ROW()-1)),"")
A6: =IFERROR(INDEX(Feuil1!$A$2:$A$6,_xlfn.AGGREGATE(15,6,(1/((Feuil1!$E$2:$E$6<>"")*(Feuil1!$F$2:$F$6<>"")*(Feuil1!$G$2:$G$6="")))*(ROW(Feuil1!$A$2:$A$6)-1),ROW()-1)),"") | B6: =IFERROR(INDEX(Feuil1!$B$2:$B$6,_xlfn.AGGREGATE(15,6,(1/((Feuil1!$E$2:$E$6<>"")*(Feuil1!$F$2:$F$6<>"")*(Feuil1!$G$2:$G$6="")))*(ROW(Feuil1!$A$2:$A$6)-1),ROW()-1)),"") | C6: =IFERROR(INDEX(Feuil1!$C$2:$C$6,_xlfn.AGGREGATE(15,6,(1/((Feuil1!$E$2:$E$6<>"")*(Feuil1!$F$2:$F$6<>"")*(Feuil1!$G$2:$G$6="")))*(ROW(Feuil1!$A$2:$A$6)-1),ROW()-1)),"") | D6: =IFERROR(INDEX(Feuil1!$D$2:$D$6,_xlfn.AGGREGATE(15,6,(1/((Feuil1!$E$2:$E$6<>"")*(Feuil1!$F$2:$F$6<>"")*(Feuil1!$G$2:$G$6="")))*(ROW(Feuil1!$A$2:$A$6)-1),ROW()-1)),"")
A7: =IFERROR(INDEX(Feuil1!$A$2:$A$6,_xlfn.AGGREGATE(15,6,(1/((Feuil1!$E$2:$E$6<>"")*(Feuil1!$F$2:$F$6<>"")*(Feuil1!$G$2:$G$6="")))*(ROW(Feuil1!$A$2:$A$6)-1),ROW()-1)),"") | B7: =IFERROR(INDEX(Feuil1!$B$2:$B$6,_xlfn.AGGREGATE(15,6,(1/((Feuil1!$E$2:$E$6<>"")*(Feuil1!$F$2:$F$6<>"")*(Feuil1!$G$2:$G$6="")))*(ROW(Feuil1!$A$2:$A$6)-1),ROW()-1)),"") | C7: =IFERROR(INDEX(Feuil1!$C$2:$C$6,_xlfn.AGGREGATE(15,6,(1/((Feuil1!$E$2:$E$6<>"")*(Feuil1!$F$2:$F$6<>"")*(Feuil1!$G$2:$G$6="")))*(ROW(Feuil1!$A$2:$A$6)-1),ROW()-1)),"") | D7: =IFERROR(INDEX(Feuil1!$D$2:$D$6,_xlfn.AGGREGATE(15,6,(1/((Feuil1!$E$2:$E$6<>"")*(Feuil1!$F$2:$F$6<>"")*(Feuil1!$G$2:$G$6="")))*(ROW(Feuil1!$A$2:$A$6)-1),ROW()-1)),"")
A8: =IFERROR(INDEX(Feuil1!$A$2:$A$6,_xlfn.AGGREGATE(15,6,(1/((Feuil1!$E$2:$E$6<>"")*(Feuil1!$F$2:$F$6<>"")*(Feuil1!$G$2:$G$6="")))*(ROW(Feuil1!$A$2:$A$6)-1),ROW()-1)),"") | B8: =IFERROR(INDEX(Feuil1!$B$2:$B$6,_xlfn.AGGREGATE(15,6,(1/((Feuil1!$E$2:$E$6<>"")*(Feuil1!$F$2:$F$6<>"")*(Feuil1!$G$2:$G$6="")))*(ROW(Feuil1!$A$2:$A$6)-1),ROW()-1)),"") | C8: =IFERROR(INDEX(Feuil1!$C$2:$C$6,_xlfn.AGGREGATE(15,6,(1/((Feuil1!$E$2:$E$6<>"")*(Feuil1!$F$2:$F$6<>"")*(Feuil1!$G$2:$G$6="")))*(ROW(Feuil1!$A$2:$A$6)-1),ROW()-1)),"") | D8: =IFERROR(INDEX(Feuil1!$D$2:$D$6,_xlfn.AGGREGATE(15,6,(1/((Feuil1!$E$2:$E$6<>"")*(Feuil1!$F$2:$F$6<>"")*(Feuil1!$G$2:$G$6="")))*(ROW(Feuil1!$A$2:$A$6)-1),ROW()-1)),"")
A9: =IFERROR(INDEX(Feuil1!$A$2:$A$6,_xlfn.AGGREGATE(15,6,(1/((Feuil1!$E$2:$E$6<>"")*(Feuil1!$F$2:$F$6<>"")*(Feuil1!$G$2:$G$6="")))*(ROW(Feuil1!$A$2:$A$6)-1),ROW()-1)),"") | B9: =IFERROR(INDEX(Feuil1!$B$2:$B$6,_xlfn.AGGREGATE(15,6,(1/((Feuil1!$E$2:$E$6<>"")*(Feuil1!$F$2:$F$6<>"")*(Feuil1!$G$2:$G$6="")))*(ROW(Feuil1!$A$2:$A$6)-1),ROW()-1)),"") | C9: =IFERROR(INDEX(Feuil1!$C$2:$C$6,_xlfn.AGGREGATE(15,6,(1/((Feuil1!$E$2:$E$6<>"")*(Feuil1!$F$2:$F$6<>"")*(Feuil1!$G$2:$G$6="")))*(ROW(Feuil1!$A$2:$A$6)-1),ROW()-1)),"") | D9: =IFERROR(INDEX(Feuil1!$D$2:$D$6,_xlfn.AGGREGATE(15,6,(1/((Feuil1!$E$2:$E$6<>"")*(Feuil1!$F$2:$F$6<>"")*(Feuil1!$G$2:$G$6="")))*(ROW(Feuil1!$A$2:$A$6)-1),ROW()-1)),"")
A10: =IFERROR(INDEX(Feuil1!$A$2:$A$6,_xlfn.AGGREGATE(15,6,(1/((Feuil1!$E$2:$E$6<>"")*(Feuil1!$F$2:$F$6<>"")*(Feuil1!$G$2:$G$6="")))*(ROW(Feuil1!$A$2:$A$6)-1),ROW()-1)),"") | B10: =IFERROR(INDEX(Feuil1!$B$2:$B$6,_xlfn.AGGREGATE(15,6,(1/((Feuil1!$E$2:$E$6<>"")*(Feuil1!$F$2:$F$6<>"")*(Feuil1!$G$2:$G$6="")))*(ROW(Feuil1!$A$2:$A$6)-1),ROW()-1)),"") | C10: =IFERROR(INDEX(Feuil1!$C$2:$C$6,_xlfn.AGGREGATE(15,6,(1/((Feuil1!$E$2:$E$6<>"")*(Feuil1!$F$2:$F$6<>"")*(Feuil1!$G$2:$G$6="")))*(ROW(Feuil1!$A$2:$A$6)-1),ROW()-1)),"") | D10: =IFERROR(INDEX(Feuil1!$D$2:$D$6,_xlfn.AGGREGATE(15,6,(1/((Feuil1!$E$2:$E$6<>"")*(Feuil1!$F$2:$F$6<>"")*(Feuil1!$G$2:$G$6="")))*(ROW(Feuil1!$A$2:$A$6)-1),ROW()-1)),"")
A11: =IFERROR(INDEX(Feuil1!$A$2:$A$6,_xlfn.AGGREGATE(15,6,(1/((Feuil1!$E$2:$E$6<>"")*(Feuil1!$F$2:$F$6<>"")*(Feuil1!$G$2:$G$6="")))*(ROW(Feuil1!$A$2:$A$6)-1),ROW()-1)),"") | B11: =IFERROR(INDEX(Feuil1!$B$2:$B$6,_xlfn.AGGREGATE(15,6,(1/((Feuil1!$E$2:$E$6<>"")*(Feuil1!$F$2:$F$6<>"")*(Feuil1!$G$2:$G$6="")))*(ROW(Feuil1!$A$2:$A$6)-1),ROW()-1)),"") | C11: =IFERROR(INDEX(Feuil1!$C$2:$C$6,_xlfn.AGGREGATE(15,6,(1/((Feuil1!$E$2:$E$6<>"")*(Feuil1!$F$2:$F$6<>"")*(Feuil1!$G$2:$G$6="")))*(ROW(Feuil1!$A$2:$A$6)-1),ROW()-1)),"") | D11: =IFERROR(INDEX(Feuil1!$D$2:$D$6,_xlfn.AGGREGATE(15,6,(1/((Feuil1!$E$2:$E$6<>"")*(Feuil1!$F$2:$F$6<>"")*(Feuil1!$G$2:$G$6="")))*(ROW(Feuil1!$A$2:$A$6)-1),ROW()-1)),"")

Sheet Feuil3
