Workbook

Sheet export brut
A1: CREATEURS | B1: 44197 | C1: 44228 | D1: 44256 | E1: 44287 | F1: 44317 | G1: 44348 | H1: 44378 | I1: 44409 | J1: 44440 | K1: 44470 | L1: 44501 | M1: 44531
A2: MICHELLE DUPOND | E2: 10
A3: MICHELLE DUPOND | F3: 20
A4: MICHELLE DUPOND | G4: 2
A5: MICHELLE DUPOND | B5: 6
A6: MICHELLE DUPOND | C6: 5
A7: MICHELLE DUPOND | D7: 12
A8: CLAIRE RICHARD | E8: 1
A9: NADEGE DESSE | D9: 3
A10: ANNIE PICARD | D10: 1
A11: LINDA ALLAIN | C11: 1
A12: VALERIE JUSTE | E12: 20
A13: VALERIE JUSTE | F13: 18
A14: VALERIE JUSTE | G14: 12
A15: VALERIE JUSTE | H15: 2
A16: VALERIE JUSTE | I16: 2
A17: VALERIE JUSTE | B17: 12
A18: VALERIE JUSTE | C18: 14
A19: VALERIE JUSTE | D19: 20
A20: FLORIAN France | F20: 3
A21: FLORIAN France | G21: 2
A22: FLORIAN France | H22: 1
A23: FLORIAN France | I23: 1
A24: FLORIAN France | D24: 1

Sheet résultat souhaité
A1: CREATEURS | B1: 44197 | C1: 44228 | D1: 44256 | E1: 44287 | F1: 44317 | G1: 44348 | H1: 44378 | I1: 44409 | J1: 44440 | K1: 44470 | L1: 44501 | M1: 44531
A2: MICHELLE DUPOND | B2: =IFERROR(_xlfn.AGGREGATE(14,6,(1/('export brut'!$B$1:$M$1='résultat souhaité'!B$1)*('export brut'!$A$2:$A$24='résultat souhaité'!$A2)*'export brut'!B$2:B$24),ROW($A$1)),"") -> 6 | C2: =IFERROR(_xlfn.AGGREGATE(14,6,(1/('export brut'!$B$1:$M$1='résultat souhaité'!C$1)*('export brut'!$A$2:$A$24='résultat souhaité'!$A2)*'export brut'!C$2:C$24),ROW($A$1)),"") -> 5 | D2: =IFERROR(_xlfn.AGGREGATE(14,6,(1/('export brut'!$B$1:$M$1='résultat souhaité'!D$1)*('export brut'!$A$2:$A$24='résultat souhaité'!$A2)*'export brut'!D$2:D$24),ROW($A$1)),"") -> 12 | E2: =IFERROR(_xlfn.AGGREGATE(14,6,(1/('export brut'!$B$1:$M$1='résultat souhaité'!E$1)*('export brut'!$A$2:$A$24='résultat souhaité'!$A2)*'export brut'!E$2:E$24),ROW($A$1)),"") -> 10 | F2: =IFERROR(_xlfn.AGGREGATE(14,6,(1/('export brut'!$B$1:$M$1='résultat souhaité'!F$1)*('export brut'!$A$2:$A$24='résultat souhaité'!$A2)*'export brut'!F$2:F$24),ROW($A$1)),"") -> 20 | G2: =IFERROR(_xlfn.AGGREGATE(14,6,(1/('export brut'!$B$1:$M$1='résultat souhaité'!G$1)*('export brut'!$A$2:$A$24='résultat souhaité'!$A2)*'export brut'!G$2:G$24),ROW($A$1)),"") -> 2 | H2: =IFERROR(_xlfn.AGGREGATE(14,6,(1/('export brut'!$B$1:$M$1='résultat souhaité'!H$1)*('export brut'!$A$2:$A$24='résultat souhaité'!$A2)*'export brut'!H$2:H$24),ROW($A$1)),"") -> 0 | I2: =IFERROR(_xlfn.AGGREGATE(14,6,(1/('export brut'!$B$1:$M$1='résultat souhaité'!I$1)*('export brut'!$A$2:$A$24='résultat souhaité'!$A2)*'export brut'!I$2:I$24),ROW($A$1)),"") -> 0 | ... M2: =IFERROR(_xlfn.AGGREGATE(14,6,(1/('export brut'!$B$1:$M$1='résultat souhaité'!M$1)*('export brut'!$A$2:$A$24='résultat souhaité'!$A2)*'export brut'!M$2:M$24),ROW($A$1)),"") -> 0
A3: CLAIRE RICHARD | B3: =IFERROR(_xlfn.AGGREGATE(14,6,(1/('export brut'!$B$1:$M$1='résultat souhaité'!B$1)*('export brut'!$A$2:$A$24='résultat souhaité'!$A3)*'export brut'!B$2:B$24),ROW($A$1)),"") -> 0 | C3: =IFERROR(_xlfn.AGGREGATE(14,6,(1/('export brut'!$B$1:$M$1='résultat souhaité'!C$1)*('export brut'!$A$2:$A$24='résultat souhaité'!$A3)*'export brut'!C$2:C$24),ROW($A$1)),"") -> 0 | D3: =IFERROR(_xlfn.AGGREGATE(14,6,(1/('export brut'!$B$1:$M$1='résultat souhaité'!D$1)*('export brut'!$A$2:$A$24='résultat souhaité'!$A3)*'export brut'!D$2:D$24),ROW($A$1)),"") -> 0 | E3: =IFERROR(_xlfn.AGGREGATE(14,6,(1/('export brut'!$B$1:$M$1='résultat souhaité'!E$1)*('export brut'!$A$2:$A$24='résultat souhaité'!$A3)*'export brut'!E$2:E$24),ROW($A$1)),"") -> 1 | F3: =IFERROR(_xlfn.AGGREGATE(14,6,(1/('export brut'!$B$1:$M$1='résultat souhaité'!F$1)*('export brut'!$A$2:$A$24='résultat souhaité'!$A3)*'export brut'!F$2:F$24),ROW($A$1)),"") -> 0 | G3: =IFERROR(_xlfn.AGGREGATE(14,6,(1/('export brut'!$B$1:$M$1='résultat souhaité'!G$1)*('export brut'!$A$2:$A$24='résultat souhaité'!$A3)*'export brut'!G$2:G$24),ROW($A$1)),"") -> 0 | H3: =IFERROR(_xlfn.AGGREGATE(14,6,(1/('export brut'!$B$1:$M$1='résultat souhaité'!H$1)*('export brut'!$A$2:$A$24='résultat souhaité'!$A3)*'export brut'!H$2:H$24),ROW($A$1)),"") -> 0 | I3: =IFERROR(_xlfn.AGGREGATE(14,6,(1/('export brut'!$B$1:$M$1='résultat souhaité'!I$1)*('export brut'!$A$2:$A$24='résultat souhaité'!$A3)*'export brut'!I$2:I$24),ROW($A$1)),"") -> 0 | ... M3: =IFERROR(_xlfn.AGGREGATE(14,6,(1/('export brut'!$B$1:$M$1='résultat souhaité'!M$1)*('export brut'!$A$2:$A$24='résultat souhaité'!$A3)*'export brut'!M$2:M$24),ROW($A$1)),"") -> 0
A4: NADEGE DESSE | B4: =IFERROR(_xlfn.AGGREGATE(14,6,(1/('export brut'!$B$1:$M$1='résultat souhaité'!B$1)*('export brut'!$A$2:$A$24='résultat souhaité'!$A4)*'export brut'!B$2:B$24),ROW($A$1)),"") -> 0 | C4: =IFERROR(_xlfn.AGGREGATE(14,6,(1/('export brut'!$B$1:$M$1='résultat souhaité'!C$1)*('export brut'!$A$2:$A$24='résultat souhaité'!$A4)*'export brut'!C$2:C$24),ROW($A$1)),"") -> 0 | D4: =IFERROR(_xlfn.AGGREGATE(14,6,(1/('export brut'!$B$1:$M$1='résultat souhaité'!D$1)*('export brut'!$A$2:$A$24='résultat souhaité'!$A4)*'export brut'!D$2:D$24),ROW($A$1)),"") -> 3 | E4: =IFERROR(_xlfn.AGGREGATE(14,6,(1/('export brut'!$B$1:$M$1='résultat souhaité'!E$1)*('export brut'!$A$2:$A$24='résultat souhaité'!$A4)*'export brut'!E$2:E$24),ROW($A$1)),"") -> 0 | F4: =IFERROR(_xlfn.AGGREGATE(14,6,(1/('export brut'!$B$1:$M$1='résultat souhaité'!F$1)*('export brut'!$A$2:$A$24='résultat souhaité'!$A4)*'export brut'!F$2:F$24),ROW($A$1)),"") -> 0 | G4: =IFERROR(_xlfn.AGGREGATE(14,6,(1/('export brut'!$B$1:$M$1='résultat souhaité'!G$1)*('export brut'!$A$2:$A$24='résultat souhaité'!$A4)*'export brut'!G$2:G$24),ROW($A$1)),"") -> 0 | H4: =IFERROR(_xlfn.AGGREGATE(14,6,(1/('export brut'!$B$1:$M$1='résultat souhaité'!H$1)*('export brut'!$A$2:$A$24='résultat souhaité'!$A4)*'export brut'!H$2:H$24),ROW($A$1)),"") -> 0 | I4: =IFERROR(_xlfn.AGGREGATE(14,6,(1/('export brut'!$B$1:$M$1='résultat souhaité'!I$1)*('export brut'!$A$2:$A$24='résultat souhaité'!$A4)*'export brut'!I$2:I$24),ROW($A$1)),"") -> 0 | ... M4: =IFERROR(_xlfn.AGGREGATE(14,6,(1/('export brut'!$B$1:$M$1='résultat souhaité'!M$1)*('export brut'!$A$2:$A$24='résultat souhaité'!$A4)*'export brut'!M$2:M$24),ROW($A$1)),"") -> 0
A5: ANNIE PICARD | B5: =IFERROR(_xlfn.AGGREGATE(14,6,(1/('export brut'!$B$1:$M$1='résultat souhaité'!B$1)*('export brut'!$A$2:$A$24='résultat souhaité'!$A5)*'export brut'!B$2:B$24),ROW($A$1)),"") -> 0 | C5: =IFERROR(_xlfn.AGGREGATE(14,6,(1/('export brut'!$B$1:$M$1='résultat souhaité'!C$1)*('export brut'!$A$2:$A$24='résultat souhaité'!$A5)*'export brut'!C$2:C$24),ROW($A$1)),"") -> 0 | D5: =IFERROR(_xlfn.AGGREGATE(14,6,(1/('export brut'!$B$1:$M$1='résultat souhaité'!D$1)*('export brut'!$A$2:$A$24='résultat souhaité'!$A5)*'export brut'!D$2:D$24),ROW($A$1)),"") -> 1 | E5: =IFERROR(_xlfn.AGGREGATE(14,6,(1/('export brut'!$B$1:$M$1='résultat souhaité'!E$1)*('export brut'!$A$2:$A$24='résultat souhaité'!$A5)*'export brut'!E$2:E$24),ROW($A$1)),"") -> 0 | F5: =IFERROR(_xlfn.AGGREGATE(14,6,(1/('export brut'!$B$1:$M$1='résultat souhaité'!F$1)*('export brut'!$A$2:$A$24='résultat souhaité'!$A5)*'export brut'!F$2:F$24),ROW($A$1)),"") -> 0 | G5: =IFERROR(_xlfn.AGGREGATE(14,6,(1/('export brut'!$B$1:$M$1='résultat souhaité'!G$1)*('export brut'!$A$2:$A$24='résultat souhaité'!$A5)*'export brut'!G$2:G$24),ROW($A$1)),"") -> 0 | H5: =IFERROR(_xlfn.AGGREGATE(14,6,(1/('export brut'!$B$1:$M$1='résultat souhaité'!H$1)*('export brut'!$A$2:$A$24='résultat souhaité'!$A5)*'export brut'!H$2:H$24),ROW($A$1)),"") -> 0 | I5: =IFERROR(_xlfn.AGGREGATE(14,6,(1/('export brut'!$B$1:$M$1='résultat souhaité'!I$1)*('export brut'!$A$2:$A$24='résultat souhaité'!$A5)*'export brut'!I$2:I$24),ROW($A$1)),"") -> 0 | ... M5: =IFERROR(_xlfn.AGGREGATE(14,6,(1/('export brut'!$B$1:$M$1='résultat souhaité'!M$1)*('export brut'!$A$2:$A$24='résultat souhaité'!$A5)*'export brut'!M$2:M$24),ROW($A$1)),"") -> 0
A6: LINDA ALLAIN | B6: =IFERROR(_xlfn.AGGREGATE(14,6,(1/('export brut'!$B$1:$M$1='résultat souhaité'!B$1)*('export brut'!$A$2:$A$24='résultat souhaité'!$A6)*'export brut'!B$2:B$24),ROW($A$1)),"") -> 0 | C6: =IFERROR(_xlfn.AGGREGATE(14,6,(1/('export brut'!$B$1:$M$1='résultat souhaité'!C$1)*('export brut'!$A$2:$A$24='résultat souhaité'!$A6)*'export brut'!C$2:C$24),ROW($A$1)),"") -> 1 | D6: =IFERROR(_xlfn.AGGREGATE(14,6,(1/('export brut'!$B$1:$M$1='résultat souhaité'!D$1)*('export brut'!$A$2:$A$24='résultat souhaité'!$A6)*'export brut'!D$2:D$24),ROW($A$1)),"") -> 0 | E6: =IFERROR(_xlfn.AGGREGATE(14,6,(1/('export brut'!$B$1:$M$1='résultat souhaité'!E$1)*('export brut'!$A$2:$A$24='résultat souhaité'!$A6)*'export brut'!E$2:E$24),ROW($A$1)),"") -> 0 | F6: =IFERROR(_xlfn.AGGREGATE(14,6,(1/('export brut'!$B$1:$M$1='résultat souhaité'!F$1)*('export brut'!$A$2:$A$24='résultat souhaité'!$A6)*'export brut'!F$2:F$24),ROW($A$1)),"") -> 0 | G6: =IFERROR(_xlfn.AGGREGATE(14,6,(1/('export brut'!$B$1:$M$1='résultat souhaité'!G$1)*('export brut'!$A$2:$A$24='résultat souhaité'!$A6)*'export brut'!G$2:G$24),ROW($A$1)),"") -> 0 | H6: =IFERROR(_xlfn.AGGREGATE(14,6,(1/('export brut'!$B$1:$M$1='résultat souhaité'!H$1)*('export brut'!$A$2:$A$24='résultat souhaité'!$A6)*'export brut'!H$2:H$24),ROW($A$1)),"") -> 0 | I6: =IFERROR(_xlfn.AGGREGATE(14,6,(1/('export brut'!$B$1:$M$1='résultat souhaité'!I$1)*('export brut'!$A$2:$A$24='résultat souhaité'!$A6)*'export brut'!I$2:I$24),ROW($A$1)),"") -> 0 | ... M6: =IFERROR(_xlfn.AGGREGATE(14,6,(1/('export brut'!$B$1:$M$1='résultat souhaité'!M$1)*('export brut'!$A$2:$A$24='résultat souhaité'!$A6)*'export brut'!M$2:M$24),ROW($A$1)),"") -> 0
A7: VALERIE JUSTE | B7: =IFERROR(_xlfn.AGGREGATE(14,6,(1/('export brut'!$B$1:$M$1='résultat souhaité'!B$1)*('export brut'!$A$2:$A$24='résultat souhaité'!$A7)*'export brut'!B$2:B$24),ROW($A$1)),"") -> 12 | C7: =IFERROR(_xlfn.AGGREGATE(14,6,(1/('export brut'!$B$1:$M$1='résultat souhaité'!C$1)*('export brut'!$A$2:$A$24='résultat souhaité'!$A7)*'export brut'!C$2:C$24),ROW($A$1)),"") -> 14 | D7: =IFERROR(_xlfn.AGGREGATE(14,6,(1/('export brut'!$B$1:$M$1='résultat souhaité'!D$1)*('export brut'!$A$2:$A$24='résultat souhaité'!$A7)*'export brut'!D$2:D$24),ROW($A$1)),"") -> 20 | E7: =IFERROR(_xlfn.AGGREGATE(14,6,(1/('export brut'!$B$1:$M$1='résultat souhaité'!E$1)*('export brut'!$A$2:$A$24='résultat souhaité'!$A7)*'export brut'!E$2:E$24),ROW($A$1)),"") -> 20 | F7: =IFERROR(_xlfn.AGGREGATE(14,6,(1/('export brut'!$B$1:$M$1='résultat souhaité'!F$1)*('export brut'!$A$2:$A$24='résultat souhaité'!$A7)*'export brut'!F$2:F$24),ROW($A$1)),"") -> 18 | G7: =IFERROR(_xlfn.AGGREGATE(14,6,(1/('export brut'!$B$1:$M$1='résultat souhaité'!G$1)*('export brut'!$A$2:$A$24='résultat souhaité'!$A7)*'export brut'!G$2:G$24),ROW($A$1)),"") -> 12 | H7: =IFERROR(_xlfn.AGGREGATE(14,6,(1/('export brut'!$B$1:$M$1='résultat souhaité'!H$1)*('export brut'!$A$2:$A$24='résultat souhaité'!$A7)*'export brut'!H$2:H$24),ROW($A$1)),"") -> 2 | I7: =IFERROR(_xlfn.AGGREGATE(14,6,(1/('export brut'!$B$1:$M$1='résultat souhaité'!I$1)*('export brut'!$A$2:$A$24='résultat souhaité'!$A7)*'export brut'!I$2:I$24),ROW($A$1)),"") -> 2 | ... M7: =IFERROR(_xlfn.AGGREGATE(14,6,(1/('export brut'!$B$1:$M$1='résultat souhaité'!M$1)*('export brut'!$A$2:$A$24='résultat souhaité'!$A7)*'export brut'!M$2:M$24),ROW($A$1)),"") -> 0
A8: FLORIAN France | B8: =IFERROR(_xlfn.AGGREGATE(14,6,(1/('export brut'!$B$1:$M$1='résultat souhaité'!B$1)*('export brut'!$A$2:$A$24='résultat souhaité'!$A8)*'export brut'!B$2:B$24),ROW($A$1)),"") -> 0 | C8: =IFERROR(_xlfn.AGGREGATE(14,6,(1/('export brut'!$B$1:$M$1='résultat souhaité'!C$1)*('export brut'!$A$2:$A$24='résultat souhaité'!$A8)*'export brut'!C$2:C$24),ROW($A$1)),"") -> 0 | D8: =IFERROR(_xlfn.AGGREGATE(14,6,(1/('export brut'!$B$1:$M$1='résultat souhaité'!D$1)*('export brut'!$A$2:$A$24='résultat souhaité'!$A8)*'export brut'!D$2:D$24),ROW($A$1)),"") -> 1 | E8: =IFERROR(_xlfn.AGGREGATE(14,6,(1/('export brut'!$B$1:$M$1='résultat souhaité'!E$1)*('export brut'!$A$2:$A$24='résultat souhaité'!$A8)*'export brut'!E$2:E$24),ROW($A$1)),"") -> 0 | F8: =IFERROR(_xlfn.AGGREGATE(14,6,(1/('export brut'!$B$1:$M$1='résultat souhaité'!F$1)*('export brut'!$A$2:$A$24='résultat souhaité'!$A8)*'export brut'!F$2:F$24),ROW($A$1)),"") -> 3 | G8: =IFERROR(_xlfn.AGGREGATE(14,6,(1/('export brut'!$B$1:$M$1='résultat souhaité'!G$1)*('export brut'!$A$2:$A$24='résultat souhaité'!$A8)*'export brut'!G$2:G$24),ROW($A$1)),"") -> 2 | H8: =IFERROR(_xlfn.AGGREGATE(14,6,(1/('export brut'!$B$1:$M$1='résultat souhaité'!H$1)*('export brut'!$A$2:$A$24='résultat souhaité'!$A8)*'export brut'!H$2:H$24),ROW($A$1)),"") -> 1 | I8: =IFERROR(_xlfn.AGGREGATE(14,6,(1/('export brut'!$B$1:$M$1='résultat souhaité'!I$1)*('export brut'!$A$2:$A$24='résultat souhaité'!$A8)*'export brut'!I$2:I$24),ROW($A$1)),"") -> 1 | ... M8: =IFERROR(_xlfn.AGGREGATE(14,6,(1/('export brut'!$B$1:$M$1='résultat souhaité'!M$1)*('export brut'!$A$2:$A$24='résultat souhaité'!$A8)*'export brut'!M$2:M$24),ROW($A$1)),"") -> 0
B9: =IFERROR(_xlfn.AGGREGATE(14,6,(1/('export brut'!$B$1:$M$1='résultat souhaité'!B$1)*('export brut'!$A$2:$A$24='résultat souhaité'!$A9)*'export brut'!B$2:B$24),ROW($A$1)),"") -> 0 | C9: =IFERROR(_xlfn.AGGREGATE(14,6,(1/('export brut'!$B$1:$M$1='résultat souhaité'!C$1)*('export brut'!$A$2:$A$24='résultat souhaité'!$A9)*'export brut'!C$2:C$24),ROW($A$1)),"") -> 0 | D9: =IFERROR(_xlfn.AGGREGATE(14,6,(1/('export brut'!$B$1:$M$1='résultat souhaité'!D$1)*('export brut'!$A$2:$A$24='résultat souhaité'!$A9)*'export brut'!D$2:D$24),ROW($A$1)),"") -> 0 | E9: =IFERROR(_xlfn.AGGREGATE(14,6,(1/('export brut'!$B$1:$M$1='résultat souhaité'!E$1)*('export brut'!$A$2:$A$24='résultat souhaité'!$A9)*'export brut'!E$2:E$24),ROW($A$1)),"") -> 0 | F9: =IFERROR(_xlfn.AGGREGATE(14,6,(1/('export brut'!$B$1:$M$1='résultat souhaité'!F$1)*('export brut'!$A$2:$A$24='résultat souhaité'!$A9)*'export brut'!F$2:F$24),ROW($A$1)),"") -> 0 | G9: =IFERROR(_xlfn.AGGREGATE(14,6,(1/('export brut'!$B$1:$M$1='résultat souhaité'!G$1)*('export brut'!$A$2:$A$24='résultat souhaité'!$A9)*'export brut'!G$2:G$24),ROW($A$1)),"") -> 0 | H9: =IFERROR(_xlfn.AGGREGATE(14,6,(1/('export brut'!$B$1:$M$1='résultat souhaité'!H$1)*('export brut'!$A$2:$A$24='résultat souhaité'!$A9)*'export brut'!H$2:H$24),ROW($A$1)),"") -> 0 | I9: =IFERROR(_xlfn.AGGREGATE(14,6,(1/('export brut'!$B$1:$M$1='résultat souhaité'!I$1)*('export brut'!$A$2:$A$24='résultat souhaité'!$A9)*'export brut'!I$2:I$24),ROW($A$1)),"") -> 0 | ... M9: =IFERROR(_xlfn.AGGREGATE(14,6,(1/('export brut'!$B$1:$M$1='résultat souhaité'!M$1)*('export brut'!$A$2:$A$24='résultat souhaité'!$A9)*'export brut'!M$2:M$24),ROW($A$1)),"") -> 0
