Workbook

Sheet Données
A1: Client | B1: Produit
A2: CLT1 | B2: P1
A3: CLT1 | B3: P2
A4: CLT1 | B4: P4
A5: CLT1 | B5: P6
A6: CLT1 | B6: P9
A7: CLT2 | B7: P1
A8: CLT2 | B8: P2
A9: CLT2 | B9: P3
A10: CLT2 | B10: P4
A11: CLT3 | B11: P1
A12: CLT3 | B12: P2
... A14: CLT3 | B14: P5

Sheet Travaux 1
B1: CLT1 | C1: CLT2 | D1: CLT3
A2: P1 | B2: {=IFERROR(INDEX(Données!$B$2:$B$14,MATCH($A2&B$1,Données!$B$2:$B$14&Données!$A$2:$A$14,0)),"")} -> P1 | C2: {=IFERROR(INDEX(Données!$B$2:$B$14,MATCH($A2&C$1,Données!$B$2:$B$14&Données!$A$2:$A$14,0)),"")} -> P1 | D2: {=IFERROR(INDEX(Données!$B$2:$B$14,MATCH($A2&D$1,Données!$B$2:$B$14&Données!$A$2:$A$14,0)),"")} -> P1
A3: P2 | B3: {=IFERROR(INDEX(Données!$B$2:$B$14,MATCH($A3&B$1,Données!$B$2:$B$14&Données!$A$2:$A$14,0)),"")} -> P2 | C3: {=IFERROR(INDEX(Données!$B$2:$B$14,MATCH($A3&C$1,Données!$B$2:$B$14&Données!$A$2:$A$14,0)),"")} -> P2 | D3: {=IFERROR(INDEX(Données!$B$2:$B$14,MATCH($A3&D$1,Données!$B$2:$B$14&Données!$A$2:$A$14,0)),"")} -> P2
A4: P4 | B4: {=IFERROR(INDEX(Données!$B$2:$B$14,MATCH($A4&B$1,Données!$B$2:$B$14&Données!$A$2:$A$14,0)),"")} -> P4 | C4: {=IFERROR(INDEX(Données!$B$2:$B$14,MATCH($A4&C$1,Données!$B$2:$B$14&Données!$A$2:$A$14,0)),"")} -> P4 | D4: {=IFERROR(INDEX(Données!$B$2:$B$14,MATCH($A4&D$1,Données!$B$2:$B$14&Données!$A$2:$A$14,0)),"")}
A5: P6 | B5: {=IFERROR(INDEX(Données!$B$2:$B$14,MATCH($A5&B$1,Données!$B$2:$B$14&Données!$A$2:$A$14,0)),"")} -> P6 | C5: {=IFERROR(INDEX(Données!$B$2:$B$14,MATCH($A5&C$1,Données!$B$2:$B$14&Données!$A$2:$A$14,0)),"")} | D5: {=IFERROR(INDEX(Données!$B$2:$B$14,MATCH($A5&D$1,Données!$B$2:$B$14&Données!$A$2:$A$14,0)),"")}
A6: P9 | B6: {=IFERROR(INDEX(Données!$B$2:$B$14,MATCH($A6&B$1,Données!$B$2:$B$14&Données!$A$2:$A$14,0)),"")} -> P9 | C6: {=IFERROR(INDEX(Données!$B$2:$B$14,MATCH($A6&C$1,Données!$B$2:$B$14&Données!$A$2:$A$14,0)),"")} | D6: {=IFERROR(INDEX(Données!$B$2:$B$14,MATCH($A6&D$1,Données!$B$2:$B$14&Données!$A$2:$A$14,0)),"")}
A7: P3 | B7: {=IFERROR(INDEX(Données!$B$2:$B$14,MATCH($A7&B$1,Données!$B$2:$B$14&Données!$A$2:$A$14,0)),"")} | C7: {=IFERROR(INDEX(Données!$B$2:$B$14,MATCH($A7&C$1,Données!$B$2:$B$14&Données!$A$2:$A$14,0)),"")} -> P3 | D7: {=IFERROR(INDEX(Données!$B$2:$B$14,MATCH($A7&D$1,Données!$B$2:$B$14&Données!$A$2:$A$14,0)),"")} -> P3
A8: P5 | B8: {=IFERROR(INDEX(Données!$B$2:$B$14,MATCH($A8&B$1,Données!$B$2:$B$14&Données!$A$2:$A$14,0)),"")} | C8: {=IFERROR(INDEX(Données!$B$2:$B$14,MATCH($A8&C$1,Données!$B$2:$B$14&Données!$A$2:$A$14,0)),"")} | D8: {=IFERROR(INDEX(Données!$B$2:$B$14,MATCH($A8&D$1,Données!$B$2:$B$14&Données!$A$2:$A$14,0)),"")} -> P5
