Workbook

Sheet Données Bruts
A1: 1 | B1: 617093.241 | C1: 140616.268 | D1: 70.431 | E1: H6
A2: 2 | B2: 617605.319 | C2: 140890.487 | D2: 68.353 | E2: H8
A3: 3 | B3: 617605.865 | C3: 140890.795 | D3: 68.303 | E3: H8
A4: 4 | B4: 617109.583 | C4: 140624.516 | D4: 70.668 | E4: H6
A5: 5 | B5: 617093.591 | C5: 140616.398 | D5: 70.386 | E5: H6
A6: 6 | B6: 617116.83 | C6: 140628.139 | D6: 70.755 | E6: H6
A7: 7 | B7: 617421.277 | C7: 141110.774 | D7: 69.307 | E7: G6
A8: 8 | B8: 617101.71 | C8: 140620.659 | D8: 70.346 | E8: H6
A9: 9 | B9: 617460.263 | C9: 141045.696 | D9: 68.986 | E9: H7
A10: 10 | B10: 617464.473 | C10: 141038.862 | D10: 68.982 | E10: H7
A11: 11 | B11: 617471.877 | C11: 141026.69 | D11: 68.909 | E11: B8
A12: 12 | B12: 617510.752 | C12: 140973.625 | D12: 68.571 | E12: B8
... A25: 25 | B25: 617143.797 | C25: 140641.405 | D25: 71.277 | E25: H6

Sheet Résultats
A2: =IFERROR(INDEX({399;299;199},MATCH(LEFT('Données Bruts'!E1,1),{"h";"b";"g"},0)),"") -> 399 | B2: =IF(A2<>"",COUNTA(A$2:A2),"") -> 1 | C2: =IFERROR(INDEX('Données Bruts'!B$1:B$50,MATCH($B2,'Données Bruts'!$A$1:$A$50,0)),"") -> 617093.241 | D2: =IFERROR(INDEX('Données Bruts'!C$1:C$50,MATCH($B2,'Données Bruts'!$A$1:$A$50,0)),"") -> 140616.268 | E2: =IFERROR(INDEX('Données Bruts'!D$1:D$50,MATCH($B2,'Données Bruts'!$A$1:$A$50,0)),"") -> 70.431 | F2: =IFERROR(INDEX('Données Bruts'!E$1:E$50,MATCH($B2,'Données Bruts'!$A$1:$A$50,0)),"") -> H6
A3: =IFERROR(INDEX({399;299;199},MATCH(LEFT('Données Bruts'!E2,1),{"h";"b";"g"},0)),"") -> 399 | B3: =IF(A3<>"",COUNTA(A$2:A3),"") -> 2 | C3: =IFERROR(INDEX('Données Bruts'!B$1:B$50,MATCH($B3,'Données Bruts'!$A$1:$A$50,0)),"") -> 617605.319 | D3: =IFERROR(INDEX('Données Bruts'!C$1:C$50,MATCH($B3,'Données Bruts'!$A$1:$A$50,0)),"") -> 140890.487 | E3: =IFERROR(INDEX('Données Bruts'!D$1:D$50,MATCH($B3,'Données Bruts'!$A$1:$A$50,0)),"") -> 68.353 | F3: =IFERROR(INDEX('Données Bruts'!E$1:E$50,MATCH($B3,'Données Bruts'!$A$1:$A$50,0)),"") -> H8
A4: =IFERROR(INDEX({399;299;199},MATCH(LEFT('Données Bruts'!E3,1),{"h";"b";"g"},0)),"") -> 399 | B4: =IF(A4<>"",COUNTA(A$2:A4),"") -> 3 | C4: =IFERROR(INDEX('Données Bruts'!B$1:B$50,MATCH($B4,'Données Bruts'!$A$1:$A$50,0)),"") -> 617605.865 | D4: =IFERROR(INDEX('Données Bruts'!C$1:C$50,MATCH($B4,'Données Bruts'!$A$1:$A$50,0)),"") -> 140890.795 | E4: =IFERROR(INDEX('Données Bruts'!D$1:D$50,MATCH($B4,'Données Bruts'!$A$1:$A$50,0)),"") -> 68.303 | F4: =IFERROR(INDEX('Données Bruts'!E$1:E$50,MATCH($B4,'Données Bruts'!$A$1:$A$50,0)),"") -> H8
A5: =IFERROR(INDEX({399;299;199},MATCH(LEFT('Données Bruts'!E4,1),{"h";"b";"g"},0)),"") -> 399 | B5: =IF(A5<>"",COUNTA(A$2:A5),"") -> 4 | C5: =IFERROR(INDEX('Données Bruts'!B$1:B$50,MATCH($B5,'Données Bruts'!$A$1:$A$50,0)),"") -> 617109.583 | D5: =IFERROR(INDEX('Données Bruts'!C$1:C$50,MATCH($B5,'Données Bruts'!$A$1:$A$50,0)),"") -> 140624.516 | E5: =IFERROR(INDEX('Données Bruts'!D$1:D$50,MATCH($B5,'Données Bruts'!$A$1:$A$50,0)),"") -> 70.668 | F5: =IFERROR(INDEX('Données Bruts'!E$1:E$50,MATCH($B5,'Données Bruts'!$A$1:$A$50,0)),"") -> H6
A6: =IFERROR(INDEX({399;299;199},MATCH(LEFT('Données Bruts'!E5,1),{"h";"b";"g"},0)),"") -> 399 | B6: =IF(A6<>"",COUNTA(A$2:A6),"") -> 5 | C6: =IFERROR(INDEX('Données Bruts'!B$1:B$50,MATCH($B6,'Données Bruts'!$A$1:$A$50,0)),"") -> 617093.591 | D6: =IFERROR(INDEX('Données Bruts'!C$1:C$50,MATCH($B6,'Données Bruts'!$A$1:$A$50,0)),"") -> 140616.398 | E6: =IFERROR(INDEX('Données Bruts'!D$1:D$50,MATCH($B6,'Données Bruts'!$A$1:$A$50,0)),"") -> 70.386 | F6: =IFERROR(INDEX('Données Bruts'!E$1:E$50,MATCH($B6,'Données Bruts'!$A$1:$A$50,0)),"") -> H6
A7: =IFERROR(INDEX({399;299;199},MATCH(LEFT('Données Bruts'!E6,1),{"h";"b";"g"},0)),"") -> 399 | B7: =IF(A7<>"",COUNTA(A$2:A7),"") -> 6 | C7: =IFERROR(INDEX('Données Bruts'!B$1:B$50,MATCH($B7,'Données Bruts'!$A$1:$A$50,0)),"") -> 617116.83 | D7: =IFERROR(INDEX('Données Bruts'!C$1:C$50,MATCH($B7,'Données Bruts'!$A$1:$A$50,0)),"") -> 140628.139 | E7: =IFERROR(INDEX('Données Bruts'!D$1:D$50,MATCH($B7,'Données Bruts'!$A$1:$A$50,0)),"") -> 70.755 | F7: =IFERROR(INDEX('Données Bruts'!E$1:E$50,MATCH($B7,'Données Bruts'!$A$1:$A$50,0)),"") -> H6
A8: =IFERROR(INDEX({399;299;199},MATCH(LEFT('Données Bruts'!E7,1),{"h";"b";"g"},0)),"") -> 199 | B8: =IF(A8<>"",COUNTA(A$2:A8),"") -> 7 | C8: =IFERROR(INDEX('Données Bruts'!B$1:B$50,MATCH($B8,'Données Bruts'!$A$1:$A$50,0)),"") -> 617421.277 | D8: =IFERROR(INDEX('Données Bruts'!C$1:C$50,MATCH($B8,'Données Bruts'!$A$1:$A$50,0)),"") -> 141110.774 | E8: =IFERROR(INDEX('Données Bruts'!D$1:D$50,MATCH($B8,'Données Bruts'!$A$1:$A$50,0)),"") -> 69.307 | F8: =IFERROR(INDEX('Données Bruts'!E$1:E$50,MATCH($B8,'Données Bruts'!$A$1:$A$50,0)),"") -> G6
A9: =IFERROR(INDEX({399;299;199},MATCH(LEFT('Données Bruts'!E8,1),{"h";"b";"g"},0)),"") -> 399 | B9: =IF(A9<>"",COUNTA(A$2:A9),"") -> 8 | C9: =IFERROR(INDEX('Données Bruts'!B$1:B$50,MATCH($B9,'Données Bruts'!$A$1:$A$50,0)),"") -> 617101.71 | D9: =IFERROR(INDEX('Données Bruts'!C$1:C$50,MATCH($B9,'Données Bruts'!$A$1:$A$50,0)),"") -> 140620.659 | E9: =IFERROR(INDEX('Données Bruts'!D$1:D$50,MATCH($B9,'Données Bruts'!$A$1:$A$50,0)),"") -> 70.346 | F9: =IFERROR(INDEX('Données Bruts'!E$1:E$50,MATCH($B9,'Données Bruts'!$A$1:$A$50,0)),"") -> H6
A10: =IFERROR(INDEX({399;299;199},MATCH(LEFT('Données Bruts'!E9,1),{"h";"b";"g"},0)),"") -> 399 | B10: =IF(A10<>"",COUNTA(A$2:A10),"") -> 9 | C10: =IFERROR(INDEX('Données Bruts'!B$1:B$50,MATCH($B10,'Données Bruts'!$A$1:$A$50,0)),"") -> 617460.263 | D10: =IFERROR(INDEX('Données Bruts'!C$1:C$50,MATCH($B10,'Données Bruts'!$A$1:$A$50,0)),"") -> 141045.696 | E10: =IFERROR(INDEX('Données Bruts'!D$1:D$50,MATCH($B10,'Données Bruts'!$A$1:$A$50,0)),"") -> 68.986 | F10: =IFERROR(INDEX('Données Bruts'!E$1:E$50,MATCH($B10,'Données Bruts'!$A$1:$A$50,0)),"") -> H7
A11: =IFERROR(INDEX({399;299;199},MATCH(LEFT('Données Bruts'!E10,1),{"h";"b";"g"},0)),"") -> 399 | B11: =IF(A11<>"",COUNTA(A$2:A11),"") -> 10 | C11: =IFERROR(INDEX('Données Bruts'!B$1:B$50,MATCH($B11,'Données Bruts'!$A$1:$A$50,0)),"") -> 617464.473 | D11: =IFERROR(INDEX('Données Bruts'!C$1:C$50,MATCH($B11,'Données Bruts'!$A$1:$A$50,0)),"") -> 141038.862 | E11: =IFERROR(INDEX('Données Bruts'!D$1:D$50,MATCH($B11,'Données Bruts'!$A$1:$A$50,0)),"") -> 68.982 | F11: =IFERROR(INDEX('Données Bruts'!E$1:E$50,MATCH($B11,'Données Bruts'!$A$1:$A$50,0)),"") -> H7
A12: =IFERROR(INDEX({399;299;199},MATCH(LEFT('Données Bruts'!E11,1),{"h";"b";"g"},0)),"") -> 299 | B12: =IF(A12<>"",COUNTA(A$2:A12),"") -> 11 | C12: =IFERROR(INDEX('Données Bruts'!B$1:B$50,MATCH($B12,'Données Bruts'!$A$1:$A$50,0)),"") -> 617471.877 | D12: =IFERROR(INDEX('Données Bruts'!C$1:C$50,MATCH($B12,'Données Bruts'!$A$1:$A$50,0)),"") -> 141026.69 | E12: =IFERROR(INDEX('Données Bruts'!D$1:D$50,MATCH($B12,'Données Bruts'!$A$1:$A$50,0)),"") -> 68.909 | F12: =IFERROR(INDEX('Données Bruts'!E$1:E$50,MATCH($B12,'Données Bruts'!$A$1:$A$50,0)),"") -> B8
A13: =IFERROR(INDEX({399;299;199},MATCH(LEFT('Données Bruts'!E12,1),{"h";"b";"g"},0)),"") -> 299 | B13: =IF(A13<>"",COUNTA(A$2:A13),"") -> 12 | C13: =IFERROR(INDEX('Données Bruts'!B$1:B$50,MATCH($B13,'Données Bruts'!$A$1:$A$50,0)),"") -> 617510.752 | D13: =IFERROR(INDEX('Données Bruts'!C$1:C$50,MATCH($B13,'Données Bruts'!$A$1:$A$50,0)),"") -> 140973.625 | E13: =IFERROR(INDEX('Données Bruts'!D$1:D$50,MATCH($B13,'Données Bruts'!$A$1:$A$50,0)),"") -> 68.571 | F13: =IFERROR(INDEX('Données Bruts'!E$1:E$50,MATCH($B13,'Données Bruts'!$A$1:$A$50,0)),"") -> B8
... A29: =IFERROR(INDEX({399;299;199},MATCH(LEFT('Données Bruts'!E28,1),{"h";"b";"g"},0)),"") | B29: =IF(A29<>"",COUNTA(A$2:A29),"") | C29: =IFERROR(INDEX('Données Bruts'!B$1:B$50,MATCH($B29,'Données Bruts'!$A$1:$A$50,0)),"") | D29: =IFERROR(INDEX('Données Bruts'!C$1:C$50,MATCH($B29,'Données Bruts'!$A$1:$A$50,0)),"") | E29: =IFERROR(INDEX('Données Bruts'!D$1:D$50,MATCH($B29,'Données Bruts'!$A$1:$A$50,0)),"") | F29: =IFERROR(INDEX('Données Bruts'!E$1:E$50,MATCH($B29,'Données Bruts'!$A$1:$A$50,0)),"")
