Workbook
Name ColE: OFFSET('CONTENT PERFORMANCE DETAILS'!$E$10,,,COUNTA('CONTENT PERFORMANCE DETAILS'!$A:$E)-1)
Name Months: #REF!
Name Quarters: #REF!
Name Tableau: OFFSET('CONTENT PERFORMANCE DETAILS'!$A$10:$F$10,,,COUNTA('CONTENT PERFORMANCE DETAILS'!$A:$F)-9)

Sheet ALL HORS SEPT16 exclviewers
A1: ANNEE | B1: mois | C1: Date | D1: Catégorie | E1: Post | F1: Fans à date | G1: Portée | H1: Portée organique | I1: Portée payée | J1: Taux de reach | K1: Personnes engagées | L1: Taux d'engagement | M1: Total Engagement | N1: Likes | O1: Comments | P1: Shares | Q1: Clics | R1: Vues | S1: Inv Media | T1: Type d'achat | U1: Format | V1: calcul CPM
A2: 2016 | B2: 42583 | C2: 42613.354 | D2: PERRIER ARO | E2: Le secret de ce cocktail ? Un PERRIER Citron pour une fraîcheur garantie et sans se presser ! Pour découvrir tous nos cocktails, venez buller ici : http://bit.ly/1XmLCkL | F2: 100144 | G2: 855286 | H2: 32513 | I2: 822773 | J2: =G2/F2 -> 8.5405616 | K2: =(5395+60827)-2779 -> 63443 | L2: =K2/G2 -> 0.074177527 | M2: =SUM(N2:R2) -> 69358 | N2: 1420 | O2: 178 | P2: 340 | Q2: 3920 | R2: 63500
A3: 2016 | B3: 42583 | C3: 42611.392 | D3: PERRIER ARO | E3: - Garçon ! Auriez-vous un PERRIER avec un goût fruité ? - Et un PERRIER aromatisé pour la 17 ! Un ! Et pour vous ? | F3: 100115 | G3: 2071806 | H3: 28329 | I3: 2043477 | J3: =G3/F3 -> 20.694262 | K3: =(5887+45306)-4221 -> 46972 | L3: =K3/G3 -> 0.022672007 | M3: =SUM(N3:R3) -> 48890 | N3: 888 | O3: 105 | P3: 45 | Q3: 2539 | R3: 45313
A4: 2016 | B4: 42583 | C4: 42608.387 | D4: PERRIER BRAND | E4: [CONCOURS] Prenez une pause PERRIER pour faire tomber la température ! Agrumes, Citron, Fraise, Menthe, Pomme verte ou Citron vert, quel PERRIER aromatisé vous rafraîchira ? Quinze personnes seront tirées au sort dans les commentaires pour recevoir leurs PERRIER aromatisés ;) Règlement : http://urlz.fr/40aL | F4: 99983 | G4: 123570 | H4: 24089 | I4: 99481 | J4: =G4/F4 -> 1.2359101 | K4: 3187 | L4: =K4/G4 -> 0.02579105 | M4: =SUM(N4:R4) -> 6168 | N4: 2242 | O4: 926 | P4: 318 | Q4: 2682
A5: 2016 | B5: 42583 | C5: 42606.344 | D5: DIGITAL ARTIST | E5: Combien de temps resterez-vous sous cette hypnose rafraîchissante ? © Jonah Nigro / www.popsicleillusion.com - 2016 | F5: 99958 | G5: 51079 | H5: 5938 | I5: 45141 | J5: =G5/F5 -> 0.51100462 | K5: 1382 | L5: =K5/G5 -> 0.027056129 | M5: =SUM(N5:R5) -> 1570 | N5: 1166 | O5: 13 | P5: 56 | Q5: 335
A6: 2016 | B6: 42583 | C6: 42604.344 | D6: PERRIER ARO | E6: Nom d'une licorne ! Un PERRIER aromatisé avec 0 sucres, ça existe vraiment ? | F6: 99999 | G6: 4290271 | H6: 60350 | I6: 4229921 | J6: =G6/F6 -> 42.903139 | K6: =(10804+81264)-7417 -> 84651 | L6: =K6/G6 -> 0.019730921 | M6: =SUM(N6:R6) -> 91815 | N6: 1933 | O6: 222 | P6: 168 | Q6: 8219 | R6: 81273
A7: 2016 | B7: 42583 | C7: 42601.344 | D7: PERRIER ARO | E7: Un PERRIER aromatisé peut-il être 100% naturel ? Le perroquet vous souffle la réponse... | F7: 99925 | G7: 4157399 | H7: 23568 | I7: 4133831 | J7: =G7/F7 -> 41.605194 | K7: =(9910+58018)-6766 -> 61162 | L7: =K7/G7 -> 0.014711602 | M7: =SUM(N7:R7) -> 69824 | N7: 2031 | O7: 151 | P7: 215 | Q7: 8602 | R7: 58825
A8: 2016 | B8: 42583 | C8: 42599.344 | D8: DIGITAL ARTIST | E8: Un bouquet qui pétille de fraîcheur ! © Que Duong - 2016 #quedidit queduong.com | F8: 99761 | G8: 61944 | H8: 11738 | I8: 50206 | J8: =G8/F8 -> 0.62092401 | K8: 2392 | L8: =K8/G8 -> 0.038615524 | M8: =SUM(N8:R8) -> 2826 | N8: 1979 | O8: 15 | P8: 109 | Q8: 723
A9: 2016 | B9: 42583 | C9: 42597.198 | D9: DIGITAL ARTIST | E9: Un cadre de rêve pour l'été. Partagez-nous le vôtre. © Yelldesign - 2016 | F9: 99698 | G9: 90249 | H9: 9765 | I9: 80484 | J9: =G9/F9 -> 0.90522378 | K9: 3164 | L9: =K9/G9 -> 0.03505856 | M9: =SUM(N9:R9) -> 3697 | N9: 2610 | O9: 32 | P9: 103 | Q9: 952
A10: 2016 | B10: 42583 | C10: 42595.198 | D10: PERRIER x ART | E10: Certains se la coulent douce. | F10: 99674 | G10: 73662 | H10: 8712 | I10: 64950 | J10: =G10/F10 -> 0.73902924 | K10: 1735 | L10: =K10/G10 -> 0.023553528 | M10: =SUM(N10:R10) -> 2052 | N10: 1406 | O10: 33 | P10: 120 | Q10: 493
A11: 2016 | B11: 42583 | C11: 42592.344 | D11: PERRIER ANYTIME | E11: Une chose est sûre, tout le monde se jettera dessus ! Découvrez la recette ici : http://bit.ly/2azDxq4 | F11: 99582 | G11: 52118 | H11: 9031 | I11: 43087 | J11: =G11/F11 -> 0.52336768 | K11: 1639 | L11: =K11/G11 -> 0.031447868 | M11: =SUM(N11:R11) -> 1905 | N11: 1357 | O11: 31 | P11: 113 | Q11: 404
A12: 2016 | B12: 42583 | C12: 42590.281 | D12: PERRIER X 100% NATURAL | E12: L'été se savoure dans une bouteille. | F12: 99506 | G12: 87295 | H12: 17449 | I12: 69846 | J12: =G12/F12 -> 0.87728378 | K12: 3381 | L12: =K12/G12 -> 0.038730741 | M12: =SUM(N12:R12) -> 4314 | N12: 2851 | O12: 48 | P12: 194 | Q12: 1221
A13: 2016 | B13: 42583 | C13: 42587.344 | D13: PERRIER ARO | E13: Les PERRIER Aromatisés prennent le relais. Quel est votre favori ? | F13: 99542 | G13: 51626 | H13: 5720 | I13: 45906 | J13: =G13/F13 -> 0.51863535 | K13: 1198 | L13: =K13/G13 -> 0.023205362 | M13: =SUM(N13:R13) -> 1404 | N13: 982 | O13: 28 | P13: 71 | Q13: 323
A14: 2016 | B14: 42583 | C14: 42585.344 | D14: DIGITAL ARTIST | E14: Nos bulles sont pleines de vie ! © A.L.Crego / @Mutante Creativo - 2016 | F14: 99567 | G14: 79753 | H14: 8807 | I14: 70946 | J14: =G14/F14 -> 0.80099832 | K14: 2077 | L14: =K14/G14 -> 0.026042907 | M14: =SUM(N14:R14) -> 2326 | N14: 1502 | O14: 15 | P14: 123 | Q14: 686
A15: 2016 | B15: 42583 | C15: 42583.281 | D15: PERRIER BRAND | E15: On a goûté l'eau. Elle est fraîche ! | F15: 99588 | G15: 82265 | H15: 12263 | I15: 70002 | J15: =G15/F15 -> 0.82605334 | K15: 2234 | L15: =K15/G15 -> 0.027156142 | M15: =SUM(N15:R15) -> 2606 | N15: 1735 | O15: 31 | P15: 183 | Q15: 657
A16: 2016 | B16: 42552 | C16: 42580.354 | D16: DIGITAL ARTIST | E16: Une bouteille à la mer ! © A.L.Crego / Mutante Creativo- 2016 | F16: 99617 | G16: 88205 | H16: 11540 | I16: 76665 | J16: =G16/F16 -> 0.88544124 | K16: 2434 | L16: =K16/G16 -> 0.027594808 | M16: =SUM(N16:R16) -> 2784 | N16: 1473 | O16: 23 | P16: 138 | Q16: 1150
A17: 2016 | B17: 42552 | C17: 42578.344 | D17: PERRIER ICONIC | E17: Cet été, les PERRIER aromatisés vous en feront voir de toutes les couleurs. | F17: 99629 | G17: 51985 | H17: 7815 | I17: 44170 | J17: =G17/F17 -> 0.52178583 | K17: 1388 | L17: =K17/G17 -> 0.02670001 | M17: =SUM(N17:R17) -> 1571 | N17: 1160 | O17: 10 | P17: 77 | Q17: 324
A18: 2016 | B18: 42552 | C18: 42576.344 | D18: PERRIER ARO | E18: Un PERRIER à la hauteur des attentes les plus extraordinaires.. #ExtraordinairePerrier Découvrez-en plus ici : http://bit.ly/28Ys00K | F18: 99622 | G18: 68698 | H18: 8548 | I18: 60150 | J18: =G18/F18 -> 0.68958664 | K18: 1833 | L18: =K18/G18 -> 0.026681999 | M18: =SUM(N18:R18) -> 2253 | N18: 1616 | O18: 16 | P18: 58 | Q18: 563
A19: 2016 | B19: 42552 | C19: 42573.344 | D19: PERRIER BRAND | E19: PERRIER rafraîchit naturellement votre été ! | F19: 99641 | G19: 60345 | H19: 7689 | I19: 52656 | J19: =G19/F19 -> 0.60562419 | K19: 1995 | L19: =K19/G19 -> 0.033059906 | M19: =SUM(N19:R19) -> 2400 | N19: 1702 | O19: 14 | P19: 85 | Q19: 599
... A42: 2016 | B42: 42522 | C42: 42528.312 | D42: PERRIER ARO | E42: Les PERRIER aromatisés vous feront pousser des ailes ! | F42: 97864 | G42: 47007 | H42: 7294 | I42: 39713 | J42: =G42/F42 -> 0.48032985 | K42: 1191 | L42: =K42/G42 -> 0.025336652 | M42: =SUM(N42:R42) -> 1360 | N42: 890 | O42: 29 | P42: 48 | Q42: 393
A43: 2016 | B43: 42522 | C43: 42525.99 | D43: ROLAND-GARROS | E43: Ce dernier match s'annonce extraordinaire ! N'en perdez pas une goutte ! © Yelldesign - 2016 | F43: 97796 | G43: 1030598 | H43: 12663 | I43: 1017935 | J43: =G43/F43 -> 10.538243 | K43: 100215 | L43: =K43/G43 -> 0.097239661 | M43: =SUM(N43:R43) -> 106781 | N43: 623 | O43: 25 | P43: 57 | Q43: 7054 | R43: 99022
A44: 2016 | B44: 42522 | C44: 42525.448 | D44: PERRIER ARO | E44: Et qu’est-ce qui est encore plus extraordinaire qu’une femme savourant un PERRIER sur une licorne soulevée par une cheerleader, qui tient en équilibre sur une joueuse de tuba, qui tient debout sur un château de cartes, porté par des garçons de café ? Un PERRIER Aromatisé pardi ! | F44: 97618 | G44: 40470 | H44: 16579 | I44: 23891 | J44: =G44/F44 -> 0.41457518 | K44: 1900 | L44: =K44/G44 -> 0.046948357 | M44: =SUM(N44:R44) -> 2816 | N44: 373 | O44: 34 | P44: 84 | Q44: 1063 | R44: 1262
A45: 2016 | B45: 42522 | C45: 42524.281 | D45: PERRIER ARO | E45: Qu'est-ce qui est plus extraordinaire qu’une licorne soulevée par une cheerleader, qui tient en équilibre sur une joueuse de tuba, qui tient debout sur un château de cartes, porté par des garçons de café ? Faites parler votre imagination ! | F45: 97390 | G45: 38015 | H45: 6544 | I45: 31471 | J45: =G45/F45 -> 0.39033782 | K45: 527 | L45: =K45/G45 -> 0.013862949 | M45: =SUM(N45:R45) -> 726 | N45: 403 | O45: 28 | P45: 66 | Q45: 229
A46: 2016 | B46: 42491 | C46: 42521.198 | D46: ROLAND-GARROS | E46: Une bouteille qui cache bien son jeu. #RG16 | F46: 96323 | G46: 180271 | H46: 15043 | I46: 165228 | J46: =G46/F46 -> 1.871526 | K46: 5493 | L46: =K46/G46 -> 0.030470791 | M46: =SUM(N46:R46) -> 6360 | N46: 4354 | O46: 76 | P46: 158 | Q46: 1772
A47: 2016 | B47: 42491 | C47: 42517.344 | D47: PERRIER BRAND | E47: Ce week-end, partagez des bulles d'amour ! #FêteDesMères | F47: 96100 | G47: 33189 | H47: 6585 | I47: 26604 | J47: =G47/F47 -> 0.345359 | K47: 1394 | L47: =K47/G47 -> 0.042001868 | M47: =SUM(N47:R47) -> 1673 | N47: 1262 | O47: 15 | P47: 99 | Q47: 297
A48: 2016 | B48: 42491 | C48: 42515.281 | D48: ROLAND-GARROS | E48: Roland-Garros se joue aussi au-delà des murs. | F48: 95924 | G48: 99749 | H48: 11512 | I48: 88237 | J48: =G48/F48 -> 1.0398753 | K48: 2753 | L48: =K48/G48 -> 0.027599274 | M48: =SUM(N48:R48) -> 3073 | N48: 2221 | O48: 27 | P48: 171 | Q48: 654
A49: 2016 | B49: 42491 | C49: 42513.344 | D49: ROLAND-GARROS | E49: [CONCOURS] Gagnez 2 places pour la finale de Roland-Garros ! Quel extraordinaire fan de tennis êtes-vous ? Rdv sur Instagram, prenez-vous en photo avec un accessoire de tennis et publiez-la avec le #PerrierRG16 et @Perrier. Un jury désignera la photo la plus extraordinaire ! La balle est dans votre camp ;) P.S. : N'oubliez pas de configurer votre compte Instagram en mode "public" pour que nous puissions voir votre photo ;) Règlement : http://bit.ly/1U73tFs Merci à @Louis.lgr via Instagram. | F49: 95712 | G49: 181178 | H49: 4350 | I49: 176828 | J49: =G49/F49 -> 1.8929497 | K49: 3493 | L49: =K49/G49 -> 0.019279383 | M49: =SUM(N49:R49) -> 4409 | N49: 1775 | O49: 40 | P49: 48 | Q49: 2546
A50: 2016 | B50: 42491 | C50: 42512.198 | D50: ROLAND-GARROS | E50: Jour-J ! PERRIER fait son entrée sur le terrain ! Inscrivez-vous à notre événement Perrier x Roland-Garros 2016 : http://bit.ly/1U3EwgX © Jonah Nigro / www.popsicleillusion.com - 2016 | F50: 95659 | G50: 82696 | H50: 10280 | I50: 72416 | J50: =G50/F50 -> 0.8644874 | K50: 797 | L50: =K50/G50 -> 0.0096377092 | M50: =SUM(N50:R50) -> 937 | N50: 344 | O50: 4 | P50: 23 | Q50: 566
A51: 2016 | B51: 42491 | C51: 42508.344 | D51: ROLAND-GARROS | E51: PERRIER ne perd pas le nord. Cap sur Roland-Garros ! | F51: 94888 | G51: 72784 | H51: 12294 | I51: 60490 | J51: =G51/F51 -> 0.76705168 | K51: 1083 | L51: =K51/G51 -> 0.014879644 | M51: =SUM(N51:R51) -> 1393 | N51: 826 | O51: 34 | P51: 91 | Q51: 442
A52: 2016 | B52: 42491 | C52: 42496.344 | D52: PERRIER ANYTIME | E52: Ce cocktail caliente vous donnera des étoiles plein les yeux. | F52: 94569 | G52: 39845 | H52: 14105 | I52: 25740 | J52: =G52/F52 -> 0.42133257 | K52: 1582 | L52: =K52/G52 -> 0.039703852 | M52: =SUM(N52:R52) -> 1912 | N52: 1403 | O52: 12 | P52: 124 | Q52: 373
A53: 2016 | B53: 42491 | C53: 42494.365 | D53: PERRIER BRAND | E53: Feuilletez les pages du nouveau magazine Perrier.com ! Art, lifestyle, bars & cocktails, cette lecture vous rafraîchira : https://www.perrier.com/fr/fr/magazine | F53: 94299 | G53: 29027 | H53: 6798 | I53: 22229 | J53: =G53/F53 -> 0.30781875 | K53: 822 | L53: =K53/G53 -> 0.028318462 | M53: =SUM(N53:R53) -> 902 | N53: 686 | O53: 2 | P53: 36 | Q53: 178
A54: 2016 | B54: 42461 | C54: 42490.198 | D54: PERRIER BRAND | E54: Difficile de trancher... On prend les deux ! | F54: 93997 | G54: 94247 | H54: 13507 | I54: 80740 | J54: =G54/F54 -> 1.0026597 | K54: 2757 | L54: =K54/G54 -> 0.029252921 | M54: =SUM(N54:R54) -> 3382 | N54: 2241 | O54: 43 | P54: 93 | Q54: 1005
A55: 2016 | B55: 42461 | C55: 42488.344 | D55: PERRIER x ART | E55: Une galerie d'art PERRIER ? On en a l'eau à la bouche rien que d'y penser. | F55: 93995 | G55: 49432 | H55: 6300 | I55: 43132 | J55: =G55/F55 -> 0.52590031 | K55: 1175 | L55: =K55/G55 -> 0.023770028 | M55: =SUM(N55:R55) -> 1305 | N55: 939 | O55: 11 | P55: 51 | Q55: 304
A56: 2016 | B56: 42461 | C56: 42486.354 | D56: PERRIER ICONIC | E56: Une silhouette extraordinaire au naturel. | F56: 93988 | G56: 74170 | H56: 10805 | I56: 63365 | J56: =G56/F56 -> 0.78914329 | K56: 2741 | L56: =K56/G56 -> 0.036955642 | M56: =SUM(N56:R56) -> 3304 | N56: 2251 | O56: 64 | P56: 72 | Q56: 917
... A63: 2016 | B63: 42461 | C63: 42468.354 | D63: PERRIER Since 1863 | E63: La naissance de la source. #ExtraordinairePerrier © Milton Glaser - 1984 | F63: 93839 | G63: 71666 | H63: 8500 | I63: 63166 | J63: =G63/F63 -> 0.76371232 | K63: 2036 | L63: =K63/G63 -> 0.028409567 | M63: =SUM(N63:R63) -> 2473 | N63: 1609 | O63: 20 | P63: 87 | Q63: 757
A64: 2016 | B64: 42461 | C64: 42466.344 | D64: PERRIER ICONIC | E64: Une goutte de PERRIER suffit pour passer au niveau supérieur. #ExtraordinairePerrier | F64: 93827 | G64: 132977 | H64: 8836 | I64: 124141 | J64: =G64/F64 -> 1.4172573 | K64: =(524+9985)-431 -> 10078 | L64: =K64/G64 -> 0.075787542 | M64: =SUM(N64:R64) -> 10492 | N64: 86 | O64: 7 | P64: 9 | Q64: 506 | R64: 9884
A65: 2016 | B65: 42461 | C65: 42464.344 | D65: DIGITAL ARTIST | E65: Offrez-vous un bouquet de fraîcheur. #Plaisirdoffrir #Joiederecevoir Jonah Nigro / www.popsicleillusion.com - 2016 | F65: 93812 | G65: 66741 | H65: 7107 | I65: 59634 | J65: =G65/F65 -> 0.71143351 | K65: 1402 | L65: =K65/G65 -> 0.021006578 | M65: =SUM(N65:R65) -> 1619 | N65: 1143 | O65: 11 | P65: 70 | Q65: 395
A66: 2016 | B66: 42461 | C66: 42461.01 | D66: PERRIER BRAND | E66: Les blagues PERRIER sont toujours de bon goût. #BoissonDAvril | F66: 93572 | G66: 79324 | H66: 19136 | I66: 60188 | J66: =G66/F66 -> 0.84773223 | K66: 1707 | L66: =K66/G66 -> 0.021519338 | M66: =SUM(N66:R66) -> 2226 | N66: 1306 | O66: 71 | P66: 176 | Q66: 673
A67: 2016 | B67: 42430 | C67: 42458.385 | D67: PERRIER BRAND | E67: Elles vous feront tourner la tête...naturellement. #ExtraordinairePerrier | F67: 93493 | G67: 86732 | H67: 5578 | I67: 81154 | J67: 0.92768443 | K67: 1196 | L67: 0.013789605 | M67: =SUM(N67:R67) -> 1305 | N67: 877 | O67: 7 | P67: 43 | Q67: 378
A68: 2016 | B68: 42430 | C68: 42456.042 | D68: DIGITAL ARTIST | E68: La chasse aux bulles est ouverte ! #JoyeusesPâques © Jonah Nigro / www.popsicleillusion.com - 2016 | F68: 93501 | G68: 173574 | H68: 6390 | I68: 167184 | J68: 1.8563866 | K68: 19598 | L68: 0.11290862 | M68: =SUM(N68:R68) -> 24854 | N68: 181 | O68: 2 | P68: 17 | Q68: 24654
A69: 2016 | B69: 42430 | C69: 42455.385 | D69: PERRIER ICONIC | E69: Une heure de plus, une heure de moins. Peu importe. Il n'y a pas d'heure pour un PERRIER. | F69: 93497 | G69: 93101 | H69: 20170 | I69: 72931 | J69: 0.99576457 | K69: 2749 | L69: 0.029527073 | M69: =SUM(N69:R69) -> 3648 | N69: 2251 | O69: 77 | P69: 219 | Q69: 1101
A70: 2016 | B70: 42430 | C70: 42452.073 | D70: PERRIER ICONIC | E70: Son super-pouvoir est 100% naturel. #ExtraordinairePerrier | F70: 93506 | G70: 77695 | H70: 5194 | I70: 72501 | J70: 0.83090925 | K70: 2444 | L70: 0.031456336 | M70: =SUM(N70:R70) -> 2927 | N70: 2029 | O70: 41 | P70: 134 | Q70: 723
A71: 2016 | B71: 42430 | C71: 42449.396 | D71: DIGITAL ARTIST | E71: Au printemps, la nature se réveille ! © Khan Nova/Mathieu Saunier - 2016 | F71: 93477 | G71: 89694 | H71: 17270 | I71: 72424 | J71: 0.95953015 | K71: 2659 | L71: 0.029645238 | M71: =SUM(N71:R71) -> 3220 | N71: 2203 | O71: 22 | P71: 167 | Q71: 828
A72: 2016 | B72: 42430 | C72: 42446.146 | D72: DIGITAL ARTIST | E72: On a tous quelque chose d'irlandais qui se cache en nous. #StPatricksDay © Yelldesign - 2016 | F72: 93401 | G72: 88003 | H72: 15209 | I72: 72794 | J72: 0.94220619 | K72: 2187 | L72: 0.024851426 | M72: =SUM(N72:R72) -> 2757 | N72: 1718 | O72: 41 | P72: 132 | Q72: 866
A73: 2016 | B73: 42430 | C73: 42445.443 | D73: PERRIER BRAND | E73: Notre nouvelle bouteille PERRIER vous attend en terrasse. Ne la faites pas patienter trop longtemps. | F73: 93395 | G73: 66257 | H73: 8369 | I73: 57888 | J73: 0.7094277 | K73: 1569 | L73: 0.023680517 | M73: =SUM(N73:R73) -> 1778 | N73: 1268 | O73: 16 | P73: 89 | Q73: 405
A74: 2016 | B74: 42430 | C74: 42441.354 | D74: PERRIER Since 1863 | E74: C'est ce qu'on appelle "buller en tandem". © Jean-Claude Dewolf - 1968 | F74: 93409 | G74: 101934 | H74: 12264 | I74: 89670 | J74: 1.0912653 | K74: 3304 | L74: 0.03241313 | M74: =SUM(N74:R74) -> 3764 | N74: 2112 | O74: 39 | P74: 111 | Q74: 1502
A75: 2016 | B75: 42430 | C75: 42439.354 | D75: PERRIER ICONIC | E75: Nous aussi, nous avons trouvé de l'eau sur Mars. | F75: 93397 | G75: 72723 | H75: 10447 | I75: 62276 | J75: 0.77864385 | K75: 1974 | L75: 0.027144095 | M75: =SUM(N75:R75) -> 2412 | N75: 1743 | O75: 19 | P75: 126 | Q75: 524
A76: 2016 | B76: 42430 | C76: 42436.354 | D76: PERRIER BRAND | E76: Attention... Ce GIF va vous donner soif ! Quelle Slim Can vous fera craquer ? | F76: 93390 | G76: 63807 | H76: 9319 | I76: 54488 | J76: 0.68323161 | K76: 1739 | L76: 0.027254063 | M76: =SUM(N76:R76) -> 2015 | N76: 1416 | O76: 62 | P76: 82 | Q76: 455
A77: 2016 | B77: 42430 | C77: 42434.354 | D77: PERRIER ANYTIME | E77: Chaud devant ! Voici la recette du cocktail Perrier on Fire : http://on.fb.me/1TO0IMU | F77: 93384 | G77: 63092 | H77: 10144 | I77: 52948 | J77: 0.67561895 | K77: 1619 | L77: 0.02566094 | M77: =SUM(N77:R77) -> 1934 | N77: 1385 | O77: 6 | P77: 105 | Q77: 438
A78: 2016 | B78: 42430 | C78: 42432.354 | D78: PERRIER BRAND | E78: 100% naturel, 100% extraordinaire ! Suivez l'envolée extraordinaire des montgolfières : http://on.fb.me/1Uw5akc | F78: 93365 | G78: 52381 | H78: 10578 | I78: 41803 | J78: 0.56103465 | K78: 1339 | L78: 0.025562704 | M78: =SUM(N78:R78) -> 1590 | N78: 1103 | O78: 13 | P78: 87 | Q78: 387
... A105: 2016 | B105: 42370 | C105: 42374.354 | D105: PERRIER BRAND | E105: Notre résolution ? Passer une année pétillante, rafraichissante et fruitée ! | F105: 92464 | G105: 102448 | H105: 18107 | I105: 84341 | J105: 1.1079772 | K105: 2199 | L105: 0.021464548 | M105: =SUM(N105:R105) -> 2457 | N105: 1932 | O105: 34 | P105: 32 | Q105: 459
A106: 2015 | B106: 42339 | C106: 42369.417 | D106: DIGITAL ARTIST | E106: 5... 4... 3... 2... 1... BON PERRIER ! #NouvelAn | F106: 92469 | G106: 103213 | H106: 39941 | I106: 63272 | J106: 1.1161903 | K106: 2454 | L106: =K106/G106 -> 0.023776075 | M106: =SUM(N106:Q106) -> 3195 | N106: 1885 | O106: 127 | P106: 109 | Q106: 1074
A107: 2015 | B107: 42339 | C107: 42366.354 | D107: REGRAM | E107: Ralph :"Je suis un bouchon de PERRIER". Merci @dear._.hong via Instagram. | F107: 92410 | G107: 203490 | H107: 28863 | I107: 174627 | J107: 2.2020344 | K107: 6661 | L107: =K107/G107 -> 0.032733795 | M107: =SUM(N107:Q107) -> 7667 | N107: 4685 | O107: 78 | P107: 241 | Q107: 2663
A108: 2015 | B108: 42339 | C108: 42363 | D108: PERRIER ICONIC | E108: La magie de Noël dans un PERRIER. #ExtraordinairePerrier | F108: 92308 | G108: 149340 | H108: 49575 | I108: 99765 | J108: 1.6178446 | K108: 4243 | L108: =K108/G108 -> 0.028411678 | M108: =SUM(N108:Q108) -> 5550 | N108: 3418 | O108: 162 | P108: 475 | Q108: 1495
A109: 2015 | B109: 42339 | C109: 42360.354 | D109: DIGITAL ARTIST | E109: Plus de doute, l'hiver est là ! #ExtraordinairePerrier Une création originale pour PERRIER par : © Khan Nova Instagram: Khan_Nova | F109: 92282 | G109: 49177 | H109: 6837 | I109: 42340 | J109: 0.53289916 | K109: 1232 | L109: =K109/G109 -> 0.025052362 | M109: =SUM(N109:Q109) -> 1611 | N109: 968 | O109: 21 | P109: 38 | Q109: 584
A110: 2015 | B110: 42339 | C110: 42359.354 | D110: PERRIER Since 1863 | E110: Un repas de roi où les bulles sont reines. © Jean-Claude Dewolf - 1968 | F110: 92258 | G110: 118095 | H110: 10684 | I110: 107411 | J110: 1.2800516 | K110: 2477 | L110: =K110/G110 -> 0.020974639 | M110: =SUM(N110:Q110) -> 2927 | N110: 1481 | O110: 19 | P110: 57 | Q110: 1370
A111: 2015 | B111: 42339 | C111: 42356.354 | D111: STREET ART BY PERRIER | E111: La Slim Can édition limitée PERRIER "Inspired By Street Art" vous accompagne partout ! #StreetArtByPerrier Photo par © Sofian Ketfi pour Perrier @Sofianketfi Entrez dans l'univers #StreetArtByPerrier ici : streetartbyperrier.tumblr.com | F111: 92216 | G111: 78226 | H111: 4372 | I111: 73854 | J111: 0.84829097 | K111: 1558 | L111: =K111/G111 -> 0.019916652 | M111: =SUM(N111:Q111) -> 1748 | N111: 1061 | O111: 3 | P111: 21 | Q111: 663
A112: 2015 | B112: 42339 | C112: 42354.042 | D112: PERRIER ICONIC | E112: Le réveil de l'extraordinaire. #StarWars | F112: 92161 | G112: 124742 | H112: 20295 | I112: 104447 | J112: 1.3535226 | K112: 2815 | L112: =K112/G112 -> 0.022566577 | M112: =SUM(N112:Q112) -> 3468 | N112: 2229 | O112: 54 | P112: 329 | Q112: 856
A113: 2015 | B113: 42339 | C113: 42352.354 | D113: DIGITAL ARTIST | E113: Pour toi, je déplacerais les montagnes ! #ExtraordinairePerrier | F113: 92056 | G113: 135341 | H113: 15134 | I113: 120207 | J113: 1.4702029 | K113: 3360 | L113: =K113/G113 -> 0.02482618 | M113: =SUM(N113:Q113) -> 4124 | N113: 2567 | O113: 62 | P113: 165 | Q113: 1330
A114: 2015 | B114: 42339 | C114: 42349.354 | D114: HAB | E114: Derniers jours pour voter pour votre personnage préféré et tenter de vivre l'extraordinaire à Dubaï, Ibiza ou Las Vegas ! | F114: 91980 | G114: 75772 | H114: 4363 | I114: 71409 | J114: 0.82378778 | K114: 478 | L114: =K114/G114 -> 0.0063083989 | M114: =SUM(N114:Q114) -> 550 | N114: 309 | O114: 9 | P114: 11 | Q114: 221
A115: 2015 | B115: 42339 | C115: 42347.354 | D115: PERRIER ICONIC | E115: Chaque pixel est extraordinaire. #InspiredByStreetArt Entrez dans l'univers #StreetArtByPerrier ici : streetartbyperrier.tumblr.com | F115: 91923 | G115: 88674 | H115: 10602 | I115: 78072 | J115: 0.9646552 | K115: 2788 | L115: =K115/G115 -> 0.031441009 | M115: =SUM(N115:Q115) -> 3288 | N115: 2117 | O115: 18 | P115: 91 | Q115: 1062
A116: 2015 | B116: 42339 | C116: 42345.354 | D116: STREET ART BY PERRIER | E116: La nouvelle édition limitée "Perrier Inspired by Street Art" par L'Atlas est à portée de main ! #StreetArtByPerrier Photo par © Sofian Ketfi pour Perrier @Sofianketfi Entrez dans l'univers #StreetArtByPerrier ici : streetartbyperrier.tumblr.com | F116: 91916 | G116: 84337 | H116: 12633 | I116: 71704 | J116: 0.91754428 | K116: 1756 | L116: =K116/G116 -> 0.020821229 | M116: =SUM(N116:Q116) -> 2065 | N116: 1483 | O116: 20 | P116: 93 | Q116: 469
A117: 2015 | B117: 42339 | C117: 42342.354 | D117: PERRIER ANYTIME | E117: Un cocktail pour vous mettre au vert. Découvrez la recette : http://on.fb.me/1NiovNW | F117: 91859 | G117: 107916 | H117: 13317 | I117: 94599 | J117: 1.1748005 | K117: 3072 | L117: =K117/G117 -> 0.028466585 | M117: =SUM(N117:Q117) -> 3680 | N117: 2237 | O117: 49 | P117: 145 | Q117: 1249
... A123: 2015 | B123: 42309 | C123: 42328.354 | D123: PERRIER x ART | E123: #IWokeUpLikeThis | F123: 91493 | G123: 188288 | H123: 8937 | I123: 179351 | J123: 2.0579498 | K123: 4082 | L123: =K123/G123 -> 0.021679555 | M123: =SUM(N123:Q123) -> 4924 | N123: 2918 | O123: 76 | P123: 115 | Q123: 1815
A124: 2015 | B124: 42309 | C124: 42326.354 | D124: HAB | E124: Composer des cocktails à 4 mains relève de l'extraordinaire, n'est-ce pas ? Votez pour le garçon de café et tentez de partir à Los Angeles et Las Vegas pour découvrir les bars les plus prisés ! https://www.extraordinaireperrier.com/ | F124: 91446 | G124: 993910 | H124: 7910 | I124: 986000 | J124: 10.868819 | K124: 2210 | L124: =K124/G124 -> 0.0022235414 | M124: =SUM(N124:Q124) -> 2321 | N124: 110 | O124: 3 | P124: 12 | Q124: 2196 | R124: 35199
A125: 2015 | B125: 42309 | C125: 42321.354 | D125: REGRAM | E125: Certains ne peuvent vraiment pas s'en passer... Merci @alfredthemeow et son chat sur Instagram ! | F125: 91475 | G125: 48959 | H125: 19761 | I125: 29198 | J125: 0.53521727 | K125: 1643 | L125: =K125/G125 -> 0.033558692 | M125: =SUM(N125:Q125) -> 2141 | N125: 1178 | O125: 61 | P125: 163 | Q125: 739
A126: 2015 | B126: 42309 | C126: 42319.354 | D126: HAB | E126: Vous pensez qu'il est fou ? Vous le serez aussi quand vous assisterez au feu d'artifice du jour de l'an à Dubai ! Tentez votre chance... votez pour lui ! https://www.extraordinaireperrier.com/ | F126: 91445 | G126: 209897 | H126: 2624 | I126: 207273 | J126: 2.295336 | K126: 817 | L126: =K126/G126 -> 0.0038923853 | M126: =SUM(N126:Q126) -> 922 | N126: 100 | O126: 1 | P126: 7 | Q126: 814 | R126: 5769
A127: 2015 | B127: 42309 | C127: 42317.354 | D127: PERRIER ICONIC | E127: Trop de bruit en bas... Je m'accorde une pause PERRIER. | F127: 91390 | G127: 92831 | H127: 21810 | I127: 71021 | J127: 1.0157676 | K127: 4025 | L127: =K127/G127 -> 0.043358361 | M127: =SUM(N127:Q127) -> 4916 | N127: 3286 | O127: 41 | P127: 169 | Q127: 1420
A128: 2015 | B128: 42309 | C128: 42314.354 | D128: PERRIER ANYTIME | E128: Un Perrier frappé sans café, c'est un Movember sans moustache. Découvrez la recette : Ingrédients : • 2 cuillères de bar de café en poudre • 2 cl de sirop de caramel • 1 PERRIER frais Etape 1 Verser le café en poudre et le sirop de caramel dans un blender. Ajouter quelques gouttes de PERRIER et bien remuer pour que le café se dilue. Puis, ajouter 15cl de PERRIER frais. Etape 2 Mélanger le cocktail avec le blender jusqu'à ce qu'il soit mousseux. Etape 3 Verser votre cocktail dans un grand verre avec des glaçons. | F128: 91291 | G128: 180314 | H128: 12162 | I128: 168152 | J128: 1.9751564 | K128: 4061 | L128: =K128/G128 -> 0.022521823 | M128: =SUM(N128:Q128) -> 4972 | N128: 1927 | O128: 43 | P128: 171 | Q128: 2831
A129: 2015 | B129: 42309 | C129: 42312.354 | D129: HAB | E129: Très séduisante, vous ne trouvez pas ? Votez pour la clubbeuse et vous aurez peut-être la chance d'ouvrir les portes des soirées les plus extraordinaires à Ibiza ! https://www.extraordinaireperrier.com/ | F129: 91230 | G129: 193110 | H129: 6785 | I129: 186325 | J129: 2.1167379 | K129: 1286 | L129: =K129/G129 -> 0.0066594169 | M129: =SUM(N129:Q129) -> 1461 | N129: 202 | O129: 15 | P129: 19 | Q129: 1225 | R129: 18649
A130: 2015 | B130: 42309 | C130: 42310.097 | D130: PERRIER ICONIC | E130: Pshhhhhhhhhhhhhhhhiiiit.... Aah ! PERRIER ! #StreetArtByPerrier | F130: 91130 | G130: 175629 | H130: 16523 | I130: 159106 | J130: 1.9272358 | K130: 4569 | L130: =K130/G130 -> 0.026015066 | M130: =SUM(N130:Q130) -> 5376 | N130: 3530 | O130: 55 | P130: 155 | Q130: 1636
A131: 2015 | B131: 42278 | C131: 42308.396 | D131: PERRIER ANYTIME | E131: Un cocktail terriblement diabolique. Découvrez la recette : Ingrédients: • 4 cl de rhum brun • Quelques gouttes de Angostura Bitters • 2 cl de sucre de canne • Menthe fraîche • 2 cl de jus de citron vert frais • 4 cl de PERRIER frais • 1 pistolet à fumée • 1 cloche en verre Etape 1 Mettre le jus de citron vert et la menthe dans un grand verre et mélanger pour extraire les saveurs de la menthe. Ajouter le sucre, quelques gouttes de Angostura bitters, le rhum, et mélanger. Ajouter le Perrier et mélanger encore. Remplir le verre avec la glace pilée. Etape 2 Poser le verre sur un plateau et le recouvrir avec la cloche en verre. Positionner le pistolet à fumée sous la cloche en verre et l'allumer. Etape 3 La cloche en verre devra être entièrement remplie de fumée avant de servir. Etape 4 Retirer la cloche face aux invités. La fumée parfumera le cocktail et se répandra tout autour. | F131: 90989 | G131: 241124 | H131: 26532 | I131: 214592 | J131: 2.6500346 | K131: 5751 | L131: =K131/G131 -> 0.023850799 | M131: =SUM(N131:Q131) -> 7086 | N131: 2130 | O131: 126 | P131: 478 | Q131: 4352
A132: 2015 | B132: 42278 | C132: 42305.396 | D132: HAB | E132: Artificier, clubbeuse, ou garçon de café, votez pour votre personnage préféré et tentez de vivre l'extraordinaire ! Bonne chance ! https://www.extraordinaireperrier.com/ | F132: 90871 | G132: 83093 | H132: 5473 | I132: 77620 | J132: 0.91440614 | K132: 1464 | L132: =K132/G132 -> 0.017618813 | M132: =SUM(N132:Q132) -> 1989 | N132: 708 | O132: 24 | P132: 30 | Q132: 1227
A133: 2015 | B133: 42278 | C133: 42304.436 | D133: STREET ART BY PERRIER | E133: La nouvelle édition limitée « Perrier inspired by Street Art » est aussi sur Tumblr ! http://streetartbyperrier.tumblr.com/ #StreetArtByPerrier | F133: 90796 | G133: 109294 | H133: 9174 | I133: 100120 | J133: 1.2037314 | K133: 1670 | L133: =K133/G133 -> 0.015279887 | M133: =SUM(N133:Q133) -> 1904 | N133: 1258 | O133: 39 | P133: 52 | Q133: 555
A134: 2015 | B134: 42278 | C134: 42303.396 | D134: HAB | E134: Ces trois personnages vous révéleront quelque chose... d'extraordinaire ! Avez-vous une petite idée ? | F134: 90706 | G134: 100466 | H134: 7551 | I134: 92915 | J134: 1.1076004 | K134: 1969 | L134: =K134/G134 -> 0.01959867 | M134: =SUM(N134:Q134) -> 2532 | N134: 1221 | O134: 41 | P134: 43 | Q134: 1227
A135: 2015 | B135: 42278 | C135: 42300.354 | D135: STREET ART BY PERRIER | E135: Pschitt ! Dieu merci c'est vendredi ! Partagez la nouvelle édition limitée Perrier "Inspire By Street Art" par L'Atlas. Photo by © Sofian Ketfi pour Perrier @Sofianketfi | F135: 90537 | G135: 178889 | H135: 7227 | I135: 171662 | J135: 1.9758662 | K135: 3482 | L135: =K135/G135 -> 0.019464584 | M135: =SUM(N135:Q135) -> 4162 | N135: 2372 | O135: 23 | P135: 67 | Q135: 1700
A136: 2015 | B136: 42278 | C136: 42298.042 | D136: Digital Artist | E136: Nom d'un PERRIER ! Marty ! Nous sommes en 2015 ! GIF par Popsicle-Illusion pour Perrier © Popsicle-Illusion http://popsicleillusion.me/ | F136: 90449 | G136: 349795 | H136: 17056 | I136: 332739 | J136: 3.8673175 | K136: 2017 | L136: =K136/G136 -> 0.0057662345 | M136: =SUM(N136:Q136) -> 2540 | N136: 740 | O136: 35 | P136: 94 | Q136: 1671 | R136: 42987
A137: 2015 | B137: 42278 | C137: 42296.354 | D137: STREET ART BY PERRIER | E137: L'incontournable boutique branchée colette Paris accueille notre dernier must-have dans son Water Bar. #StreetArtByPerrier | F137: 90398 | G137: 173672 | H137: 20577 | I137: 153095 | J137: 1.9211929 | K137: 4365 | L137: =K137/G137 -> 0.025133585 | M137: =SUM(N137:Q137) -> 5104 | N137: 3283 | O137: 75 | P137: 175 | Q137: 1571
A138: 2015 | B138: 42278 | C138: 42293.354 | D138: STREET ART BY PERRIER | E138: Extraordinaire, la nouvelle édition limitée "Inspired by Street Art" réalisée par L'Atlas. #StreetArtByPerrier Photo par © Sofian Ketfi pour PERRIER @Sofianketfi | F138: 90210 | G138: 108380 | H138: 7780 | I138: 100600 | J138: 1.2014189 | K138: 1524 | L138: =K138/G138 -> 0.014061635 | M138: =SUM(N138:Q138) -> 1816 | N138: 990 | O138: 13 | P138: 55 | Q138: 758
A139: 2015 | B139: 42278 | C139: 42291.354 | D139: STREET ART BY PERRIER | E139: PERRIER renoue avec le Street Art pour cette nouvelle édition limitée réalisée par L'Atlas ! #StreetArtByPerrier 2015 | F139: 90154 | G139: 405708 | H139: 5514 | I139: 400194 | J139: 4.5001664 | K139: 1010 | L139: =K139/G139 -> 0.0024894752 | M139: =SUM(N139:Q139) -> 1226 | N139: 363 | O139: 13 | P139: 35 | Q139: 815
A140: 2015 | B140: 42278 | C140: 42289.354 | D140: STREET ART BY PERRIER | E140: Découvrez L'Atlas, un artiste extraordinaire ! Nous sommes fiers de vous partager notre nouvelle édition limitée réalisée avec ce street-artist français pour #StreetArtByPerrier 2015 ! Video by BYNDR | F140: 90133 | G140: 504919 | H140: 9535 | I140: 495384 | J140: 5.6019327 | K140: 1410 | L140: =K140/G140 -> 0.0027925271 | M140: =SUM(N140:Q140) -> 1654 | N140: 166 | O140: 10 | P140: 33 | Q140: 1445 | R140: 2705
A141: 2015 | B141: 42278 | C141: 42286.354 | D141: PERRIER x ART | E141: Je ne lui donne que le meilleur. | F141: 90125 | G141: 449778 | H141: 6507 | I141: 443271 | J141: 4.9906019 | K141: 2167 | L141: =K141/G141 -> 0.0048179324 | M141: =SUM(N141:Q141) -> 2579 | N141: 708 | O141: 28 | P141: 47 | Q141: 1796
A142: 2015 | B142: 42278 | C142: 42284.354 | D142: PERRIER BRAND | E142: Ajoutez une touche d'extraordinaire dans votre quotidien ! Suivez-nous sur Instagram: @Perrier www.instagram.com/perrier | F142: 90080 | G142: 310522 | H142: 3567 | I142: 306955 | J142: 3.4471803 | K142: 1023 | L142: =K142/G142 -> 0.0032944526 | M142: =SUM(N142:Q142) -> 1213 | N142: 358 | O142: 11 | P142: 19 | Q142: 825
A143: 2015 | B143: 42278 | C143: 42282.354 | D143: Digital Artist | E143: C'est bien connu... Le PERRIER citron vert est une promenade de santé. GIF collab par Samcannon & Traceloops pour Perrier © Samcannon © Traceloops http://samcannon.tumblr.com/ http://traceloops.tumblr.com/ | F143: 90066 | G143: 271811 | H143: 9954 | I143: 261857 | J143: 3.0179091 | K143: 1458 | L143: =K143/G143 -> 0.0053640213 | M143: =SUM(N143:Q143) -> 1830 | N143: 522 | O143: 30 | P143: 67 | Q143: 1211 | R143: 12919
A144: 2015 | B144: 42278 | C144: 42279.354 | D144: PERRIER ICONIC | E144: La Slim-Can PERRIER est LA boisson de cette saison automne-hiver 2015. #ParisFashionWeek2015 | F144: 90084 | G144: 368226 | H144: 2611 | I144: 365615 | J144: 4.0875849 | K144: 749 | L144: =K144/G144 -> 0.0020340769 | M144: =SUM(N144:Q144) -> 890 | N144: 142 | O144: 7 | P144: 11 | Q144: 730
A145: 2015 | B145: 42248 | C145: 42277.354 | D145: PERRIER ANYTIME | E145: Un cocktail à base de PERRIER doit être deux choses : classe et extraordinaire. Découvrez la recette : Ingrédients : • 4 framboises fraîches • 1 cl de jus de citron • 3 cl de liqueur St Germain • 3 cl de Hennessy Fine de Cognac • 3 cl de PERRIER • Glace sèche • Eau de Parfum CHANEL N°5 • 1 savon comestible • 1 paille Instructions : Dans un shaker rempli à ¾ de glaçons, ajouter les framboises fraîches, le jus de citron, la liqueur de St Germain et le Hennessy Fine de Cognac. Agiter, puis ajouter 3cl de Perrier. Remuer et verser dans un verre à cocktail. Dans une petite carafe, vaporiser 3 pschitt de Chanel n°5 sur de la glace sèche. Ajouter de l’eau chaude. Placer la paille dans le savon comestible pour créer des bulles à la surface du cocktail. | F145: 90086 | G145: 279450 | H145: 9674 | I145: 269776 | J145: 3.1020358 | K145: 1664 | L145: =K145/G145 -> 0.0059545536 | M145: =SUM(N145:Q145) -> 1905 | N145: 138 | O145: 18 | P145: 35 | Q145: 1714
A146: 2015 | B146: 42248 | C146: 42275.354 | D146: STREET ART BY PERRIER | E146: Bientôt... La rencontre d'un artiste extraordinaire et d'une marque iconique. #StreetArtByPerrier | F146: 89914 | G146: 438459 | H146: 4167 | I146: 434292 | J146: 4.8764264 | K146: 834 | L146: =K146/G146 -> 0.0019021163 | M146: =SUM(N146:Q146) -> 1095 | N146: 88 | O146: 11 | P146: 11 | Q146: 985
A147: 2015 | B147: 42248 | C147: 42272.354 | D147: STREET ART BY PERRIER | E147: Préparez-vous à l'extraordinaire... #StreetArtByPerrier | F147: 89907 | G147: 421887 | H147: 8652 | I147: 413235 | J147: 4.6924822 | K147: 760 | L147: =K147/G147 -> 0.0018014302 | M147: =SUM(N147:Q147) -> 974 | N147: 204 | O147: 15 | P147: 19 | Q147: 736
A148: 2015 | B148: 42248 | C148: 42270.354 | D148: Digital Artist | E148: Cet automne s'annonce rafraîchissant. Une création originale pour PERRIER par : © Khan Nova Instagram: Khan_Nova | F148: 89914 | G148: 275500 | H148: 8336 | I148: 267164 | J148: 3.064039 | K148: 782 | L148: =K148/G148 -> 0.0028384755 | M148: =SUM(N148:Q148) -> 1325 | N148: 345 | O148: 31 | P148: 40 | Q148: 909
A149: 2015 | B149: 42248 | C149: 42268.354 | D149: PERRIER ICONIC | E149: Vivons d'amour et de PERRIER #Journeedelapaix | F149: 89935 | G149: 421806 | H149: 28635 | I149: 393171 | J149: 4.6901206 | K149: 2741 | L149: =K149/G149 -> 0.006498248 | M149: =SUM(N149:Q149) -> 3599 | N149: 1342 | O149: 138 | P149: 222 | Q149: 1897
A150: 2015 | B150: 42248 | C150: 42265.354 | D150: PERRIER x ART | E150: PERRIER sous son meilleur profil. | F150: 89881 | G150: 408767 | H150: 5246 | I150: 403521 | J150: 4.5478688 | K150: 1412 | L150: =K150/G150 -> 0.0034542906 | M150: =SUM(N150:Q150) -> 1734 | N150: 447 | O150: 31 | P150: 49 | Q150: 1207
A151: 2015 | B151: 42248 | C151: 42263.354 | D151: PERRIER Since 1863 | E151: Une seule bouteille de PERRIER ne suffit pas. © Jean-Claude Dewolf - 1968 | F151: 89618 | G151: 25201 | H151: 4072 | I151: 21129 | J151: 0.28120467 | K151: 480 | L151: =K151/G151 -> 0.019046863 | M151: =SUM(N151:Q151) -> 609 | N151: 219 | O151: 16 | P151: 20 | Q151: 354
A152: 2015 | B152: 42248 | C152: 42258.354 | D152: PERRIER ICONIC | E152: C'est le week-end. Pause PERRIER pour tout le monde... Oui, tout le monde ! | F152: 89654 | G152: 38775 | H152: 8420 | I152: 30355 | J152: 0.43249604 | K152: 861 | L152: =K152/G152 -> 0.022205029 | M152: =SUM(N152:Q152) -> 1147 | N152: 513 | O152: 21 | P152: 68 | Q152: 545
A153: 2015 | B153: 42248 | C153: 42256.354 | D153: PERRIER BRAND | E153: Profitez d’un PERRIER en terrasse et tentez de gagner un week-end extraordinaire pour 4 personnes dans une bulle en pleine nature ! Flashez le code sur votre bouteille ou rendez-vous juste ici : https://bulles-extraordinaires.fr | F153: 89672 | G153: 24900 | H153: 4355 | I153: 20545 | J153: 0.27767865 | K153: 357 | L153: =K153/G153 -> 0.014337349 | M153: =SUM(N153:Q153) -> 492 | N153: 159 | O153: 11 | P153: 18 | Q153: 304
A154: 2015 | B154: 42248 | C154: 42254.354 | D154: PERRIER Since 1863 | E154: Je n'ai d'yeux que pour PERRIER. © Bernard Villemot, La Rousse (Perrier) - 1976 | F154: 89700 | G154: 26854 | H154: 6642 | I154: 20212 | J154: 0.2993757 | K154: 409 | L154: =K154/G154 -> 0.015230506 | M154: =SUM(N154:Q154) -> 609 | N154: 257 | O154: 15 | P154: 44 | Q154: 293
A155: 2015 | B155: 42248 | C155: 42251.417 | D155: PERRIER x ART | E155: Tu bois du Perrier ? J'aime ton style ! | F155: 89715 | G155: 38625 | H155: 7114 | I155: 31511 | J155: 0.43053001 | K155: 863 | L155: =K155/G155 -> 0.022343042 | M155: =SUM(N155:Q155) -> 1128 | N155: 476 | O155: 36 | P155: 74 | Q155: 542
... A173: 2015 | B173: 42186 | C173: 42199.354 | D173: PERRIER ICONIC | E173: Une patrouille qui ne manque pas d'air ! #ExtraordinairePerrier | F173: 90359 | G173: 53546 | H173: 21438 | I173: 32108 | J173: 0.59259177 | K173: 2096 | L173: =K173/G173 -> 0.039143914 | M173: =SUM(N173:Q173) -> 2707 | N173: 1351 | O173: 42 | P173: 168 | Q173: 1146
A174: 2015 | B174: 42186 | C174: 42195.354 | D174: HAB | E174: On savoure l’extraordinaire à l’infini. #ExtraordinairePerrier | F174: 90204 | G174: 2232182 | H174: 6469 | I174: 2225713 | J174: 24.745931 | K174: 8724 | L174: =K174/G174 -> 0.0039082835 | M174: =SUM(N174:Q174) -> 9615 | N174: 1277 | O174: 83 | P174: 114 | Q174: 8141 | R174: 241249
A175: 2015 | B175: 42186 | C175: 42193.354 | D175: PERRIER ICONIC | E175: La vue d'un PERRIER vous donne beaucoup d'idées. | F175: 89983 | G175: 26363 | H175: 5914 | I175: 20449 | J175: 0.29297756 | K175: 342 | L175: =K175/G175 -> 0.012972727 | M175: =SUM(N175:Q175) -> 512 | N175: 146 | O175: 16 | P175: 26 | Q175: 324
A176: 2015 | B176: 42186 | C176: 42188.354 | D176: PERRIER ANYTIME | E176: ♫ Sur la plage abandonnée, savourez un cocktail Saint-Tropez. ♫ Découvrez la recette : Ingrédients : - Vin rosé - Sirop de pastèque - Orange (fruit) Etapes : Dans un joli verre de vin : 8 cl de vin rosé 1 cl de sirop de pastèque 6 cl de PERRIER Remuer et ajouter des glaçons. Servir avec une tranche d'orange. | F176: 89961 | G176: 32431 | H176: 8455 | I176: 23976 | J176: 0.36050066 | K176: 867 | L176: =K176/G176 -> 0.026733681 | M176: =SUM(N176:Q176) -> 1168 | N176: 284 | O176: 15 | P176: 64 | Q176: 805
...

Sheet ANALYSE 2
L1: EXCLUDING VIEWERS & VUES EN 2015
B3: Valeurs
A4: Étiquettes de lignes | B4: TOTAL REACH | C4: TOTAL REACH ORGANIQUE | D4: TOTAL PAID REACH | E4: AVERAGE REACH | F4: TOTAL ENGAGED USERS | G4: AVERAGE ENGAGED USERS | H4: TOTAL ENGAGEMENTS | I4: NB posts | J4: TAUX ENGAGEMENTok
A5: 2015
A6: DIGITAL ARTIST | B6: 1184837 | C6: 97258 | D6: 1087579 | E6: 197472.83 | F6: 11303 | G6: 1883.8333 | H6: 14625 | I6: 6 | J6: 0.0095397088
A7: HAB | B7: 21796381 | C7: 238978 | D7: 21557403 | E7: 1453092.1 | F7: 177754 | G7: 11850.267 | H7: 164007 | I7: 15 | J7: 0.0081552071
A8: PERRIER ANYTIME | B8: 993793 | C8: 163090 | D8: 830703 | E8: 110421.44 | F8: 22987 | G8: 2554.1111 | H8: 24893 | I8: 9 | J8: 0.023130571
A9: PERRIER BRAND | B9: 1070222 | C9: 30114 | D9: 1040108 | E9: 267555.5 | F9: 8540 | G9: 2135 | H9: 7662 | I9: 4 | J9: 0.0079796528
A10: PERRIER ICONIC | B10: 2146142 | C10: 297537 | D10: 1848605 | E10: 85845.68 | F10: 40576 | G10: 1623.04 | H10: 48358 | I10: 25 | J10: 0.018906484
A11: PERRIER Since 1863 | B11: 423564 | C11: 42434 | D11: 381130 | E11: 60509.143 | F11: 8277 | G11: 1182.4286 | H11: 10565 | I11: 7 | J11: 0.019541321
A12: PERRIER x ART | B12: 1567920 | C12: 108921 | D12: 1458999 | E12: 120609.23 | F12: 21069 | G12: 1620.6923 | H12: 24975 | I12: 13 | J12: 0.013437548
A13: REGRAM | B13: 364786 | C13: 64918 | D13: 299868 | E13: 72957.2 | F13: 10519 | G13: 2103.8 | H13: 12593 | I13: 5 | J13: 0.028836085
A14: STREET ART BY PERRIER | B14: 2669962 | C14: 103136 | D14: 2566826 | E14: 222496.83 | F14: 21787 | G14: 1815.5833 | H14: 25605 | I14: 12 | J14: 0.0081600412
A15: 2015 Total | B15: 32217607 | C15: 1146386 | D15: 31071221 | E15: 335600.07 | F15: 322812 | G15: 3362.625 | H15: 333283 | I15: 96 | J15: 0.010019739
A17: 2016
A18: DIGITAL ARTIST | B18: 1201787 | C18: 165142 | D18: 1036645 | E18: 85841.929 | F18: 47885 | G18: 3420.3571 | H18: 58502 | I18: 14 | J18: 0.039844831
A19: PERRIER ANYTIME | B19: 1224193 | C19: 148929 | D19: 1075264 | E19: 94168.692 | F19: 26857 | G19: 2065.9231 | H19: 33235 | I19: 13 | J19: 0.021938534
A20: PERRIER ARO | B20: 11993982 | C20: 229699 | D20: 11764283 | E20: 799598.8 | F20: 271942 | G20: 18129.467 | H20: 298830 | I20: 15 | J20: 0.022673204
A21: PERRIER BRAND | B21: 1353698 | C21: 210081 | D21: 1143617 | E21: 75205.444 | F21: 33899 | G21: 1883.2778 | H21: 42002 | I21: 18 | J21: 0.025041774
A22: PERRIER ICONIC | B22: 1810183 | C22: 267301 | D22: 1542882 | E22: 75424.292 | F22: 53342 | G22: 2222.5833 | H22: 63262 | I22: 24 | J22: 0.029467739
A23: PERRIER Since 1863 | B23: 265295 | C23: 39506 | D23: 225789 | E23: 66323.75 | F23: 7489 | G23: 1872.25 | H23: 9047 | I23: 4 | J23: 0.028228953
A24: PERRIER X 100% NATURAL | B24: 87295 | C24: 17449 | D24: 69846 | E24: 87295 | F24: 3381 | G24: 3381 | H24: 4314 | I24: 1 | J24: 0.038730741
A25: PERRIER x ART | B25: 436951 | C25: 62485 | D25: 374466 | E25: 72825.167 | F25: 12140 | G25: 2023.3333 | H25: 14375 | I25: 6 | J25: 0.027783436
A26: REGRAM | B26: 116692 | C26: 19379 | D26: 97313 | E26: 58346 | F26: 4137 | G26: 2068.5 | H26: 4935 | I26: 2 | J26: 0.035452302
A27: ROLAND-GARROS | B27: 1647276 | C27: 66142 | D27: 1581134 | E27: 274546 | F27: 113834 | G27: 18972.333 | H27: 122953 | I27: 6 | J27: 0.069104388
A28: STREET ART BY PERRIER | B28: 59615 | C28: 6824 | D28: 52791 | E28: 59615 | F28: 1095 | G28: 1095 | H28: 1202 | I28: 1 | J28: 0.01836786
A29: 2016 Total | B29: 20196967 | C29: 1232937 | D29: 18964030 | E29: 194201.61 | F29: 576001 | G29: 5538.4712 | H29: 652657 | I29: 104 | J29: 0.028519183
A31: Total général | B31: 52414574 | C31: 2379323 | D31: 50035251 | E31: 262072.87 | F31: 898813 | G31: 4494.065 | H31: 985940 | I31: 200 | J31: 0.01714815

Sheet 2016 NEW
A1: Pivot | C1: Paid Impressions | D1: CPM | E1: Clicks | F1: Spent | G1: Actions
A2: 1.8059943e+15 | B2: - Et qu’est-ce qui est encore plus extraordinaire qu’une femme savourant un PERRIER sur une licorne soulevée par une cheerleader, qui tient en équilibre sur une joueuse de tuba, qui tient debout sur un château de cartes, porté par des garçons de café ? Un PERRIER Aromatisé pardi ! | C2: 27348 | D2: 18.28 | E2: 351 | F2: 500 | G2: 4277
A3: 1.8059927e+15 | B3: - Qu'est-ce qui est plus extraordinaire qu’une licorne soulevée par une cheerleader, qui tient en équilibre sur une joueuse de tuba, qui tient debout sur un château de cartes, porté par des garçons de café ? Faites parler votre imagination ! | C3: 53496 | D3: 9.35 | E3: 621 | F3: 500 | G3: 387
A4: 1.7925678e+15 | B4: - [CONCOURS | C4: 0 | D4: 0 | E4: 0 | F4: 0 | G4: 0
A5: 1.7925101e+15 | B5: - [CONCOURS | C5: 0 | D5: 0 | E5: 0 | F5: 0 | G5: 0
A6: 1.7925613e+15 | B6: - [CONCOURS | C6: 3939734 | D6: 3.54 | E6: 26663 | F6: 13938.83 | G6: 14809
A7: 1.7925642e+15 | B7: - [CONCOURS | C7: 218763 | D7: 2.42 | E7: 1506 | F7: 529.18 | G7: 1404
A8: 1.7925626e+15 | B8: - [CONCOURS | C8: 0 | D8: 0 | E8: 0 | F8: 0 | G8: 0
A9: 1.7925091e+15 | B9: - [CONCOURS | C9: 708534 | D9: 2.82 | E9: 4038 | F9: 2000 | G9: 2166
A10: 1.850177e+15 | B10: - Une fraîcheur qui tourne en boucle ! | C10: 180320 | D10: 5.55 | E10: 2816 | F10: 1000 | G10: 2375
A11: 1.765129e+15 | B11: - La folie d’un Perrier, tout en finesse ! | C11: 67996 | D11: 4.3 | E11: 1424 | F11: 292.46 | G11: 1208
A12: 1.7651367e+15 | B12: - Attention... Ce GIF va vous donner soif ! | C12: 68844 | D12: 4.15 | E12: 1604 | F12: 285.39 | G12: 1371
A13: 1.7795449e+15 | B13: - Du PERRIER et du soleil pour un arc-en-ciel extraordinaire. | C13: 69211 | D13: 4.33 | E13: 1938 | F13: 300 | G13: 1739
... A128: 1.7814802e+15 | B128: - Une goutte de PERRIER suffit pour passer au niveau supérieur. #ExtraordinairePerrier | C128: 116735 | D128: 2.55 | E128: 644 | F128: 297.59 | G128: 247231

Sheet 2015 NEW
A1: Pivot | C1: Paid Impressions | D1: CPM | E1: Clicks | F1: Spent | G1: Actions
A2: 1.0153399e+16 | B2: - Bottled up with excitement. | C2: 107653 | D2: 2.32 | E2: 6031 | F2: 250 | G2: 5860
A3: 1.0153403e+16 | B3: - Always here to serve. #TBT | C3: 87318 | D3: 4.29 | E3: 4073 | F3: 375 | G3: 3544
A4: 1.613148e+15 | B4: - Perrier et la Croix-Rouge française vous donnent rendez-vous à partir de lundi sur Twitter. #StreetArtByPerrier w/ ARTCURIAL | C4: 293657 | D4: 3.29 | E4: 4420 | F4: 966.35 | G4: 65943
A5: 1.6619016e+15 | B5: - Perrier, à votre service. #TBT | C5: 41114 | D5: 9.12 | E5: 604 | F5: 375 | G5: 517
A6: 1.6613824e+15 | B6: - Révélation du jour, c'est un sourire. | C6: 63313 | D6: 7.9 | E6: 1613 | F6: 500 | G6: 1379
A7: 1.6301319e+15 | B7: - À l'endroit ça donne Perrier Fines Bulles. À taaaaaable ! #PerrierFinesBulles | C7: 274444 | D7: 6.75 | E7: 5212 | F7: 1852.7 | G7: 18173
A8: 1.6591625e+15 | B8: - L'extraordinaire, tu apprécieras. | C8: 1455 | D8: 2.8 | E8: 32 | F8: 4.07 | G8: 43
A9: 1.6619027e+15 | B9: - Peace, love and Perrier. | C9: 46973 | D9: 7.98 | E9: 1808 | F9: 375 | G9: 1809
A10: 1.6536464e+15 | B10: - Partagez votre bulle préférée en commentaire pour tenter de gagner une soirée privée avec vos amis à l'Atelier des Artistes ! Pour participer, téléchargez les images #PerrierFinesBulles ici : http://bit.ly/album_pfb | C10: 9048 | D10: 6.39 | E10: 137 | F10: 57.78 | G10: 162
A11: 1.6285995e+15 | B11: - Perrier Fines Bulles c'est tout l'esprit de Perrier à taaaaable ! SUPEEEEER ! #PerrierFinesBulles | C11: 185708 | D11: 5.75 | E11: 2723 | F11: 1068.18 | G11: 32987
A12: 1.0153403e+16 | B12: - Peace, love and Perrier. | C12: 78914 | D12: 4.75 | E12: 5629 | F12: 375 | G12: 5305
A13: 1.63906e+15 | B13: - Vous avez pas soif vous ? À taaaaable ! #PerrierFinesBulles | C13: 100665 | D13: 7.73 | E13: 2323 | F13: 778.01 | G13: 8885
... A187: 1.0153676e+16 | B187: - Brace yourself, this will be an extraordinaire fall! #Equinox | C187: 44999 | D187: 4.44 | E187: 1005 | F187: 200 | G187: 745

Sheet Complement
A1: POST ID | B1: Date | C1: Post | D1: Imp | E1: CPM | F1: Clicks | G1: Spent | H1: Actions
A2: 1.843151e+15 | B2: 42625.354 | C2: On ne se lasse pas des grands classiques ! Redécouvrez le virgin mojito version PERRIER Menthe ! Pour découvrir tous nos cocktails, venez buller ici : http://bit.ly/1XmLCkL | D2: =1024818+453336 -> 1478154 | E2: =(G2/D2)*1000 -> 2.2454697 | F2: =10524+4151 -> 14675 | G2: =2000+1319.15 -> 3319.15 | H2: =117647+68795 -> 186442
A3: 1.8431503e+15 | B3: 42620.354 | C3: Laissez-vous tenter par ce cocktail à croquer ! Le Perrier Fraise vous fera rougir de plaisir... ;) Pour découvrir tous nos cocktails, venez buller ici : http://bit.ly/1XmLCkL | D3: 1700699 | E3: 2.91 | F3: 13920 | G3: 4948.98 | H3: 288728
A4: 1.8426852e+15 | B4: 42613.354 | C4: Le secret de ce cocktail ? Un PERRIER Citron pour une fraîcheur garantie et sans se presser ! Pour découvrir tous nos cocktails, venez buller ici : http://bit.ly/1XmLCkL | D4: 1792315 | E4: 2.91 | F4: 12047 | G4: 5215.59 | H4: 237570
A5: 1.8422573e+15 | B5: 42611.392 | C5: - Garçon ! Auriez-vous un PERRIER avec un goût fruité ? - Et un PERRIER aromatisé pour la 17 ! Un ! Et pour vous ? | D5: 3599808 | E5: 0.56 | F5: 12157 | G5: 6793.15 | H5: 497733
A6: 1.8409231e+15 | B6: 42608.387 | C6: [CONCOURS] Prenez une pause PERRIER pour faire tomber la température ! Agrumes, Citron, Fraise, Menthe, Pomme verte ou Citron vert, quel PERRIER aromatisé vous rafraîchira ? Quinze personnes seront tirées au sort dans les commentaires pour recevoir leurs PERRIER aromatisés ;) Règlement : http://urlz.fr/40aL | D6: 128209 | E6: 2.34 | F6: 2818 | G6: 300 | H6: 2551
A7: 1.8371546e+15 | B7: 42604.344 | C7: Nom d'une licorne ! Un PERRIER aromatisé avec 0 sucres, ça existe vraiment ? | D7: 1996751 | E7: 1.87 | F7: 6340 | G7: 3724.12 | H7: 295903
A8: 1.8371533e+15 | B8: 42601.344 | C8: Un PERRIER aromatisé peut-il être 100% naturel ? Le perroquet vous souffle la réponse... | D8: 4209456 | E8: 2.9 | F8: 21056 | G8: 12223.35 | H8: 756403
A9: 1.7925642e+15 | B9: 42506.344 | C9: [CONCOURS] Le match n'est pas fini ! Retrouvez notre Tennisman en participant à notre jeu "The Quest" et tentez de gagner 24h à Roland-Garros avec PERRIER ! | D9: 218763 | E9: 2.42 | F9: 1506 | G9: 529.18 | H9: 1404
A10: 1.7925091e+15 | B10: 42499.344 | C10: [CONCOURS] Où se trouvent les personnages extraordinaires de la publicité PERRIER ? Jouez à notre jeu "The Quest" pour tenter de gagner 24h à Roland-Garros avec PERRIER ! Jouez ici : https://www.extraordinaire-quest.perrier.com/ | D10: 568018 | E10: 2.35 | F10: 3057 | G10: 1335 | H10: 1670
A11: 1.7925613e+15 | B11: 42492.344 | C11: [CONCOURS] Vous vous rappelez des personnages de la pub PERRIER "Hot Air Balloons" ? Suivez-les dans leur voyage extraordinaire, et devinez où ils se trouvent ! Vous gagnerez peut-être 24h extraordinaires à Roland-Garros ! Ouvrez l'oeil ! | D11: 3939734 | E11: 3.54 | F11: 26663 | G11: 13938.83 | H11: 14809
A12: 1.7814802e+15 | B12: 42466.344 | C12: Une goutte de PERRIER suffit pour passer au niveau supérieur. #ExtraordinairePerrier | D12: 116735 | E12: 2.55 | F12: 644 | G12: 297.59 | H12: 22254
A13: 1.7715653e+15 | B13: 42458.385 | C13: Elles vous feront tourner la tête...naturellement. #ExtraordinairePerrier | D13: 96926 | E13: 3.1 | F13: 1348 | G13: 300 | H13: 1000
A14: 1.7715359e+15 | B14: 42456.042 | C14: La chasse aux bulles est ouverte ! #JoyeusesPâques © Jonah Nigro / www.popsicleillusion.com - 2016 | D14: 188894 | E14: 1.59 | F14: 20396 | G14: 300 | H14: 19997
... A20: 1.6786535e+15 | B20: 42186.354 | C20: PERRIER sait aussi révéler son côté sauvage. | D20: 3340529 | E20: 3.47 | F20: 27116 | G20: 11600 | H20: 832689
A21: 1.6716759e+15 | B21: 42185.144 | C21: Découvrez notre nouveau film PERRIER et préparez-vous à un voyage extraordinaire ! #ExtraordinairePerrier | D21: 6913913 | E21: =(G21/D21)*1000 -> 5.8310005 | F21: 143721 | G21: 40315.03 | H21: 1650119
A22: 1.6786543e+15 | B22: 42181.354 | C22: Garçons de café ou musiciens ? Cheerleaders ou bête féroce ? A chacun sa montgolfière ! Laquelle choisissez-vous ? | D22: 3525476 | E22: =(G22/D22)*1000 -> 3.2903358 | F22: 26432 | G22: 11600 | H22: 832557
A23: 1.6718192e+15 | B23: 42174.354 | C23: Hot Air Balloons, l’extraordinaire n’a pas de limites ! #ExtraordinairePerrier | D23: 3525979 | E23: =(G23/D23)*1000 -> 3.2898664 | F23: 23842 | G23: 11600 | H23: 18733
A24: 1.6714507e+15 | B24: 42173.354 | C24: Quel est le point commun entre un artificier, un lion et des pompom girls ? La réponse se cache ici... #ExtraordinairePerrier | D24: 2937582 | E24: =(G24/D24)*1000 -> 3.9488259 | F24: 19161 | G24: 11600 | H24: 622528
A25: 1.6714501e+15 | B25: 42166.354 | C25: A quoi ressemble une soirée clubbing dans une montgolfière ? Découvrez-le ici... #ExtraordinairePerrier | D25: 3128636 | E25: =(G25/D25)*1000 -> 3.707686 | F25: 21046 | G25: 11600 | H25: 663648
A26: 1.6692191e+15 | B26: 42156.125 | C26: [JEU CONCOURS] Ecoutez, imaginez et racontez-nous l'histoire du nouveau film Perrier en commentaire ! Le récit le plus extraordinaire remportera 2 places pour la finale de Roland-Garros ! | D26: 233506 | E26: =(G26/D26)*1000 -> 20.470566 | F26: 3205 | G26: 4780 | H26: 47012

Sheet FAN EVOLUTION
A1: FAN EVOLUTION
A3: RULES TO UPDATE THIS TABLE 1/ Please fill each month the fan evolution datas ; 2/ Once the news datas added, click on the graph, then change the datas on the table via drag and drop with your cursor
A6: PAGE EXPORT Key metrics Tab | B6: PAGE EXPORT Key metrics Tab
A7: 42095 | B7: 1140339
A8: 42096 | B8: 1140479
A9: 42097 | B9: 1140576
A10: 42098 | B10: 1140658
A11: 42099 | B11: 1140784
A12: 42100 | B12: 1140948
A13: 42101 | B13: 1141071
A14: 42102 | B14: 1141216
A15: 42103 | B15: 1141320
A16: 42104 | B16: 1141428
A17: 42105 | B17: 1141580
A18: 42106 | B18: 1141719
... A97: 42185 | B97: 99543
A98: DATE | B98: FANS
A99: 42186 | B99: 99558
A100: 42187 | B100: 99565
A101: 42188 | B101: 99580
A102: 42189 | B102: 99608
A103: 42190 | B103: 99607
A104: 42191 | B104: 99617
A105: 42192 | B105: 99628
A106: 42193 | B106: 99650
A107: 42194 | B107: 99672
A108: 42195 | B108: 99660
A109: 42196 | B109: 99658
A110: 42197 | B110: 99675
... A556: 42643 | B556: 205631

Sheet ALL DATAS
A1: GLOBAL DATAS
A3: RULES TO UPDATE THIS TABLE
A4: 1/ Please fill each month your facebook datas for each post ; 2/ Never change the cells of the line 8
A6: POST EXPORT Key metrics Tab | B6: MANUAL | C6: MANUAL | D6: MANUAL | E6: POST EXPORT Key metrics Tab | F6: MANUAL (entry) | G6: MANUAL (entry) | H6: AUTOMATIC (formula) | I6: POST EXPORT Key metrics Tab | J6: POST EXPORT Key metrics Tab | K6: POST EXPORT Key metrics Tab | L6: POST EXPORT Key metrics Tab | M6: POST EXPORT Key metrics Tab | N6: AUTOMATIC (formula) | O6: AUTOMATIC (formula) | P6: POST EXPORT Lifetime Talking About This... Tab | Q6: POST EXPORT Lifetime Talking About This... Tab | R6: POST EXPORT Lifetime Talking About This... Tab | S6: POST EXPORT Key metrics Tab | T6: VIDEO EXPORT (Main tab) | U6: VIDEO EXPORT (Main Tab) | V6: AUTOMATIC (formula) | W6: AUTOMATIC (formula) | X6: MEDIA | Y6: MEDIA | Z6: MEDIA | AA6: MEDIA | AB6: MEDIA | AC6: MEDIA
A7: - | B7: - | C7: - | D7: Insert the last day of the month | E7: - | F7: - | G7: - | H7: Use to the table "Content performance details | I7: - | J7: Lifetime Post Total Reach (I column) | K7: Lifetime Post organic reach (J column) | L7: Lifetime Post Paid Reach (K column) | M7: Lifetime Engaged Users (O column) | N7: Total Post engaged users / Total Reach | O7: Sum of likes, comment, share, clics, views | P7: K column | Q7: J Column | R7: L column | S7: Lifetime post consumers (P column) | T7: Lifetime Total 30-second Views (P column) | U7: Lifetime Unique 30-second Views (Q column) | V7: Sum of Post Engaged users + video unique viewers | W7: - | X7: to be filled with media agency data | Y7: to be filled with media agency data | Z7: to be filled with media agency data | AA7: to be filled with media agency data | AB7: to be filled with media agency data | AC7: to be filled with media agency data
A8: POST ID | B8: YEAR | C8: QUARTER | D8: MONTH | E8: DATE | F8: TYPE | G8: EDITORIAL LINE CATEGORY | H8: CATEGORIES | I8: POST MESSAGE | J8: TOTAL REACH2 | K8: ORGANIC REACH | L8: PAID REACH | M8: POST ENGAGED USERS | N8: ENGAGEMENT RATE | O8: TOTAL ENGAGEMENT | P8: LIKES | Q8: COMMENTS | R8: SHARES | S8: CLICS | T8: VIEWS | U8: UNIQUE VIEWERS | V8: FINAL POST ENGAGED USERS | W8: FANS TO DATE | X8: SPENT | Y8: CPM | Z8: PAID ACTIONS | AA8: CPE | AB8: PAID IMPRESSIONS | AC8: CALCULATED FREQUENCY
A9: 1.0153057e+16 | B9: 2015 | C9: 2015 Q1 | D9: 42035 | E9: 42005.5 | I9: Test 1 | J9: 2383872 | K9: 2048 | L9: 2381824 | M9: 119744 | N9: =V9/J9 -> 0.050230885 | O9: =SUM(P9:T9) -> 135226 | P9: 100275 | Q9: 416 | R9: 217 | S9: 34318 | V9: =U9+M9 -> 119744 | W9: =IF(ISNA(VLOOKUP(E9,'FAN EVOLUTION'!$A$46:$B$10042,2,1)),0,VLOOKUP(E9,'FAN EVOLUTION'!$A$46:$B$10042,2,1)) -> 0
A10: 1.0153091e+16 | B10: 2015 | C10: 2015 Q1 | D10: 42035 | E10: 42010.5 | I10: Test 2 | J10: 2699 | K10: 2699 | L10: 0 | M10: 352 | N10: =V10/J10 -> 0.13041867 | O10: =SUM(P10:T10) -> 469 | P10: 298 | Q10: 4 | R10: 17 | S10: 150 | V10: =U10+M10 -> 352 | W10: =IF(ISNA(VLOOKUP(E10,'FAN EVOLUTION'!$A$46:$B$10042,2,1)),0,VLOOKUP(E10,'FAN EVOLUTION'!$A$46:$B$10042,2,1)) -> 0
A11: 1.0153105e+16 | B11: 2015 | C11: 2015 Q1 | D11: 42035 | E11: 42016.5 | I11: Test 3 | J11: 1895 | K11: 1895 | L11: 0 | M11: 176 | N11: =V11/J11 -> 0.092875989 | O11: =SUM(P11:T11) -> 237 | P11: 134 | R11: 6 | S11: 97 | V11: =U11+M11 -> 176 | W11: =IF(ISNA(VLOOKUP(E11,'FAN EVOLUTION'!$A$46:$B$10042,2,1)),0,VLOOKUP(E11,'FAN EVOLUTION'!$A$46:$B$10042,2,1)) -> 0
A12: 1.0153107e+16 | B12: 2015 | C12: 2015 Q1 | D12: 42035 | E12: 42017.5 | I12: Test 4 | J12: 2315 | K12: 2315 | L12: 0 | M12: 250 | N12: =V12/J12 -> 0.10799136 | O12: =SUM(P12:T12) -> 324 | P12: 203 | Q12: 3 | R12: 10 | S12: 108 | V12: =U12+M12 -> 250 | W12: =IF(ISNA(VLOOKUP(E12,'FAN EVOLUTION'!$A$46:$B$10042,2,1)),0,VLOOKUP(E12,'FAN EVOLUTION'!$A$46:$B$10042,2,1)) -> 0
A13: 1.0153109e+16 | B13: 2015 | C13: 2015 Q1 | D13: 42035 | E13: 42018.5 | I13: Test 5 | J13: 2800 | K13: 2800 | L13: 0 | M13: 314 | N13: =V13/J13 -> 0.11214286 | O13: =SUM(P13:T13) -> 400 | P13: 273 | Q13: 3 | R13: 15 | S13: 109 | V13: =U13+M13 -> 314 | W13: =IF(ISNA(VLOOKUP(E13,'FAN EVOLUTION'!$A$46:$B$10042,2,1)),0,VLOOKUP(E13,'FAN EVOLUTION'!$A$46:$B$10042,2,1)) -> 0
A14: 1.0153113e+16 | B14: 2015 | C14: 2015 Q1 | D14: 42035 | E14: 42019.125 | I14: Test 6 | J14: 60 | K14: 60 | L14: 0 | M14: 38 | N14: =V14/J14 -> 0.63333333 | O14: =SUM(P14:T14) -> 64 | P14: 16 | Q14: 2 | R14: 1 | S14: 45 | V14: =U14+M14 -> 38 | W14: =IF(ISNA(VLOOKUP(E14,'FAN EVOLUTION'!$A$46:$B$10042,2,1)),0,VLOOKUP(E14,'FAN EVOLUTION'!$A$46:$B$10042,2,1)) -> 0
A15: 1.015312e+16 | B15: 2015 | C15: 2015 Q1 | D15: 42035 | E15: 42023.5 | I15: Test 7 | J15: 2842 | K15: 2842 | L15: 0 | M15: 298 | N15: =V15/J15 -> 0.10485574 | O15: =SUM(P15:T15) -> 383 | P15: 256 | R15: 15 | S15: 112 | V15: =U15+M15 -> 298 | W15: =IF(ISNA(VLOOKUP(E15,'FAN EVOLUTION'!$A$46:$B$10042,2,1)),0,VLOOKUP(E15,'FAN EVOLUTION'!$A$46:$B$10042,2,1)) -> 0
A16: 1.0153124e+16 | B16: 2015 | C16: 2015 Q1 | D16: 42035 | E16: 42025.5 | I16: Test 8 | J16: 2293 | K16: 2293 | L16: 0 | M16: 199 | N16: =V16/J16 -> 0.08678587 | O16: =SUM(P16:T16) -> 271 | P16: 172 | Q16: 1 | R16: 9 | S16: 89 | V16: =U16+M16 -> 199 | W16: =IF(ISNA(VLOOKUP(E16,'FAN EVOLUTION'!$A$46:$B$10042,2,1)),0,VLOOKUP(E16,'FAN EVOLUTION'!$A$46:$B$10042,2,1)) -> 0
A17: 1.0153135e+16 | B17: 2015 | C17: 2015 Q1 | D17: 42035 | E17: 42030.5 | I17: Test 9 | J17: 2318 | K17: 2318 | L17: 0 | M17: 244 | N17: =V17/J17 -> 0.10526316 | O17: =SUM(P17:T17) -> 322 | P17: 207 | Q17: 1 | R17: 7 | S17: 107 | V17: =U17+M17 -> 244 | W17: =IF(ISNA(VLOOKUP(E17,'FAN EVOLUTION'!$A$46:$B$10042,2,1)),0,VLOOKUP(E17,'FAN EVOLUTION'!$A$46:$B$10042,2,1)) -> 0
A18: 1.0153142e+16 | B18: 2015 | C18: 2015 Q1 | D18: 42035 | E18: 42033.5 | I18: Test 10 | J18: 1371 | K18: 1371 | L18: 0 | M18: 113 | N18: =V18/J18 -> 0.08242159 | O18: =SUM(P18:T18) -> 162 | P18: 76 | R18: 4 | S18: 82 | V18: =U18+M18 -> 113 | W18: =IF(ISNA(VLOOKUP(E18,'FAN EVOLUTION'!$A$46:$B$10042,2,1)),0,VLOOKUP(E18,'FAN EVOLUTION'!$A$46:$B$10042,2,1)) -> 0
A19: 1.0153144e+16 | B19: 2015 | C19: 2015 Q1 | D19: 42035 | E19: 42034.458 | I19: Test 11 | J19: 2359 | K19: 2359 | L19: 0 | M19: 203 | N19: =V19/J19 -> 0.086053412 | O19: =SUM(P19:T19) -> 258 | P19: 28 | R19: 3 | S19: 124 | T19: 103 | V19: =U19+M19 -> 203 | W19: =IF(ISNA(VLOOKUP(E19,'FAN EVOLUTION'!$A$46:$B$10042,2,1)),0,VLOOKUP(E19,'FAN EVOLUTION'!$A$46:$B$10042,2,1)) -> 0
A20: 1.0153152e+16 | B20: 2015 | C20: 2015 Q1 | D20: 42063 | E20: 42037.5 | I20: Test 12 | J20: 3098 | K20: 3098 | L20: 0 | M20: 256 | N20: =V20/J20 -> 0.082633957 | O20: =SUM(P20:T20) -> 364 | P20: 204 | Q20: 4 | R20: 21 | S20: 135 | V20: =U20+M20 -> 256 | W20: =IF(ISNA(VLOOKUP(E20,'FAN EVOLUTION'!$A$46:$B$10042,2,1)),0,VLOOKUP(E20,'FAN EVOLUTION'!$A$46:$B$10042,2,1)) -> 0
A21: 1.0153161e+16 | B21: 2015 | C21: 2015 Q1 | D21: 42063 | E21: 42041.5 | I21: Test 13 | J21: 4916 | K21: 4916 | L21: 0 | M21: 562 | N21: =V21/J21 -> 0.11432059 | O21: =SUM(P21:T21) -> 763 | P21: 466 | Q21: 7 | R21: 33 | S21: 257 | V21: =U21+M21 -> 562 | W21: =IF(ISNA(VLOOKUP(E21,'FAN EVOLUTION'!$A$46:$B$10042,2,1)),0,VLOOKUP(E21,'FAN EVOLUTION'!$A$46:$B$10042,2,1)) -> 0
A22: 1.0153169e+16 | B22: 2015 | C22: 2015 Q1 | D22: 42063 | E22: 42044.536 | I22: Test 14 | J22: 1937 | K22: 1937 | L22: 0 | M22: 190 | N22: =V22/J22 -> 0.09808983 | O22: =SUM(P22:T22) -> 269 | P22: 143 | Q22: 3 | R22: 12 | S22: 111 | V22: =U22+M22 -> 190 | W22: =IF(ISNA(VLOOKUP(E22,'FAN EVOLUTION'!$A$46:$B$10042,2,1)),0,VLOOKUP(E22,'FAN EVOLUTION'!$A$46:$B$10042,2,1)) -> 0
A23: 1.0153173e+16 | B23: 2015 | C23: 2015 Q1 | D23: 42063 | E23: 42046.5 | I23: Test 15 | J23: 2982 | K23: 2982 | L23: 0 | M23: 288 | N23: =V23/J23 -> 0.096579477 | O23: =SUM(P23:T23) -> 417 | P23: 227 | Q23: 20 | R23: 13 | S23: 157 | V23: =U23+M23 -> 288 | W23: =IF(ISNA(VLOOKUP(E23,'FAN EVOLUTION'!$A$46:$B$10042,2,1)),0,VLOOKUP(E23,'FAN EVOLUTION'!$A$46:$B$10042,2,1)) -> 0
A24: 1.015318e+16 | B24: 2015 | C24: 2015 Q1 | D24: 42063 | E24: 42049.375 | I24: Test 16 | J24: 2838 | K24: 2838 | L24: 0 | M24: 277 | N24: =V24/J24 -> 0.097603946 | O24: =SUM(P24:T24) -> 383 | P24: 225 | Q24: 4 | R24: 16 | S24: 138 | V24: =U24+M24 -> 277 | W24: =IF(ISNA(VLOOKUP(E24,'FAN EVOLUTION'!$A$46:$B$10042,2,1)),0,VLOOKUP(E24,'FAN EVOLUTION'!$A$46:$B$10042,2,1)) -> 0
A25: 1.0153186e+16 | B25: 2015 | C25: 2015 Q1 | D25: 42063 | E25: 42051.5 | I25: Test 17 | J25: 1916 | K25: 1916 | L25: 0 | M25: 179 | N25: =V25/J25 -> 0.0934238 | O25: =SUM(P25:T25) -> 252 | P25: 158 | R25: 5 | S25: 89 | V25: =U25+M25 -> 179 | W25: =IF(ISNA(VLOOKUP(E25,'FAN EVOLUTION'!$A$46:$B$10042,2,1)),0,VLOOKUP(E25,'FAN EVOLUTION'!$A$46:$B$10042,2,1)) -> 0
A26: 1.0153193e+16 | B26: 2015 | C26: 2015 Q1 | D26: 42063 | E26: 42054.5 | I26: Test 18 | J26: 1722 | K26: 1722 | L26: 0 | M26: 143 | N26: =V26/J26 -> 0.083042973 | O26: =SUM(P26:T26) -> 184 | P26: 107 | R26: 9 | S26: 68 | V26: =U26+M26 -> 143 | W26: =IF(ISNA(VLOOKUP(E26,'FAN EVOLUTION'!$A$46:$B$10042,2,1)),0,VLOOKUP(E26,'FAN EVOLUTION'!$A$46:$B$10042,2,1)) -> 0
A27: 1.0153203e+16 | B27: 2015 | C27: 2015 Q1 | D27: 42063 | E27: 42058.5 | I27: Test 19 | J27: 1848 | K27: 1848 | L27: 0 | M27: 166 | N27: =V27/J27 -> 0.08982684 | O27: =SUM(P27:T27) -> 255 | P27: 124 | Q27: 2 | R27: 14 | S27: 115 | V27: =U27+M27 -> 166 | W27: =IF(ISNA(VLOOKUP(E27,'FAN EVOLUTION'!$A$46:$B$10042,2,1)),0,VLOOKUP(E27,'FAN EVOLUTION'!$A$46:$B$10042,2,1)) -> 0
A28: 1.0153208e+16 | B28: 2015 | C28: 2015 Q1 | D28: 42063 | E28: 42060.5 | I28: Test 20 | J28: 2054 | K28: 2054 | L28: 0 | M28: 163 | N28: =V28/J28 -> 0.079357352 | O28: =SUM(P28:T28) -> 269 | P28: 142 | Q28: 6 | R28: 11 | S28: 110 | V28: =U28+M28 -> 163 | W28: =IF(ISNA(VLOOKUP(E28,'FAN EVOLUTION'!$A$46:$B$10042,2,1)),0,VLOOKUP(E28,'FAN EVOLUTION'!$A$46:$B$10042,2,1)) -> 0
A29: 1.0153212e+16 | B29: 2015 | C29: 2015 Q1 | D29: 42063 | E29: 42062.5 | I29: Test 21 | J29: 2264 | K29: 2264 | L29: 0 | M29: 210 | N29: =V29/J29 -> 0.092756184 | O29: =SUM(P29:T29) -> 281 | P29: 168 | Q29: 1 | R29: 7 | S29: 105 | V29: =U29+M29 -> 210 | W29: =IF(ISNA(VLOOKUP(E29,'FAN EVOLUTION'!$A$46:$B$10042,2,1)),0,VLOOKUP(E29,'FAN EVOLUTION'!$A$46:$B$10042,2,1)) -> 0
A30: 1.0153219e+16 | B30: 2015 | C30: 2015 Q1 | D30: 42094 | E30: 42065.5 | I30: Test 22 | J30: 1487 | K30: 1487 | L30: 0 | M30: 108 | N30: =V30/J30 -> 0.072629455 | O30: =SUM(P30:T30) -> 145 | P30: 83 | R30: 5 | S30: 57 | V30: =U30+M30 -> 108 | W30: =IF(ISNA(VLOOKUP(E30,'FAN EVOLUTION'!$A$46:$B$10042,2,1)),0,VLOOKUP(E30,'FAN EVOLUTION'!$A$46:$B$10042,2,1)) -> 0
A31: 1.015323e+16 | B31: 2015 | C31: 2015 Q1 | D31: 42094 | E31: 42069.5 | I31: Test 23 | J31: 2616 | K31: 2616 | L31: 0 | M31: 227 | N31: =V31/J31 -> 0.0867737 | O31: =SUM(P31:T31) -> 299 | P31: 186 | Q31: 1 | R31: 8 | S31: 104 | V31: =U31+M31 -> 227 | W31: =IF(ISNA(VLOOKUP(E31,'FAN EVOLUTION'!$A$46:$B$10042,2,1)),0,VLOOKUP(E31,'FAN EVOLUTION'!$A$46:$B$10042,2,1)) -> 0
A32: 1.0153235e+16 | B32: 2015 | C32: 2015 Q1 | D32: 42094 | E32: 42071.5 | I32: Test 24 | J32: 1918 | K32: 1918 | L32: 0 | M32: 146 | N32: =V32/J32 -> 0.076120959 | O32: =SUM(P32:T32) -> 190 | P32: 127 | Q32: 1 | R32: 9 | S32: 53 | V32: =U32+M32 -> 146 | W32: =IF(ISNA(VLOOKUP(E32,'FAN EVOLUTION'!$A$46:$B$10042,2,1)),0,VLOOKUP(E32,'FAN EVOLUTION'!$A$46:$B$10042,2,1)) -> 0
A33: 1.0153242e+16 | B33: 2015 | C33: 2015 Q1 | D33: 42094 | E33: 42074.542 | I33: Test 25 | J33: 1306 | K33: 1306 | L33: 0 | M33: 72 | N33: =V33/J33 -> 0.055130168 | O33: =SUM(P33:T33) -> 85 | P33: 51 | R33: 3 | S33: 31 | V33: =U33+M33 -> 72 | W33: =IF(ISNA(VLOOKUP(E33,'FAN EVOLUTION'!$A$46:$B$10042,2,1)),0,VLOOKUP(E33,'FAN EVOLUTION'!$A$46:$B$10042,2,1)) -> 0
A34: 1.0153256e+16 | B34: 2015 | C34: 2015 Q1 | D34: 42094 | E34: 42079.542 | I34: Test 26 | J34: 2234 | K34: 2234 | L34: 0 | M34: 205 | N34: =V34/J34 -> 0.091763653 | O34: =SUM(P34:T34) -> 276 | P34: 171 | Q34: 5 | R34: 12 | S34: 88 | V34: =U34+M34 -> 205 | W34: =IF(ISNA(VLOOKUP(E34,'FAN EVOLUTION'!$A$46:$B$10042,2,1)),0,VLOOKUP(E34,'FAN EVOLUTION'!$A$46:$B$10042,2,1)) -> 0
A35: 1.0153267e+16 | B35: 2015 | C35: 2015 Q1 | D35: 42094 | E35: 42083.542 | I35: Test 27 | J35: 4178 | K35: 4178 | L35: 0 | M35: 362 | N35: =V35/J35 -> 0.086644327 | O35: =SUM(P35:T35) -> 448 | P35: 283 | Q35: 1 | R35: 21 | S35: 143 | V35: =U35+M35 -> 362 | W35: =IF(ISNA(VLOOKUP(E35,'FAN EVOLUTION'!$A$46:$B$10042,2,1)),0,VLOOKUP(E35,'FAN EVOLUTION'!$A$46:$B$10042,2,1)) -> 0
A36: 1.0153276e+16 | B36: 2015 | C36: 2015 Q1 | D36: 42094 | E36: 42086.562 | I36: Test 28 | J36: 2811 | K36: 2811 | L36: 0 | M36: 286 | N36: =V36/J36 -> 0.10174315 | O36: =SUM(P36:T36) -> 370 | P36: 232 | Q36: 1 | R36: 12 | S36: 125 | V36: =U36+M36 -> 286 | W36: =IF(ISNA(VLOOKUP(E36,'FAN EVOLUTION'!$A$46:$B$10042,2,1)),0,VLOOKUP(E36,'FAN EVOLUTION'!$A$46:$B$10042,2,1)) -> 0
A37: 1.0153287e+16 | B37: 2015 | C37: 2015 Q1 | D37: 42094 | E37: 42090.542 | I37: Test 29 | J37: 1330 | K37: 1330 | L37: 0 | M37: 114 | N37: =V37/J37 -> 0.085714286 | O37: =SUM(P37:T37) -> 156 | P37: 93 | Q37: 1 | R37: 8 | S37: 54 | V37: =U37+M37 -> 114 | W37: =IF(ISNA(VLOOKUP(E37,'FAN EVOLUTION'!$A$46:$B$10042,2,1)),0,VLOOKUP(E37,'FAN EVOLUTION'!$A$46:$B$10042,2,1)) -> 0
A38: 1.0153304e+16 | B38: 2015 | C38: 2015 Q2 | D38: 42124 | E38: 42097.5 | I38: Test 30 | J38: 1860 | K38: 1860 | L38: 0 | M38: 183 | N38: =V38/J38 -> 0.098387097 | O38: =SUM(P38:T38) -> 247 | P38: 143 | Q38: 2 | R38: 13 | S38: 89 | V38: =U38+M38 -> 183 | W38: =IF(ISNA(VLOOKUP(E38,'FAN EVOLUTION'!$A$46:$B$10042,2,1)),0,VLOOKUP(E38,'FAN EVOLUTION'!$A$46:$B$10042,2,1)) -> 0
A39: 1.0153306e+16 | B39: 2015 | C39: 2015 Q2 | D39: 42124 | E39: 42098.458 | I39: Test 31 | J39: 1365 | K39: 1365 | L39: 0 | M39: 116 | N39: =V39/J39 -> 0.084981685 | O39: =SUM(P39:T39) -> 147 | P39: 92 | R39: 5 | S39: 50 | V39: =U39+M39 -> 116 | W39: =IF(ISNA(VLOOKUP(E39,'FAN EVOLUTION'!$A$46:$B$10042,2,1)),0,VLOOKUP(E39,'FAN EVOLUTION'!$A$46:$B$10042,2,1)) -> 0
A40: 1.0153313e+16 | B40: 2015 | C40: 2015 Q2 | D40: 42124 | E40: 42100.167 | I40: Test 32 | J40: 1308 | K40: 1308 | L40: 0 | M40: 112 | N40: =V40/J40 -> 0.085626911 | O40: =SUM(P40:T40) -> 154 | P40: 90 | R40: 4 | S40: 60 | V40: =U40+M40 -> 112 | W40: =IF(ISNA(VLOOKUP(E40,'FAN EVOLUTION'!$A$46:$B$10042,2,1)),0,VLOOKUP(E40,'FAN EVOLUTION'!$A$46:$B$10042,2,1)) -> 0
A41: 1.015332e+16 | B41: 2015 | C41: 2015 Q2 | D41: 42124 | E41: 42102.5 | I41: Test 33 | J41: 1511 | K41: 1511 | L41: 0 | M41: 122 | N41: =V41/J41 -> 0.080741231 | O41: =SUM(P41:T41) -> 162 | P41: 96 | Q41: 1 | R41: 5 | S41: 60 | V41: =U41+M41 -> 122 | W41: =IF(ISNA(VLOOKUP(E41,'FAN EVOLUTION'!$A$46:$B$10042,2,1)),0,VLOOKUP(E41,'FAN EVOLUTION'!$A$46:$B$10042,2,1)) -> 0
A42: 1.0153324e+16 | B42: 2015 | C42: 2015 Q2 | D42: 42124 | E42: 42104.5 | I42: Test 34 | J42: 1094 | K42: 1094 | L42: 0 | M42: 94 | N42: =V42/J42 -> 0.085923218 | O42: =SUM(P42:T42) -> 126 | P42: 68 | Q42: 2 | R42: 4 | S42: 52 | V42: =U42+M42 -> 94 | W42: =IF(ISNA(VLOOKUP(E42,'FAN EVOLUTION'!$A$46:$B$10042,2,1)),0,VLOOKUP(E42,'FAN EVOLUTION'!$A$46:$B$10042,2,1)) -> 0
A43: 1.0153333e+16 | B43: 2015 | C43: 2015 Q2 | D43: 42124 | E43: 42107.521 | I43: Test 35 | J43: 1295 | K43: 1295 | L43: 0 | M43: 131 | N43: =V43/J43 -> 0.1011583 | O43: =SUM(P43:T43) -> 162 | P43: 97 | R43: 4 | S43: 61 | V43: =U43+M43 -> 131 | W43: =IF(ISNA(VLOOKUP(E43,'FAN EVOLUTION'!$A$46:$B$10042,2,1)),0,VLOOKUP(E43,'FAN EVOLUTION'!$A$46:$B$10042,2,1)) -> 0
A44: 1.0153338e+16 | B44: 2015 | C44: 2015 Q2 | D44: 42124 | E44: 42109.521 | I44: Test 36 | J44: 3088 | K44: 3088 | L44: 0 | M44: 348 | N44: =V44/J44 -> 0.1126943 | O44: =SUM(P44:T44) -> 505 | P44: 278 | Q44: 7 | R44: 19 | S44: 201 | V44: =U44+M44 -> 348 | W44: =IF(ISNA(VLOOKUP(E44,'FAN EVOLUTION'!$A$46:$B$10042,2,1)),0,VLOOKUP(E44,'FAN EVOLUTION'!$A$46:$B$10042,2,1)) -> 0
A45: 1.0153343e+16 | B45: 2015 | C45: 2015 Q2 | D45: 42124 | E45: 42111.521 | I45: Test 37 | J45: 2752 | K45: 2752 | L45: 0 | M45: 250 | N45: =V45/J45 -> 0.090843023 | O45: =SUM(P45:T45) -> 353 | P45: 187 | Q45: 7 | R45: 21 | S45: 138 | V45: =U45+M45 -> 250 | W45: =IF(ISNA(VLOOKUP(E45,'FAN EVOLUTION'!$A$46:$B$10042,2,1)),0,VLOOKUP(E45,'FAN EVOLUTION'!$A$46:$B$10042,2,1)) -> 0
A46: 1.0153351e+16 | B46: 2015 | C46: 2015 Q2 | D46: 42124 | E46: 42114.479 | I46: Test 38 | J46: 3224 | K46: 3224 | L46: 0 | M46: 296 | N46: =V46/J46 -> 0.091811414 | O46: =SUM(P46:T46) -> 415 | P46: 212 | Q46: 9 | R46: 22 | S46: 172 | V46: =U46+M46 -> 296 | W46: =IF(ISNA(VLOOKUP(E46,'FAN EVOLUTION'!$A$46:$B$10042,2,1)),0,VLOOKUP(E46,'FAN EVOLUTION'!$A$46:$B$10042,2,1)) -> 0
A47: 1.0153356e+16 | B47: 2015 | C47: 2015 Q2 | D47: 42124 | E47: 42116.521 | I47: Test 39 | J47: 2512 | K47: 2512 | L47: 0 | M47: 240 | N47: =V47/J47 -> 0.095541401 | O47: =SUM(P47:T47) -> 299 | P47: 157 | Q47: 5 | R47: 8 | S47: 129 | V47: =U47+M47 -> 240 | W47: =IF(ISNA(VLOOKUP(E47,'FAN EVOLUTION'!$A$46:$B$10042,2,1)),0,VLOOKUP(E47,'FAN EVOLUTION'!$A$46:$B$10042,2,1)) -> 0
A48: 1.0153361e+16 | B48: 2015 | C48: 2015 Q2 | D48: 42124 | E48: 42118.521 | I48: Test 40 | J48: 1591 | K48: 1591 | L48: 0 | M48: 137 | N48: =V48/J48 -> 0.086109365 | O48: =SUM(P48:T48) -> 172 | P48: 80 | Q48: 4 | R48: 3 | S48: 85 | V48: =U48+M48 -> 137 | W48: =IF(ISNA(VLOOKUP(E48,'FAN EVOLUTION'!$A$46:$B$10042,2,1)),0,VLOOKUP(E48,'FAN EVOLUTION'!$A$46:$B$10042,2,1)) -> 0
A49: 1.0153372e+16 | B49: 2015 | C49: 2015 Q2 | D49: 42124 | E49: 42122.521 | I49: Test 41 | J49: 2473 | K49: 2473 | L49: 0 | M49: 259 | N49: =V49/J49 -> 0.1047311 | O49: =SUM(P49:T49) -> 346 | P49: 167 | Q49: 3 | R49: 13 | S49: 163 | V49: =U49+M49 -> 259 | W49: =IF(ISNA(VLOOKUP(E49,'FAN EVOLUTION'!$A$46:$B$10042,2,1)),0,VLOOKUP(E49,'FAN EVOLUTION'!$A$46:$B$10042,2,1)) -> 0
A50: 1.0153369e+16 | B50: 2015 | C50: 2015 Q2 | D50: 42155 | E50: 42125.521 | I50: Test 42 | J50: 1794 | K50: 1794 | L50: 0 | M50: 155 | N50: =V50/J50 -> 0.086399108 | O50: =SUM(P50:T50) -> 203 | P50: 85 | R50: 6 | S50: 112 | V50: =U50+M50 -> 155 | W50: =IF(ISNA(VLOOKUP(E50,'FAN EVOLUTION'!$A$46:$B$10042,2,1)),0,VLOOKUP(E50,'FAN EVOLUTION'!$A$46:$B$10042,2,1)) -> 0
A51: 1.0153378e+16 | B51: 2015 | C51: 2015 Q2 | D51: 42155 | E51: 42128.458 | I51: Test 43 | J51: 2000 | K51: 2000 | L51: 0 | M51: 171 | N51: =V51/J51 -> 0.0855 | O51: =SUM(P51:T51) -> 251 | P51: 85 | Q51: 1 | R51: 7 | S51: 158 | V51: =U51+M51 -> 171 | W51: =IF(ISNA(VLOOKUP(E51,'FAN EVOLUTION'!$A$46:$B$10042,2,1)),0,VLOOKUP(E51,'FAN EVOLUTION'!$A$46:$B$10042,2,1)) -> 0
A52: 1.0153385e+16 | B52: 2015 | C52: 2015 Q2 | D52: 42155 | E52: 42129.425 | I52: Test 44 | J52: 1659 | K52: 1659 | L52: 0 | M52: 140 | N52: =V52/J52 -> 0.084388186 | O52: =SUM(P52:T52) -> 196 | P52: 35 | R52: 3 | S52: 158 | V52: =U52+M52 -> 140 | W52: =IF(ISNA(VLOOKUP(E52,'FAN EVOLUTION'!$A$46:$B$10042,2,1)),0,VLOOKUP(E52,'FAN EVOLUTION'!$A$46:$B$10042,2,1)) -> 0
A53: 1.0153397e+16 | B53: 2015 | C53: 2015 Q2 | D53: 42155 | E53: 42134.13 | I53: Test 45 | J53: 2410 | K53: 2410 | L53: 0 | M53: 244 | N53: =V53/J53 -> 0.10124481 | O53: =SUM(P53:T53) -> 340 | P53: 106 | Q53: 1 | R53: 10 | S53: 223 | V53: =U53+M53 -> 244 | W53: =IF(ISNA(VLOOKUP(E53,'FAN EVOLUTION'!$A$46:$B$10042,2,1)),0,VLOOKUP(E53,'FAN EVOLUTION'!$A$46:$B$10042,2,1)) -> 636976
A54: 1.0153399e+16 | B54: 2015 | C54: 2015 Q2 | D54: 42155 | E54: 42135.144 | I54: Test 46 | J54: 45600 | K54: 4624 | L54: 40976 | M54: 5774 | N54: =V54/J54 -> 0.12662281 | O54: =SUM(P54:T54) -> 6819 | P54: 4664 | Q54: 41 | R54: 77 | S54: 2037 | V54: =U54+M54 -> 5774 | W54: =IF(ISNA(VLOOKUP(E54,'FAN EVOLUTION'!$A$46:$B$10042,2,1)),0,VLOOKUP(E54,'FAN EVOLUTION'!$A$46:$B$10042,2,1)) -> 636992
A55: 1.0153403e+16 | B55: 2015 | C55: 2015 Q2 | D55: 42155 | E55: 42138.479 | I55: Test 47 | J55: 46736 | K55: 3792 | L55: 42944 | M55: 3614 | N55: =V55/J55 -> 0.07732797 | O55: =SUM(P55:T55) -> 4183 | P55: 2711 | Q55: 24 | R55: 37 | S55: 1411 | V55: =U55+M55 -> 3614 | W55: =IF(ISNA(VLOOKUP(E55,'FAN EVOLUTION'!$A$46:$B$10042,2,1)),0,VLOOKUP(E55,'FAN EVOLUTION'!$A$46:$B$10042,2,1)) -> 636890
A56: 1.0153403e+16 | B56: 2015 | C56: 2015 Q2 | D56: 42155 | E56: 42139.479 | I56: Test 48 | J56: 50352 | K56: 7088 | L56: 43264 | M56: 5442 | N56: =V56/J56 -> 0.10807912 | O56: =SUM(P56:T56) -> 6405 | P56: 4586 | Q56: 40 | R56: 99 | S56: 1680 | V56: =U56+M56 -> 5442 | W56: =IF(ISNA(VLOOKUP(E56,'FAN EVOLUTION'!$A$46:$B$10042,2,1)),0,VLOOKUP(E56,'FAN EVOLUTION'!$A$46:$B$10042,2,1)) -> 615487
A57: 1.0153418e+16 | B57: 2015 | C57: 2015 Q2 | D57: 42155 | E57: 42143.521 | I57: Test 49 | J57: 46896 | K57: 4032 | L57: 42864 | M57: 5150 | N57: =V57/J57 -> 0.10981747 | O57: =SUM(P57:T57) -> 5858 | P57: 4245 | Q57: 54 | R57: 67 | S57: 1492 | V57: =U57+M57 -> 5150 | W57: =IF(ISNA(VLOOKUP(E57,'FAN EVOLUTION'!$A$46:$B$10042,2,1)),0,VLOOKUP(E57,'FAN EVOLUTION'!$A$46:$B$10042,2,1)) -> 99762
A58: 1.0153418e+16 | B58: 2015 | C58: 2015 Q2 | D58: 42155 | E58: 42146.521 | I58: Test 50 | J58: 44928 | K58: 2912 | L58: 42016 | M58: 4024 | N58: =V58/J58 -> 0.089565527 | O58: =SUM(P58:T58) -> 4722 | P58: 3159 | Q58: 21 | R58: 63 | S58: 1479 | V58: =U58+M58 -> 4024 | W58: =IF(ISNA(VLOOKUP(E58,'FAN EVOLUTION'!$A$46:$B$10042,2,1)),0,VLOOKUP(E58,'FAN EVOLUTION'!$A$46:$B$10042,2,1)) -> 99574
A59: 1.0153418e+16 | B59: 2015 | C59: 2015 Q2 | D59: 42155 | E59: 42148.521 | I59: Test 51 | J59: 43520 | K59: 3840 | L59: 39680 | M59: 4492 | N59: =V59/J59 -> 0.10321691 | O59: =SUM(P59:T59) -> 5369 | P59: 4032 | Q59: 35 | R59: 44 | S59: 1258 | V59: =U59+M59 -> 4492 | W59: =IF(ISNA(VLOOKUP(E59,'FAN EVOLUTION'!$A$46:$B$10042,2,1)),0,VLOOKUP(E59,'FAN EVOLUTION'!$A$46:$B$10042,2,1)) -> 99581
A60: 1.0153448e+16 | B60: 2015 | C60: 2015 Q2 | D60: 42155 | E60: 42152.354 | I60: Test 52 | J60: 27152 | K60: 2656 | L60: 24496 | M60: 2173 | N60: =V60/J60 -> 0.080030937 | O60: =SUM(P60:T60) -> 2645 | P60: 1730 | Q60: 13 | R60: 59 | S60: 843 | V60: =U60+M60 -> 2173 | W60: =IF(ISNA(VLOOKUP(E60,'FAN EVOLUTION'!$A$46:$B$10042,2,1)),0,VLOOKUP(E60,'FAN EVOLUTION'!$A$46:$B$10042,2,1)) -> 99449
A61: 1.0153439e+16 | B61: 2015 | C61: 2015 Q2 | D61: 42155 | E61: 42152.521 | I61: Test 53 | J61: 28704 | K61: 3264 | L61: 25440 | M61: 2112 | N61: =V61/J61 -> 0.073578595 | O61: =SUM(P61:T61) -> 2518 | P61: 1604 | Q61: 26 | R61: 54 | S61: 834 | V61: =U61+M61 -> 2112 | W61: =IF(ISNA(VLOOKUP(E61,'FAN EVOLUTION'!$A$46:$B$10042,2,1)),0,VLOOKUP(E61,'FAN EVOLUTION'!$A$46:$B$10042,2,1)) -> 99449
A62: 1.0153456e+16 | B62: 2015 | C62: 2015 Q2 | D62: 42155 | E62: 42153.521 | I62: Test 54 | J62: 13408 | K62: 1624 | L62: 11784 | M62: 1902 | N62: =V62/J62 -> 0.14185561 | O62: =SUM(P62:T62) -> 2179 | P62: 57 | Q62: 1 | R62: 3 | S62: 264 | T62: 1854 | V62: =U62+M62 -> 1902 | W62: =IF(ISNA(VLOOKUP(E62,'FAN EVOLUTION'!$A$46:$B$10042,2,1)),0,VLOOKUP(E62,'FAN EVOLUTION'!$A$46:$B$10042,2,1)) -> 99458
A63: 1.0153469e+16 | B63: 2015 | C63: 2015 Q2 | D63: 42185 | E63: 42157.521 | I63: Test 55 | J63: 30032 | K63: 3392 | L63: 26640 | M63: 2468 | N63: =V63/J63 -> 0.082179009 | O63: =SUM(P63:T63) -> 3106 | P63: 2002 | Q63: 29 | R63: 63 | S63: 1012 | V63: =U63+M63 -> 2468 | W63: =IF(ISNA(VLOOKUP(E63,'FAN EVOLUTION'!$A$46:$B$10042,2,1)),0,VLOOKUP(E63,'FAN EVOLUTION'!$A$46:$B$10042,2,1)) -> 99554
A64: 1.0153475e+16 | B64: 2015 | C64: 2015 Q2 | D64: 42185 | E64: 42160.354 | I64: Test 56 | J64: 26280 | K64: 1264 | L64: 25016 | M64: 1315 | N64: =V64/J64 -> 0.050038052 | O64: =SUM(P64:T64) -> 1513 | P64: 1000 | Q64: 8 | R64: 12 | S64: 493 | V64: =U64+M64 -> 1315 | W64: =IF(ISNA(VLOOKUP(E64,'FAN EVOLUTION'!$A$46:$B$10042,2,1)),0,VLOOKUP(E64,'FAN EVOLUTION'!$A$46:$B$10042,2,1)) -> 99678
A65: 1.0153481e+16 | B65: 2015 | C65: 2015 Q2 | D65: 42185 | E65: 42162.394 | I65: Test 57 | J65: 1480 | K65: 1480 | L65: 0 | M65: 110 | N65: =V65/J65 -> 0.074324324 | O65: =SUM(P65:T65) -> 146 | P65: 46 | Q65: 1 | R65: 1 | S65: 98 | V65: =U65+M65 -> 110 | W65: =IF(ISNA(VLOOKUP(E65,'FAN EVOLUTION'!$A$46:$B$10042,2,1)),0,VLOOKUP(E65,'FAN EVOLUTION'!$A$46:$B$10042,2,1)) -> 99753
A66: 1.0153437e+16 | B66: 2015 | C66: 2015 Q2 | D66: 42185 | E66: 42163.521 | I66: Test 58 | J66: 26992 | K66: 1536 | L66: 25456 | M66: 1751 | N66: =V66/J66 -> 0.064871073 | O66: =SUM(P66:T66) -> 2017 | P66: 1359 | Q66: 9 | R66: 22 | S66: 627 | V66: =U66+M66 -> 1751 | W66: =IF(ISNA(VLOOKUP(E66,'FAN EVOLUTION'!$A$46:$B$10042,2,1)),0,VLOOKUP(E66,'FAN EVOLUTION'!$A$46:$B$10042,2,1)) -> 99504
A67: 1.0153475e+16 | B67: 2015 | C67: 2015 Q2 | D67: 42185 | E67: 42165.522 | I67: Test 59 | J67: 26384 | K67: 2376 | L67: 24008 | M67: 1713 | N67: =V67/J67 -> 0.064925713 | O67: =SUM(P67:T67) -> 1984 | P67: 1189 | Q67: 17 | R67: 24 | S67: 754 | V67: =U67+M67 -> 1713 | W67: =IF(ISNA(VLOOKUP(E67,'FAN EVOLUTION'!$A$46:$B$10042,2,1)),0,VLOOKUP(E67,'FAN EVOLUTION'!$A$46:$B$10042,2,1)) -> 99549
A68: 1.0153492e+16 | B68: 2015 | C68: 2015 Q2 | D68: 42185 | E68: 42167.521 | I68: Test 60 | J68: 28128 | K68: 3792 | L68: 24336 | M68: 2236 | N68: =V68/J68 -> 0.079493743 | O68: =SUM(P68:T68) -> 2625 | P68: 1639 | Q68: 12 | R68: 30 | S68: 944 | V68: =U68+M68 -> 2236 | W68: =IF(ISNA(VLOOKUP(E68,'FAN EVOLUTION'!$A$46:$B$10042,2,1)),0,VLOOKUP(E68,'FAN EVOLUTION'!$A$46:$B$10042,2,1)) -> 99604
A69: 1.0153501e+16 | B69: 2015 | C69: 2015 Q2 | D69: 42185 | E69: 42171.521 | I69: Test 61 | J69: 26112 | K69: 3624 | L69: 22488 | M69: 5592 | N69: =V69/J69 -> 0.21415441 | O69: =SUM(P69:T69) -> 6563 | P69: 501 | Q69: 14 | R69: 23 | S69: 1603 | T69: 4422 | V69: =U69+M69 -> 5592 | W69: =IF(ISNA(VLOOKUP(E69,'FAN EVOLUTION'!$A$46:$B$10042,2,1)),0,VLOOKUP(E69,'FAN EVOLUTION'!$A$46:$B$10042,2,1)) -> 99436
A70: 1.0153509e+16 | B70: 2015 | C70: 2015 Q2 | D70: 42185 | E70: 42176.521 | I70: Test 62 | J70: 15730 | K70: 2653 | L70: 13077 | M70: 932 | N70: =V70/J70 -> 0.059249841 | O70: =SUM(P70:T70) -> 1151 | P70: 503 | Q70: 5 | R70: 10 | S70: 633 | V70: =U70+M70 -> 932 | W70: =IF(ISNA(VLOOKUP(E70,'FAN EVOLUTION'!$A$46:$B$10042,2,1)),0,VLOOKUP(E70,'FAN EVOLUTION'!$A$46:$B$10042,2,1)) -> 99531
A71: 1.0153517e+16 | B71: 2015 | C71: 2015 Q2 | D71: 42185 | E71: 42179.521 | I71: Test 63 | J71: 31231 | K71: 6007 | L71: 25224 | M71: 2395 | N71: =V71/J71 -> 0.076686625 | O71: =SUM(P71:T71) -> 3070 | P71: 1642 | Q71: 36 | R71: 103 | S71: 1289 | V71: =U71+M71 -> 2395 | W71: =IF(ISNA(VLOOKUP(E71,'FAN EVOLUTION'!$A$46:$B$10042,2,1)),0,VLOOKUP(E71,'FAN EVOLUTION'!$A$46:$B$10042,2,1)) -> 99630
A72: 1.0153529e+16 | B72: 2015 | C72: 2015 Q2 | D72: 42185 | E72: 42181.521 | I72: Test 64 | J72: 26499 | K72: 2053 | L72: 24446 | M72: 1700 | N72: =V72/J72 -> 0.064153364 | O72: =SUM(P72:T72) -> 2188 | P72: 1176 | Q72: 14 | R72: 18 | S72: 980 | V72: =U72+M72 -> 1700 | W72: =IF(ISNA(VLOOKUP(E72,'FAN EVOLUTION'!$A$46:$B$10042,2,1)),0,VLOOKUP(E72,'FAN EVOLUTION'!$A$46:$B$10042,2,1)) -> 99453
A73: 1.0153528e+16 | B73: 2015 | C73: 2015 Q2 | D73: 42185 | E73: 42184.521 | I73: Test 65 | J73: 27452 | K73: 1966 | L73: 25486 | M73: 2231 | N73: =V73/J73 -> 0.081269124 | O73: =SUM(P73:T73) -> 2833 | P73: 1529 | Q73: 18 | R73: 13 | S73: 1273 | V73: =U73+M73 -> 2231 | W73: =IF(ISNA(VLOOKUP(E73,'FAN EVOLUTION'!$A$46:$B$10042,2,1)),0,VLOOKUP(E73,'FAN EVOLUTION'!$A$46:$B$10042,2,1)) -> 99522
A74: 1.0153539e+16 | B74: 2015 | C74: 2015 Q3 | D74: 42216 | E74: 42189.521 | I74: Test 66 | J74: 26342 | K74: 1654 | L74: 24688 | M74: 1428 | N74: =V74/J74 -> 0.054210007 | O74: =SUM(P74:T74) -> 1697 | P74: 897 | Q74: 7 | R74: 12 | S74: 781 | V74: =U74+M74 -> 1428 | W74: =IF(ISNA(VLOOKUP(E74,'FAN EVOLUTION'!$A$46:$B$10042,2,1)),0,VLOOKUP(E74,'FAN EVOLUTION'!$A$46:$B$10042,2,1)) -> 99608
A75: 1.0153556e+16 | B75: 2015 | C75: 2015 Q3 | D75: 42216 | E75: 42192.521 | I75: Test 67 | J75: 26803 | K75: 2177 | L75: 24626 | M75: 1850 | N75: =V75/J75 -> 0.069022124 | O75: =SUM(P75:T75) -> 2340 | P75: 982 | Q75: 7 | R75: 18 | S75: 1333 | V75: =U75+M75 -> 1850 | W75: =IF(ISNA(VLOOKUP(E75,'FAN EVOLUTION'!$A$46:$B$10042,2,1)),0,VLOOKUP(E75,'FAN EVOLUTION'!$A$46:$B$10042,2,1)) -> 99628
A76: 1.0153556e+16 | B76: 2015 | C76: 2015 Q3 | D76: 42216 | E76: 42193.521 | I76: Test 68 | J76: 27566 | K76: 3088 | L76: 24478 | M76: 1173 | N76: =V76/J76 -> 0.04255242 | O76: =SUM(P76:T76) -> 1379 | P76: 718 | Q76: 13 | R76: 26 | S76: 622 | V76: =U76+M76 -> 1173 | W76: =IF(ISNA(VLOOKUP(E76,'FAN EVOLUTION'!$A$46:$B$10042,2,1)),0,VLOOKUP(E76,'FAN EVOLUTION'!$A$46:$B$10042,2,1)) -> 99650
A77: 1.0153556e+16 | B77: 2015 | C77: 2015 Q3 | D77: 42216 | E77: 42195.521 | I77: Test 69 | J77: 27637 | K77: 3035 | L77: 24602 | M77: 1760 | N77: =V77/J77 -> 0.063682744 | O77: =SUM(P77:T77) -> 2032 | P77: 1109 | Q77: 9 | R77: 36 | S77: 878 | V77: =U77+M77 -> 1760 | W77: =IF(ISNA(VLOOKUP(E77,'FAN EVOLUTION'!$A$46:$B$10042,2,1)),0,VLOOKUP(E77,'FAN EVOLUTION'!$A$46:$B$10042,2,1)) -> 99660
A78: 1.0153562e+16 | B78: 2015 | C78: 2015 Q3 | D78: 42216 | E78: 42199.521 | I78: Test 70 | J78: 24420 | K78: 2356 | L78: 22064 | M78: 1277 | N78: =V78/J78 -> 0.052293202 | O78: =SUM(P78:T78) -> 1427 | P78: 735 | R78: 18 | S78: 674 | V78: =U78+M78 -> 1277 | W78: =IF(ISNA(VLOOKUP(E78,'FAN EVOLUTION'!$A$46:$B$10042,2,1)),0,VLOOKUP(E78,'FAN EVOLUTION'!$A$46:$B$10042,2,1)) -> 99618
A79: 1.0153556e+16 | B79: 2015 | C79: 2015 Q3 | D79: 42216 | E79: 42200.521 | I79: Test 71 | J79: 27732 | K79: 2456 | L79: 25276 | M79: 1196 | N79: =V79/J79 -> 0.043127073 | O79: =SUM(P79:T79) -> 1344 | P79: 755 | Q79: 7 | R79: 16 | S79: 566 | V79: =U79+M79 -> 1196 | W79: =IF(ISNA(VLOOKUP(E79,'FAN EVOLUTION'!$A$46:$B$10042,2,1)),0,VLOOKUP(E79,'FAN EVOLUTION'!$A$46:$B$10042,2,1)) -> 99617
A80: 1.0153575e+16 | B80: 2015 | C80: 2015 Q3 | D80: 42216 | E80: 42202.521 | I80: Test 72 | J80: 26317 | K80: 1804 | L80: 24513 | M80: 1196 | N80: =V80/J80 -> 0.045445909 | O80: =SUM(P80:T80) -> 1404 | P80: 667 | Q80: 5 | R80: 4 | S80: 728 | V80: =U80+M80 -> 1196 | W80: =IF(ISNA(VLOOKUP(E80,'FAN EVOLUTION'!$A$46:$B$10042,2,1)),0,VLOOKUP(E80,'FAN EVOLUTION'!$A$46:$B$10042,2,1)) -> 99983
A81: 1.0153562e+16 | B81: 2015 | C81: 2015 Q3 | D81: 42216 | E81: 42205.521 | I81: Test 73 | J81: 27091 | K81: 1888 | L81: 25203 | M81: 1493 | N81: =V81/J81 -> 0.055110553 | O81: =SUM(P81:T81) -> 1740 | P81: 849 | Q81: 1 | R81: 14 | S81: 876 | V81: =U81+M81 -> 1493 | W81: =IF(ISNA(VLOOKUP(E81,'FAN EVOLUTION'!$A$46:$B$10042,2,1)),0,VLOOKUP(E81,'FAN EVOLUTION'!$A$46:$B$10042,2,1)) -> 100050
A82: 1.0153556e+16 | B82: 2015 | C82: 2015 Q3 | D82: 42216 | E82: 42207.541 | I82: Test 74 | J82: 27633 | K82: 2304 | L82: 25329 | M82: 1480 | N82: =V82/J82 -> 0.05355915 | O82: =SUM(P82:T82) -> 1793 | P82: 853 | Q82: 13 | R82: 28 | S82: 899 | V82: =U82+M82 -> 1480 | W82: =IF(ISNA(VLOOKUP(E82,'FAN EVOLUTION'!$A$46:$B$10042,2,1)),0,VLOOKUP(E82,'FAN EVOLUTION'!$A$46:$B$10042,2,1)) -> 100051
A83: 1.0153585e+16 | B83: 2015 | C83: 2015 Q3 | D83: 42216 | E83: 42209.208 | I83: Test 75 | J83: 25765 | K83: 2018 | L83: 23747 | M83: 1646 | N83: =V83/J83 -> 0.063885115 | O83: =SUM(P83:T83) -> 1905 | P83: 1027 | Q83: 12 | R83: 36 | S83: 830 | V83: =U83+M83 -> 1646 | W83: =IF(ISNA(VLOOKUP(E83,'FAN EVOLUTION'!$A$46:$B$10042,2,1)),0,VLOOKUP(E83,'FAN EVOLUTION'!$A$46:$B$10042,2,1)) -> 100062
A84: 1.0153556e+16 | B84: 2015 | C84: 2015 Q3 | D84: 42216 | E84: 42213.521 | I84: Test 76 | J84: 26529 | K84: 1540 | L84: 24989 | M84: 1537 | N84: =V84/J84 -> 0.057936598 | O84: =SUM(P84:T84) -> 1837 | P84: 910 | Q84: 7 | R84: 21 | S84: 899 | V84: =U84+M84 -> 1537 | W84: =IF(ISNA(VLOOKUP(E84,'FAN EVOLUTION'!$A$46:$B$10042,2,1)),0,VLOOKUP(E84,'FAN EVOLUTION'!$A$46:$B$10042,2,1)) -> 100140
A85: 1.0153557e+16 | B85: 2015 | C85: 2015 Q3 | D85: 42216 | E85: 42215.521 | I85: Test 77 | J85: 25188 | K85: 1675 | L85: 23513 | M85: 1462 | N85: =V85/J85 -> 0.058043513 | O85: =SUM(P85:T85) -> 1753 | P85: 868 | Q85: 6 | R85: 11 | S85: 868 | V85: =U85+M85 -> 1462 | W85: =IF(ISNA(VLOOKUP(E85,'FAN EVOLUTION'!$A$46:$B$10042,2,1)),0,VLOOKUP(E85,'FAN EVOLUTION'!$A$46:$B$10042,2,1)) -> 99119
A86: 1.0153601e+16 | B86: 2015 | C86: 2015 Q3 | D86: 42247 | E86: 42218.208 | I86: Test 78 | J86: 28151 | K86: 2478 | L86: 25673 | M86: 2570 | N86: =V86/J86 -> 0.091293382 | O86: =SUM(P86:T86) -> 3403 | P86: 1463 | Q86: 10 | R86: 24 | S86: 1906 | V86: =U86+M86 -> 2570 | W86: =IF(ISNA(VLOOKUP(E86,'FAN EVOLUTION'!$A$46:$B$10042,2,1)),0,VLOOKUP(E86,'FAN EVOLUTION'!$A$46:$B$10042,2,1)) -> 99151
A87: 1.0153595e+16 | B87: 2015 | C87: 2015 Q3 | D87: 42247 | E87: 42221.208 | I87: Test 79 | J87: 28164 | K87: 3264 | L87: 24900 | M87: 2044 | N87: =V87/J87 -> 0.072574918 | O87: =SUM(P87:T87) -> 2456 | P87: 1255 | Q87: 9 | R87: 38 | S87: 1154 | V87: =U87+M87 -> 2044 | W87: =IF(ISNA(VLOOKUP(E87,'FAN EVOLUTION'!$A$46:$B$10042,2,1)),0,VLOOKUP(E87,'FAN EVOLUTION'!$A$46:$B$10042,2,1)) -> 99186
A88: 1.0153601e+16 | B88: 2015 | C88: 2015 Q3 | D88: 42247 | E88: 42223.208 | I88: Test 80 | J88: 28126 | K88: 3874 | L88: 24252 | M88: 1464 | N88: =V88/J88 -> 0.052051483 | O88: =SUM(P88:T88) -> 1772 | P88: 916 | Q88: 5 | R88: 26 | S88: 825 | V88: =U88+M88 -> 1464 | W88: =IF(ISNA(VLOOKUP(E88,'FAN EVOLUTION'!$A$46:$B$10042,2,1)),0,VLOOKUP(E88,'FAN EVOLUTION'!$A$46:$B$10042,2,1)) -> 99203
A89: 1.0153601e+16 | B89: 2015 | C89: 2015 Q3 | D89: 42247 | E89: 42228.208 | I89: Test 81 | J89: 31941 | K89: 5919 | L89: 26022 | M89: 2001 | N89: =V89/J89 -> 0.062646755 | O89: =SUM(P89:T89) -> 2427 | P89: 1285 | Q89: 17 | R89: 50 | S89: 1075 | V89: =U89+M89 -> 2001 | W89: =IF(ISNA(VLOOKUP(E89,'FAN EVOLUTION'!$A$46:$B$10042,2,1)),0,VLOOKUP(E89,'FAN EVOLUTION'!$A$46:$B$10042,2,1)) -> 99294
A90: 1.0153595e+16 | B90: 2015 | C90: 2015 Q3 | D90: 42247 | E90: 42230.208 | I90: Test 82 | J90: 30167 | K90: 4184 | L90: 25983 | M90: 1491 | N90: =V90/J90 -> 0.049424868 | O90: =SUM(P90:T90) -> 1725 | P90: 935 | Q90: 3 | R90: 17 | S90: 770 | V90: =U90+M90 -> 1491 | W90: =IF(ISNA(VLOOKUP(E90,'FAN EVOLUTION'!$A$46:$B$10042,2,1)),0,VLOOKUP(E90,'FAN EVOLUTION'!$A$46:$B$10042,2,1)) -> 99322
... A105: 1.0153677e+16 | B105: 2015 | C105: 2015 Q3 | D105: 42277 | E105: 42268.333 | I105: Test 97 | J105: 27075 | K105: 3190 | L105: 23885 | M105: 2398 | N105: =V105/J105 -> 0.08856879 | O105: =SUM(P105:T105) -> 2794 | P105: 1451 | Q105: 8 | R105: 51 | S105: 1284 | V105: =U105+M105 -> 2398 | W105: =IF(ISNA(VLOOKUP(E105,'FAN EVOLUTION'!$A$46:$B$10042,2,1)),0,VLOOKUP(E105,'FAN EVOLUTION'!$A$46:$B$10042,2,1)) -> 99685
A106: 1.0153676e+16 | B106: 2015 | C106: 2015 Q3 | D106: 42277 | E106: 42270.333 | I106: Test 98 | J106: 25397 | K106: 2943 | L106: 22454 | M106: 1115 | N106: =V106/J106 -> 0.043902823 | O106: =SUM(P106:T106) -> 1401 | P106: 628 | R106: 9 | S106: 764 | V106: =U106+M106 -> 1115 | W106: =IF(ISNA(VLOOKUP(E106,'FAN EVOLUTION'!$A$46:$B$10042,2,1)),0,VLOOKUP(E106,'FAN EVOLUTION'!$A$46:$B$10042,2,1)) -> 99697
A107: 1.0153709e+16 | B107: 2015 | C107: 2015 Q3 | D107: 42277 | E107: 42272.375 | I107: Test 99 | J107: 193151 | K107: 4432 | L107: 188719 | M107: 42807 | N107: =V107/J107 -> 0.22162453 | O107: =SUM(P107:T107) -> 42611 | P107: 40281 | Q107: 20 | R107: 18 | S107: 2292 | V107: =U107+M107 -> 42807 | W107: =IF(ISNA(VLOOKUP(E107,'FAN EVOLUTION'!$A$46:$B$10042,2,1)),0,VLOOKUP(E107,'FAN EVOLUTION'!$A$46:$B$10042,2,1)) -> 100343
A108: 1.0153709e+16 | B108: 2015 | C108: 2015 Q3 | D108: 42277 | E108: 42275.375 | I108: Test 100 | J108: 241542 | K108: 8453 | L108: 233089 | M108: 39547 | N108: =V108/J108 -> 0.16372722 | O108: =SUM(P108:T108) -> 39926 | P108: 37114 | Q108: 20 | R108: 19 | S108: 2773 | V108: =U108+M108 -> 39547 | W108: =IF(ISNA(VLOOKUP(E108,'FAN EVOLUTION'!$A$46:$B$10042,2,1)),0,VLOOKUP(E108,'FAN EVOLUTION'!$A$46:$B$10042,2,1)) -> 102156
A109: 1.0153676e+16 | B109: 2015 | C109: 2015 Q3 | D109: 42277 | E109: 42277.333 | I109: Test 101 | J109: 176380 | K109: 10377 | L109: 166003 | M109: 44097 | N109: =V109/J109 -> 0.25001134 | O109: =SUM(P109:T109) -> 44830 | P109: 42494 | Q109: 13 | R109: 29 | S109: 2294 | V109: =U109+M109 -> 44097 | W109: =IF(ISNA(VLOOKUP(E109,'FAN EVOLUTION'!$A$46:$B$10042,2,1)),0,VLOOKUP(E109,'FAN EVOLUTION'!$A$46:$B$10042,2,1)) -> 103062
A110: 1.0153745e+16 | B110: 2015 | C110: 2015 Q4 | D110: 42308 | E110: 42279.375 | I110: Test 102 | J110: 239863 | K110: 6365 | L110: 233498 | M110: 41585 | N110: =V110/J110 -> 0.1733698 | O110: =SUM(P110:T110) -> 44383 | P110: 39625 | Q110: 15 | R110: 41 | S110: 4702 | V110: =U110+M110 -> 41585 | W110: =IF(ISNA(VLOOKUP(E110,'FAN EVOLUTION'!$A$46:$B$10042,2,1)),0,VLOOKUP(E110,'FAN EVOLUTION'!$A$46:$B$10042,2,1)) -> 103729
A111: 1.0153752e+16 | B111: 2015 | C111: 2015 Q4 | D111: 42308 | E111: 42282.333 | I111: Test 103 | J111: 238410 | K111: 6871 | L111: 231539 | M111: 39618 | N111: =V111/J111 -> 0.16617592 | O111: =SUM(P111:T111) -> 40326 | P111: 36858 | Q111: 18 | R111: 19 | S111: 3431 | V111: =U111+M111 -> 39618 | W111: =IF(ISNA(VLOOKUP(E111,'FAN EVOLUTION'!$A$46:$B$10042,2,1)),0,VLOOKUP(E111,'FAN EVOLUTION'!$A$46:$B$10042,2,1)) -> 104710
A112: 1.0153752e+16 | B112: 2015 | C112: 2015 Q4 | D112: 42308 | E112: 42284.208 | I112: Test 104 | J112: 1052936 | K112: 5233 | L112: 1047703 | M112: 340403 | N112: =V112/J112 -> 0.32328935 | O112: =SUM(P112:T112) -> 179102 | P112: 1349 | Q112: 64 | R112: 127 | S112: 9665 | T112: 167897 | V112: =U112+M112 -> 340403 | W112: =IF(ISNA(VLOOKUP(E112,'FAN EVOLUTION'!$A$46:$B$10042,2,1)),0,VLOOKUP(E112,'FAN EVOLUTION'!$A$46:$B$10042,2,1)) -> 106634
A113: 1.0153745e+16 | B113: 2015 | C113: 2015 Q4 | D113: 42308 | E113: 42286.208 | I113: Test 105 | J113: 372739 | K113: 11004 | L113: 361735 | M113: 61242 | N113: =V113/J113 -> 0.16430264 | O113: =SUM(P113:T113) -> 63806 | P113: 53479 | Q113: 70 | R113: 81 | S113: 10176 | V113: =U113+M113 -> 61242 | W113: =IF(ISNA(VLOOKUP(E113,'FAN EVOLUTION'!$A$46:$B$10042,2,1)),0,VLOOKUP(E113,'FAN EVOLUTION'!$A$46:$B$10042,2,1)) -> 107587
A114: 1.0153768e+16 | B114: 2015 | C114: 2015 Q4 | D114: 42308 | E114: 42289.333 | I114: Test 106 | J114: 1058330 | K114: 15417 | L114: 1042913 | M114: 40581 | N114: =V114/J114 -> 0.038344373 | O114: =SUM(P114:T114) -> 43667 | P114: 2074 | Q114: 63 | R114: 233 | S114: 23033 | T114: 18264 | V114: =U114+M114 -> 40581 | W114: =IF(ISNA(VLOOKUP(E114,'FAN EVOLUTION'!$A$46:$B$10042,2,1)),0,VLOOKUP(E114,'FAN EVOLUTION'!$A$46:$B$10042,2,1)) -> 108151
A115: 1.0153752e+16 | B115: 2015 | C115: 2015 Q4 | D115: 42308 | E115: 42291.333 | I115: Test 107 | J115: 178981 | K115: 8663 | L115: 170318 | M115: 44588 | N115: =V115/J115 -> 0.24912142 | O115: =SUM(P115:T115) -> 46268 | P115: 43706 | Q115: 31 | R115: 38 | S115: 2493 | V115: =U115+M115 -> 44588 | W115: =IF(ISNA(VLOOKUP(E115,'FAN EVOLUTION'!$A$46:$B$10042,2,1)),0,VLOOKUP(E115,'FAN EVOLUTION'!$A$46:$B$10042,2,1)) -> 108448
A116: 1.0153752e+16 | B116: 2015 | C116: 2015 Q4 | D116: 42308 | E116: 42293.375 | I116: Test 108 | J116: 238678 | K116: 10345 | L116: 228333 | M116: 55377 | N116: =V116/J116 -> 0.23201552 | O116: =SUM(P116:T116) -> 56068 | P116: 52145 | Q116: 35 | R116: 37 | S116: 3851 | V116: =U116+M116 -> 55377 | W116: =IF(ISNA(VLOOKUP(E116,'FAN EVOLUTION'!$A$46:$B$10042,2,1)),0,VLOOKUP(E116,'FAN EVOLUTION'!$A$46:$B$10042,2,1)) -> 109384
...

Sheet Export PAGE_Stats_clés
A1: Date | B1: Lifetime Total Likes | C1: Daily New Likes | D1: Daily Unlikes | E1: Daily Page Engaged Users | F1: Weekly Page Engaged Users | G1: 28 Days Page Engaged Users | H1: Daily Total Reach | I1: Weekly Total Reach | J1: 28 Days Total Reach | K1: Daily Organic Reach | L1: Weekly Organic Reach | M1: 28 Days Organic Reach | N1: Daily Paid Reach | O1: Weekly Paid Reach | P1: 28 Days Paid Reach | Q1: Daily Total Impressions | R1: Weekly Total Impressions | S1: 28 Days Total Impressions | T1: Daily Organic impressions | U1: Weekly Organic impressions | V1: 28 Days Organic impressions | W1: Daily Paid Impressions | X1: Weekly Paid Impressions | Y1: 28 Days Paid Impressions | Z1: Daily Logged-in Page Views | AA1: Weekly Logged-in Page Views | AB1: Daily Logged-in Page Views | AC1: Weekly Logged-in Page Views | AD1: Daily Reach of page posts | AE1: Weekly Reach of page posts | AF1: 28 Days Reach of page posts | AG1: Daily Organic Reach of Page posts | AH1: Weekly Organic Reach of Page posts | AI1: 28 Days Organic Reach of Page posts | AJ1: Daily Paid Reach of Page posts | AK1: Weekly Paid Reach of Page posts | AL1: 28 Days Paid Reach of Page posts | AM1: Daily Total Impressions of your posts | AN1: Weekly Total Impressions of your posts | AO1: 28 Days Total Impressions of your posts | AP1: Daily Organic impressions of your posts | AQ1: Weekly Organic impressions of your posts | AR1: 28 Days Organic impressions of your posts | AS1: Daily Paid impressions of your posts | AT1: Weekly Paid impressions of your posts | AU1: 28 Days Paid impressions of your posts | AV1: Daily Total Consumers | AW1: Weekly Total Consumers | AX1: 28 Days Total Consumers | AY1: Daily Page consumptions | AZ1: Weekly Page consumptions | BA1: 28 Days Page consumptions | BB1: Daily Negative feedback | BC1: Weekly Negative feedback | BD1: 28 Days Negative feedback | BE1: Daily Negative Feedback from Users | BF1: Weekly Negative Feedback from Users | BG1: 28 Days Negative Feedback from Users | BH1: Daily Total check-ins | BI1: Weekly Total check-ins | BJ1: 28 Days Total check-ins | BK1: Daily Total check-ins | BL1: Weekly Total check-ins | BM1: 28 Days Total check-ins | BN1: Daily Total check-ins using mobile devices | BO1: Weekly Total check-ins using mobile devices | BP1: 28 Days Total check-ins using mobile devices | BQ1: Daily Total check-ins using mobile devices | BR1: Weekly Total check-ins using mobile devices | BS1: 28 Days Total check-ins using mobile devices | BT1: Daily Daily count of fans online | BU1: Daily Total Video Views | BV1: Weekly Total Video Views | BW1: 28 Days Total Video Views | BX1: Daily Total organic video views | BY1: Weekly Total organic video views | BZ1: 28 Days Total organic video views | CA1: Daily Total promoted video views | CB1: Weekly Total promoted video views | CC1: 28 Days Total promoted video views | CD1: Daily Total autoplayed video views | CE1: Weekly Total autoplayed video views | CF1: 28 Days Total autoplayed video views | CG1: Daily Total video views after clicking | CH1: Weekly Total video views after clicking | CI1: 28 Days Total video views after clicking | CJ1: Daily Total number of time a video has seen again | CK1: Weekly Total number of time a video has seen again | CL1: 28 Days Total number of time a video has seen again | CM1: Daily Total Unique Video Views | CN1: Weekly Total Unique Video Views | CO1: 28 Days Total Unique Video Views | CP1: Daily Total 30-Second Views | CQ1: Weekly Total 30-Second Views | CR1: 28 Days Total 30-Second Views | CS1: Daily Total organic video views for 30s or to the end | CT1: Weekly Total organic video views for 30s or to the end | CU1: 28 Days Total organic video views for 30s or to the end | CV1: Daily Paid 30-Second Views | CW1: Weekly Paid 30-Second Views | CX1: 28 Days Paid 30-Second Views | CY1: Daily Auto-Played 30-Second Views | CZ1: Weekly Auto-Played 30-Second Views | DA1: 28 Days Auto-Played 30-Second Views | DB1: Daily Video views for 30s or to the end after clicking | DC1: Weekly Video views for 30s or to the end after clicking | DD1: 28 Days Video views for 30s or to the end after clicking | DE1: Daily Number of time a video has seen again for 30s or to the end | DF1: Weekly Number of time a video has seen again for 30s or to the end | DG1: 28 Days Number of time a video has seen again for 30s or to the end | DH1: Daily Total Unique 30-Second Views | DI1: Weekly Total Unique 30-Second Views | DJ1: 28 Days Total Unique 30-Second Views | DK1: Daily People Talking About This | DL1: Weekly People Talking About This | DM1: 28 Days People Talking About This | DN1: page_get_directions_clicks_logged_in_count:day | DO1: page_get_directions_clicks_logged_in_count:week | DP1: page_get_directions_clicks_logged_in_unique:day | DQ1: page_get_directions_clicks_logged_in_unique:week | DR1: page_call_phone_clicks_logged_in_count:day | DS1: page_call_phone_clicks_logged_in_count:week | DT1: page_call_phone_clicks_logged_in_unique:day | DU1: page_call_phone_clicks_logged_in_unique:week | DV1: page_website_clicks_logged_in_count:day | DW1: page_website_clicks_logged_in_count:week | DX1: page_website_clicks_logged_in_unique:day | DY1: page_website_clicks_logged_in_unique:week | DZ1: page_cta_clicks_logged_in_total:day | EA1: page_cta_clicks_logged_in_total:week | EB1: page_cta_clicks_logged_in_unique:day | EC1: page_cta_clicks_logged_in_unique:week
B2: Lifetime: The total number of people who have liked your Page. (Unique Users) | C2: Daily: The number of new people who have liked your Page (Unique Users) | D2: Daily: The number of Unlikes of your Page (Unique Users) | E2: Daily: The number of people who engaged with your Page. Engagement includes any click or story created. (Unique Users) | F2: Weekly: The number of people who engaged with your Page. Engagement includes any click or story created. (Unique Users) | G2: 28 Days: The number of people who engaged with your Page. Engagement includes any click or story created. (Unique Users) | H2: Daily: The number of people who have seen any content associated with your Page. (Unique Users) | I2: Weekly: The number of people who have seen any content associated with your Page. (Unique Users) | J2: 28 Days: The number of people who have seen any content associated with your Page. (Unique Users) | K2: Daily: The number of people who visited your Page, or saw your Page or one of its posts in news feed or ticker. These can be people who have liked your Page and people who haven't. (Unique Users) | L2: Weekly: The number of people who visited your Page, or saw your Page or one of its posts in news feed or ticker. These can be people who have liked your Page and people who haven't. (Unique Users) | M2: 28 Days: The number of people who visited your Page, or saw your Page or one of its posts in news feed or ticker. These can be people who have liked your Page and people who haven't. (Unique Users) | N2: Daily: The number of people who saw a sponsored story or ad pointing to your Page. (Unique Users) | O2: Weekly: The number of people who saw a sponsored story or ad pointing to your Page. (Unique Users) | P2: 28 Days: The number of people who saw a sponsored story or ad pointing to your Page. (Unique Users) | Q2: Daily: The number of impressions seen of any content associated with your Page. (Total Count) | R2: Weekly: The number of impressions seen of any content associated with your Page. (Total Count) | S2: 28 Days: The number of impressions seen of any content associated with your Page. (Total Count) | T2: Daily: The number of times your posts were seen in News Feed or ticker or on visits to your Page. These impressions can be by people who have liked your Page and people who haven't. (Total Count) | U2: Weekly: The number of times your posts were seen in News Feed or ticker or on visits to your Page. These impressions can be by people who have liked your Page and people who haven't. (Total Count) | V2: 28 Days: The number of times your posts were seen in News Feed or ticker or on visits to your Page. These impressions can be by people who have liked your Page and people who haven't. (Total Count) | W2: Daily: The number of impressions of a Sponsored Story or Ad pointing to your Page. (Total Count) | X2: Weekly: The number of impressions of a Sponsored Story or Ad pointing to your Page. (Total Count) | Y2: 28 Days: The number of impressions of a Sponsored Story or Ad pointing to your Page. (Total Count) | Z2: Daily: Page Views from users logged into Facebook (Total Count) | AA2: Weekly: Page Views from users logged into Facebook (Total Count) | AB2: Daily: Page Views from users logged into Facebook (Unique Users) | AC2: Weekly: Page Views from users logged into Facebook (Unique Users) | AD2: Daily: The number of people who saw any of your Page posts. (Unique Users) | AE2: Weekly: The number of people who saw any of your Page posts. (Unique Users) | AF2: 28 Days: The number of people who saw any of your Page posts. (Unique Users) | AG2: Daily: The number of people who saw your Page posts in news feed or ticker, or on your Page's timeline. (Unique Users) | AH2: Weekly: The number of people who saw your Page posts in news feed or ticker, or on your Page's timeline. (Unique Users) | AI2: 28 Days: The number of people who saw your Page posts in news feed or ticker, or on your Page's timeline. (Unique Users) | AJ2: Daily: The number of people who saw your Page posts in an ad or sponsored story. (Unique Users) | AK2: Weekly: The number of people who saw your Page posts in an ad or sponsored story. (Unique Users) | AL2: 28 Days: The number of people who saw your Page posts in an ad or sponsored story. (Unique Users) | AM2: Daily: The number of impressions that came from all of your posts. (Total Count) | AN2: Weekly: The number of impressions that came from all of your posts. (Total Count) | AO2: 28 Days: The number of impressions that came from all of your posts. (Total Count) | AP2: Daily: The number of impressions of your posts in News Feed or ticker or on your Page. (Total Count) | AQ2: Weekly: The number of impressions of your posts in News Feed or ticker or on your Page. (Total Count) | AR2: 28 Days: The number of impressions of your posts in News Feed or ticker or on your Page. (Total Count) | AS2: Daily: The number of impressions of your Page posts in an Ad or Sponsored Story. (Total Count) | AT2: Weekly: The number of impressions of your Page posts in an Ad or Sponsored Story. (Total Count) | AU2: 28 Days: The number of impressions of your Page posts in an Ad or Sponsored Story. (Total Count) | AV2: Daily: The number of people who clicked on any of your content. Stories that are created without clicking on Page content (ex, liking the Page from timeline) are not included. (Unique Users) | AW2: Weekly: The number of people who clicked on any of your content. Stories that are created without clicking on Page content (ex, liking the Page from timeline) are not included. (Unique Users) | AX2: 28 Days: The number of people who clicked on any of your content. Stories that are created without clicking on Page content (ex, liking the Page from timeline) are not included. (Unique Users) | AY2: Daily: The number of clicks on any of your content. Stories generated without clicks on page content (e.g., liking the page in Timeline) are not included. (Total Count) | AZ2: Weekly: The number of clicks on any of your content. Stories generated without clicks on page content (e.g., liking the page in Timeline) are not included. (Total Count) | BA2: 28 Days: The number of clicks on any of your content. Stories generated without clicks on page content (e.g., liking the page in Timeline) are not included. (Total Count) | BB2: Daily: The number of people who have given negative feedback to your Page. (Unique Users) | BC2: Weekly: The number of people who have given negative feedback to your Page. (Unique Users) | BD2: 28 Days: The number of people who have given negative feedback to your Page. (Unique Users) | BE2: Daily: The number of times people have given negative feedback to your Page. (Total Count) | BF2: Weekly: The number of times people have given negative feedback to your Page. (Total Count) | BG2: 28 Days: The number of times people have given negative feedback to your Page. (Total Count) | BH2: Daily: Total check-ins at your Place (Total Count) | BI2: Weekly: Total check-ins at your Place (Total Count) | BJ2: 28 Days: Total check-ins at your Place (Total Count) | BK2: Daily: Total check-ins at your Place (Unique Users) | BL2: Weekly: Total check-ins at your Place (Unique Users) | BM2: 28 Days: Total check-ins at your Place (Unique Users) | BN2: Daily: Total check-ins at your Place using mobile devices (Total Count) | BO2: Weekly: Total check-ins at your Place using mobile devices (Total Count) | BP2: 28 Days: Total check-ins at your Place using mobile devices (Total Count) | BQ2: Daily: Total check-ins at your Place using mobile devices (Unique Users) | BR2: Weekly: Total check-ins at your Place using mobile devices (Unique Users) | BS2: 28 Days: Total check-ins at your Place using mobile devices (Unique Users) | BT2: Daily: The number of people who liked your Page and who were online on the specified day. (Unique Users) | BU2: Daily: Total number of times videos has been viewed for more than 3 seconds. (Total Count) | BV2: Weekly: Total number of times videos has been viewed for more than 3 seconds. (Total Count) | BW2: 28 Days: Total number of times videos has been viewed for more than 3 seconds. (Total Count) | BX2: Daily: Number of time the video has been views by organic reach (Total Count) | BY2: Weekly: Number of time the video has been views by organic reach (Total Count) | BZ2: 28 Days: Number of time the video has been views by organic reach (Total Count) | CA2: Daily: Total number of times a promoted video has been viewed for more than 3 seconds (Total Count) | CB2: Weekly: Total number of times a promoted video has been viewed for more than 3 seconds (Total Count) | CC2: 28 Days: Total number of times a promoted video has been viewed for more than 3 seconds (Total Count) | CD2: Daily: Total number of times an autoplayed video has been viewed for more than 3 seconds (Total Count) | CE2: Weekly: Total number of times an autoplayed video has been viewed for more than 3 seconds (Total Count) | CF2: 28 Days: Total number of times an autoplayed video has been viewed for more than 3 seconds (Total Count) | CG2: Daily: Number of time the video has been viewed after the user clicked on play (Total Count) | CH2: Weekly: Number of time the video has been viewed after the user clicked on play (Total Count) | CI2: 28 Days: Number of time the video has been viewed after the user clicked on play (Total Count) | CJ2: Daily: Number of time the video has been seen when it is not the first play (Total Count) | CK2: Weekly: Number of time the video has been seen when it is not the first play (Total Count) | CL2: 28 Days: Number of time the video has been seen when it is not the first play (Total Count) | CM2: Daily: Metric showing video played for unique people for more than 3 seconds aggregated at the page level (Unique Users) | CN2: Weekly: Metric showing video played for unique people for more than 3 seconds aggregated at the page level (Unique Users) | CO2: 28 Days: Metric showing video played for unique people for more than 3 seconds aggregated at the page level (Unique Users) | CP2: Daily: Total number of times page's videos was viewed for 30 seconds or viewed to the end, whichever came first. (Total Count) | CQ2: Weekly: Total number of times page's videos was viewed for 30 seconds or viewed to the end, whichever came first. (Total Count) | CR2: 28 Days: Total number of times page's videos was viewed for 30 seconds or viewed to the end, whichever came first. (Total Count) | CS2: Daily: Number of time the video has been viewed for 30s or to the end by organic reach (Total Count) | CT2: Weekly: Number of time the video has been viewed for 30s or to the end by organic reach (Total Count) | CU2: 28 Days: Number of time the video has been viewed for 30s or to the end by organic reach (Total Count) | CV2: Daily: Number of times page's videos was viewed for 30 seconds or viewed to the end, whichever came first, after a paid promotion. (Total Count) | CW2: Weekly: Number of times page's videos was viewed for 30 seconds or viewed to the end, whichever came first, after a paid promotion. (Total Count) | CX2: 28 Days: Number of times page's videos was viewed for 30 seconds or viewed to the end, whichever came first, after a paid promotion. (Total Count) | CY2: Daily: Number of times your page's videos started automatically playing and people viewed it for 30 seconds or to the end, whichever came first. (Total Count) | CZ2: Weekly: Number of times your page's videos started automatically playing and people viewed it for 30 seconds or to the end, whichever came first. (Total Count) | DA2: 28 Days: Number of times your page's videos started automatically playing and people viewed it for 30 seconds or to the end, whichever came first. (Total Count) | DB2: Daily: Number of time the video has been viewed for 30s or to the end after the user clicked on play (Total Count) | DC2: Weekly: Number of time the video has been viewed for 30s or to the end after the user clicked on play (Total Count) | DD2: 28 Days: Number of time the video has been viewed for 30s or to the end after the user clicked on play (Total Count) | DE2: Daily: Number of time the video has been seen for 30s or to the end whenit is not the first play (Total Count) | DF2: Weekly: Number of time the video has been seen for 30s or to the end whenit is not the first play (Total Count) | DG2: 28 Days: Number of time the video has been seen for 30s or to the end whenit is not the first play (Total Count) | DH2: Daily: Metric showing video played for unique people for 30 seconds or to the end aggregated at the page level (Unique Users) | DI2: Weekly: Metric showing video played for unique people for 30 seconds or to the end aggregated at the page level (Unique Users) | DJ2: 28 Days: Metric showing video played for unique people for 30 seconds or to the end aggregated at the page level (Unique Users) | DK2: Daily: The number of people sharing stories about your page. These stories include liking your Page, posting to your Page's timeline, liking, commenting on or sharing one of your Page posts, answering a question you posted, responding to one of your events, mentioning your Page, tagging your Page in a photo or checking in at your location. (Unique Users) | DL2: Weekly: The number of people sharing stories about your page. These stories include liking your Page, posting to your Page's timeline, liking, commenting on or sharing one of your Page posts, answering a question you posted, responding to one of your events, mentioning your Page, tagging your Page in a photo or checking in at your location. (Unique Users) | DM2: 28 Days: The number of people sharing stories about your page. These stories include liking your Page, posting to your Page's timeline, liking, commenting on or sharing one of your Page posts, answering a question you posted, responding to one of your events, mentioning your Page, tagging your Page in a photo or checking in at your location. (Unique Users) | DN2: Daily: Total get direction click count per Page | DO2: Weekly: Total get direction click count per Page | DP2: Daily: Total get direction click count per Page (Unique Users) | DQ2: Weekly: Total get direction click count per Page (Unique Users) | DR2: Daily: Total phone calls click count per Page | DS2: Weekly: Total phone calls click count per Page | DT2: Daily: Total phone calls click count per Page (Unique Users) | DU2: Weekly: Total phone calls click count per Page (Unique Users) | DV2: Daily: Total website click count per Page | DW2: Weekly: Total website click count per Page | DX2: Daily: Total website click count per Page (Unique Users) | DY2: Weekly: Total website click count per Page (Unique Users) | DZ2: Daily: Total CTA click count per Page | EA2: Weekly: Total CTA click count per Page | EB2: Daily: Total CTA click count per Page (Unique Users) | EC2: Weekly: Total CTA click count per Page (Unique Users)
A3: 42614 | B3: 100201 | C3: 66 | D3: 13 | E3: 2110 | F3: 12363 | G3: 1557674 | H3: 669224 | I3: 3563860 | J3: 5833353 | K3: 18024 | L3: 65171 | M3: 102650 | N3: 651200 | O3: 3498689 | P3: 5730703 | Q3: 737961 | R3: 4366223 | S3: 16737748 | T3: 23258 | U3: 178975 | V3: 488298 | W3: 714703 | X3: 4187248 | Y3: 16249450 | Z3: 79 | AA3: 752 | AB3: 53 | AC3: 464 | AD3: 668646 | AE3: 3563860 | AF3: 5830607 | AG3: 17446 | AH3: 65171 | AI3: 99904 | AJ3: 651200 | AK3: 3498689 | AL3: 5730703 | AM3: 737282 | AN3: 4361339 | AO3: 16718314 | AP3: 22579 | AQ3: 174091 | AR3: 468864 | AS3: 714703 | AT3: 4187248 | AU3: 16249450 | AV3: 1597 | AW3: 8866 | AX3: 1553790 | AY3: 1782 | AZ3: 12769 | BA3: 4380888 | BB3: 5 | BC3: 44 | BD3: 130 | BE3: 5 | BF3: 53 | BG3: 156 | BH3: 0 | BI3: 0 | BJ3: 0 | BK3: 0 | BL3: 0 | BM3: 0 | BN3: 0 | BO3: 0 | BP3: 0 | BQ3: 0 | BR3: 0 | BS3: 0 | BT3: 80746 | BU3: 119782 | BV3: 711244 | BW3: 2399129 | BX3: 4432 | BY3: 25586 | BZ3: 110021 | CA3: 115350 | CB3: 685658 | CC3: 2289108 | CD3: 119334 | CE3: 709245 | CF3: 1914590 | CG3: 448 | CH3: 1999 | CI3: 484539 | CJ3: 4118 | CK3: 71754 | CL3: 708711 | CM3: 115664 | CN3: 639490 | CO3: 1690418 | CP3: 24898 | CQ3: 70726 | CR3: 318134 | CS3: 993 | CT3: 3398 | CU3: 16889 | CV3: 23905 | CW3: 67328 | CX3: 301245 | CY3: 24638 | CZ3: 70012 | DA3: 201430 | DB3: 260 | DC3: 714 | DD3: 116704 | DE3: 275 | DF3: 1019 | DG3: 17006 | DH3: 24623 | DI3: 69707 | DJ3: 301128 | DK3: 726 | DL3: 5121 | DM3: 14937 | DN3: 0 | DO3: 0 | DP3: 0 | DQ3: 0 | DR3: 0 | DS3: 0 | DT3: 0 | DU3: 0 | DV3: 0 | DW3: 1 | DX3: 0 | DY3: 1 | DZ3: 0 | EA3: 14 | EB3: 0 | EC3: 12
A4: 42615 | B4: 100257 | C4: 68 | D4: 11 | E4: 2141 | F4: 12803 | G4: 1563573 | H4: 1023828 | I4: 3826613 | J4: 6159746 | K4: 13983 | L4: 70910 | M4: 109916 | N4: 1009845 | O4: 3755703 | P4: 6049830 | Q4: 1144435 | R4: 5348737 | S4: 17860794 | T4: 22450 | U4: 161588 | V4: 502508 | W4: 1121985 | X4: 5187149 | Y4: 17358286 | Z4: 71 | AA4: 627 | AB4: 44 | AC4: 387 | AD4: 1021800 | AE4: 3826613 | AF4: 6156684 | AG4: 11955 | AH4: 70910 | AI4: 106854 | AJ4: 1009845 | AK4: 3755703 | AL4: 6049830 | AM4: 1143516 | AN4: 5343493 | AO4: 17840580 | AP4: 21531 | AQ4: 156344 | AR4: 482294 | AS4: 1121985 | AT4: 5187149 | AU4: 17358286 | AV4: 1679 | AW4: 9388 | AX4: 1559267 | AY4: 1935 | AZ4: 12458 | BA4: 4382617 | BB4: 1 | BC4: 31 | BD4: 124 | BE4: 3 | BF4: 37 | BG4: 148 | BH4: 0 | BI4: 0 | BJ4: 0 | BK4: 0 | BL4: 0 | BM4: 0 | BN4: 0 | BO4: 0 | BP4: 0 | BQ4: 0 | BR4: 0 | BS4: 0 | BT4: 80682 | BU4: 159732 | BV4: 857119 | BW4: 2558796 | BX4: 3845 | BY4: 28440 | BZ4: 113801 | CA4: 155887 | CB4: 828679 | CC4: 2444995 | CD4: 159355 | CE4: 854833 | CF4: 2073897 | CG4: 377 | CH4: 2286 | CI4: 484899 | CJ4: 0 | CK4: 85896 | CL4: 742799 | CM4: 160738 | CN4: 771223 | CO4: 1815997 | CP4: 22128 | CQ4: 91555 | CR4: 340240 | CS4: 726 | CT4: 3989 | CU4: 17593 | CV4: 21402 | CW4: 87566 | CX4: 322647 | CY4: 21955 | CZ4: 90688 | DA4: 223370 | DB4: 173 | DC4: 867 | DD4: 116870 | DE4: 0 | DF4: 0 | DG4: 17989 | DH4: 22428 | DI4: 91935 | DJ4: 322251 | DK4: 584 | DL4: 4523 | DM4: 15255 | DN4: 0 | DO4: 0 | DP4: 0 | DQ4: 0 | DR4: 0 | DS4: 0 | DT4: 0 | DU4: 0 | DV4: 1 | DW4: 2 | DX4: 1 | DY4: 2 | DZ4: 1 | EA4: 15 | EB4: 1 | EC4: 13
A5: 42616 | B5: 100295 | C5: 59 | D5: 10 | E5: 2264 | F5: 13748 | G5: 1566738 | H5: 944252 | I5: 3957089 | J5: 6327562 | K5: 9928 | L5: 77167 | M5: 126816 | N5: 934324 | O5: 3879922 | P5: 6200746 | Q5: 1074684 | R5: 6243707 | S5: 18901185 | T5: 23513 | U5: 158174 | V5: 521440 | W5: 1051171 | X5: 6085533 | Y5: 18379745 | Z5: 24 | AA5: 563 | AB5: 18 | AC5: 345 | AD5: 944252 | AE5: 3957089 | AF5: 6324331 | AG5: 9928 | AH5: 77167 | AI5: 123585 | AJ5: 934324 | AK5: 3879922 | AL5: 6200746 | AM5: 1074008 | AN5: 6238285 | AO5: 18880428 | AP5: 22837 | AQ5: 152752 | AR5: 500683 | AS5: 1051171 | AT5: 6085533 | AU5: 18379745 | AV5: 1833 | AW5: 10587 | AX5: 1562414 | AY5: 2275 | AZ5: 13328 | BA5: 4384743 | BB5: 4 | BC5: 27 | BD5: 128 | BE5: 5 | BF5: 31 | BG5: 153 | BH5: 0 | BI5: 0 | BJ5: 0 | BK5: 0 | BL5: 0 | BM5: 0 | BN5: 0 | BO5: 0 | BP5: 0 | BQ5: 0 | BR5: 0 | BS5: 0 | BT5: 79864 | BU5: 154388 | BV5: 996661 | BW5: 2713143 | BX5: 3432 | BY5: 30969 | BZ5: 117192 | CA5: 150956 | CB5: 965692 | CC5: 2595951 | CD5: 153933 | CE5: 994032 | CF5: 2227796 | CG5: 455 | CH5: 2629 | CI5: 485347 | CJ5: 2509 | CK5: 103670 | CL5: 795288 | CM5: 151879 | CN5: 892991 | CO5: 1917855 | CP5: 22252 | CQ5: 112538 | CR5: 362487 | CS5: 621 | CT5: 4500 | CU5: 18209 | CV5: 21631 | CW5: 108038 | CX5: 344278 | CY5: 22076 | CZ5: 111519 | DA5: 245445 | DB5: 176 | DC5: 1019 | DD5: 117042 | DE5: 158 | DF5: 505 | DG5: 15941 | DH5: 22094 | DI5: 112033 | DJ5: 346546 | DK5: 540 | DL5: 4105 | DM5: 15625 | DN5: 0 | DO5: 0 | DP5: 0 | DQ5: 0 | DR5: 0 | DS5: 0 | DT5: 0 | DU5: 0 | DV5: 0 | DW5: 2 | DX5: 0 | DY5: 2 | DZ5: 0 | EA5: 15 | EB5: 0 | EC5: 13
A6: 42617 | B6: 100382 | C6: 57 | D6: 15 | E6: 2363 | F6: 12119 | G6: 1566738 | H6: 983937 | I6: 3337800 | J6: 6508550 | K6: 28792 | L6: 65804 | M6: 132867 | N6: 955145 | O6: 3271996 | P6: 6375683 | Q6: 1092307 | R6: 5816219 | S6: 19964841 | T6: 29343 | U6: 162995 | V6: 549080 | W6: 1062964 | X6: 5653224 | Y6: 19415761 | Z6: 23 | AA6: 456 | AB6: 18 | AC6: 263 | AD6: 983937 | AE6: 3337800 | AF6: 6505131 | AG6: 28792 | AH6: 65804 | AI6: 129448 | AJ6: 955145 | AK6: 3271996 | AL6: 6375683 | AM6: 1091407 | AN6: 5811114 | AO6: 19943280 | AP6: 28443 | AQ6: 157890 | AR6: 527519 | AS6: 1062964 | AT6: 5653224 | AU6: 19415761 | AV6: 1972 | AW6: 9869 | AX6: 1562414 | AY6: 2180 | AZ6: 11888 | BA6: 4386831 | BB6: 1 | BC6: 21 | BD6: 127 | BE6: 2 | BF6: 25 | BG6: 153 | BH6: 0 | BI6: 0 | BJ6: 0 | BK6: 0 | BL6: 0 | BM6: 0 | BN6: 0 | BO6: 0 | BP6: 0 | BQ6: 0 | BR6: 0 | BS6: 0 | BT6: 80903 | BU6: 151438 | BV6: 896758 | BW6: 2864479 | BX6: 3374 | BY6: 27816 | BZ6: 120464 | CA6: 148064 | CB6: 868942 | CC6: 2744015 | CD6: 150995 | CE6: 894321 | CF6: 2378739 | CG6: 443 | CH6: 2437 | CI6: 485740 | CJ6: 161 | CK6: 73348 | CL6: 837120 | CM6: 151277 | CN6: 823410 | CO6: 2027359 | CP6: 18659 | CQ6: 112464 | CR6: 381120 | CS6: 629 | CT6: 4526 | CU6: 18812 | CV6: 18030 | CW6: 107938 | CX6: 362308 | CY6: 18527 | CZ6: 111503 | DA6: 263964 | DB6: 132 | DC6: 961 | DD6: 117156 | DE6: 0 | DF6: 0 | DG6: 17411 | DH6: 19028 | DI6: 112672 | DJ6: 363709 | DK6: 465 | DL6: 3131 | DM6: 16087 | DN6: 0 | DO6: 0 | DP6: 0 | DQ6: 0 | DR6: 0 | DS6: 0 | DT6: 0 | DU6: 0 | DV6: 0 | DW6: 2 | DX6: 0 | DY6: 2 | DZ6: 2 | EA6: 14 | EB6: 2 | EC6: 11
A7: 42618 | B7: 100395 | C7: 33 | D7: 23 | E7: 1877 | F7: 11809 | G7: 1532118 | H7: 803471 | I7: 2978679 | J7: 6610568 | K7: 14742 | L7: 66108 | M7: 141669 | N7: 788729 | O7: 2912571 | P7: 6468899 | Q7: 860482 | R7: 5681573 | S7: 20462201 | T7: 27287 | U7: 164715 | V7: 555889 | W7: 833195 | X7: 5516858 | Y7: 19906312 | Z7: 81 | AA7: 418 | AB7: 53 | AC7: 234 | AD7: 803471 | AE7: 2978679 | AF7: 6607042 | AG7: 14742 | AH7: 66108 | AI7: 138143 | AJ7: 788729 | AK7: 2912571 | AL7: 6468899 | AM7: 859680 | AN7: 5676765 | AO7: 20440352 | AP7: 26485 | AQ7: 159907 | AR7: 534040 | AS7: 833195 | AT7: 5516858 | AU7: 19906312 | AV7: 1368 | AW7: 9361 | AX7: 1527983 | AY7: 1515 | AZ7: 11315 | BA7: 4160623 | BB7: 5 | BC7: 22 | BD7: 130 | BE7: 5 | BF7: 26 | BG7: 155 | BH7: 0 | BI7: 0 | BJ7: 0 | BK7: 0 | BL7: 0 | BM7: 0 | BN7: 0 | BO7: 0 | BP7: 0 | BQ7: 0 | BR7: 0 | BS7: 0 | BT7: 80868 | BU7: 108317 | BV7: 850093 | BW7: 2935358 | BX7: 2270 | BY7: 23990 | BZ7: 120694 | CA7: 106047 | CB7: 826103 | CC7: 2814664 | CD7: 108092 | CE7: 847854 | CF7: 2477213 | CG7: 225 | CH7: 2239 | CI7: 458145 | CJ7: 4593 | CK7: 57302 | CL7: 864320 | CM7: 103724 | CN7: 792791 | CO7: 2071038 | CP7: 12014 | CQ7: 113360 | CR7: 383858 | CS7: 358 | CT7: 4352 | CU7: 18691 | CV7: 11656 | CW7: 109008 | CX7: 365167 | CY7: 11937 | CZ7: 112445 | DA7: 273879 | DB7: 77 | DC7: 915 | DD7: 109979 | DE7: 297 | DF7: 0 | DG7: 9889 | DH7: 11717 | DI7: 115562 | DJ7: 373969 | DK7: 592 | DL7: 3197 | DM7: 15759 | DN7: 0 | DO7: 0 | DP7: 0 | DQ7: 0 | DR7: 0 | DS7: 0 | DT7: 0 | DU7: 0 | DV7: 0 | DW7: 2 | DX7: 0 | DY7: 2 | DZ7: 0 | EA7: 8 | EB7: 0 | EC7: 5
A8: 42619 | B8: 100444 | C8: 28 | D8: 13 | E8: 1980 | F8: 12588 | G8: 1500017 | H8: 845899 | I8: 2919531 | J8: 6694142 | K8: 11504 | L8: 71663 | M8: 143937 | N8: 834395 | O8: 2847868 | P8: 6550205 | Q8: 893969 | R8: 6105711 | S8: 20909670 | T8: 21502 | U8: 174890 | V8: 560005 | W8: 872467 | X8: 5930821 | Y8: 20349665 | Z8: 70 | AA8: 416 | AB8: 48 | AC8: 233 | AD8: 845899 | AE8: 2919531 | AF8: 6690526 | AG8: 11504 | AH8: 71663 | AI8: 140321 | AJ8: 834395 | AK8: 2847868 | AL8: 6550205 | AM8: 893304 | AN8: 6100715 | AO8: 20887878 | AP8: 20837 | AQ8: 169894 | AR8: 538213 | AS8: 872467 | AT8: 5930821 | AU8: 20349665 | AV8: 1316 | AW8: 9724 | AX8: 1496053 | AY8: 1510 | AZ8: 11969 | BA8: 3903614 | BB8: 5 | BC8: 24 | BD8: 131 | BE8: 5 | BF8: 28 | BG8: 157 | BH8: 0 | BI8: 0 | BJ8: 0 | BK8: 0 | BL8: 0 | BM8: 0 | BN8: 0 | BO8: 0 | BP8: 0 | BQ8: 0 | BR8: 0 | BS8: 0 | BT8: 80949 | BU8: 106271 | BV8: 862416 | BW8: 2993464 | BX8: 2051 | BY8: 22966 | BZ8: 119870 | CA8: 104220 | CB8: 839450 | CC8: 2873594 | CD8: 106085 | CE8: 860141 | CF8: 2566199 | CG8: 186 | CH8: 2275 | CI8: 427265 | CJ8: 0 | CK8: 54782 | CL8: 831669 | CM8: 107690 | CN8: 807634 | CO8: 2161795 | CP8: 11243 | CQ8: 116645 | CR8: 383838 | CS8: 277 | CT8: 4306 | CU8: 18345 | CV8: 10966 | CW8: 112339 | CX8: 365493 | CY8: 11180 | CZ8: 115704 | DA8: 281565 | DB8: 63 | DC8: 941 | DD8: 102273 | DE8: 0 | DF8: 0 | DG8: 5122 | DH8: 11328 | DI8: 118210 | DJ8: 378716 | DK8: 681 | DL8: 3618 | DM8: 15326 | DN8: 0 | DO8: 0 | DP8: 0 | DQ8: 0 | DR8: 0 | DS8: 0 | DT8: 0 | DU8: 0 | DV8: 0 | DW8: 2 | DX8: 0 | DY8: 2 | DZ8: 1 | EA8: 6 | EB8: 1 | EC8: 5
A9: 42620 | B9: 100501 | C9: 51 | D9: 28 | E9: 2609 | F9: 14468 | G9: 1454972 | H9: 810360 | I9: 2963076 | J9: 6800388 | K9: 23577 | L9: 78794 | M9: 141786 | N9: 786783 | O9: 2884282 | P9: 6658602 | Q9: 913420 | R9: 6717258 | S9: 21384090 | T9: 48055 | U9: 195408 | V9: 593630 | W9: 865365 | X9: 6521850 | Y9: 20790460 | Z9: 62 | AA9: 410 | AB9: 40 | AC9: 231 | AD9: 810360 | AE9: 2963076 | AF9: 6796656 | AG9: 23577 | AH9: 78794 | AI9: 138054 | AJ9: 786783 | AK9: 2884282 | AL9: 6658602 | AM9: 912732 | AN9: 6711929 | AO9: 21362318 | AP9: 47367 | AQ9: 190079 | AR9: 571858 | AS9: 865365 | AT9: 6521850 | AU9: 20790460 | AV9: 1890 | AW9: 11033 | AX9: 1451242 | AY9: 2246 | AZ9: 13443 | BA9: 3647968 | BB9: 5 | BC9: 26 | BD9: 130 | BE9: 5 | BF9: 30 | BG9: 155 | BH9: 0 | BI9: 0 | BJ9: 0 | BK9: 0 | BL9: 0 | BM9: 0 | BN9: 0 | BO9: 0 | BP9: 0 | BQ9: 0 | BR9: 0 | BS9: 0 | BT9: 81041 | BU9: 126305 | BV9: 926233 | BW9: 3065591 | BX9: 5640 | BY9: 25044 | BZ9: 121964 | CA9: 120665 | CB9: 901189 | CC9: 2943627 | CD9: 125895 | CE9: 923689 | CF9: 2668244 | CG9: 410 | CH9: 2544 | CI9: 397347 | CJ9: 4741 | CK9: 75091 | CL9: 836028 | CM9: 121564 | CN9: 851142 | CO9: 2229563 | CP9: 21543 | CQ9: 132737 | CR9: 393512 | CS9: 1510 | CT9: 5114 | CU9: 19111 | CV9: 20033 | CW9: 127623 | CX9: 374401 | CY9: 21309 | CZ9: 131622 | DA9: 298321 | DB9: 234 | DC9: 1115 | DD9: 95191 | DE9: 0 | DF9: 439 | DG9: 9761 | DH9: 21578 | DI9: 132298 | DJ9: 383751 | DK9: 825 | DL9: 4267 | DM9: 15488 | DN9: 0 | DO9: 0 | DP9: 0 | DQ9: 0 | DR9: 0 | DS9: 0 | DT9: 0 | DU9: 0 | DV9: 0 | DW9: 1 | DX9: 0 | DY9: 1 | DZ9: 2 | EA9: 6 | EB9: 2 | EC9: 6
A10: 42621 | B10: 100586 | C10: 72 | D10: 16 | E10: 2531 | F10: 15003 | G10: 1415262 | H10: 940589 | I10: 2886120 | J10: 6859442 | K10: 15250 | L10: 82918 | M10: 153322 | N10: 925339 | O10: 2803202 | P10: 6706120 | Q10: 988521 | R10: 6967818 | S10: 21927660 | T10: 31459 | U10: 203609 | V10: 617260 | W10: 957062 | X10: 6764209 | Y10: 21310400 | Z10: 81 | AA10: 412 | AB10: 47 | AC10: 227 | AD10: 940589 | AE10: 2886120 | AF10: 6855645 | AG10: 15250 | AH10: 82918 | AI10: 149525 | AJ10: 925339 | AK10: 2803202 | AL10: 6706120 | AM10: 987504 | AN10: 6962151 | AO10: 21905481 | AP10: 30442 | AQ10: 197942 | AR10: 595081 | AS10: 957062 | AT10: 6764209 | AU10: 21310400 | AV10: 2033 | AW10: 11537 | AX10: 1411089 | AY10: 2424 | AZ10: 14085 | BA10: 3407512 | BB10: 2 | BC10: 23 | BD10: 127 | BE10: 2 | BF10: 27 | BG10: 152 | BH10: 0 | BI10: 0 | BJ10: 0 | BK10: 0 | BL10: 0 | BM10: 0 | BN10: 0 | BO10: 0 | BP10: 0 | BQ10: 0 | BR10: 0 | BS10: 0 | BT10: 81066 | BU10: 140830 | BV10: 947281 | BW10: 3154530 | BX10: 4390 | BY10: 25002 | BZ10: 123240 | CA10: 136440 | CB10: 922279 | CC10: 3031290 | CD10: 140236 | CE10: 944591 | CF10: 2784476 | CG10: 594 | CH10: 2690 | CI10: 370054 | CJ10: 4098 | CK10: 75275 | CL10: 822948 | CM10: 136732 | CN10: 872006 | CO10: 2331582 | CP10: 24916 | CQ10: 132755 | CR10: 407227 | CS10: 1117 | CT10: 5238 | CU10: 19624 | CV10: 23799 | CW10: 127517 | CX10: 387603 | CY10: 24551 | CZ10: 131535 | DA10: 318254 | DB10: 365 | DC10: 1220 | DD10: 88973 | DE10: 393 | DF10: 1033 | DG10: 15109 | DH10: 24523 | DI10: 131722 | DJ10: 392118 | DK10: 607 | DL10: 4243 | DM10: 15749 | DN10: 0 | DO10: 0 | DP10: 0 | DQ10: 0 | DR10: 0 | DS10: 0 | DT10: 0 | DU10: 0 | DV10: 0 | DW10: 1 | DX10: 0 | DY10: 1 | DZ10: 0 | EA10: 6 | EB10: 0 | EC10: 6
A11: 42622 | B11: 100657 | C11: 63 | D11: 14 | E11: 2761 | F11: 15826 | G11: 1349953 | H11: 588256 | I11: 2823471 | J11: 6891647 | K11: 17005 | L11: 79407 | M11: 154749 | N11: 571251 | O11: 2744064 | P11: 6736898 | Q11: 613885 | R11: 6437268 | S11: 22068540 | T11: 26708 | U11: 207867 | V11: 638963 | W11: 587177 | X11: 6229401 | Y11: 21429577 | Z11: 55 | AA11: 396 | AB11: 36 | AC11: 220 | AD11: 588256 | AE11: 2823471 | AF11: 6887814 | AG11: 17005 | AH11: 79407 | AI11: 150916 | AJ11: 571251 | AK11: 2744064 | AL11: 6736898 | AM11: 612921 | AN11: 6431556 | AO11: 22045929 | AP11: 25744 | AQ11: 202155 | AR11: 616352 | AS11: 587177 | AT11: 6229401 | AU11: 21429577 | AV11: 1410 | AW11: 11435 | AX11: 1344987 | AY11: 1991 | AZ11: 14141 | BA11: 3135040 | BB11: 8 | BC11: 30 | BD11: 132 | BE11: 8 | BF11: 32 | BG11: 158 | BH11: 0 | BI11: 0 | BJ11: 0 | BK11: 0 | BL11: 0 | BM11: 0 | BN11: 0 | BO11: 0 | BP11: 0 | BQ11: 0 | BR11: 0 | BS11: 0 | BT11: 80926 | BU11: 85008 | BV11: 872557 | BW11: 3186585 | BX11: 2674 | BY11: 23831 | BZ11: 122985 | CA11: 82334 | CB11: 848726 | CC11: 3063600 | CD11: 84698 | CE11: 869934 | CF11: 2846833 | CG11: 310 | CH11: 2623 | CI11: 339752 | CJ11: 1341 | CK11: 81402 | CL11: 834747 | CM11: 83667 | CN11: 791155 | CO11: 2351838 | CP11: 19131 | CQ11: 129758 | CR11: 414992 | CS11: 632 | CT11: 5144 | CU11: 19654 | CV11: 18499 | CW11: 124614 | CX11: 395338 | CY11: 18928 | CZ11: 128508 | DA11: 333009 | DB11: 203 | DC11: 1250 | DD11: 81983 | DE11: 0 | DF11: 5800 | DG11: 21165 | DH11: 19169 | DI11: 123958 | DJ11: 393827 | DK11: 1491 | DL11: 4980 | DM11: 16304 | DN11: 0 | DO11: 0 | DP11: 0 | DQ11: 0 | DR11: 0 | DS11: 0 | DT11: 0 | DU11: 0 | DV11: 0 | DW11: 0 | DX11: 0 | DY11: 0 | DZ11: 1 | EA11: 6 | EB11: 1 | EC11: 6
A12: 42623 | B12: 100750 | C12: 88 | D12: 13 | E12: 3678 | F12: 16978 | G12: 1288559 | H12: 519461 | I12: 2723170 | J12: 6849603 | K12: 17417 | L12: 70322 | M12: 160574 | N12: 502044 | O12: 2652848 | P12: 6689029 | Q12: 586983 | R12: 5949567 | S12: 22194613 | T12: 28035 | U12: 212389 | V12: 653848 | W12: 558948 | X12: 5737178 | Y12: 21540765 | Z12: 41 | AA12: 413 | AB12: 35 | AC12: 234 | AD12: 519270 | AE12: 2722721 | AF12: 6842980 | AG12: 17226 | AH12: 69873 | AI12: 153951 | AJ12: 502044 | AK12: 2652848 | AL12: 6689029 | AM12: 585717 | AN12: 5943265 | AO12: 22171300 | AP12: 26769 | AQ12: 206087 | AR12: 630535 | AS12: 558948 | AT12: 5737178 | AU12: 21540765 | AV12: 2222 | AW12: 11769 | AX12: 1284034 | AY12: 2989 | AZ12: 14855 | BA12: 2867341 | BB12: 5 | BC12: 28 | BD12: 128 | BE12: 5 | BF12: 32 | BG12: 154 | BH12: 0 | BI12: 0 | BJ12: 0 | BK12: 0 | BL12: 0 | BM12: 0 | BN12: 0 | BO12: 0 | BP12: 0 | BQ12: 0 | BR12: 0 | BS12: 0 | BT12: 80247 | BU12: 76333 | BV12: 794502 | BW12: 3213726 | BX12: 2807 | BY12: 23206 | BZ12: 123051 | CA12: 73526 | CB12: 771296 | CC12: 3090675 | CD12: 75694 | CE12: 791695 | CF12: 2903344 | CG12: 639 | CH12: 2807 | CI12: 310382 | CJ12: 831 | CK12: 69782 | CL12: 887563 | CM12: 75502 | CN12: 724720 | CO12: 2326163 | CP12: 23815 | CQ12: 131321 | CR12: 428155 | CS12: 822 | CT12: 5345 | CU12: 19908 | CV12: 22993 | CW12: 125976 | CX12: 408247 | CY12: 23381 | CZ12: 129813 | DA12: 352780 | DB12: 434 | DC12: 1508 | DD12: 75375 | DE12: 0 | DF12: 4398 | DG12: 27222 | DH12: 24117 | DI12: 126923 | DJ12: 400933 | DK12: 1787 | DL12: 6012 | DM12: 17107 | DN12: 0 | DO12: 0 | DP12: 0 | DQ12: 0 | DR12: 0 | DS12: 0 | DT12: 0 | DU12: 0 | DV12: 0 | DW12: 0 | DX12: 0 | DY12: 0 | DZ12: 1 | EA12: 7 | EB12: 1 | EC12: 7
A13: 42624 | B13: 100852 | C13: 83 | D13: 21 | E13: 3235 | F13: 17635 | G13: 1212945 | H13: 523900 | I13: 2576521 | J13: 6842242 | K13: 21115 | L13: 60934 | M13: 178434 | N13: 502785 | O13: 2515587 | P13: 6663808 | Q13: 542535 | R13: 5399795 | S13: 22206992 | T13: 24479 | U13: 207525 | V13: 670438 | W13: 518056 | X13: 5192270 | Y13: 21536554 | Z13: 69 | AA13: 459 | AB13: 38 | AC13: 255 | AD13: 516359 | AE13: 2573978 | AF13: 6835633 | AG13: 13574 | AH13: 58391 | AI13: 171825 | AJ13: 502785 | AK13: 2515587 | AL13: 6663808 | AM13: 537073 | AN13: 5388931 | AO13: 22178913 | AP13: 19017 | AQ13: 196661 | AR13: 642359 | AS13: 518056 | AT13: 5192270 | AU13: 21536554 | AV13: 2127 | AW13: 12163 | AX13: 1208212 | AY13: 2836 | AZ13: 15511 | BA13: 2564467 | BB13: 2 | BC13: 29 | BD13: 126 | BE13: 2 | BF13: 32 | BG13: 151 | BH13: 0 | BI13: 0 | BJ13: 0 | BK13: 0 | BL13: 0 | BM13: 0 | BN13: 0 | BO13: 0 | BP13: 0 | BQ13: 0 | BR13: 0 | BS13: 0 | BT13: 81385 | BU13: 73586 | BV13: 716650 | BW13: 3230834 | BX13: 2550 | BY13: 22382 | BZ13: 122337 | CA13: 71036 | CB13: 694268 | CC13: 3108497 | CD13: 73038 | CE13: 713738 | CF13: 2953864 | CG13: 548 | CH13: 2912 | CI13: 276970 | CJ13: 4963 | CK13: 62901 | CL13: 919404 | CM13: 68623 | CN13: 653749 | CO13: 2311430 | CP13: 21889 | CQ13: 134551 | CR13: 437825 | CS13: 818 | CT13: 5534 | CU13: 20102 | CV13: 21071 | CW13: 129017 | CX13: 417723 | CY13: 21497 | CZ13: 132783 | DA13: 370016 | DB13: 392 | DC13: 1768 | DD13: 67809 | DE13: 730 | DF13: 4480 | DG13: 26002 | DH13: 21159 | DI13: 130071 | DJ13: 411823 | DK13: 1351 | DL13: 6737 | DM13: 17499 | DN13: 0 | DO13: 0 | DP13: 0 | DQ13: 0 | DR13: 0 | DS13: 0 | DT13: 0 | DU13: 0 | DV13: 0 | DW13: 0 | DX13: 0 | DY13: 0 | DZ13: 1 | EA13: 6 | EB13: 1 | EC13: 6
A14: 42625 | B14: 100974 | C14: 33 | D14: 12 | E14: 1855 | F14: 17857 | G14: 1129570 | H14: 283653 | I14: 2430353 | J14: 6840795 | K14: 34241 | L14: 61040 | M14: 200600 | N14: 249412 | O14: 2369313 | P14: 6640195 | Q14: 312762 | R14: 4852075 | S14: 21944404 | T14: 56001 | U14: 236239 | V14: 708992 | W14: 256761 | X14: 4615836 | Y14: 21235412 | Z14: 52 | AA14: 430 | AB14: 35 | AC14: 238 | AD14: 279820 | AE14: 2426670 | AF14: 6832363 | AG14: 30408 | AH14: 57357 | AI14: 192168 | AJ14: 249412 | AK14: 2369313 | AL14: 6640195 | AM14: 308958 | AN14: 4838209 | AO14: 21913329 | AP14: 52197 | AQ14: 222373 | AR14: 677917 | AS14: 256761 | AT14: 4615836 | AU14: 21235412 | AV14: 1341 | AW14: 12236 | AX14: 1121388 | AY14: 1744 | AZ14: 15740 | BA14: 2224175 | BB14: 5 | BC14: 29 | BD14: 126 | BE14: 6 | BF14: 33 | BG14: 150 | BH14: 0 | BI14: 0 | BJ14: 0 | BK14: 0 | BL14: 0 | BM14: 0 | BN14: 0 | BO14: 0 | BP14: 0 | BQ14: 0 | BR14: 0 | BS14: 0 | BT14: 81535 | BU14: 47701 | BV14: 656034 | BW14: 3215542 | BX14: 6171 | BY14: 26283 | BZ14: 124864 | CA14: 41530 | CB14: 629751 | CC14: 3090678 | CD14: 47336 | CE14: 652982 | CF14: 2976524 | CG14: 365 | CH14: 3052 | CI14: 239018 | CJ14: 1238 | CK14: 74296 | CL14: 922832 | CM14: 46463 | CN14: 581738 | CO14: 2292710 | CP14: 14766 | CQ14: 137303 | CR14: 439051 | CS14: 2097 | CT14: 7273 | CU14: 21411 | CV14: 12669 | CW14: 130030 | CX14: 417640 | CY14: 14508 | CZ14: 135354 | DA14: 379904 | DB14: 258 | DC14: 1949 | DD14: 59147 | DE14: 50 | DF14: 3419 | DG14: 30062 | DH14: 14716 | DI14: 133884 | DJ14: 408989 | DK14: 702 | DL14: 6989 | DM14: 17444 | DN14: 0 | DO14: 0 | DP14: 0 | DQ14: 0 | DR14: 0 | DS14: 0 | DT14: 0 | DU14: 0 | DV14: 0 | DW14: 0 | DX14: 0 | DY14: 0 | DZ14: 1 | EA14: 7 | EB14: 1 | EC14: 7
... A31: 42642 | B31: 101537 | C31: 13 | D31: 16 | E31: 59 | F31: 7246 | G31: 45528 | H31: 1565 | I31: 309280 | J31: 3780683 | K31: 1549 | L31: 41128 | M31: 213596 | N31: 16 | O31: 268152 | P31: 3567087 | Q31: 1812 | R31: 553475 | S31: 11921390 | T31: 1795 | U31: 62931 | V31: 655670 | W31: 17 | X31: 490544 | Y31: 11265720 | Z31: 106 | AA31: 424 | AB31: 28 | AC31: 205 | AD31: 1462 | AE31: 307606 | AF31: 3772927 | AG31: 1446 | AH31: 39454 | AI31: 205840 | AJ31: 16 | AK31: 268152 | AL31: 3567087 | AM31: 1610 | AN31: 551501 | AO31: 11895996 | AP31: 1593 | AQ31: 60957 | AR31: 630276 | AS31: 17 | AT31: 490544 | AU31: 11265720 | AV31: 39 | AW31: 3439 | AX31: 31788 | AY31: 115 | AZ31: 4388 | BA31: 41043 | BB31: 0 | BC31: 28 | BD31: 134 | BE31: 0 | BF31: 31 | BG31: 162 | BH31: 0 | BI31: 0 | BJ31: 0 | BK31: 0 | BL31: 0 | BM31: 0 | BN31: 0 | BO31: 0 | BP31: 0 | BQ31: 0 | BR31: 0 | BS31: 0 | BT31: 81802 | BU31: 139 | BV31: 849 | BW31: 1484653 | BX31: 139 | BY31: 849 | BZ31: 64793 | CA31: 0 | CB31: 0 | CC31: 1419860 | CD31: 126 | CE31: 775 | CF31: 1477979 | CG31: 13 | CH31: 74 | CI31: 6674 | CJ31: 17 | CK31: 102 | CL31: 291950 | CM31: 122 | CN31: 747 | CO31: 1192703 | CP31: 32 | CQ31: 208 | CR31: 307094 | CS31: 32 | CT31: 208 | CU31: 18306 | CV31: 0 | CW31: 0 | CX31: 288788 | CY31: 28 | CZ31: 180 | DA31: 303151 | DB31: 4 | DC31: 28 | DD31: 3943 | DE31: 3 | DF31: 25 | DG31: 19517 | DH31: 29 | DI31: 183 | DJ31: 287577 | DK31: 25 | DL31: 4487 | DM31: 18743 | DN31: 0 | DO31: 0 | DP31: 0 | DQ31: 0 | DR31: 0 | DS31: 0 | DT31: 0 | DU31: 0 | DV31: 0 | DW31: 1 | DX31: 0 | DY31: 1 | DZ31: 0 | EA31: 6 | EB31: 0 | EC31: 5
A32: 42643 | B32: 101557 | C32: 37 | D32: 17 | E32: 2609 | F32: 8355 | G32: 45653 | H32: 88750 | I32: 332473 | J32: 3668830 | K32: 13025 | L32: 42556 | M32: 228927 | N32: 75725 | O32: 289917 | P32: 3439903 | Q32: 95382 | R32: 580199 | S32: 10872337 | T32: 18457 | U32: 67367 | V32: 651677 | W32: 76925 | X32: 512832 | Y32: 10220660 | AD32: 88394 | AE32: 330592 | AF32: 3661526 | AG32: 12669 | AH32: 40675 | AI32: 221623 | AJ32: 75725 | AK32: 289917 | AL32: 3439903 | AM32: 95081 | AN32: 578098 | AO32: 10847561 | AP32: 18156 | AQ32: 65266 | AR32: 626901 | AS32: 76925 | AT32: 512832 | AU32: 10220660 | AV32: 611 | AW32: 3739 | AX32: 30632 | AY32: 1379 | AZ32: 5355 | BA32: 40487 | BB32: 5 | BC32: 25 | BD32: 136 | BE32: 5 | BF32: 28 | BG32: 164 | BH32: 0 | BI32: 0 | BJ32: 0 | BK32: 0 | BL32: 0 | BM32: 0 | BN32: 0 | BO32: 0 | BP32: 0 | BQ32: 0 | BR32: 0 | BS32: 0 | BU32: 186 | BV32: 932 | BW32: 1325107 | BX32: 186 | BY32: 932 | BZ32: 61134 | CA32: 0 | CB32: 0 | CC32: 1263973 | CD32: 172 | CE32: 858 | CF32: 1318796 | CG32: 14 | CH32: 74 | CI32: 6311 | CJ32: 13 | CK32: 103 | CL32: 249791 | CM32: 173 | CN32: 829 | CO32: 1075316 | CP32: 55 | CQ32: 240 | CR32: 285021 | CS32: 55 | CT32: 240 | CU32: 17635 | CV32: 0 | CW32: 0 | CX32: 267386 | CY32: 47 | CZ32: 210 | DA32: 281243 | DB32: 8 | DC32: 30 | DD32: 3778 | DE32: 3 | DF32: 30 | DG32: 14000 | DH32: 52 | DI32: 210 | DJ32: 271021 | DK32: 2225 | DL32: 5545 | DM32: 19515 | DN32: 0 | DO32: 0 | DP32: 0 | DQ32: 0 | DR32: 0 | DS32: 0 | DT32: 0 | DU32: 0 | DV32: 0 | DW32: 1 | DX32: 0 | DY32: 1 | DZ32: 0 | EA32: 5 | EB32: 0 | EC32: 4

Sheet Export POST_ Stats_clés
A1: Post ID | B1: Permalink | C1: Post Message | D1: Type | E1: Countries | F1: Languages | G1: Posted | H1: Lifetime Post Total Reach | I1: Lifetime Post organic reach | J1: Lifetime Post Paid Reach | K1: Lifetime Post Total Impressions | L1: Lifetime Post Organic Impressions | M1: Lifetime Post Paid Impressions | N1: Lifetime Engaged Users | O1: Lifetime Post Consumers | P1: Lifetime Post Consumptions | Q1: Lifetime Negative feedback | R1: Lifetime Negative Feedback from Users | S1: Lifetime Post Impressions by people who have liked your Page | T1: Lifetime Post reach by people who like your Page | U1: Lifetime Post Paid Impressions by people who have liked your Page | V1: Lifetime Paid reach of a post by people who like your Page | W1: Lifetime People who have liked your Page and engaged with your post | X1: Lifetime Average time video viewed | Y1: Lifetime Organic views to 95% | Z1: Lifetime Organic views to 95% | AA1: Lifetime Paid views to 95% | AB1: Lifetime Paid views to 95% | AC1: Lifetime Video length | AD1: Lifetime Organic Video Views | AE1: Lifetime Organic Video Views | AF1: Lifetime Paid Video Views | AG1: Lifetime Paid Video Views
H2: Lifetime: The total number of people your Page post was served to. (Unique Users) | I2: Lifetime: The number of people who saw your Page post in news feed or ticker, or on your Page's timeline. (Unique Users) | J2: Lifetime: The number of people your advertised Page post was served to. (Unique Users) | K2: Lifetime: The number of impressions of your Page post. (Total Count) | L2: Lifetime: The number of impressions of your post in News Feed or ticker or on your Page's Timeline. (Total Count) | M2: Lifetime: The number of impressions of your Page post in an Ad or Sponsored Story. (Total Count) | N2: Lifetime: The number of people who clicked anywhere in your posts. (Unique Users) | O2: Lifetime: The number of people who clicked anywhere in your post. (Unique Users) | P2: Lifetime: The number of clicks anywhere in your post. (Total Count) | Q2: Lifetime: The number of people who have given negative feedback to your post. (Unique Users) | R2: Lifetime: The number of times people have given negative feedback to your post. (Total Count) | S2: Lifetime: The number of impressions of your Page post to people who have liked your Page. (Total Count) | T2: Lifetime: The number of people who saw your Page post because they've liked your Page (Unique Users) | U2: Lifetime: The number of paid impressions of your Page post to people who have liked your Page. (Total Count) | V2: Lifetime: The number of people who like your Page and who saw your Page post in an ad or sponsored story. (Unique Users) | W2: Lifetime: The number of people who have liked your Page and clicked anywhere in your posts. (Unique Users) | X2: Lifetime: Average time video viewed (Total Count) | Y2: Lifetime: Number of times your video was viewed to 95% of its length without any paid promotion. (Total Count) | Z2: Lifetime: Number of times your video was viewed to 95% of its length without any paid promotion. (Unique Users) | AA2: Lifetime: Number of times your video was viewed to 95% of its length after paid promotion. (Total Count) | AB2: Lifetime: Number of times your video was viewed to 95% of its length after paid promotion. (Unique Users) | AC2: Lifetime: Length of a video post (Total Count) | AD2: Lifetime: Number of times your video was viewed for more than 3 seconds without any paid promotion. (Total Count) | AE2: Lifetime: Number of times your video was viewed for more than 3 seconds without any paid promotion. (Unique Users) | AF2: Lifetime: Number of times your video was viewed more than 3 seconds after paid promotion. (Total Count) | AG2: Lifetime: Number of times your video was viewed more than 3 seconds after paid promotion. (Unique Users)
A3: 1455215824713429_1850180478550293 | B3: https://www.facebook.com/Perrier.FRA/posts/1850180478550293:0 | C3: Une nature morte pleine de vie ! | D3: Photo | G3: 42643.344 | H3: 208637 | I3: 30989 | J3: 177648 | K3: 265000 | L3: 44068 | M3: 220932 | N3: 6021 | O3: 1432 | P3: 1970 | Q3: 14 | R3: 15 | S3: 65254 | T3: 35991 | U3: 55591 | V3: 32309 | W3: 1074 | X3: 0 | AC3: 0
A4: 1455215824713429_1846345562267118 | B4: https://www.facebook.com/Perrier.FRA/posts/1846345562267118 | C4: Un tour de magie qui vous fera pétiller. © A.L.Crego / @Mutante Creativo - 2016 | D4: Link | G4: 42639.344 | H4: 181724 | I4: 8431 | J4: 173293 | K4: 250137 | L4: 15421 | M4: 234716 | N4: 3225 | O4: 1977 | P4: 2163 | Q4: 6 | R4: 6 | S4: 84961 | T4: 40346 | U4: 78503 | V4: 38491 | W4: 569 | X4: 0 | Y4: 0 | Z4: 0 | AA4: 0 | AB4: 0 | AC4: 0 | AD4: 0 | AE4: 0 | AF4: 0 | AG4: 0
A5: 1455215824713429_1846345288933812 | B5: https://www.facebook.com/Perrier.FRA/posts/1846345288933812 | C5: Des bulles indomptables par nature ! | D5: Link | G5: 42636.344 | H5: 180538 | I5: 17149 | J5: 163389 | K5: 285564 | L5: 30283 | M5: 255281 | N5: 4188 | O5: 1143 | P5: 1318 | Q5: 23 | R5: 25 | S5: 99629 | T5: 39860 | U5: 91252 | V5: 37176 | W5: 996 | X5: 0 | Y5: 0 | Z5: 0 | AA5: 0 | AB5: 0 | AC5: 0 | AD5: 0 | AE5: 0 | AF5: 0 | AG5: 0
A6: 1455215824713429_1846345045600503 | B6: https://www.facebook.com/Perrier.FRA/posts/1846345045600503 | C6: L'automne arrive dans un tourbillon de fraîcheur. © Jonah Nigro / www.popsicleillusion.com - 2016 | D6: Link | G6: 42634.344 | H6: 122078 | I6: 6021 | J6: 116057 | K6: 171626 | L6: 13115 | M6: 158511 | N6: 2110 | O6: 575 | P6: 662 | Q6: 12 | R6: 13 | S6: 77848 | T6: 39007 | U6: 71129 | V6: 36824 | W6: 503 | X6: 0 | Y6: 0 | Z6: 0 | AA6: 0 | AB6: 0 | AC6: 0 | AD6: 0 | AE6: 0 | AF6: 0 | AG6: 0
A7: 1455215824713429_1850178838550457 | B7: https://www.facebook.com/Perrier.FRA/posts/1850178838550457 | C7: Un cocktail flambant neuf pour faire frémir vos papilles ! Découvrez la recette ici : http://bit.ly/2b02Ti0 | D7: Link | G7: 42632.344 | H7: 125342 | I7: 8981 | J7: 116361 | K7: 188696 | L7: 16694 | M7: 172002 | N7: 2313 | O7: 563 | P7: 620 | Q7: 13 | R7: 13 | S7: 85104 | T7: 39463 | U7: 77127 | V7: 37318 | W7: 556 | X7: 0 | Y7: 0 | Z7: 0 | AA7: 0 | AB7: 0 | AC7: 0 | AD7: 0 | AE7: 0 | AF7: 0 | AG7: 0
A8: 1455215824713429_1850177011883973 | B8: https://www.facebook.com/Perrier.FRA/posts/1850177011883973 | C8: Une fraîcheur qui tourne en boucle ! | D8: Link | G8: 42629.354 | H8: 111911 | I8: 9390 | J8: 102521 | K8: 198485 | L8: 16584 | M8: 181901 | N8: 2563 | O8: 613 | P8: 667 | Q8: 10 | R8: 12 | S8: 96087 | T8: 36876 | U8: 88309 | V8: 34612 | W8: 628 | X8: 0 | Y8: 0 | Z8: 0 | AA8: 0 | AB8: 0 | AC8: 0 | AD8: 0 | AE8: 0 | AF8: 0 | AG8: 0
A9: 1455215824713429_1846344802267194 | B9: https://www.facebook.com/Perrier.FRA/posts/1846344802267194 | C9: L'art de chiller avec PERRIER. | D9: Link | G9: 42627.344 | H9: 131731 | I9: 11623 | J9: 120108 | K9: 179103 | L9: 19402 | M9: 159701 | N9: 2591 | O9: 1036 | P9: 1155 | Q9: 21 | R9: 21 | S9: 78819 | T9: 40031 | U9: 70387 | V9: 37444 | W9: 543 | X9: 0 | Y9: 0 | Z9: 0 | AA9: 0 | AB9: 0 | AC9: 0 | AD9: 0 | AE9: 0 | AF9: 0 | AG9: 0
A10: 1455215824713429_1843151002586574 | B10: https://www.facebook.com/Perrier.FRA/videos/1843151002586574/ | C10: On ne se lasse pas des grands classiques ! Redécouvrez le virgin mojito version PERRIER Menthe ! Pour découvrir tous nos cocktails, venez buller ici : http://bit.ly/1XmLCkL | D10: Video | G10: 42625.354 | H10: 1156907 | I10: 99802 | J10: 1057105 | K10: 1703272 | L10: 214540 | M10: 1488732 | N10: =(10302+99953)-4153 -> 106102 | O10: 7283 | P10: 9031 | Q10: 26 | R10: 28 | S10: 55529 | T10: 27830 | U10: 20545 | V10: 13319 | W10: 713 | X10: 0 | Y10: 5094 | Z10: 5094 | AA10: 41595 | AB10: 41082 | AC10: 41811 | AD10: 28538 | AE10: 26621 | AF10: 242833 | AG10: 227768
A11: 1455215824713429_1846343338934007 | B11: https://www.facebook.com/Perrier.FRA/posts/1846343338934007:0 | C11: PERRIER vous fait entrer dans la danse ! © Villemot - 1981 | D11: Photo | G11: 42622.344 | H11: 194655 | I11: 16529 | J11: 178126 | K11: 298054 | L11: 28774 | M11: 269280 | N11: 4597 | O11: 1702 | P11: 2263 | Q11: 8 | R11: 9 | S11: 108024 | T11: 41097 | U11: 98595 | V11: 37897 | W11: 1294 | X11: 0 | AC11: 0
A12: 1455215824713429_1843150292586645 | B12: https://www.facebook.com/Perrier.FRA/videos/1843150292586645/ | C12: Laissez-vous tenter par ce cocktail à croquer ! Le Perrier Fraise vous fera rougir de plaisir... ;) Pour découvrir tous nos cocktails, venez buller ici : http://bit.ly/1XmLCkL | D12: Video | G12: 42620.354 | H12: 876447 | I12: 36453 | J12: 839994 | K12: 1797196 | L12: 96327 | M12: 1700869 | N12: =(7496+91358)-4545 -> 94309 | O12: 5952 | P12: 6615 | Q12: 8 | R12: 9 | S12: 52064 | T12: 22302 | U12: 22931 | V12: 10319 | W12: 567 | X12: 0 | Y12: 2692 | Z12: 2692 | AA12: 50072 | AB12: 47827 | AC12: 39891 | AD12: 15251 | AE12: 14526 | AF12: 286655 | AG12: 252428
A13: 1455215824713429_1842701072631567 | B13: https://www.facebook.com/Perrier.FRA/posts/1842701072631567 | C13: On garde un souvenir pétillant de cet été. Et vous quel est le vôtre ? #ExtraordinairePerrier | D13: Link | G13: 42618.344 | H13: 47481 | I13: 6576 | J13: 40905 | K13: 78406 | L13: 15323 | M13: 63083 | N13: 1303 | O13: 328 | P13: 363 | Q13: 9 | R13: 10 | S13: 43465 | T13: 22208 | U13: 33297 | V13: 18441 | W13: 431 | X13: 0 | Y13: 0 | Z13: 0 | AA13: 0 | AB13: 0 | AC13: 0 | AD13: 0 | AE13: 0 | AF13: 0 | AG13: 0
E17: SEPTEMBRe | H17: =SUM(H3:H13) -> 3337451 | I17: =SUM(I3:I13) -> 251944 | J17: =SUM(J3:J13) -> 3085507
E18: AOUT | H18: 10994609 | I18: 230613 | J18: 10763996
E19: EVOLUTION | H19: =(H17-H18)/H18 -> -0.69644659 | I19: =(I17-I18)/I18 -> 0.092496954 | J19: =(J17-J18)/J18 -> -0.7133493 | N19: =AVERAGE(N3:N13) -> 20847.455

Sheet Export_POST_Actualité de publi
A1: Description | B1: Post ID | C1: Permalink | D1: Post Message | E1: Type | F1: Countries | G1: Languages | H1: Posted | I1: comment | J1: like | K1: share | L1: CLICS OK | M1: Vues | N1: TOTAL interactions
A2: Lifetime: The number of stories created about your Page post, by action type. (Total Count) | B2: 1455215824713429_1850180478550293 | C2: https://www.facebook.com/Perrier.FRA/posts/1850180478550293:0 | D2: Une nature morte pleine de vie ! | E2: Photo | H2: 42643.344 | I2: 56 | J2: 5057 | K2: 252 | L2: 1970 | N2: =SUM(I2:M2) -> 7335
B3: 1455215824713429_1846345562267118 | C3: https://www.facebook.com/Perrier.FRA/posts/1846345562267118 | D3: Un tour de magie qui vous fera pétiller. © A.L.Crego / @Mutante Creativo - 2016 | E3: Link | H3: 42639.344 | I3: 20 | J3: 1397 | K3: 101 | L3: 2069 | N3: =SUM(I3:M3) -> 3587
B4: 1455215824713429_1846345288933812 | C4: https://www.facebook.com/Perrier.FRA/posts/1846345288933812 | D4: Des bulles indomptables par nature ! | E4: Link | H4: 42636.344 | I4: 75 | J4: 3597 | K4: 453 | L4: 1263 | N4: =SUM(I4:M4) -> 5388
B5: 1455215824713429_1846345045600503 | C5: https://www.facebook.com/Perrier.FRA/posts/1846345045600503 | D5: L'automne arrive dans un tourbillon de fraîcheur. © Jonah Nigro / www.popsicleillusion.com - 2016 | E5: Link | H5: 42634.344 | I5: 20 | J5: 1587 | K5: 109 | L5: 613 | N5: =SUM(I5:M5) -> 2329
B6: 1455215824713429_1850178838550457 | C6: https://www.facebook.com/Perrier.FRA/posts/1850178838550457 | D6: Un cocktail flambant neuf pour faire frémir vos papilles ! Découvrez la recette ici : http://bit.ly/2b02Ti0 | E6: Link | H6: 42632.344 | I6: 19 | J6: 1857 | K6: 127 | L6: 600 | N6: =SUM(I6:M6) -> 2603
B7: 1455215824713429_1850177011883973 | C7: https://www.facebook.com/Perrier.FRA/posts/1850177011883973 | D7: Une fraîcheur qui tourne en boucle ! | E7: Link | H7: 42629.354 | I7: 29 | J7: 2107 | K7: 130 | L7: 623 | N7: =SUM(I7:M7) -> 2889
B8: 1455215824713429_1846344802267194 | C8: https://www.facebook.com/Perrier.FRA/posts/1846344802267194 | D8: L'art de chiller avec PERRIER. | E8: Link | H8: 42627.344 | I8: 26 | J8: 1675 | K8: 103 | L8: 1005 | N8: =SUM(I8:M8) -> 2809
B9: 1455215824713429_1843151002586574 | C9: https://www.facebook.com/Perrier.FRA/videos/1843151002586574/ | D9: On ne se lasse pas des grands classiques ! Redécouvrez le virgin mojito version PERRIER Menthe ! Pour découvrir tous nos cocktails, venez buller ici : http://bit.ly/1XmLCkL | E9: Video | H9: 42625.354 | I9: 970 | J9: 3276 | K9: 1199 | L9: =8968-4153 -> 4815 | M9: 99953 | N9: =SUM(I9:M9) -> 110213
B10: 1455215824713429_1846343338934007 | C10: https://www.facebook.com/Perrier.FRA/posts/1846343338934007:0 | D10: PERRIER vous fait entrer dans la danse ! © Villemot - 1981 | E10: Photo | H10: 42622.344 | I10: 63 | J10: 3227 | K10: 197 | L10: 2263 | N10: =SUM(I10:M10) -> 5750
B11: 1455215824713429_1843150292586645 | C11: https://www.facebook.com/Perrier.FRA/videos/1843150292586645/ | D11: Laissez-vous tenter par ce cocktail à croquer ! Le Perrier Fraise vous fera rougir de plaisir... ;) Pour découvrir tous nos cocktails, venez buller ici : http://bit.ly/1XmLCkL | E11: Video | H11: 42620.354 | I11: 198 | J11: 1662 | K11: 356 | L11: =4756-2779 -> 1977 | M11: 91358 | N11: =SUM(I11:M11) -> 95551
B12: 1455215824713429_1842701072631567 | C12: https://www.facebook.com/Perrier.FRA/posts/1842701072631567 | D12: On garde un souvenir pétillant de cet été. Et vous quel est le vôtre ? #ExtraordinairePerrier | E12: Link | H12: 42618.344 | I12: 17 | J12: 1082 | K12: 67 | L12: 325 | N12: =SUM(I12:M12) -> 1491
I17: =SUM(I2:I12) -> 1493 | J17: =SUM(J2:J12) -> 26524 | K17: =SUM(K2:K12) -> 3094 | L17: =SUM(L2:L12) -> 17523 | M17: =SUM(M2:M12) -> 191311 | N17: =SUM(N2:N12) -> 239945 | P17: 558372
O18: =(N17-P17)/P17 -> -0.57027752
L21: Copier/Coller la colonne P de l'export POST_Stats_Clés

Sheet CONTENT PERFORMANCE DETAILS
A1: CONTENT PERFORMANCE DETAILS
A3: RULES TO UPDATE THIS TABLE 1/ Use the filters (cell B6) to select the desired period (never select the field "Empty") ; 2/ Never write something under the table | H3: RULES TO UPDATE THIS TABLE 1/ Use the filter "MONTH" to select the desired period for your graphs ; 2/ HOW TO USE IT : deselect the previous months before adding the desired months (if you select more 2 months, the line "EVOLUTION" will be deleted)
A6: MONTH | B6: 42643
A8: CATEGORY / POST MESSAGE | B8: TOTAL POST REACH | C8: OF WHICH PAID | D8: AVERAGE FANBASE POST COVERAGE | E8: Average ENGAGEMENT RATE | F8: POST ID* | H8: MONTH | I8: AVERAGE REACH / POST* | J8: % AVERAGE PAID REACH* | K8: AVERAGE FANBASE POST COVERAGE | L8: AVERAGE ENGAGEMENT RATE / POST*
A9: (vide) | H9: 42582 | I9: 129306.17 | J9: 0.90200777 | K9: 0.66422211 | L9: 0.21010534
A10: Test 243 | B10: 264455 | C10: 223898 | D10: 1.3028495 | E10: 0.15232837 | F10: 1.0154671e+16 | H10: 42613 | I10: 153029.14 | J10: 0.85842193 | K10: 0.7597531 | L10: 0.19837305
A11: Test 244 | B11: 323537 | C11: 287462 | D11: 1.5929622 | E11: 0.11814723 | F11: 1.0154673e+16 | H11: EVOLUTION | I11: =(I9-I10)/I10 -> -0.1550226 | J11: =(J9-J10)*100 -> 4.3585842 | K11: =(K9-K10)*100 -> -9.5530983 | L11: =(L9-L10)*100 -> 1.1732299
A12: Test 245 | B12: 49745 | C12: 39729 | D12: 0.24453489 | E12: 0.11177003 | F12: 1.0154674e+16 | I12: > evolution en % | J12: > evolution en points | K12: > evolution en points | L12: > evolution en points
A13: Test 246 | B13: 191492 | C13: 158601 | D13: 0.93965356 | E13: 0.22838552 | F13: 1.0154674e+16
A14: Test 247 | B14: 206034 | C14: 167363 | D14: 1.0096538 | E14: 0.17456828 | F14: 1.0154671e+16
A15: Test 248 | B15: 155698 | C15: 130631 | D15: 0.7627058 | E15: 0.23538517 | F15: 1.0154784e+16
A16: Test 249 | B16: 190200 | C16: 162904 | D16: 0.93090183 | E16: 0.23401157 | F16: 1.0154778e+16
A17: Test 250 | B17: 116581 | C17: 94283 | D17: 0.5695296 | E17: 0.18541615 | F17: 1.0154778e+16
A18: Test 251 | B18: 40096 | C18: 33273 | D18: 0.19574875 | E18: 0.13325519 | F18: 1.0154795e+16
A19: Test 252 | B19: 138366 | C19: 118678 | D19: 0.67510759 | E19: 0.14638712 | F19: 1.0154778e+16
A20: Test 253 | B20: 185640 | C20: 157237 | D20: 0.90455053 | E20: 0.20602241 | F20: 1.015483e+16
A21: Test 254 | B21: 223573 | C21: 195524 | D21: 1.0881954 | E21: 0.15184302 | F21: 1.015478e+16

Sheet CONTENT PERFORMANCES
A1: MOST & LEAST ENGAGING FACEBOOK POSTS
A3: RULES TO UPDATE THIS TABLE
A4: 1/ To update this tab automatically, input the ID POST to find in [ALL DATAS] tab corresponding to the Eng. Rate (formula linked to the "CONTENT PERFORMANCE DETAILS" table)
A6: MOST ENGAGING FACEBOOK POSTS | B6: ='CONTENT PERFORMANCE DETAILS'!B6 -> 42643
A8: N°1 | B8: ID POST | C8: =INDEX(Tableau,MATCH(C14,ColE,0),6) -> 1.0154784e+16 | E8: N°2 | F8: ID POST | G8: =INDEX(Tableau,MATCH(G14,ColE,0),6) -> 1.0154778e+16 | I8: N°3 | J8: ID POST | K8: =INDEX(Tableau,MATCH(K14,ColE,0),6) -> 1.0154674e+16
B9: Message | C9: =INDEX(Tableau,MATCH(C14,ColE,0),1) -> Test 248 | F9: Message | G9: =INDEX(Tableau,MATCH(G14,ColE,0),1) -> Test 249 | J9: Message | K9: =INDEX(Tableau,MATCH(K14,ColE,0),1) -> Test 246
B10: Likes | C10: =VLOOKUP(C8,'ALL DATAS'!A9:AC288,16,FALSE) -> 35482 | F10: Likes | J10: Likes
B11: Comments | C11: =VLOOKUP(C8,'ALL DATAS'!A9:AC288,17,FALSE) -> 14 | F11: Comments | J11: Comments
B12: Shares | C12: =VLOOKUP(C8,'ALL DATAS'!A9:AC288,18,FALSE) -> 10 | F12: Shares | J12: Shares
B13: Clics | C13: =VLOOKUP(C8,'ALL DATAS'!A9:AC288,19,FALSE) -> 1509 | F13: Clics | J13: Clics
B14: Eng. Rate | C14: =LARGE('CONTENT PERFORMANCE DETAILS'!E8:E100,1) -> 0.23538517 | F14: Eng. Rate | G14: =LARGE('CONTENT PERFORMANCE DETAILS'!E8:E100,2) -> 0.23401157 | J14: Eng. Rate | K14: =LARGE('CONTENT PERFORMANCE DETAILS'!E8:E100,3) -> 0.22838552
A16: LEAST ENGAGING FACEBOOK POSTS | B16: ='CONTENT PERFORMANCE DETAILS'!B6 -> 42643
A18: N°1 | B18: ID POST | C18: =INDEX(Tableau,MATCH(C24,ColE,0),6) -> 1.0154674e+16 | E18: N°2 | F18: ID POST | G18: =INDEX(Tableau,MATCH(G24,ColE,0),6) -> 1.0154673e+16 | I18: N°3 | J18: ID POST | K18: =INDEX(Tableau,MATCH(K24,ColE,0),6) -> 1.0154795e+16
B19: Message | C19: =INDEX(Tableau,MATCH(C24,ColE,0),1) -> Test 245 | F19: Message | G19: =INDEX(Tableau,MATCH(G24,ColE,0),1) -> Test 244 | J19: Message | K19: =INDEX(Tableau,MATCH(K24,ColE,0),1) -> Test 251
B20: Likes | F20: Likes | J20: Likes
B21: Comments | F21: Comments | J21: Comments
B22: Shares | F22: Shares | J22: Shares
B23: Clics | F23: Clics | J23: Clics
B24: Eng. Rate | C24: =SMALL('CONTENT PERFORMANCE DETAILS'!E8:E100,1) -> 0.11177003 | F24: Eng. Rate | G24: =SMALL('CONTENT PERFORMANCE DETAILS'!E8:E100,2) -> 0.11814723 | J24: Eng. Rate | K24: =SMALL('CONTENT PERFORMANCE DETAILS'!E8:E100,3) -> 0.13325519
C38: All natural citrus flavor. No sugar or sweeteners. #DrinkNatural | D38: 134660 | E38: 118499 | F38: 0.671159 | G38: 0.23294222
C39: Your life source. Perrier, a force of nature! #DrinkNatural | D39: 220044 | E39: 193815 | F39: 1.0880394 | G39: 0.1411854
C40: Perrier Anytime
C41: He's just a little cucumbersome. bit.ly/PerrierGreen | D41: 109678 | E41: 88818 | F41: 0.54275082 | G41: 0.26143803
C42: Perrier Art
C43: Cannot be bothered. #DrinkExtraordinaire | D43: 160589 | E43: 138913 | F43: 0.79815606 | G43: 0.2171693
C44: Perrier iconic
C45: Get on track with Perrier! #Olympics | D45: 51204 | E45: 45102 | F45: 0.25500254 | G45: 0.12577142
C46: Sparkles every time, a real hole in one! 󾬔 #DrinkExtraordinaire | D46: 128594 | E46: 108188 | F46: 0.64008004 | G46: 0.2167675
C47: Take the plunge with Perrier! #DrinkExtraordinaire | D47: 158732 | E47: 134544 | F47: 0.78696685 | G47: 0.23595746
C48: Perrier Since 1863
C49: Perrier knows how to jazz it up! Perrier ad from 1981 #FlashbackFriday © Villemot - 1981 | D49: 123310 | E49: 104174 | F49: 0.60908566 | G49: 0.28989539
C50: Perrier x Digital Artist
C51: An exotic burst to quench your thirst! #DrinkNatural © Que Duong - 2016 #quedidit queduong.com | D51: 152028 | E51: 128071 | F51: 0.75450386 | G51: 0.21002052
C52: Find your sparkle, it's a jungle out there! #DrinkExtraordinaire © Yelldesign - 2016 | D52: 218133 | E52: 189270 | F52: 1.0748857 | G52: 0.17899172
C53: Just refresh! #DrinkExtraordinaire | D53: 172400 | E53: 148702 | F53: 0.85663745 | G53: 0.17775522
C54: Our bubbles are full of life! © A.L. Crego / Mutante Creativo - 2016 | D54: 263134 | E54: 233049 | F54: 1.2972235 | G54: 0.11990089
C55: Perrier's refreshing bubbles are hypnotizing. #DrinkExtraordinaire © Jonah Nigro / www.popsicleillusion.com - 2016 | D55: 135256 | E55: 113598 | F55: 0.67265774 | G55: 0.2094177
