Workbook
Name ColE: OFFSET('CONTENT PERFORMANCE DETAILS'!$E$10,,,COUNTA('CONTENT PERFORMANCE DETAILS'!$A:$E)-1)
Name Months: #REF!
Name Quarters: #REF!
Name Tableau: OFFSET('CONTENT PERFORMANCE DETAILS'!$A$10:$F$10,,,COUNTA('CONTENT PERFORMANCE DETAILS'!$A:$F)-9)

Sheet ALL HORS SEPT16 exclviewers
A1: ANNEE | B1: mois | C1: Date | D1: Catégorie | E1: Post | F1: Fans à date | G1: Portée | H1: Portée organique | I1: Portée payée | J1: Taux de reach | K1: Personnes engagées | L1: Taux d'engagement | M1: Total Engagement | N1: Likes | O1: Comments | P1: Shares | Q1: Clics | R1: Vues | S1: Inv Media | T1: Type d'achat | U1: Format | V1: calcul CPM
A2: 2016 | B2: 42583 | C2: 42613.354 | D2: PERRIER ARO | E2: Le secret de ce cocktail ? Un PERRIER Citron pour une fraîcheur garantie et sans se presser ! Pour découvrir tous nos cocktails, venez buller ici : http://bit.ly/1XmLCkL | F2: 100144 | G2: 855286 | H2: 32513 | I2: 822773 | J2: =G2/F2 -> 8.5405616 | K2: =(5395+60827)-2779 -> 63443 | L2: =K2/G2 -> 0.074177527 | M2: =SUM(N2:R2) -> 69358 | N2: 1420 | O2: 178 | P2: 340 | Q2: 3920 | R2: 63500
A3: 2016 | B3: 42583 | C3: 42611.392 | D3: PERRIER ARO | E3: - Garçon ! Auriez-vous un PERRIER avec un goût fruité ? - Et un PERRIER aromatisé pour la 17 ! Un ! Et pour vous ? | F3: 100115 | G3: 2071806 | H3: 28329 | I3: 2043477 | J3: =G3/F3 -> 20.694262 | K3: =(5887+45306)-4221 -> 46972 | L3: =K3/G3 -> 0.022672007 | M3: =SUM(N3:R3) -> 48890 | N3: 888 | O3: 105 | P3: 45 | Q3: 2539 | R3: 45313
A4: 2016 | B4: 42583 | C4: 42608.387 | D4: PERRIER BRAND | E4: [CONCOURS] Prenez une pause PERRIER pour faire tomber la température ! Agrumes, Citron, Fraise, Menthe, Pomme verte ou Citron vert, quel PERRIER aromatisé vous rafraîchira ? Quinze personnes seront tirées au sort dans les commentaires pour recevoir leurs PERRIER aromatisés ;) Règlement : http://urlz.fr/40aL | F4: 99983 | G4: 123570 | H4: 24089 | I4: 99481 | J4: =G4/F4 -> 1.2359101 | K4: 3187 | L4: =K4/G4 -> 0.02579105 | M4: =SUM(N4:R4) -> 6168 | N4: 2242 | O4: 926 | P4: 318 | Q4: 2682
A5: 2016 | B5: 42583 | C5: 42606.344 | D5: DIGITAL ARTIST | E5: Combien de temps resterez-vous sous cette hypnose rafraîchissante ? © Jonah Nigro / www.popsicleillusion.com - 2016 | F5: 99958 | G5: 51079 | H5: 5938 | I5: 45141 | J5: =G5/F5 -> 0.51100462 | K5: 1382 | L5: =K5/G5 -> 0.027056129 | M5: =SUM(N5:R5) -> 1570 | N5: 1166 | O5: 13 | P5: 56 | Q5: 335
A6: 2016 | B6: 42583 | C6: 42604.344 | D6: PERRIER ARO | E6: Nom d'une licorne ! Un PERRIER aromatisé avec 0 sucres, ça existe vraiment ? | F6: 99999 | G6: 4290271 | H6: 60350 | I6: 4229921 | J6: =G6/F6 -> 42.903139 | K6: =(10804+81264)-7417 -> 84651 | L6: =K6/G6 -> 0.019730921 | M6: =SUM(N6:R6) -> 91815 | N6: 1933 | O6: 222 | P6: 168 | Q6: 8219 | R6: 81273
A7: 2016 | B7: 42583 | C7: 42601.344 | D7: PERRIER ARO | E7: Un PERRIER aromatisé peut-il être 100% naturel ? Le perroquet vous souffle la réponse... | F7: 99925 | G7: 4157399 | H7: 23568 | I7: 4133831 | J7: =G7/F7 -> 41.605194 | K7: =(9910+58018)-6766 -> 61162 | L7: =K7/G7 -> 0.014711602 | M7: =SUM(N7:R7) -> 69824 | N7: 2031 | O7: 151 | P7: 215 | Q7: 8602 | R7: 58825
A8: 2016 | B8: 42583 | C8: 42599.344 | D8: DIGITAL ARTIST | E8: Un bouquet qui pétille de fraîcheur ! © Que Duong - 2016 #quedidit queduong.com | F8: 99761 | G8: 61944 | H8: 11738 | I8: 50206 | J8: =G8/F8 -> 0.62092401 | K8: 2392 | L8: =K8/G8 -> 0.038615524 | M8: =SUM(N8:R8) -> 2826 | N8: 1979 | O8: 15 | P8: 109 | Q8: 723
A9: 2016 | B9: 42583 | C9: 42597.198 | D9: DIGITAL ARTIST | E9: Un cadre de rêve pour l'été. Partagez-nous le vôtre. © Yelldesign - 2016 | F9: 99698 | G9: 90249 | H9: 9765 | I9: 80484 | J9: =G9/F9 -> 0.90522378 | K9: 3164 | L9: =K9/G9 -> 0.03505856 | M9: =SUM(N9:R9) -> 3697 | N9: 2610 | O9: 32 | P9: 103 | Q9: 952
A10: 2016 | B10: 42583 | C10: 42595.198 | D10: PERRIER x ART | E10: Certains se la coulent douce. | F10: 99674 | G10: 73662 | H10: 8712 | I10: 64950 | J10: =G10/F10 -> 0.73902924 | K10: 1735 | L10: =K10/G10 -> 0.023553528 | M10: =SUM(N10:R10) -> 2052 | N10: 1406 | O10: 33 | P10: 120 | Q10: 493
A11: 2016 | B11: 42583 | C11: 42592.344 | D11: PERRIER ANYTIME | E11: Une chose est sûre, tout le monde se jettera dessus ! Découvrez la recette ici : http://bit.ly/2azDxq4 | F11: 99582 | G11: 52118 | H11: 9031 | I11: 43087 | J11: =G11/F11 -> 0.52336768 | K11: 1639 | L11: =K11/G11 -> 0.031447868 | M11: =SUM(N11:R11) -> 1905 | N11: 1357 | O11: 31 | P11: 113 | Q11: 404
A12: 2016 | B12: 42583 | C12: 42590.281 | D12: PERRIER X 100% NATURAL | E12: L'été se savoure dans une bouteille. | F12: 99506 | G12: 87295 | H12: 17449 | I12: 69846 | J12: =G12/F12 -> 0.87728378 | K12: 3381 | L12: =K12/G12 -> 0.038730741 | M12: =SUM(N12:R12) -> 4314 | N12: 2851 | O12: 48 | P12: 194 | Q12: 1221
A13: 2016 | B13: 42583 | C13: 42587.344 | D13: PERRIER ARO | E13: Les PERRIER Aromatisés prennent le relais. Quel est votre favori ? | F13: 99542 | G13: 51626 | H13: 5720 | I13: 45906 | J13: =G13/F13 -> 0.51863535 | K13: 1198 | L13: =K13/G13 -> 0.023205362 | M13: =SUM(N13:R13) -> 1404 | N13: 982 | O13: 28 | P13: 71 | Q13: 323
A14: 2016 | B14: 42583 | C14: 42585.344 | D14: DIGITAL ARTIST | E14: Nos bulles sont pleines de vie ! © A.L.Crego / @Mutante Creativo - 2016 | F14: 99567 | G14: 79753 | H14: 8807 | I14: 70946 | J14: =G14/F14 -> 0.80099832 | K14: 2077 | L14: =K14/G14 -> 0.026042907 | M14: =SUM(N14:R14) -> 2326 | N14: 1502 | O14: 15 | P14: 123 | Q14: 686
A15: 2016 | B15: 42583 | C15: 42583.281 | D15: PERRIER BRAND | E15: On a goûté l'eau. Elle est fraîche ! | F15: 99588 | G15: 82265 | H15: 12263 | I15: 70002 | J15: =G15/F15 -> 0.82605334 | K15: 2234 | L15: =K15/G15 -> 0.027156142 | M15: =SUM(N15:R15) -> 2606 | N15: 1735 | O15: 31 | P15: 183 | Q15: 657
A16: 2016 | B16: 42552 | C16: 42580.354 | D16: DIGITAL ARTIST | E16: Une bouteille à la mer ! © A.L.Crego / Mutante Creativo- 2016 | F16: 99617 | G16: 88205 | H16: 11540 | I16: 76665 | J16: =G16/F16 -> 0.88544124 | K16: 2434 | L16: =K16/G16 -> 0.027594808 | M16: =SUM(N16:R16) -> 2784 | N16: 1473 | O16: 23 | P16: 138 | Q16: 1150
A17: 2016 | B17: 42552 | C17: 42578.344 | D17: PERRIER ICONIC | E17: Cet été, les PERRIER aromatisés vous en feront voir de toutes les couleurs. | F17: 99629 | G17: 51985 | H17: 7815 | I17: 44170 | J17: =G17/F17 -> 0.52178583 | K17: 1388 | L17: =K17/G17 -> 0.02670001 | M17: =SUM(N17:R17) -> 1571 | N17: 1160 | O17: 10 | P17: 77 | Q17: 324
A18: 2016 | B18: 42552 | C18: 42576.344 | D18: PERRIER ARO | E18: Un PERRIER à la hauteur des attentes les plus extraordinaires.. #ExtraordinairePerrier Découvrez-en plus ici : http://bit.ly/28Ys00K | F18: 99622 | G18: 68698 | H18: 8548 | I18: 60150 | J18: =G18/F18 -> 0.68958664 | K18: 1833 | L18: =K18/G18 -> 0.026681999 | M18: =SUM(N18:R18) -> 2253 | N18: 1616 | O18: 16 | P18: 58 | Q18: 563
A19: 2016 | B19: 42552 | C19: 42573.344 | D19: PERRIER BRAND | E19: PERRIER rafraîchit naturellement votre été ! | F19: 99641 | G19: 60345 | H19: 7689 | I19: 52656 | J19: =G19/F19 -> 0.60562419 | K19: 1995 | L19: =K19/G19 -> 0.033059906 | M19: =SUM(N19:R19) -> 2400 | N19: 1702 | O19: 14 | P19: 85 | Q19: 599
... A42: 2016 | B42: 42522 | C42: 42528.312 | D42: PERRIER ARO | E42: Les PERRIER aromatisés vous feront pousser des ailes ! | F42: 97864 | G42: 47007 | H42: 7294 | I42: 39713 | J42: =G42/F42 -> 0.48032985 | K42: 1191 | L42: =K42/G42 -> 0.025336652 | M42: =SUM(N42:R42) -> 1360 | N42: 890 | O42: 29 | P42: 48 | Q42: 393
A43: 2016 | B43: 42522 | C43: 42525.99 | D43: ROLAND-GARROS | E43: Ce dernier match s'annonce extraordinaire ! N'en perdez pas une goutte ! © Yelldesign - 2016 | F43: 97796 | G43: 1030598 | H43: 12663 | I43: 1017935 | J43: =G43/F43 -> 10.538243 | K43: 100215 | L43: =K43/G43 -> 0.097239661 | M43: =SUM(N43:R43) -> 106781 | N43: 623 | O43: 25 | P43: 57 | Q43: 7054 | R43: 99022
A44: 2016 | B44: 42522 | C44: 42525.448 | D44: PERRIER ARO | E44: Et qu’est-ce qui est encore plus extraordinaire qu’une femme savourant un PERRIER sur une licorne soulevée par une cheerleader, qui tient en équilibre sur une joueuse de tuba, qui tient debout sur un château de cartes, porté par des garçons de café ? Un PERRIER Aromatisé pardi ! | F44: 97618 | G44: 40470 | H44: 16579 | I44: 23891 | J44: =G44/F44 -> 0.41457518 | K44: 1900 | L44: =K44/G44 -> 0.046948357 | M44: =SUM(N44:R44) -> 2816 | N44: 373 | O44: 34 | P44: 84 | Q44: 1063 | R44: 1262
A45: 2016 | B45: 42522 | C45: 42524.281 | D45: PERRIER ARO | E45: Qu'est-ce qui est plus extraordinaire qu’une licorne soulevée par une cheerleader, qui tient en équilibre sur une joueuse de tuba, qui tient debout sur un château de cartes, porté par des garçons de café ? Faites parler votre imagination ! | F45: 97390 | G45: 38015 | H45: 6544 | I45: 31471 | J45: =G45/F45 -> 0.39033782 | K45: 527 | L45: =K45/G45 -> 0.013862949 | M45: =SUM(N45:R45) -> 726 | N45: 403 | O45: 28 | P45: 66 | Q45: 229
A46: 2016 | B46: 42491 | C46: 42521.198 | D46: ROLAND-GARROS | E46: Une bouteille qui cache bien son jeu. #RG16 | F46: 96323 | G46: 180271 | H46: 15043 | I46: 165228 | J46: =G46/F46 -> 1.871526 | K46: 5493 | L46: =K46/G46 -> 0.030470791 | M46: =SUM(N46:R46) -> 6360 | N46: 4354 | O46: 76 | P46: 158 | Q46: 1772
A47: 2016 | B47: 42491 | C47: 42517.344 | D47: PERRIER BRAND | E47: Ce week-end, partagez des bulles d'amour ! #FêteDesMères | F47: 96100 | G47: 33189 | H47: 6585 | I47: 26604 | J47: =G47/F47 -> 0.345359 | K47: 1394 | L47: =K47/G47 -> 0.042001868 | M47: =SUM(N47:R47) -> 1673 | N47: 1262 | O47: 15 | P47: 99 | Q47: 297
A48: 2016 | B48: 42491 | C48: 42515.281 | D48: ROLAND-GARROS | E48: Roland-Garros se joue aussi au-delà des murs. | F48: 95924 | G48: 99749 | H48: 11512 | I48: 88237 | J48: =G48/F48 -> 1.0398753 | K48: 2753 | L48: =K48/G48 -> 0.027599274 | M48: =SUM(N48:R48) -> 3073 | N48: 2221 | O48: 27 | P48: 171 | Q48: 654
A49: 2016 | B49: 42491 | C49: 42513.344 | D49: ROLAND-GARROS | E49: [CONCOURS] Gagnez 2 places pour la finale de Roland-Garros ! Quel extraordinaire fan de tennis êtes-vous ? Rdv sur Instagram, prenez-vous en photo avec un accessoire de tennis et publiez-la avec le #PerrierRG16 et @Perrier. Un jury désignera la photo la plus extraordinaire ! La balle est dans votre camp ;) P.S. : N'oubliez pas de configurer votre compte Instagram en mode "public" pour que nous puissions voir votre photo ;) Règlement : http://bit.ly/1U73tFs Merci à @Louis.lgr via Instagram. | F49: 95712 | G49: 181178 | H49: 4350 | I49: 176828 | J49: =G49/F49 -> 1.8929497 | K49: 3493 | L49: =K49/G49 -> 0.019279383 | M49: =SUM(N49:R49) -> 4409 | N49: 1775 | O49: 40 | P49: 48 | Q49: 2546
A50: 2016 | B50: 42491 | C50: 42512.198 | D50: ROLAND-GARROS | E50: Jour-J ! PERRIER fait son entrée sur le terrain ! Inscrivez-vous à notre événement Perrier x Roland-Garros 2016 : http://bit.ly/1U3EwgX © Jonah Nigro / www.popsicleillusion.com - 2016 | F50: 95659 | G50: 82696 | H50: 10280 | I50: 72416 | J50: =G50/F50 -> 0.8644874 | K50: 797 | L50: =K50/G50 -> 0.0096377092 | M50: =SUM(N50:R50) -> 937 | N50: 344 | O50: 4 | P50: 23 | Q50: 566
A51: 2016 | B51: 42491 | C51: 42508.344 | D51: ROLAND-GARROS | E51: PERRIER ne perd pas le nord. Cap sur Roland-Garros ! | F51: 94888 | G51: 72784 | H51: 12294 | I51: 60490 | J51: =G51/F51 -> 0.76705168 | K51: 1083 | L51: =K51/G51 -> 0.014879644 | M51: =SUM(N51:R51) -> 1393 | N51: 826 | O51: 34 | P51: 91 | Q51: 442
A52: 2016 | B52: 42491 | C52: 42496.344 | D52: PERRIER ANYTIME | E52: Ce cocktail caliente vous donnera des étoiles plein les yeux. | F52: 94569 | G52: 39845 | H52: 14105 | I52: 25740 | J52: =G52/F52 -> 0.42133257 | K52: 1582 | L52: =K52/G52 -> 0.039703852 | M52: =SUM(N52:R52) -> 1912 | N52: 1403 | O52: 12 | P52: 124 | Q52: 373
A53: 2016 | B53: 42491 | C53: 42494.365 | D53: PERRIER BRAND | E53: Feuilletez les pages du nouveau magazine Perrier.com ! Art, lifestyle, bars & cocktails, cette lecture vous rafraîchira : https://www.perrier.com/fr/fr/magazine | F53: 94299 | G53: 29027 | H53: 6798 | I53: 22229 | J53: =G53/F53 -> 0.30781875 | K53: 822 | L53: =K53/G53 -> 0.028318462 | M53: =SUM(N53:R53) -> 902 | N53: 686 | O53: 2 | P53: 36 | Q53: 178
A54: 2016 | B54: 42461 | C54: 42490.198 | D54: PERRIER BRAND | E54: Difficile de trancher... On prend les deux ! | F54: 93997 | G54: 94247 | H54: 13507 | I54: 80740 | J54: =G54/F54 -> 1.0026597 | K54: 2757 | L54: =K54/G54 -> 0.029252921 | M54: =SUM(N54:R54) -> 3382 | N54: 2241 | O54: 43 | P54: 93 | Q54: 1005
A55: 2016 | B55: 42461 | C55: 42488.344 | D55: PERRIER x ART | E55: Une galerie d'art PERRIER ? On en a l'eau à la bouche rien que d'y penser. | F55: 93995 | G55: 49432 | H55: 6300 | I55: 43132 | J55: =G55/F55 -> 0.52590031 | K55: 1175 | L55: =K55/G55 -> 0.023770028 | M55: =SUM(N55:R55) -> 1305 | N55: 939 | O55: 11 | P55: 51 | Q55: 304
A56: 2016 | B56: 42461 | C56: 42486.354 | D56: PERRIER ICONIC | E56: Une silhouette extraordinaire au naturel. | F56: 93988 | G56: 74170 | H56: 10805 | I56: 63365 | J56: =G56/F56 -> 0.78914329 | K56: 2741 | L56: =K56/G56 -> 0.036955642 | M56: =SUM(N56:R56) -> 3304 | N56: 2251 | O56: 64 | P56: 72 | Q56: 917
... A63: 2016 | B63: 42461 | C63: 42468.354 | D63: PERRIER Since 1863 | E63: La naissance de la source. #ExtraordinairePerrier © Milton Glaser - 1984 | F63: 93839 | G63: 71666 | H63: 8500 | I63: 63166 | J63: =G63/F63 -> 0.76371232 | K63: 2036 | L63: =K63/G63 -> 0.028409567 | M63: =SUM(N63:R63) -> 2473 | N63: 1609 | O63: 20 | P63: 87 | Q63: 757
A64: 2016 | B64: 42461 | C64: 42466.344 | D64: PERRIER ICONIC | E64: Une goutte de PERRIER suffit pour passer au niveau supérieur. #ExtraordinairePerrier | F64: 93827 | G64: 132977 | H64: 8836 | I64: 124141 | J64: =G64/F64 -> 1.4172573 | K64: =(524+9985)-431 -> 10078 | L64: =K64/G64 -> 0.075787542 | M64: =SUM(N64:R64) -> 10492 | N64: 86 | O64: 7 | P64: 9 | Q64: 506 | R64: 9884
A65: 2016 | B65: 42461 | C65: 42464.344 | D65: DIGITAL ARTIST | E65: Offrez-vous un bouquet de fraîcheur. #Plaisirdoffrir #Joiederecevoir Jonah Nigro / www.popsicleillusion.com - 2016 | F65: 93812 | G65: 66741 | H65: 7107 | I65: 59634 | J65: =G65/F65 -> 0.71143351 | K65: 1402 | L65: =K65/G65 -> 0.021006578 | M65: =SUM(N65:R65) -> 1619 | N65: 1143 | O65: 11 | P65: 70 | Q65: 395
A66: 2016 | B66: 42461 | C66: 42461.01 | D66: PERRIER BRAND | E66: Les blagues PERRIER sont toujours de bon goût. #BoissonDAvril | F66: 93572 | G66: 79324 | H66: 19136 | I66: 60188 | J66: =G66/F66 -> 0.84773223 | K66: 1707 | L66: =K66/G66 -> 0.021519338 | M66: =SUM(N66:R66) -> 2226 | N66: 1306 | O66: 71 | P66: 176 | Q66: 673
A67: 2016 | B67: 42430 | C67: 42458.385 | D67: PERRIER BRAND | E67: Elles vous feront tourner la tête...naturellement. #ExtraordinairePerrier | F67: 93493 | G67: 86732 | H67: 5578 | I67: 81154 | J67: 0.92768443 | K67: 1196 | L67: 0.013789605 | M67: =SUM(N67:R67) -> 1305 | N67: 877 | O67: 7 | P67: 43 | Q67: 378
A68: 2016 | B68: 42430 | C68: 42456.042 | D68: DIGITAL ARTIST | E68: La chasse aux bulles est ouverte ! #JoyeusesPâques © Jonah Nigro / www.popsicleillusion.com - 2016 | F68: 93501 | G68: 173574 | H68: 6390 | I68: 167184 | J68: 1.8563866 | K68: 19598 | L68: 0.11290862 | M68: =SUM(N68:R68) -> 24854 | N68: 181 | O68: 2 | P68: 17 | Q68: 24654
...

Sheet ANALYSE 2
L1: EXCLUDING VIEWERS & VUES EN 2015
B3: Valeurs
A4: Étiquettes de lignes | B4: TOTAL REACH | C4: TOTAL REACH ORGANIQUE | D4: TOTAL PAID REACH | E4: AVERAGE REACH | F4: TOTAL ENGAGED USERS | G4: AVERAGE ENGAGED USERS | H4: TOTAL ENGAGEMENTS | I4: NB posts | J4: TAUX ENGAGEMENTok
A5: 2015
A6: DIGITAL ARTIST | B6: 1184837 | C6: 97258 | D6: 1087579 | E6: 197472.83 | F6: 11303 | G6: 1883.8333 | H6: 14625 | I6: 6 | J6: 0.0095397088
A7: HAB | B7: 21796381 | C7: 238978 | D7: 21557403 | E7: 1453092.1 | F7: 177754 | G7: 11850.267 | H7: 164007 | I7: 15 | J7: 0.0081552071
A8: PERRIER ANYTIME | B8: 993793 | C8: 163090 | D8: 830703 | E8: 110421.44 | F8: 22987 | G8: 2554.1111 | H8: 24893 | I8: 9 | J8: 0.023130571
A9: PERRIER BRAND | B9: 1070222 | C9: 30114 | D9: 1040108 | E9: 267555.5 | F9: 8540 | G9: 2135 | H9: 7662 | I9: 4 | J9: 0.0079796528
A10: PERRIER ICONIC | B10: 2146142 | C10: 297537 | D10: 1848605 | E10: 85845.68 | F10: 40576 | G10: 1623.04 | H10: 48358 | I10: 25 | J10: 0.018906484
A11: PERRIER Since 1863 | B11: 423564 | C11: 42434 | D11: 381130 | E11: 60509.143 | F11: 8277 | G11: 1182.4286 | H11: 10565 | I11: 7 | J11: 0.019541321
A12: PERRIER x ART | B12: 1567920 | C12: 108921 | D12: 1458999 | E12: 120609.23 | F12: 21069 | G12: 1620.6923 | H12: 24975 | I12: 13 | J12: 0.013437548
A13: REGRAM | B13: 364786 | C13: 64918 | D13: 299868 | E13: 72957.2 | F13: 10519 | G13: 2103.8 | H13: 12593 | I13: 5 | J13: 0.028836085
A14: STREET ART BY PERRIER | B14: 2669962 | C14: 103136 | D14: 2566826 | E14: 222496.83 | F14: 21787 | G14: 1815.5833 | H14: 25605 | I14: 12 | J14: 0.0081600412
A15: 2015 Total | B15: 32217607 | C15: 1146386 | D15: 31071221 | E15: 335600.07 | F15: 322812 | G15: 3362.625 | H15: 333283 | I15: 96 | J15: 0.010019739
A17: 2016
A18: DIGITAL ARTIST | B18: 1201787 | C18: 165142 | D18: 1036645 | E18: 85841.929 | F18: 47885 | G18: 3420.3571 | H18: 58502 | I18: 14 | J18: 0.039844831
A19: PERRIER ANYTIME | B19: 1224193 | C19: 148929 | D19: 1075264 | E19: 94168.692 | F19: 26857 | G19: 2065.9231 | H19: 33235 | I19: 13 | J19: 0.021938534
A20: PERRIER ARO | B20: 11993982 | C20: 229699 | D20: 11764283 | E20: 799598.8 | F20: 271942 | G20: 18129.467 | H20: 298830 | I20: 15 | J20: 0.022673204
A21: PERRIER BRAND | B21: 1353698 | C21: 210081 | D21: 1143617 | E21: 75205.444 | F21: 33899 | G21: 1883.2778 | H21: 42002 | I21: 18 | J21: 0.025041774
A22: PERRIER ICONIC | B22: 1810183 | C22: 267301 | D22: 1542882 | E22: 75424.292 | F22: 53342 | G22: 2222.5833 | H22: 63262 | I22: 24 | J22: 0.029467739
A23: PERRIER Since 1863 | B23: 265295 | C23: 39506 | D23: 225789 | E23: 66323.75 | F23: 7489 | G23: 1872.25 | H23: 9047 | I23: 4 | J23: 0.028228953
A24: PERRIER X 100% NATURAL | B24: 87295 | C24: 17449 | D24: 69846 | E24: 87295 | F24: 3381 | G24: 3381 | H24: 4314 | I24: 1 | J24: 0.038730741
A25: PERRIER x ART | B25: 436951 | C25: 62485 | D25: 374466 | E25: 72825.167 | F25: 12140 | G25: 2023.3333 | H25: 14375 | I25: 6 | J25: 0.027783436
A26: REGRAM | B26: 116692 | C26: 19379 | D26: 97313 | E26: 58346 | F26: 4137 | G26: 2068.5 | H26: 4935 | I26: 2 | J26: 0.035452302
A27: ROLAND-GARROS | B27: 1647276 | C27: 66142 | D27: 1581134 | E27: 274546 | F27: 113834 | G27: 18972.333 | H27: 122953 | I27: 6 | J27: 0.069104388
A28: STREET ART BY PERRIER | B28: 59615 | C28: 6824 | D28: 52791 | E28: 59615 | F28: 1095 | G28: 1095 | H28: 1202 | I28: 1 | J28: 0.01836786
A29: 2016 Total | B29: 20196967 | C29: 1232937 | D29: 18964030 | E29: 194201.61 | F29: 576001 | G29: 5538.4712 | H29: 652657 | I29: 104 | J29: 0.028519183
A31: Total général | B31: 52414574 | C31: 2379323 | D31: 50035251 | E31: 262072.87 | F31: 898813 | G31: 4494.065 | H31: 985940 | I31: 200 | J31: 0.01714815

Sheet 2016 NEW
A1: Pivot | C1: Paid Impressions | D1: CPM | E1: Clicks | F1: Spent | G1: Actions
A2: 1.8059943e+15 | B2: - Et qu’est-ce qui est encore plus extraordinaire qu’une femme savourant un PERRIER sur une licorne soulevée par une cheerleader, qui tient en équilibre sur une joueuse de tuba, qui tient debout sur un château de cartes, porté par des garçons de café ? Un PERRIER Aromatisé pardi ! | C2: 27348 | D2: 18.28 | E2: 351 | F2: 500 | G2: 4277
A3: 1.8059927e+15 | B3: - Qu'est-ce qui est plus extraordinaire qu’une licorne soulevée par une cheerleader, qui tient en équilibre sur une joueuse de tuba, qui tient debout sur un château de cartes, porté par des garçons de café ? Faites parler votre imagination ! | C3: 53496 | D3: 9.35 | E3: 621 | F3: 500 | G3: 387
A4: 1.7925678e+15 | B4: - [CONCOURS | C4: 0 | D4: 0 | E4: 0 | F4: 0 | G4: 0
A5: 1.7925101e+15 | B5: - [CONCOURS | C5: 0 | D5: 0 | E5: 0 | F5: 0 | G5: 0
A6: 1.7925613e+15 | B6: - [CONCOURS | C6: 3939734 | D6: 3.54 | E6: 26663 | F6: 13938.83 | G6: 14809
A7: 1.7925642e+15 | B7: - [CONCOURS | C7: 218763 | D7: 2.42 | E7: 1506 | F7: 529.18 | G7: 1404
A8: 1.7925626e+15 | B8: - [CONCOURS | C8: 0 | D8: 0 | E8: 0 | F8: 0 | G8: 0
A9: 1.7925091e+15 | B9: - [CONCOURS | C9: 708534 | D9: 2.82 | E9: 4038 | F9: 2000 | G9: 2166
A10: 1.850177e+15 | B10: - Une fraîcheur qui tourne en boucle ! | C10: 180320 | D10: 5.55 | E10: 2816 | F10: 1000 | G10: 2375
A11: 1.765129e+15 | B11: - La folie d’un Perrier, tout en finesse ! | C11: 67996 | D11: 4.3 | E11: 1424 | F11: 292.46 | G11: 1208
A12: 1.7651367e+15 | B12: - Attention... Ce GIF va vous donner soif ! | C12: 68844 | D12: 4.15 | E12: 1604 | F12: 285.39 | G12: 1371
A13: 1.7795449e+15 | B13: - Du PERRIER et du soleil pour un arc-en-ciel extraordinaire. | C13: 69211 | D13: 4.33 | E13: 1938 | F13: 300 | G13: 1739
... A128: 1.7814802e+15 | B128: - Une goutte de PERRIER suffit pour passer au niveau supérieur. #ExtraordinairePerrier | C128: 116735 | D128: 2.55 | E128: 644 | F128: 297.59 | G128: 247231

Sheet 2015 NEW
A1: Pivot | C1: Paid Impressions | D1: CPM | E1: Clicks | F1: Spent | G1: Actions
A2: 1.0153399e+16 | B2: - Bottled up with excitement. | C2: 107653 | D2: 2.32 | E2: 6031 | F2: 250 | G2: 5860
A3: 1.0153403e+16 | B3: - Always here to serve. #TBT | C3: 87318 | D3: 4.29 | E3: 4073 | F3: 375 | G3: 3544
A4: 1.613148e+15 | B4: - Perrier et la Croix-Rouge française vous donnent rendez-vous à partir de lundi sur Twitter. #StreetArtByPerrier w/ ARTCURIAL | C4: 293657 | D4: 3.29 | E4: 4420 | F4: 966.35 | G4: 65943
A5: 1.6619016e+15 | B5: - Perrier, à votre service. #TBT | C5: 41114 | D5: 9.12 | E5: 604 | F5: 375 | G5: 517
A6: 1.6613824e+15 | B6: - Révélation du jour, c'est un sourire. | C6: 63313 | D6: 7.9 | E6: 1613 | F6: 500 | G6: 1379
A7: 1.6301319e+15 | B7: - À l'endroit ça donne Perrier Fines Bulles. À taaaaaable ! #PerrierFinesBulles | C7: 274444 | D7: 6.75 | E7: 5212 | F7: 1852.7 | G7: 18173
A8: 1.6591625e+15 | B8: - L'extraordinaire, tu apprécieras. | C8: 1455 | D8: 2.8 | E8: 32 | F8: 4.07 | G8: 43
A9: 1.6619027e+15 | B9: - Peace, love and Perrier. | C9: 46973 | D9: 7.98 | E9: 1808 | F9: 375 | G9: 1809
A10: 1.6536464e+15 | B10: - Partagez votre bulle préférée en commentaire pour tenter de gagner une soirée privée avec vos amis à l'Atelier des Artistes ! Pour participer, téléchargez les images #PerrierFinesBulles ici : http://bit.ly/album_pfb | C10: 9048 | D10: 6.39 | E10: 137 | F10: 57.78 | G10: 162
A11: 1.6285995e+15 | B11: - Perrier Fines Bulles c'est tout l'esprit de Perrier à taaaaable ! SUPEEEEER ! #PerrierFinesBulles | C11: 185708 | D11: 5.75 | E11: 2723 | F11: 1068.18 | G11: 32987
A12: 1.0153403e+16 | B12: - Peace, love and Perrier. | C12: 78914 | D12: 4.75 | E12: 5629 | F12: 375 | G12: 5305
A13: 1.63906e+15 | B13: - Vous avez pas soif vous ? À taaaaable ! #PerrierFinesBulles | C13: 100665 | D13: 7.73 | E13: 2323 | F13: 778.01 | G13: 8885
... A187: 1.0153676e+16 | B187: - Brace yourself, this will be an extraordinaire fall! #Equinox | C187: 44999 | D187: 4.44 | E187: 1005 | F187: 200 | G187: 745

Sheet Complement
A1: POST ID | B1: Date | C1: Post | D1: Imp | E1: CPM | F1: Clicks | G1: Spent | H1: Actions
A2: 1.843151e+15 | B2: 42625.354 | C2: On ne se lasse pas des grands classiques ! Redécouvrez le virgin mojito version PERRIER Menthe ! Pour découvrir tous nos cocktails, venez buller ici : http://bit.ly/1XmLCkL | D2: =1024818+453336 -> 1478154 | E2: =(G2/D2)*1000 -> 2.2454697 | F2: =10524+4151 -> 14675 | G2: =2000+1319.15 -> 3319.15 | H2: =117647+68795 -> 186442
A3: 1.8431503e+15 | B3: 42620.354 | C3: Laissez-vous tenter par ce cocktail à croquer ! Le Perrier Fraise vous fera rougir de plaisir... ;) Pour découvrir tous nos cocktails, venez buller ici : http://bit.ly/1XmLCkL | D3: 1700699 | E3: 2.91 | F3: 13920 | G3: 4948.98 | H3: 288728
A4: 1.8426852e+15 | B4: 42613.354 | C4: Le secret de ce cocktail ? Un PERRIER Citron pour une fraîcheur garantie et sans se presser ! Pour découvrir tous nos cocktails, venez buller ici : http://bit.ly/1XmLCkL | D4: 1792315 | E4: 2.91 | F4: 12047 | G4: 5215.59 | H4: 237570
A5: 1.8422573e+15 | B5: 42611.392 | C5: - Garçon ! Auriez-vous un PERRIER avec un goût fruité ? - Et un PERRIER aromatisé pour la 17 ! Un ! Et pour vous ? | D5: 3599808 | E5: 0.56 | F5: 12157 | G5: 6793.15 | H5: 497733
A6: 1.8409231e+15 | B6: 42608.387 | C6: [CONCOURS] Prenez une pause PERRIER pour faire tomber la température ! Agrumes, Citron, Fraise, Menthe, Pomme verte ou Citron vert, quel PERRIER aromatisé vous rafraîchira ? Quinze personnes seront tirées au sort dans les commentaires pour recevoir leurs PERRIER aromatisés ;) Règlement : http://urlz.fr/40aL | D6: 128209 | E6: 2.34 | F6: 2818 | G6: 300 | H6: 2551
A7: 1.8371546e+15 | B7: 42604.344 | C7: Nom d'une licorne ! Un PERRIER aromatisé avec 0 sucres, ça existe vraiment ? | D7: 1996751 | E7: 1.87 | F7: 6340 | G7: 3724.12 | H7: 295903
A8: 1.8371533e+15 | B8: 42601.344 | C8: Un PERRIER aromatisé peut-il être 100% naturel ? Le perroquet vous souffle la réponse... | D8: 4209456 | E8: 2.9 | F8: 21056 | G8: 12223.35 | H8: 756403
A9: 1.7925642e+15 | B9: 42506.344 | C9: [CONCOURS] Le match n'est pas fini ! Retrouvez notre Tennisman en participant à notre jeu "The Quest" et tentez de gagner 24h à Roland-Garros avec PERRIER ! | D9: 218763 | E9: 2.42 | F9: 1506 | G9: 529.18 | H9: 1404
A10: 1.7925091e+15 | B10: 42499.344 | C10: [CONCOURS] Où se trouvent les personnages extraordinaires de la publicité PERRIER ? Jouez à notre jeu "The Quest" pour tenter de gagner 24h à Roland-Garros avec PERRIER ! Jouez ici : https://www.extraordinaire-quest.perrier.com/ | D10: 568018 | E10: 2.35 | F10: 3057 | G10: 1335 | H10: 1670
A11: 1.7925613e+15 | B11: 42492.344 | C11: [CONCOURS] Vous vous rappelez des personnages de la pub PERRIER "Hot Air Balloons" ? Suivez-les dans leur voyage extraordinaire, et devinez où ils se trouvent ! Vous gagnerez peut-être 24h extraordinaires à Roland-Garros ! Ouvrez l'oeil ! | D11: 3939734 | E11: 3.54 | F11: 26663 | G11: 13938.83 | H11: 14809
A12: 1.7814802e+15 | B12: 42466.344 | C12: Une goutte de PERRIER suffit pour passer au niveau supérieur. #ExtraordinairePerrier | D12: 116735 | E12: 2.55 | F12: 644 | G12: 297.59 | H12: 22254
A13: 1.7715653e+15 | B13: 42458.385 | C13: Elles vous feront tourner la tête...naturellement. #ExtraordinairePerrier | D13: 96926 | E13: 3.1 | F13: 1348 | G13: 300 | H13: 1000
A14: 1.7715359e+15 | B14: 42456.042 | C14: La chasse aux bulles est ouverte ! #JoyeusesPâques © Jonah Nigro / www.popsicleillusion.com - 2016 | D14: 188894 | E14: 1.59 | F14: 20396 | G14: 300 | H14: 19997
... A20: 1.6786535e+15 | B20: 42186.354 | C20: PERRIER sait aussi révéler son côté sauvage. | D20: 3340529 | E20: 3.47 | F20: 27116 | G20: 11600 | H20: 832689
A21: 1.6716759e+15 | B21: 42185.144 | C21: Découvrez notre nouveau film PERRIER et préparez-vous à un voyage extraordinaire ! #ExtraordinairePerrier | D21: 6913913 | E21: =(G21/D21)*1000 -> 5.8310005 | F21: 143721 | G21: 40315.03 | H21: 1650119
A22: 1.6786543e+15 | B22: 42181.354 | C22: Garçons de café ou musiciens ? Cheerleaders ou bête féroce ? A chacun sa montgolfière ! Laquelle choisissez-vous ? | D22: 3525476 | E22: =(G22/D22)*1000 -> 3.2903358 | F22: 26432 | G22: 11600 | H22: 832557
A23: 1.6718192e+15 | B23: 42174.354 | C23: Hot Air Balloons, l’extraordinaire n’a pas de limites ! #ExtraordinairePerrier | D23: 3525979 | E23: =(G23/D23)*1000 -> 3.2898664 | F23: 23842 | G23: 11600 | H23: 18733
A24: 1.6714507e+15 | B24: 42173.354 | C24: Quel est le point commun entre un artificier, un lion et des pompom girls ? La réponse se cache ici... #ExtraordinairePerrier | D24: 2937582 | E24: =(G24/D24)*1000 -> 3.9488259 | F24: 19161 | G24: 11600 | H24: 622528
A25: 1.6714501e+15 | B25: 42166.354 | C25: A quoi ressemble une soirée clubbing dans une montgolfière ? Découvrez-le ici... #ExtraordinairePerrier | D25: 3128636 | E25: =(G25/D25)*1000 -> 3.707686 | F25: 21046 | G25: 11600 | H25: 663648
A26: 1.6692191e+15 | B26: 42156.125 | C26: [JEU CONCOURS] Ecoutez, imaginez et racontez-nous l'histoire du nouveau film Perrier en commentaire ! Le récit le plus extraordinaire remportera 2 places pour la finale de Roland-Garros ! | D26: 233506 | E26: =(G26/D26)*1000 -> 20.470566 | F26: 3205 | G26: 4780 | H26: 47012

Sheet FAN EVOLUTION
A1: FAN EVOLUTION
A3: RULES TO UPDATE THIS TABLE 1/ Please fill each month the fan evolution datas ; 2/ Once the news datas added, click on the graph, then change the datas on the table via drag and drop with your cursor
A6: PAGE EXPORT Key metrics Tab | B6: PAGE EXPORT Key metrics Tab
A7: 42095 | B7: 1140339
A8: 42096 | B8: 1140479
A9: 42097 | B9: 1140576
A10: 42098 | B10: 1140658
A11: 42099 | B11: 1140784
A12: 42100 | B12: 1140948
A13: 42101 | B13: 1141071
A14: 42102 | B14: 1141216
A15: 42103 | B15: 1141320
A16: 42104 | B16: 1141428
A17: 42105 | B17: 1141580
A18: 42106 | B18: 1141719
... A97: 42185 | B97: 99543
A98: DATE | B98: FANS
A99: 42186 | B99: 99558
A100: 42187 | B100: 99565
A101: 42188 | B101: 99580
A102: 42189 | B102: 99608
A103: 42190 | B103: 99607
A104: 42191 | B104: 99617
A105: 42192 | B105: 99628
A106: 42193 | B106: 99650
A107: 42194 | B107: 99672
A108: 42195 | B108: 99660
A109: 42196 | B109: 99658
A110: 42197 | B110: 99675
... A556: 42643 | B556: 205631

Sheet ALL DATAS
A1: GLOBAL DATAS
A3: RULES TO UPDATE THIS TABLE
A4: 1/ Please fill each month your facebook datas for each post ; 2/ Never change the cells of the line 8
A6: POST EXPORT Key metrics Tab | B6: MANUAL | C6: MANUAL | D6: MANUAL | E6: POST EXPORT Key metrics Tab | F6: MANUAL (entry) | G6: MANUAL (entry) | H6: AUTOMATIC (formula) | I6: POST EXPORT Key metrics Tab | J6: POST EXPORT Key metrics Tab | K6: POST EXPORT Key metrics Tab | L6: POST EXPORT Key metrics Tab | M6: POST EXPORT Key metrics Tab | N6: AUTOMATIC (formula) | O6: AUTOMATIC (formula) | P6: POST EXPORT Lifetime Talking About This... Tab | Q6: POST EXPORT Lifetime Talking About This... Tab | R6: POST EXPORT Lifetime Talking About This... Tab | S6: POST EXPORT Key metrics Tab | T6: VIDEO EXPORT (Main tab) | U6: VIDEO EXPORT (Main Tab) | V6: AUTOMATIC (formula) | W6: AUTOMATIC (formula) | X6: MEDIA | Y6: MEDIA | Z6: MEDIA | AA6: MEDIA | AB6: MEDIA | AC6: MEDIA
A7: - | B7: - | C7: - | D7: Insert the last day of the month | E7: - | F7: - | G7: - | H7: Use to the table "Content performance details | I7: - | J7: Lifetime Post Total Reach (I column) | K7: Lifetime Post organic reach (J column) | L7: Lifetime Post Paid Reach (K column) | M7: Lifetime Engaged Users (O column) | N7: Total Post engaged users / Total Reach | O7: Sum of likes, comment, share, clics, views | P7: K column | Q7: J Column | R7: L column | S7: Lifetime post consumers (P column) | T7: Lifetime Total 30-second Views (P column) | U7: Lifetime Unique 30-second Views (Q column) | V7: Sum of Post Engaged users + video unique viewers | W7: - | X7: to be filled with media agency data | Y7: to be filled with media agency data | Z7: to be filled with media agency data | AA7: to be filled with media agency data | AB7: to be filled with media agency data | AC7: to be filled with media agency data
A8: POST ID | B8: YEAR | C8: QUARTER | D8: MONTH | E8: DATE | F8: TYPE | G8: EDITORIAL LINE CATEGORY | H8: CATEGORIES | I8: POST MESSAGE | J8: TOTAL REACH2 | K8: ORGANIC REACH | L8: PAID REACH | M8: POST ENGAGED USERS | N8: ENGAGEMENT RATE | O8: TOTAL ENGAGEMENT | P8: LIKES | Q8: COMMENTS | R8: SHARES | S8: CLICS | T8: VIEWS | U8: UNIQUE VIEWERS | V8: FINAL POST ENGAGED USERS | W8: FANS TO DATE | X8: SPENT | Y8: CPM | Z8: PAID ACTIONS | AA8: CPE | AB8: PAID IMPRESSIONS | AC8: CALCULATED FREQUENCY
A9: 1.0153057e+16 | B9: 2015 | C9: 2015 Q1 | D9: 42035 | E9: 42005.5 | I9: Test 1 | J9: 2383872 | K9: 2048 | L9: 2381824 | M9: 119744 | N9: =V9/J9 -> 0.050230885 | O9: =SUM(P9:T9) -> 135226 | P9: 100275 | Q9: 416 | R9: 217 | S9: 34318 | V9: =U9+M9 -> 119744 | W9: =IF(ISNA(VLOOKUP(E9,'FAN EVOLUTION'!$A$46:$B$10042,2,1)),0,VLOOKUP(E9,'FAN EVOLUTION'!$A$46:$B$10042,2,1)) -> 0
A10: 1.0153091e+16 | B10: 2015 | C10: 2015 Q1 | D10: 42035 | E10: 42010.5 | I10: Test 2 | J10: 2699 | K10: 2699 | L10: 0 | M10: 352 | N10: =V10/J10 -> 0.13041867 | O10: =SUM(P10:T10) -> 469 | P10: 298 | Q10: 4 | R10: 17 | S10: 150 | V10: =U10+M10 -> 352 | W10: =IF(ISNA(VLOOKUP(E10,'FAN EVOLUTION'!$A$46:$B$10042,2,1)),0,VLOOKUP(E10,'FAN EVOLUTION'!$A$46:$B$10042,2,1)) -> 0
A11: 1.0153105e+16 | B11: 2015 | C11: 2015 Q1 | D11: 42035 | E11: 42016.5 | I11: Test 3 | J11: 1895 | K11: 1895 | L11: 0 | M11: 176 | N11: =V11/J11 -> 0.092875989 | O11: =SUM(P11:T11) -> 237 | P11: 134 | R11: 6 | S11: 97 | V11: =U11+M11 -> 176 | W11: =IF(ISNA(VLOOKUP(E11,'FAN EVOLUTION'!$A$46:$B$10042,2,1)),0,VLOOKUP(E11,'FAN EVOLUTION'!$A$46:$B$10042,2,1)) -> 0
A12: 1.0153107e+16 | B12: 2015 | C12: 2015 Q1 | D12: 42035 | E12: 42017.5 | I12: Test 4 | J12: 2315 | K12: 2315 | L12: 0 | M12: 250 | N12: =V12/J12 -> 0.10799136 | O12: =SUM(P12:T12) -> 324 | P12: 203 | Q12: 3 | R12: 10 | S12: 108 | V12: =U12+M12 -> 250 | W12: =IF(ISNA(VLOOKUP(E12,'FAN EVOLUTION'!$A$46:$B$10042,2,1)),0,VLOOKUP(E12,'FAN EVOLUTION'!$A$46:$B$10042,2,1)) -> 0
A13: 1.0153109e+16 | B13: 2015 | C13: 2015 Q1 | D13: 42035 | E13: 42018.5 | I13: Test 5 | J13: 2800 | K13: 2800 | L13: 0 | M13: 314 | N13: =V13/J13 -> 0.11214286 | O13: =SUM(P13:T13) -> 400 | P13: 273 | Q13: 3 | R13: 15 | S13: 109 | V13: =U13+M13 -> 314 | W13: =IF(ISNA(VLOOKUP(E13,'FAN EVOLUTION'!$A$46:$B$10042,2,1)),0,VLOOKUP(E13,'FAN EVOLUTION'!$A$46:$B$10042,2,1)) -> 0
A14: 1.0153113e+16 | B14: 2015 | C14: 2015 Q1 | D14: 42035 | E14: 42019.125 | I14: Test 6 | J14: 60 | K14: 60 | L14: 0 | M14: 38 | N14: =V14/J14 -> 0.63333333 | O14: =SUM(P14:T14) -> 64 | P14: 16 | Q14: 2 | R14: 1 | S14: 45 | V14: =U14+M14 -> 38 | W14: =IF(ISNA(VLOOKUP(E14,'FAN EVOLUTION'!$A$46:$B$10042,2,1)),0,VLOOKUP(E14,'FAN EVOLUTION'!$A$46:$B$10042,2,1)) -> 0
A15: 1.015312e+16 | B15: 2015 | C15: 2015 Q1 | D15: 42035 | E15: 42023.5 | I15: Test 7 | J15: 2842 | K15: 2842 | L15: 0 | M15: 298 | N15: =V15/J15 -> 0.10485574 | O15: =SUM(P15:T15) -> 383 | P15: 256 | R15: 15 | S15: 112 | V15: =U15+M15 -> 298 | W15: =IF(ISNA(VLOOKUP(E15,'FAN EVOLUTION'!$A$46:$B$10042,2,1)),0,VLOOKUP(E15,'FAN EVOLUTION'!$A$46:$B$10042,2,1)) -> 0
A16: 1.0153124e+16 | B16: 2015 | C16: 2015 Q1 | D16: 42035 | E16: 42025.5 | I16: Test 8 | J16: 2293 | K16: 2293 | L16: 0 | M16: 199 | N16: =V16/J16 -> 0.08678587 | O16: =SUM(P16:T16) -> 271 | P16: 172 | Q16: 1 | R16: 9 | S16: 89 | V16: =U16+M16 -> 199 | W16: =IF(ISNA(VLOOKUP(E16,'FAN EVOLUTION'!$A$46:$B$10042,2,1)),0,VLOOKUP(E16,'FAN EVOLUTION'!$A$46:$B$10042,2,1)) -> 0
A17: 1.0153135e+16 | B17: 2015 | C17: 2015 Q1 | D17: 42035 | E17: 42030.5 | I17: Test 9 | J17: 2318 | K17: 2318 | L17: 0 | M17: 244 | N17: =V17/J17 -> 0.10526316 | O17: =SUM(P17:T17) -> 322 | P17: 207 | Q17: 1 | R17: 7 | S17: 107 | V17: =U17+M17 -> 244 | W17: =IF(ISNA(VLOOKUP(E17,'FAN EVOLUTION'!$A$46:$B$10042,2,1)),0,VLOOKUP(E17,'FAN EVOLUTION'!$A$46:$B$10042,2,1)) -> 0
A18: 1.0153142e+16 | B18: 2015 | C18: 2015 Q1 | D18: 42035 | E18: 42033.5 | I18: Test 10 | J18: 1371 | K18: 1371 | L18: 0 | M18: 113 | N18: =V18/J18 -> 0.08242159 | O18: =SUM(P18:T18) -> 162 | P18: 76 | R18: 4 | S18: 82 | V18: =U18+M18 -> 113 | W18: =IF(ISNA(VLOOKUP(E18,'FAN EVOLUTION'!$A$46:$B$10042,2,1)),0,VLOOKUP(E18,'FAN EVOLUTION'!$A$46:$B$10042,2,1)) -> 0
A19: 1.0153144e+16 | B19: 2015 | C19: 2015 Q1 | D19: 42035 | E19: 42034.458 | I19: Test 11 | J19: 2359 | K19: 2359 | L19: 0 | M19: 203 | N19: =V19/J19 -> 0.086053412 | O19: =SUM(P19:T19) -> 258 | P19: 28 | R19: 3 | S19: 124 | T19: 103 | V19: =U19+M19 -> 203 | W19: =IF(ISNA(VLOOKUP(E19,'FAN EVOLUTION'!$A$46:$B$10042,2,1)),0,VLOOKUP(E19,'FAN EVOLUTION'!$A$46:$B$10042,2,1)) -> 0
A20: 1.0153152e+16 | B20: 2015 | C20: 2015 Q1 | D20: 42063 | E20: 42037.5 | I20: Test 12 | J20: 3098 | K20: 3098 | L20: 0 | M20: 256 | N20: =V20/J20 -> 0.082633957 | O20: =SUM(P20:T20) -> 364 | P20: 204 | Q20: 4 | R20: 21 | S20: 135 | V20: =U20+M20 -> 256 | W20: =IF(ISNA(VLOOKUP(E20,'FAN EVOLUTION'!$A$46:$B$10042,2,1)),0,VLOOKUP(E20,'FAN EVOLUTION'!$A$46:$B$10042,2,1)) -> 0
A21: 1.0153161e+16 | B21: 2015 | C21: 2015 Q1 | D21: 42063 | E21: 42041.5 | I21: Test 13 | J21: 4916 | K21: 4916 | L21: 0 | M21: 562 | N21: =V21/J21 -> 0.11432059 | O21: =SUM(P21:T21) -> 763 | P21: 466 | Q21: 7 | R21: 33 | S21: 257 | V21: =U21+M21 -> 562 | W21: =IF(ISNA(VLOOKUP(E21,'FAN EVOLUTION'!$A$46:$B$10042,2,1)),0,VLOOKUP(E21,'FAN EVOLUTION'!$A$46:$B$10042,2,1)) -> 0
A22: 1.0153169e+16 | B22: 2015 | C22: 2015 Q1 | D22: 42063 | E22: 42044.536 | I22: Test 14 | J22: 1937 | K22: 1937 | L22: 0 | M22: 190 | N22: =V22/J22 -> 0.09808983 | O22: =SUM(P22:T22) -> 269 | P22: 143 | Q22: 3 | R22: 12 | S22: 111 | V22: =U22+M22 -> 190 | W22: =IF(ISNA(VLOOKUP(E22,'FAN EVOLUTION'!$A$46:$B$10042,2,1)),0,VLOOKUP(E22,'FAN EVOLUTION'!$A$46:$B$10042,2,1)) -> 0
A23: 1.0153173e+16 | B23: 2015 | C23: 2015 Q1 | D23: 42063 | E23: 42046.5 | I23: Test 15 | J23: 2982 | K23: 2982 | L23: 0 | M23: 288 | N23: =V23/J23 -> 0.096579477 | O23: =SUM(P23:T23) -> 417 | P23: 227 | Q23: 20 | R23: 13 | S23: 157 | V23: =U23+M23 -> 288 | W23: =IF(ISNA(VLOOKUP(E23,'FAN EVOLUTION'!$A$46:$B$10042,2,1)),0,VLOOKUP(E23,'FAN EVOLUTION'!$A$46:$B$10042,2,1)) -> 0
A24: 1.015318e+16 | B24: 2015 | C24: 2015 Q1 | D24: 42063 | E24: 42049.375 | I24: Test 16 | J24: 2838 | K24: 2838 | L24: 0 | M24: 277 | N24: =V24/J24 -> 0.097603946 | O24: =SUM(P24:T24) -> 383 | P24: 225 | Q24: 4 | R24: 16 | S24: 138 | V24: =U24+M24 -> 277 | W24: =IF(ISNA(VLOOKUP(E24,'FAN EVOLUTION'!$A$46:$B$10042,2,1)),0,VLOOKUP(E24,'FAN EVOLUTION'!$A$46:$B$10042,2,1)) -> 0
A25: 1.0153186e+16 | B25: 2015 | C25: 2015 Q1 | D25: 42063 | E25: 42051.5 | I25: Test 17 | J25: 1916 | K25: 1916 | L25: 0 | M25: 179 | N25: =V25/J25 -> 0.0934238 | O25: =SUM(P25:T25) -> 252 | P25: 158 | R25: 5 | S25: 89 | V25: =U25+M25 -> 179 | W25: =IF(ISNA(VLOOKUP(E25,'FAN EVOLUTION'!$A$46:$B$10042,2,1)),0,VLOOKUP(E25,'FAN EVOLUTION'!$A$46:$B$10042,2,1)) -> 0
A26: 1.0153193e+16 | B26: 2015 | C26: 2015 Q1 | D26: 42063 | E26: 42054.5 | I26: Test 18 | J26: 1722 | K26: 1722 | L26: 0 | M26: 143 | N26: =V26/J26 -> 0.083042973 | O26: =SUM(P26:T26) -> 184 | P26: 107 | R26: 9 | S26: 68 | V26: =U26+M26 -> 143 | W26: =IF(ISNA(VLOOKUP(E26,'FAN EVOLUTION'!$A$46:$B$10042,2,1)),0,VLOOKUP(E26,'FAN EVOLUTION'!$A$46:$B$10042,2,1)) -> 0
A27: 1.0153203e+16 | B27: 2015 | C27: 2015 Q1 | D27: 42063 | E27: 42058.5 | I27: Test 19 | J27: 1848 | K27: 1848 | L27: 0 | M27: 166 | N27: =V27/J27 -> 0.08982684 | O27: =SUM(P27:T27) -> 255 | P27: 124 | Q27: 2 | R27: 14 | S27: 115 | V27: =U27+M27 -> 166 | W27: =IF(ISNA(VLOOKUP(E27,'FAN EVOLUTION'!$A$46:$B$10042,2,1)),0,VLOOKUP(E27,'FAN EVOLUTION'!$A$46:$B$10042,2,1)) -> 0
A28: 1.0153208e+16 | B28: 2015 | C28: 2015 Q1 | D28: 42063 | E28: 42060.5 | I28: Test 20 | J28: 2054 | K28: 2054 | L28: 0 | M28: 163 | N28: =V28/J28 -> 0.079357352 | O28: =SUM(P28:T28) -> 269 | P28: 142 | Q28: 6 | R28: 11 | S28: 110 | V28: =U28+M28 -> 163 | W28: =IF(ISNA(VLOOKUP(E28,'FAN EVOLUTION'!$A$46:$B$10042,2,1)),0,VLOOKUP(E28,'FAN EVOLUTION'!$A$46:$B$10042,2,1)) -> 0
A29: 1.0153212e+16 | B29: 2015 | C29: 2015 Q1 | D29: 42063 | E29: 42062.5 | I29: Test 21 | J29: 2264 | K29: 2264 | L29: 0 | M29: 210 | N29: =V29/J29 -> 0.092756184 | O29: =SUM(P29:T29) -> 281 | P29: 168 | Q29: 1 | R29: 7 | S29: 105 | V29: =U29+M29 -> 210 | W29: =IF(ISNA(VLOOKUP(E29,'FAN EVOLUTION'!$A$46:$B$10042,2,1)),0,VLOOKUP(E29,'FAN EVOLUTION'!$A$46:$B$10042,2,1)) -> 0
A30: 1.0153219e+16 | B30: 2015 | C30: 2015 Q1 | D30: 42094 | E30: 42065.5 | I30: Test 22 | J30: 1487 | K30: 1487 | L30: 0 | M30: 108 | N30: =V30/J30 -> 0.072629455 | O30: =SUM(P30:T30) -> 145 | P30: 83 | R30: 5 | S30: 57 | V30: =U30+M30 -> 108 | W30: =IF(ISNA(VLOOKUP(E30,'FAN EVOLUTION'!$A$46:$B$10042,2,1)),0,VLOOKUP(E30,'FAN EVOLUTION'!$A$46:$B$10042,2,1)) -> 0
A31: 1.015323e+16 | B31: 2015 | C31: 2015 Q1 | D31: 42094 | E31: 42069.5 | I31: Test 23 | J31: 2616 | K31: 2616 | L31: 0 | M31: 227 | N31: =V31/J31 -> 0.0867737 | O31: =SUM(P31:T31) -> 299 | P31: 186 | Q31: 1 | R31: 8 | S31: 104 | V31: =U31+M31 -> 227 | W31: =IF(ISNA(VLOOKUP(E31,'FAN EVOLUTION'!$A$46:$B$10042,2,1)),0,VLOOKUP(E31,'FAN EVOLUTION'!$A$46:$B$10042,2,1)) -> 0
A32: 1.0153235e+16 | B32: 2015 | C32: 2015 Q1 | D32: 42094 | E32: 42071.5 | I32: Test 24 | J32: 1918 | K32: 1918 | L32: 0 | M32: 146 | N32: =V32/J32 -> 0.076120959 | O32: =SUM(P32:T32) -> 190 | P32: 127 | Q32: 1 | R32: 9 | S32: 53 | V32: =U32+M32 -> 146 | W32: =IF(ISNA(VLOOKUP(E32,'FAN EVOLUTION'!$A$46:$B$10042,2,1)),0,VLOOKUP(E32,'FAN EVOLUTION'!$A$46:$B$10042,2,1)) -> 0
A33: 1.0153242e+16 | B33: 2015 | C33: 2015 Q1 | D33: 42094 | E33: 42074.542 | I33: Test 25 | J33: 1306 | K33: 1306 | L33: 0 | M33: 72 | N33: =V33/J33 -> 0.055130168 | O33: =SUM(P33:T33) -> 85 | P33: 51 | R33: 3 | S33: 31 | V33: =U33+M33 -> 72 | W33: =IF(ISNA(VLOOKUP(E33,'FAN EVOLUTION'!$A$46:$B$10042,2,1)),0,VLOOKUP(E33,'FAN EVOLUTION'!$A$46:$B$10042,2,1)) -> 0
A34: 1.0153256e+16 | B34: 2015 | C34: 2015 Q1 | D34: 42094 | E34: 42079.542 | I34: Test 26 | J34: 2234 | K34: 2234 | L34: 0 | M34: 205 | N34: =V34/J34 -> 0.091763653 | O34: =SUM(P34:T34) -> 276 | P34: 171 | Q34: 5 | R34: 12 | S34: 88 | V34: =U34+M34 -> 205 | W34: =IF(ISNA(VLOOKUP(E34,'FAN EVOLUTION'!$A$46:$B$10042,2,1)),0,VLOOKUP(E34,'FAN EVOLUTION'!$A$46:$B$10042,2,1)) -> 0
A35: 1.0153267e+16 | B35: 2015 | C35: 2015 Q1 | D35: 42094 | E35: 42083.542 | I35: Test 27 | J35: 4178 | K35: 4178 | L35: 0 | M35: 362 | N35: =V35/J35 -> 0.086644327 | O35: =SUM(P35:T35) -> 448 | P35: 283 | Q35: 1 | R35: 21 | S35: 143 | V35: =U35+M35 -> 362 | W35: =IF(ISNA(VLOOKUP(E35,'FAN EVOLUTION'!$A$46:$B$10042,2,1)),0,VLOOKUP(E35,'FAN EVOLUTION'!$A$46:$B$10042,2,1)) -> 0
A36: 1.0153276e+16 | B36: 2015 | C36: 2015 Q1 | D36: 42094 | E36: 42086.562 | I36: Test 28 | J36: 2811 | K36: 2811 | L36: 0 | M36: 286 | N36: =V36/J36 -> 0.10174315 | O36: =SUM(P36:T36) -> 370 | P36: 232 | Q36: 1 | R36: 12 | S36: 125 | V36: =U36+M36 -> 286 | W36: =IF(ISNA(VLOOKUP(E36,'FAN EVOLUTION'!$A$46:$B$10042,2,1)),0,VLOOKUP(E36,'FAN EVOLUTION'!$A$46:$B$10042,2,1)) -> 0
A37: 1.0153287e+16 | B37: 2015 | C37: 2015 Q1 | D37: 42094 | E37: 42090.542 | I37: Test 29 | J37: 1330 | K37: 1330 | L37: 0 | M37: 114 | N37: =V37/J37 -> 0.085714286 | O37: =SUM(P37:T37) -> 156 | P37: 93 | Q37: 1 | R37: 8 | S37: 54 | V37: =U37+M37 -> 114 | W37: =IF(ISNA(VLOOKUP(E37,'FAN EVOLUTION'!$A$46:$B$10042,2,1)),0,VLOOKUP(E37,'FAN EVOLUTION'!$A$46:$B$10042,2,1)) -> 0
A38: 1.0153304e+16 | B38: 2015 | C38: 2015 Q2 | D38: 42124 | E38: 42097.5 | I38: Test 30 | J38: 1860 | K38: 1860 | L38: 0 | M38: 183 | N38: =V38/J38 -> 0.098387097 | O38: =SUM(P38:T38) -> 247 | P38: 143 | Q38: 2 | R38: 13 | S38: 89 | V38: =U38+M38 -> 183 | W38: =IF(ISNA(VLOOKUP(E38,'FAN EVOLUTION'!$A$46:$B$10042,2,1)),0,VLOOKUP(E38,'FAN EVOLUTION'!$A$46:$B$10042,2,1)) -> 0
A39: 1.0153306e+16 | B39: 2015 | C39: 2015 Q2 | D39: 42124 | E39: 42098.458 | I39: Test 31 | J39: 1365 | K39: 1365 | L39: 0 | M39: 116 | N39: =V39/J39 -> 0.084981685 | O39: =SUM(P39:T39) -> 147 | P39: 92 | R39: 5 | S39: 50 | V39: =U39+M39 -> 116 | W39: =IF(ISNA(VLOOKUP(E39,'FAN EVOLUTION'!$A$46:$B$10042,2,1)),0,VLOOKUP(E39,'FAN EVOLUTION'!$A$46:$B$10042,2,1)) -> 0
A40: 1.0153313e+16 | B40: 2015 | C40: 2015 Q2 | D40: 42124 | E40: 42100.167 | I40: Test 32 | J40: 1308 | K40: 1308 | L40: 0 | M40: 112 | N40: =V40/J40 -> 0.085626911 | O40: =SUM(P40:T40) -> 154 | P40: 90 | R40: 4 | S40: 60 | V40: =U40+M40 -> 112 | W40: =IF(ISNA(VLOOKUP(E40,'FAN EVOLUTION'!$A$46:$B$10042,2,1)),0,VLOOKUP(E40,'FAN EVOLUTION'!$A$46:$B$10042,2,1)) -> 0
A41: 1.015332e+16 | B41: 2015 | C41: 2015 Q2 | D41: 42124 | E41: 42102.5 | I41: Test 33 | J41: 1511 | K41: 1511 | L41: 0 | M41: 122 | N41: =V41/J41 -> 0.080741231 | O41: =SUM(P41:T41) -> 162 | P41: 96 | Q41: 1 | R41: 5 | S41: 60 | V41: =U41+M41 -> 122 | W41: =IF(ISNA(VLOOKUP(E41,'FAN EVOLUTION'!$A$46:$B$10042,2,1)),0,VLOOKUP(E41,'FAN EVOLUTION'!$A$46:$B$10042,2,1)) -> 0
A42: 1.0153324e+16 | B42: 2015 | C42: 2015 Q2 | D42: 42124 | E42: 42104.5 | I42: Test 34 | J42: 1094 | K42: 1094 | L42: 0 | M42: 94 | N42: =V42/J42 -> 0.085923218 | O42: =SUM(P42:T42) -> 126 | P42: 68 | Q42: 2 | R42: 4 | S42: 52 | V42: =U42+M42 -> 94 | W42: =IF(ISNA(VLOOKUP(E42,'FAN EVOLUTION'!$A$46:$B$10042,2,1)),0,VLOOKUP(E42,'FAN EVOLUTION'!$A$46:$B$10042,2,1)) -> 0
...

Sheet Export PAGE_Stats_clés
A1: Date | B1: Lifetime Total Likes | C1: Daily New Likes | D1: Daily Unlikes | E1: Daily Page Engaged Users | F1: Weekly Page Engaged Users | G1: 28 Days Page Engaged Users | H1: Daily Total Reach | I1: Weekly Total Reach | J1: 28 Days Total Reach | K1: Daily Organic Reach | L1: Weekly Organic Reach | M1: 28 Days Organic Reach | N1: Daily Paid Reach | O1: Weekly Paid Reach | P1: 28 Days Paid Reach | Q1: Daily Total Impressions | R1: Weekly Total Impressions | S1: 28 Days Total Impressions | T1: Daily Organic impressions | U1: Weekly Organic impressions | V1: 28 Days Organic impressions | W1: Daily Paid Impressions | X1: Weekly Paid Impressions | Y1: 28 Days Paid Impressions | Z1: Daily Logged-in Page Views | AA1: Weekly Logged-in Page Views | AB1: Daily Logged-in Page Views | AC1: Weekly Logged-in Page Views | AD1: Daily Reach of page posts | AE1: Weekly Reach of page posts | AF1: 28 Days Reach of page posts | AG1: Daily Organic Reach of Page posts | AH1: Weekly Organic Reach of Page posts | AI1: 28 Days Organic Reach of Page posts | AJ1: Daily Paid Reach of Page posts | AK1: Weekly Paid Reach of Page posts | AL1: 28 Days Paid Reach of Page posts | AM1: Daily Total Impressions of your posts | AN1: Weekly Total Impressions of your posts | AO1: 28 Days Total Impressions of your posts | AP1: Daily Organic impressions of your posts | AQ1: Weekly Organic impressions of your posts | AR1: 28 Days Organic impressions of your posts | AS1: Daily Paid impressions of your posts | AT1: Weekly Paid impressions of your posts | AU1: 28 Days Paid impressions of your posts | AV1: Daily Total Consumers | AW1: Weekly Total Consumers | AX1: 28 Days Total Consumers | AY1: Daily Page consumptions | AZ1: Weekly Page consumptions | BA1: 28 Days Page consumptions | BB1: Daily Negative feedback | BC1: Weekly Negative feedback | BD1: 28 Days Negative feedback | BE1: Daily Negative Feedback from Users | BF1: Weekly Negative Feedback from Users | BG1: 28 Days Negative Feedback from Users | BH1: Daily Total check-ins | BI1: Weekly Total check-ins | BJ1: 28 Days Total check-ins | BK1: Daily Total check-ins | BL1: Weekly Total check-ins | BM1: 28 Days Total check-ins | BN1: Daily Total check-ins using mobile devices | BO1: Weekly Total check-ins using mobile devices | BP1: 28 Days Total check-ins using mobile devices | BQ1: Daily Total check-ins using mobile devices | BR1: Weekly Total check-ins using mobile devices | BS1: 28 Days Total check-ins using mobile devices | BT1: Daily Daily count of fans online | BU1: Daily Total Video Views | BV1: Weekly Total Video Views | BW1: 28 Days Total Video Views | BX1: Daily Total organic video views | BY1: Weekly Total organic video views | BZ1: 28 Days Total organic video views | CA1: Daily Total promoted video views | CB1: Weekly Total promoted video views | CC1: 28 Days Total promoted video views | CD1: Daily Total autoplayed video views | CE1: Weekly Total autoplayed video views | CF1: 28 Days Total autoplayed video views | CG1: Daily Total video views after clicking | CH1: Weekly Total video views after clicking | CI1: 28 Days Total video views after clicking | CJ1: Daily Total number of time a video has seen again | CK1: Weekly Total number of time a video has seen again | CL1: 28 Days Total number of time a video has seen again | CM1: Daily Total Unique Video Views | CN1: Weekly Total Unique Video Views | CO1: 28 Days Total Unique Video Views | CP1: Daily Total 30-Second Views | CQ1: Weekly Total 30-Second Views | CR1: 28 Days Total 30-Second Views | CS1: Daily Total organic video views for 30s or to the end | CT1: Weekly Total organic video views for 30s or to the end | CU1: 28 Days Total organic video views for 30s or to the end | CV1: Daily Paid 30-Second Views | CW1: Weekly Paid 30-Second Views | CX1: 28 Days Paid 30-Second Views | CY1: Daily Auto-Played 30-Second Views | CZ1: Weekly Auto-Played 30-Second Views | DA1: 28 Days Auto-Played 30-Second Views | DB1: Daily Video views for 30s or to the end after clicking | DC1: Weekly Video views for 30s or to the end after clicking | DD1: 28 Days Video views for 30s or to the end after clicking | DE1: Daily Number of time a video has seen again for 30s or to the end | DF1: Weekly Number of time a video has seen again for 30s or to the end | DG1: 28 Days Number of time a video has seen again for 30s or to the end | DH1: Daily Total Unique 30-Second Views | DI1: Weekly Total Unique 30-Second Views | DJ1: 28 Days Total Unique 30-Second Views | DK1: Daily People Talking About This | DL1: Weekly People Talking About This | DM1: 28 Days People Talking About This | DN1: page_get_directions_clicks_logged_in_count:day | DO1: page_get_directions_clicks_logged_in_count:week | DP1: page_get_directions_clicks_logged_in_unique:day | DQ1: page_get_directions_clicks_logged_in_unique:week | DR1: page_call_phone_clicks_logged_in_count:day | DS1: page_call_phone_clicks_logged_in_count:week | DT1: page_call_phone_clicks_logged_in_unique:day | DU1: page_call_phone_clicks_logged_in_unique:week | DV1: page_website_clicks_logged_in_count:day | DW1: page_website_clicks_logged_in_count:week | DX1: page_website_clicks_logged_in_unique:day | DY1: page_website_clicks_logged_in_unique:week | DZ1: page_cta_clicks_logged_in_total:day | EA1: page_cta_clicks_logged_in_total:week | EB1: page_cta_clicks_logged_in_unique:day | EC1: page_cta_clicks_logged_in_unique:week
