Workbook

Sheet Visite terrain
A1: Visite terrain
E3: Récapitulatif note totale
A4: Echafaudage | E4: Date | F4: Echafaudage | G4: Equipement personnel | H4: Outil de travail
A5: 1 | B5: Indicateurs | C5: Note | E5: =TODAY() -> 42578 | F5: =C10 -> 4.25 | G5: =C17 -> 3.6666667 | H5: =C25 -> 2.75
A6: a | B6: Indicateur échafaudage 1 | C6: 5 | E6: 42579 | F6: 4.2 | G6: 2.1 | H6: 3.5
A7: b | B7: Indicateur échafaudage 2 | C7: 3
A8: c | B8: Indicateur échafaudage 3 | C8: 5
A9: d | B9: Indicateur échafaudage 4 | C9: 4
A10: Note totale | C10: =AVERAGE(C6:C9) -> 4.25
A12: Equipement personnel
A13: 2 | B13: Indicateurs | C13: Note
A14: a | B14: Indicateur équipement personnel 1 | C14: 4
A15: b | B15: Indicateur équipement personnel 2 | C15: 5
A16: c | B16: Indicateur équipement personnel 3 | C16: 2
A17: Note totale | C17: =AVERAGE(C14:C16) -> 3.6666667
A19: Outils de travail
A20: 3 | B20: Indicateurs | C20: Note
A21: a | B21: Indicateur outil de travail 1 | C21: 1
A22: b | B22: Indicateur outil de travail 2 | C22: 3
A23: c | B23: Indicateur outil de travail 3 | C23: 5
A24: d | B24: Indicateur outil de travail 4 | C24: 2
A25: Note totale | C25: =AVERAGE(C21:C24) -> 2.75

Sheet Récapitulatif visites terrain
D1: Visite terrain
A2: Année | B2: Semaine | C2: Date de la visite | D2: Echafaudage | E2: Equipement personnel | F2: Outils de travail
A3: 2016 | B3: =IF(C3="","",(WEEKNUM(C3)-1)) -> 30 | C3: =IF(D3="","",IF(C3<>"",C3,NOW())) -> 42578.63 | D3: =IF('Visite terrain'!F5="","",'Visite terrain'!F5) -> 4.25 | E3: =IF('Visite terrain'!G5="","",'Visite terrain'!G5) -> 3.6666667 | F3: =IF('Visite terrain'!H5="","",'Visite terrain'!H5) -> 2.75
B4: =IF(C4="","",(WEEKNUM(C4)-1)) -> 30 | C4: =IF(D4="","",IF(C4<>"",C4,NOW())) -> 42578.638 | D4: =IF('Visite terrain'!F6="","",'Visite terrain'!F6) -> 4.2 | E4: =IF('Visite terrain'!G6="","",'Visite terrain'!G6) -> 2.1 | F4: =IF('Visite terrain'!H6="","",'Visite terrain'!H6) -> 3.5
B5: =IF(C5="","",(WEEKNUM(C5)-1)) | C5: =IF(D5="","",IF(C5<>"",C5,NOW())) | D5: =IF('Visite terrain'!F7="","",'Visite terrain'!F7) | E5: =IF('Visite terrain'!G7="","",'Visite terrain'!G7) | F5: =IF('Visite terrain'!H7="","",'Visite terrain'!H7)
B6: =IF(C6="","",(WEEKNUM(C6)-1)) | C6: =IF(D6="","",IF(C6<>"",C6,NOW())) | D6: =IF('Visite terrain'!F8="","",'Visite terrain'!F8) | E6: =IF('Visite terrain'!G8="","",'Visite terrain'!G8) | F6: =IF('Visite terrain'!H8="","",'Visite terrain'!H8)
B7: =IF(C7="","",(WEEKNUM(C7)-1)) | C7: =IF(D7="","",IF(C7<>"",C7,NOW())) | D7: =IF('Visite terrain'!F9="","",'Visite terrain'!F9) | E7: =IF('Visite terrain'!G9="","",'Visite terrain'!G9) | F7: =IF('Visite terrain'!H9="","",'Visite terrain'!H9)
B8: =IF(C8="","",(WEEKNUM(C8)-1)) | C8: =IF(D8="","",IF(C8<>"",C8,NOW())) | D8: =IF('Visite terrain'!F10="","",'Visite terrain'!F10) | E8: =IF('Visite terrain'!G10="","",'Visite terrain'!G10) | F8: =IF('Visite terrain'!H10="","",'Visite terrain'!H10)
B9: =IF(C9="","",(WEEKNUM(C9)-1)) | C9: =IF(D9="","",IF(C9<>"",C9,NOW())) | D9: =IF('Visite terrain'!F11="","",'Visite terrain'!F11) | E9: =IF('Visite terrain'!G11="","",'Visite terrain'!G11) | F9: =IF('Visite terrain'!H11="","",'Visite terrain'!H11)
B10: =IF(C10="","",(WEEKNUM(C10)-1)) | C10: =IF(D10="","",IF(C10<>"",C10,NOW())) | D10: =IF('Visite terrain'!F12="","",'Visite terrain'!F12) | E10: =IF('Visite terrain'!G12="","",'Visite terrain'!G12) | F10: =IF('Visite terrain'!H12="","",'Visite terrain'!H12)
B11: =IF(C11="","",(WEEKNUM(C11)-1)) | C11: =IF(D11="","",IF(C11<>"",C11,NOW())) | D11: =IF('Visite terrain'!F13="","",'Visite terrain'!F13) | E11: =IF('Visite terrain'!G13="","",'Visite terrain'!G13) | F11: =IF('Visite terrain'!H13="","",'Visite terrain'!H13)
B12: =IF(C12="","",(WEEKNUM(C12)-1)) | C12: =IF(D12="","",IF(C12<>"",C12,NOW())) | D12: =IF('Visite terrain'!F14="","",'Visite terrain'!F14) | E12: =IF('Visite terrain'!G14="","",'Visite terrain'!G14) | F12: =IF('Visite terrain'!H14="","",'Visite terrain'!H14)
B13: =IF(C13="","",(WEEKNUM(C13)-1)) | C13: =IF(D13="","",IF(C13<>"",C13,NOW())) | D13: =IF('Visite terrain'!F15="","",'Visite terrain'!F15) | E13: =IF('Visite terrain'!G15="","",'Visite terrain'!G15) | F13: =IF('Visite terrain'!H15="","",'Visite terrain'!H15)
B14: =IF(C14="","",(WEEKNUM(C14)-1)) | C14: =IF(D14="","",IF(C14<>"",C14,NOW())) | D14: =IF('Visite terrain'!F16="","",'Visite terrain'!F16) | E14: =IF('Visite terrain'!G16="","",'Visite terrain'!G16) | F14: =IF('Visite terrain'!H16="","",'Visite terrain'!H16)
B15: =IF(C15="","",(WEEKNUM(C15)-1)) | C15: =IF(D15="","",IF(C15<>"",C15,NOW())) | D15: =IF('Visite terrain'!F17="","",'Visite terrain'!F17) | E15: =IF('Visite terrain'!G17="","",'Visite terrain'!G17) | F15: =IF('Visite terrain'!H17="","",'Visite terrain'!H17)
... B25: =IF(C25="","",(WEEKNUM(C25)-1)) | C25: =IF(D25="","",IF(C25<>"",C25,NOW())) | D25: =IF('Visite terrain'!F27="","",'Visite terrain'!F27) | E25: =IF('Visite terrain'!G27="","",'Visite terrain'!G27) | F25: =IF('Visite terrain'!H27="","",'Visite terrain'!H27)
