Workbook

Sheet Stock
A1: Ref_Physique | B1: Désignation | C1: Stock départ | D1: Retour produit | E1: Vendu | F1: A fabriquer | G1: Conversion automatique des Rèf pour recherches
A2: OR.30 | B2: Oreiller 30x60 | C2: 8 | D2: =SUMPRODUCT((Vente!$B$2:$B$534=$A2)*(Vente!$D$2:$D$534)) -> 3 | E2: =C2-D2 -> 5 | G2: =SUBSTITUTE(A2,"*",".2") -> OR.30
A3: OR.35 | B3: Oreiller 35x45 | C3: 6 | D3: =SUMPRODUCT((Vente!$B$2:$B$534=$A3)*(Vente!$D$2:$D$534)) -> 0 | E3: =C3-D3 -> 6 | G3: =SUBSTITUTE(A3,"*",".2") -> OR.35
A4: OR.40 | B4: Oreiller 40x60 | C4: 15 | D4: =SUMPRODUCT((Vente!$B$2:$B$534=$A4)*(Vente!$D$2:$D$534)) -> 0 | E4: =C4-D4 -> 15 | G4: =SUBSTITUTE(A4,"*",".2") -> OR.40
A5: OR.50 | B5: Oreiller 50x60 | C5: 8 | D5: =SUMPRODUCT((Vente!$B$2:$B$534=$A5)*(Vente!$D$2:$D$534)) -> 0 | E5: =C5-D5 -> 8 | G5: =SUBSTITUTE(A5,"*",".2") -> OR.50
A6: OR.60 | B6: Oreiller 60x60 | C6: 8 | D6: =SUMPRODUCT((Vente!$B$2:$B$534=$A6)*(Vente!$D$2:$D$534)) -> 2 | E6: =C6-D6 -> 6 | G6: =SUBSTITUTE(A6,"*",".2") -> OR.60
A7: OR.65 | B7: Oreiller 65x65 | C7: 2 | D7: =SUMPRODUCT((Vente!$B$2:$B$534=$A7)*(Vente!$D$2:$D$534)) -> 0 | E7: =C7-D7 -> 2 | G7: =SUBSTITUTE(A7,"*",".2") -> OR.65
A8: CA3.140 | B8: Couette 140x200 - 250g | C8: 2 | D8: =SUMPRODUCT((Vente!$B$2:$B$534=$A8)*(Vente!$D$2:$D$534)) -> 0 | E8: =C8-D8 -> 2 | G8: =SUBSTITUTE(A8,"*",".2") -> CA3.140
A9: CA3.160 | B9: Couette 160x200 - 250g | C9: 1 | D9: =SUMPRODUCT((Vente!$B$2:$B$534=$A9)*(Vente!$D$2:$D$534)) -> 0 | E9: =C9-D9 -> 1 | G9: =SUBSTITUTE(A9,"*",".2") -> CA3.160
A10: CA3.200 | B10: Couette 200x200 - 250g | C10: 1 | D10: =SUMPRODUCT((Vente!$B$2:$B$534=$A10)*(Vente!$D$2:$D$534)) -> 0 | E10: =C10-D10 -> 1 | G10: =SUBSTITUTE(A10,"*",".2") -> CA3.200
A11: CA3.240 | B11: Couette 240x220 - 250g | C11: 4 | D11: =SUMPRODUCT((Vente!$B$2:$B$534=$A11)*(Vente!$D$2:$D$534)) -> 0 | E11: =C11-D11 -> 4 | G11: =SUBSTITUTE(A11,"*",".2") -> CA3.240
A12: CA3.260 | B12: Couette 260x240 - 250g | C12: 1 | D12: =SUMPRODUCT((Vente!$B$2:$B$534=$A12)*(Vente!$D$2:$D$534)) -> 0 | E12: =C12-D12 -> 1 | G12: =SUBSTITUTE(A12,"*",".2") -> CA3.260
D13: =SUMPRODUCT((Vente!$B$2:$B$534=$A13)*(Vente!$D$2:$D$534)) -> 0 | E13: =C13-D13 -> 0 | G13: =SUBSTITUTE(A13,"*",".2")
D14: =SUMPRODUCT((Vente!$B$2:$B$534=$A14)*(Vente!$D$2:$D$534)) -> 0 | E14: =C14-D14 -> 0 | G14: =SUBSTITUTE(A14,"*",".2")
D15: =SUMPRODUCT((Vente!$B$2:$B$534=$A15)*(Vente!$D$2:$D$534)) -> 0 | E15: =C15-D15 -> 0 | G15: =SUBSTITUTE(A15,"*",".2")
D16: =SUMPRODUCT((Vente!$B$2:$B$534=$A16)*(Vente!$D$2:$D$534)) -> 0 | E16: =C16-D16 -> 0 | G16: =SUBSTITUTE(A16,"*",".2")
D17: =SUMPRODUCT((Vente!$B$2:$B$534=$A17)*(Vente!$D$2:$D$534)) -> 0 | E17: =C17-D17 -> 0 | G17: =SUBSTITUTE(A17,"*",".2")
D18: =SUMPRODUCT((Vente!$B$2:$B$534=$A18)*(Vente!$D$2:$D$534)) -> 0 | E18: =C18-D18 -> 0 | G18: =SUBSTITUTE(A18,"*",".2")
D19: =SUMPRODUCT((Vente!$B$2:$B$534=$A19)*(Vente!$D$2:$D$534)) -> 0 | E19: =C19-D19 -> 0 | G19: =SUBSTITUTE(A19,"*",".2")
D20: =SUMPRODUCT((Vente!$B$2:$B$534=$A20)*(Vente!$D$2:$D$534)) -> 0 | E20: =C20-D20 -> 0 | G20: =SUBSTITUTE(A20,"*",".2")
D21: =SUMPRODUCT((Vente!$B$2:$B$534=$A21)*(Vente!$D$2:$D$534)) -> 0 | E21: =C21-D21 -> 0 | G21: =SUBSTITUTE(A21,"*",".2")
D22: =SUMPRODUCT((Vente!$B$2:$B$534=$A22)*(Vente!$D$2:$D$534)) -> 0 | E22: =C22-D22 -> 0 | G22: =SUBSTITUTE(A22,"*",".2")
D23: =SUMPRODUCT((Vente!$B$2:$B$534=$A23)*(Vente!$D$2:$D$534)) -> 0 | E23: =C23-D23 -> 0 | G23: =SUBSTITUTE(A23,"*",".2")
D24: =SUMPRODUCT((Vente!$B$2:$B$534=$A24)*(Vente!$D$2:$D$534)) -> 0 | E24: =C24-D24 -> 0 | G24: =SUBSTITUTE(A24,"*",".2")
... D521: =SUMPRODUCT((Vente!$B$2:$B$534=$A521)*(Vente!$D$2:$D$534)) -> 0 | E521: =C521-D521 -> 0 | G521: =SUBSTITUTE(A521,"*",".2")

Sheet Vente
A1: Conversion automatique des Rèf pour recherches | B1: Ref Physique | C1: Désignation | D1: Retour
A2: =SUBSTITUTE(B2,"*",".2") -> OR.30 | B2: OR.30 | C2: =IF(B2<>"",VLOOKUP(B2,'Liste des produits'!$A$1:$B$11,2,FALSE),"") -> Oreiller 30x60 | D2: 1
A3: =SUBSTITUTE(B3,"*",".2") -> OR.30 | B3: OR.30 | C3: =IF(B3<>"",VLOOKUP(B3,'Liste des produits'!$A$1:$B$11,2,FALSE),"") -> Oreiller 30x60 | D3: 1
A4: =SUBSTITUTE(B4,"*",".2") -> OR.30 | B4: OR.30 | C4: =IF(B4<>"",VLOOKUP(B4,'Liste des produits'!$A$1:$B$11,2,FALSE),"") -> Oreiller 30x60 | D4: 1
A5: =SUBSTITUTE(B5,"*",".2") -> OR.60 | B5: OR.60 | C5: =IF(B5<>"",VLOOKUP(B5,'Liste des produits'!$A$1:$B$11,2,FALSE),"") -> Oreiller 60x60 | D5: 1
A6: =SUBSTITUTE(B6,"*",".2") -> OR.60 | B6: OR.60 | C6: =IF(B6<>"",VLOOKUP(B6,'Liste des produits'!$A$1:$B$11,2,FALSE),"") -> Oreiller 60x60 | D6: 1
A7: =SUBSTITUTE(B7,"*",".2") | C7: =IF(B7<>"",VLOOKUP(B7,'Liste des produits'!$A$1:$B$11,2,FALSE),"")
A8: =SUBSTITUTE(B8,"*",".2") | C8: =IF(B8<>"",VLOOKUP(B8,'Liste des produits'!$A$1:$B$11,2,FALSE),"")
A9: =SUBSTITUTE(B9,"*",".2") | C9: =IF(B9<>"",VLOOKUP(B9,'Liste des produits'!$A$1:$B$11,2,FALSE),"")
A10: =SUBSTITUTE(B10,"*",".2") | C10: =IF(B10<>"",VLOOKUP(B10,'Liste des produits'!$A$1:$B$11,2,FALSE),"")
A11: =SUBSTITUTE(B11,"*",".2") | C11: =IF(B11<>"",VLOOKUP(B11,'Liste des produits'!$A$1:$B$11,2,FALSE),"")
A12: =SUBSTITUTE(B12,"*",".2") | C12: =IF(B12<>"",VLOOKUP(B12,'Liste des produits'!$A$1:$B$11,2,FALSE),"")
A13: =SUBSTITUTE(B13,"*",".2") | C13: =IF(B13<>"",VLOOKUP(B13,'Liste des produits'!$A$1:$B$11,2,FALSE),"")
A14: =SUBSTITUTE(B14,"*",".2") | C14: =IF(B14<>"",VLOOKUP(B14,'Liste des produits'!$A$1:$B$11,2,FALSE),"")
A15: =SUBSTITUTE(B15,"*",".2") | C15: =IF(B15<>"",VLOOKUP(B15,'Liste des produits'!$A$1:$B$11,2,FALSE),"")
A16: =SUBSTITUTE(B16,"*",".2") | C16: =IF(B16<>"",VLOOKUP(B16,'Liste des produits'!$A$1:$B$11,2,FALSE),"")
A17: =SUBSTITUTE(B17,"*",".2") | C17: =IF(B17<>"",VLOOKUP(B17,'Liste des produits'!$A$1:$B$11,2,FALSE),"")
A18: =SUBSTITUTE(B18,"*",".2") | C18: =IF(B18<>"",VLOOKUP(B18,'Liste des produits'!$A$1:$B$11,2,FALSE),"")
... A24: =SUBSTITUTE(B24,"*",".2") | C24: =IF(B24<>"",VLOOKUP(B24,'Liste des produits'!$A$1:$B$11,2,FALSE),"")
A25: =SUBSTITUTE(B25,"*",".2") | C25: =IF(B25<>"",VLOOKUP(B25,'Liste des produits'!$A$1:$B$6,2,FALSE),"")
A26: =SUBSTITUTE(B26,"*",".2") | C26: =IF(B26<>"",VLOOKUP(B26,'Liste des produits'!$A$1:$B$6,2,FALSE),"")
A27: =SUBSTITUTE(B27,"*",".2") | C27: =IF(B27<>"",VLOOKUP(B27,'Liste des produits'!$A$1:$B$6,2,FALSE),"")
A28: =SUBSTITUTE(B28,"*",".2") | C28: =IF(B28<>"",VLOOKUP(B28,'Liste des produits'!$A$1:$B$6,2,FALSE),"")
A29: =SUBSTITUTE(B29,"*",".2") | C29: =IF(B29<>"",VLOOKUP(B29,'Liste des produits'!$A$1:$B$6,2,FALSE),"")
A30: =SUBSTITUTE(B30,"*",".2") | C30: =IF(B30<>"",VLOOKUP(B30,'Liste des produits'!$A$1:$B$6,2,FALSE),"")
A31: =SUBSTITUTE(B31,"*",".2")
A32: =SUBSTITUTE(B32,"*",".2")
A33: =SUBSTITUTE(B33,"*",".2")
A34: =SUBSTITUTE(B34,"*",".2")
A35: =SUBSTITUTE(B35,"*",".2")
A36: =SUBSTITUTE(B36,"*",".2")
A37: =SUBSTITUTE(B37,"*",".2")
A38: =SUBSTITUTE(B38,"*",".2")
A39: =SUBSTITUTE(B39,"*",".2")
A40: =SUBSTITUTE(B40,"*",".2")
A41: =SUBSTITUTE(B41,"*",".2")
A42: =SUBSTITUTE(B42,"*",".2")
... A558: =SUBSTITUTE(B558,"*",".2")

Sheet Liste des produits
A1: OR.30 | B1: Oreiller 30x60
A2: OR.35 | B2: Oreiller 35x45
A3: OR.40 | B3: Oreiller 40x60
A4: OR.50 | B4: Oreiller 50x70
A5: OR.60 | B5: Oreiller 60x60
A6: OR.65 | B6: Oreiller 65x65
A7: CA3.140 | B7: Couette 140x200 - 250g
A8: CA3.160 | B8: Couette 160x200 - 250g
A9: CA3.200 | B9: Couette 200x200 - 250g
A10: CA3.240 | B10: Couette 240x220 - 250g
A11: CA3.260 | B11: Couette 260x240 - 250g
