Workbook
Name __Ass01: [1]Paramètres!$B$9
Name __Ass02: [2]Paramètres!$B$10
Name __Ass04: [3]Paramètres!$B$12
Name __Ass05: [4]Paramètres!#REF!
Name __Ass06: [4]Paramètres!#REF!
Name __Ass07: [4]Paramètres!#REF!
Name __Ass08: [4]Paramètres!#REF!
Name __Ass09: [4]Paramètres!#REF!
Name __Dpm02: [2]Paramètres!$C$10
Name __Dpm04: [3]Paramètres!$C$12
Name __Dpm05: [4]Paramètres!#REF!
Name __Dpm06: [4]Paramètres!#REF!
Name __Dpm07: [4]Paramètres!#REF!
Name __Dpm08: [4]Paramètres!#REF!
Name __Fhp05: [4]Paramètres!#REF!
Name __Fhp06: [4]Paramètres!#REF!
Name __Fhp07: [4]Paramètres!#REF!
Name __Fhp08: [4]Paramètres!#REF!
Name __Fhp09: [4]Paramètres!#REF!
Name __Gsa01: [1]Paramètres!$D$9
Name __Gsa02: [2]Paramètres!$D$10
Name __Gsa04: [5]Paramètres!$D$12
Name __Gsa05: [4]Paramètres!#REF!
Name __Gsa06: [4]Paramètres!#REF!
Name __Gsa07: [4]Paramètres!#REF!
Name __Gsa08: [4]Paramètres!#REF!
Name __Gsa09: [4]Paramètres!#REF!
Name _Ass01: [1]Paramètres!$B$9
Name _Ass02: [2]Paramètres!$B$10
Name _Ass04: [3]Paramètres!$B$12
Name _Ass05: [4]Paramètres!#REF!
Name _Ass06: [4]Paramètres!#REF!
Name _Ass07: [4]Paramètres!#REF!
Name _Ass08: [4]Paramètres!#REF!
Name _Ass09: [4]Paramètres!#REF!
Name _Dpm02: [2]Paramètres!$C$10
Name _Dpm04: [3]Paramètres!$C$12
Name _Dpm05: [4]Paramètres!#REF!
Name _Dpm06: [4]Paramètres!#REF!
Name _Dpm07: [4]Paramètres!#REF!
Name _Dpm08: [4]Paramètres!#REF!
Name _Fhp05: [4]Paramètres!#REF!
Name _Fhp06: [4]Paramètres!#REF!
Name _Fhp07: [4]Paramètres!#REF!
Name _Fhp08: [4]Paramètres!#REF!
Name _Fhp09: [4]Paramètres!#REF!
Name _Gsa01: [1]Paramètres!$D$9
Name _Gsa02: [2]Paramètres!$D$10
Name _Gsa04: [5]Paramètres!$D$12
Name _Gsa05: [4]Paramètres!#REF!
Name _Gsa06: [4]Paramètres!#REF!
Name _Gsa07: [4]Paramètres!#REF!
Name _Gsa08: [4]Paramètres!#REF!
Name _Gsa09: [4]Paramètres!#REF!
Name Ass00: [1]Paramètres!$B$8
Name bd: #REF!
Name Fhp00: [6]Paramètres!#REF!
Name Gsa00: [5]Paramètres!$D$8
Name Livraison: #REF!
Name Livré: #REF!

Sheet Parametre
C6: VERSION | D6: FILIALE | E6: Année_Livraison = Année_Comd+1 | F6: Année_Livraison - Année_Comd > 1
C7: DO | D7: VD
D8: F/AF
C9: LE | D9: VD
D10: F/AF
C11: MD | D11: VD
D12: F/AF
C13: DL | D13: VD
D14: F/AF
E17: D | F17: L

Sheet AD
L2: Année_OP
L3: 2013
M9: =L3 -> 2013 | AC9: =L3+1 -> 2014 | AS9: =L3+2 -> 2015
M10: Q1 | Q10: Q2 | U10: Q3 | Y10: Q4 | AC10: Q1 | AG10: Q2 | AK10: Q3 | AO10: Q4 | AS10: Q1 | AW10: Q2 | BA10: Q3 | BE10: Q4 | BK10: =M9 -> 2013 | BN10: =AC9 -> 2014 | BQ10: =AS9 -> 2015
A11: Année de cde | B11: Version | C11: Filiale | D11: Devise | E11: Mois de livraison | F11: Année livraison | G11: Quantité | H11: CA Devise | I11: CA Total | J11: APPAREIL | K11: MIL | M11: Qté | N11: CA | O11: Acompte | P11: Receivable | Q11: Qté | R11: CA | S11: Acompte | T11: Receivable | U11: Qté | V11: CA | W11: Acompte | X11: Receivable | Y11: Qté | Z11: CA | AA11: Acompte | AB11: Receivable | AC11: Qté | AD11: CA | AE11: Acompte | AF11: Receivable | AG11: Qté | AH11: CA | AI11: Acompte | AJ11: Receivable | AK11: Qté | AL11: CA | AM11: Acompte | AN11: Receivable | AO11: Qté | AP11: CA | AQ11: Acompte | AR11: Receivable | AS11: Qté | AT11: CA | AU11: Acompte | AV11: Receivable | AW11: Qté | AX11: CA | AY11: Acompte | AZ11: Receivable | BA11: Qté | BB11: CA | BC11: Acompte | BD11: Receivable | BE11: Qté | BF11: CA | BG11: Acompte | BH11: Receivable | BK11: CA | BL11: Acompte | BM11: Receivable | BN11: CA | BO11: Acompte | BP11: Receivable | BQ11: CA | BR11: Acompte | BS11: Receivable
E12: 3 | I12: =H12*G12 -> 0 | M12: =IF(N12<>"",G12,"") | N12: =IF(AND($M$9=F12,F12=A12+1),I12,IF(AND($M$9=F12,F12-A12>1),I12,"")) | O12: =IF(AND($M$9=A12,F12-A12<=2,C12="VD",J12="DAUPHIN",K12=""),I12*Parametre!$E$7,IF(AND($M$9-A12=1,F12-A12=2,C12="VD",J12="DAUPHIN",K12=""),I12*Parametre!$F$7,IF(AND($M$9=A12,F12-A12<=2,J12="DAUPHIN",OR(C12="F",C12="AF"),K12=""),I12*Parametre!$E$8,IF(AND($M$9-A12=1,F12-A12=2,J12="DAUPHIN",OR(C12="F",C12="AF"),K12=""),I12*Parametre!$F$8,IF(AND($M$9=A12,F12-A12<=2,C12="VD",J12="LEGER",K12=""),I12*Parametre!$E$9,IF(AND($M$9-A12=1,F12-A12=2,C12="VD",J12="LEGER",K12=""),I12*Parametre!$F$9,IF(AND($M$9=A12,F12-A12<=2,J12="LEGER",OR(C12="F",C12="AF"),K12=""),I12*Parametre!$E$10,IF(AND($M$9-A12=1,F12-A12=2,J12="LEGER",OR(C12="F",C12="AF"),K12=""),I12*Parametre!$F$10,IF(AND($M$9=A12,F12-A12<=2,C12="VD",J12="DAUPHIN",K12="MILT_DAUPH"),I12*Parametre!$E$11,IF(AND($M$9-A12=1,F12-A12=2,C12="VD",J12="DAUPHIN",K12="MILT_DAUPH"),I12*Parametre!$F$11,IF(AND($M$9=A12,F12-A12<=2,C12="VD",J12="LEGER",K12="MILIT_LH"),I12*Parametre!$E$13,""))))))))))) | Q12: =IF(R12<>"",G12,"") | R12: =IF(AND($M$9=F12,F12=A12+1),I12,IF(AND($M$9=F12,F12-A12),I12,"")) | S12: =IF(AND($M$9=A12,F12-A12<=2,C12="VD",J12="DAUPHIN",K12=""),I12*Parametre!$E$7,IF(AND($M$9-A12=1,F12-A12=2,C12="VD",J12="DAUPHIN",K12=""),I12*Parametre!$F$7,IF(AND($M$9=A12,F12-A12<=2,J12="DAUPHIN",OR(C12="F",C12="AF"),K12=""),I12*Parametre!$E$8,IF(AND($M$9-A12=1,F12-A12=2,J12="DAUPHIN",OR(C12="F",C12="AF"),K12=""),I12*Parametre!$F$8,IF(AND($M$9=A12,F12-A12<=2,C12="VD",J12="LEGER",K12=""),I12*Parametre!$E$9,IF(AND($M$9-A12=1,F12-A12=2,C12="VD",J12="LEGER",K12=""),I12*Parametre!$F$9,IF(AND($M$9=A12,F12-A12<=2,J12="LEGER",OR(C12="F",C12="AF"),K12=""),I12*Parametre!$E$10,IF(AND($M$9-A12=1,F12-A12=2,J12="LEGER",OR(C12="F",C12="AF"),K12=""),I12*Parametre!$F$10,IF(AND($M$9=A12,F12-A12<=2,C12="VD",J12="DAUPHIN",K12="MILT_DAUPH"),I12*Parametre!$E$11,IF(AND($M$9-A12=1,F12-A12=2,C12="VD",J12="DAUPHIN",K12="MILT_DAUPH"),I12*Parametre!$F$11,IF(AND($M$9=A12,F12-A12<=2,C12="VD",J12="LEGER",K12="MILIT_LH"),I12*Parametre!$E$13,""))))))))))) | U12: =IF(V12<>"",G12,"") | V12: =IF(AND($M$9=F12,F12=A12+1),I12,IF(AND($M$9=F12,F12-A12),I12,"")) | W12: =IF(AND($M$9=A12,F12-A12<=2,C12="VD",J12="DAUPHIN",K12=""),I12*Parametre!$E$7,IF(AND($M$9-A12=1,F12-A12=2,C12="VD",J12="DAUPHIN",K12=""),I12*Parametre!$F$7,IF(AND($M$9=A12,F12-A12<=2,J12="DAUPHIN",OR(C12="F",C12="AF"),K12=""),I12*Parametre!$E$8,IF(AND($M$9-A12=1,F12-A12=2,J12="DAUPHIN",OR(C12="F",C12="AF"),K12=""),I12*Parametre!$F$8,IF(AND($M$9=A12,F12-A12<=2,C12="VD",J12="LEGER",K12=""),I12*Parametre!$E$9,IF(AND($M$9-A12=1,F12-A12=2,C12="VD",J12="LEGER",K12=""),I12*Parametre!$F$9,IF(AND($M$9=A12,F12-A12<=2,J12="LEGER",OR(C12="F",C12="AF"),K12=""),I12*Parametre!$E$10,IF(AND($M$9-A12=1,F12-A12=2,J12="LEGER",OR(C12="F",C12="AF"),K12=""),I12*Parametre!$F$10,IF(AND($M$9=A12,F12-A12<=2,C12="VD",J12="DAUPHIN",K12="MILT_DAUPH"),I12*Parametre!$E$11,IF(AND($M$9-A12=1,F12-A12=2,C12="VD",J12="DAUPHIN",K12="MILT_DAUPH"),I12*Parametre!$F$11,IF(AND($M$9=A12,F12-A12<=2,C12="VD",J12="LEGER",K12="MILIT_LH"),I12*Parametre!$E$13,""))))))))))) | Y12: =IF(Z12<>"",G12,"") | Z12: =IF(AND($M$9=F12,F12=A12+1),I12,IF(AND($M$9=F12,F12-A12),I12,"")) | AA12: =IF(AND($M$9=A12,F12-A12<=2,C12="VD",J12="DAUPHIN",K12=""),I12*Parametre!$E$7,IF(AND($M$9-A12=1,F12-A12=2,C12="VD",J12="DAUPHIN",K12=""),I12*Parametre!$F$7,IF(AND($M$9=A12,F12-A12<=2,J12="DAUPHIN",OR(C12="F",C12="AF"),K12=""),I12*Parametre!$E$8,IF(AND($M$9-A12=1,F12-A12=2,J12="DAUPHIN",OR(C12="F",C12="AF"),K12=""),I12*Parametre!$F$8,IF(AND($M$9=A12,F12-A12<=2,C12="VD",J12="LEGER",K12=""),I12*Parametre!$E$9,IF(AND($M$9-A12=1,F12-A12=2,C12="VD",J12="LEGER",K12=""),I12*Parametre!$F$9,IF(AND($M$9=A12,F12-A12<=2,J12="LEGER",OR(C12="F",C12="AF"),K12=""),I12*Parametre!$E$10,IF(AND($M$9-A12=1,F12-A12=2,J12="LEGER",OR(C12="F",C12="AF"),K12=""),I12*Parametre!$F$10,IF(AND($M$9=A12,F12-A12<=2,C12="VD",J12="DAUPHIN",K12="MILT_DAUPH"),I12*Parametre!$E$11,IF(AND($M$9-A12=1,F12-A12=2,C12="VD",J12="DAUPHIN",K12="MILT_DAUPH"),I12*Parametre!$F$11,IF(AND($M$9=A12,F12-A12<=2,C12="VD",J12="LEGER",K12="MILIT_LH"),I12*Parametre!$E$13,""))))))))))) | AC12: =IF(AD12<>"",G12,"") | AD12: =IF(AND($AC$9=F12,F12=A12+1),I12,IF(AND($AC$9=F12,F12-A12>1),I12,"")) | AE12: =IF(AND($AC$9=A12,F12-A12<=2,C12="VD",J12="DAUPHIN",K12=""),I12*Parametre!$E$7,IF(AND($AC$9-A12=1,F12-A12=2,C12="VD",J12="DAUPHIN",K12=""),I12*Parametre!$F$7,IF(AND($AC$9=A12,F12-A12<=2,J12="DAUPHIN",OR(C12="F",C12="AF"),K12=""),I12*Parametre!$E$8,IF(AND($AC$9-A12=1,F12-A12=2,J12="DAUPHIN",OR(C12="F",C12="AF"),K12=""),I12*Parametre!$F$8,IF(AND($AC$9=A12,F12-A12<=2,C12="VD",J12="LEGER",K12=""),I12*Parametre!$E$9,IF(AND($AC$9-A12=1,F12-A12=2,C12="VD",J12="LEGER",K12=""),I12*Parametre!$F$9,IF(AND($AC$9=A12,F12-A12<=2,J12="LEGER",OR(C12="F",C12="AF"),K12=""),I12*Parametre!$E$10,IF(AND($AC$9-A12=1,F12-A12=2,J12="LEGER",OR(C12="F",C12="AF"),K12=""),I12*Parametre!$F$10,IF(AND($AC$9=A12,F12-A12<=2,C12="VD",J12="DAUPHIN",K12="MILT_DAUPH"),I12*Parametre!$E$11,IF(AND($AC$9-A12=1,F12-A12=2,C12="VD",J12="DAUPHIN",K12="MILT_DAUPH"),I12*Parametre!$F$11,IF(AND($AC$9=A12,F12-A12<=2,C12="VD",J12="LEGER",K12="MILIT_LH"),I12*Parametre!$E$13,""))))))))))) | AG12: =IF(AD12<>"",G12,"") | AH12: =IF(AND($AC$9=F12,F12=A12+1),I12,IF(AND($AC$9=F12,F12-A12),I12,"")) | AI12: =IF(AND($AC$9=A12,F12-A12<=2,C12="VD",J12="DAUPHIN",K12=""),I12*Parametre!$E$7,IF(AND($AC$9-A12=1,F12-A12=2,C12="VD",J12="DAUPHIN",K12=""),I12*Parametre!$F$7,IF(AND($AC$9=A12,F12-A12<=2,J12="DAUPHIN",OR(C12="F",C12="AF"),K12=""),I12*Parametre!$E$8,IF(AND($AC$9-A12=1,F12-A12=2,J12="DAUPHIN",OR(C12="F",C12="AF"),K12=""),I12*Parametre!$F$8,IF(AND($AC$9=A12,F12-A12<=2,C12="VD",J12="LEGER",K12=""),I12*Parametre!$E$9,IF(AND($AC$9-A12=1,F12-A12=2,C12="VD",J12="LEGER",K12=""),I12*Parametre!$F$9,IF(AND($AC$9=A12,F12-A12<=2,J12="LEGER",OR(C12="F",C12="AF"),K12=""),I12*Parametre!$E$10,IF(AND($AC$9-A12=1,F12-A12=2,J12="LEGER",OR(C12="F",C12="AF"),K12=""),I12*Parametre!$F$10,IF(AND($AC$9=A12,F12-A12<=2,C12="VD",J12="DAUPHIN",K12="MILT_DAUPH"),I12*Parametre!$E$11,IF(AND($AC$9-A12=1,F12-A12=2,C12="VD",J12="DAUPHIN",K12="MILT_DAUPH"),I12*Parametre!$F$11,IF(AND($AC$9=A12,F12-A12<=2,C12="VD",J12="LEGER",K12="MILIT_LH"),I12*Parametre!$E$13,""))))))))))) | AK12: =IF(AD12<>"",G12,"") | AL12: =IF(AND($AC$9=F12,F12=A12+1),I12,IF(AND($AC$9=F12,F12-A12),I12,"")) | AM12: =IF(AND($AC$9=A12,F12-A12<=2,C12="VD",J12="DAUPHIN",K12=""),I12*Parametre!$E$7,IF(AND($AC$9-A12=1,F12-A12=2,C12="VD",J12="DAUPHIN",K12=""),I12*Parametre!$F$7,IF(AND($AC$9=A12,F12-A12<=2,J12="DAUPHIN",OR(C12="F",C12="AF"),K12=""),I12*Parametre!$E$8,IF(AND($AC$9-A12=1,F12-A12=2,J12="DAUPHIN",OR(C12="F",C12="AF"),K12=""),I12*Parametre!$F$8,IF(AND($AC$9=A12,F12-A12<=2,C12="VD",J12="LEGER",K12=""),I12*Parametre!$E$9,IF(AND($AC$9-A12=1,F12-A12=2,C12="VD",J12="LEGER",K12=""),I12*Parametre!$F$9,IF(AND($AC$9=A12,F12-A12<=2,J12="LEGER",OR(C12="F",C12="AF"),K12=""),I12*Parametre!$E$10,IF(AND($AC$9-A12=1,F12-A12=2,J12="LEGER",OR(C12="F",C12="AF"),K12=""),I12*Parametre!$F$10,IF(AND($AC$9=A12,F12-A12<=2,C12="VD",J12="DAUPHIN",K12="MILT_DAUPH"),I12*Parametre!$E$11,IF(AND($AC$9-A12=1,F12-A12=2,C12="VD",J12="DAUPHIN",K12="MILT_DAUPH"),I12*Parametre!$F$11,IF(AND($AC$9=A12,F12-A12<=2,C12="VD",J12="LEGER",K12="MILIT_LH"),I12*Parametre!$E$13,""))))))))))) | AO12: =IF(AD12<>"",G12,"") | AP12: =IF(AND($AC$9=F12,F12=A12+1),I12,IF(AND($AC$9=F12,F12-A12),I12,"")) | AQ12: =IF(AND($AC$9=A12,F12-A12<=2,C12="VD",J12="DAUPHIN",K12=""),I12*Parametre!$E$7,IF(AND($AC$9-A12=1,F12-A12=2,C12="VD",J12="DAUPHIN",K12=""),I12*Parametre!$F$7,IF(AND($AC$9=A12,F12-A12<=2,J12="DAUPHIN",OR(C12="F",C12="AF"),K12=""),I12*Parametre!$E$8,IF(AND($AC$9-A12=1,F12-A12=2,J12="DAUPHIN",OR(C12="F",C12="AF"),K12=""),I12*Parametre!$F$8,IF(AND($AC$9=A12,F12-A12<=2,C12="VD",J12="LEGER",K12=""),I12*Parametre!$E$9,IF(AND($AC$9-A12=1,F12-A12=2,C12="VD",J12="LEGER",K12=""),I12*Parametre!$F$9,IF(AND($AC$9=A12,F12-A12<=2,J12="LEGER",OR(C12="F",C12="AF"),K12=""),I12*Parametre!$E$10,IF(AND($AC$9-A12=1,F12-A12=2,J12="LEGER",OR(C12="F",C12="AF"),K12=""),I12*Parametre!$F$10,IF(AND($AC$9=A12,F12-A12<=2,C12="VD",J12="DAUPHIN",K12="MILT_DAUPH"),I12*Parametre!$E$11,IF(AND($AC$9-A12=1,F12-A12=2,C12="VD",J12="DAUPHIN",K12="MILT_DAUPH"),I12*Parametre!$F$11,IF(AND($AC$9=A12,F12-A12<=2,C12="VD",J12="LEGER",K12="MILIT_LH"),I12*Parametre!$E$13,""))))))))))) | AS12: =IF(AT12<>"",G12,"") | AT12: =IF(AND($AS$9=F12,F12=A12+1),I12,IF(AND($AS$9=F12,F12-A12),I12,"")) | AU12: =IF(AND($AS$9=A12,F12-A12<=2,C12="VD",J12="DAUPHIN",K12=""),I12*Parametre!$E$7,IF(AND($AS$9-A12=1,F12-A12=2,C12="VD",J12="DAUPHIN",K12=""),I12*Parametre!$F$7,IF(AND($AS$9=A12,F12-A12<=2,J12="DAUPHIN",OR(C12="F",C12="AF"),K12=""),I12*Parametre!$E$8,IF(AND($AS$9-A12=1,F12-A12=2,J12="DAUPHIN",OR(C12="F",C12="AF"),K12=""),I12*Parametre!$F$8,IF(AND($AS$9=A12,F12-A12<=2,C12="VD",J12="LEGER",K12=""),I12*Parametre!$E$9,IF(AND($AS$9-A12=1,F12-A12=2,C12="VD",J12="LEGER",K12=""),I12*Parametre!$F$9,IF(AND($AS$9=A12,F12-A12<=2,J12="LEGER",OR(C12="F",C12="AF"),K12=""),I12*Parametre!$E$10,IF(AND($AS$9-A12=1,F12-A12=2,J12="LEGER",OR(C12="F",C12="AF"),K12=""),I12*Parametre!$F$10,IF(AND($AS$9=A12,F12-A12<=2,C12="VD",J12="DAUPHIN",K12="MILT_DAUPH"),I12*Parametre!$E$11,IF(AND($AS$9-A12=1,F12-A12=2,C12="VD",J12="DAUPHIN",K12="MILT_DAUPH"),I12*Parametre!$F$11,IF(AND($AS$9=A12,F12-A12<=2,C12="VD",J12="LEGER",K12="MILIT_LH"),I12*Parametre!$E$13,""))))))))))) | AW12: =IF(AX12<>"",G12,"") | AX12: =IF(AND($AS$9=F12,F12=A12+1),I12,IF(AND($AS$9=F12,F12-A12),I12,"")) | AY12: =IF(AND($AS$9=A12,F12-A12<=2,C12="VD",J12="DAUPHIN",K12=""),I12*Parametre!$E$7,IF(AND($AS$9-A12=1,F12-A12=2,C12="VD",J12="DAUPHIN",K12=""),I12*Parametre!$F$7,IF(AND($AS$9=A12,F12-A12<=2,J12="DAUPHIN",OR(C12="F",C12="AF"),K12=""),I12*Parametre!$E$8,IF(AND($AS$9-A12=1,F12-A12=2,J12="DAUPHIN",OR(C12="F",C12="AF"),K12=""),I12*Parametre!$F$8,IF(AND($AS$9=A12,F12-A12<=2,C12="VD",J12="LEGER",K12=""),I12*Parametre!$E$9,IF(AND($AS$9-A12=1,F12-A12=2,C12="VD",J12="LEGER",K12=""),I12*Parametre!$F$9,IF(AND($AS$9=A12,F12-A12<=2,J12="LEGER",OR(C12="F",C12="AF"),K12=""),I12*Parametre!$E$10,IF(AND($AS$9-A12=1,F12-A12=2,J12="LEGER",OR(C12="F",C12="AF"),K12=""),I12*Parametre!$F$10,IF(AND($AS$9=A12,F12-A12<=2,C12="VD",J12="DAUPHIN",K12="MILT_DAUPH"),I12*Parametre!$E$11,IF(AND($AS$9-A12=1,F12-A12=2,C12="VD",J12="DAUPHIN",K12="MILT_DAUPH"),I12*Parametre!$F$11,IF(AND($AS$9=A12,F12-A12<=2,C12="VD",J12="LEGER",K12="MILIT_LH"),I12*Parametre!$E$13,""))))))))))) | BA12: =IF(BB12<>"",G12,"") | BB12: =IF(AND($AS$9=F12,F12=A12+1),I12,IF(AND($AS$9=F12,F12-A12),I12,"")) | BC12: =IF(AND($AS$9=A12,F12-A12<=2,C12="VD",J12="DAUPHIN",K12=""),I12*Parametre!$E$7,IF(AND($AS$9-A12=1,F12-A12=2,C12="VD",J12="DAUPHIN",K12=""),I12*Parametre!$F$7,IF(AND($AS$9=A12,F12-A12<=2,J12="DAUPHIN",OR(C12="F",C12="AF"),K12=""),I12*Parametre!$E$8,IF(AND($AS$9-A12=1,F12-A12=2,J12="DAUPHIN",OR(C12="F",C12="AF"),K12=""),I12*Parametre!$F$8,IF(AND($AS$9=A12,F12-A12<=2,C12="VD",J12="LEGER",K12=""),I12*Parametre!$E$9,IF(AND($AS$9-A12=1,F12-A12=2,C12="VD",J12="LEGER",K12=""),I12*Parametre!$F$9,IF(AND($AS$9=A12,F12-A12<=2,J12="LEGER",OR(C12="F",C12="AF"),K12=""),I12*Parametre!$E$10,IF(AND($AS$9-A12=1,F12-A12=2,J12="LEGER",OR(C12="F",C12="AF"),K12=""),I12*Parametre!$F$10,IF(AND($AS$9=A12,F12-A12<=2,C12="VD",J12="DAUPHIN",K12="MILT_DAUPH"),I12*Parametre!$E$11,IF(AND($AS$9-A12=1,F12-A12=2,C12="VD",J12="DAUPHIN",K12="MILT_DAUPH"),I12*Parametre!$F$11,IF(AND($AS$9=A12,F12-A12<=2,C12="VD",J12="LEGER",K12="MILIT_LH"),I12*Parametre!$E$13,""))))))))))) | BE12: =IF(BF12<>"",G12,"") | BF12: =IF(AND($AS$9=F12,F12=A12+1),I12,IF(AND($AS$9=F12,F12-A12),I12,"")) | BG12: =IF(AND($AS$9=A12,F12-A12<=2,C12="VD",J12="DAUPHIN",K12=""),I12*Parametre!$E$7,IF(AND($AS$9-A12=1,F12-A12=2,C12="VD",J12="DAUPHIN",K12=""),I12*Parametre!$F$7,IF(AND($AS$9=A12,F12-A12<=2,J12="DAUPHIN",OR(C12="F",C12="AF"),K12=""),I12*Parametre!$E$8,IF(AND($AS$9-A12=1,F12-A12=2,J12="DAUPHIN",OR(C12="F",C12="AF"),K12=""),I12*Parametre!$F$8,IF(AND($AS$9=A12,F12-A12<=2,C12="VD",J12="LEGER",K12=""),I12*Parametre!$E$9,IF(AND($AS$9-A12=1,F12-A12=2,C12="VD",J12="LEGER",K12=""),I12*Parametre!$F$9,IF(AND($AS$9=A12,F12-A12<=2,J12="LEGER",OR(C12="F",C12="AF"),K12=""),I12*Parametre!$E$10,IF(AND($AS$9-A12=1,F12-A12=2,J12="LEGER",OR(C12="F",C12="AF"),K12=""),I12*Parametre!$F$10,IF(AND($AS$9=A12,F12-A12<=2,C12="VD",J12="DAUPHIN",K12="MILT_DAUPH"),I12*Parametre!$E$11,IF(AND($AS$9-A12=1,F12-A12=2,C12="VD",J12="DAUPHIN",K12="MILT_DAUPH"),I12*Parametre!$F$11,IF(AND($AS$9=A12,F12-A12<=2,C12="VD",J12="LEGER",K12="MILIT_LH"),I12*Parametre!$E$13,""))))))))))) | BK12: =IF(N12<>"",N12,""),IF(R12<>"",R12,""),IF(V12<>"",V12,""),IF(Z12<>"",Z12,"") -> #VALUE!
E13: 1 | I13: =H13*G13 -> 0 | M13: =IF(N13<>"",G13,"") | N13: =IF(AND($M$9=F13,F13=A13+1),I13,IF(AND($M$9=F13,F13-A13>1),I13,"")) | O13: =IF(AND($M$9=A13,F13-A13<=2,C13="VD",J13="DAUPHIN",K13=""),I13*Parametre!$E$7,IF(AND($M$9-A13=1,F13-A13=2,C13="VD",J13="DAUPHIN",K13=""),I13*Parametre!$F$7,IF(AND($M$9=A13,F13-A13<=2,J13="DAUPHIN",OR(C13="F",C13="AF"),K13=""),I13*Parametre!$E$8,IF(AND($M$9-A13=1,F13-A13=2,J13="DAUPHIN",OR(C13="F",C13="AF"),K13=""),I13*Parametre!$F$8,IF(AND($M$9=A13,F13-A13<=2,C13="VD",J13="LEGER",K13=""),I13*Parametre!$E$9,IF(AND($M$9-A13=1,F13-A13=2,C13="VD",J13="LEGER",K13=""),I13*Parametre!$F$9,IF(AND($M$9=A13,F13-A13<=2,J13="LEGER",OR(C13="F",C13="AF"),K13=""),I13*Parametre!$E$10,IF(AND($M$9-A13=1,F13-A13=2,J13="LEGER",OR(C13="F",C13="AF"),K13=""),I13*Parametre!$F$10,IF(AND($M$9=A13,F13-A13<=2,C13="VD",J13="DAUPHIN",K13="MILT_DAUPH"),I13*Parametre!$E$11,IF(AND($M$9-A13=1,F13-A13=2,C13="VD",J13="DAUPHIN",K13="MILT_DAUPH"),I13*Parametre!$F$11,IF(AND($M$9=A13,F13-A13<=2,C13="VD",J13="LEGER",K13="MILIT_LH"),I13*Parametre!$E$13,""))))))))))) | Q13: =IF(R13<>"",G13,"") | R13: =IF(AND($M$9=F13,F13=A13+1),I13,IF(AND($M$9=F13,F13-A13),I13,"")) | S13: =IF(AND($M$9=A13,F13-A13<=2,C13="VD",J13="DAUPHIN",K13=""),I13*Parametre!$E$7,IF(AND($M$9-A13=1,F13-A13=2,C13="VD",J13="DAUPHIN",K13=""),I13*Parametre!$F$7,IF(AND($M$9=A13,F13-A13<=2,J13="DAUPHIN",OR(C13="F",C13="AF"),K13=""),I13*Parametre!$E$8,IF(AND($M$9-A13=1,F13-A13=2,J13="DAUPHIN",OR(C13="F",C13="AF"),K13=""),I13*Parametre!$F$8,IF(AND($M$9=A13,F13-A13<=2,C13="VD",J13="LEGER",K13=""),I13*Parametre!$E$9,IF(AND($M$9-A13=1,F13-A13=2,C13="VD",J13="LEGER",K13=""),I13*Parametre!$F$9,IF(AND($M$9=A13,F13-A13<=2,J13="LEGER",OR(C13="F",C13="AF"),K13=""),I13*Parametre!$E$10,IF(AND($M$9-A13=1,F13-A13=2,J13="LEGER",OR(C13="F",C13="AF"),K13=""),I13*Parametre!$F$10,IF(AND($M$9=A13,F13-A13<=2,C13="VD",J13="DAUPHIN",K13="MILT_DAUPH"),I13*Parametre!$E$11,IF(AND($M$9-A13=1,F13-A13=2,C13="VD",J13="DAUPHIN",K13="MILT_DAUPH"),I13*Parametre!$F$11,IF(AND($M$9=A13,F13-A13<=2,C13="VD",J13="LEGER",K13="MILIT_LH"),I13*Parametre!$E$13,""))))))))))) | U13: =IF(V13<>"",G13,"") | V13: =IF(AND($M$9=F13,F13=A13+1),I13,IF(AND($M$9=F13,F13-A13),I13,"")) | W13: =IF(AND($M$9=A13,F13-A13<=2,C13="VD",J13="DAUPHIN",K13=""),I13*Parametre!$E$7,IF(AND($M$9-A13=1,F13-A13=2,C13="VD",J13="DAUPHIN",K13=""),I13*Parametre!$F$7,IF(AND($M$9=A13,F13-A13<=2,J13="DAUPHIN",OR(C13="F",C13="AF"),K13=""),I13*Parametre!$E$8,IF(AND($M$9-A13=1,F13-A13=2,J13="DAUPHIN",OR(C13="F",C13="AF"),K13=""),I13*Parametre!$F$8,IF(AND($M$9=A13,F13-A13<=2,C13="VD",J13="LEGER",K13=""),I13*Parametre!$E$9,IF(AND($M$9-A13=1,F13-A13=2,C13="VD",J13="LEGER",K13=""),I13*Parametre!$F$9,IF(AND($M$9=A13,F13-A13<=2,J13="LEGER",OR(C13="F",C13="AF"),K13=""),I13*Parametre!$E$10,IF(AND($M$9-A13=1,F13-A13=2,J13="LEGER",OR(C13="F",C13="AF"),K13=""),I13*Parametre!$F$10,IF(AND($M$9=A13,F13-A13<=2,C13="VD",J13="DAUPHIN",K13="MILT_DAUPH"),I13*Parametre!$E$11,IF(AND($M$9-A13=1,F13-A13=2,C13="VD",J13="DAUPHIN",K13="MILT_DAUPH"),I13*Parametre!$F$11,IF(AND($M$9=A13,F13-A13<=2,C13="VD",J13="LEGER",K13="MILIT_LH"),I13*Parametre!$E$13,""))))))))))) | Y13: =IF(Z13<>"",G13,"") | Z13: =IF(AND($M$9=F13,F13=A13+1),I13,IF(AND($M$9=F13,F13-A13),I13,"")) | AA13: =IF(AND($M$9=A13,F13-A13<=2,C13="VD",J13="DAUPHIN",K13=""),I13*Parametre!$E$7,IF(AND($M$9-A13=1,F13-A13=2,C13="VD",J13="DAUPHIN",K13=""),I13*Parametre!$F$7,IF(AND($M$9=A13,F13-A13<=2,J13="DAUPHIN",OR(C13="F",C13="AF"),K13=""),I13*Parametre!$E$8,IF(AND($M$9-A13=1,F13-A13=2,J13="DAUPHIN",OR(C13="F",C13="AF"),K13=""),I13*Parametre!$F$8,IF(AND($M$9=A13,F13-A13<=2,C13="VD",J13="LEGER",K13=""),I13*Parametre!$E$9,IF(AND($M$9-A13=1,F13-A13=2,C13="VD",J13="LEGER",K13=""),I13*Parametre!$F$9,IF(AND($M$9=A13,F13-A13<=2,J13="LEGER",OR(C13="F",C13="AF"),K13=""),I13*Parametre!$E$10,IF(AND($M$9-A13=1,F13-A13=2,J13="LEGER",OR(C13="F",C13="AF"),K13=""),I13*Parametre!$F$10,IF(AND($M$9=A13,F13-A13<=2,C13="VD",J13="DAUPHIN",K13="MILT_DAUPH"),I13*Parametre!$E$11,IF(AND($M$9-A13=1,F13-A13=2,C13="VD",J13="DAUPHIN",K13="MILT_DAUPH"),I13*Parametre!$F$11,IF(AND($M$9=A13,F13-A13<=2,C13="VD",J13="LEGER",K13="MILIT_LH"),I13*Parametre!$E$13,""))))))))))) | AC13: =IF(AD13<>"",G13,"") | AD13: =IF(AND($AC$9=F13,F13=A13+1),I13,IF(AND($AC$9=F13,F13-A13>1),I13,"")) | AE13: =IF(AND($AC$9=A13,F13-A13<=2,C13="VD",J13="DAUPHIN",K13=""),I13*Parametre!$E$7,IF(AND($AC$9-A13=1,F13-A13=2,C13="VD",J13="DAUPHIN",K13=""),I13*Parametre!$F$7,IF(AND($AC$9=A13,F13-A13<=2,J13="DAUPHIN",OR(C13="F",C13="AF"),K13=""),I13*Parametre!$E$8,IF(AND($AC$9-A13=1,F13-A13=2,J13="DAUPHIN",OR(C13="F",C13="AF"),K13=""),I13*Parametre!$F$8,IF(AND($AC$9=A13,F13-A13<=2,C13="VD",J13="LEGER",K13=""),I13*Parametre!$E$9,IF(AND($AC$9-A13=1,F13-A13=2,C13="VD",J13="LEGER",K13=""),I13*Parametre!$F$9,IF(AND($AC$9=A13,F13-A13<=2,J13="LEGER",OR(C13="F",C13="AF"),K13=""),I13*Parametre!$E$10,IF(AND($AC$9-A13=1,F13-A13=2,J13="LEGER",OR(C13="F",C13="AF"),K13=""),I13*Parametre!$F$10,IF(AND($AC$9=A13,F13-A13<=2,C13="VD",J13="DAUPHIN",K13="MILT_DAUPH"),I13*Parametre!$E$11,IF(AND($AC$9-A13=1,F13-A13=2,C13="VD",J13="DAUPHIN",K13="MILT_DAUPH"),I13*Parametre!$F$11,IF(AND($AC$9=A13,F13-A13<=2,C13="VD",J13="LEGER",K13="MILIT_LH"),I13*Parametre!$E$13,""))))))))))) | AG13: =IF(AD13<>"",G13,"") | AH13: =IF(AND($AC$9=F13,F13=A13+1),I13,IF(AND($AC$9=F13,F13-A13),I13,"")) | AI13: =IF(AND($AC$9=A13,F13-A13<=2,C13="VD",J13="DAUPHIN",K13=""),I13*Parametre!$E$7,IF(AND($AC$9-A13=1,F13-A13=2,C13="VD",J13="DAUPHIN",K13=""),I13*Parametre!$F$7,IF(AND($AC$9=A13,F13-A13<=2,J13="DAUPHIN",OR(C13="F",C13="AF"),K13=""),I13*Parametre!$E$8,IF(AND($AC$9-A13=1,F13-A13=2,J13="DAUPHIN",OR(C13="F",C13="AF"),K13=""),I13*Parametre!$F$8,IF(AND($AC$9=A13,F13-A13<=2,C13="VD",J13="LEGER",K13=""),I13*Parametre!$E$9,IF(AND($AC$9-A13=1,F13-A13=2,C13="VD",J13="LEGER",K13=""),I13*Parametre!$F$9,IF(AND($AC$9=A13,F13-A13<=2,J13="LEGER",OR(C13="F",C13="AF"),K13=""),I13*Parametre!$E$10,IF(AND($AC$9-A13=1,F13-A13=2,J13="LEGER",OR(C13="F",C13="AF"),K13=""),I13*Parametre!$F$10,IF(AND($AC$9=A13,F13-A13<=2,C13="VD",J13="DAUPHIN",K13="MILT_DAUPH"),I13*Parametre!$E$11,IF(AND($AC$9-A13=1,F13-A13=2,C13="VD",J13="DAUPHIN",K13="MILT_DAUPH"),I13*Parametre!$F$11,IF(AND($AC$9=A13,F13-A13<=2,C13="VD",J13="LEGER",K13="MILIT_LH"),I13*Parametre!$E$13,""))))))))))) | AK13: =IF(AD13<>"",G13,"") | AL13: =IF(AND($AC$9=F13,F13=A13+1),I13,IF(AND($AC$9=F13,F13-A13),I13,"")) | AM13: =IF(AND($AC$9=A13,F13-A13<=2,C13="VD",J13="DAUPHIN",K13=""),I13*Parametre!$E$7,IF(AND($AC$9-A13=1,F13-A13=2,C13="VD",J13="DAUPHIN",K13=""),I13*Parametre!$F$7,IF(AND($AC$9=A13,F13-A13<=2,J13="DAUPHIN",OR(C13="F",C13="AF"),K13=""),I13*Parametre!$E$8,IF(AND($AC$9-A13=1,F13-A13=2,J13="DAUPHIN",OR(C13="F",C13="AF"),K13=""),I13*Parametre!$F$8,IF(AND($AC$9=A13,F13-A13<=2,C13="VD",J13="LEGER",K13=""),I13*Parametre!$E$9,IF(AND($AC$9-A13=1,F13-A13=2,C13="VD",J13="LEGER",K13=""),I13*Parametre!$F$9,IF(AND($AC$9=A13,F13-A13<=2,J13="LEGER",OR(C13="F",C13="AF"),K13=""),I13*Parametre!$E$10,IF(AND($AC$9-A13=1,F13-A13=2,J13="LEGER",OR(C13="F",C13="AF"),K13=""),I13*Parametre!$F$10,IF(AND($AC$9=A13,F13-A13<=2,C13="VD",J13="DAUPHIN",K13="MILT_DAUPH"),I13*Parametre!$E$11,IF(AND($AC$9-A13=1,F13-A13=2,C13="VD",J13="DAUPHIN",K13="MILT_DAUPH"),I13*Parametre!$F$11,IF(AND($AC$9=A13,F13-A13<=2,C13="VD",J13="LEGER",K13="MILIT_LH"),I13*Parametre!$E$13,""))))))))))) | AO13: =IF(AD13<>"",G13,"") | AP13: =IF(AND($AC$9=F13,F13=A13+1),I13,IF(AND($AC$9=F13,F13-A13),I13,"")) | AQ13: =IF(AND($AC$9=A13,F13-A13<=2,C13="VD",J13="DAUPHIN",K13=""),I13*Parametre!$E$7,IF(AND($AC$9-A13=1,F13-A13=2,C13="VD",J13="DAUPHIN",K13=""),I13*Parametre!$F$7,IF(AND($AC$9=A13,F13-A13<=2,J13="DAUPHIN",OR(C13="F",C13="AF"),K13=""),I13*Parametre!$E$8,IF(AND($AC$9-A13=1,F13-A13=2,J13="DAUPHIN",OR(C13="F",C13="AF"),K13=""),I13*Parametre!$F$8,IF(AND($AC$9=A13,F13-A13<=2,C13="VD",J13="LEGER",K13=""),I13*Parametre!$E$9,IF(AND($AC$9-A13=1,F13-A13=2,C13="VD",J13="LEGER",K13=""),I13*Parametre!$F$9,IF(AND($AC$9=A13,F13-A13<=2,J13="LEGER",OR(C13="F",C13="AF"),K13=""),I13*Parametre!$E$10,IF(AND($AC$9-A13=1,F13-A13=2,J13="LEGER",OR(C13="F",C13="AF"),K13=""),I13*Parametre!$F$10,IF(AND($AC$9=A13,F13-A13<=2,C13="VD",J13="DAUPHIN",K13="MILT_DAUPH"),I13*Parametre!$E$11,IF(AND($AC$9-A13=1,F13-A13=2,C13="VD",J13="DAUPHIN",K13="MILT_DAUPH"),I13*Parametre!$F$11,IF(AND($AC$9=A13,F13-A13<=2,C13="VD",J13="LEGER",K13="MILIT_LH"),I13*Parametre!$E$13,""))))))))))) | AS13: =IF(AT13<>"",G13,"") | AT13: =IF(AND($AS$9=F13,F13=A13+1),I13,IF(AND($AS$9=F13,F13-A13),I13,"")) | AU13: =IF(AND($AS$9=A13,F13-A13<=2,C13="VD",J13="DAUPHIN",K13=""),I13*Parametre!$E$7,IF(AND($AS$9-A13=1,F13-A13=2,C13="VD",J13="DAUPHIN",K13=""),I13*Parametre!$F$7,IF(AND($AS$9=A13,F13-A13<=2,J13="DAUPHIN",OR(C13="F",C13="AF"),K13=""),I13*Parametre!$E$8,IF(AND($AS$9-A13=1,F13-A13=2,J13="DAUPHIN",OR(C13="F",C13="AF"),K13=""),I13*Parametre!$F$8,IF(AND($AS$9=A13,F13-A13<=2,C13="VD",J13="LEGER",K13=""),I13*Parametre!$E$9,IF(AND($AS$9-A13=1,F13-A13=2,C13="VD",J13="LEGER",K13=""),I13*Parametre!$F$9,IF(AND($AS$9=A13,F13-A13<=2,J13="LEGER",OR(C13="F",C13="AF"),K13=""),I13*Parametre!$E$10,IF(AND($AS$9-A13=1,F13-A13=2,J13="LEGER",OR(C13="F",C13="AF"),K13=""),I13*Parametre!$F$10,IF(AND($AS$9=A13,F13-A13<=2,C13="VD",J13="DAUPHIN",K13="MILT_DAUPH"),I13*Parametre!$E$11,IF(AND($AS$9-A13=1,F13-A13=2,C13="VD",J13="DAUPHIN",K13="MILT_DAUPH"),I13*Parametre!$F$11,IF(AND($AS$9=A13,F13-A13<=2,C13="VD",J13="LEGER",K13="MILIT_LH"),I13*Parametre!$E$13,""))))))))))) | AW13: =IF(AX13<>"",G13,"") | AX13: =IF(AND($AS$9=F13,F13=A13+1),I13,IF(AND($AS$9=F13,F13-A13),I13,"")) | AY13: =IF(AND($AS$9=A13,F13-A13<=2,C13="VD",J13="DAUPHIN",K13=""),I13*Parametre!$E$7,IF(AND($AS$9-A13=1,F13-A13=2,C13="VD",J13="DAUPHIN",K13=""),I13*Parametre!$F$7,IF(AND($AS$9=A13,F13-A13<=2,J13="DAUPHIN",OR(C13="F",C13="AF"),K13=""),I13*Parametre!$E$8,IF(AND($AS$9-A13=1,F13-A13=2,J13="DAUPHIN",OR(C13="F",C13="AF"),K13=""),I13*Parametre!$F$8,IF(AND($AS$9=A13,F13-A13<=2,C13="VD",J13="LEGER",K13=""),I13*Parametre!$E$9,IF(AND($AS$9-A13=1,F13-A13=2,C13="VD",J13="LEGER",K13=""),I13*Parametre!$F$9,IF(AND($AS$9=A13,F13-A13<=2,J13="LEGER",OR(C13="F",C13="AF"),K13=""),I13*Parametre!$E$10,IF(AND($AS$9-A13=1,F13-A13=2,J13="LEGER",OR(C13="F",C13="AF"),K13=""),I13*Parametre!$F$10,IF(AND($AS$9=A13,F13-A13<=2,C13="VD",J13="DAUPHIN",K13="MILT_DAUPH"),I13*Parametre!$E$11,IF(AND($AS$9-A13=1,F13-A13=2,C13="VD",J13="DAUPHIN",K13="MILT_DAUPH"),I13*Parametre!$F$11,IF(AND($AS$9=A13,F13-A13<=2,C13="VD",J13="LEGER",K13="MILIT_LH"),I13*Parametre!$E$13,""))))))))))) | BA13: =IF(BB13<>"",G13,"") | BB13: =IF(AND($AS$9=F13,F13=A13+1),I13,IF(AND($AS$9=F13,F13-A13),I13,"")) | BC13: =IF(AND($AS$9=A13,F13-A13<=2,C13="VD",J13="DAUPHIN",K13=""),I13*Parametre!$E$7,IF(AND($AS$9-A13=1,F13-A13=2,C13="VD",J13="DAUPHIN",K13=""),I13*Parametre!$F$7,IF(AND($AS$9=A13,F13-A13<=2,J13="DAUPHIN",OR(C13="F",C13="AF"),K13=""),I13*Parametre!$E$8,IF(AND($AS$9-A13=1,F13-A13=2,J13="DAUPHIN",OR(C13="F",C13="AF"),K13=""),I13*Parametre!$F$8,IF(AND($AS$9=A13,F13-A13<=2,C13="VD",J13="LEGER",K13=""),I13*Parametre!$E$9,IF(AND($AS$9-A13=1,F13-A13=2,C13="VD",J13="LEGER",K13=""),I13*Parametre!$F$9,IF(AND($AS$9=A13,F13-A13<=2,J13="LEGER",OR(C13="F",C13="AF"),K13=""),I13*Parametre!$E$10,IF(AND($AS$9-A13=1,F13-A13=2,J13="LEGER",OR(C13="F",C13="AF"),K13=""),I13*Parametre!$F$10,IF(AND($AS$9=A13,F13-A13<=2,C13="VD",J13="DAUPHIN",K13="MILT_DAUPH"),I13*Parametre!$E$11,IF(AND($AS$9-A13=1,F13-A13=2,C13="VD",J13="DAUPHIN",K13="MILT_DAUPH"),I13*Parametre!$F$11,IF(AND($AS$9=A13,F13-A13<=2,C13="VD",J13="LEGER",K13="MILIT_LH"),I13*Parametre!$E$13,""))))))))))) | BE13: =IF(BF13<>"",G13,"") | BF13: =IF(AND($AS$9=F13,F13=A13+1),I13,IF(AND($AS$9=F13,F13-A13),I13,"")) | BG13: =IF(AND($AS$9=A13,F13-A13<=2,C13="VD",J13="DAUPHIN",K13=""),I13*Parametre!$E$7,IF(AND($AS$9-A13=1,F13-A13=2,C13="VD",J13="DAUPHIN",K13=""),I13*Parametre!$F$7,IF(AND($AS$9=A13,F13-A13<=2,J13="DAUPHIN",OR(C13="F",C13="AF"),K13=""),I13*Parametre!$E$8,IF(AND($AS$9-A13=1,F13-A13=2,J13="DAUPHIN",OR(C13="F",C13="AF"),K13=""),I13*Parametre!$F$8,IF(AND($AS$9=A13,F13-A13<=2,C13="VD",J13="LEGER",K13=""),I13*Parametre!$E$9,IF(AND($AS$9-A13=1,F13-A13=2,C13="VD",J13="LEGER",K13=""),I13*Parametre!$F$9,IF(AND($AS$9=A13,F13-A13<=2,J13="LEGER",OR(C13="F",C13="AF"),K13=""),I13*Parametre!$E$10,IF(AND($AS$9-A13=1,F13-A13=2,J13="LEGER",OR(C13="F",C13="AF"),K13=""),I13*Parametre!$F$10,IF(AND($AS$9=A13,F13-A13<=2,C13="VD",J13="DAUPHIN",K13="MILT_DAUPH"),I13*Parametre!$E$11,IF(AND($AS$9-A13=1,F13-A13=2,C13="VD",J13="DAUPHIN",K13="MILT_DAUPH"),I13*Parametre!$F$11,IF(AND($AS$9=A13,F13-A13<=2,C13="VD",J13="LEGER",K13="MILIT_LH"),I13*Parametre!$E$13,"")))))))))))
E14: 2 | I14: =H14*G14 -> 0 | M14: =IF(N14<>"",G14,"") | N14: =IF(AND($M$9=F14,F14=A14+1),I14,IF(AND($M$9=F14,F14-A14>1),I14,"")) | O14: =IF(AND($M$9=A14,F14-A14<=2,C14="VD",J14="DAUPHIN",K14=""),I14*Parametre!$E$7,IF(AND($M$9-A14=1,F14-A14=2,C14="VD",J14="DAUPHIN",K14=""),I14*Parametre!$F$7,IF(AND($M$9=A14,F14-A14<=2,J14="DAUPHIN",OR(C14="F",C14="AF"),K14=""),I14*Parametre!$E$8,IF(AND($M$9-A14=1,F14-A14=2,J14="DAUPHIN",OR(C14="F",C14="AF"),K14=""),I14*Parametre!$F$8,IF(AND($M$9=A14,F14-A14<=2,C14="VD",J14="LEGER",K14=""),I14*Parametre!$E$9,IF(AND($M$9-A14=1,F14-A14=2,C14="VD",J14="LEGER",K14=""),I14*Parametre!$F$9,IF(AND($M$9=A14,F14-A14<=2,J14="LEGER",OR(C14="F",C14="AF"),K14=""),I14*Parametre!$E$10,IF(AND($M$9-A14=1,F14-A14=2,J14="LEGER",OR(C14="F",C14="AF"),K14=""),I14*Parametre!$F$10,IF(AND($M$9=A14,F14-A14<=2,C14="VD",J14="DAUPHIN",K14="MILT_DAUPH"),I14*Parametre!$E$11,IF(AND($M$9-A14=1,F14-A14=2,C14="VD",J14="DAUPHIN",K14="MILT_DAUPH"),I14*Parametre!$F$11,IF(AND($M$9=A14,F14-A14<=2,C14="VD",J14="LEGER",K14="MILIT_LH"),I14*Parametre!$E$13,""))))))))))) | Q14: =IF(R14<>"",G14,"") | R14: =IF(AND($M$9=F14,F14=A14+1),I14,IF(AND($M$9=F14,F14-A14),I14,"")) | S14: =IF(AND($M$9=A14,F14-A14<=2,C14="VD",J14="DAUPHIN",K14=""),I14*Parametre!$E$7,IF(AND($M$9-A14=1,F14-A14=2,C14="VD",J14="DAUPHIN",K14=""),I14*Parametre!$F$7,IF(AND($M$9=A14,F14-A14<=2,J14="DAUPHIN",OR(C14="F",C14="AF"),K14=""),I14*Parametre!$E$8,IF(AND($M$9-A14=1,F14-A14=2,J14="DAUPHIN",OR(C14="F",C14="AF"),K14=""),I14*Parametre!$F$8,IF(AND($M$9=A14,F14-A14<=2,C14="VD",J14="LEGER",K14=""),I14*Parametre!$E$9,IF(AND($M$9-A14=1,F14-A14=2,C14="VD",J14="LEGER",K14=""),I14*Parametre!$F$9,IF(AND($M$9=A14,F14-A14<=2,J14="LEGER",OR(C14="F",C14="AF"),K14=""),I14*Parametre!$E$10,IF(AND($M$9-A14=1,F14-A14=2,J14="LEGER",OR(C14="F",C14="AF"),K14=""),I14*Parametre!$F$10,IF(AND($M$9=A14,F14-A14<=2,C14="VD",J14="DAUPHIN",K14="MILT_DAUPH"),I14*Parametre!$E$11,IF(AND($M$9-A14=1,F14-A14=2,C14="VD",J14="DAUPHIN",K14="MILT_DAUPH"),I14*Parametre!$F$11,IF(AND($M$9=A14,F14-A14<=2,C14="VD",J14="LEGER",K14="MILIT_LH"),I14*Parametre!$E$13,""))))))))))) | U14: =IF(V14<>"",G14,"") | V14: =IF(AND($M$9=F14,F14=A14+1),I14,IF(AND($M$9=F14,F14-A14),I14,"")) | W14: =IF(AND($M$9=A14,F14-A14<=2,C14="VD",J14="DAUPHIN",K14=""),I14*Parametre!$E$7,IF(AND($M$9-A14=1,F14-A14=2,C14="VD",J14="DAUPHIN",K14=""),I14*Parametre!$F$7,IF(AND($M$9=A14,F14-A14<=2,J14="DAUPHIN",OR(C14="F",C14="AF"),K14=""),I14*Parametre!$E$8,IF(AND($M$9-A14=1,F14-A14=2,J14="DAUPHIN",OR(C14="F",C14="AF"),K14=""),I14*Parametre!$F$8,IF(AND($M$9=A14,F14-A14<=2,C14="VD",J14="LEGER",K14=""),I14*Parametre!$E$9,IF(AND($M$9-A14=1,F14-A14=2,C14="VD",J14="LEGER",K14=""),I14*Parametre!$F$9,IF(AND($M$9=A14,F14-A14<=2,J14="LEGER",OR(C14="F",C14="AF"),K14=""),I14*Parametre!$E$10,IF(AND($M$9-A14=1,F14-A14=2,J14="LEGER",OR(C14="F",C14="AF"),K14=""),I14*Parametre!$F$10,IF(AND($M$9=A14,F14-A14<=2,C14="VD",J14="DAUPHIN",K14="MILT_DAUPH"),I14*Parametre!$E$11,IF(AND($M$9-A14=1,F14-A14=2,C14="VD",J14="DAUPHIN",K14="MILT_DAUPH"),I14*Parametre!$F$11,IF(AND($M$9=A14,F14-A14<=2,C14="VD",J14="LEGER",K14="MILIT_LH"),I14*Parametre!$E$13,""))))))))))) | Y14: =IF(Z14<>"",G14,"") | Z14: =IF(AND($M$9=F14,F14=A14+1),I14,IF(AND($M$9=F14,F14-A14),I14,"")) | AA14: =IF(AND($M$9=A14,F14-A14<=2,C14="VD",J14="DAUPHIN",K14=""),I14*Parametre!$E$7,IF(AND($M$9-A14=1,F14-A14=2,C14="VD",J14="DAUPHIN",K14=""),I14*Parametre!$F$7,IF(AND($M$9=A14,F14-A14<=2,J14="DAUPHIN",OR(C14="F",C14="AF"),K14=""),I14*Parametre!$E$8,IF(AND($M$9-A14=1,F14-A14=2,J14="DAUPHIN",OR(C14="F",C14="AF"),K14=""),I14*Parametre!$F$8,IF(AND($M$9=A14,F14-A14<=2,C14="VD",J14="LEGER",K14=""),I14*Parametre!$E$9,IF(AND($M$9-A14=1,F14-A14=2,C14="VD",J14="LEGER",K14=""),I14*Parametre!$F$9,IF(AND($M$9=A14,F14-A14<=2,J14="LEGER",OR(C14="F",C14="AF"),K14=""),I14*Parametre!$E$10,IF(AND($M$9-A14=1,F14-A14=2,J14="LEGER",OR(C14="F",C14="AF"),K14=""),I14*Parametre!$F$10,IF(AND($M$9=A14,F14-A14<=2,C14="VD",J14="DAUPHIN",K14="MILT_DAUPH"),I14*Parametre!$E$11,IF(AND($M$9-A14=1,F14-A14=2,C14="VD",J14="DAUPHIN",K14="MILT_DAUPH"),I14*Parametre!$F$11,IF(AND($M$9=A14,F14-A14<=2,C14="VD",J14="LEGER",K14="MILIT_LH"),I14*Parametre!$E$13,""))))))))))) | AC14: =IF(AD14<>"",G14,"") | AD14: =IF(AND($AC$9=F14,F14=A14+1),I14,IF(AND($AC$9=F14,F14-A14>1),I14,"")) | AE14: =IF(AND($AC$9=A14,F14-A14<=2,C14="VD",J14="DAUPHIN",K14=""),I14*Parametre!$E$7,IF(AND($AC$9-A14=1,F14-A14=2,C14="VD",J14="DAUPHIN",K14=""),I14*Parametre!$F$7,IF(AND($AC$9=A14,F14-A14<=2,J14="DAUPHIN",OR(C14="F",C14="AF"),K14=""),I14*Parametre!$E$8,IF(AND($AC$9-A14=1,F14-A14=2,J14="DAUPHIN",OR(C14="F",C14="AF"),K14=""),I14*Parametre!$F$8,IF(AND($AC$9=A14,F14-A14<=2,C14="VD",J14="LEGER",K14=""),I14*Parametre!$E$9,IF(AND($AC$9-A14=1,F14-A14=2,C14="VD",J14="LEGER",K14=""),I14*Parametre!$F$9,IF(AND($AC$9=A14,F14-A14<=2,J14="LEGER",OR(C14="F",C14="AF"),K14=""),I14*Parametre!$E$10,IF(AND($AC$9-A14=1,F14-A14=2,J14="LEGER",OR(C14="F",C14="AF"),K14=""),I14*Parametre!$F$10,IF(AND($AC$9=A14,F14-A14<=2,C14="VD",J14="DAUPHIN",K14="MILT_DAUPH"),I14*Parametre!$E$11,IF(AND($AC$9-A14=1,F14-A14=2,C14="VD",J14="DAUPHIN",K14="MILT_DAUPH"),I14*Parametre!$F$11,IF(AND($AC$9=A14,F14-A14<=2,C14="VD",J14="LEGER",K14="MILIT_LH"),I14*Parametre!$E$13,""))))))))))) | AG14: =IF(AD14<>"",G14,"") | AH14: =IF(AND($AC$9=F14,F14=A14+1),I14,IF(AND($AC$9=F14,F14-A14),I14,"")) | AI14: =IF(AND($AC$9=A14,F14-A14<=2,C14="VD",J14="DAUPHIN",K14=""),I14*Parametre!$E$7,IF(AND($AC$9-A14=1,F14-A14=2,C14="VD",J14="DAUPHIN",K14=""),I14*Parametre!$F$7,IF(AND($AC$9=A14,F14-A14<=2,J14="DAUPHIN",OR(C14="F",C14="AF"),K14=""),I14*Parametre!$E$8,IF(AND($AC$9-A14=1,F14-A14=2,J14="DAUPHIN",OR(C14="F",C14="AF"),K14=""),I14*Parametre!$F$8,IF(AND($AC$9=A14,F14-A14<=2,C14="VD",J14="LEGER",K14=""),I14*Parametre!$E$9,IF(AND($AC$9-A14=1,F14-A14=2,C14="VD",J14="LEGER",K14=""),I14*Parametre!$F$9,IF(AND($AC$9=A14,F14-A14<=2,J14="LEGER",OR(C14="F",C14="AF"),K14=""),I14*Parametre!$E$10,IF(AND($AC$9-A14=1,F14-A14=2,J14="LEGER",OR(C14="F",C14="AF"),K14=""),I14*Parametre!$F$10,IF(AND($AC$9=A14,F14-A14<=2,C14="VD",J14="DAUPHIN",K14="MILT_DAUPH"),I14*Parametre!$E$11,IF(AND($AC$9-A14=1,F14-A14=2,C14="VD",J14="DAUPHIN",K14="MILT_DAUPH"),I14*Parametre!$F$11,IF(AND($AC$9=A14,F14-A14<=2,C14="VD",J14="LEGER",K14="MILIT_LH"),I14*Parametre!$E$13,""))))))))))) | AK14: =IF(AD14<>"",G14,"") | AL14: =IF(AND($AC$9=F14,F14=A14+1),I14,IF(AND($AC$9=F14,F14-A14),I14,"")) | AM14: =IF(AND($AC$9=A14,F14-A14<=2,C14="VD",J14="DAUPHIN",K14=""),I14*Parametre!$E$7,IF(AND($AC$9-A14=1,F14-A14=2,C14="VD",J14="DAUPHIN",K14=""),I14*Parametre!$F$7,IF(AND($AC$9=A14,F14-A14<=2,J14="DAUPHIN",OR(C14="F",C14="AF"),K14=""),I14*Parametre!$E$8,IF(AND($AC$9-A14=1,F14-A14=2,J14="DAUPHIN",OR(C14="F",C14="AF"),K14=""),I14*Parametre!$F$8,IF(AND($AC$9=A14,F14-A14<=2,C14="VD",J14="LEGER",K14=""),I14*Parametre!$E$9,IF(AND($AC$9-A14=1,F14-A14=2,C14="VD",J14="LEGER",K14=""),I14*Parametre!$F$9,IF(AND($AC$9=A14,F14-A14<=2,J14="LEGER",OR(C14="F",C14="AF"),K14=""),I14*Parametre!$E$10,IF(AND($AC$9-A14=1,F14-A14=2,J14="LEGER",OR(C14="F",C14="AF"),K14=""),I14*Parametre!$F$10,IF(AND($AC$9=A14,F14-A14<=2,C14="VD",J14="DAUPHIN",K14="MILT_DAUPH"),I14*Parametre!$E$11,IF(AND($AC$9-A14=1,F14-A14=2,C14="VD",J14="DAUPHIN",K14="MILT_DAUPH"),I14*Parametre!$F$11,IF(AND($AC$9=A14,F14-A14<=2,C14="VD",J14="LEGER",K14="MILIT_LH"),I14*Parametre!$E$13,""))))))))))) | AO14: =IF(AD14<>"",G14,"") | AP14: =IF(AND($AC$9=F14,F14=A14+1),I14,IF(AND($AC$9=F14,F14-A14),I14,"")) | AQ14: =IF(AND($AC$9=A14,F14-A14<=2,C14="VD",J14="DAUPHIN",K14=""),I14*Parametre!$E$7,IF(AND($AC$9-A14=1,F14-A14=2,C14="VD",J14="DAUPHIN",K14=""),I14*Parametre!$F$7,IF(AND($AC$9=A14,F14-A14<=2,J14="DAUPHIN",OR(C14="F",C14="AF"),K14=""),I14*Parametre!$E$8,IF(AND($AC$9-A14=1,F14-A14=2,J14="DAUPHIN",OR(C14="F",C14="AF"),K14=""),I14*Parametre!$F$8,IF(AND($AC$9=A14,F14-A14<=2,C14="VD",J14="LEGER",K14=""),I14*Parametre!$E$9,IF(AND($AC$9-A14=1,F14-A14=2,C14="VD",J14="LEGER",K14=""),I14*Parametre!$F$9,IF(AND($AC$9=A14,F14-A14<=2,J14="LEGER",OR(C14="F",C14="AF"),K14=""),I14*Parametre!$E$10,IF(AND($AC$9-A14=1,F14-A14=2,J14="LEGER",OR(C14="F",C14="AF"),K14=""),I14*Parametre!$F$10,IF(AND($AC$9=A14,F14-A14<=2,C14="VD",J14="DAUPHIN",K14="MILT_DAUPH"),I14*Parametre!$E$11,IF(AND($AC$9-A14=1,F14-A14=2,C14="VD",J14="DAUPHIN",K14="MILT_DAUPH"),I14*Parametre!$F$11,IF(AND($AC$9=A14,F14-A14<=2,C14="VD",J14="LEGER",K14="MILIT_LH"),I14*Parametre!$E$13,""))))))))))) | AS14: =IF(AT14<>"",G14,"") | AT14: =IF(AND($AS$9=F14,F14=A14+1),I14,IF(AND($AS$9=F14,F14-A14),I14,"")) | AU14: =IF(AND($AS$9=A14,F14-A14<=2,C14="VD",J14="DAUPHIN",K14=""),I14*Parametre!$E$7,IF(AND($AS$9-A14=1,F14-A14=2,C14="VD",J14="DAUPHIN",K14=""),I14*Parametre!$F$7,IF(AND($AS$9=A14,F14-A14<=2,J14="DAUPHIN",OR(C14="F",C14="AF"),K14=""),I14*Parametre!$E$8,IF(AND($AS$9-A14=1,F14-A14=2,J14="DAUPHIN",OR(C14="F",C14="AF"),K14=""),I14*Parametre!$F$8,IF(AND($AS$9=A14,F14-A14<=2,C14="VD",J14="LEGER",K14=""),I14*Parametre!$E$9,IF(AND($AS$9-A14=1,F14-A14=2,C14="VD",J14="LEGER",K14=""),I14*Parametre!$F$9,IF(AND($AS$9=A14,F14-A14<=2,J14="LEGER",OR(C14="F",C14="AF"),K14=""),I14*Parametre!$E$10,IF(AND($AS$9-A14=1,F14-A14=2,J14="LEGER",OR(C14="F",C14="AF"),K14=""),I14*Parametre!$F$10,IF(AND($AS$9=A14,F14-A14<=2,C14="VD",J14="DAUPHIN",K14="MILT_DAUPH"),I14*Parametre!$E$11,IF(AND($AS$9-A14=1,F14-A14=2,C14="VD",J14="DAUPHIN",K14="MILT_DAUPH"),I14*Parametre!$F$11,IF(AND($AS$9=A14,F14-A14<=2,C14="VD",J14="LEGER",K14="MILIT_LH"),I14*Parametre!$E$13,""))))))))))) | AW14: =IF(AX14<>"",G14,"") | AX14: =IF(AND($AS$9=F14,F14=A14+1),I14,IF(AND($AS$9=F14,F14-A14),I14,"")) | AY14: =IF(AND($AS$9=A14,F14-A14<=2,C14="VD",J14="DAUPHIN",K14=""),I14*Parametre!$E$7,IF(AND($AS$9-A14=1,F14-A14=2,C14="VD",J14="DAUPHIN",K14=""),I14*Parametre!$F$7,IF(AND($AS$9=A14,F14-A14<=2,J14="DAUPHIN",OR(C14="F",C14="AF"),K14=""),I14*Parametre!$E$8,IF(AND($AS$9-A14=1,F14-A14=2,J14="DAUPHIN",OR(C14="F",C14="AF"),K14=""),I14*Parametre!$F$8,IF(AND($AS$9=A14,F14-A14<=2,C14="VD",J14="LEGER",K14=""),I14*Parametre!$E$9,IF(AND($AS$9-A14=1,F14-A14=2,C14="VD",J14="LEGER",K14=""),I14*Parametre!$F$9,IF(AND($AS$9=A14,F14-A14<=2,J14="LEGER",OR(C14="F",C14="AF"),K14=""),I14*Parametre!$E$10,IF(AND($AS$9-A14=1,F14-A14=2,J14="LEGER",OR(C14="F",C14="AF"),K14=""),I14*Parametre!$F$10,IF(AND($AS$9=A14,F14-A14<=2,C14="VD",J14="DAUPHIN",K14="MILT_DAUPH"),I14*Parametre!$E$11,IF(AND($AS$9-A14=1,F14-A14=2,C14="VD",J14="DAUPHIN",K14="MILT_DAUPH"),I14*Parametre!$F$11,IF(AND($AS$9=A14,F14-A14<=2,C14="VD",J14="LEGER",K14="MILIT_LH"),I14*Parametre!$E$13,""))))))))))) | BA14: =IF(BB14<>"",G14,"") | BB14: =IF(AND($AS$9=F14,F14=A14+1),I14,IF(AND($AS$9=F14,F14-A14),I14,"")) | BC14: =IF(AND($AS$9=A14,F14-A14<=2,C14="VD",J14="DAUPHIN",K14=""),I14*Parametre!$E$7,IF(AND($AS$9-A14=1,F14-A14=2,C14="VD",J14="DAUPHIN",K14=""),I14*Parametre!$F$7,IF(AND($AS$9=A14,F14-A14<=2,J14="DAUPHIN",OR(C14="F",C14="AF"),K14=""),I14*Parametre!$E$8,IF(AND($AS$9-A14=1,F14-A14=2,J14="DAUPHIN",OR(C14="F",C14="AF"),K14=""),I14*Parametre!$F$8,IF(AND($AS$9=A14,F14-A14<=2,C14="VD",J14="LEGER",K14=""),I14*Parametre!$E$9,IF(AND($AS$9-A14=1,F14-A14=2,C14="VD",J14="LEGER",K14=""),I14*Parametre!$F$9,IF(AND($AS$9=A14,F14-A14<=2,J14="LEGER",OR(C14="F",C14="AF"),K14=""),I14*Parametre!$E$10,IF(AND($AS$9-A14=1,F14-A14=2,J14="LEGER",OR(C14="F",C14="AF"),K14=""),I14*Parametre!$F$10,IF(AND($AS$9=A14,F14-A14<=2,C14="VD",J14="DAUPHIN",K14="MILT_DAUPH"),I14*Parametre!$E$11,IF(AND($AS$9-A14=1,F14-A14=2,C14="VD",J14="DAUPHIN",K14="MILT_DAUPH"),I14*Parametre!$F$11,IF(AND($AS$9=A14,F14-A14<=2,C14="VD",J14="LEGER",K14="MILIT_LH"),I14*Parametre!$E$13,""))))))))))) | BE14: =IF(BF14<>"",G14,"") | BF14: =IF(AND($AS$9=F14,F14=A14+1),I14,IF(AND($AS$9=F14,F14-A14),I14,"")) | BG14: =IF(AND($AS$9=A14,F14-A14<=2,C14="VD",J14="DAUPHIN",K14=""),I14*Parametre!$E$7,IF(AND($AS$9-A14=1,F14-A14=2,C14="VD",J14="DAUPHIN",K14=""),I14*Parametre!$F$7,IF(AND($AS$9=A14,F14-A14<=2,J14="DAUPHIN",OR(C14="F",C14="AF"),K14=""),I14*Parametre!$E$8,IF(AND($AS$9-A14=1,F14-A14=2,J14="DAUPHIN",OR(C14="F",C14="AF"),K14=""),I14*Parametre!$F$8,IF(AND($AS$9=A14,F14-A14<=2,C14="VD",J14="LEGER",K14=""),I14*Parametre!$E$9,IF(AND($AS$9-A14=1,F14-A14=2,C14="VD",J14="LEGER",K14=""),I14*Parametre!$F$9,IF(AND($AS$9=A14,F14-A14<=2,J14="LEGER",OR(C14="F",C14="AF"),K14=""),I14*Parametre!$E$10,IF(AND($AS$9-A14=1,F14-A14=2,J14="LEGER",OR(C14="F",C14="AF"),K14=""),I14*Parametre!$F$10,IF(AND($AS$9=A14,F14-A14<=2,C14="VD",J14="DAUPHIN",K14="MILT_DAUPH"),I14*Parametre!$E$11,IF(AND($AS$9-A14=1,F14-A14=2,C14="VD",J14="DAUPHIN",K14="MILT_DAUPH"),I14*Parametre!$F$11,IF(AND($AS$9=A14,F14-A14<=2,C14="VD",J14="LEGER",K14="MILIT_LH"),I14*Parametre!$E$13,"")))))))))))
E15: NC | I15: =H15*G15 -> 0 | M15: =IF(N15<>"",G15,"") | N15: =IF(AND($M$9=F15,F15=A15+1),I15,IF(AND($M$9=F15,F15-A15>1),I15,"")) | O15: =IF(AND($M$9=A15,F15-A15<=2,C15="VD",J15="DAUPHIN",K15=""),I15*Parametre!$E$7,IF(AND($M$9-A15=1,F15-A15=2,C15="VD",J15="DAUPHIN",K15=""),I15*Parametre!$F$7,IF(AND($M$9=A15,F15-A15<=2,J15="DAUPHIN",OR(C15="F",C15="AF"),K15=""),I15*Parametre!$E$8,IF(AND($M$9-A15=1,F15-A15=2,J15="DAUPHIN",OR(C15="F",C15="AF"),K15=""),I15*Parametre!$F$8,IF(AND($M$9=A15,F15-A15<=2,C15="VD",J15="LEGER",K15=""),I15*Parametre!$E$9,IF(AND($M$9-A15=1,F15-A15=2,C15="VD",J15="LEGER",K15=""),I15*Parametre!$F$9,IF(AND($M$9=A15,F15-A15<=2,J15="LEGER",OR(C15="F",C15="AF"),K15=""),I15*Parametre!$E$10,IF(AND($M$9-A15=1,F15-A15=2,J15="LEGER",OR(C15="F",C15="AF"),K15=""),I15*Parametre!$F$10,IF(AND($M$9=A15,F15-A15<=2,C15="VD",J15="DAUPHIN",K15="MILT_DAUPH"),I15*Parametre!$E$11,IF(AND($M$9-A15=1,F15-A15=2,C15="VD",J15="DAUPHIN",K15="MILT_DAUPH"),I15*Parametre!$F$11,IF(AND($M$9=A15,F15-A15<=2,C15="VD",J15="LEGER",K15="MILIT_LH"),I15*Parametre!$E$13,""))))))))))) | Q15: =IF(R15<>"",G15,"") | R15: =IF(AND($M$9=F15,F15=A15+1),I15,IF(AND($M$9=F15,F15-A15),I15,"")) | S15: =IF(AND($M$9=A15,F15-A15<=2,C15="VD",J15="DAUPHIN",K15=""),I15*Parametre!$E$7,IF(AND($M$9-A15=1,F15-A15=2,C15="VD",J15="DAUPHIN",K15=""),I15*Parametre!$F$7,IF(AND($M$9=A15,F15-A15<=2,J15="DAUPHIN",OR(C15="F",C15="AF"),K15=""),I15*Parametre!$E$8,IF(AND($M$9-A15=1,F15-A15=2,J15="DAUPHIN",OR(C15="F",C15="AF"),K15=""),I15*Parametre!$F$8,IF(AND($M$9=A15,F15-A15<=2,C15="VD",J15="LEGER",K15=""),I15*Parametre!$E$9,IF(AND($M$9-A15=1,F15-A15=2,C15="VD",J15="LEGER",K15=""),I15*Parametre!$F$9,IF(AND($M$9=A15,F15-A15<=2,J15="LEGER",OR(C15="F",C15="AF"),K15=""),I15*Parametre!$E$10,IF(AND($M$9-A15=1,F15-A15=2,J15="LEGER",OR(C15="F",C15="AF"),K15=""),I15*Parametre!$F$10,IF(AND($M$9=A15,F15-A15<=2,C15="VD",J15="DAUPHIN",K15="MILT_DAUPH"),I15*Parametre!$E$11,IF(AND($M$9-A15=1,F15-A15=2,C15="VD",J15="DAUPHIN",K15="MILT_DAUPH"),I15*Parametre!$F$11,IF(AND($M$9=A15,F15-A15<=2,C15="VD",J15="LEGER",K15="MILIT_LH"),I15*Parametre!$E$13,""))))))))))) | U15: =IF(V15<>"",G15,"") | V15: =IF(AND($M$9=F15,F15=A15+1),I15,IF(AND($M$9=F15,F15-A15),I15,"")) | W15: =IF(AND($M$9=A15,F15-A15<=2,C15="VD",J15="DAUPHIN",K15=""),I15*Parametre!$E$7,IF(AND($M$9-A15=1,F15-A15=2,C15="VD",J15="DAUPHIN",K15=""),I15*Parametre!$F$7,IF(AND($M$9=A15,F15-A15<=2,J15="DAUPHIN",OR(C15="F",C15="AF"),K15=""),I15*Parametre!$E$8,IF(AND($M$9-A15=1,F15-A15=2,J15="DAUPHIN",OR(C15="F",C15="AF"),K15=""),I15*Parametre!$F$8,IF(AND($M$9=A15,F15-A15<=2,C15="VD",J15="LEGER",K15=""),I15*Parametre!$E$9,IF(AND($M$9-A15=1,F15-A15=2,C15="VD",J15="LEGER",K15=""),I15*Parametre!$F$9,IF(AND($M$9=A15,F15-A15<=2,J15="LEGER",OR(C15="F",C15="AF"),K15=""),I15*Parametre!$E$10,IF(AND($M$9-A15=1,F15-A15=2,J15="LEGER",OR(C15="F",C15="AF"),K15=""),I15*Parametre!$F$10,IF(AND($M$9=A15,F15-A15<=2,C15="VD",J15="DAUPHIN",K15="MILT_DAUPH"),I15*Parametre!$E$11,IF(AND($M$9-A15=1,F15-A15=2,C15="VD",J15="DAUPHIN",K15="MILT_DAUPH"),I15*Parametre!$F$11,IF(AND($M$9=A15,F15-A15<=2,C15="VD",J15="LEGER",K15="MILIT_LH"),I15*Parametre!$E$13,""))))))))))) | Y15: =IF(Z15<>"",G15,"") | Z15: =IF(AND($M$9=F15,F15=A15+1),I15,IF(AND($M$9=F15,F15-A15),I15,"")) | AA15: =IF(AND($M$9=A15,F15-A15<=2,C15="VD",J15="DAUPHIN",K15=""),I15*Parametre!$E$7,IF(AND($M$9-A15=1,F15-A15=2,C15="VD",J15="DAUPHIN",K15=""),I15*Parametre!$F$7,IF(AND($M$9=A15,F15-A15<=2,J15="DAUPHIN",OR(C15="F",C15="AF"),K15=""),I15*Parametre!$E$8,IF(AND($M$9-A15=1,F15-A15=2,J15="DAUPHIN",OR(C15="F",C15="AF"),K15=""),I15*Parametre!$F$8,IF(AND($M$9=A15,F15-A15<=2,C15="VD",J15="LEGER",K15=""),I15*Parametre!$E$9,IF(AND($M$9-A15=1,F15-A15=2,C15="VD",J15="LEGER",K15=""),I15*Parametre!$F$9,IF(AND($M$9=A15,F15-A15<=2,J15="LEGER",OR(C15="F",C15="AF"),K15=""),I15*Parametre!$E$10,IF(AND($M$9-A15=1,F15-A15=2,J15="LEGER",OR(C15="F",C15="AF"),K15=""),I15*Parametre!$F$10,IF(AND($M$9=A15,F15-A15<=2,C15="VD",J15="DAUPHIN",K15="MILT_DAUPH"),I15*Parametre!$E$11,IF(AND($M$9-A15=1,F15-A15=2,C15="VD",J15="DAUPHIN",K15="MILT_DAUPH"),I15*Parametre!$F$11,IF(AND($M$9=A15,F15-A15<=2,C15="VD",J15="LEGER",K15="MILIT_LH"),I15*Parametre!$E$13,""))))))))))) | AC15: =IF(AD15<>"",G15,"") | AD15: =IF(AND($AC$9=F15,F15=A15+1),I15,IF(AND($AC$9=F15,F15-A15>1),I15,"")) | AE15: =IF(AND($AC$9=A15,F15-A15<=2,C15="VD",J15="DAUPHIN",K15=""),I15*Parametre!$E$7,IF(AND($AC$9-A15=1,F15-A15=2,C15="VD",J15="DAUPHIN",K15=""),I15*Parametre!$F$7,IF(AND($AC$9=A15,F15-A15<=2,J15="DAUPHIN",OR(C15="F",C15="AF"),K15=""),I15*Parametre!$E$8,IF(AND($AC$9-A15=1,F15-A15=2,J15="DAUPHIN",OR(C15="F",C15="AF"),K15=""),I15*Parametre!$F$8,IF(AND($AC$9=A15,F15-A15<=2,C15="VD",J15="LEGER",K15=""),I15*Parametre!$E$9,IF(AND($AC$9-A15=1,F15-A15=2,C15="VD",J15="LEGER",K15=""),I15*Parametre!$F$9,IF(AND($AC$9=A15,F15-A15<=2,J15="LEGER",OR(C15="F",C15="AF"),K15=""),I15*Parametre!$E$10,IF(AND($AC$9-A15=1,F15-A15=2,J15="LEGER",OR(C15="F",C15="AF"),K15=""),I15*Parametre!$F$10,IF(AND($AC$9=A15,F15-A15<=2,C15="VD",J15="DAUPHIN",K15="MILT_DAUPH"),I15*Parametre!$E$11,IF(AND($AC$9-A15=1,F15-A15=2,C15="VD",J15="DAUPHIN",K15="MILT_DAUPH"),I15*Parametre!$F$11,IF(AND($AC$9=A15,F15-A15<=2,C15="VD",J15="LEGER",K15="MILIT_LH"),I15*Parametre!$E$13,""))))))))))) | AG15: =IF(AD15<>"",G15,"") | AH15: =IF(AND($AC$9=F15,F15=A15+1),I15,IF(AND($AC$9=F15,F15-A15),I15,"")) | AI15: =IF(AND($AC$9=A15,F15-A15<=2,C15="VD",J15="DAUPHIN",K15=""),I15*Parametre!$E$7,IF(AND($AC$9-A15=1,F15-A15=2,C15="VD",J15="DAUPHIN",K15=""),I15*Parametre!$F$7,IF(AND($AC$9=A15,F15-A15<=2,J15="DAUPHIN",OR(C15="F",C15="AF"),K15=""),I15*Parametre!$E$8,IF(AND($AC$9-A15=1,F15-A15=2,J15="DAUPHIN",OR(C15="F",C15="AF"),K15=""),I15*Parametre!$F$8,IF(AND($AC$9=A15,F15-A15<=2,C15="VD",J15="LEGER",K15=""),I15*Parametre!$E$9,IF(AND($AC$9-A15=1,F15-A15=2,C15="VD",J15="LEGER",K15=""),I15*Parametre!$F$9,IF(AND($AC$9=A15,F15-A15<=2,J15="LEGER",OR(C15="F",C15="AF"),K15=""),I15*Parametre!$E$10,IF(AND($AC$9-A15=1,F15-A15=2,J15="LEGER",OR(C15="F",C15="AF"),K15=""),I15*Parametre!$F$10,IF(AND($AC$9=A15,F15-A15<=2,C15="VD",J15="DAUPHIN",K15="MILT_DAUPH"),I15*Parametre!$E$11,IF(AND($AC$9-A15=1,F15-A15=2,C15="VD",J15="DAUPHIN",K15="MILT_DAUPH"),I15*Parametre!$F$11,IF(AND($AC$9=A15,F15-A15<=2,C15="VD",J15="LEGER",K15="MILIT_LH"),I15*Parametre!$E$13,""))))))))))) | AK15: =IF(AD15<>"",G15,"") | AL15: =IF(AND($AC$9=F15,F15=A15+1),I15,IF(AND($AC$9=F15,F15-A15),I15,"")) | AM15: =IF(AND($AC$9=A15,F15-A15<=2,C15="VD",J15="DAUPHIN",K15=""),I15*Parametre!$E$7,IF(AND($AC$9-A15=1,F15-A15=2,C15="VD",J15="DAUPHIN",K15=""),I15*Parametre!$F$7,IF(AND($AC$9=A15,F15-A15<=2,J15="DAUPHIN",OR(C15="F",C15="AF"),K15=""),I15*Parametre!$E$8,IF(AND($AC$9-A15=1,F15-A15=2,J15="DAUPHIN",OR(C15="F",C15="AF"),K15=""),I15*Parametre!$F$8,IF(AND($AC$9=A15,F15-A15<=2,C15="VD",J15="LEGER",K15=""),I15*Parametre!$E$9,IF(AND($AC$9-A15=1,F15-A15=2,C15="VD",J15="LEGER",K15=""),I15*Parametre!$F$9,IF(AND($AC$9=A15,F15-A15<=2,J15="LEGER",OR(C15="F",C15="AF"),K15=""),I15*Parametre!$E$10,IF(AND($AC$9-A15=1,F15-A15=2,J15="LEGER",OR(C15="F",C15="AF"),K15=""),I15*Parametre!$F$10,IF(AND($AC$9=A15,F15-A15<=2,C15="VD",J15="DAUPHIN",K15="MILT_DAUPH"),I15*Parametre!$E$11,IF(AND($AC$9-A15=1,F15-A15=2,C15="VD",J15="DAUPHIN",K15="MILT_DAUPH"),I15*Parametre!$F$11,IF(AND($AC$9=A15,F15-A15<=2,C15="VD",J15="LEGER",K15="MILIT_LH"),I15*Parametre!$E$13,""))))))))))) | AO15: =IF(AD15<>"",G15,"") | AP15: =IF(AND($AC$9=F15,F15=A15+1),I15,IF(AND($AC$9=F15,F15-A15),I15,"")) | AQ15: =IF(AND($AC$9=A15,F15-A15<=2,C15="VD",J15="DAUPHIN",K15=""),I15*Parametre!$E$7,IF(AND($AC$9-A15=1,F15-A15=2,C15="VD",J15="DAUPHIN",K15=""),I15*Parametre!$F$7,IF(AND($AC$9=A15,F15-A15<=2,J15="DAUPHIN",OR(C15="F",C15="AF"),K15=""),I15*Parametre!$E$8,IF(AND($AC$9-A15=1,F15-A15=2,J15="DAUPHIN",OR(C15="F",C15="AF"),K15=""),I15*Parametre!$F$8,IF(AND($AC$9=A15,F15-A15<=2,C15="VD",J15="LEGER",K15=""),I15*Parametre!$E$9,IF(AND($AC$9-A15=1,F15-A15=2,C15="VD",J15="LEGER",K15=""),I15*Parametre!$F$9,IF(AND($AC$9=A15,F15-A15<=2,J15="LEGER",OR(C15="F",C15="AF"),K15=""),I15*Parametre!$E$10,IF(AND($AC$9-A15=1,F15-A15=2,J15="LEGER",OR(C15="F",C15="AF"),K15=""),I15*Parametre!$F$10,IF(AND($AC$9=A15,F15-A15<=2,C15="VD",J15="DAUPHIN",K15="MILT_DAUPH"),I15*Parametre!$E$11,IF(AND($AC$9-A15=1,F15-A15=2,C15="VD",J15="DAUPHIN",K15="MILT_DAUPH"),I15*Parametre!$F$11,IF(AND($AC$9=A15,F15-A15<=2,C15="VD",J15="LEGER",K15="MILIT_LH"),I15*Parametre!$E$13,""))))))))))) | AS15: =IF(AT15<>"",G15,"") | AT15: =IF(AND($AS$9=F15,F15=A15+1),I15,IF(AND($AS$9=F15,F15-A15),I15,"")) | AU15: =IF(AND($AS$9=A15,F15-A15<=2,C15="VD",J15="DAUPHIN",K15=""),I15*Parametre!$E$7,IF(AND($AS$9-A15=1,F15-A15=2,C15="VD",J15="DAUPHIN",K15=""),I15*Parametre!$F$7,IF(AND($AS$9=A15,F15-A15<=2,J15="DAUPHIN",OR(C15="F",C15="AF"),K15=""),I15*Parametre!$E$8,IF(AND($AS$9-A15=1,F15-A15=2,J15="DAUPHIN",OR(C15="F",C15="AF"),K15=""),I15*Parametre!$F$8,IF(AND($AS$9=A15,F15-A15<=2,C15="VD",J15="LEGER",K15=""),I15*Parametre!$E$9,IF(AND($AS$9-A15=1,F15-A15=2,C15="VD",J15="LEGER",K15=""),I15*Parametre!$F$9,IF(AND($AS$9=A15,F15-A15<=2,J15="LEGER",OR(C15="F",C15="AF"),K15=""),I15*Parametre!$E$10,IF(AND($AS$9-A15=1,F15-A15=2,J15="LEGER",OR(C15="F",C15="AF"),K15=""),I15*Parametre!$F$10,IF(AND($AS$9=A15,F15-A15<=2,C15="VD",J15="DAUPHIN",K15="MILT_DAUPH"),I15*Parametre!$E$11,IF(AND($AS$9-A15=1,F15-A15=2,C15="VD",J15="DAUPHIN",K15="MILT_DAUPH"),I15*Parametre!$F$11,IF(AND($AS$9=A15,F15-A15<=2,C15="VD",J15="LEGER",K15="MILIT_LH"),I15*Parametre!$E$13,""))))))))))) | AW15: =IF(AX15<>"",G15,"") | AX15: =IF(AND($AS$9=F15,F15=A15+1),I15,IF(AND($AS$9=F15,F15-A15),I15,"")) | AY15: =IF(AND($AS$9=A15,F15-A15<=2,C15="VD",J15="DAUPHIN",K15=""),I15*Parametre!$E$7,IF(AND($AS$9-A15=1,F15-A15=2,C15="VD",J15="DAUPHIN",K15=""),I15*Parametre!$F$7,IF(AND($AS$9=A15,F15-A15<=2,J15="DAUPHIN",OR(C15="F",C15="AF"),K15=""),I15*Parametre!$E$8,IF(AND($AS$9-A15=1,F15-A15=2,J15="DAUPHIN",OR(C15="F",C15="AF"),K15=""),I15*Parametre!$F$8,IF(AND($AS$9=A15,F15-A15<=2,C15="VD",J15="LEGER",K15=""),I15*Parametre!$E$9,IF(AND($AS$9-A15=1,F15-A15=2,C15="VD",J15="LEGER",K15=""),I15*Parametre!$F$9,IF(AND($AS$9=A15,F15-A15<=2,J15="LEGER",OR(C15="F",C15="AF"),K15=""),I15*Parametre!$E$10,IF(AND($AS$9-A15=1,F15-A15=2,J15="LEGER",OR(C15="F",C15="AF"),K15=""),I15*Parametre!$F$10,IF(AND($AS$9=A15,F15-A15<=2,C15="VD",J15="DAUPHIN",K15="MILT_DAUPH"),I15*Parametre!$E$11,IF(AND($AS$9-A15=1,F15-A15=2,C15="VD",J15="DAUPHIN",K15="MILT_DAUPH"),I15*Parametre!$F$11,IF(AND($AS$9=A15,F15-A15<=2,C15="VD",J15="LEGER",K15="MILIT_LH"),I15*Parametre!$E$13,""))))))))))) | BA15: =IF(BB15<>"",G15,"") | BB15: =IF(AND($AS$9=F15,F15=A15+1),I15,IF(AND($AS$9=F15,F15-A15),I15,"")) | BC15: =IF(AND($AS$9=A15,F15-A15<=2,C15="VD",J15="DAUPHIN",K15=""),I15*Parametre!$E$7,IF(AND($AS$9-A15=1,F15-A15=2,C15="VD",J15="DAUPHIN",K15=""),I15*Parametre!$F$7,IF(AND($AS$9=A15,F15-A15<=2,J15="DAUPHIN",OR(C15="F",C15="AF"),K15=""),I15*Parametre!$E$8,IF(AND($AS$9-A15=1,F15-A15=2,J15="DAUPHIN",OR(C15="F",C15="AF"),K15=""),I15*Parametre!$F$8,IF(AND($AS$9=A15,F15-A15<=2,C15="VD",J15="LEGER",K15=""),I15*Parametre!$E$9,IF(AND($AS$9-A15=1,F15-A15=2,C15="VD",J15="LEGER",K15=""),I15*Parametre!$F$9,IF(AND($AS$9=A15,F15-A15<=2,J15="LEGER",OR(C15="F",C15="AF"),K15=""),I15*Parametre!$E$10,IF(AND($AS$9-A15=1,F15-A15=2,J15="LEGER",OR(C15="F",C15="AF"),K15=""),I15*Parametre!$F$10,IF(AND($AS$9=A15,F15-A15<=2,C15="VD",J15="DAUPHIN",K15="MILT_DAUPH"),I15*Parametre!$E$11,IF(AND($AS$9-A15=1,F15-A15=2,C15="VD",J15="DAUPHIN",K15="MILT_DAUPH"),I15*Parametre!$F$11,IF(AND($AS$9=A15,F15-A15<=2,C15="VD",J15="LEGER",K15="MILIT_LH"),I15*Parametre!$E$13,""))))))))))) | BE15: =IF(BF15<>"",G15,"") | BF15: =IF(AND($AS$9=F15,F15=A15+1),I15,IF(AND($AS$9=F15,F15-A15),I15,"")) | BG15: =IF(AND($AS$9=A15,F15-A15<=2,C15="VD",J15="DAUPHIN",K15=""),I15*Parametre!$E$7,IF(AND($AS$9-A15=1,F15-A15=2,C15="VD",J15="DAUPHIN",K15=""),I15*Parametre!$F$7,IF(AND($AS$9=A15,F15-A15<=2,J15="DAUPHIN",OR(C15="F",C15="AF"),K15=""),I15*Parametre!$E$8,IF(AND($AS$9-A15=1,F15-A15=2,J15="DAUPHIN",OR(C15="F",C15="AF"),K15=""),I15*Parametre!$F$8,IF(AND($AS$9=A15,F15-A15<=2,C15="VD",J15="LEGER",K15=""),I15*Parametre!$E$9,IF(AND($AS$9-A15=1,F15-A15=2,C15="VD",J15="LEGER",K15=""),I15*Parametre!$F$9,IF(AND($AS$9=A15,F15-A15<=2,J15="LEGER",OR(C15="F",C15="AF"),K15=""),I15*Parametre!$E$10,IF(AND($AS$9-A15=1,F15-A15=2,J15="LEGER",OR(C15="F",C15="AF"),K15=""),I15*Parametre!$F$10,IF(AND($AS$9=A15,F15-A15<=2,C15="VD",J15="DAUPHIN",K15="MILT_DAUPH"),I15*Parametre!$E$11,IF(AND($AS$9-A15=1,F15-A15=2,C15="VD",J15="DAUPHIN",K15="MILT_DAUPH"),I15*Parametre!$F$11,IF(AND($AS$9=A15,F15-A15<=2,C15="VD",J15="LEGER",K15="MILIT_LH"),I15*Parametre!$E$13,"")))))))))))
E16: NC | I16: =H16*G16 -> 0 | M16: =IF(N16<>"",G16,"") | N16: =IF(AND($M$9=F16,F16=A16+1),I16,IF(AND($M$9=F16,F16-A16>1),I16,"")) | O16: =IF(AND($M$9=A16,F16-A16<=2,C16="VD",J16="DAUPHIN",K16=""),I16*Parametre!$E$7,IF(AND($M$9-A16=1,F16-A16=2,C16="VD",J16="DAUPHIN",K16=""),I16*Parametre!$F$7,IF(AND($M$9=A16,F16-A16<=2,J16="DAUPHIN",OR(C16="F",C16="AF"),K16=""),I16*Parametre!$E$8,IF(AND($M$9-A16=1,F16-A16=2,J16="DAUPHIN",OR(C16="F",C16="AF"),K16=""),I16*Parametre!$F$8,IF(AND($M$9=A16,F16-A16<=2,C16="VD",J16="LEGER",K16=""),I16*Parametre!$E$9,IF(AND($M$9-A16=1,F16-A16=2,C16="VD",J16="LEGER",K16=""),I16*Parametre!$F$9,IF(AND($M$9=A16,F16-A16<=2,J16="LEGER",OR(C16="F",C16="AF"),K16=""),I16*Parametre!$E$10,IF(AND($M$9-A16=1,F16-A16=2,J16="LEGER",OR(C16="F",C16="AF"),K16=""),I16*Parametre!$F$10,IF(AND($M$9=A16,F16-A16<=2,C16="VD",J16="DAUPHIN",K16="MILT_DAUPH"),I16*Parametre!$E$11,IF(AND($M$9-A16=1,F16-A16=2,C16="VD",J16="DAUPHIN",K16="MILT_DAUPH"),I16*Parametre!$F$11,IF(AND($M$9=A16,F16-A16<=2,C16="VD",J16="LEGER",K16="MILIT_LH"),I16*Parametre!$E$13,""))))))))))) | Q16: =IF(R16<>"",G16,"") | R16: =IF(AND($M$9=F16,F16=A16+1),I16,IF(AND($M$9=F16,F16-A16),I16,"")) | S16: =IF(AND($M$9=A16,F16-A16<=2,C16="VD",J16="DAUPHIN",K16=""),I16*Parametre!$E$7,IF(AND($M$9-A16=1,F16-A16=2,C16="VD",J16="DAUPHIN",K16=""),I16*Parametre!$F$7,IF(AND($M$9=A16,F16-A16<=2,J16="DAUPHIN",OR(C16="F",C16="AF"),K16=""),I16*Parametre!$E$8,IF(AND($M$9-A16=1,F16-A16=2,J16="DAUPHIN",OR(C16="F",C16="AF"),K16=""),I16*Parametre!$F$8,IF(AND($M$9=A16,F16-A16<=2,C16="VD",J16="LEGER",K16=""),I16*Parametre!$E$9,IF(AND($M$9-A16=1,F16-A16=2,C16="VD",J16="LEGER",K16=""),I16*Parametre!$F$9,IF(AND($M$9=A16,F16-A16<=2,J16="LEGER",OR(C16="F",C16="AF"),K16=""),I16*Parametre!$E$10,IF(AND($M$9-A16=1,F16-A16=2,J16="LEGER",OR(C16="F",C16="AF"),K16=""),I16*Parametre!$F$10,IF(AND($M$9=A16,F16-A16<=2,C16="VD",J16="DAUPHIN",K16="MILT_DAUPH"),I16*Parametre!$E$11,IF(AND($M$9-A16=1,F16-A16=2,C16="VD",J16="DAUPHIN",K16="MILT_DAUPH"),I16*Parametre!$F$11,IF(AND($M$9=A16,F16-A16<=2,C16="VD",J16="LEGER",K16="MILIT_LH"),I16*Parametre!$E$13,""))))))))))) | U16: =IF(V16<>"",G16,"") | V16: =IF(AND($M$9=F16,F16=A16+1),I16,IF(AND($M$9=F16,F16-A16),I16,"")) | W16: =IF(AND($M$9=A16,F16-A16<=2,C16="VD",J16="DAUPHIN",K16=""),I16*Parametre!$E$7,IF(AND($M$9-A16=1,F16-A16=2,C16="VD",J16="DAUPHIN",K16=""),I16*Parametre!$F$7,IF(AND($M$9=A16,F16-A16<=2,J16="DAUPHIN",OR(C16="F",C16="AF"),K16=""),I16*Parametre!$E$8,IF(AND($M$9-A16=1,F16-A16=2,J16="DAUPHIN",OR(C16="F",C16="AF"),K16=""),I16*Parametre!$F$8,IF(AND($M$9=A16,F16-A16<=2,C16="VD",J16="LEGER",K16=""),I16*Parametre!$E$9,IF(AND($M$9-A16=1,F16-A16=2,C16="VD",J16="LEGER",K16=""),I16*Parametre!$F$9,IF(AND($M$9=A16,F16-A16<=2,J16="LEGER",OR(C16="F",C16="AF"),K16=""),I16*Parametre!$E$10,IF(AND($M$9-A16=1,F16-A16=2,J16="LEGER",OR(C16="F",C16="AF"),K16=""),I16*Parametre!$F$10,IF(AND($M$9=A16,F16-A16<=2,C16="VD",J16="DAUPHIN",K16="MILT_DAUPH"),I16*Parametre!$E$11,IF(AND($M$9-A16=1,F16-A16=2,C16="VD",J16="DAUPHIN",K16="MILT_DAUPH"),I16*Parametre!$F$11,IF(AND($M$9=A16,F16-A16<=2,C16="VD",J16="LEGER",K16="MILIT_LH"),I16*Parametre!$E$13,""))))))))))) | Y16: =IF(Z16<>"",G16,"") | Z16: =IF(AND($M$9=F16,F16=A16+1),I16,IF(AND($M$9=F16,F16-A16),I16,"")) | AA16: =IF(AND($M$9=A16,F16-A16<=2,C16="VD",J16="DAUPHIN",K16=""),I16*Parametre!$E$7,IF(AND($M$9-A16=1,F16-A16=2,C16="VD",J16="DAUPHIN",K16=""),I16*Parametre!$F$7,IF(AND($M$9=A16,F16-A16<=2,J16="DAUPHIN",OR(C16="F",C16="AF"),K16=""),I16*Parametre!$E$8,IF(AND($M$9-A16=1,F16-A16=2,J16="DAUPHIN",OR(C16="F",C16="AF"),K16=""),I16*Parametre!$F$8,IF(AND($M$9=A16,F16-A16<=2,C16="VD",J16="LEGER",K16=""),I16*Parametre!$E$9,IF(AND($M$9-A16=1,F16-A16=2,C16="VD",J16="LEGER",K16=""),I16*Parametre!$F$9,IF(AND($M$9=A16,F16-A16<=2,J16="LEGER",OR(C16="F",C16="AF"),K16=""),I16*Parametre!$E$10,IF(AND($M$9-A16=1,F16-A16=2,J16="LEGER",OR(C16="F",C16="AF"),K16=""),I16*Parametre!$F$10,IF(AND($M$9=A16,F16-A16<=2,C16="VD",J16="DAUPHIN",K16="MILT_DAUPH"),I16*Parametre!$E$11,IF(AND($M$9-A16=1,F16-A16=2,C16="VD",J16="DAUPHIN",K16="MILT_DAUPH"),I16*Parametre!$F$11,IF(AND($M$9=A16,F16-A16<=2,C16="VD",J16="LEGER",K16="MILIT_LH"),I16*Parametre!$E$13,""))))))))))) | AC16: =IF(AD16<>"",G16,"") | AD16: =IF(AND($AC$9=F16,F16=A16+1),I16,IF(AND($AC$9=F16,F16-A16>1),I16,"")) | AE16: =IF(AND($AC$9=A16,F16-A16<=2,C16="VD",J16="DAUPHIN",K16=""),I16*Parametre!$E$7,IF(AND($AC$9-A16=1,F16-A16=2,C16="VD",J16="DAUPHIN",K16=""),I16*Parametre!$F$7,IF(AND($AC$9=A16,F16-A16<=2,J16="DAUPHIN",OR(C16="F",C16="AF"),K16=""),I16*Parametre!$E$8,IF(AND($AC$9-A16=1,F16-A16=2,J16="DAUPHIN",OR(C16="F",C16="AF"),K16=""),I16*Parametre!$F$8,IF(AND($AC$9=A16,F16-A16<=2,C16="VD",J16="LEGER",K16=""),I16*Parametre!$E$9,IF(AND($AC$9-A16=1,F16-A16=2,C16="VD",J16="LEGER",K16=""),I16*Parametre!$F$9,IF(AND($AC$9=A16,F16-A16<=2,J16="LEGER",OR(C16="F",C16="AF"),K16=""),I16*Parametre!$E$10,IF(AND($AC$9-A16=1,F16-A16=2,J16="LEGER",OR(C16="F",C16="AF"),K16=""),I16*Parametre!$F$10,IF(AND($AC$9=A16,F16-A16<=2,C16="VD",J16="DAUPHIN",K16="MILT_DAUPH"),I16*Parametre!$E$11,IF(AND($AC$9-A16=1,F16-A16=2,C16="VD",J16="DAUPHIN",K16="MILT_DAUPH"),I16*Parametre!$F$11,IF(AND($AC$9=A16,F16-A16<=2,C16="VD",J16="LEGER",K16="MILIT_LH"),I16*Parametre!$E$13,""))))))))))) | AG16: =IF(AD16<>"",G16,"") | AH16: =IF(AND($AC$9=F16,F16=A16+1),I16,IF(AND($AC$9=F16,F16-A16),I16,"")) | AI16: =IF(AND($AC$9=A16,F16-A16<=2,C16="VD",J16="DAUPHIN",K16=""),I16*Parametre!$E$7,IF(AND($AC$9-A16=1,F16-A16=2,C16="VD",J16="DAUPHIN",K16=""),I16*Parametre!$F$7,IF(AND($AC$9=A16,F16-A16<=2,J16="DAUPHIN",OR(C16="F",C16="AF"),K16=""),I16*Parametre!$E$8,IF(AND($AC$9-A16=1,F16-A16=2,J16="DAUPHIN",OR(C16="F",C16="AF"),K16=""),I16*Parametre!$F$8,IF(AND($AC$9=A16,F16-A16<=2,C16="VD",J16="LEGER",K16=""),I16*Parametre!$E$9,IF(AND($AC$9-A16=1,F16-A16=2,C16="VD",J16="LEGER",K16=""),I16*Parametre!$F$9,IF(AND($AC$9=A16,F16-A16<=2,J16="LEGER",OR(C16="F",C16="AF"),K16=""),I16*Parametre!$E$10,IF(AND($AC$9-A16=1,F16-A16=2,J16="LEGER",OR(C16="F",C16="AF"),K16=""),I16*Parametre!$F$10,IF(AND($AC$9=A16,F16-A16<=2,C16="VD",J16="DAUPHIN",K16="MILT_DAUPH"),I16*Parametre!$E$11,IF(AND($AC$9-A16=1,F16-A16=2,C16="VD",J16="DAUPHIN",K16="MILT_DAUPH"),I16*Parametre!$F$11,IF(AND($AC$9=A16,F16-A16<=2,C16="VD",J16="LEGER",K16="MILIT_LH"),I16*Parametre!$E$13,""))))))))))) | AK16: =IF(AD16<>"",G16,"") | AL16: =IF(AND($AC$9=F16,F16=A16+1),I16,IF(AND($AC$9=F16,F16-A16),I16,"")) | AM16: =IF(AND($AC$9=A16,F16-A16<=2,C16="VD",J16="DAUPHIN",K16=""),I16*Parametre!$E$7,IF(AND($AC$9-A16=1,F16-A16=2,C16="VD",J16="DAUPHIN",K16=""),I16*Parametre!$F$7,IF(AND($AC$9=A16,F16-A16<=2,J16="DAUPHIN",OR(C16="F",C16="AF"),K16=""),I16*Parametre!$E$8,IF(AND($AC$9-A16=1,F16-A16=2,J16="DAUPHIN",OR(C16="F",C16="AF"),K16=""),I16*Parametre!$F$8,IF(AND($AC$9=A16,F16-A16<=2,C16="VD",J16="LEGER",K16=""),I16*Parametre!$E$9,IF(AND($AC$9-A16=1,F16-A16=2,C16="VD",J16="LEGER",K16=""),I16*Parametre!$F$9,IF(AND($AC$9=A16,F16-A16<=2,J16="LEGER",OR(C16="F",C16="AF"),K16=""),I16*Parametre!$E$10,IF(AND($AC$9-A16=1,F16-A16=2,J16="LEGER",OR(C16="F",C16="AF"),K16=""),I16*Parametre!$F$10,IF(AND($AC$9=A16,F16-A16<=2,C16="VD",J16="DAUPHIN",K16="MILT_DAUPH"),I16*Parametre!$E$11,IF(AND($AC$9-A16=1,F16-A16=2,C16="VD",J16="DAUPHIN",K16="MILT_DAUPH"),I16*Parametre!$F$11,IF(AND($AC$9=A16,F16-A16<=2,C16="VD",J16="LEGER",K16="MILIT_LH"),I16*Parametre!$E$13,""))))))))))) | AO16: =IF(AD16<>"",G16,"") | AP16: =IF(AND($AC$9=F16,F16=A16+1),I16,IF(AND($AC$9=F16,F16-A16),I16,"")) | AQ16: =IF(AND($AC$9=A16,F16-A16<=2,C16="VD",J16="DAUPHIN",K16=""),I16*Parametre!$E$7,IF(AND($AC$9-A16=1,F16-A16=2,C16="VD",J16="DAUPHIN",K16=""),I16*Parametre!$F$7,IF(AND($AC$9=A16,F16-A16<=2,J16="DAUPHIN",OR(C16="F",C16="AF"),K16=""),I16*Parametre!$E$8,IF(AND($AC$9-A16=1,F16-A16=2,J16="DAUPHIN",OR(C16="F",C16="AF"),K16=""),I16*Parametre!$F$8,IF(AND($AC$9=A16,F16-A16<=2,C16="VD",J16="LEGER",K16=""),I16*Parametre!$E$9,IF(AND($AC$9-A16=1,F16-A16=2,C16="VD",J16="LEGER",K16=""),I16*Parametre!$F$9,IF(AND($AC$9=A16,F16-A16<=2,J16="LEGER",OR(C16="F",C16="AF"),K16=""),I16*Parametre!$E$10,IF(AND($AC$9-A16=1,F16-A16=2,J16="LEGER",OR(C16="F",C16="AF"),K16=""),I16*Parametre!$F$10,IF(AND($AC$9=A16,F16-A16<=2,C16="VD",J16="DAUPHIN",K16="MILT_DAUPH"),I16*Parametre!$E$11,IF(AND($AC$9-A16=1,F16-A16=2,C16="VD",J16="DAUPHIN",K16="MILT_DAUPH"),I16*Parametre!$F$11,IF(AND($AC$9=A16,F16-A16<=2,C16="VD",J16="LEGER",K16="MILIT_LH"),I16*Parametre!$E$13,""))))))))))) | AS16: =IF(AT16<>"",G16,"") | AT16: =IF(AND($AS$9=F16,F16=A16+1),I16,IF(AND($AS$9=F16,F16-A16),I16,"")) | AU16: =IF(AND($AS$9=A16,F16-A16<=2,C16="VD",J16="DAUPHIN",K16=""),I16*Parametre!$E$7,IF(AND($AS$9-A16=1,F16-A16=2,C16="VD",J16="DAUPHIN",K16=""),I16*Parametre!$F$7,IF(AND($AS$9=A16,F16-A16<=2,J16="DAUPHIN",OR(C16="F",C16="AF"),K16=""),I16*Parametre!$E$8,IF(AND($AS$9-A16=1,F16-A16=2,J16="DAUPHIN",OR(C16="F",C16="AF"),K16=""),I16*Parametre!$F$8,IF(AND($AS$9=A16,F16-A16<=2,C16="VD",J16="LEGER",K16=""),I16*Parametre!$E$9,IF(AND($AS$9-A16=1,F16-A16=2,C16="VD",J16="LEGER",K16=""),I16*Parametre!$F$9,IF(AND($AS$9=A16,F16-A16<=2,J16="LEGER",OR(C16="F",C16="AF"),K16=""),I16*Parametre!$E$10,IF(AND($AS$9-A16=1,F16-A16=2,J16="LEGER",OR(C16="F",C16="AF"),K16=""),I16*Parametre!$F$10,IF(AND($AS$9=A16,F16-A16<=2,C16="VD",J16="DAUPHIN",K16="MILT_DAUPH"),I16*Parametre!$E$11,IF(AND($AS$9-A16=1,F16-A16=2,C16="VD",J16="DAUPHIN",K16="MILT_DAUPH"),I16*Parametre!$F$11,IF(AND($AS$9=A16,F16-A16<=2,C16="VD",J16="LEGER",K16="MILIT_LH"),I16*Parametre!$E$13,""))))))))))) | AW16: =IF(AX16<>"",G16,"") | AX16: =IF(AND($AS$9=F16,F16=A16+1),I16,IF(AND($AS$9=F16,F16-A16),I16,"")) | AY16: =IF(AND($AS$9=A16,F16-A16<=2,C16="VD",J16="DAUPHIN",K16=""),I16*Parametre!$E$7,IF(AND($AS$9-A16=1,F16-A16=2,C16="VD",J16="DAUPHIN",K16=""),I16*Parametre!$F$7,IF(AND($AS$9=A16,F16-A16<=2,J16="DAUPHIN",OR(C16="F",C16="AF"),K16=""),I16*Parametre!$E$8,IF(AND($AS$9-A16=1,F16-A16=2,J16="DAUPHIN",OR(C16="F",C16="AF"),K16=""),I16*Parametre!$F$8,IF(AND($AS$9=A16,F16-A16<=2,C16="VD",J16="LEGER",K16=""),I16*Parametre!$E$9,IF(AND($AS$9-A16=1,F16-A16=2,C16="VD",J16="LEGER",K16=""),I16*Parametre!$F$9,IF(AND($AS$9=A16,F16-A16<=2,J16="LEGER",OR(C16="F",C16="AF"),K16=""),I16*Parametre!$E$10,IF(AND($AS$9-A16=1,F16-A16=2,J16="LEGER",OR(C16="F",C16="AF"),K16=""),I16*Parametre!$F$10,IF(AND($AS$9=A16,F16-A16<=2,C16="VD",J16="DAUPHIN",K16="MILT_DAUPH"),I16*Parametre!$E$11,IF(AND($AS$9-A16=1,F16-A16=2,C16="VD",J16="DAUPHIN",K16="MILT_DAUPH"),I16*Parametre!$F$11,IF(AND($AS$9=A16,F16-A16<=2,C16="VD",J16="LEGER",K16="MILIT_LH"),I16*Parametre!$E$13,""))))))))))) | BA16: =IF(BB16<>"",G16,"") | BB16: =IF(AND($AS$9=F16,F16=A16+1),I16,IF(AND($AS$9=F16,F16-A16),I16,"")) | BC16: =IF(AND($AS$9=A16,F16-A16<=2,C16="VD",J16="DAUPHIN",K16=""),I16*Parametre!$E$7,IF(AND($AS$9-A16=1,F16-A16=2,C16="VD",J16="DAUPHIN",K16=""),I16*Parametre!$F$7,IF(AND($AS$9=A16,F16-A16<=2,J16="DAUPHIN",OR(C16="F",C16="AF"),K16=""),I16*Parametre!$E$8,IF(AND($AS$9-A16=1,F16-A16=2,J16="DAUPHIN",OR(C16="F",C16="AF"),K16=""),I16*Parametre!$F$8,IF(AND($AS$9=A16,F16-A16<=2,C16="VD",J16="LEGER",K16=""),I16*Parametre!$E$9,IF(AND($AS$9-A16=1,F16-A16=2,C16="VD",J16="LEGER",K16=""),I16*Parametre!$F$9,IF(AND($AS$9=A16,F16-A16<=2,J16="LEGER",OR(C16="F",C16="AF"),K16=""),I16*Parametre!$E$10,IF(AND($AS$9-A16=1,F16-A16=2,J16="LEGER",OR(C16="F",C16="AF"),K16=""),I16*Parametre!$F$10,IF(AND($AS$9=A16,F16-A16<=2,C16="VD",J16="DAUPHIN",K16="MILT_DAUPH"),I16*Parametre!$E$11,IF(AND($AS$9-A16=1,F16-A16=2,C16="VD",J16="DAUPHIN",K16="MILT_DAUPH"),I16*Parametre!$F$11,IF(AND($AS$9=A16,F16-A16<=2,C16="VD",J16="LEGER",K16="MILIT_LH"),I16*Parametre!$E$13,""))))))))))) | BE16: =IF(BF16<>"",G16,"") | BF16: =IF(AND($AS$9=F16,F16=A16+1),I16,IF(AND($AS$9=F16,F16-A16),I16,"")) | BG16: =IF(AND($AS$9=A16,F16-A16<=2,C16="VD",J16="DAUPHIN",K16=""),I16*Parametre!$E$7,IF(AND($AS$9-A16=1,F16-A16=2,C16="VD",J16="DAUPHIN",K16=""),I16*Parametre!$F$7,IF(AND($AS$9=A16,F16-A16<=2,J16="DAUPHIN",OR(C16="F",C16="AF"),K16=""),I16*Parametre!$E$8,IF(AND($AS$9-A16=1,F16-A16=2,J16="DAUPHIN",OR(C16="F",C16="AF"),K16=""),I16*Parametre!$F$8,IF(AND($AS$9=A16,F16-A16<=2,C16="VD",J16="LEGER",K16=""),I16*Parametre!$E$9,IF(AND($AS$9-A16=1,F16-A16=2,C16="VD",J16="LEGER",K16=""),I16*Parametre!$F$9,IF(AND($AS$9=A16,F16-A16<=2,J16="LEGER",OR(C16="F",C16="AF"),K16=""),I16*Parametre!$E$10,IF(AND($AS$9-A16=1,F16-A16=2,J16="LEGER",OR(C16="F",C16="AF"),K16=""),I16*Parametre!$F$10,IF(AND($AS$9=A16,F16-A16<=2,C16="VD",J16="DAUPHIN",K16="MILT_DAUPH"),I16*Parametre!$E$11,IF(AND($AS$9-A16=1,F16-A16=2,C16="VD",J16="DAUPHIN",K16="MILT_DAUPH"),I16*Parametre!$F$11,IF(AND($AS$9=A16,F16-A16<=2,C16="VD",J16="LEGER",K16="MILIT_LH"),I16*Parametre!$E$13,"")))))))))))
E17: NC | I17: =H17*G17 -> 0 | M17: =IF(N17<>"",G17,"") | N17: =IF(AND($M$9=F17,F17=A17+1),I17,IF(AND($M$9=F17,F17-A17>1),I17,"")) | O17: =IF(AND($M$9=A17,F17-A17<=2,C17="VD",J17="DAUPHIN",K17=""),I17*Parametre!$E$7,IF(AND($M$9-A17=1,F17-A17=2,C17="VD",J17="DAUPHIN",K17=""),I17*Parametre!$F$7,IF(AND($M$9=A17,F17-A17<=2,J17="DAUPHIN",OR(C17="F",C17="AF"),K17=""),I17*Parametre!$E$8,IF(AND($M$9-A17=1,F17-A17=2,J17="DAUPHIN",OR(C17="F",C17="AF"),K17=""),I17*Parametre!$F$8,IF(AND($M$9=A17,F17-A17<=2,C17="VD",J17="LEGER",K17=""),I17*Parametre!$E$9,IF(AND($M$9-A17=1,F17-A17=2,C17="VD",J17="LEGER",K17=""),I17*Parametre!$F$9,IF(AND($M$9=A17,F17-A17<=2,J17="LEGER",OR(C17="F",C17="AF"),K17=""),I17*Parametre!$E$10,IF(AND($M$9-A17=1,F17-A17=2,J17="LEGER",OR(C17="F",C17="AF"),K17=""),I17*Parametre!$F$10,IF(AND($M$9=A17,F17-A17<=2,C17="VD",J17="DAUPHIN",K17="MILT_DAUPH"),I17*Parametre!$E$11,IF(AND($M$9-A17=1,F17-A17=2,C17="VD",J17="DAUPHIN",K17="MILT_DAUPH"),I17*Parametre!$F$11,IF(AND($M$9=A17,F17-A17<=2,C17="VD",J17="LEGER",K17="MILIT_LH"),I17*Parametre!$E$13,""))))))))))) | Q17: =IF(R17<>"",G17,"") | R17: =IF(AND($M$9=F17,F17=A17+1),I17,IF(AND($M$9=F17,F17-A17),I17,"")) | S17: =IF(AND($M$9=A17,F17-A17<=2,C17="VD",J17="DAUPHIN",K17=""),I17*Parametre!$E$7,IF(AND($M$9-A17=1,F17-A17=2,C17="VD",J17="DAUPHIN",K17=""),I17*Parametre!$F$7,IF(AND($M$9=A17,F17-A17<=2,J17="DAUPHIN",OR(C17="F",C17="AF"),K17=""),I17*Parametre!$E$8,IF(AND($M$9-A17=1,F17-A17=2,J17="DAUPHIN",OR(C17="F",C17="AF"),K17=""),I17*Parametre!$F$8,IF(AND($M$9=A17,F17-A17<=2,C17="VD",J17="LEGER",K17=""),I17*Parametre!$E$9,IF(AND($M$9-A17=1,F17-A17=2,C17="VD",J17="LEGER",K17=""),I17*Parametre!$F$9,IF(AND($M$9=A17,F17-A17<=2,J17="LEGER",OR(C17="F",C17="AF"),K17=""),I17*Parametre!$E$10,IF(AND($M$9-A17=1,F17-A17=2,J17="LEGER",OR(C17="F",C17="AF"),K17=""),I17*Parametre!$F$10,IF(AND($M$9=A17,F17-A17<=2,C17="VD",J17="DAUPHIN",K17="MILT_DAUPH"),I17*Parametre!$E$11,IF(AND($M$9-A17=1,F17-A17=2,C17="VD",J17="DAUPHIN",K17="MILT_DAUPH"),I17*Parametre!$F$11,IF(AND($M$9=A17,F17-A17<=2,C17="VD",J17="LEGER",K17="MILIT_LH"),I17*Parametre!$E$13,""))))))))))) | U17: =IF(V17<>"",G17,"") | V17: =IF(AND($M$9=F17,F17=A17+1),I17,IF(AND($M$9=F17,F17-A17),I17,"")) | W17: =IF(AND($M$9=A17,F17-A17<=2,C17="VD",J17="DAUPHIN",K17=""),I17*Parametre!$E$7,IF(AND($M$9-A17=1,F17-A17=2,C17="VD",J17="DAUPHIN",K17=""),I17*Parametre!$F$7,IF(AND($M$9=A17,F17-A17<=2,J17="DAUPHIN",OR(C17="F",C17="AF"),K17=""),I17*Parametre!$E$8,IF(AND($M$9-A17=1,F17-A17=2,J17="DAUPHIN",OR(C17="F",C17="AF"),K17=""),I17*Parametre!$F$8,IF(AND($M$9=A17,F17-A17<=2,C17="VD",J17="LEGER",K17=""),I17*Parametre!$E$9,IF(AND($M$9-A17=1,F17-A17=2,C17="VD",J17="LEGER",K17=""),I17*Parametre!$F$9,IF(AND($M$9=A17,F17-A17<=2,J17="LEGER",OR(C17="F",C17="AF"),K17=""),I17*Parametre!$E$10,IF(AND($M$9-A17=1,F17-A17=2,J17="LEGER",OR(C17="F",C17="AF"),K17=""),I17*Parametre!$F$10,IF(AND($M$9=A17,F17-A17<=2,C17="VD",J17="DAUPHIN",K17="MILT_DAUPH"),I17*Parametre!$E$11,IF(AND($M$9-A17=1,F17-A17=2,C17="VD",J17="DAUPHIN",K17="MILT_DAUPH"),I17*Parametre!$F$11,IF(AND($M$9=A17,F17-A17<=2,C17="VD",J17="LEGER",K17="MILIT_LH"),I17*Parametre!$E$13,""))))))))))) | Y17: =IF(Z17<>"",G17,"") | Z17: =IF(AND($M$9=F17,F17=A17+1),I17,IF(AND($M$9=F17,F17-A17),I17,"")) | AA17: =IF(AND($M$9=A17,F17-A17<=2,C17="VD",J17="DAUPHIN",K17=""),I17*Parametre!$E$7,IF(AND($M$9-A17=1,F17-A17=2,C17="VD",J17="DAUPHIN",K17=""),I17*Parametre!$F$7,IF(AND($M$9=A17,F17-A17<=2,J17="DAUPHIN",OR(C17="F",C17="AF"),K17=""),I17*Parametre!$E$8,IF(AND($M$9-A17=1,F17-A17=2,J17="DAUPHIN",OR(C17="F",C17="AF"),K17=""),I17*Parametre!$F$8,IF(AND($M$9=A17,F17-A17<=2,C17="VD",J17="LEGER",K17=""),I17*Parametre!$E$9,IF(AND($M$9-A17=1,F17-A17=2,C17="VD",J17="LEGER",K17=""),I17*Parametre!$F$9,IF(AND($M$9=A17,F17-A17<=2,J17="LEGER",OR(C17="F",C17="AF"),K17=""),I17*Parametre!$E$10,IF(AND($M$9-A17=1,F17-A17=2,J17="LEGER",OR(C17="F",C17="AF"),K17=""),I17*Parametre!$F$10,IF(AND($M$9=A17,F17-A17<=2,C17="VD",J17="DAUPHIN",K17="MILT_DAUPH"),I17*Parametre!$E$11,IF(AND($M$9-A17=1,F17-A17=2,C17="VD",J17="DAUPHIN",K17="MILT_DAUPH"),I17*Parametre!$F$11,IF(AND($M$9=A17,F17-A17<=2,C17="VD",J17="LEGER",K17="MILIT_LH"),I17*Parametre!$E$13,""))))))))))) | AC17: =IF(AD17<>"",G17,"") | AD17: =IF(AND($AC$9=F17,F17=A17+1),I17,IF(AND($AC$9=F17,F17-A17>1),I17,"")) | AE17: =IF(AND($AC$9=A17,F17-A17<=2,C17="VD",J17="DAUPHIN",K17=""),I17*Parametre!$E$7,IF(AND($AC$9-A17=1,F17-A17=2,C17="VD",J17="DAUPHIN",K17=""),I17*Parametre!$F$7,IF(AND($AC$9=A17,F17-A17<=2,J17="DAUPHIN",OR(C17="F",C17="AF"),K17=""),I17*Parametre!$E$8,IF(AND($AC$9-A17=1,F17-A17=2,J17="DAUPHIN",OR(C17="F",C17="AF"),K17=""),I17*Parametre!$F$8,IF(AND($AC$9=A17,F17-A17<=2,C17="VD",J17="LEGER",K17=""),I17*Parametre!$E$9,IF(AND($AC$9-A17=1,F17-A17=2,C17="VD",J17="LEGER",K17=""),I17*Parametre!$F$9,IF(AND($AC$9=A17,F17-A17<=2,J17="LEGER",OR(C17="F",C17="AF"),K17=""),I17*Parametre!$E$10,IF(AND($AC$9-A17=1,F17-A17=2,J17="LEGER",OR(C17="F",C17="AF"),K17=""),I17*Parametre!$F$10,IF(AND($AC$9=A17,F17-A17<=2,C17="VD",J17="DAUPHIN",K17="MILT_DAUPH"),I17*Parametre!$E$11,IF(AND($AC$9-A17=1,F17-A17=2,C17="VD",J17="DAUPHIN",K17="MILT_DAUPH"),I17*Parametre!$F$11,IF(AND($AC$9=A17,F17-A17<=2,C17="VD",J17="LEGER",K17="MILIT_LH"),I17*Parametre!$E$13,""))))))))))) | AG17: =IF(AD17<>"",G17,"") | AH17: =IF(AND($AC$9=F17,F17=A17+1),I17,IF(AND($AC$9=F17,F17-A17),I17,"")) | AI17: =IF(AND($AC$9=A17,F17-A17<=2,C17="VD",J17="DAUPHIN",K17=""),I17*Parametre!$E$7,IF(AND($AC$9-A17=1,F17-A17=2,C17="VD",J17="DAUPHIN",K17=""),I17*Parametre!$F$7,IF(AND($AC$9=A17,F17-A17<=2,J17="DAUPHIN",OR(C17="F",C17="AF"),K17=""),I17*Parametre!$E$8,IF(AND($AC$9-A17=1,F17-A17=2,J17="DAUPHIN",OR(C17="F",C17="AF"),K17=""),I17*Parametre!$F$8,IF(AND($AC$9=A17,F17-A17<=2,C17="VD",J17="LEGER",K17=""),I17*Parametre!$E$9,IF(AND($AC$9-A17=1,F17-A17=2,C17="VD",J17="LEGER",K17=""),I17*Parametre!$F$9,IF(AND($AC$9=A17,F17-A17<=2,J17="LEGER",OR(C17="F",C17="AF"),K17=""),I17*Parametre!$E$10,IF(AND($AC$9-A17=1,F17-A17=2,J17="LEGER",OR(C17="F",C17="AF"),K17=""),I17*Parametre!$F$10,IF(AND($AC$9=A17,F17-A17<=2,C17="VD",J17="DAUPHIN",K17="MILT_DAUPH"),I17*Parametre!$E$11,IF(AND($AC$9-A17=1,F17-A17=2,C17="VD",J17="DAUPHIN",K17="MILT_DAUPH"),I17*Parametre!$F$11,IF(AND($AC$9=A17,F17-A17<=2,C17="VD",J17="LEGER",K17="MILIT_LH"),I17*Parametre!$E$13,""))))))))))) | AK17: =IF(AD17<>"",G17,"") | AL17: =IF(AND($AC$9=F17,F17=A17+1),I17,IF(AND($AC$9=F17,F17-A17),I17,"")) | AM17: =IF(AND($AC$9=A17,F17-A17<=2,C17="VD",J17="DAUPHIN",K17=""),I17*Parametre!$E$7,IF(AND($AC$9-A17=1,F17-A17=2,C17="VD",J17="DAUPHIN",K17=""),I17*Parametre!$F$7,IF(AND($AC$9=A17,F17-A17<=2,J17="DAUPHIN",OR(C17="F",C17="AF"),K17=""),I17*Parametre!$E$8,IF(AND($AC$9-A17=1,F17-A17=2,J17="DAUPHIN",OR(C17="F",C17="AF"),K17=""),I17*Parametre!$F$8,IF(AND($AC$9=A17,F17-A17<=2,C17="VD",J17="LEGER",K17=""),I17*Parametre!$E$9,IF(AND($AC$9-A17=1,F17-A17=2,C17="VD",J17="LEGER",K17=""),I17*Parametre!$F$9,IF(AND($AC$9=A17,F17-A17<=2,J17="LEGER",OR(C17="F",C17="AF"),K17=""),I17*Parametre!$E$10,IF(AND($AC$9-A17=1,F17-A17=2,J17="LEGER",OR(C17="F",C17="AF"),K17=""),I17*Parametre!$F$10,IF(AND($AC$9=A17,F17-A17<=2,C17="VD",J17="DAUPHIN",K17="MILT_DAUPH"),I17*Parametre!$E$11,IF(AND($AC$9-A17=1,F17-A17=2,C17="VD",J17="DAUPHIN",K17="MILT_DAUPH"),I17*Parametre!$F$11,IF(AND($AC$9=A17,F17-A17<=2,C17="VD",J17="LEGER",K17="MILIT_LH"),I17*Parametre!$E$13,""))))))))))) | AO17: =IF(AD17<>"",G17,"") | AP17: =IF(AND($AC$9=F17,F17=A17+1),I17,IF(AND($AC$9=F17,F17-A17),I17,"")) | AQ17: =IF(AND($AC$9=A17,F17-A17<=2,C17="VD",J17="DAUPHIN",K17=""),I17*Parametre!$E$7,IF(AND($AC$9-A17=1,F17-A17=2,C17="VD",J17="DAUPHIN",K17=""),I17*Parametre!$F$7,IF(AND($AC$9=A17,F17-A17<=2,J17="DAUPHIN",OR(C17="F",C17="AF"),K17=""),I17*Parametre!$E$8,IF(AND($AC$9-A17=1,F17-A17=2,J17="DAUPHIN",OR(C17="F",C17="AF"),K17=""),I17*Parametre!$F$8,IF(AND($AC$9=A17,F17-A17<=2,C17="VD",J17="LEGER",K17=""),I17*Parametre!$E$9,IF(AND($AC$9-A17=1,F17-A17=2,C17="VD",J17="LEGER",K17=""),I17*Parametre!$F$9,IF(AND($AC$9=A17,F17-A17<=2,J17="LEGER",OR(C17="F",C17="AF"),K17=""),I17*Parametre!$E$10,IF(AND($AC$9-A17=1,F17-A17=2,J17="LEGER",OR(C17="F",C17="AF"),K17=""),I17*Parametre!$F$10,IF(AND($AC$9=A17,F17-A17<=2,C17="VD",J17="DAUPHIN",K17="MILT_DAUPH"),I17*Parametre!$E$11,IF(AND($AC$9-A17=1,F17-A17=2,C17="VD",J17="DAUPHIN",K17="MILT_DAUPH"),I17*Parametre!$F$11,IF(AND($AC$9=A17,F17-A17<=2,C17="VD",J17="LEGER",K17="MILIT_LH"),I17*Parametre!$E$13,""))))))))))) | AS17: =IF(AT17<>"",G17,"") | AT17: =IF(AND($AS$9=F17,F17=A17+1),I17,IF(AND($AS$9=F17,F17-A17),I17,"")) | AU17: =IF(AND($AS$9=A17,F17-A17<=2,C17="VD",J17="DAUPHIN",K17=""),I17*Parametre!$E$7,IF(AND($AS$9-A17=1,F17-A17=2,C17="VD",J17="DAUPHIN",K17=""),I17*Parametre!$F$7,IF(AND($AS$9=A17,F17-A17<=2,J17="DAUPHIN",OR(C17="F",C17="AF"),K17=""),I17*Parametre!$E$8,IF(AND($AS$9-A17=1,F17-A17=2,J17="DAUPHIN",OR(C17="F",C17="AF"),K17=""),I17*Parametre!$F$8,IF(AND($AS$9=A17,F17-A17<=2,C17="VD",J17="LEGER",K17=""),I17*Parametre!$E$9,IF(AND($AS$9-A17=1,F17-A17=2,C17="VD",J17="LEGER",K17=""),I17*Parametre!$F$9,IF(AND($AS$9=A17,F17-A17<=2,J17="LEGER",OR(C17="F",C17="AF"),K17=""),I17*Parametre!$E$10,IF(AND($AS$9-A17=1,F17-A17=2,J17="LEGER",OR(C17="F",C17="AF"),K17=""),I17*Parametre!$F$10,IF(AND($AS$9=A17,F17-A17<=2,C17="VD",J17="DAUPHIN",K17="MILT_DAUPH"),I17*Parametre!$E$11,IF(AND($AS$9-A17=1,F17-A17=2,C17="VD",J17="DAUPHIN",K17="MILT_DAUPH"),I17*Parametre!$F$11,IF(AND($AS$9=A17,F17-A17<=2,C17="VD",J17="LEGER",K17="MILIT_LH"),I17*Parametre!$E$13,""))))))))))) | AW17: =IF(AX17<>"",G17,"") | AX17: =IF(AND($AS$9=F17,F17=A17+1),I17,IF(AND($AS$9=F17,F17-A17),I17,"")) | AY17: =IF(AND($AS$9=A17,F17-A17<=2,C17="VD",J17="DAUPHIN",K17=""),I17*Parametre!$E$7,IF(AND($AS$9-A17=1,F17-A17=2,C17="VD",J17="DAUPHIN",K17=""),I17*Parametre!$F$7,IF(AND($AS$9=A17,F17-A17<=2,J17="DAUPHIN",OR(C17="F",C17="AF"),K17=""),I17*Parametre!$E$8,IF(AND($AS$9-A17=1,F17-A17=2,J17="DAUPHIN",OR(C17="F",C17="AF"),K17=""),I17*Parametre!$F$8,IF(AND($AS$9=A17,F17-A17<=2,C17="VD",J17="LEGER",K17=""),I17*Parametre!$E$9,IF(AND($AS$9-A17=1,F17-A17=2,C17="VD",J17="LEGER",K17=""),I17*Parametre!$F$9,IF(AND($AS$9=A17,F17-A17<=2,J17="LEGER",OR(C17="F",C17="AF"),K17=""),I17*Parametre!$E$10,IF(AND($AS$9-A17=1,F17-A17=2,J17="LEGER",OR(C17="F",C17="AF"),K17=""),I17*Parametre!$F$10,IF(AND($AS$9=A17,F17-A17<=2,C17="VD",J17="DAUPHIN",K17="MILT_DAUPH"),I17*Parametre!$E$11,IF(AND($AS$9-A17=1,F17-A17=2,C17="VD",J17="DAUPHIN",K17="MILT_DAUPH"),I17*Parametre!$F$11,IF(AND($AS$9=A17,F17-A17<=2,C17="VD",J17="LEGER",K17="MILIT_LH"),I17*Parametre!$E$13,""))))))))))) | BA17: =IF(BB17<>"",G17,"") | BB17: =IF(AND($AS$9=F17,F17=A17+1),I17,IF(AND($AS$9=F17,F17-A17),I17,"")) | BC17: =IF(AND($AS$9=A17,F17-A17<=2,C17="VD",J17="DAUPHIN",K17=""),I17*Parametre!$E$7,IF(AND($AS$9-A17=1,F17-A17=2,C17="VD",J17="DAUPHIN",K17=""),I17*Parametre!$F$7,IF(AND($AS$9=A17,F17-A17<=2,J17="DAUPHIN",OR(C17="F",C17="AF"),K17=""),I17*Parametre!$E$8,IF(AND($AS$9-A17=1,F17-A17=2,J17="DAUPHIN",OR(C17="F",C17="AF"),K17=""),I17*Parametre!$F$8,IF(AND($AS$9=A17,F17-A17<=2,C17="VD",J17="LEGER",K17=""),I17*Parametre!$E$9,IF(AND($AS$9-A17=1,F17-A17=2,C17="VD",J17="LEGER",K17=""),I17*Parametre!$F$9,IF(AND($AS$9=A17,F17-A17<=2,J17="LEGER",OR(C17="F",C17="AF"),K17=""),I17*Parametre!$E$10,IF(AND($AS$9-A17=1,F17-A17=2,J17="LEGER",OR(C17="F",C17="AF"),K17=""),I17*Parametre!$F$10,IF(AND($AS$9=A17,F17-A17<=2,C17="VD",J17="DAUPHIN",K17="MILT_DAUPH"),I17*Parametre!$E$11,IF(AND($AS$9-A17=1,F17-A17=2,C17="VD",J17="DAUPHIN",K17="MILT_DAUPH"),I17*Parametre!$F$11,IF(AND($AS$9=A17,F17-A17<=2,C17="VD",J17="LEGER",K17="MILIT_LH"),I17*Parametre!$E$13,""))))))))))) | BE17: =IF(BF17<>"",G17,"") | BF17: =IF(AND($AS$9=F17,F17=A17+1),I17,IF(AND($AS$9=F17,F17-A17),I17,"")) | BG17: =IF(AND($AS$9=A17,F17-A17<=2,C17="VD",J17="DAUPHIN",K17=""),I17*Parametre!$E$7,IF(AND($AS$9-A17=1,F17-A17=2,C17="VD",J17="DAUPHIN",K17=""),I17*Parametre!$F$7,IF(AND($AS$9=A17,F17-A17<=2,J17="DAUPHIN",OR(C17="F",C17="AF"),K17=""),I17*Parametre!$E$8,IF(AND($AS$9-A17=1,F17-A17=2,J17="DAUPHIN",OR(C17="F",C17="AF"),K17=""),I17*Parametre!$F$8,IF(AND($AS$9=A17,F17-A17<=2,C17="VD",J17="LEGER",K17=""),I17*Parametre!$E$9,IF(AND($AS$9-A17=1,F17-A17=2,C17="VD",J17="LEGER",K17=""),I17*Parametre!$F$9,IF(AND($AS$9=A17,F17-A17<=2,J17="LEGER",OR(C17="F",C17="AF"),K17=""),I17*Parametre!$E$10,IF(AND($AS$9-A17=1,F17-A17=2,J17="LEGER",OR(C17="F",C17="AF"),K17=""),I17*Parametre!$F$10,IF(AND($AS$9=A17,F17-A17<=2,C17="VD",J17="DAUPHIN",K17="MILT_DAUPH"),I17*Parametre!$E$11,IF(AND($AS$9-A17=1,F17-A17=2,C17="VD",J17="DAUPHIN",K17="MILT_DAUPH"),I17*Parametre!$F$11,IF(AND($AS$9=A17,F17-A17<=2,C17="VD",J17="LEGER",K17="MILIT_LH"),I17*Parametre!$E$13,"")))))))))))
E18: NC | I18: =H18*G18 -> 0 | M18: =IF(N18<>"",G18,"") | N18: =IF(AND($M$9=F18,F18=A18+1),I18,IF(AND($M$9=F18,F18-A18>1),I18,"")) | O18: =IF(AND($M$9=A18,F18-A18<=2,C18="VD",J18="DAUPHIN",K18=""),I18*Parametre!$E$7,IF(AND($M$9-A18=1,F18-A18=2,C18="VD",J18="DAUPHIN",K18=""),I18*Parametre!$F$7,IF(AND($M$9=A18,F18-A18<=2,J18="DAUPHIN",OR(C18="F",C18="AF"),K18=""),I18*Parametre!$E$8,IF(AND($M$9-A18=1,F18-A18=2,J18="DAUPHIN",OR(C18="F",C18="AF"),K18=""),I18*Parametre!$F$8,IF(AND($M$9=A18,F18-A18<=2,C18="VD",J18="LEGER",K18=""),I18*Parametre!$E$9,IF(AND($M$9-A18=1,F18-A18=2,C18="VD",J18="LEGER",K18=""),I18*Parametre!$F$9,IF(AND($M$9=A18,F18-A18<=2,J18="LEGER",OR(C18="F",C18="AF"),K18=""),I18*Parametre!$E$10,IF(AND($M$9-A18=1,F18-A18=2,J18="LEGER",OR(C18="F",C18="AF"),K18=""),I18*Parametre!$F$10,IF(AND($M$9=A18,F18-A18<=2,C18="VD",J18="DAUPHIN",K18="MILT_DAUPH"),I18*Parametre!$E$11,IF(AND($M$9-A18=1,F18-A18=2,C18="VD",J18="DAUPHIN",K18="MILT_DAUPH"),I18*Parametre!$F$11,IF(AND($M$9=A18,F18-A18<=2,C18="VD",J18="LEGER",K18="MILIT_LH"),I18*Parametre!$E$13,""))))))))))) | Q18: =IF(R18<>"",G18,"") | R18: =IF(AND($M$9=F18,F18=A18+1),I18,IF(AND($M$9=F18,F18-A18),I18,"")) | S18: =IF(AND($M$9=A18,F18-A18<=2,C18="VD",J18="DAUPHIN",K18=""),I18*Parametre!$E$7,IF(AND($M$9-A18=1,F18-A18=2,C18="VD",J18="DAUPHIN",K18=""),I18*Parametre!$F$7,IF(AND($M$9=A18,F18-A18<=2,J18="DAUPHIN",OR(C18="F",C18="AF"),K18=""),I18*Parametre!$E$8,IF(AND($M$9-A18=1,F18-A18=2,J18="DAUPHIN",OR(C18="F",C18="AF"),K18=""),I18*Parametre!$F$8,IF(AND($M$9=A18,F18-A18<=2,C18="VD",J18="LEGER",K18=""),I18*Parametre!$E$9,IF(AND($M$9-A18=1,F18-A18=2,C18="VD",J18="LEGER",K18=""),I18*Parametre!$F$9,IF(AND($M$9=A18,F18-A18<=2,J18="LEGER",OR(C18="F",C18="AF"),K18=""),I18*Parametre!$E$10,IF(AND($M$9-A18=1,F18-A18=2,J18="LEGER",OR(C18="F",C18="AF"),K18=""),I18*Parametre!$F$10,IF(AND($M$9=A18,F18-A18<=2,C18="VD",J18="DAUPHIN",K18="MILT_DAUPH"),I18*Parametre!$E$11,IF(AND($M$9-A18=1,F18-A18=2,C18="VD",J18="DAUPHIN",K18="MILT_DAUPH"),I18*Parametre!$F$11,IF(AND($M$9=A18,F18-A18<=2,C18="VD",J18="LEGER",K18="MILIT_LH"),I18*Parametre!$E$13,""))))))))))) | U18: =IF(V18<>"",G18,"") | V18: =IF(AND($M$9=F18,F18=A18+1),I18,IF(AND($M$9=F18,F18-A18),I18,"")) | W18: =IF(AND($M$9=A18,F18-A18<=2,C18="VD",J18="DAUPHIN",K18=""),I18*Parametre!$E$7,IF(AND($M$9-A18=1,F18-A18=2,C18="VD",J18="DAUPHIN",K18=""),I18*Parametre!$F$7,IF(AND($M$9=A18,F18-A18<=2,J18="DAUPHIN",OR(C18="F",C18="AF"),K18=""),I18*Parametre!$E$8,IF(AND($M$9-A18=1,F18-A18=2,J18="DAUPHIN",OR(C18="F",C18="AF"),K18=""),I18*Parametre!$F$8,IF(AND($M$9=A18,F18-A18<=2,C18="VD",J18="LEGER",K18=""),I18*Parametre!$E$9,IF(AND($M$9-A18=1,F18-A18=2,C18="VD",J18="LEGER",K18=""),I18*Parametre!$F$9,IF(AND($M$9=A18,F18-A18<=2,J18="LEGER",OR(C18="F",C18="AF"),K18=""),I18*Parametre!$E$10,IF(AND($M$9-A18=1,F18-A18=2,J18="LEGER",OR(C18="F",C18="AF"),K18=""),I18*Parametre!$F$10,IF(AND($M$9=A18,F18-A18<=2,C18="VD",J18="DAUPHIN",K18="MILT_DAUPH"),I18*Parametre!$E$11,IF(AND($M$9-A18=1,F18-A18=2,C18="VD",J18="DAUPHIN",K18="MILT_DAUPH"),I18*Parametre!$F$11,IF(AND($M$9=A18,F18-A18<=2,C18="VD",J18="LEGER",K18="MILIT_LH"),I18*Parametre!$E$13,""))))))))))) | Y18: =IF(Z18<>"",G18,"") | Z18: =IF(AND($M$9=F18,F18=A18+1),I18,IF(AND($M$9=F18,F18-A18),I18,"")) | AA18: =IF(AND($M$9=A18,F18-A18<=2,C18="VD",J18="DAUPHIN",K18=""),I18*Parametre!$E$7,IF(AND($M$9-A18=1,F18-A18=2,C18="VD",J18="DAUPHIN",K18=""),I18*Parametre!$F$7,IF(AND($M$9=A18,F18-A18<=2,J18="DAUPHIN",OR(C18="F",C18="AF"),K18=""),I18*Parametre!$E$8,IF(AND($M$9-A18=1,F18-A18=2,J18="DAUPHIN",OR(C18="F",C18="AF"),K18=""),I18*Parametre!$F$8,IF(AND($M$9=A18,F18-A18<=2,C18="VD",J18="LEGER",K18=""),I18*Parametre!$E$9,IF(AND($M$9-A18=1,F18-A18=2,C18="VD",J18="LEGER",K18=""),I18*Parametre!$F$9,IF(AND($M$9=A18,F18-A18<=2,J18="LEGER",OR(C18="F",C18="AF"),K18=""),I18*Parametre!$E$10,IF(AND($M$9-A18=1,F18-A18=2,J18="LEGER",OR(C18="F",C18="AF"),K18=""),I18*Parametre!$F$10,IF(AND($M$9=A18,F18-A18<=2,C18="VD",J18="DAUPHIN",K18="MILT_DAUPH"),I18*Parametre!$E$11,IF(AND($M$9-A18=1,F18-A18=2,C18="VD",J18="DAUPHIN",K18="MILT_DAUPH"),I18*Parametre!$F$11,IF(AND($M$9=A18,F18-A18<=2,C18="VD",J18="LEGER",K18="MILIT_LH"),I18*Parametre!$E$13,""))))))))))) | AC18: =IF(AD18<>"",G18,"") | AD18: =IF(AND($AC$9=F18,F18=A18+1),I18,IF(AND($AC$9=F18,F18-A18>1),I18,"")) | AE18: =IF(AND($AC$9=A18,F18-A18<=2,C18="VD",J18="DAUPHIN",K18=""),I18*Parametre!$E$7,IF(AND($AC$9-A18=1,F18-A18=2,C18="VD",J18="DAUPHIN",K18=""),I18*Parametre!$F$7,IF(AND($AC$9=A18,F18-A18<=2,J18="DAUPHIN",OR(C18="F",C18="AF"),K18=""),I18*Parametre!$E$8,IF(AND($AC$9-A18=1,F18-A18=2,J18="DAUPHIN",OR(C18="F",C18="AF"),K18=""),I18*Parametre!$F$8,IF(AND($AC$9=A18,F18-A18<=2,C18="VD",J18="LEGER",K18=""),I18*Parametre!$E$9,IF(AND($AC$9-A18=1,F18-A18=2,C18="VD",J18="LEGER",K18=""),I18*Parametre!$F$9,IF(AND($AC$9=A18,F18-A18<=2,J18="LEGER",OR(C18="F",C18="AF"),K18=""),I18*Parametre!$E$10,IF(AND($AC$9-A18=1,F18-A18=2,J18="LEGER",OR(C18="F",C18="AF"),K18=""),I18*Parametre!$F$10,IF(AND($AC$9=A18,F18-A18<=2,C18="VD",J18="DAUPHIN",K18="MILT_DAUPH"),I18*Parametre!$E$11,IF(AND($AC$9-A18=1,F18-A18=2,C18="VD",J18="DAUPHIN",K18="MILT_DAUPH"),I18*Parametre!$F$11,IF(AND($AC$9=A18,F18-A18<=2,C18="VD",J18="LEGER",K18="MILIT_LH"),I18*Parametre!$E$13,""))))))))))) | AG18: =IF(AD18<>"",G18,"") | AH18: =IF(AND($AC$9=F18,F18=A18+1),I18,IF(AND($AC$9=F18,F18-A18),I18,"")) | AI18: =IF(AND($AC$9=A18,F18-A18<=2,C18="VD",J18="DAUPHIN",K18=""),I18*Parametre!$E$7,IF(AND($AC$9-A18=1,F18-A18=2,C18="VD",J18="DAUPHIN",K18=""),I18*Parametre!$F$7,IF(AND($AC$9=A18,F18-A18<=2,J18="DAUPHIN",OR(C18="F",C18="AF"),K18=""),I18*Parametre!$E$8,IF(AND($AC$9-A18=1,F18-A18=2,J18="DAUPHIN",OR(C18="F",C18="AF"),K18=""),I18*Parametre!$F$8,IF(AND($AC$9=A18,F18-A18<=2,C18="VD",J18="LEGER",K18=""),I18*Parametre!$E$9,IF(AND($AC$9-A18=1,F18-A18=2,C18="VD",J18="LEGER",K18=""),I18*Parametre!$F$9,IF(AND($AC$9=A18,F18-A18<=2,J18="LEGER",OR(C18="F",C18="AF"),K18=""),I18*Parametre!$E$10,IF(AND($AC$9-A18=1,F18-A18=2,J18="LEGER",OR(C18="F",C18="AF"),K18=""),I18*Parametre!$F$10,IF(AND($AC$9=A18,F18-A18<=2,C18="VD",J18="DAUPHIN",K18="MILT_DAUPH"),I18*Parametre!$E$11,IF(AND($AC$9-A18=1,F18-A18=2,C18="VD",J18="DAUPHIN",K18="MILT_DAUPH"),I18*Parametre!$F$11,IF(AND($AC$9=A18,F18-A18<=2,C18="VD",J18="LEGER",K18="MILIT_LH"),I18*Parametre!$E$13,""))))))))))) | AK18: =IF(AD18<>"",G18,"") | AL18: =IF(AND($AC$9=F18,F18=A18+1),I18,IF(AND($AC$9=F18,F18-A18),I18,"")) | AM18: =IF(AND($AC$9=A18,F18-A18<=2,C18="VD",J18="DAUPHIN",K18=""),I18*Parametre!$E$7,IF(AND($AC$9-A18=1,F18-A18=2,C18="VD",J18="DAUPHIN",K18=""),I18*Parametre!$F$7,IF(AND($AC$9=A18,F18-A18<=2,J18="DAUPHIN",OR(C18="F",C18="AF"),K18=""),I18*Parametre!$E$8,IF(AND($AC$9-A18=1,F18-A18=2,J18="DAUPHIN",OR(C18="F",C18="AF"),K18=""),I18*Parametre!$F$8,IF(AND($AC$9=A18,F18-A18<=2,C18="VD",J18="LEGER",K18=""),I18*Parametre!$E$9,IF(AND($AC$9-A18=1,F18-A18=2,C18="VD",J18="LEGER",K18=""),I18*Parametre!$F$9,IF(AND($AC$9=A18,F18-A18<=2,J18="LEGER",OR(C18="F",C18="AF"),K18=""),I18*Parametre!$E$10,IF(AND($AC$9-A18=1,F18-A18=2,J18="LEGER",OR(C18="F",C18="AF"),K18=""),I18*Parametre!$F$10,IF(AND($AC$9=A18,F18-A18<=2,C18="VD",J18="DAUPHIN",K18="MILT_DAUPH"),I18*Parametre!$E$11,IF(AND($AC$9-A18=1,F18-A18=2,C18="VD",J18="DAUPHIN",K18="MILT_DAUPH"),I18*Parametre!$F$11,IF(AND($AC$9=A18,F18-A18<=2,C18="VD",J18="LEGER",K18="MILIT_LH"),I18*Parametre!$E$13,""))))))))))) | AO18: =IF(AD18<>"",G18,"") | AP18: =IF(AND($AC$9=F18,F18=A18+1),I18,IF(AND($AC$9=F18,F18-A18),I18,"")) | AQ18: =IF(AND($AC$9=A18,F18-A18<=2,C18="VD",J18="DAUPHIN",K18=""),I18*Parametre!$E$7,IF(AND($AC$9-A18=1,F18-A18=2,C18="VD",J18="DAUPHIN",K18=""),I18*Parametre!$F$7,IF(AND($AC$9=A18,F18-A18<=2,J18="DAUPHIN",OR(C18="F",C18="AF"),K18=""),I18*Parametre!$E$8,IF(AND($AC$9-A18=1,F18-A18=2,J18="DAUPHIN",OR(C18="F",C18="AF"),K18=""),I18*Parametre!$F$8,IF(AND($AC$9=A18,F18-A18<=2,C18="VD",J18="LEGER",K18=""),I18*Parametre!$E$9,IF(AND($AC$9-A18=1,F18-A18=2,C18="VD",J18="LEGER",K18=""),I18*Parametre!$F$9,IF(AND($AC$9=A18,F18-A18<=2,J18="LEGER",OR(C18="F",C18="AF"),K18=""),I18*Parametre!$E$10,IF(AND($AC$9-A18=1,F18-A18=2,J18="LEGER",OR(C18="F",C18="AF"),K18=""),I18*Parametre!$F$10,IF(AND($AC$9=A18,F18-A18<=2,C18="VD",J18="DAUPHIN",K18="MILT_DAUPH"),I18*Parametre!$E$11,IF(AND($AC$9-A18=1,F18-A18=2,C18="VD",J18="DAUPHIN",K18="MILT_DAUPH"),I18*Parametre!$F$11,IF(AND($AC$9=A18,F18-A18<=2,C18="VD",J18="LEGER",K18="MILIT_LH"),I18*Parametre!$E$13,""))))))))))) | AS18: =IF(AT18<>"",G18,"") | AT18: =IF(AND($AS$9=F18,F18=A18+1),I18,IF(AND($AS$9=F18,F18-A18),I18,"")) | AU18: =IF(AND($AS$9=A18,F18-A18<=2,C18="VD",J18="DAUPHIN",K18=""),I18*Parametre!$E$7,IF(AND($AS$9-A18=1,F18-A18=2,C18="VD",J18="DAUPHIN",K18=""),I18*Parametre!$F$7,IF(AND($AS$9=A18,F18-A18<=2,J18="DAUPHIN",OR(C18="F",C18="AF"),K18=""),I18*Parametre!$E$8,IF(AND($AS$9-A18=1,F18-A18=2,J18="DAUPHIN",OR(C18="F",C18="AF"),K18=""),I18*Parametre!$F$8,IF(AND($AS$9=A18,F18-A18<=2,C18="VD",J18="LEGER",K18=""),I18*Parametre!$E$9,IF(AND($AS$9-A18=1,F18-A18=2,C18="VD",J18="LEGER",K18=""),I18*Parametre!$F$9,IF(AND($AS$9=A18,F18-A18<=2,J18="LEGER",OR(C18="F",C18="AF"),K18=""),I18*Parametre!$E$10,IF(AND($AS$9-A18=1,F18-A18=2,J18="LEGER",OR(C18="F",C18="AF"),K18=""),I18*Parametre!$F$10,IF(AND($AS$9=A18,F18-A18<=2,C18="VD",J18="DAUPHIN",K18="MILT_DAUPH"),I18*Parametre!$E$11,IF(AND($AS$9-A18=1,F18-A18=2,C18="VD",J18="DAUPHIN",K18="MILT_DAUPH"),I18*Parametre!$F$11,IF(AND($AS$9=A18,F18-A18<=2,C18="VD",J18="LEGER",K18="MILIT_LH"),I18*Parametre!$E$13,""))))))))))) | AW18: =IF(AX18<>"",G18,"") | AX18: =IF(AND($AS$9=F18,F18=A18+1),I18,IF(AND($AS$9=F18,F18-A18),I18,"")) | AY18: =IF(AND($AS$9=A18,F18-A18<=2,C18="VD",J18="DAUPHIN",K18=""),I18*Parametre!$E$7,IF(AND($AS$9-A18=1,F18-A18=2,C18="VD",J18="DAUPHIN",K18=""),I18*Parametre!$F$7,IF(AND($AS$9=A18,F18-A18<=2,J18="DAUPHIN",OR(C18="F",C18="AF"),K18=""),I18*Parametre!$E$8,IF(AND($AS$9-A18=1,F18-A18=2,J18="DAUPHIN",OR(C18="F",C18="AF"),K18=""),I18*Parametre!$F$8,IF(AND($AS$9=A18,F18-A18<=2,C18="VD",J18="LEGER",K18=""),I18*Parametre!$E$9,IF(AND($AS$9-A18=1,F18-A18=2,C18="VD",J18="LEGER",K18=""),I18*Parametre!$F$9,IF(AND($AS$9=A18,F18-A18<=2,J18="LEGER",OR(C18="F",C18="AF"),K18=""),I18*Parametre!$E$10,IF(AND($AS$9-A18=1,F18-A18=2,J18="LEGER",OR(C18="F",C18="AF"),K18=""),I18*Parametre!$F$10,IF(AND($AS$9=A18,F18-A18<=2,C18="VD",J18="DAUPHIN",K18="MILT_DAUPH"),I18*Parametre!$E$11,IF(AND($AS$9-A18=1,F18-A18=2,C18="VD",J18="DAUPHIN",K18="MILT_DAUPH"),I18*Parametre!$F$11,IF(AND($AS$9=A18,F18-A18<=2,C18="VD",J18="LEGER",K18="MILIT_LH"),I18*Parametre!$E$13,""))))))))))) | BA18: =IF(BB18<>"",G18,"") | BB18: =IF(AND($AS$9=F18,F18=A18+1),I18,IF(AND($AS$9=F18,F18-A18),I18,"")) | BC18: =IF(AND($AS$9=A18,F18-A18<=2,C18="VD",J18="DAUPHIN",K18=""),I18*Parametre!$E$7,IF(AND($AS$9-A18=1,F18-A18=2,C18="VD",J18="DAUPHIN",K18=""),I18*Parametre!$F$7,IF(AND($AS$9=A18,F18-A18<=2,J18="DAUPHIN",OR(C18="F",C18="AF"),K18=""),I18*Parametre!$E$8,IF(AND($AS$9-A18=1,F18-A18=2,J18="DAUPHIN",OR(C18="F",C18="AF"),K18=""),I18*Parametre!$F$8,IF(AND($AS$9=A18,F18-A18<=2,C18="VD",J18="LEGER",K18=""),I18*Parametre!$E$9,IF(AND($AS$9-A18=1,F18-A18=2,C18="VD",J18="LEGER",K18=""),I18*Parametre!$F$9,IF(AND($AS$9=A18,F18-A18<=2,J18="LEGER",OR(C18="F",C18="AF"),K18=""),I18*Parametre!$E$10,IF(AND($AS$9-A18=1,F18-A18=2,J18="LEGER",OR(C18="F",C18="AF"),K18=""),I18*Parametre!$F$10,IF(AND($AS$9=A18,F18-A18<=2,C18="VD",J18="DAUPHIN",K18="MILT_DAUPH"),I18*Parametre!$E$11,IF(AND($AS$9-A18=1,F18-A18=2,C18="VD",J18="DAUPHIN",K18="MILT_DAUPH"),I18*Parametre!$F$11,IF(AND($AS$9=A18,F18-A18<=2,C18="VD",J18="LEGER",K18="MILIT_LH"),I18*Parametre!$E$13,""))))))))))) | BE18: =IF(BF18<>"",G18,"") | BF18: =IF(AND($AS$9=F18,F18=A18+1),I18,IF(AND($AS$9=F18,F18-A18),I18,"")) | BG18: =IF(AND($AS$9=A18,F18-A18<=2,C18="VD",J18="DAUPHIN",K18=""),I18*Parametre!$E$7,IF(AND($AS$9-A18=1,F18-A18=2,C18="VD",J18="DAUPHIN",K18=""),I18*Parametre!$F$7,IF(AND($AS$9=A18,F18-A18<=2,J18="DAUPHIN",OR(C18="F",C18="AF"),K18=""),I18*Parametre!$E$8,IF(AND($AS$9-A18=1,F18-A18=2,J18="DAUPHIN",OR(C18="F",C18="AF"),K18=""),I18*Parametre!$F$8,IF(AND($AS$9=A18,F18-A18<=2,C18="VD",J18="LEGER",K18=""),I18*Parametre!$E$9,IF(AND($AS$9-A18=1,F18-A18=2,C18="VD",J18="LEGER",K18=""),I18*Parametre!$F$9,IF(AND($AS$9=A18,F18-A18<=2,J18="LEGER",OR(C18="F",C18="AF"),K18=""),I18*Parametre!$E$10,IF(AND($AS$9-A18=1,F18-A18=2,J18="LEGER",OR(C18="F",C18="AF"),K18=""),I18*Parametre!$F$10,IF(AND($AS$9=A18,F18-A18<=2,C18="VD",J18="DAUPHIN",K18="MILT_DAUPH"),I18*Parametre!$E$11,IF(AND($AS$9-A18=1,F18-A18=2,C18="VD",J18="DAUPHIN",K18="MILT_DAUPH"),I18*Parametre!$F$11,IF(AND($AS$9=A18,F18-A18<=2,C18="VD",J18="LEGER",K18="MILIT_LH"),I18*Parametre!$E$13,"")))))))))))
E19: NC | I19: =H19*G19 -> 0 | M19: =IF(N19<>"",G19,"") | N19: =IF(AND($M$9=F19,F19=A19+1),I19,IF(AND($M$9=F19,F19-A19>1),I19,"")) | O19: =IF(AND($M$9=A19,F19-A19<=2,C19="VD",J19="DAUPHIN",K19=""),I19*Parametre!$E$7,IF(AND($M$9-A19=1,F19-A19=2,C19="VD",J19="DAUPHIN",K19=""),I19*Parametre!$F$7,IF(AND($M$9=A19,F19-A19<=2,J19="DAUPHIN",OR(C19="F",C19="AF"),K19=""),I19*Parametre!$E$8,IF(AND($M$9-A19=1,F19-A19=2,J19="DAUPHIN",OR(C19="F",C19="AF"),K19=""),I19*Parametre!$F$8,IF(AND($M$9=A19,F19-A19<=2,C19="VD",J19="LEGER",K19=""),I19*Parametre!$E$9,IF(AND($M$9-A19=1,F19-A19=2,C19="VD",J19="LEGER",K19=""),I19*Parametre!$F$9,IF(AND($M$9=A19,F19-A19<=2,J19="LEGER",OR(C19="F",C19="AF"),K19=""),I19*Parametre!$E$10,IF(AND($M$9-A19=1,F19-A19=2,J19="LEGER",OR(C19="F",C19="AF"),K19=""),I19*Parametre!$F$10,IF(AND($M$9=A19,F19-A19<=2,C19="VD",J19="DAUPHIN",K19="MILT_DAUPH"),I19*Parametre!$E$11,IF(AND($M$9-A19=1,F19-A19=2,C19="VD",J19="DAUPHIN",K19="MILT_DAUPH"),I19*Parametre!$F$11,IF(AND($M$9=A19,F19-A19<=2,C19="VD",J19="LEGER",K19="MILIT_LH"),I19*Parametre!$E$13,""))))))))))) | Q19: =IF(R19<>"",G19,"") | R19: =IF(AND($M$9=F19,F19=A19+1),I19,IF(AND($M$9=F19,F19-A19),I19,"")) | S19: =IF(AND($M$9=A19,F19-A19<=2,C19="VD",J19="DAUPHIN",K19=""),I19*Parametre!$E$7,IF(AND($M$9-A19=1,F19-A19=2,C19="VD",J19="DAUPHIN",K19=""),I19*Parametre!$F$7,IF(AND($M$9=A19,F19-A19<=2,J19="DAUPHIN",OR(C19="F",C19="AF"),K19=""),I19*Parametre!$E$8,IF(AND($M$9-A19=1,F19-A19=2,J19="DAUPHIN",OR(C19="F",C19="AF"),K19=""),I19*Parametre!$F$8,IF(AND($M$9=A19,F19-A19<=2,C19="VD",J19="LEGER",K19=""),I19*Parametre!$E$9,IF(AND($M$9-A19=1,F19-A19=2,C19="VD",J19="LEGER",K19=""),I19*Parametre!$F$9,IF(AND($M$9=A19,F19-A19<=2,J19="LEGER",OR(C19="F",C19="AF"),K19=""),I19*Parametre!$E$10,IF(AND($M$9-A19=1,F19-A19=2,J19="LEGER",OR(C19="F",C19="AF"),K19=""),I19*Parametre!$F$10,IF(AND($M$9=A19,F19-A19<=2,C19="VD",J19="DAUPHIN",K19="MILT_DAUPH"),I19*Parametre!$E$11,IF(AND($M$9-A19=1,F19-A19=2,C19="VD",J19="DAUPHIN",K19="MILT_DAUPH"),I19*Parametre!$F$11,IF(AND($M$9=A19,F19-A19<=2,C19="VD",J19="LEGER",K19="MILIT_LH"),I19*Parametre!$E$13,""))))))))))) | U19: =IF(V19<>"",G19,"") | V19: =IF(AND($M$9=F19,F19=A19+1),I19,IF(AND($M$9=F19,F19-A19),I19,"")) | W19: =IF(AND($M$9=A19,F19-A19<=2,C19="VD",J19="DAUPHIN",K19=""),I19*Parametre!$E$7,IF(AND($M$9-A19=1,F19-A19=2,C19="VD",J19="DAUPHIN",K19=""),I19*Parametre!$F$7,IF(AND($M$9=A19,F19-A19<=2,J19="DAUPHIN",OR(C19="F",C19="AF"),K19=""),I19*Parametre!$E$8,IF(AND($M$9-A19=1,F19-A19=2,J19="DAUPHIN",OR(C19="F",C19="AF"),K19=""),I19*Parametre!$F$8,IF(AND($M$9=A19,F19-A19<=2,C19="VD",J19="LEGER",K19=""),I19*Parametre!$E$9,IF(AND($M$9-A19=1,F19-A19=2,C19="VD",J19="LEGER",K19=""),I19*Parametre!$F$9,IF(AND($M$9=A19,F19-A19<=2,J19="LEGER",OR(C19="F",C19="AF"),K19=""),I19*Parametre!$E$10,IF(AND($M$9-A19=1,F19-A19=2,J19="LEGER",OR(C19="F",C19="AF"),K19=""),I19*Parametre!$F$10,IF(AND($M$9=A19,F19-A19<=2,C19="VD",J19="DAUPHIN",K19="MILT_DAUPH"),I19*Parametre!$E$11,IF(AND($M$9-A19=1,F19-A19=2,C19="VD",J19="DAUPHIN",K19="MILT_DAUPH"),I19*Parametre!$F$11,IF(AND($M$9=A19,F19-A19<=2,C19="VD",J19="LEGER",K19="MILIT_LH"),I19*Parametre!$E$13,""))))))))))) | Y19: =IF(Z19<>"",G19,"") | Z19: =IF(AND($M$9=F19,F19=A19+1),I19,IF(AND($M$9=F19,F19-A19),I19,"")) | AA19: =IF(AND($M$9=A19,F19-A19<=2,C19="VD",J19="DAUPHIN",K19=""),I19*Parametre!$E$7,IF(AND($M$9-A19=1,F19-A19=2,C19="VD",J19="DAUPHIN",K19=""),I19*Parametre!$F$7,IF(AND($M$9=A19,F19-A19<=2,J19="DAUPHIN",OR(C19="F",C19="AF"),K19=""),I19*Parametre!$E$8,IF(AND($M$9-A19=1,F19-A19=2,J19="DAUPHIN",OR(C19="F",C19="AF"),K19=""),I19*Parametre!$F$8,IF(AND($M$9=A19,F19-A19<=2,C19="VD",J19="LEGER",K19=""),I19*Parametre!$E$9,IF(AND($M$9-A19=1,F19-A19=2,C19="VD",J19="LEGER",K19=""),I19*Parametre!$F$9,IF(AND($M$9=A19,F19-A19<=2,J19="LEGER",OR(C19="F",C19="AF"),K19=""),I19*Parametre!$E$10,IF(AND($M$9-A19=1,F19-A19=2,J19="LEGER",OR(C19="F",C19="AF"),K19=""),I19*Parametre!$F$10,IF(AND($M$9=A19,F19-A19<=2,C19="VD",J19="DAUPHIN",K19="MILT_DAUPH"),I19*Parametre!$E$11,IF(AND($M$9-A19=1,F19-A19=2,C19="VD",J19="DAUPHIN",K19="MILT_DAUPH"),I19*Parametre!$F$11,IF(AND($M$9=A19,F19-A19<=2,C19="VD",J19="LEGER",K19="MILIT_LH"),I19*Parametre!$E$13,""))))))))))) | AC19: =IF(AD19<>"",G19,"") | AD19: =IF(AND($AC$9=F19,F19=A19+1),I19,IF(AND($AC$9=F19,F19-A19>1),I19,"")) | AE19: =IF(AND($AC$9=A19,F19-A19<=2,C19="VD",J19="DAUPHIN",K19=""),I19*Parametre!$E$7,IF(AND($AC$9-A19=1,F19-A19=2,C19="VD",J19="DAUPHIN",K19=""),I19*Parametre!$F$7,IF(AND($AC$9=A19,F19-A19<=2,J19="DAUPHIN",OR(C19="F",C19="AF"),K19=""),I19*Parametre!$E$8,IF(AND($AC$9-A19=1,F19-A19=2,J19="DAUPHIN",OR(C19="F",C19="AF"),K19=""),I19*Parametre!$F$8,IF(AND($AC$9=A19,F19-A19<=2,C19="VD",J19="LEGER",K19=""),I19*Parametre!$E$9,IF(AND($AC$9-A19=1,F19-A19=2,C19="VD",J19="LEGER",K19=""),I19*Parametre!$F$9,IF(AND($AC$9=A19,F19-A19<=2,J19="LEGER",OR(C19="F",C19="AF"),K19=""),I19*Parametre!$E$10,IF(AND($AC$9-A19=1,F19-A19=2,J19="LEGER",OR(C19="F",C19="AF"),K19=""),I19*Parametre!$F$10,IF(AND($AC$9=A19,F19-A19<=2,C19="VD",J19="DAUPHIN",K19="MILT_DAUPH"),I19*Parametre!$E$11,IF(AND($AC$9-A19=1,F19-A19=2,C19="VD",J19="DAUPHIN",K19="MILT_DAUPH"),I19*Parametre!$F$11,IF(AND($AC$9=A19,F19-A19<=2,C19="VD",J19="LEGER",K19="MILIT_LH"),I19*Parametre!$E$13,""))))))))))) | AG19: =IF(AD19<>"",G19,"") | AH19: =IF(AND($AC$9=F19,F19=A19+1),I19,IF(AND($AC$9=F19,F19-A19),I19,"")) | AI19: =IF(AND($AC$9=A19,F19-A19<=2,C19="VD",J19="DAUPHIN",K19=""),I19*Parametre!$E$7,IF(AND($AC$9-A19=1,F19-A19=2,C19="VD",J19="DAUPHIN",K19=""),I19*Parametre!$F$7,IF(AND($AC$9=A19,F19-A19<=2,J19="DAUPHIN",OR(C19="F",C19="AF"),K19=""),I19*Parametre!$E$8,IF(AND($AC$9-A19=1,F19-A19=2,J19="DAUPHIN",OR(C19="F",C19="AF"),K19=""),I19*Parametre!$F$8,IF(AND($AC$9=A19,F19-A19<=2,C19="VD",J19="LEGER",K19=""),I19*Parametre!$E$9,IF(AND($AC$9-A19=1,F19-A19=2,C19="VD",J19="LEGER",K19=""),I19*Parametre!$F$9,IF(AND($AC$9=A19,F19-A19<=2,J19="LEGER",OR(C19="F",C19="AF"),K19=""),I19*Parametre!$E$10,IF(AND($AC$9-A19=1,F19-A19=2,J19="LEGER",OR(C19="F",C19="AF"),K19=""),I19*Parametre!$F$10,IF(AND($AC$9=A19,F19-A19<=2,C19="VD",J19="DAUPHIN",K19="MILT_DAUPH"),I19*Parametre!$E$11,IF(AND($AC$9-A19=1,F19-A19=2,C19="VD",J19="DAUPHIN",K19="MILT_DAUPH"),I19*Parametre!$F$11,IF(AND($AC$9=A19,F19-A19<=2,C19="VD",J19="LEGER",K19="MILIT_LH"),I19*Parametre!$E$13,""))))))))))) | AK19: =IF(AD19<>"",G19,"") | AL19: =IF(AND($AC$9=F19,F19=A19+1),I19,IF(AND($AC$9=F19,F19-A19),I19,"")) | AM19: =IF(AND($AC$9=A19,F19-A19<=2,C19="VD",J19="DAUPHIN",K19=""),I19*Parametre!$E$7,IF(AND($AC$9-A19=1,F19-A19=2,C19="VD",J19="DAUPHIN",K19=""),I19*Parametre!$F$7,IF(AND($AC$9=A19,F19-A19<=2,J19="DAUPHIN",OR(C19="F",C19="AF"),K19=""),I19*Parametre!$E$8,IF(AND($AC$9-A19=1,F19-A19=2,J19="DAUPHIN",OR(C19="F",C19="AF"),K19=""),I19*Parametre!$F$8,IF(AND($AC$9=A19,F19-A19<=2,C19="VD",J19="LEGER",K19=""),I19*Parametre!$E$9,IF(AND($AC$9-A19=1,F19-A19=2,C19="VD",J19="LEGER",K19=""),I19*Parametre!$F$9,IF(AND($AC$9=A19,F19-A19<=2,J19="LEGER",OR(C19="F",C19="AF"),K19=""),I19*Parametre!$E$10,IF(AND($AC$9-A19=1,F19-A19=2,J19="LEGER",OR(C19="F",C19="AF"),K19=""),I19*Parametre!$F$10,IF(AND($AC$9=A19,F19-A19<=2,C19="VD",J19="DAUPHIN",K19="MILT_DAUPH"),I19*Parametre!$E$11,IF(AND($AC$9-A19=1,F19-A19=2,C19="VD",J19="DAUPHIN",K19="MILT_DAUPH"),I19*Parametre!$F$11,IF(AND($AC$9=A19,F19-A19<=2,C19="VD",J19="LEGER",K19="MILIT_LH"),I19*Parametre!$E$13,""))))))))))) | AO19: =IF(AD19<>"",G19,"") | AP19: =IF(AND($AC$9=F19,F19=A19+1),I19,IF(AND($AC$9=F19,F19-A19),I19,"")) | AQ19: =IF(AND($AC$9=A19,F19-A19<=2,C19="VD",J19="DAUPHIN",K19=""),I19*Parametre!$E$7,IF(AND($AC$9-A19=1,F19-A19=2,C19="VD",J19="DAUPHIN",K19=""),I19*Parametre!$F$7,IF(AND($AC$9=A19,F19-A19<=2,J19="DAUPHIN",OR(C19="F",C19="AF"),K19=""),I19*Parametre!$E$8,IF(AND($AC$9-A19=1,F19-A19=2,J19="DAUPHIN",OR(C19="F",C19="AF"),K19=""),I19*Parametre!$F$8,IF(AND($AC$9=A19,F19-A19<=2,C19="VD",J19="LEGER",K19=""),I19*Parametre!$E$9,IF(AND($AC$9-A19=1,F19-A19=2,C19="VD",J19="LEGER",K19=""),I19*Parametre!$F$9,IF(AND($AC$9=A19,F19-A19<=2,J19="LEGER",OR(C19="F",C19="AF"),K19=""),I19*Parametre!$E$10,IF(AND($AC$9-A19=1,F19-A19=2,J19="LEGER",OR(C19="F",C19="AF"),K19=""),I19*Parametre!$F$10,IF(AND($AC$9=A19,F19-A19<=2,C19="VD",J19="DAUPHIN",K19="MILT_DAUPH"),I19*Parametre!$E$11,IF(AND($AC$9-A19=1,F19-A19=2,C19="VD",J19="DAUPHIN",K19="MILT_DAUPH"),I19*Parametre!$F$11,IF(AND($AC$9=A19,F19-A19<=2,C19="VD",J19="LEGER",K19="MILIT_LH"),I19*Parametre!$E$13,""))))))))))) | AS19: =IF(AT19<>"",G19,"") | AT19: =IF(AND($AS$9=F19,F19=A19+1),I19,IF(AND($AS$9=F19,F19-A19),I19,"")) | AU19: =IF(AND($AS$9=A19,F19-A19<=2,C19="VD",J19="DAUPHIN",K19=""),I19*Parametre!$E$7,IF(AND($AS$9-A19=1,F19-A19=2,C19="VD",J19="DAUPHIN",K19=""),I19*Parametre!$F$7,IF(AND($AS$9=A19,F19-A19<=2,J19="DAUPHIN",OR(C19="F",C19="AF"),K19=""),I19*Parametre!$E$8,IF(AND($AS$9-A19=1,F19-A19=2,J19="DAUPHIN",OR(C19="F",C19="AF"),K19=""),I19*Parametre!$F$8,IF(AND($AS$9=A19,F19-A19<=2,C19="VD",J19="LEGER",K19=""),I19*Parametre!$E$9,IF(AND($AS$9-A19=1,F19-A19=2,C19="VD",J19="LEGER",K19=""),I19*Parametre!$F$9,IF(AND($AS$9=A19,F19-A19<=2,J19="LEGER",OR(C19="F",C19="AF"),K19=""),I19*Parametre!$E$10,IF(AND($AS$9-A19=1,F19-A19=2,J19="LEGER",OR(C19="F",C19="AF"),K19=""),I19*Parametre!$F$10,IF(AND($AS$9=A19,F19-A19<=2,C19="VD",J19="DAUPHIN",K19="MILT_DAUPH"),I19*Parametre!$E$11,IF(AND($AS$9-A19=1,F19-A19=2,C19="VD",J19="DAUPHIN",K19="MILT_DAUPH"),I19*Parametre!$F$11,IF(AND($AS$9=A19,F19-A19<=2,C19="VD",J19="LEGER",K19="MILIT_LH"),I19*Parametre!$E$13,""))))))))))) | AW19: =IF(AX19<>"",G19,"") | AX19: =IF(AND($AS$9=F19,F19=A19+1),I19,IF(AND($AS$9=F19,F19-A19),I19,"")) | AY19: =IF(AND($AS$9=A19,F19-A19<=2,C19="VD",J19="DAUPHIN",K19=""),I19*Parametre!$E$7,IF(AND($AS$9-A19=1,F19-A19=2,C19="VD",J19="DAUPHIN",K19=""),I19*Parametre!$F$7,IF(AND($AS$9=A19,F19-A19<=2,J19="DAUPHIN",OR(C19="F",C19="AF"),K19=""),I19*Parametre!$E$8,IF(AND($AS$9-A19=1,F19-A19=2,J19="DAUPHIN",OR(C19="F",C19="AF"),K19=""),I19*Parametre!$F$8,IF(AND($AS$9=A19,F19-A19<=2,C19="VD",J19="LEGER",K19=""),I19*Parametre!$E$9,IF(AND($AS$9-A19=1,F19-A19=2,C19="VD",J19="LEGER",K19=""),I19*Parametre!$F$9,IF(AND($AS$9=A19,F19-A19<=2,J19="LEGER",OR(C19="F",C19="AF"),K19=""),I19*Parametre!$E$10,IF(AND($AS$9-A19=1,F19-A19=2,J19="LEGER",OR(C19="F",C19="AF"),K19=""),I19*Parametre!$F$10,IF(AND($AS$9=A19,F19-A19<=2,C19="VD",J19="DAUPHIN",K19="MILT_DAUPH"),I19*Parametre!$E$11,IF(AND($AS$9-A19=1,F19-A19=2,C19="VD",J19="DAUPHIN",K19="MILT_DAUPH"),I19*Parametre!$F$11,IF(AND($AS$9=A19,F19-A19<=2,C19="VD",J19="LEGER",K19="MILIT_LH"),I19*Parametre!$E$13,""))))))))))) | BA19: =IF(BB19<>"",G19,"") | BB19: =IF(AND($AS$9=F19,F19=A19+1),I19,IF(AND($AS$9=F19,F19-A19),I19,"")) | BC19: =IF(AND($AS$9=A19,F19-A19<=2,C19="VD",J19="DAUPHIN",K19=""),I19*Parametre!$E$7,IF(AND($AS$9-A19=1,F19-A19=2,C19="VD",J19="DAUPHIN",K19=""),I19*Parametre!$F$7,IF(AND($AS$9=A19,F19-A19<=2,J19="DAUPHIN",OR(C19="F",C19="AF"),K19=""),I19*Parametre!$E$8,IF(AND($AS$9-A19=1,F19-A19=2,J19="DAUPHIN",OR(C19="F",C19="AF"),K19=""),I19*Parametre!$F$8,IF(AND($AS$9=A19,F19-A19<=2,C19="VD",J19="LEGER",K19=""),I19*Parametre!$E$9,IF(AND($AS$9-A19=1,F19-A19=2,C19="VD",J19="LEGER",K19=""),I19*Parametre!$F$9,IF(AND($AS$9=A19,F19-A19<=2,J19="LEGER",OR(C19="F",C19="AF"),K19=""),I19*Parametre!$E$10,IF(AND($AS$9-A19=1,F19-A19=2,J19="LEGER",OR(C19="F",C19="AF"),K19=""),I19*Parametre!$F$10,IF(AND($AS$9=A19,F19-A19<=2,C19="VD",J19="DAUPHIN",K19="MILT_DAUPH"),I19*Parametre!$E$11,IF(AND($AS$9-A19=1,F19-A19=2,C19="VD",J19="DAUPHIN",K19="MILT_DAUPH"),I19*Parametre!$F$11,IF(AND($AS$9=A19,F19-A19<=2,C19="VD",J19="LEGER",K19="MILIT_LH"),I19*Parametre!$E$13,""))))))))))) | BE19: =IF(BF19<>"",G19,"") | BF19: =IF(AND($AS$9=F19,F19=A19+1),I19,IF(AND($AS$9=F19,F19-A19),I19,"")) | BG19: =IF(AND($AS$9=A19,F19-A19<=2,C19="VD",J19="DAUPHIN",K19=""),I19*Parametre!$E$7,IF(AND($AS$9-A19=1,F19-A19=2,C19="VD",J19="DAUPHIN",K19=""),I19*Parametre!$F$7,IF(AND($AS$9=A19,F19-A19<=2,J19="DAUPHIN",OR(C19="F",C19="AF"),K19=""),I19*Parametre!$E$8,IF(AND($AS$9-A19=1,F19-A19=2,J19="DAUPHIN",OR(C19="F",C19="AF"),K19=""),I19*Parametre!$F$8,IF(AND($AS$9=A19,F19-A19<=2,C19="VD",J19="LEGER",K19=""),I19*Parametre!$E$9,IF(AND($AS$9-A19=1,F19-A19=2,C19="VD",J19="LEGER",K19=""),I19*Parametre!$F$9,IF(AND($AS$9=A19,F19-A19<=2,J19="LEGER",OR(C19="F",C19="AF"),K19=""),I19*Parametre!$E$10,IF(AND($AS$9-A19=1,F19-A19=2,J19="LEGER",OR(C19="F",C19="AF"),K19=""),I19*Parametre!$F$10,IF(AND($AS$9=A19,F19-A19<=2,C19="VD",J19="DAUPHIN",K19="MILT_DAUPH"),I19*Parametre!$E$11,IF(AND($AS$9-A19=1,F19-A19=2,C19="VD",J19="DAUPHIN",K19="MILT_DAUPH"),I19*Parametre!$F$11,IF(AND($AS$9=A19,F19-A19<=2,C19="VD",J19="LEGER",K19="MILIT_LH"),I19*Parametre!$E$13,"")))))))))))
E20: NC | I20: =H20*G20 -> 0 | M20: =IF(N20<>"",G20,"") | N20: =IF(AND($M$9=F20,F20=A20+1),I20,IF(AND($M$9=F20,F20-A20>1),I20,"")) | O20: =IF(AND($M$9=A20,F20-A20<=2,C20="VD",J20="DAUPHIN",K20=""),I20*Parametre!$E$7,IF(AND($M$9-A20=1,F20-A20=2,C20="VD",J20="DAUPHIN",K20=""),I20*Parametre!$F$7,IF(AND($M$9=A20,F20-A20<=2,J20="DAUPHIN",OR(C20="F",C20="AF"),K20=""),I20*Parametre!$E$8,IF(AND($M$9-A20=1,F20-A20=2,J20="DAUPHIN",OR(C20="F",C20="AF"),K20=""),I20*Parametre!$F$8,IF(AND($M$9=A20,F20-A20<=2,C20="VD",J20="LEGER",K20=""),I20*Parametre!$E$9,IF(AND($M$9-A20=1,F20-A20=2,C20="VD",J20="LEGER",K20=""),I20*Parametre!$F$9,IF(AND($M$9=A20,F20-A20<=2,J20="LEGER",OR(C20="F",C20="AF"),K20=""),I20*Parametre!$E$10,IF(AND($M$9-A20=1,F20-A20=2,J20="LEGER",OR(C20="F",C20="AF"),K20=""),I20*Parametre!$F$10,IF(AND($M$9=A20,F20-A20<=2,C20="VD",J20="DAUPHIN",K20="MILT_DAUPH"),I20*Parametre!$E$11,IF(AND($M$9-A20=1,F20-A20=2,C20="VD",J20="DAUPHIN",K20="MILT_DAUPH"),I20*Parametre!$F$11,IF(AND($M$9=A20,F20-A20<=2,C20="VD",J20="LEGER",K20="MILIT_LH"),I20*Parametre!$E$13,""))))))))))) | Q20: =IF(R20<>"",G20,"") | R20: =IF(AND($M$9=F20,F20=A20+1),I20,IF(AND($M$9=F20,F20-A20),I20,"")) | S20: =IF(AND($M$9=A20,F20-A20<=2,C20="VD",J20="DAUPHIN",K20=""),I20*Parametre!$E$7,IF(AND($M$9-A20=1,F20-A20=2,C20="VD",J20="DAUPHIN",K20=""),I20*Parametre!$F$7,IF(AND($M$9=A20,F20-A20<=2,J20="DAUPHIN",OR(C20="F",C20="AF"),K20=""),I20*Parametre!$E$8,IF(AND($M$9-A20=1,F20-A20=2,J20="DAUPHIN",OR(C20="F",C20="AF"),K20=""),I20*Parametre!$F$8,IF(AND($M$9=A20,F20-A20<=2,C20="VD",J20="LEGER",K20=""),I20*Parametre!$E$9,IF(AND($M$9-A20=1,F20-A20=2,C20="VD",J20="LEGER",K20=""),I20*Parametre!$F$9,IF(AND($M$9=A20,F20-A20<=2,J20="LEGER",OR(C20="F",C20="AF"),K20=""),I20*Parametre!$E$10,IF(AND($M$9-A20=1,F20-A20=2,J20="LEGER",OR(C20="F",C20="AF"),K20=""),I20*Parametre!$F$10,IF(AND($M$9=A20,F20-A20<=2,C20="VD",J20="DAUPHIN",K20="MILT_DAUPH"),I20*Parametre!$E$11,IF(AND($M$9-A20=1,F20-A20=2,C20="VD",J20="DAUPHIN",K20="MILT_DAUPH"),I20*Parametre!$F$11,IF(AND($M$9=A20,F20-A20<=2,C20="VD",J20="LEGER",K20="MILIT_LH"),I20*Parametre!$E$13,""))))))))))) | U20: =IF(V20<>"",G20,"") | V20: =IF(AND($M$9=F20,F20=A20+1),I20,IF(AND($M$9=F20,F20-A20),I20,"")) | W20: =IF(AND($M$9=A20,F20-A20<=2,C20="VD",J20="DAUPHIN",K20=""),I20*Parametre!$E$7,IF(AND($M$9-A20=1,F20-A20=2,C20="VD",J20="DAUPHIN",K20=""),I20*Parametre!$F$7,IF(AND($M$9=A20,F20-A20<=2,J20="DAUPHIN",OR(C20="F",C20="AF"),K20=""),I20*Parametre!$E$8,IF(AND($M$9-A20=1,F20-A20=2,J20="DAUPHIN",OR(C20="F",C20="AF"),K20=""),I20*Parametre!$F$8,IF(AND($M$9=A20,F20-A20<=2,C20="VD",J20="LEGER",K20=""),I20*Parametre!$E$9,IF(AND($M$9-A20=1,F20-A20=2,C20="VD",J20="LEGER",K20=""),I20*Parametre!$F$9,IF(AND($M$9=A20,F20-A20<=2,J20="LEGER",OR(C20="F",C20="AF"),K20=""),I20*Parametre!$E$10,IF(AND($M$9-A20=1,F20-A20=2,J20="LEGER",OR(C20="F",C20="AF"),K20=""),I20*Parametre!$F$10,IF(AND($M$9=A20,F20-A20<=2,C20="VD",J20="DAUPHIN",K20="MILT_DAUPH"),I20*Parametre!$E$11,IF(AND($M$9-A20=1,F20-A20=2,C20="VD",J20="DAUPHIN",K20="MILT_DAUPH"),I20*Parametre!$F$11,IF(AND($M$9=A20,F20-A20<=2,C20="VD",J20="LEGER",K20="MILIT_LH"),I20*Parametre!$E$13,""))))))))))) | Y20: =IF(Z20<>"",G20,"") | Z20: =IF(AND($M$9=F20,F20=A20+1),I20,IF(AND($M$9=F20,F20-A20),I20,"")) | AA20: =IF(AND($M$9=A20,F20-A20<=2,C20="VD",J20="DAUPHIN",K20=""),I20*Parametre!$E$7,IF(AND($M$9-A20=1,F20-A20=2,C20="VD",J20="DAUPHIN",K20=""),I20*Parametre!$F$7,IF(AND($M$9=A20,F20-A20<=2,J20="DAUPHIN",OR(C20="F",C20="AF"),K20=""),I20*Parametre!$E$8,IF(AND($M$9-A20=1,F20-A20=2,J20="DAUPHIN",OR(C20="F",C20="AF"),K20=""),I20*Parametre!$F$8,IF(AND($M$9=A20,F20-A20<=2,C20="VD",J20="LEGER",K20=""),I20*Parametre!$E$9,IF(AND($M$9-A20=1,F20-A20=2,C20="VD",J20="LEGER",K20=""),I20*Parametre!$F$9,IF(AND($M$9=A20,F20-A20<=2,J20="LEGER",OR(C20="F",C20="AF"),K20=""),I20*Parametre!$E$10,IF(AND($M$9-A20=1,F20-A20=2,J20="LEGER",OR(C20="F",C20="AF"),K20=""),I20*Parametre!$F$10,IF(AND($M$9=A20,F20-A20<=2,C20="VD",J20="DAUPHIN",K20="MILT_DAUPH"),I20*Parametre!$E$11,IF(AND($M$9-A20=1,F20-A20=2,C20="VD",J20="DAUPHIN",K20="MILT_DAUPH"),I20*Parametre!$F$11,IF(AND($M$9=A20,F20-A20<=2,C20="VD",J20="LEGER",K20="MILIT_LH"),I20*Parametre!$E$13,""))))))))))) | AC20: =IF(AD20<>"",G20,"") | AD20: =IF(AND($AC$9=F20,F20=A20+1),I20,IF(AND($AC$9=F20,F20-A20>1),I20,"")) | AE20: =IF(AND($AC$9=A20,F20-A20<=2,C20="VD",J20="DAUPHIN",K20=""),I20*Parametre!$E$7,IF(AND($AC$9-A20=1,F20-A20=2,C20="VD",J20="DAUPHIN",K20=""),I20*Parametre!$F$7,IF(AND($AC$9=A20,F20-A20<=2,J20="DAUPHIN",OR(C20="F",C20="AF"),K20=""),I20*Parametre!$E$8,IF(AND($AC$9-A20=1,F20-A20=2,J20="DAUPHIN",OR(C20="F",C20="AF"),K20=""),I20*Parametre!$F$8,IF(AND($AC$9=A20,F20-A20<=2,C20="VD",J20="LEGER",K20=""),I20*Parametre!$E$9,IF(AND($AC$9-A20=1,F20-A20=2,C20="VD",J20="LEGER",K20=""),I20*Parametre!$F$9,IF(AND($AC$9=A20,F20-A20<=2,J20="LEGER",OR(C20="F",C20="AF"),K20=""),I20*Parametre!$E$10,IF(AND($AC$9-A20=1,F20-A20=2,J20="LEGER",OR(C20="F",C20="AF"),K20=""),I20*Parametre!$F$10,IF(AND($AC$9=A20,F20-A20<=2,C20="VD",J20="DAUPHIN",K20="MILT_DAUPH"),I20*Parametre!$E$11,IF(AND($AC$9-A20=1,F20-A20=2,C20="VD",J20="DAUPHIN",K20="MILT_DAUPH"),I20*Parametre!$F$11,IF(AND($AC$9=A20,F20-A20<=2,C20="VD",J20="LEGER",K20="MILIT_LH"),I20*Parametre!$E$13,""))))))))))) | AG20: =IF(AD20<>"",G20,"") | AH20: =IF(AND($AC$9=F20,F20=A20+1),I20,IF(AND($AC$9=F20,F20-A20),I20,"")) | AI20: =IF(AND($AC$9=A20,F20-A20<=2,C20="VD",J20="DAUPHIN",K20=""),I20*Parametre!$E$7,IF(AND($AC$9-A20=1,F20-A20=2,C20="VD",J20="DAUPHIN",K20=""),I20*Parametre!$F$7,IF(AND($AC$9=A20,F20-A20<=2,J20="DAUPHIN",OR(C20="F",C20="AF"),K20=""),I20*Parametre!$E$8,IF(AND($AC$9-A20=1,F20-A20=2,J20="DAUPHIN",OR(C20="F",C20="AF"),K20=""),I20*Parametre!$F$8,IF(AND($AC$9=A20,F20-A20<=2,C20="VD",J20="LEGER",K20=""),I20*Parametre!$E$9,IF(AND($AC$9-A20=1,F20-A20=2,C20="VD",J20="LEGER",K20=""),I20*Parametre!$F$9,IF(AND($AC$9=A20,F20-A20<=2,J20="LEGER",OR(C20="F",C20="AF"),K20=""),I20*Parametre!$E$10,IF(AND($AC$9-A20=1,F20-A20=2,J20="LEGER",OR(C20="F",C20="AF"),K20=""),I20*Parametre!$F$10,IF(AND($AC$9=A20,F20-A20<=2,C20="VD",J20="DAUPHIN",K20="MILT_DAUPH"),I20*Parametre!$E$11,IF(AND($AC$9-A20=1,F20-A20=2,C20="VD",J20="DAUPHIN",K20="MILT_DAUPH"),I20*Parametre!$F$11,IF(AND($AC$9=A20,F20-A20<=2,C20="VD",J20="LEGER",K20="MILIT_LH"),I20*Parametre!$E$13,""))))))))))) | AK20: =IF(AD20<>"",G20,"") | AL20: =IF(AND($AC$9=F20,F20=A20+1),I20,IF(AND($AC$9=F20,F20-A20),I20,"")) | AM20: =IF(AND($AC$9=A20,F20-A20<=2,C20="VD",J20="DAUPHIN",K20=""),I20*Parametre!$E$7,IF(AND($AC$9-A20=1,F20-A20=2,C20="VD",J20="DAUPHIN",K20=""),I20*Parametre!$F$7,IF(AND($AC$9=A20,F20-A20<=2,J20="DAUPHIN",OR(C20="F",C20="AF"),K20=""),I20*Parametre!$E$8,IF(AND($AC$9-A20=1,F20-A20=2,J20="DAUPHIN",OR(C20="F",C20="AF"),K20=""),I20*Parametre!$F$8,IF(AND($AC$9=A20,F20-A20<=2,C20="VD",J20="LEGER",K20=""),I20*Parametre!$E$9,IF(AND($AC$9-A20=1,F20-A20=2,C20="VD",J20="LEGER",K20=""),I20*Parametre!$F$9,IF(AND($AC$9=A20,F20-A20<=2,J20="LEGER",OR(C20="F",C20="AF"),K20=""),I20*Parametre!$E$10,IF(AND($AC$9-A20=1,F20-A20=2,J20="LEGER",OR(C20="F",C20="AF"),K20=""),I20*Parametre!$F$10,IF(AND($AC$9=A20,F20-A20<=2,C20="VD",J20="DAUPHIN",K20="MILT_DAUPH"),I20*Parametre!$E$11,IF(AND($AC$9-A20=1,F20-A20=2,C20="VD",J20="DAUPHIN",K20="MILT_DAUPH"),I20*Parametre!$F$11,IF(AND($AC$9=A20,F20-A20<=2,C20="VD",J20="LEGER",K20="MILIT_LH"),I20*Parametre!$E$13,""))))))))))) | AO20: =IF(AD20<>"",G20,"") | AP20: =IF(AND($AC$9=F20,F20=A20+1),I20,IF(AND($AC$9=F20,F20-A20),I20,"")) | AQ20: =IF(AND($AC$9=A20,F20-A20<=2,C20="VD",J20="DAUPHIN",K20=""),I20*Parametre!$E$7,IF(AND($AC$9-A20=1,F20-A20=2,C20="VD",J20="DAUPHIN",K20=""),I20*Parametre!$F$7,IF(AND($AC$9=A20,F20-A20<=2,J20="DAUPHIN",OR(C20="F",C20="AF"),K20=""),I20*Parametre!$E$8,IF(AND($AC$9-A20=1,F20-A20=2,J20="DAUPHIN",OR(C20="F",C20="AF"),K20=""),I20*Parametre!$F$8,IF(AND($AC$9=A20,F20-A20<=2,C20="VD",J20="LEGER",K20=""),I20*Parametre!$E$9,IF(AND($AC$9-A20=1,F20-A20=2,C20="VD",J20="LEGER",K20=""),I20*Parametre!$F$9,IF(AND($AC$9=A20,F20-A20<=2,J20="LEGER",OR(C20="F",C20="AF"),K20=""),I20*Parametre!$E$10,IF(AND($AC$9-A20=1,F20-A20=2,J20="LEGER",OR(C20="F",C20="AF"),K20=""),I20*Parametre!$F$10,IF(AND($AC$9=A20,F20-A20<=2,C20="VD",J20="DAUPHIN",K20="MILT_DAUPH"),I20*Parametre!$E$11,IF(AND($AC$9-A20=1,F20-A20=2,C20="VD",J20="DAUPHIN",K20="MILT_DAUPH"),I20*Parametre!$F$11,IF(AND($AC$9=A20,F20-A20<=2,C20="VD",J20="LEGER",K20="MILIT_LH"),I20*Parametre!$E$13,""))))))))))) | AS20: =IF(AT20<>"",G20,"") | AT20: =IF(AND($AS$9=F20,F20=A20+1),I20,IF(AND($AS$9=F20,F20-A20),I20,"")) | AU20: =IF(AND($AS$9=A20,F20-A20<=2,C20="VD",J20="DAUPHIN",K20=""),I20*Parametre!$E$7,IF(AND($AS$9-A20=1,F20-A20=2,C20="VD",J20="DAUPHIN",K20=""),I20*Parametre!$F$7,IF(AND($AS$9=A20,F20-A20<=2,J20="DAUPHIN",OR(C20="F",C20="AF"),K20=""),I20*Parametre!$E$8,IF(AND($AS$9-A20=1,F20-A20=2,J20="DAUPHIN",OR(C20="F",C20="AF"),K20=""),I20*Parametre!$F$8,IF(AND($AS$9=A20,F20-A20<=2,C20="VD",J20="LEGER",K20=""),I20*Parametre!$E$9,IF(AND($AS$9-A20=1,F20-A20=2,C20="VD",J20="LEGER",K20=""),I20*Parametre!$F$9,IF(AND($AS$9=A20,F20-A20<=2,J20="LEGER",OR(C20="F",C20="AF"),K20=""),I20*Parametre!$E$10,IF(AND($AS$9-A20=1,F20-A20=2,J20="LEGER",OR(C20="F",C20="AF"),K20=""),I20*Parametre!$F$10,IF(AND($AS$9=A20,F20-A20<=2,C20="VD",J20="DAUPHIN",K20="MILT_DAUPH"),I20*Parametre!$E$11,IF(AND($AS$9-A20=1,F20-A20=2,C20="VD",J20="DAUPHIN",K20="MILT_DAUPH"),I20*Parametre!$F$11,IF(AND($AS$9=A20,F20-A20<=2,C20="VD",J20="LEGER",K20="MILIT_LH"),I20*Parametre!$E$13,""))))))))))) | AW20: =IF(AX20<>"",G20,"") | AX20: =IF(AND($AS$9=F20,F20=A20+1),I20,IF(AND($AS$9=F20,F20-A20),I20,"")) | AY20: =IF(AND($AS$9=A20,F20-A20<=2,C20="VD",J20="DAUPHIN",K20=""),I20*Parametre!$E$7,IF(AND($AS$9-A20=1,F20-A20=2,C20="VD",J20="DAUPHIN",K20=""),I20*Parametre!$F$7,IF(AND($AS$9=A20,F20-A20<=2,J20="DAUPHIN",OR(C20="F",C20="AF"),K20=""),I20*Parametre!$E$8,IF(AND($AS$9-A20=1,F20-A20=2,J20="DAUPHIN",OR(C20="F",C20="AF"),K20=""),I20*Parametre!$F$8,IF(AND($AS$9=A20,F20-A20<=2,C20="VD",J20="LEGER",K20=""),I20*Parametre!$E$9,IF(AND($AS$9-A20=1,F20-A20=2,C20="VD",J20="LEGER",K20=""),I20*Parametre!$F$9,IF(AND($AS$9=A20,F20-A20<=2,J20="LEGER",OR(C20="F",C20="AF"),K20=""),I20*Parametre!$E$10,IF(AND($AS$9-A20=1,F20-A20=2,J20="LEGER",OR(C20="F",C20="AF"),K20=""),I20*Parametre!$F$10,IF(AND($AS$9=A20,F20-A20<=2,C20="VD",J20="DAUPHIN",K20="MILT_DAUPH"),I20*Parametre!$E$11,IF(AND($AS$9-A20=1,F20-A20=2,C20="VD",J20="DAUPHIN",K20="MILT_DAUPH"),I20*Parametre!$F$11,IF(AND($AS$9=A20,F20-A20<=2,C20="VD",J20="LEGER",K20="MILIT_LH"),I20*Parametre!$E$13,""))))))))))) | BA20: =IF(BB20<>"",G20,"") | BB20: =IF(AND($AS$9=F20,F20=A20+1),I20,IF(AND($AS$9=F20,F20-A20),I20,"")) | BC20: =IF(AND($AS$9=A20,F20-A20<=2,C20="VD",J20="DAUPHIN",K20=""),I20*Parametre!$E$7,IF(AND($AS$9-A20=1,F20-A20=2,C20="VD",J20="DAUPHIN",K20=""),I20*Parametre!$F$7,IF(AND($AS$9=A20,F20-A20<=2,J20="DAUPHIN",OR(C20="F",C20="AF"),K20=""),I20*Parametre!$E$8,IF(AND($AS$9-A20=1,F20-A20=2,J20="DAUPHIN",OR(C20="F",C20="AF"),K20=""),I20*Parametre!$F$8,IF(AND($AS$9=A20,F20-A20<=2,C20="VD",J20="LEGER",K20=""),I20*Parametre!$E$9,IF(AND($AS$9-A20=1,F20-A20=2,C20="VD",J20="LEGER",K20=""),I20*Parametre!$F$9,IF(AND($AS$9=A20,F20-A20<=2,J20="LEGER",OR(C20="F",C20="AF"),K20=""),I20*Parametre!$E$10,IF(AND($AS$9-A20=1,F20-A20=2,J20="LEGER",OR(C20="F",C20="AF"),K20=""),I20*Parametre!$F$10,IF(AND($AS$9=A20,F20-A20<=2,C20="VD",J20="DAUPHIN",K20="MILT_DAUPH"),I20*Parametre!$E$11,IF(AND($AS$9-A20=1,F20-A20=2,C20="VD",J20="DAUPHIN",K20="MILT_DAUPH"),I20*Parametre!$F$11,IF(AND($AS$9=A20,F20-A20<=2,C20="VD",J20="LEGER",K20="MILIT_LH"),I20*Parametre!$E$13,""))))))))))) | BE20: =IF(BF20<>"",G20,"") | BF20: =IF(AND($AS$9=F20,F20=A20+1),I20,IF(AND($AS$9=F20,F20-A20),I20,"")) | BG20: =IF(AND($AS$9=A20,F20-A20<=2,C20="VD",J20="DAUPHIN",K20=""),I20*Parametre!$E$7,IF(AND($AS$9-A20=1,F20-A20=2,C20="VD",J20="DAUPHIN",K20=""),I20*Parametre!$F$7,IF(AND($AS$9=A20,F20-A20<=2,J20="DAUPHIN",OR(C20="F",C20="AF"),K20=""),I20*Parametre!$E$8,IF(AND($AS$9-A20=1,F20-A20=2,J20="DAUPHIN",OR(C20="F",C20="AF"),K20=""),I20*Parametre!$F$8,IF(AND($AS$9=A20,F20-A20<=2,C20="VD",J20="LEGER",K20=""),I20*Parametre!$E$9,IF(AND($AS$9-A20=1,F20-A20=2,C20="VD",J20="LEGER",K20=""),I20*Parametre!$F$9,IF(AND($AS$9=A20,F20-A20<=2,J20="LEGER",OR(C20="F",C20="AF"),K20=""),I20*Parametre!$E$10,IF(AND($AS$9-A20=1,F20-A20=2,J20="LEGER",OR(C20="F",C20="AF"),K20=""),I20*Parametre!$F$10,IF(AND($AS$9=A20,F20-A20<=2,C20="VD",J20="DAUPHIN",K20="MILT_DAUPH"),I20*Parametre!$E$11,IF(AND($AS$9-A20=1,F20-A20=2,C20="VD",J20="DAUPHIN",K20="MILT_DAUPH"),I20*Parametre!$F$11,IF(AND($AS$9=A20,F20-A20<=2,C20="VD",J20="LEGER",K20="MILIT_LH"),I20*Parametre!$E$13,"")))))))))))
E21: NC | I21: =H21*G21 -> 0 | M21: =IF(N21<>"",G21,"") | N21: =IF(AND($M$9=F21,F21=A21+1),I21,IF(AND($M$9=F21,F21-A21>1),I21,"")) | O21: =IF(AND($M$9=A21,F21-A21<=2,C21="VD",J21="DAUPHIN",K21=""),I21*Parametre!$E$7,IF(AND($M$9-A21=1,F21-A21=2,C21="VD",J21="DAUPHIN",K21=""),I21*Parametre!$F$7,IF(AND($M$9=A21,F21-A21<=2,J21="DAUPHIN",OR(C21="F",C21="AF"),K21=""),I21*Parametre!$E$8,IF(AND($M$9-A21=1,F21-A21=2,J21="DAUPHIN",OR(C21="F",C21="AF"),K21=""),I21*Parametre!$F$8,IF(AND($M$9=A21,F21-A21<=2,C21="VD",J21="LEGER",K21=""),I21*Parametre!$E$9,IF(AND($M$9-A21=1,F21-A21=2,C21="VD",J21="LEGER",K21=""),I21*Parametre!$F$9,IF(AND($M$9=A21,F21-A21<=2,J21="LEGER",OR(C21="F",C21="AF"),K21=""),I21*Parametre!$E$10,IF(AND($M$9-A21=1,F21-A21=2,J21="LEGER",OR(C21="F",C21="AF"),K21=""),I21*Parametre!$F$10,IF(AND($M$9=A21,F21-A21<=2,C21="VD",J21="DAUPHIN",K21="MILT_DAUPH"),I21*Parametre!$E$11,IF(AND($M$9-A21=1,F21-A21=2,C21="VD",J21="DAUPHIN",K21="MILT_DAUPH"),I21*Parametre!$F$11,IF(AND($M$9=A21,F21-A21<=2,C21="VD",J21="LEGER",K21="MILIT_LH"),I21*Parametre!$E$13,""))))))))))) | Q21: =IF(R21<>"",G21,"") | R21: =IF(AND($M$9=F21,F21=A21+1),I21,IF(AND($M$9=F21,F21-A21),I21,"")) | S21: =IF(AND($M$9=A21,F21-A21<=2,C21="VD",J21="DAUPHIN",K21=""),I21*Parametre!$E$7,IF(AND($M$9-A21=1,F21-A21=2,C21="VD",J21="DAUPHIN",K21=""),I21*Parametre!$F$7,IF(AND($M$9=A21,F21-A21<=2,J21="DAUPHIN",OR(C21="F",C21="AF"),K21=""),I21*Parametre!$E$8,IF(AND($M$9-A21=1,F21-A21=2,J21="DAUPHIN",OR(C21="F",C21="AF"),K21=""),I21*Parametre!$F$8,IF(AND($M$9=A21,F21-A21<=2,C21="VD",J21="LEGER",K21=""),I21*Parametre!$E$9,IF(AND($M$9-A21=1,F21-A21=2,C21="VD",J21="LEGER",K21=""),I21*Parametre!$F$9,IF(AND($M$9=A21,F21-A21<=2,J21="LEGER",OR(C21="F",C21="AF"),K21=""),I21*Parametre!$E$10,IF(AND($M$9-A21=1,F21-A21=2,J21="LEGER",OR(C21="F",C21="AF"),K21=""),I21*Parametre!$F$10,IF(AND($M$9=A21,F21-A21<=2,C21="VD",J21="DAUPHIN",K21="MILT_DAUPH"),I21*Parametre!$E$11,IF(AND($M$9-A21=1,F21-A21=2,C21="VD",J21="DAUPHIN",K21="MILT_DAUPH"),I21*Parametre!$F$11,IF(AND($M$9=A21,F21-A21<=2,C21="VD",J21="LEGER",K21="MILIT_LH"),I21*Parametre!$E$13,""))))))))))) | U21: =IF(V21<>"",G21,"") | V21: =IF(AND($M$9=F21,F21=A21+1),I21,IF(AND($M$9=F21,F21-A21),I21,"")) | W21: =IF(AND($M$9=A21,F21-A21<=2,C21="VD",J21="DAUPHIN",K21=""),I21*Parametre!$E$7,IF(AND($M$9-A21=1,F21-A21=2,C21="VD",J21="DAUPHIN",K21=""),I21*Parametre!$F$7,IF(AND($M$9=A21,F21-A21<=2,J21="DAUPHIN",OR(C21="F",C21="AF"),K21=""),I21*Parametre!$E$8,IF(AND($M$9-A21=1,F21-A21=2,J21="DAUPHIN",OR(C21="F",C21="AF"),K21=""),I21*Parametre!$F$8,IF(AND($M$9=A21,F21-A21<=2,C21="VD",J21="LEGER",K21=""),I21*Parametre!$E$9,IF(AND($M$9-A21=1,F21-A21=2,C21="VD",J21="LEGER",K21=""),I21*Parametre!$F$9,IF(AND($M$9=A21,F21-A21<=2,J21="LEGER",OR(C21="F",C21="AF"),K21=""),I21*Parametre!$E$10,IF(AND($M$9-A21=1,F21-A21=2,J21="LEGER",OR(C21="F",C21="AF"),K21=""),I21*Parametre!$F$10,IF(AND($M$9=A21,F21-A21<=2,C21="VD",J21="DAUPHIN",K21="MILT_DAUPH"),I21*Parametre!$E$11,IF(AND($M$9-A21=1,F21-A21=2,C21="VD",J21="DAUPHIN",K21="MILT_DAUPH"),I21*Parametre!$F$11,IF(AND($M$9=A21,F21-A21<=2,C21="VD",J21="LEGER",K21="MILIT_LH"),I21*Parametre!$E$13,""))))))))))) | Y21: =IF(Z21<>"",G21,"") | Z21: =IF(AND($M$9=F21,F21=A21+1),I21,IF(AND($M$9=F21,F21-A21),I21,"")) | AA21: =IF(AND($M$9=A21,F21-A21<=2,C21="VD",J21="DAUPHIN",K21=""),I21*Parametre!$E$7,IF(AND($M$9-A21=1,F21-A21=2,C21="VD",J21="DAUPHIN",K21=""),I21*Parametre!$F$7,IF(AND($M$9=A21,F21-A21<=2,J21="DAUPHIN",OR(C21="F",C21="AF"),K21=""),I21*Parametre!$E$8,IF(AND($M$9-A21=1,F21-A21=2,J21="DAUPHIN",OR(C21="F",C21="AF"),K21=""),I21*Parametre!$F$8,IF(AND($M$9=A21,F21-A21<=2,C21="VD",J21="LEGER",K21=""),I21*Parametre!$E$9,IF(AND($M$9-A21=1,F21-A21=2,C21="VD",J21="LEGER",K21=""),I21*Parametre!$F$9,IF(AND($M$9=A21,F21-A21<=2,J21="LEGER",OR(C21="F",C21="AF"),K21=""),I21*Parametre!$E$10,IF(AND($M$9-A21=1,F21-A21=2,J21="LEGER",OR(C21="F",C21="AF"),K21=""),I21*Parametre!$F$10,IF(AND($M$9=A21,F21-A21<=2,C21="VD",J21="DAUPHIN",K21="MILT_DAUPH"),I21*Parametre!$E$11,IF(AND($M$9-A21=1,F21-A21=2,C21="VD",J21="DAUPHIN",K21="MILT_DAUPH"),I21*Parametre!$F$11,IF(AND($M$9=A21,F21-A21<=2,C21="VD",J21="LEGER",K21="MILIT_LH"),I21*Parametre!$E$13,""))))))))))) | AC21: =IF(AD21<>"",G21,"") | AD21: =IF(AND($AC$9=F21,F21=A21+1),I21,IF(AND($AC$9=F21,F21-A21>1),I21,"")) | AE21: =IF(AND($AC$9=A21,F21-A21<=2,C21="VD",J21="DAUPHIN",K21=""),I21*Parametre!$E$7,IF(AND($AC$9-A21=1,F21-A21=2,C21="VD",J21="DAUPHIN",K21=""),I21*Parametre!$F$7,IF(AND($AC$9=A21,F21-A21<=2,J21="DAUPHIN",OR(C21="F",C21="AF"),K21=""),I21*Parametre!$E$8,IF(AND($AC$9-A21=1,F21-A21=2,J21="DAUPHIN",OR(C21="F",C21="AF"),K21=""),I21*Parametre!$F$8,IF(AND($AC$9=A21,F21-A21<=2,C21="VD",J21="LEGER",K21=""),I21*Parametre!$E$9,IF(AND($AC$9-A21=1,F21-A21=2,C21="VD",J21="LEGER",K21=""),I21*Parametre!$F$9,IF(AND($AC$9=A21,F21-A21<=2,J21="LEGER",OR(C21="F",C21="AF"),K21=""),I21*Parametre!$E$10,IF(AND($AC$9-A21=1,F21-A21=2,J21="LEGER",OR(C21="F",C21="AF"),K21=""),I21*Parametre!$F$10,IF(AND($AC$9=A21,F21-A21<=2,C21="VD",J21="DAUPHIN",K21="MILT_DAUPH"),I21*Parametre!$E$11,IF(AND($AC$9-A21=1,F21-A21=2,C21="VD",J21="DAUPHIN",K21="MILT_DAUPH"),I21*Parametre!$F$11,IF(AND($AC$9=A21,F21-A21<=2,C21="VD",J21="LEGER",K21="MILIT_LH"),I21*Parametre!$E$13,""))))))))))) | AG21: =IF(AD21<>"",G21,"") | AH21: =IF(AND($AC$9=F21,F21=A21+1),I21,IF(AND($AC$9=F21,F21-A21),I21,"")) | AI21: =IF(AND($AC$9=A21,F21-A21<=2,C21="VD",J21="DAUPHIN",K21=""),I21*Parametre!$E$7,IF(AND($AC$9-A21=1,F21-A21=2,C21="VD",J21="DAUPHIN",K21=""),I21*Parametre!$F$7,IF(AND($AC$9=A21,F21-A21<=2,J21="DAUPHIN",OR(C21="F",C21="AF"),K21=""),I21*Parametre!$E$8,IF(AND($AC$9-A21=1,F21-A21=2,J21="DAUPHIN",OR(C21="F",C21="AF"),K21=""),I21*Parametre!$F$8,IF(AND($AC$9=A21,F21-A21<=2,C21="VD",J21="LEGER",K21=""),I21*Parametre!$E$9,IF(AND($AC$9-A21=1,F21-A21=2,C21="VD",J21="LEGER",K21=""),I21*Parametre!$F$9,IF(AND($AC$9=A21,F21-A21<=2,J21="LEGER",OR(C21="F",C21="AF"),K21=""),I21*Parametre!$E$10,IF(AND($AC$9-A21=1,F21-A21=2,J21="LEGER",OR(C21="F",C21="AF"),K21=""),I21*Parametre!$F$10,IF(AND($AC$9=A21,F21-A21<=2,C21="VD",J21="DAUPHIN",K21="MILT_DAUPH"),I21*Parametre!$E$11,IF(AND($AC$9-A21=1,F21-A21=2,C21="VD",J21="DAUPHIN",K21="MILT_DAUPH"),I21*Parametre!$F$11,IF(AND($AC$9=A21,F21-A21<=2,C21="VD",J21="LEGER",K21="MILIT_LH"),I21*Parametre!$E$13,""))))))))))) | AK21: =IF(AD21<>"",G21,"") | AL21: =IF(AND($AC$9=F21,F21=A21+1),I21,IF(AND($AC$9=F21,F21-A21),I21,"")) | AM21: =IF(AND($AC$9=A21,F21-A21<=2,C21="VD",J21="DAUPHIN",K21=""),I21*Parametre!$E$7,IF(AND($AC$9-A21=1,F21-A21=2,C21="VD",J21="DAUPHIN",K21=""),I21*Parametre!$F$7,IF(AND($AC$9=A21,F21-A21<=2,J21="DAUPHIN",OR(C21="F",C21="AF"),K21=""),I21*Parametre!$E$8,IF(AND($AC$9-A21=1,F21-A21=2,J21="DAUPHIN",OR(C21="F",C21="AF"),K21=""),I21*Parametre!$F$8,IF(AND($AC$9=A21,F21-A21<=2,C21="VD",J21="LEGER",K21=""),I21*Parametre!$E$9,IF(AND($AC$9-A21=1,F21-A21=2,C21="VD",J21="LEGER",K21=""),I21*Parametre!$F$9,IF(AND($AC$9=A21,F21-A21<=2,J21="LEGER",OR(C21="F",C21="AF"),K21=""),I21*Parametre!$E$10,IF(AND($AC$9-A21=1,F21-A21=2,J21="LEGER",OR(C21="F",C21="AF"),K21=""),I21*Parametre!$F$10,IF(AND($AC$9=A21,F21-A21<=2,C21="VD",J21="DAUPHIN",K21="MILT_DAUPH"),I21*Parametre!$E$11,IF(AND($AC$9-A21=1,F21-A21=2,C21="VD",J21="DAUPHIN",K21="MILT_DAUPH"),I21*Parametre!$F$11,IF(AND($AC$9=A21,F21-A21<=2,C21="VD",J21="LEGER",K21="MILIT_LH"),I21*Parametre!$E$13,""))))))))))) | AO21: =IF(AD21<>"",G21,"") | AP21: =IF(AND($AC$9=F21,F21=A21+1),I21,IF(AND($AC$9=F21,F21-A21),I21,"")) | AQ21: =IF(AND($AC$9=A21,F21-A21<=2,C21="VD",J21="DAUPHIN",K21=""),I21*Parametre!$E$7,IF(AND($AC$9-A21=1,F21-A21=2,C21="VD",J21="DAUPHIN",K21=""),I21*Parametre!$F$7,IF(AND($AC$9=A21,F21-A21<=2,J21="DAUPHIN",OR(C21="F",C21="AF"),K21=""),I21*Parametre!$E$8,IF(AND($AC$9-A21=1,F21-A21=2,J21="DAUPHIN",OR(C21="F",C21="AF"),K21=""),I21*Parametre!$F$8,IF(AND($AC$9=A21,F21-A21<=2,C21="VD",J21="LEGER",K21=""),I21*Parametre!$E$9,IF(AND($AC$9-A21=1,F21-A21=2,C21="VD",J21="LEGER",K21=""),I21*Parametre!$F$9,IF(AND($AC$9=A21,F21-A21<=2,J21="LEGER",OR(C21="F",C21="AF"),K21=""),I21*Parametre!$E$10,IF(AND($AC$9-A21=1,F21-A21=2,J21="LEGER",OR(C21="F",C21="AF"),K21=""),I21*Parametre!$F$10,IF(AND($AC$9=A21,F21-A21<=2,C21="VD",J21="DAUPHIN",K21="MILT_DAUPH"),I21*Parametre!$E$11,IF(AND($AC$9-A21=1,F21-A21=2,C21="VD",J21="DAUPHIN",K21="MILT_DAUPH"),I21*Parametre!$F$11,IF(AND($AC$9=A21,F21-A21<=2,C21="VD",J21="LEGER",K21="MILIT_LH"),I21*Parametre!$E$13,""))))))))))) | AS21: =IF(AT21<>"",G21,"") | AT21: =IF(AND($AS$9=F21,F21=A21+1),I21,IF(AND($AS$9=F21,F21-A21),I21,"")) | AU21: =IF(AND($AS$9=A21,F21-A21<=2,C21="VD",J21="DAUPHIN",K21=""),I21*Parametre!$E$7,IF(AND($AS$9-A21=1,F21-A21=2,C21="VD",J21="DAUPHIN",K21=""),I21*Parametre!$F$7,IF(AND($AS$9=A21,F21-A21<=2,J21="DAUPHIN",OR(C21="F",C21="AF"),K21=""),I21*Parametre!$E$8,IF(AND($AS$9-A21=1,F21-A21=2,J21="DAUPHIN",OR(C21="F",C21="AF"),K21=""),I21*Parametre!$F$8,IF(AND($AS$9=A21,F21-A21<=2,C21="VD",J21="LEGER",K21=""),I21*Parametre!$E$9,IF(AND($AS$9-A21=1,F21-A21=2,C21="VD",J21="LEGER",K21=""),I21*Parametre!$F$9,IF(AND($AS$9=A21,F21-A21<=2,J21="LEGER",OR(C21="F",C21="AF"),K21=""),I21*Parametre!$E$10,IF(AND($AS$9-A21=1,F21-A21=2,J21="LEGER",OR(C21="F",C21="AF"),K21=""),I21*Parametre!$F$10,IF(AND($AS$9=A21,F21-A21<=2,C21="VD",J21="DAUPHIN",K21="MILT_DAUPH"),I21*Parametre!$E$11,IF(AND($AS$9-A21=1,F21-A21=2,C21="VD",J21="DAUPHIN",K21="MILT_DAUPH"),I21*Parametre!$F$11,IF(AND($AS$9=A21,F21-A21<=2,C21="VD",J21="LEGER",K21="MILIT_LH"),I21*Parametre!$E$13,""))))))))))) | AW21: =IF(AX21<>"",G21,"") | AX21: =IF(AND($AS$9=F21,F21=A21+1),I21,IF(AND($AS$9=F21,F21-A21),I21,"")) | AY21: =IF(AND($AS$9=A21,F21-A21<=2,C21="VD",J21="DAUPHIN",K21=""),I21*Parametre!$E$7,IF(AND($AS$9-A21=1,F21-A21=2,C21="VD",J21="DAUPHIN",K21=""),I21*Parametre!$F$7,IF(AND($AS$9=A21,F21-A21<=2,J21="DAUPHIN",OR(C21="F",C21="AF"),K21=""),I21*Parametre!$E$8,IF(AND($AS$9-A21=1,F21-A21=2,J21="DAUPHIN",OR(C21="F",C21="AF"),K21=""),I21*Parametre!$F$8,IF(AND($AS$9=A21,F21-A21<=2,C21="VD",J21="LEGER",K21=""),I21*Parametre!$E$9,IF(AND($AS$9-A21=1,F21-A21=2,C21="VD",J21="LEGER",K21=""),I21*Parametre!$F$9,IF(AND($AS$9=A21,F21-A21<=2,J21="LEGER",OR(C21="F",C21="AF"),K21=""),I21*Parametre!$E$10,IF(AND($AS$9-A21=1,F21-A21=2,J21="LEGER",OR(C21="F",C21="AF"),K21=""),I21*Parametre!$F$10,IF(AND($AS$9=A21,F21-A21<=2,C21="VD",J21="DAUPHIN",K21="MILT_DAUPH"),I21*Parametre!$E$11,IF(AND($AS$9-A21=1,F21-A21=2,C21="VD",J21="DAUPHIN",K21="MILT_DAUPH"),I21*Parametre!$F$11,IF(AND($AS$9=A21,F21-A21<=2,C21="VD",J21="LEGER",K21="MILIT_LH"),I21*Parametre!$E$13,""))))))))))) | BA21: =IF(BB21<>"",G21,"") | BB21: =IF(AND($AS$9=F21,F21=A21+1),I21,IF(AND($AS$9=F21,F21-A21),I21,"")) | BC21: =IF(AND($AS$9=A21,F21-A21<=2,C21="VD",J21="DAUPHIN",K21=""),I21*Parametre!$E$7,IF(AND($AS$9-A21=1,F21-A21=2,C21="VD",J21="DAUPHIN",K21=""),I21*Parametre!$F$7,IF(AND($AS$9=A21,F21-A21<=2,J21="DAUPHIN",OR(C21="F",C21="AF"),K21=""),I21*Parametre!$E$8,IF(AND($AS$9-A21=1,F21-A21=2,J21="DAUPHIN",OR(C21="F",C21="AF"),K21=""),I21*Parametre!$F$8,IF(AND($AS$9=A21,F21-A21<=2,C21="VD",J21="LEGER",K21=""),I21*Parametre!$E$9,IF(AND($AS$9-A21=1,F21-A21=2,C21="VD",J21="LEGER",K21=""),I21*Parametre!$F$9,IF(AND($AS$9=A21,F21-A21<=2,J21="LEGER",OR(C21="F",C21="AF"),K21=""),I21*Parametre!$E$10,IF(AND($AS$9-A21=1,F21-A21=2,J21="LEGER",OR(C21="F",C21="AF"),K21=""),I21*Parametre!$F$10,IF(AND($AS$9=A21,F21-A21<=2,C21="VD",J21="DAUPHIN",K21="MILT_DAUPH"),I21*Parametre!$E$11,IF(AND($AS$9-A21=1,F21-A21=2,C21="VD",J21="DAUPHIN",K21="MILT_DAUPH"),I21*Parametre!$F$11,IF(AND($AS$9=A21,F21-A21<=2,C21="VD",J21="LEGER",K21="MILIT_LH"),I21*Parametre!$E$13,""))))))))))) | BE21: =IF(BF21<>"",G21,"") | BF21: =IF(AND($AS$9=F21,F21=A21+1),I21,IF(AND($AS$9=F21,F21-A21),I21,"")) | BG21: =IF(AND($AS$9=A21,F21-A21<=2,C21="VD",J21="DAUPHIN",K21=""),I21*Parametre!$E$7,IF(AND($AS$9-A21=1,F21-A21=2,C21="VD",J21="DAUPHIN",K21=""),I21*Parametre!$F$7,IF(AND($AS$9=A21,F21-A21<=2,J21="DAUPHIN",OR(C21="F",C21="AF"),K21=""),I21*Parametre!$E$8,IF(AND($AS$9-A21=1,F21-A21=2,J21="DAUPHIN",OR(C21="F",C21="AF"),K21=""),I21*Parametre!$F$8,IF(AND($AS$9=A21,F21-A21<=2,C21="VD",J21="LEGER",K21=""),I21*Parametre!$E$9,IF(AND($AS$9-A21=1,F21-A21=2,C21="VD",J21="LEGER",K21=""),I21*Parametre!$F$9,IF(AND($AS$9=A21,F21-A21<=2,J21="LEGER",OR(C21="F",C21="AF"),K21=""),I21*Parametre!$E$10,IF(AND($AS$9-A21=1,F21-A21=2,J21="LEGER",OR(C21="F",C21="AF"),K21=""),I21*Parametre!$F$10,IF(AND($AS$9=A21,F21-A21<=2,C21="VD",J21="DAUPHIN",K21="MILT_DAUPH"),I21*Parametre!$E$11,IF(AND($AS$9-A21=1,F21-A21=2,C21="VD",J21="DAUPHIN",K21="MILT_DAUPH"),I21*Parametre!$F$11,IF(AND($AS$9=A21,F21-A21<=2,C21="VD",J21="LEGER",K21="MILIT_LH"),I21*Parametre!$E$13,"")))))))))))
E22: NC | I22: =H22*G22 -> 0 | M22: =IF(N22<>"",G22,"") | N22: =IF(AND($M$9=F22,F22=A22+1),I22,IF(AND($M$9=F22,F22-A22>1),I22,"")) | O22: =IF(AND($M$9=A22,F22-A22<=2,C22="VD",J22="DAUPHIN",K22=""),I22*Parametre!$E$7,IF(AND($M$9-A22=1,F22-A22=2,C22="VD",J22="DAUPHIN",K22=""),I22*Parametre!$F$7,IF(AND($M$9=A22,F22-A22<=2,J22="DAUPHIN",OR(C22="F",C22="AF"),K22=""),I22*Parametre!$E$8,IF(AND($M$9-A22=1,F22-A22=2,J22="DAUPHIN",OR(C22="F",C22="AF"),K22=""),I22*Parametre!$F$8,IF(AND($M$9=A22,F22-A22<=2,C22="VD",J22="LEGER",K22=""),I22*Parametre!$E$9,IF(AND($M$9-A22=1,F22-A22=2,C22="VD",J22="LEGER",K22=""),I22*Parametre!$F$9,IF(AND($M$9=A22,F22-A22<=2,J22="LEGER",OR(C22="F",C22="AF"),K22=""),I22*Parametre!$E$10,IF(AND($M$9-A22=1,F22-A22=2,J22="LEGER",OR(C22="F",C22="AF"),K22=""),I22*Parametre!$F$10,IF(AND($M$9=A22,F22-A22<=2,C22="VD",J22="DAUPHIN",K22="MILT_DAUPH"),I22*Parametre!$E$11,IF(AND($M$9-A22=1,F22-A22=2,C22="VD",J22="DAUPHIN",K22="MILT_DAUPH"),I22*Parametre!$F$11,IF(AND($M$9=A22,F22-A22<=2,C22="VD",J22="LEGER",K22="MILIT_LH"),I22*Parametre!$E$13,""))))))))))) | Q22: =IF(R22<>"",G22,"") | R22: =IF(AND($M$9=F22,F22=A22+1),I22,IF(AND($M$9=F22,F22-A22),I22,"")) | S22: =IF(AND($M$9=A22,F22-A22<=2,C22="VD",J22="DAUPHIN",K22=""),I22*Parametre!$E$7,IF(AND($M$9-A22=1,F22-A22=2,C22="VD",J22="DAUPHIN",K22=""),I22*Parametre!$F$7,IF(AND($M$9=A22,F22-A22<=2,J22="DAUPHIN",OR(C22="F",C22="AF"),K22=""),I22*Parametre!$E$8,IF(AND($M$9-A22=1,F22-A22=2,J22="DAUPHIN",OR(C22="F",C22="AF"),K22=""),I22*Parametre!$F$8,IF(AND($M$9=A22,F22-A22<=2,C22="VD",J22="LEGER",K22=""),I22*Parametre!$E$9,IF(AND($M$9-A22=1,F22-A22=2,C22="VD",J22="LEGER",K22=""),I22*Parametre!$F$9,IF(AND($M$9=A22,F22-A22<=2,J22="LEGER",OR(C22="F",C22="AF"),K22=""),I22*Parametre!$E$10,IF(AND($M$9-A22=1,F22-A22=2,J22="LEGER",OR(C22="F",C22="AF"),K22=""),I22*Parametre!$F$10,IF(AND($M$9=A22,F22-A22<=2,C22="VD",J22="DAUPHIN",K22="MILT_DAUPH"),I22*Parametre!$E$11,IF(AND($M$9-A22=1,F22-A22=2,C22="VD",J22="DAUPHIN",K22="MILT_DAUPH"),I22*Parametre!$F$11,IF(AND($M$9=A22,F22-A22<=2,C22="VD",J22="LEGER",K22="MILIT_LH"),I22*Parametre!$E$13,""))))))))))) | U22: =IF(V22<>"",G22,"") | V22: =IF(AND($M$9=F22,F22=A22+1),I22,IF(AND($M$9=F22,F22-A22),I22,"")) | W22: =IF(AND($M$9=A22,F22-A22<=2,C22="VD",J22="DAUPHIN",K22=""),I22*Parametre!$E$7,IF(AND($M$9-A22=1,F22-A22=2,C22="VD",J22="DAUPHIN",K22=""),I22*Parametre!$F$7,IF(AND($M$9=A22,F22-A22<=2,J22="DAUPHIN",OR(C22="F",C22="AF"),K22=""),I22*Parametre!$E$8,IF(AND($M$9-A22=1,F22-A22=2,J22="DAUPHIN",OR(C22="F",C22="AF"),K22=""),I22*Parametre!$F$8,IF(AND($M$9=A22,F22-A22<=2,C22="VD",J22="LEGER",K22=""),I22*Parametre!$E$9,IF(AND($M$9-A22=1,F22-A22=2,C22="VD",J22="LEGER",K22=""),I22*Parametre!$F$9,IF(AND($M$9=A22,F22-A22<=2,J22="LEGER",OR(C22="F",C22="AF"),K22=""),I22*Parametre!$E$10,IF(AND($M$9-A22=1,F22-A22=2,J22="LEGER",OR(C22="F",C22="AF"),K22=""),I22*Parametre!$F$10,IF(AND($M$9=A22,F22-A22<=2,C22="VD",J22="DAUPHIN",K22="MILT_DAUPH"),I22*Parametre!$E$11,IF(AND($M$9-A22=1,F22-A22=2,C22="VD",J22="DAUPHIN",K22="MILT_DAUPH"),I22*Parametre!$F$11,IF(AND($M$9=A22,F22-A22<=2,C22="VD",J22="LEGER",K22="MILIT_LH"),I22*Parametre!$E$13,""))))))))))) | Y22: =IF(Z22<>"",G22,"") | Z22: =IF(AND($M$9=F22,F22=A22+1),I22,IF(AND($M$9=F22,F22-A22),I22,"")) | AA22: =IF(AND($M$9=A22,F22-A22<=2,C22="VD",J22="DAUPHIN",K22=""),I22*Parametre!$E$7,IF(AND($M$9-A22=1,F22-A22=2,C22="VD",J22="DAUPHIN",K22=""),I22*Parametre!$F$7,IF(AND($M$9=A22,F22-A22<=2,J22="DAUPHIN",OR(C22="F",C22="AF"),K22=""),I22*Parametre!$E$8,IF(AND($M$9-A22=1,F22-A22=2,J22="DAUPHIN",OR(C22="F",C22="AF"),K22=""),I22*Parametre!$F$8,IF(AND($M$9=A22,F22-A22<=2,C22="VD",J22="LEGER",K22=""),I22*Parametre!$E$9,IF(AND($M$9-A22=1,F22-A22=2,C22="VD",J22="LEGER",K22=""),I22*Parametre!$F$9,IF(AND($M$9=A22,F22-A22<=2,J22="LEGER",OR(C22="F",C22="AF"),K22=""),I22*Parametre!$E$10,IF(AND($M$9-A22=1,F22-A22=2,J22="LEGER",OR(C22="F",C22="AF"),K22=""),I22*Parametre!$F$10,IF(AND($M$9=A22,F22-A22<=2,C22="VD",J22="DAUPHIN",K22="MILT_DAUPH"),I22*Parametre!$E$11,IF(AND($M$9-A22=1,F22-A22=2,C22="VD",J22="DAUPHIN",K22="MILT_DAUPH"),I22*Parametre!$F$11,IF(AND($M$9=A22,F22-A22<=2,C22="VD",J22="LEGER",K22="MILIT_LH"),I22*Parametre!$E$13,""))))))))))) | AC22: =IF(AD22<>"",G22,"") | AD22: =IF(AND($AC$9=F22,F22=A22+1),I22,IF(AND($AC$9=F22,F22-A22>1),I22,"")) | AE22: =IF(AND($AC$9=A22,F22-A22<=2,C22="VD",J22="DAUPHIN",K22=""),I22*Parametre!$E$7,IF(AND($AC$9-A22=1,F22-A22=2,C22="VD",J22="DAUPHIN",K22=""),I22*Parametre!$F$7,IF(AND($AC$9=A22,F22-A22<=2,J22="DAUPHIN",OR(C22="F",C22="AF"),K22=""),I22*Parametre!$E$8,IF(AND($AC$9-A22=1,F22-A22=2,J22="DAUPHIN",OR(C22="F",C22="AF"),K22=""),I22*Parametre!$F$8,IF(AND($AC$9=A22,F22-A22<=2,C22="VD",J22="LEGER",K22=""),I22*Parametre!$E$9,IF(AND($AC$9-A22=1,F22-A22=2,C22="VD",J22="LEGER",K22=""),I22*Parametre!$F$9,IF(AND($AC$9=A22,F22-A22<=2,J22="LEGER",OR(C22="F",C22="AF"),K22=""),I22*Parametre!$E$10,IF(AND($AC$9-A22=1,F22-A22=2,J22="LEGER",OR(C22="F",C22="AF"),K22=""),I22*Parametre!$F$10,IF(AND($AC$9=A22,F22-A22<=2,C22="VD",J22="DAUPHIN",K22="MILT_DAUPH"),I22*Parametre!$E$11,IF(AND($AC$9-A22=1,F22-A22=2,C22="VD",J22="DAUPHIN",K22="MILT_DAUPH"),I22*Parametre!$F$11,IF(AND($AC$9=A22,F22-A22<=2,C22="VD",J22="LEGER",K22="MILIT_LH"),I22*Parametre!$E$13,""))))))))))) | AG22: =IF(AD22<>"",G22,"") | AH22: =IF(AND($AC$9=F22,F22=A22+1),I22,IF(AND($AC$9=F22,F22-A22),I22,"")) | AI22: =IF(AND($AC$9=A22,F22-A22<=2,C22="VD",J22="DAUPHIN",K22=""),I22*Parametre!$E$7,IF(AND($AC$9-A22=1,F22-A22=2,C22="VD",J22="DAUPHIN",K22=""),I22*Parametre!$F$7,IF(AND($AC$9=A22,F22-A22<=2,J22="DAUPHIN",OR(C22="F",C22="AF"),K22=""),I22*Parametre!$E$8,IF(AND($AC$9-A22=1,F22-A22=2,J22="DAUPHIN",OR(C22="F",C22="AF"),K22=""),I22*Parametre!$F$8,IF(AND($AC$9=A22,F22-A22<=2,C22="VD",J22="LEGER",K22=""),I22*Parametre!$E$9,IF(AND($AC$9-A22=1,F22-A22=2,C22="VD",J22="LEGER",K22=""),I22*Parametre!$F$9,IF(AND($AC$9=A22,F22-A22<=2,J22="LEGER",OR(C22="F",C22="AF"),K22=""),I22*Parametre!$E$10,IF(AND($AC$9-A22=1,F22-A22=2,J22="LEGER",OR(C22="F",C22="AF"),K22=""),I22*Parametre!$F$10,IF(AND($AC$9=A22,F22-A22<=2,C22="VD",J22="DAUPHIN",K22="MILT_DAUPH"),I22*Parametre!$E$11,IF(AND($AC$9-A22=1,F22-A22=2,C22="VD",J22="DAUPHIN",K22="MILT_DAUPH"),I22*Parametre!$F$11,IF(AND($AC$9=A22,F22-A22<=2,C22="VD",J22="LEGER",K22="MILIT_LH"),I22*Parametre!$E$13,""))))))))))) | AK22: =IF(AD22<>"",G22,"") | AL22: =IF(AND($AC$9=F22,F22=A22+1),I22,IF(AND($AC$9=F22,F22-A22),I22,"")) | AM22: =IF(AND($AC$9=A22,F22-A22<=2,C22="VD",J22="DAUPHIN",K22=""),I22*Parametre!$E$7,IF(AND($AC$9-A22=1,F22-A22=2,C22="VD",J22="DAUPHIN",K22=""),I22*Parametre!$F$7,IF(AND($AC$9=A22,F22-A22<=2,J22="DAUPHIN",OR(C22="F",C22="AF"),K22=""),I22*Parametre!$E$8,IF(AND($AC$9-A22=1,F22-A22=2,J22="DAUPHIN",OR(C22="F",C22="AF"),K22=""),I22*Parametre!$F$8,IF(AND($AC$9=A22,F22-A22<=2,C22="VD",J22="LEGER",K22=""),I22*Parametre!$E$9,IF(AND($AC$9-A22=1,F22-A22=2,C22="VD",J22="LEGER",K22=""),I22*Parametre!$F$9,IF(AND($AC$9=A22,F22-A22<=2,J22="LEGER",OR(C22="F",C22="AF"),K22=""),I22*Parametre!$E$10,IF(AND($AC$9-A22=1,F22-A22=2,J22="LEGER",OR(C22="F",C22="AF"),K22=""),I22*Parametre!$F$10,IF(AND($AC$9=A22,F22-A22<=2,C22="VD",J22="DAUPHIN",K22="MILT_DAUPH"),I22*Parametre!$E$11,IF(AND($AC$9-A22=1,F22-A22=2,C22="VD",J22="DAUPHIN",K22="MILT_DAUPH"),I22*Parametre!$F$11,IF(AND($AC$9=A22,F22-A22<=2,C22="VD",J22="LEGER",K22="MILIT_LH"),I22*Parametre!$E$13,""))))))))))) | AO22: =IF(AD22<>"",G22,"") | AP22: =IF(AND($AC$9=F22,F22=A22+1),I22,IF(AND($AC$9=F22,F22-A22),I22,"")) | AQ22: =IF(AND($AC$9=A22,F22-A22<=2,C22="VD",J22="DAUPHIN",K22=""),I22*Parametre!$E$7,IF(AND($AC$9-A22=1,F22-A22=2,C22="VD",J22="DAUPHIN",K22=""),I22*Parametre!$F$7,IF(AND($AC$9=A22,F22-A22<=2,J22="DAUPHIN",OR(C22="F",C22="AF"),K22=""),I22*Parametre!$E$8,IF(AND($AC$9-A22=1,F22-A22=2,J22="DAUPHIN",OR(C22="F",C22="AF"),K22=""),I22*Parametre!$F$8,IF(AND($AC$9=A22,F22-A22<=2,C22="VD",J22="LEGER",K22=""),I22*Parametre!$E$9,IF(AND($AC$9-A22=1,F22-A22=2,C22="VD",J22="LEGER",K22=""),I22*Parametre!$F$9,IF(AND($AC$9=A22,F22-A22<=2,J22="LEGER",OR(C22="F",C22="AF"),K22=""),I22*Parametre!$E$10,IF(AND($AC$9-A22=1,F22-A22=2,J22="LEGER",OR(C22="F",C22="AF"),K22=""),I22*Parametre!$F$10,IF(AND($AC$9=A22,F22-A22<=2,C22="VD",J22="DAUPHIN",K22="MILT_DAUPH"),I22*Parametre!$E$11,IF(AND($AC$9-A22=1,F22-A22=2,C22="VD",J22="DAUPHIN",K22="MILT_DAUPH"),I22*Parametre!$F$11,IF(AND($AC$9=A22,F22-A22<=2,C22="VD",J22="LEGER",K22="MILIT_LH"),I22*Parametre!$E$13,""))))))))))) | AS22: =IF(AT22<>"",G22,"") | AT22: =IF(AND($AS$9=F22,F22=A22+1),I22,IF(AND($AS$9=F22,F22-A22),I22,"")) | AU22: =IF(AND($AS$9=A22,F22-A22<=2,C22="VD",J22="DAUPHIN",K22=""),I22*Parametre!$E$7,IF(AND($AS$9-A22=1,F22-A22=2,C22="VD",J22="DAUPHIN",K22=""),I22*Parametre!$F$7,IF(AND($AS$9=A22,F22-A22<=2,J22="DAUPHIN",OR(C22="F",C22="AF"),K22=""),I22*Parametre!$E$8,IF(AND($AS$9-A22=1,F22-A22=2,J22="DAUPHIN",OR(C22="F",C22="AF"),K22=""),I22*Parametre!$F$8,IF(AND($AS$9=A22,F22-A22<=2,C22="VD",J22="LEGER",K22=""),I22*Parametre!$E$9,IF(AND($AS$9-A22=1,F22-A22=2,C22="VD",J22="LEGER",K22=""),I22*Parametre!$F$9,IF(AND($AS$9=A22,F22-A22<=2,J22="LEGER",OR(C22="F",C22="AF"),K22=""),I22*Parametre!$E$10,IF(AND($AS$9-A22=1,F22-A22=2,J22="LEGER",OR(C22="F",C22="AF"),K22=""),I22*Parametre!$F$10,IF(AND($AS$9=A22,F22-A22<=2,C22="VD",J22="DAUPHIN",K22="MILT_DAUPH"),I22*Parametre!$E$11,IF(AND($AS$9-A22=1,F22-A22=2,C22="VD",J22="DAUPHIN",K22="MILT_DAUPH"),I22*Parametre!$F$11,IF(AND($AS$9=A22,F22-A22<=2,C22="VD",J22="LEGER",K22="MILIT_LH"),I22*Parametre!$E$13,""))))))))))) | AW22: =IF(AX22<>"",G22,"") | AX22: =IF(AND($AS$9=F22,F22=A22+1),I22,IF(AND($AS$9=F22,F22-A22),I22,"")) | AY22: =IF(AND($AS$9=A22,F22-A22<=2,C22="VD",J22="DAUPHIN",K22=""),I22*Parametre!$E$7,IF(AND($AS$9-A22=1,F22-A22=2,C22="VD",J22="DAUPHIN",K22=""),I22*Parametre!$F$7,IF(AND($AS$9=A22,F22-A22<=2,J22="DAUPHIN",OR(C22="F",C22="AF"),K22=""),I22*Parametre!$E$8,IF(AND($AS$9-A22=1,F22-A22=2,J22="DAUPHIN",OR(C22="F",C22="AF"),K22=""),I22*Parametre!$F$8,IF(AND($AS$9=A22,F22-A22<=2,C22="VD",J22="LEGER",K22=""),I22*Parametre!$E$9,IF(AND($AS$9-A22=1,F22-A22=2,C22="VD",J22="LEGER",K22=""),I22*Parametre!$F$9,IF(AND($AS$9=A22,F22-A22<=2,J22="LEGER",OR(C22="F",C22="AF"),K22=""),I22*Parametre!$E$10,IF(AND($AS$9-A22=1,F22-A22=2,J22="LEGER",OR(C22="F",C22="AF"),K22=""),I22*Parametre!$F$10,IF(AND($AS$9=A22,F22-A22<=2,C22="VD",J22="DAUPHIN",K22="MILT_DAUPH"),I22*Parametre!$E$11,IF(AND($AS$9-A22=1,F22-A22=2,C22="VD",J22="DAUPHIN",K22="MILT_DAUPH"),I22*Parametre!$F$11,IF(AND($AS$9=A22,F22-A22<=2,C22="VD",J22="LEGER",K22="MILIT_LH"),I22*Parametre!$E$13,""))))))))))) | BA22: =IF(BB22<>"",G22,"") | BB22: =IF(AND($AS$9=F22,F22=A22+1),I22,IF(AND($AS$9=F22,F22-A22),I22,"")) | BC22: =IF(AND($AS$9=A22,F22-A22<=2,C22="VD",J22="DAUPHIN",K22=""),I22*Parametre!$E$7,IF(AND($AS$9-A22=1,F22-A22=2,C22="VD",J22="DAUPHIN",K22=""),I22*Parametre!$F$7,IF(AND($AS$9=A22,F22-A22<=2,J22="DAUPHIN",OR(C22="F",C22="AF"),K22=""),I22*Parametre!$E$8,IF(AND($AS$9-A22=1,F22-A22=2,J22="DAUPHIN",OR(C22="F",C22="AF"),K22=""),I22*Parametre!$F$8,IF(AND($AS$9=A22,F22-A22<=2,C22="VD",J22="LEGER",K22=""),I22*Parametre!$E$9,IF(AND($AS$9-A22=1,F22-A22=2,C22="VD",J22="LEGER",K22=""),I22*Parametre!$F$9,IF(AND($AS$9=A22,F22-A22<=2,J22="LEGER",OR(C22="F",C22="AF"),K22=""),I22*Parametre!$E$10,IF(AND($AS$9-A22=1,F22-A22=2,J22="LEGER",OR(C22="F",C22="AF"),K22=""),I22*Parametre!$F$10,IF(AND($AS$9=A22,F22-A22<=2,C22="VD",J22="DAUPHIN",K22="MILT_DAUPH"),I22*Parametre!$E$11,IF(AND($AS$9-A22=1,F22-A22=2,C22="VD",J22="DAUPHIN",K22="MILT_DAUPH"),I22*Parametre!$F$11,IF(AND($AS$9=A22,F22-A22<=2,C22="VD",J22="LEGER",K22="MILIT_LH"),I22*Parametre!$E$13,""))))))))))) | BE22: =IF(BF22<>"",G22,"") | BF22: =IF(AND($AS$9=F22,F22=A22+1),I22,IF(AND($AS$9=F22,F22-A22),I22,"")) | BG22: =IF(AND($AS$9=A22,F22-A22<=2,C22="VD",J22="DAUPHIN",K22=""),I22*Parametre!$E$7,IF(AND($AS$9-A22=1,F22-A22=2,C22="VD",J22="DAUPHIN",K22=""),I22*Parametre!$F$7,IF(AND($AS$9=A22,F22-A22<=2,J22="DAUPHIN",OR(C22="F",C22="AF"),K22=""),I22*Parametre!$E$8,IF(AND($AS$9-A22=1,F22-A22=2,J22="DAUPHIN",OR(C22="F",C22="AF"),K22=""),I22*Parametre!$F$8,IF(AND($AS$9=A22,F22-A22<=2,C22="VD",J22="LEGER",K22=""),I22*Parametre!$E$9,IF(AND($AS$9-A22=1,F22-A22=2,C22="VD",J22="LEGER",K22=""),I22*Parametre!$F$9,IF(AND($AS$9=A22,F22-A22<=2,J22="LEGER",OR(C22="F",C22="AF"),K22=""),I22*Parametre!$E$10,IF(AND($AS$9-A22=1,F22-A22=2,J22="LEGER",OR(C22="F",C22="AF"),K22=""),I22*Parametre!$F$10,IF(AND($AS$9=A22,F22-A22<=2,C22="VD",J22="DAUPHIN",K22="MILT_DAUPH"),I22*Parametre!$E$11,IF(AND($AS$9-A22=1,F22-A22=2,C22="VD",J22="DAUPHIN",K22="MILT_DAUPH"),I22*Parametre!$F$11,IF(AND($AS$9=A22,F22-A22<=2,C22="VD",J22="LEGER",K22="MILIT_LH"),I22*Parametre!$E$13,"")))))))))))
E23: NC | I23: =H23*G23 -> 0 | M23: =IF(N23<>"",G23,"") | N23: =IF(AND($M$9=F23,F23=A23+1),I23,IF(AND($M$9=F23,F23-A23>1),I23,"")) | O23: =IF(AND($M$9=A23,F23-A23<=2,C23="VD",J23="DAUPHIN",K23=""),I23*Parametre!$E$7,IF(AND($M$9-A23=1,F23-A23=2,C23="VD",J23="DAUPHIN",K23=""),I23*Parametre!$F$7,IF(AND($M$9=A23,F23-A23<=2,J23="DAUPHIN",OR(C23="F",C23="AF"),K23=""),I23*Parametre!$E$8,IF(AND($M$9-A23=1,F23-A23=2,J23="DAUPHIN",OR(C23="F",C23="AF"),K23=""),I23*Parametre!$F$8,IF(AND($M$9=A23,F23-A23<=2,C23="VD",J23="LEGER",K23=""),I23*Parametre!$E$9,IF(AND($M$9-A23=1,F23-A23=2,C23="VD",J23="LEGER",K23=""),I23*Parametre!$F$9,IF(AND($M$9=A23,F23-A23<=2,J23="LEGER",OR(C23="F",C23="AF"),K23=""),I23*Parametre!$E$10,IF(AND($M$9-A23=1,F23-A23=2,J23="LEGER",OR(C23="F",C23="AF"),K23=""),I23*Parametre!$F$10,IF(AND($M$9=A23,F23-A23<=2,C23="VD",J23="DAUPHIN",K23="MILT_DAUPH"),I23*Parametre!$E$11,IF(AND($M$9-A23=1,F23-A23=2,C23="VD",J23="DAUPHIN",K23="MILT_DAUPH"),I23*Parametre!$F$11,IF(AND($M$9=A23,F23-A23<=2,C23="VD",J23="LEGER",K23="MILIT_LH"),I23*Parametre!$E$13,""))))))))))) | Q23: =IF(R23<>"",G23,"") | R23: =IF(AND($M$9=F23,F23=A23+1),I23,IF(AND($M$9=F23,F23-A23),I23,"")) | S23: =IF(AND($M$9=A23,F23-A23<=2,C23="VD",J23="DAUPHIN",K23=""),I23*Parametre!$E$7,IF(AND($M$9-A23=1,F23-A23=2,C23="VD",J23="DAUPHIN",K23=""),I23*Parametre!$F$7,IF(AND($M$9=A23,F23-A23<=2,J23="DAUPHIN",OR(C23="F",C23="AF"),K23=""),I23*Parametre!$E$8,IF(AND($M$9-A23=1,F23-A23=2,J23="DAUPHIN",OR(C23="F",C23="AF"),K23=""),I23*Parametre!$F$8,IF(AND($M$9=A23,F23-A23<=2,C23="VD",J23="LEGER",K23=""),I23*Parametre!$E$9,IF(AND($M$9-A23=1,F23-A23=2,C23="VD",J23="LEGER",K23=""),I23*Parametre!$F$9,IF(AND($M$9=A23,F23-A23<=2,J23="LEGER",OR(C23="F",C23="AF"),K23=""),I23*Parametre!$E$10,IF(AND($M$9-A23=1,F23-A23=2,J23="LEGER",OR(C23="F",C23="AF"),K23=""),I23*Parametre!$F$10,IF(AND($M$9=A23,F23-A23<=2,C23="VD",J23="DAUPHIN",K23="MILT_DAUPH"),I23*Parametre!$E$11,IF(AND($M$9-A23=1,F23-A23=2,C23="VD",J23="DAUPHIN",K23="MILT_DAUPH"),I23*Parametre!$F$11,IF(AND($M$9=A23,F23-A23<=2,C23="VD",J23="LEGER",K23="MILIT_LH"),I23*Parametre!$E$13,""))))))))))) | U23: =IF(V23<>"",G23,"") | V23: =IF(AND($M$9=F23,F23=A23+1),I23,IF(AND($M$9=F23,F23-A23),I23,"")) | W23: =IF(AND($M$9=A23,F23-A23<=2,C23="VD",J23="DAUPHIN",K23=""),I23*Parametre!$E$7,IF(AND($M$9-A23=1,F23-A23=2,C23="VD",J23="DAUPHIN",K23=""),I23*Parametre!$F$7,IF(AND($M$9=A23,F23-A23<=2,J23="DAUPHIN",OR(C23="F",C23="AF"),K23=""),I23*Parametre!$E$8,IF(AND($M$9-A23=1,F23-A23=2,J23="DAUPHIN",OR(C23="F",C23="AF"),K23=""),I23*Parametre!$F$8,IF(AND($M$9=A23,F23-A23<=2,C23="VD",J23="LEGER",K23=""),I23*Parametre!$E$9,IF(AND($M$9-A23=1,F23-A23=2,C23="VD",J23="LEGER",K23=""),I23*Parametre!$F$9,IF(AND($M$9=A23,F23-A23<=2,J23="LEGER",OR(C23="F",C23="AF"),K23=""),I23*Parametre!$E$10,IF(AND($M$9-A23=1,F23-A23=2,J23="LEGER",OR(C23="F",C23="AF"),K23=""),I23*Parametre!$F$10,IF(AND($M$9=A23,F23-A23<=2,C23="VD",J23="DAUPHIN",K23="MILT_DAUPH"),I23*Parametre!$E$11,IF(AND($M$9-A23=1,F23-A23=2,C23="VD",J23="DAUPHIN",K23="MILT_DAUPH"),I23*Parametre!$F$11,IF(AND($M$9=A23,F23-A23<=2,C23="VD",J23="LEGER",K23="MILIT_LH"),I23*Parametre!$E$13,""))))))))))) | Y23: =IF(Z23<>"",G23,"") | Z23: =IF(AND($M$9=F23,F23=A23+1),I23,IF(AND($M$9=F23,F23-A23),I23,"")) | AA23: =IF(AND($M$9=A23,F23-A23<=2,C23="VD",J23="DAUPHIN",K23=""),I23*Parametre!$E$7,IF(AND($M$9-A23=1,F23-A23=2,C23="VD",J23="DAUPHIN",K23=""),I23*Parametre!$F$7,IF(AND($M$9=A23,F23-A23<=2,J23="DAUPHIN",OR(C23="F",C23="AF"),K23=""),I23*Parametre!$E$8,IF(AND($M$9-A23=1,F23-A23=2,J23="DAUPHIN",OR(C23="F",C23="AF"),K23=""),I23*Parametre!$F$8,IF(AND($M$9=A23,F23-A23<=2,C23="VD",J23="LEGER",K23=""),I23*Parametre!$E$9,IF(AND($M$9-A23=1,F23-A23=2,C23="VD",J23="LEGER",K23=""),I23*Parametre!$F$9,IF(AND($M$9=A23,F23-A23<=2,J23="LEGER",OR(C23="F",C23="AF"),K23=""),I23*Parametre!$E$10,IF(AND($M$9-A23=1,F23-A23=2,J23="LEGER",OR(C23="F",C23="AF"),K23=""),I23*Parametre!$F$10,IF(AND($M$9=A23,F23-A23<=2,C23="VD",J23="DAUPHIN",K23="MILT_DAUPH"),I23*Parametre!$E$11,IF(AND($M$9-A23=1,F23-A23=2,C23="VD",J23="DAUPHIN",K23="MILT_DAUPH"),I23*Parametre!$F$11,IF(AND($M$9=A23,F23-A23<=2,C23="VD",J23="LEGER",K23="MILIT_LH"),I23*Parametre!$E$13,""))))))))))) | AC23: =IF(AD23<>"",G23,"") | AD23: =IF(AND($AC$9=F23,F23=A23+1),I23,IF(AND($AC$9=F23,F23-A23>1),I23,"")) | AE23: =IF(AND($AC$9=A23,F23-A23<=2,C23="VD",J23="DAUPHIN",K23=""),I23*Parametre!$E$7,IF(AND($AC$9-A23=1,F23-A23=2,C23="VD",J23="DAUPHIN",K23=""),I23*Parametre!$F$7,IF(AND($AC$9=A23,F23-A23<=2,J23="DAUPHIN",OR(C23="F",C23="AF"),K23=""),I23*Parametre!$E$8,IF(AND($AC$9-A23=1,F23-A23=2,J23="DAUPHIN",OR(C23="F",C23="AF"),K23=""),I23*Parametre!$F$8,IF(AND($AC$9=A23,F23-A23<=2,C23="VD",J23="LEGER",K23=""),I23*Parametre!$E$9,IF(AND($AC$9-A23=1,F23-A23=2,C23="VD",J23="LEGER",K23=""),I23*Parametre!$F$9,IF(AND($AC$9=A23,F23-A23<=2,J23="LEGER",OR(C23="F",C23="AF"),K23=""),I23*Parametre!$E$10,IF(AND($AC$9-A23=1,F23-A23=2,J23="LEGER",OR(C23="F",C23="AF"),K23=""),I23*Parametre!$F$10,IF(AND($AC$9=A23,F23-A23<=2,C23="VD",J23="DAUPHIN",K23="MILT_DAUPH"),I23*Parametre!$E$11,IF(AND($AC$9-A23=1,F23-A23=2,C23="VD",J23="DAUPHIN",K23="MILT_DAUPH"),I23*Parametre!$F$11,IF(AND($AC$9=A23,F23-A23<=2,C23="VD",J23="LEGER",K23="MILIT_LH"),I23*Parametre!$E$13,""))))))))))) | AG23: =IF(AD23<>"",G23,"") | AH23: =IF(AND($AC$9=F23,F23=A23+1),I23,IF(AND($AC$9=F23,F23-A23),I23,"")) | AI23: =IF(AND($AC$9=A23,F23-A23<=2,C23="VD",J23="DAUPHIN",K23=""),I23*Parametre!$E$7,IF(AND($AC$9-A23=1,F23-A23=2,C23="VD",J23="DAUPHIN",K23=""),I23*Parametre!$F$7,IF(AND($AC$9=A23,F23-A23<=2,J23="DAUPHIN",OR(C23="F",C23="AF"),K23=""),I23*Parametre!$E$8,IF(AND($AC$9-A23=1,F23-A23=2,J23="DAUPHIN",OR(C23="F",C23="AF"),K23=""),I23*Parametre!$F$8,IF(AND($AC$9=A23,F23-A23<=2,C23="VD",J23="LEGER",K23=""),I23*Parametre!$E$9,IF(AND($AC$9-A23=1,F23-A23=2,C23="VD",J23="LEGER",K23=""),I23*Parametre!$F$9,IF(AND($AC$9=A23,F23-A23<=2,J23="LEGER",OR(C23="F",C23="AF"),K23=""),I23*Parametre!$E$10,IF(AND($AC$9-A23=1,F23-A23=2,J23="LEGER",OR(C23="F",C23="AF"),K23=""),I23*Parametre!$F$10,IF(AND($AC$9=A23,F23-A23<=2,C23="VD",J23="DAUPHIN",K23="MILT_DAUPH"),I23*Parametre!$E$11,IF(AND($AC$9-A23=1,F23-A23=2,C23="VD",J23="DAUPHIN",K23="MILT_DAUPH"),I23*Parametre!$F$11,IF(AND($AC$9=A23,F23-A23<=2,C23="VD",J23="LEGER",K23="MILIT_LH"),I23*Parametre!$E$13,""))))))))))) | AK23: =IF(AD23<>"",G23,"") | AL23: =IF(AND($AC$9=F23,F23=A23+1),I23,IF(AND($AC$9=F23,F23-A23),I23,"")) | AM23: =IF(AND($AC$9=A23,F23-A23<=2,C23="VD",J23="DAUPHIN",K23=""),I23*Parametre!$E$7,IF(AND($AC$9-A23=1,F23-A23=2,C23="VD",J23="DAUPHIN",K23=""),I23*Parametre!$F$7,IF(AND($AC$9=A23,F23-A23<=2,J23="DAUPHIN",OR(C23="F",C23="AF"),K23=""),I23*Parametre!$E$8,IF(AND($AC$9-A23=1,F23-A23=2,J23="DAUPHIN",OR(C23="F",C23="AF"),K23=""),I23*Parametre!$F$8,IF(AND($AC$9=A23,F23-A23<=2,C23="VD",J23="LEGER",K23=""),I23*Parametre!$E$9,IF(AND($AC$9-A23=1,F23-A23=2,C23="VD",J23="LEGER",K23=""),I23*Parametre!$F$9,IF(AND($AC$9=A23,F23-A23<=2,J23="LEGER",OR(C23="F",C23="AF"),K23=""),I23*Parametre!$E$10,IF(AND($AC$9-A23=1,F23-A23=2,J23="LEGER",OR(C23="F",C23="AF"),K23=""),I23*Parametre!$F$10,IF(AND($AC$9=A23,F23-A23<=2,C23="VD",J23="DAUPHIN",K23="MILT_DAUPH"),I23*Parametre!$E$11,IF(AND($AC$9-A23=1,F23-A23=2,C23="VD",J23="DAUPHIN",K23="MILT_DAUPH"),I23*Parametre!$F$11,IF(AND($AC$9=A23,F23-A23<=2,C23="VD",J23="LEGER",K23="MILIT_LH"),I23*Parametre!$E$13,""))))))))))) | AO23: =IF(AD23<>"",G23,"") | AP23: =IF(AND($AC$9=F23,F23=A23+1),I23,IF(AND($AC$9=F23,F23-A23),I23,"")) | AQ23: =IF(AND($AC$9=A23,F23-A23<=2,C23="VD",J23="DAUPHIN",K23=""),I23*Parametre!$E$7,IF(AND($AC$9-A23=1,F23-A23=2,C23="VD",J23="DAUPHIN",K23=""),I23*Parametre!$F$7,IF(AND($AC$9=A23,F23-A23<=2,J23="DAUPHIN",OR(C23="F",C23="AF"),K23=""),I23*Parametre!$E$8,IF(AND($AC$9-A23=1,F23-A23=2,J23="DAUPHIN",OR(C23="F",C23="AF"),K23=""),I23*Parametre!$F$8,IF(AND($AC$9=A23,F23-A23<=2,C23="VD",J23="LEGER",K23=""),I23*Parametre!$E$9,IF(AND($AC$9-A23=1,F23-A23=2,C23="VD",J23="LEGER",K23=""),I23*Parametre!$F$9,IF(AND($AC$9=A23,F23-A23<=2,J23="LEGER",OR(C23="F",C23="AF"),K23=""),I23*Parametre!$E$10,IF(AND($AC$9-A23=1,F23-A23=2,J23="LEGER",OR(C23="F",C23="AF"),K23=""),I23*Parametre!$F$10,IF(AND($AC$9=A23,F23-A23<=2,C23="VD",J23="DAUPHIN",K23="MILT_DAUPH"),I23*Parametre!$E$11,IF(AND($AC$9-A23=1,F23-A23=2,C23="VD",J23="DAUPHIN",K23="MILT_DAUPH"),I23*Parametre!$F$11,IF(AND($AC$9=A23,F23-A23<=2,C23="VD",J23="LEGER",K23="MILIT_LH"),I23*Parametre!$E$13,""))))))))))) | AS23: =IF(AT23<>"",G23,"") | AT23: =IF(AND($AS$9=F23,F23=A23+1),I23,IF(AND($AS$9=F23,F23-A23),I23,"")) | AU23: =IF(AND($AS$9=A23,F23-A23<=2,C23="VD",J23="DAUPHIN",K23=""),I23*Parametre!$E$7,IF(AND($AS$9-A23=1,F23-A23=2,C23="VD",J23="DAUPHIN",K23=""),I23*Parametre!$F$7,IF(AND($AS$9=A23,F23-A23<=2,J23="DAUPHIN",OR(C23="F",C23="AF"),K23=""),I23*Parametre!$E$8,IF(AND($AS$9-A23=1,F23-A23=2,J23="DAUPHIN",OR(C23="F",C23="AF"),K23=""),I23*Parametre!$F$8,IF(AND($AS$9=A23,F23-A23<=2,C23="VD",J23="LEGER",K23=""),I23*Parametre!$E$9,IF(AND($AS$9-A23=1,F23-A23=2,C23="VD",J23="LEGER",K23=""),I23*Parametre!$F$9,IF(AND($AS$9=A23,F23-A23<=2,J23="LEGER",OR(C23="F",C23="AF"),K23=""),I23*Parametre!$E$10,IF(AND($AS$9-A23=1,F23-A23=2,J23="LEGER",OR(C23="F",C23="AF"),K23=""),I23*Parametre!$F$10,IF(AND($AS$9=A23,F23-A23<=2,C23="VD",J23="DAUPHIN",K23="MILT_DAUPH"),I23*Parametre!$E$11,IF(AND($AS$9-A23=1,F23-A23=2,C23="VD",J23="DAUPHIN",K23="MILT_DAUPH"),I23*Parametre!$F$11,IF(AND($AS$9=A23,F23-A23<=2,C23="VD",J23="LEGER",K23="MILIT_LH"),I23*Parametre!$E$13,""))))))))))) | AW23: =IF(AX23<>"",G23,"") | AX23: =IF(AND($AS$9=F23,F23=A23+1),I23,IF(AND($AS$9=F23,F23-A23),I23,"")) | AY23: =IF(AND($AS$9=A23,F23-A23<=2,C23="VD",J23="DAUPHIN",K23=""),I23*Parametre!$E$7,IF(AND($AS$9-A23=1,F23-A23=2,C23="VD",J23="DAUPHIN",K23=""),I23*Parametre!$F$7,IF(AND($AS$9=A23,F23-A23<=2,J23="DAUPHIN",OR(C23="F",C23="AF"),K23=""),I23*Parametre!$E$8,IF(AND($AS$9-A23=1,F23-A23=2,J23="DAUPHIN",OR(C23="F",C23="AF"),K23=""),I23*Parametre!$F$8,IF(AND($AS$9=A23,F23-A23<=2,C23="VD",J23="LEGER",K23=""),I23*Parametre!$E$9,IF(AND($AS$9-A23=1,F23-A23=2,C23="VD",J23="LEGER",K23=""),I23*Parametre!$F$9,IF(AND($AS$9=A23,F23-A23<=2,J23="LEGER",OR(C23="F",C23="AF"),K23=""),I23*Parametre!$E$10,IF(AND($AS$9-A23=1,F23-A23=2,J23="LEGER",OR(C23="F",C23="AF"),K23=""),I23*Parametre!$F$10,IF(AND($AS$9=A23,F23-A23<=2,C23="VD",J23="DAUPHIN",K23="MILT_DAUPH"),I23*Parametre!$E$11,IF(AND($AS$9-A23=1,F23-A23=2,C23="VD",J23="DAUPHIN",K23="MILT_DAUPH"),I23*Parametre!$F$11,IF(AND($AS$9=A23,F23-A23<=2,C23="VD",J23="LEGER",K23="MILIT_LH"),I23*Parametre!$E$13,""))))))))))) | BA23: =IF(BB23<>"",G23,"") | BB23: =IF(AND($AS$9=F23,F23=A23+1),I23,IF(AND($AS$9=F23,F23-A23),I23,"")) | BC23: =IF(AND($AS$9=A23,F23-A23<=2,C23="VD",J23="DAUPHIN",K23=""),I23*Parametre!$E$7,IF(AND($AS$9-A23=1,F23-A23=2,C23="VD",J23="DAUPHIN",K23=""),I23*Parametre!$F$7,IF(AND($AS$9=A23,F23-A23<=2,J23="DAUPHIN",OR(C23="F",C23="AF"),K23=""),I23*Parametre!$E$8,IF(AND($AS$9-A23=1,F23-A23=2,J23="DAUPHIN",OR(C23="F",C23="AF"),K23=""),I23*Parametre!$F$8,IF(AND($AS$9=A23,F23-A23<=2,C23="VD",J23="LEGER",K23=""),I23*Parametre!$E$9,IF(AND($AS$9-A23=1,F23-A23=2,C23="VD",J23="LEGER",K23=""),I23*Parametre!$F$9,IF(AND($AS$9=A23,F23-A23<=2,J23="LEGER",OR(C23="F",C23="AF"),K23=""),I23*Parametre!$E$10,IF(AND($AS$9-A23=1,F23-A23=2,J23="LEGER",OR(C23="F",C23="AF"),K23=""),I23*Parametre!$F$10,IF(AND($AS$9=A23,F23-A23<=2,C23="VD",J23="DAUPHIN",K23="MILT_DAUPH"),I23*Parametre!$E$11,IF(AND($AS$9-A23=1,F23-A23=2,C23="VD",J23="DAUPHIN",K23="MILT_DAUPH"),I23*Parametre!$F$11,IF(AND($AS$9=A23,F23-A23<=2,C23="VD",J23="LEGER",K23="MILIT_LH"),I23*Parametre!$E$13,""))))))))))) | BE23: =IF(BF23<>"",G23,"") | BF23: =IF(AND($AS$9=F23,F23=A23+1),I23,IF(AND($AS$9=F23,F23-A23),I23,"")) | BG23: =IF(AND($AS$9=A23,F23-A23<=2,C23="VD",J23="DAUPHIN",K23=""),I23*Parametre!$E$7,IF(AND($AS$9-A23=1,F23-A23=2,C23="VD",J23="DAUPHIN",K23=""),I23*Parametre!$F$7,IF(AND($AS$9=A23,F23-A23<=2,J23="DAUPHIN",OR(C23="F",C23="AF"),K23=""),I23*Parametre!$E$8,IF(AND($AS$9-A23=1,F23-A23=2,J23="DAUPHIN",OR(C23="F",C23="AF"),K23=""),I23*Parametre!$F$8,IF(AND($AS$9=A23,F23-A23<=2,C23="VD",J23="LEGER",K23=""),I23*Parametre!$E$9,IF(AND($AS$9-A23=1,F23-A23=2,C23="VD",J23="LEGER",K23=""),I23*Parametre!$F$9,IF(AND($AS$9=A23,F23-A23<=2,J23="LEGER",OR(C23="F",C23="AF"),K23=""),I23*Parametre!$E$10,IF(AND($AS$9-A23=1,F23-A23=2,J23="LEGER",OR(C23="F",C23="AF"),K23=""),I23*Parametre!$F$10,IF(AND($AS$9=A23,F23-A23<=2,C23="VD",J23="DAUPHIN",K23="MILT_DAUPH"),I23*Parametre!$E$11,IF(AND($AS$9-A23=1,F23-A23=2,C23="VD",J23="DAUPHIN",K23="MILT_DAUPH"),I23*Parametre!$F$11,IF(AND($AS$9=A23,F23-A23<=2,C23="VD",J23="LEGER",K23="MILIT_LH"),I23*Parametre!$E$13,"")))))))))))
E24: NC | I24: =H24*G24 -> 0 | M24: =IF(N24<>"",G24,"") | N24: =IF(AND($M$9=F24,F24=A24+1),I24,IF(AND($M$9=F24,F24-A24>1),I24,"")) | O24: =IF(AND($M$9=A24,F24-A24<=2,C24="VD",J24="DAUPHIN",K24=""),I24*Parametre!$E$7,IF(AND($M$9-A24=1,F24-A24=2,C24="VD",J24="DAUPHIN",K24=""),I24*Parametre!$F$7,IF(AND($M$9=A24,F24-A24<=2,J24="DAUPHIN",OR(C24="F",C24="AF"),K24=""),I24*Parametre!$E$8,IF(AND($M$9-A24=1,F24-A24=2,J24="DAUPHIN",OR(C24="F",C24="AF"),K24=""),I24*Parametre!$F$8,IF(AND($M$9=A24,F24-A24<=2,C24="VD",J24="LEGER",K24=""),I24*Parametre!$E$9,IF(AND($M$9-A24=1,F24-A24=2,C24="VD",J24="LEGER",K24=""),I24*Parametre!$F$9,IF(AND($M$9=A24,F24-A24<=2,J24="LEGER",OR(C24="F",C24="AF"),K24=""),I24*Parametre!$E$10,IF(AND($M$9-A24=1,F24-A24=2,J24="LEGER",OR(C24="F",C24="AF"),K24=""),I24*Parametre!$F$10,IF(AND($M$9=A24,F24-A24<=2,C24="VD",J24="DAUPHIN",K24="MILT_DAUPH"),I24*Parametre!$E$11,IF(AND($M$9-A24=1,F24-A24=2,C24="VD",J24="DAUPHIN",K24="MILT_DAUPH"),I24*Parametre!$F$11,IF(AND($M$9=A24,F24-A24<=2,C24="VD",J24="LEGER",K24="MILIT_LH"),I24*Parametre!$E$13,""))))))))))) | Q24: =IF(R24<>"",G24,"") | R24: =IF(AND($M$9=F24,F24=A24+1),I24,IF(AND($M$9=F24,F24-A24),I24,"")) | S24: =IF(AND($M$9=A24,F24-A24<=2,C24="VD",J24="DAUPHIN",K24=""),I24*Parametre!$E$7,IF(AND($M$9-A24=1,F24-A24=2,C24="VD",J24="DAUPHIN",K24=""),I24*Parametre!$F$7,IF(AND($M$9=A24,F24-A24<=2,J24="DAUPHIN",OR(C24="F",C24="AF"),K24=""),I24*Parametre!$E$8,IF(AND($M$9-A24=1,F24-A24=2,J24="DAUPHIN",OR(C24="F",C24="AF"),K24=""),I24*Parametre!$F$8,IF(AND($M$9=A24,F24-A24<=2,C24="VD",J24="LEGER",K24=""),I24*Parametre!$E$9,IF(AND($M$9-A24=1,F24-A24=2,C24="VD",J24="LEGER",K24=""),I24*Parametre!$F$9,IF(AND($M$9=A24,F24-A24<=2,J24="LEGER",OR(C24="F",C24="AF"),K24=""),I24*Parametre!$E$10,IF(AND($M$9-A24=1,F24-A24=2,J24="LEGER",OR(C24="F",C24="AF"),K24=""),I24*Parametre!$F$10,IF(AND($M$9=A24,F24-A24<=2,C24="VD",J24="DAUPHIN",K24="MILT_DAUPH"),I24*Parametre!$E$11,IF(AND($M$9-A24=1,F24-A24=2,C24="VD",J24="DAUPHIN",K24="MILT_DAUPH"),I24*Parametre!$F$11,IF(AND($M$9=A24,F24-A24<=2,C24="VD",J24="LEGER",K24="MILIT_LH"),I24*Parametre!$E$13,""))))))))))) | U24: =IF(V24<>"",G24,"") | V24: =IF(AND($M$9=F24,F24=A24+1),I24,IF(AND($M$9=F24,F24-A24),I24,"")) | W24: =IF(AND($M$9=A24,F24-A24<=2,C24="VD",J24="DAUPHIN",K24=""),I24*Parametre!$E$7,IF(AND($M$9-A24=1,F24-A24=2,C24="VD",J24="DAUPHIN",K24=""),I24*Parametre!$F$7,IF(AND($M$9=A24,F24-A24<=2,J24="DAUPHIN",OR(C24="F",C24="AF"),K24=""),I24*Parametre!$E$8,IF(AND($M$9-A24=1,F24-A24=2,J24="DAUPHIN",OR(C24="F",C24="AF"),K24=""),I24*Parametre!$F$8,IF(AND($M$9=A24,F24-A24<=2,C24="VD",J24="LEGER",K24=""),I24*Parametre!$E$9,IF(AND($M$9-A24=1,F24-A24=2,C24="VD",J24="LEGER",K24=""),I24*Parametre!$F$9,IF(AND($M$9=A24,F24-A24<=2,J24="LEGER",OR(C24="F",C24="AF"),K24=""),I24*Parametre!$E$10,IF(AND($M$9-A24=1,F24-A24=2,J24="LEGER",OR(C24="F",C24="AF"),K24=""),I24*Parametre!$F$10,IF(AND($M$9=A24,F24-A24<=2,C24="VD",J24="DAUPHIN",K24="MILT_DAUPH"),I24*Parametre!$E$11,IF(AND($M$9-A24=1,F24-A24=2,C24="VD",J24="DAUPHIN",K24="MILT_DAUPH"),I24*Parametre!$F$11,IF(AND($M$9=A24,F24-A24<=2,C24="VD",J24="LEGER",K24="MILIT_LH"),I24*Parametre!$E$13,""))))))))))) | Y24: =IF(Z24<>"",G24,"") | Z24: =IF(AND($M$9=F24,F24=A24+1),I24,IF(AND($M$9=F24,F24-A24),I24,"")) | AA24: =IF(AND($M$9=A24,F24-A24<=2,C24="VD",J24="DAUPHIN",K24=""),I24*Parametre!$E$7,IF(AND($M$9-A24=1,F24-A24=2,C24="VD",J24="DAUPHIN",K24=""),I24*Parametre!$F$7,IF(AND($M$9=A24,F24-A24<=2,J24="DAUPHIN",OR(C24="F",C24="AF"),K24=""),I24*Parametre!$E$8,IF(AND($M$9-A24=1,F24-A24=2,J24="DAUPHIN",OR(C24="F",C24="AF"),K24=""),I24*Parametre!$F$8,IF(AND($M$9=A24,F24-A24<=2,C24="VD",J24="LEGER",K24=""),I24*Parametre!$E$9,IF(AND($M$9-A24=1,F24-A24=2,C24="VD",J24="LEGER",K24=""),I24*Parametre!$F$9,IF(AND($M$9=A24,F24-A24<=2,J24="LEGER",OR(C24="F",C24="AF"),K24=""),I24*Parametre!$E$10,IF(AND($M$9-A24=1,F24-A24=2,J24="LEGER",OR(C24="F",C24="AF"),K24=""),I24*Parametre!$F$10,IF(AND($M$9=A24,F24-A24<=2,C24="VD",J24="DAUPHIN",K24="MILT_DAUPH"),I24*Parametre!$E$11,IF(AND($M$9-A24=1,F24-A24=2,C24="VD",J24="DAUPHIN",K24="MILT_DAUPH"),I24*Parametre!$F$11,IF(AND($M$9=A24,F24-A24<=2,C24="VD",J24="LEGER",K24="MILIT_LH"),I24*Parametre!$E$13,""))))))))))) | AC24: =IF(AD24<>"",G24,"") | AD24: =IF(AND($AC$9=F24,F24=A24+1),I24,IF(AND($AC$9=F24,F24-A24>1),I24,"")) | AE24: =IF(AND($AC$9=A24,F24-A24<=2,C24="VD",J24="DAUPHIN",K24=""),I24*Parametre!$E$7,IF(AND($AC$9-A24=1,F24-A24=2,C24="VD",J24="DAUPHIN",K24=""),I24*Parametre!$F$7,IF(AND($AC$9=A24,F24-A24<=2,J24="DAUPHIN",OR(C24="F",C24="AF"),K24=""),I24*Parametre!$E$8,IF(AND($AC$9-A24=1,F24-A24=2,J24="DAUPHIN",OR(C24="F",C24="AF"),K24=""),I24*Parametre!$F$8,IF(AND($AC$9=A24,F24-A24<=2,C24="VD",J24="LEGER",K24=""),I24*Parametre!$E$9,IF(AND($AC$9-A24=1,F24-A24=2,C24="VD",J24="LEGER",K24=""),I24*Parametre!$F$9,IF(AND($AC$9=A24,F24-A24<=2,J24="LEGER",OR(C24="F",C24="AF"),K24=""),I24*Parametre!$E$10,IF(AND($AC$9-A24=1,F24-A24=2,J24="LEGER",OR(C24="F",C24="AF"),K24=""),I24*Parametre!$F$10,IF(AND($AC$9=A24,F24-A24<=2,C24="VD",J24="DAUPHIN",K24="MILT_DAUPH"),I24*Parametre!$E$11,IF(AND($AC$9-A24=1,F24-A24=2,C24="VD",J24="DAUPHIN",K24="MILT_DAUPH"),I24*Parametre!$F$11,IF(AND($AC$9=A24,F24-A24<=2,C24="VD",J24="LEGER",K24="MILIT_LH"),I24*Parametre!$E$13,""))))))))))) | AG24: =IF(AD24<>"",G24,"") | AH24: =IF(AND($AC$9=F24,F24=A24+1),I24,IF(AND($AC$9=F24,F24-A24),I24,"")) | AI24: =IF(AND($AC$9=A24,F24-A24<=2,C24="VD",J24="DAUPHIN",K24=""),I24*Parametre!$E$7,IF(AND($AC$9-A24=1,F24-A24=2,C24="VD",J24="DAUPHIN",K24=""),I24*Parametre!$F$7,IF(AND($AC$9=A24,F24-A24<=2,J24="DAUPHIN",OR(C24="F",C24="AF"),K24=""),I24*Parametre!$E$8,IF(AND($AC$9-A24=1,F24-A24=2,J24="DAUPHIN",OR(C24="F",C24="AF"),K24=""),I24*Parametre!$F$8,IF(AND($AC$9=A24,F24-A24<=2,C24="VD",J24="LEGER",K24=""),I24*Parametre!$E$9,IF(AND($AC$9-A24=1,F24-A24=2,C24="VD",J24="LEGER",K24=""),I24*Parametre!$F$9,IF(AND($AC$9=A24,F24-A24<=2,J24="LEGER",OR(C24="F",C24="AF"),K24=""),I24*Parametre!$E$10,IF(AND($AC$9-A24=1,F24-A24=2,J24="LEGER",OR(C24="F",C24="AF"),K24=""),I24*Parametre!$F$10,IF(AND($AC$9=A24,F24-A24<=2,C24="VD",J24="DAUPHIN",K24="MILT_DAUPH"),I24*Parametre!$E$11,IF(AND($AC$9-A24=1,F24-A24=2,C24="VD",J24="DAUPHIN",K24="MILT_DAUPH"),I24*Parametre!$F$11,IF(AND($AC$9=A24,F24-A24<=2,C24="VD",J24="LEGER",K24="MILIT_LH"),I24*Parametre!$E$13,""))))))))))) | AK24: =IF(AD24<>"",G24,"") | AL24: =IF(AND($AC$9=F24,F24=A24+1),I24,IF(AND($AC$9=F24,F24-A24),I24,"")) | AM24: =IF(AND($AC$9=A24,F24-A24<=2,C24="VD",J24="DAUPHIN",K24=""),I24*Parametre!$E$7,IF(AND($AC$9-A24=1,F24-A24=2,C24="VD",J24="DAUPHIN",K24=""),I24*Parametre!$F$7,IF(AND($AC$9=A24,F24-A24<=2,J24="DAUPHIN",OR(C24="F",C24="AF"),K24=""),I24*Parametre!$E$8,IF(AND($AC$9-A24=1,F24-A24=2,J24="DAUPHIN",OR(C24="F",C24="AF"),K24=""),I24*Parametre!$F$8,IF(AND($AC$9=A24,F24-A24<=2,C24="VD",J24="LEGER",K24=""),I24*Parametre!$E$9,IF(AND($AC$9-A24=1,F24-A24=2,C24="VD",J24="LEGER",K24=""),I24*Parametre!$F$9,IF(AND($AC$9=A24,F24-A24<=2,J24="LEGER",OR(C24="F",C24="AF"),K24=""),I24*Parametre!$E$10,IF(AND($AC$9-A24=1,F24-A24=2,J24="LEGER",OR(C24="F",C24="AF"),K24=""),I24*Parametre!$F$10,IF(AND($AC$9=A24,F24-A24<=2,C24="VD",J24="DAUPHIN",K24="MILT_DAUPH"),I24*Parametre!$E$11,IF(AND($AC$9-A24=1,F24-A24=2,C24="VD",J24="DAUPHIN",K24="MILT_DAUPH"),I24*Parametre!$F$11,IF(AND($AC$9=A24,F24-A24<=2,C24="VD",J24="LEGER",K24="MILIT_LH"),I24*Parametre!$E$13,""))))))))))) | AO24: =IF(AD24<>"",G24,"") | AP24: =IF(AND($AC$9=F24,F24=A24+1),I24,IF(AND($AC$9=F24,F24-A24),I24,"")) | AQ24: =IF(AND($AC$9=A24,F24-A24<=2,C24="VD",J24="DAUPHIN",K24=""),I24*Parametre!$E$7,IF(AND($AC$9-A24=1,F24-A24=2,C24="VD",J24="DAUPHIN",K24=""),I24*Parametre!$F$7,IF(AND($AC$9=A24,F24-A24<=2,J24="DAUPHIN",OR(C24="F",C24="AF"),K24=""),I24*Parametre!$E$8,IF(AND($AC$9-A24=1,F24-A24=2,J24="DAUPHIN",OR(C24="F",C24="AF"),K24=""),I24*Parametre!$F$8,IF(AND($AC$9=A24,F24-A24<=2,C24="VD",J24="LEGER",K24=""),I24*Parametre!$E$9,IF(AND($AC$9-A24=1,F24-A24=2,C24="VD",J24="LEGER",K24=""),I24*Parametre!$F$9,IF(AND($AC$9=A24,F24-A24<=2,J24="LEGER",OR(C24="F",C24="AF"),K24=""),I24*Parametre!$E$10,IF(AND($AC$9-A24=1,F24-A24=2,J24="LEGER",OR(C24="F",C24="AF"),K24=""),I24*Parametre!$F$10,IF(AND($AC$9=A24,F24-A24<=2,C24="VD",J24="DAUPHIN",K24="MILT_DAUPH"),I24*Parametre!$E$11,IF(AND($AC$9-A24=1,F24-A24=2,C24="VD",J24="DAUPHIN",K24="MILT_DAUPH"),I24*Parametre!$F$11,IF(AND($AC$9=A24,F24-A24<=2,C24="VD",J24="LEGER",K24="MILIT_LH"),I24*Parametre!$E$13,""))))))))))) | AS24: =IF(AT24<>"",G24,"") | AT24: =IF(AND($AS$9=F24,F24=A24+1),I24,IF(AND($AS$9=F24,F24-A24),I24,"")) | AU24: =IF(AND($AS$9=A24,F24-A24<=2,C24="VD",J24="DAUPHIN",K24=""),I24*Parametre!$E$7,IF(AND($AS$9-A24=1,F24-A24=2,C24="VD",J24="DAUPHIN",K24=""),I24*Parametre!$F$7,IF(AND($AS$9=A24,F24-A24<=2,J24="DAUPHIN",OR(C24="F",C24="AF"),K24=""),I24*Parametre!$E$8,IF(AND($AS$9-A24=1,F24-A24=2,J24="DAUPHIN",OR(C24="F",C24="AF"),K24=""),I24*Parametre!$F$8,IF(AND($AS$9=A24,F24-A24<=2,C24="VD",J24="LEGER",K24=""),I24*Parametre!$E$9,IF(AND($AS$9-A24=1,F24-A24=2,C24="VD",J24="LEGER",K24=""),I24*Parametre!$F$9,IF(AND($AS$9=A24,F24-A24<=2,J24="LEGER",OR(C24="F",C24="AF"),K24=""),I24*Parametre!$E$10,IF(AND($AS$9-A24=1,F24-A24=2,J24="LEGER",OR(C24="F",C24="AF"),K24=""),I24*Parametre!$F$10,IF(AND($AS$9=A24,F24-A24<=2,C24="VD",J24="DAUPHIN",K24="MILT_DAUPH"),I24*Parametre!$E$11,IF(AND($AS$9-A24=1,F24-A24=2,C24="VD",J24="DAUPHIN",K24="MILT_DAUPH"),I24*Parametre!$F$11,IF(AND($AS$9=A24,F24-A24<=2,C24="VD",J24="LEGER",K24="MILIT_LH"),I24*Parametre!$E$13,""))))))))))) | AW24: =IF(AX24<>"",G24,"") | AX24: =IF(AND($AS$9=F24,F24=A24+1),I24,IF(AND($AS$9=F24,F24-A24),I24,"")) | AY24: =IF(AND($AS$9=A24,F24-A24<=2,C24="VD",J24="DAUPHIN",K24=""),I24*Parametre!$E$7,IF(AND($AS$9-A24=1,F24-A24=2,C24="VD",J24="DAUPHIN",K24=""),I24*Parametre!$F$7,IF(AND($AS$9=A24,F24-A24<=2,J24="DAUPHIN",OR(C24="F",C24="AF"),K24=""),I24*Parametre!$E$8,IF(AND($AS$9-A24=1,F24-A24=2,J24="DAUPHIN",OR(C24="F",C24="AF"),K24=""),I24*Parametre!$F$8,IF(AND($AS$9=A24,F24-A24<=2,C24="VD",J24="LEGER",K24=""),I24*Parametre!$E$9,IF(AND($AS$9-A24=1,F24-A24=2,C24="VD",J24="LEGER",K24=""),I24*Parametre!$F$9,IF(AND($AS$9=A24,F24-A24<=2,J24="LEGER",OR(C24="F",C24="AF"),K24=""),I24*Parametre!$E$10,IF(AND($AS$9-A24=1,F24-A24=2,J24="LEGER",OR(C24="F",C24="AF"),K24=""),I24*Parametre!$F$10,IF(AND($AS$9=A24,F24-A24<=2,C24="VD",J24="DAUPHIN",K24="MILT_DAUPH"),I24*Parametre!$E$11,IF(AND($AS$9-A24=1,F24-A24=2,C24="VD",J24="DAUPHIN",K24="MILT_DAUPH"),I24*Parametre!$F$11,IF(AND($AS$9=A24,F24-A24<=2,C24="VD",J24="LEGER",K24="MILIT_LH"),I24*Parametre!$E$13,""))))))))))) | BA24: =IF(BB24<>"",G24,"") | BB24: =IF(AND($AS$9=F24,F24=A24+1),I24,IF(AND($AS$9=F24,F24-A24),I24,"")) | BC24: =IF(AND($AS$9=A24,F24-A24<=2,C24="VD",J24="DAUPHIN",K24=""),I24*Parametre!$E$7,IF(AND($AS$9-A24=1,F24-A24=2,C24="VD",J24="DAUPHIN",K24=""),I24*Parametre!$F$7,IF(AND($AS$9=A24,F24-A24<=2,J24="DAUPHIN",OR(C24="F",C24="AF"),K24=""),I24*Parametre!$E$8,IF(AND($AS$9-A24=1,F24-A24=2,J24="DAUPHIN",OR(C24="F",C24="AF"),K24=""),I24*Parametre!$F$8,IF(AND($AS$9=A24,F24-A24<=2,C24="VD",J24="LEGER",K24=""),I24*Parametre!$E$9,IF(AND($AS$9-A24=1,F24-A24=2,C24="VD",J24="LEGER",K24=""),I24*Parametre!$F$9,IF(AND($AS$9=A24,F24-A24<=2,J24="LEGER",OR(C24="F",C24="AF"),K24=""),I24*Parametre!$E$10,IF(AND($AS$9-A24=1,F24-A24=2,J24="LEGER",OR(C24="F",C24="AF"),K24=""),I24*Parametre!$F$10,IF(AND($AS$9=A24,F24-A24<=2,C24="VD",J24="DAUPHIN",K24="MILT_DAUPH"),I24*Parametre!$E$11,IF(AND($AS$9-A24=1,F24-A24=2,C24="VD",J24="DAUPHIN",K24="MILT_DAUPH"),I24*Parametre!$F$11,IF(AND($AS$9=A24,F24-A24<=2,C24="VD",J24="LEGER",K24="MILIT_LH"),I24*Parametre!$E$13,""))))))))))) | BE24: =IF(BF24<>"",G24,"") | BF24: =IF(AND($AS$9=F24,F24=A24+1),I24,IF(AND($AS$9=F24,F24-A24),I24,"")) | BG24: =IF(AND($AS$9=A24,F24-A24<=2,C24="VD",J24="DAUPHIN",K24=""),I24*Parametre!$E$7,IF(AND($AS$9-A24=1,F24-A24=2,C24="VD",J24="DAUPHIN",K24=""),I24*Parametre!$F$7,IF(AND($AS$9=A24,F24-A24<=2,J24="DAUPHIN",OR(C24="F",C24="AF"),K24=""),I24*Parametre!$E$8,IF(AND($AS$9-A24=1,F24-A24=2,J24="DAUPHIN",OR(C24="F",C24="AF"),K24=""),I24*Parametre!$F$8,IF(AND($AS$9=A24,F24-A24<=2,C24="VD",J24="LEGER",K24=""),I24*Parametre!$E$9,IF(AND($AS$9-A24=1,F24-A24=2,C24="VD",J24="LEGER",K24=""),I24*Parametre!$F$9,IF(AND($AS$9=A24,F24-A24<=2,J24="LEGER",OR(C24="F",C24="AF"),K24=""),I24*Parametre!$E$10,IF(AND($AS$9-A24=1,F24-A24=2,J24="LEGER",OR(C24="F",C24="AF"),K24=""),I24*Parametre!$F$10,IF(AND($AS$9=A24,F24-A24<=2,C24="VD",J24="DAUPHIN",K24="MILT_DAUPH"),I24*Parametre!$E$11,IF(AND($AS$9-A24=1,F24-A24=2,C24="VD",J24="DAUPHIN",K24="MILT_DAUPH"),I24*Parametre!$F$11,IF(AND($AS$9=A24,F24-A24<=2,C24="VD",J24="LEGER",K24="MILIT_LH"),I24*Parametre!$E$13,"")))))))))))
E25: NC | I25: =H25*G25 -> 0 | M25: =IF(N25<>"",G25,"") | N25: =IF(AND($M$9=F25,F25=A25+1),I25,IF(AND($M$9=F25,F25-A25>1),I25,"")) | O25: =IF(AND($M$9=A25,F25-A25<=2,C25="VD",J25="DAUPHIN",K25=""),I25*Parametre!$E$7,IF(AND($M$9-A25=1,F25-A25=2,C25="VD",J25="DAUPHIN",K25=""),I25*Parametre!$F$7,IF(AND($M$9=A25,F25-A25<=2,J25="DAUPHIN",OR(C25="F",C25="AF"),K25=""),I25*Parametre!$E$8,IF(AND($M$9-A25=1,F25-A25=2,J25="DAUPHIN",OR(C25="F",C25="AF"),K25=""),I25*Parametre!$F$8,IF(AND($M$9=A25,F25-A25<=2,C25="VD",J25="LEGER",K25=""),I25*Parametre!$E$9,IF(AND($M$9-A25=1,F25-A25=2,C25="VD",J25="LEGER",K25=""),I25*Parametre!$F$9,IF(AND($M$9=A25,F25-A25<=2,J25="LEGER",OR(C25="F",C25="AF"),K25=""),I25*Parametre!$E$10,IF(AND($M$9-A25=1,F25-A25=2,J25="LEGER",OR(C25="F",C25="AF"),K25=""),I25*Parametre!$F$10,IF(AND($M$9=A25,F25-A25<=2,C25="VD",J25="DAUPHIN",K25="MILT_DAUPH"),I25*Parametre!$E$11,IF(AND($M$9-A25=1,F25-A25=2,C25="VD",J25="DAUPHIN",K25="MILT_DAUPH"),I25*Parametre!$F$11,IF(AND($M$9=A25,F25-A25<=2,C25="VD",J25="LEGER",K25="MILIT_LH"),I25*Parametre!$E$13,""))))))))))) | Q25: =IF(R25<>"",G25,"") | R25: =IF(AND($M$9=F25,F25=A25+1),I25,IF(AND($M$9=F25,F25-A25),I25,"")) | S25: =IF(AND($M$9=A25,F25-A25<=2,C25="VD",J25="DAUPHIN",K25=""),I25*Parametre!$E$7,IF(AND($M$9-A25=1,F25-A25=2,C25="VD",J25="DAUPHIN",K25=""),I25*Parametre!$F$7,IF(AND($M$9=A25,F25-A25<=2,J25="DAUPHIN",OR(C25="F",C25="AF"),K25=""),I25*Parametre!$E$8,IF(AND($M$9-A25=1,F25-A25=2,J25="DAUPHIN",OR(C25="F",C25="AF"),K25=""),I25*Parametre!$F$8,IF(AND($M$9=A25,F25-A25<=2,C25="VD",J25="LEGER",K25=""),I25*Parametre!$E$9,IF(AND($M$9-A25=1,F25-A25=2,C25="VD",J25="LEGER",K25=""),I25*Parametre!$F$9,IF(AND($M$9=A25,F25-A25<=2,J25="LEGER",OR(C25="F",C25="AF"),K25=""),I25*Parametre!$E$10,IF(AND($M$9-A25=1,F25-A25=2,J25="LEGER",OR(C25="F",C25="AF"),K25=""),I25*Parametre!$F$10,IF(AND($M$9=A25,F25-A25<=2,C25="VD",J25="DAUPHIN",K25="MILT_DAUPH"),I25*Parametre!$E$11,IF(AND($M$9-A25=1,F25-A25=2,C25="VD",J25="DAUPHIN",K25="MILT_DAUPH"),I25*Parametre!$F$11,IF(AND($M$9=A25,F25-A25<=2,C25="VD",J25="LEGER",K25="MILIT_LH"),I25*Parametre!$E$13,""))))))))))) | U25: =IF(V25<>"",G25,"") | V25: =IF(AND($M$9=F25,F25=A25+1),I25,IF(AND($M$9=F25,F25-A25),I25,"")) | W25: =IF(AND($M$9=A25,F25-A25<=2,C25="VD",J25="DAUPHIN",K25=""),I25*Parametre!$E$7,IF(AND($M$9-A25=1,F25-A25=2,C25="VD",J25="DAUPHIN",K25=""),I25*Parametre!$F$7,IF(AND($M$9=A25,F25-A25<=2,J25="DAUPHIN",OR(C25="F",C25="AF"),K25=""),I25*Parametre!$E$8,IF(AND($M$9-A25=1,F25-A25=2,J25="DAUPHIN",OR(C25="F",C25="AF"),K25=""),I25*Parametre!$F$8,IF(AND($M$9=A25,F25-A25<=2,C25="VD",J25="LEGER",K25=""),I25*Parametre!$E$9,IF(AND($M$9-A25=1,F25-A25=2,C25="VD",J25="LEGER",K25=""),I25*Parametre!$F$9,IF(AND($M$9=A25,F25-A25<=2,J25="LEGER",OR(C25="F",C25="AF"),K25=""),I25*Parametre!$E$10,IF(AND($M$9-A25=1,F25-A25=2,J25="LEGER",OR(C25="F",C25="AF"),K25=""),I25*Parametre!$F$10,IF(AND($M$9=A25,F25-A25<=2,C25="VD",J25="DAUPHIN",K25="MILT_DAUPH"),I25*Parametre!$E$11,IF(AND($M$9-A25=1,F25-A25=2,C25="VD",J25="DAUPHIN",K25="MILT_DAUPH"),I25*Parametre!$F$11,IF(AND($M$9=A25,F25-A25<=2,C25="VD",J25="LEGER",K25="MILIT_LH"),I25*Parametre!$E$13,""))))))))))) | Y25: =IF(Z25<>"",G25,"") | Z25: =IF(AND($M$9=F25,F25=A25+1),I25,IF(AND($M$9=F25,F25-A25),I25,"")) | AA25: =IF(AND($M$9=A25,F25-A25<=2,C25="VD",J25="DAUPHIN",K25=""),I25*Parametre!$E$7,IF(AND($M$9-A25=1,F25-A25=2,C25="VD",J25="DAUPHIN",K25=""),I25*Parametre!$F$7,IF(AND($M$9=A25,F25-A25<=2,J25="DAUPHIN",OR(C25="F",C25="AF"),K25=""),I25*Parametre!$E$8,IF(AND($M$9-A25=1,F25-A25=2,J25="DAUPHIN",OR(C25="F",C25="AF"),K25=""),I25*Parametre!$F$8,IF(AND($M$9=A25,F25-A25<=2,C25="VD",J25="LEGER",K25=""),I25*Parametre!$E$9,IF(AND($M$9-A25=1,F25-A25=2,C25="VD",J25="LEGER",K25=""),I25*Parametre!$F$9,IF(AND($M$9=A25,F25-A25<=2,J25="LEGER",OR(C25="F",C25="AF"),K25=""),I25*Parametre!$E$10,IF(AND($M$9-A25=1,F25-A25=2,J25="LEGER",OR(C25="F",C25="AF"),K25=""),I25*Parametre!$F$10,IF(AND($M$9=A25,F25-A25<=2,C25="VD",J25="DAUPHIN",K25="MILT_DAUPH"),I25*Parametre!$E$11,IF(AND($M$9-A25=1,F25-A25=2,C25="VD",J25="DAUPHIN",K25="MILT_DAUPH"),I25*Parametre!$F$11,IF(AND($M$9=A25,F25-A25<=2,C25="VD",J25="LEGER",K25="MILIT_LH"),I25*Parametre!$E$13,""))))))))))) | AC25: =IF(AD25<>"",G25,"") | AD25: =IF(AND($AC$9=F25,F25=A25+1),I25,IF(AND($AC$9=F25,F25-A25>1),I25,"")) | AE25: =IF(AND($AC$9=A25,F25-A25<=2,C25="VD",J25="DAUPHIN",K25=""),I25*Parametre!$E$7,IF(AND($AC$9-A25=1,F25-A25=2,C25="VD",J25="DAUPHIN",K25=""),I25*Parametre!$F$7,IF(AND($AC$9=A25,F25-A25<=2,J25="DAUPHIN",OR(C25="F",C25="AF"),K25=""),I25*Parametre!$E$8,IF(AND($AC$9-A25=1,F25-A25=2,J25="DAUPHIN",OR(C25="F",C25="AF"),K25=""),I25*Parametre!$F$8,IF(AND($AC$9=A25,F25-A25<=2,C25="VD",J25="LEGER",K25=""),I25*Parametre!$E$9,IF(AND($AC$9-A25=1,F25-A25=2,C25="VD",J25="LEGER",K25=""),I25*Parametre!$F$9,IF(AND($AC$9=A25,F25-A25<=2,J25="LEGER",OR(C25="F",C25="AF"),K25=""),I25*Parametre!$E$10,IF(AND($AC$9-A25=1,F25-A25=2,J25="LEGER",OR(C25="F",C25="AF"),K25=""),I25*Parametre!$F$10,IF(AND($AC$9=A25,F25-A25<=2,C25="VD",J25="DAUPHIN",K25="MILT_DAUPH"),I25*Parametre!$E$11,IF(AND($AC$9-A25=1,F25-A25=2,C25="VD",J25="DAUPHIN",K25="MILT_DAUPH"),I25*Parametre!$F$11,IF(AND($AC$9=A25,F25-A25<=2,C25="VD",J25="LEGER",K25="MILIT_LH"),I25*Parametre!$E$13,""))))))))))) | AG25: =IF(AD25<>"",G25,"") | AH25: =IF(AND($AC$9=F25,F25=A25+1),I25,IF(AND($AC$9=F25,F25-A25),I25,"")) | AI25: =IF(AND($AC$9=A25,F25-A25<=2,C25="VD",J25="DAUPHIN",K25=""),I25*Parametre!$E$7,IF(AND($AC$9-A25=1,F25-A25=2,C25="VD",J25="DAUPHIN",K25=""),I25*Parametre!$F$7,IF(AND($AC$9=A25,F25-A25<=2,J25="DAUPHIN",OR(C25="F",C25="AF"),K25=""),I25*Parametre!$E$8,IF(AND($AC$9-A25=1,F25-A25=2,J25="DAUPHIN",OR(C25="F",C25="AF"),K25=""),I25*Parametre!$F$8,IF(AND($AC$9=A25,F25-A25<=2,C25="VD",J25="LEGER",K25=""),I25*Parametre!$E$9,IF(AND($AC$9-A25=1,F25-A25=2,C25="VD",J25="LEGER",K25=""),I25*Parametre!$F$9,IF(AND($AC$9=A25,F25-A25<=2,J25="LEGER",OR(C25="F",C25="AF"),K25=""),I25*Parametre!$E$10,IF(AND($AC$9-A25=1,F25-A25=2,J25="LEGER",OR(C25="F",C25="AF"),K25=""),I25*Parametre!$F$10,IF(AND($AC$9=A25,F25-A25<=2,C25="VD",J25="DAUPHIN",K25="MILT_DAUPH"),I25*Parametre!$E$11,IF(AND($AC$9-A25=1,F25-A25=2,C25="VD",J25="DAUPHIN",K25="MILT_DAUPH"),I25*Parametre!$F$11,IF(AND($AC$9=A25,F25-A25<=2,C25="VD",J25="LEGER",K25="MILIT_LH"),I25*Parametre!$E$13,""))))))))))) | AK25: =IF(AD25<>"",G25,"") | AL25: =IF(AND($AC$9=F25,F25=A25+1),I25,IF(AND($AC$9=F25,F25-A25),I25,"")) | AM25: =IF(AND($AC$9=A25,F25-A25<=2,C25="VD",J25="DAUPHIN",K25=""),I25*Parametre!$E$7,IF(AND($AC$9-A25=1,F25-A25=2,C25="VD",J25="DAUPHIN",K25=""),I25*Parametre!$F$7,IF(AND($AC$9=A25,F25-A25<=2,J25="DAUPHIN",OR(C25="F",C25="AF"),K25=""),I25*Parametre!$E$8,IF(AND($AC$9-A25=1,F25-A25=2,J25="DAUPHIN",OR(C25="F",C25="AF"),K25=""),I25*Parametre!$F$8,IF(AND($AC$9=A25,F25-A25<=2,C25="VD",J25="LEGER",K25=""),I25*Parametre!$E$9,IF(AND($AC$9-A25=1,F25-A25=2,C25="VD",J25="LEGER",K25=""),I25*Parametre!$F$9,IF(AND($AC$9=A25,F25-A25<=2,J25="LEGER",OR(C25="F",C25="AF"),K25=""),I25*Parametre!$E$10,IF(AND($AC$9-A25=1,F25-A25=2,J25="LEGER",OR(C25="F",C25="AF"),K25=""),I25*Parametre!$F$10,IF(AND($AC$9=A25,F25-A25<=2,C25="VD",J25="DAUPHIN",K25="MILT_DAUPH"),I25*Parametre!$E$11,IF(AND($AC$9-A25=1,F25-A25=2,C25="VD",J25="DAUPHIN",K25="MILT_DAUPH"),I25*Parametre!$F$11,IF(AND($AC$9=A25,F25-A25<=2,C25="VD",J25="LEGER",K25="MILIT_LH"),I25*Parametre!$E$13,""))))))))))) | AO25: =IF(AD25<>"",G25,"") | AP25: =IF(AND($AC$9=F25,F25=A25+1),I25,IF(AND($AC$9=F25,F25-A25),I25,"")) | AQ25: =IF(AND($AC$9=A25,F25-A25<=2,C25="VD",J25="DAUPHIN",K25=""),I25*Parametre!$E$7,IF(AND($AC$9-A25=1,F25-A25=2,C25="VD",J25="DAUPHIN",K25=""),I25*Parametre!$F$7,IF(AND($AC$9=A25,F25-A25<=2,J25="DAUPHIN",OR(C25="F",C25="AF"),K25=""),I25*Parametre!$E$8,IF(AND($AC$9-A25=1,F25-A25=2,J25="DAUPHIN",OR(C25="F",C25="AF"),K25=""),I25*Parametre!$F$8,IF(AND($AC$9=A25,F25-A25<=2,C25="VD",J25="LEGER",K25=""),I25*Parametre!$E$9,IF(AND($AC$9-A25=1,F25-A25=2,C25="VD",J25="LEGER",K25=""),I25*Parametre!$F$9,IF(AND($AC$9=A25,F25-A25<=2,J25="LEGER",OR(C25="F",C25="AF"),K25=""),I25*Parametre!$E$10,IF(AND($AC$9-A25=1,F25-A25=2,J25="LEGER",OR(C25="F",C25="AF"),K25=""),I25*Parametre!$F$10,IF(AND($AC$9=A25,F25-A25<=2,C25="VD",J25="DAUPHIN",K25="MILT_DAUPH"),I25*Parametre!$E$11,IF(AND($AC$9-A25=1,F25-A25=2,C25="VD",J25="DAUPHIN",K25="MILT_DAUPH"),I25*Parametre!$F$11,IF(AND($AC$9=A25,F25-A25<=2,C25="VD",J25="LEGER",K25="MILIT_LH"),I25*Parametre!$E$13,""))))))))))) | AS25: =IF(AT25<>"",G25,"") | AT25: =IF(AND($AS$9=F25,F25=A25+1),I25,IF(AND($AS$9=F25,F25-A25),I25,"")) | AU25: =IF(AND($AS$9=A25,F25-A25<=2,C25="VD",J25="DAUPHIN",K25=""),I25*Parametre!$E$7,IF(AND($AS$9-A25=1,F25-A25=2,C25="VD",J25="DAUPHIN",K25=""),I25*Parametre!$F$7,IF(AND($AS$9=A25,F25-A25<=2,J25="DAUPHIN",OR(C25="F",C25="AF"),K25=""),I25*Parametre!$E$8,IF(AND($AS$9-A25=1,F25-A25=2,J25="DAUPHIN",OR(C25="F",C25="AF"),K25=""),I25*Parametre!$F$8,IF(AND($AS$9=A25,F25-A25<=2,C25="VD",J25="LEGER",K25=""),I25*Parametre!$E$9,IF(AND($AS$9-A25=1,F25-A25=2,C25="VD",J25="LEGER",K25=""),I25*Parametre!$F$9,IF(AND($AS$9=A25,F25-A25<=2,J25="LEGER",OR(C25="F",C25="AF"),K25=""),I25*Parametre!$E$10,IF(AND($AS$9-A25=1,F25-A25=2,J25="LEGER",OR(C25="F",C25="AF"),K25=""),I25*Parametre!$F$10,IF(AND($AS$9=A25,F25-A25<=2,C25="VD",J25="DAUPHIN",K25="MILT_DAUPH"),I25*Parametre!$E$11,IF(AND($AS$9-A25=1,F25-A25=2,C25="VD",J25="DAUPHIN",K25="MILT_DAUPH"),I25*Parametre!$F$11,IF(AND($AS$9=A25,F25-A25<=2,C25="VD",J25="LEGER",K25="MILIT_LH"),I25*Parametre!$E$13,""))))))))))) | AW25: =IF(AX25<>"",G25,"") | AX25: =IF(AND($AS$9=F25,F25=A25+1),I25,IF(AND($AS$9=F25,F25-A25),I25,"")) | AY25: =IF(AND($AS$9=A25,F25-A25<=2,C25="VD",J25="DAUPHIN",K25=""),I25*Parametre!$E$7,IF(AND($AS$9-A25=1,F25-A25=2,C25="VD",J25="DAUPHIN",K25=""),I25*Parametre!$F$7,IF(AND($AS$9=A25,F25-A25<=2,J25="DAUPHIN",OR(C25="F",C25="AF"),K25=""),I25*Parametre!$E$8,IF(AND($AS$9-A25=1,F25-A25=2,J25="DAUPHIN",OR(C25="F",C25="AF"),K25=""),I25*Parametre!$F$8,IF(AND($AS$9=A25,F25-A25<=2,C25="VD",J25="LEGER",K25=""),I25*Parametre!$E$9,IF(AND($AS$9-A25=1,F25-A25=2,C25="VD",J25="LEGER",K25=""),I25*Parametre!$F$9,IF(AND($AS$9=A25,F25-A25<=2,J25="LEGER",OR(C25="F",C25="AF"),K25=""),I25*Parametre!$E$10,IF(AND($AS$9-A25=1,F25-A25=2,J25="LEGER",OR(C25="F",C25="AF"),K25=""),I25*Parametre!$F$10,IF(AND($AS$9=A25,F25-A25<=2,C25="VD",J25="DAUPHIN",K25="MILT_DAUPH"),I25*Parametre!$E$11,IF(AND($AS$9-A25=1,F25-A25=2,C25="VD",J25="DAUPHIN",K25="MILT_DAUPH"),I25*Parametre!$F$11,IF(AND($AS$9=A25,F25-A25<=2,C25="VD",J25="LEGER",K25="MILIT_LH"),I25*Parametre!$E$13,""))))))))))) | BA25: =IF(BB25<>"",G25,"") | BB25: =IF(AND($AS$9=F25,F25=A25+1),I25,IF(AND($AS$9=F25,F25-A25),I25,"")) | BC25: =IF(AND($AS$9=A25,F25-A25<=2,C25="VD",J25="DAUPHIN",K25=""),I25*Parametre!$E$7,IF(AND($AS$9-A25=1,F25-A25=2,C25="VD",J25="DAUPHIN",K25=""),I25*Parametre!$F$7,IF(AND($AS$9=A25,F25-A25<=2,J25="DAUPHIN",OR(C25="F",C25="AF"),K25=""),I25*Parametre!$E$8,IF(AND($AS$9-A25=1,F25-A25=2,J25="DAUPHIN",OR(C25="F",C25="AF"),K25=""),I25*Parametre!$F$8,IF(AND($AS$9=A25,F25-A25<=2,C25="VD",J25="LEGER",K25=""),I25*Parametre!$E$9,IF(AND($AS$9-A25=1,F25-A25=2,C25="VD",J25="LEGER",K25=""),I25*Parametre!$F$9,IF(AND($AS$9=A25,F25-A25<=2,J25="LEGER",OR(C25="F",C25="AF"),K25=""),I25*Parametre!$E$10,IF(AND($AS$9-A25=1,F25-A25=2,J25="LEGER",OR(C25="F",C25="AF"),K25=""),I25*Parametre!$F$10,IF(AND($AS$9=A25,F25-A25<=2,C25="VD",J25="DAUPHIN",K25="MILT_DAUPH"),I25*Parametre!$E$11,IF(AND($AS$9-A25=1,F25-A25=2,C25="VD",J25="DAUPHIN",K25="MILT_DAUPH"),I25*Parametre!$F$11,IF(AND($AS$9=A25,F25-A25<=2,C25="VD",J25="LEGER",K25="MILIT_LH"),I25*Parametre!$E$13,""))))))))))) | BE25: =IF(BF25<>"",G25,"") | BF25: =IF(AND($AS$9=F25,F25=A25+1),I25,IF(AND($AS$9=F25,F25-A25),I25,"")) | BG25: =IF(AND($AS$9=A25,F25-A25<=2,C25="VD",J25="DAUPHIN",K25=""),I25*Parametre!$E$7,IF(AND($AS$9-A25=1,F25-A25=2,C25="VD",J25="DAUPHIN",K25=""),I25*Parametre!$F$7,IF(AND($AS$9=A25,F25-A25<=2,J25="DAUPHIN",OR(C25="F",C25="AF"),K25=""),I25*Parametre!$E$8,IF(AND($AS$9-A25=1,F25-A25=2,J25="DAUPHIN",OR(C25="F",C25="AF"),K25=""),I25*Parametre!$F$8,IF(AND($AS$9=A25,F25-A25<=2,C25="VD",J25="LEGER",K25=""),I25*Parametre!$E$9,IF(AND($AS$9-A25=1,F25-A25=2,C25="VD",J25="LEGER",K25=""),I25*Parametre!$F$9,IF(AND($AS$9=A25,F25-A25<=2,J25="LEGER",OR(C25="F",C25="AF"),K25=""),I25*Parametre!$E$10,IF(AND($AS$9-A25=1,F25-A25=2,J25="LEGER",OR(C25="F",C25="AF"),K25=""),I25*Parametre!$F$10,IF(AND($AS$9=A25,F25-A25<=2,C25="VD",J25="DAUPHIN",K25="MILT_DAUPH"),I25*Parametre!$E$11,IF(AND($AS$9-A25=1,F25-A25=2,C25="VD",J25="DAUPHIN",K25="MILT_DAUPH"),I25*Parametre!$F$11,IF(AND($AS$9=A25,F25-A25<=2,C25="VD",J25="LEGER",K25="MILIT_LH"),I25*Parametre!$E$13,"")))))))))))
E26: NC | I26: =H26*G26 -> 0 | M26: =IF(N26<>"",G26,"") | N26: =IF(AND($M$9=F26,F26=A26+1),I26,IF(AND($M$9=F26,F26-A26>1),I26,"")) | O26: =IF(AND($M$9=A26,F26-A26<=2,C26="VD",J26="DAUPHIN",K26=""),I26*Parametre!$E$7,IF(AND($M$9-A26=1,F26-A26=2,C26="VD",J26="DAUPHIN",K26=""),I26*Parametre!$F$7,IF(AND($M$9=A26,F26-A26<=2,J26="DAUPHIN",OR(C26="F",C26="AF"),K26=""),I26*Parametre!$E$8,IF(AND($M$9-A26=1,F26-A26=2,J26="DAUPHIN",OR(C26="F",C26="AF"),K26=""),I26*Parametre!$F$8,IF(AND($M$9=A26,F26-A26<=2,C26="VD",J26="LEGER",K26=""),I26*Parametre!$E$9,IF(AND($M$9-A26=1,F26-A26=2,C26="VD",J26="LEGER",K26=""),I26*Parametre!$F$9,IF(AND($M$9=A26,F26-A26<=2,J26="LEGER",OR(C26="F",C26="AF"),K26=""),I26*Parametre!$E$10,IF(AND($M$9-A26=1,F26-A26=2,J26="LEGER",OR(C26="F",C26="AF"),K26=""),I26*Parametre!$F$10,IF(AND($M$9=A26,F26-A26<=2,C26="VD",J26="DAUPHIN",K26="MILT_DAUPH"),I26*Parametre!$E$11,IF(AND($M$9-A26=1,F26-A26=2,C26="VD",J26="DAUPHIN",K26="MILT_DAUPH"),I26*Parametre!$F$11,IF(AND($M$9=A26,F26-A26<=2,C26="VD",J26="LEGER",K26="MILIT_LH"),I26*Parametre!$E$13,""))))))))))) | Q26: =IF(R26<>"",G26,"") | R26: =IF(AND($M$9=F26,F26=A26+1),I26,IF(AND($M$9=F26,F26-A26),I26,"")) | S26: =IF(AND($M$9=A26,F26-A26<=2,C26="VD",J26="DAUPHIN",K26=""),I26*Parametre!$E$7,IF(AND($M$9-A26=1,F26-A26=2,C26="VD",J26="DAUPHIN",K26=""),I26*Parametre!$F$7,IF(AND($M$9=A26,F26-A26<=2,J26="DAUPHIN",OR(C26="F",C26="AF"),K26=""),I26*Parametre!$E$8,IF(AND($M$9-A26=1,F26-A26=2,J26="DAUPHIN",OR(C26="F",C26="AF"),K26=""),I26*Parametre!$F$8,IF(AND($M$9=A26,F26-A26<=2,C26="VD",J26="LEGER",K26=""),I26*Parametre!$E$9,IF(AND($M$9-A26=1,F26-A26=2,C26="VD",J26="LEGER",K26=""),I26*Parametre!$F$9,IF(AND($M$9=A26,F26-A26<=2,J26="LEGER",OR(C26="F",C26="AF"),K26=""),I26*Parametre!$E$10,IF(AND($M$9-A26=1,F26-A26=2,J26="LEGER",OR(C26="F",C26="AF"),K26=""),I26*Parametre!$F$10,IF(AND($M$9=A26,F26-A26<=2,C26="VD",J26="DAUPHIN",K26="MILT_DAUPH"),I26*Parametre!$E$11,IF(AND($M$9-A26=1,F26-A26=2,C26="VD",J26="DAUPHIN",K26="MILT_DAUPH"),I26*Parametre!$F$11,IF(AND($M$9=A26,F26-A26<=2,C26="VD",J26="LEGER",K26="MILIT_LH"),I26*Parametre!$E$13,""))))))))))) | U26: =IF(V26<>"",G26,"") | V26: =IF(AND($M$9=F26,F26=A26+1),I26,IF(AND($M$9=F26,F26-A26),I26,"")) | W26: =IF(AND($M$9=A26,F26-A26<=2,C26="VD",J26="DAUPHIN",K26=""),I26*Parametre!$E$7,IF(AND($M$9-A26=1,F26-A26=2,C26="VD",J26="DAUPHIN",K26=""),I26*Parametre!$F$7,IF(AND($M$9=A26,F26-A26<=2,J26="DAUPHIN",OR(C26="F",C26="AF"),K26=""),I26*Parametre!$E$8,IF(AND($M$9-A26=1,F26-A26=2,J26="DAUPHIN",OR(C26="F",C26="AF"),K26=""),I26*Parametre!$F$8,IF(AND($M$9=A26,F26-A26<=2,C26="VD",J26="LEGER",K26=""),I26*Parametre!$E$9,IF(AND($M$9-A26=1,F26-A26=2,C26="VD",J26="LEGER",K26=""),I26*Parametre!$F$9,IF(AND($M$9=A26,F26-A26<=2,J26="LEGER",OR(C26="F",C26="AF"),K26=""),I26*Parametre!$E$10,IF(AND($M$9-A26=1,F26-A26=2,J26="LEGER",OR(C26="F",C26="AF"),K26=""),I26*Parametre!$F$10,IF(AND($M$9=A26,F26-A26<=2,C26="VD",J26="DAUPHIN",K26="MILT_DAUPH"),I26*Parametre!$E$11,IF(AND($M$9-A26=1,F26-A26=2,C26="VD",J26="DAUPHIN",K26="MILT_DAUPH"),I26*Parametre!$F$11,IF(AND($M$9=A26,F26-A26<=2,C26="VD",J26="LEGER",K26="MILIT_LH"),I26*Parametre!$E$13,""))))))))))) | Y26: =IF(Z26<>"",G26,"") | Z26: =IF(AND($M$9=F26,F26=A26+1),I26,IF(AND($M$9=F26,F26-A26),I26,"")) | AA26: =IF(AND($M$9=A26,F26-A26<=2,C26="VD",J26="DAUPHIN",K26=""),I26*Parametre!$E$7,IF(AND($M$9-A26=1,F26-A26=2,C26="VD",J26="DAUPHIN",K26=""),I26*Parametre!$F$7,IF(AND($M$9=A26,F26-A26<=2,J26="DAUPHIN",OR(C26="F",C26="AF"),K26=""),I26*Parametre!$E$8,IF(AND($M$9-A26=1,F26-A26=2,J26="DAUPHIN",OR(C26="F",C26="AF"),K26=""),I26*Parametre!$F$8,IF(AND($M$9=A26,F26-A26<=2,C26="VD",J26="LEGER",K26=""),I26*Parametre!$E$9,IF(AND($M$9-A26=1,F26-A26=2,C26="VD",J26="LEGER",K26=""),I26*Parametre!$F$9,IF(AND($M$9=A26,F26-A26<=2,J26="LEGER",OR(C26="F",C26="AF"),K26=""),I26*Parametre!$E$10,IF(AND($M$9-A26=1,F26-A26=2,J26="LEGER",OR(C26="F",C26="AF"),K26=""),I26*Parametre!$F$10,IF(AND($M$9=A26,F26-A26<=2,C26="VD",J26="DAUPHIN",K26="MILT_DAUPH"),I26*Parametre!$E$11,IF(AND($M$9-A26=1,F26-A26=2,C26="VD",J26="DAUPHIN",K26="MILT_DAUPH"),I26*Parametre!$F$11,IF(AND($M$9=A26,F26-A26<=2,C26="VD",J26="LEGER",K26="MILIT_LH"),I26*Parametre!$E$13,""))))))))))) | AC26: =IF(AD26<>"",G26,"") | AD26: =IF(AND($AC$9=F26,F26=A26+1),I26,IF(AND($AC$9=F26,F26-A26>1),I26,"")) | AE26: =IF(AND($AC$9=A26,F26-A26<=2,C26="VD",J26="DAUPHIN",K26=""),I26*Parametre!$E$7,IF(AND($AC$9-A26=1,F26-A26=2,C26="VD",J26="DAUPHIN",K26=""),I26*Parametre!$F$7,IF(AND($AC$9=A26,F26-A26<=2,J26="DAUPHIN",OR(C26="F",C26="AF"),K26=""),I26*Parametre!$E$8,IF(AND($AC$9-A26=1,F26-A26=2,J26="DAUPHIN",OR(C26="F",C26="AF"),K26=""),I26*Parametre!$F$8,IF(AND($AC$9=A26,F26-A26<=2,C26="VD",J26="LEGER",K26=""),I26*Parametre!$E$9,IF(AND($AC$9-A26=1,F26-A26=2,C26="VD",J26="LEGER",K26=""),I26*Parametre!$F$9,IF(AND($AC$9=A26,F26-A26<=2,J26="LEGER",OR(C26="F",C26="AF"),K26=""),I26*Parametre!$E$10,IF(AND($AC$9-A26=1,F26-A26=2,J26="LEGER",OR(C26="F",C26="AF"),K26=""),I26*Parametre!$F$10,IF(AND($AC$9=A26,F26-A26<=2,C26="VD",J26="DAUPHIN",K26="MILT_DAUPH"),I26*Parametre!$E$11,IF(AND($AC$9-A26=1,F26-A26=2,C26="VD",J26="DAUPHIN",K26="MILT_DAUPH"),I26*Parametre!$F$11,IF(AND($AC$9=A26,F26-A26<=2,C26="VD",J26="LEGER",K26="MILIT_LH"),I26*Parametre!$E$13,""))))))))))) | AG26: =IF(AD26<>"",G26,"") | AH26: =IF(AND($AC$9=F26,F26=A26+1),I26,IF(AND($AC$9=F26,F26-A26),I26,"")) | AI26: =IF(AND($AC$9=A26,F26-A26<=2,C26="VD",J26="DAUPHIN",K26=""),I26*Parametre!$E$7,IF(AND($AC$9-A26=1,F26-A26=2,C26="VD",J26="DAUPHIN",K26=""),I26*Parametre!$F$7,IF(AND($AC$9=A26,F26-A26<=2,J26="DAUPHIN",OR(C26="F",C26="AF"),K26=""),I26*Parametre!$E$8,IF(AND($AC$9-A26=1,F26-A26=2,J26="DAUPHIN",OR(C26="F",C26="AF"),K26=""),I26*Parametre!$F$8,IF(AND($AC$9=A26,F26-A26<=2,C26="VD",J26="LEGER",K26=""),I26*Parametre!$E$9,IF(AND($AC$9-A26=1,F26-A26=2,C26="VD",J26="LEGER",K26=""),I26*Parametre!$F$9,IF(AND($AC$9=A26,F26-A26<=2,J26="LEGER",OR(C26="F",C26="AF"),K26=""),I26*Parametre!$E$10,IF(AND($AC$9-A26=1,F26-A26=2,J26="LEGER",OR(C26="F",C26="AF"),K26=""),I26*Parametre!$F$10,IF(AND($AC$9=A26,F26-A26<=2,C26="VD",J26="DAUPHIN",K26="MILT_DAUPH"),I26*Parametre!$E$11,IF(AND($AC$9-A26=1,F26-A26=2,C26="VD",J26="DAUPHIN",K26="MILT_DAUPH"),I26*Parametre!$F$11,IF(AND($AC$9=A26,F26-A26<=2,C26="VD",J26="LEGER",K26="MILIT_LH"),I26*Parametre!$E$13,""))))))))))) | AK26: =IF(AD26<>"",G26,"") | AL26: =IF(AND($AC$9=F26,F26=A26+1),I26,IF(AND($AC$9=F26,F26-A26),I26,"")) | AM26: =IF(AND($AC$9=A26,F26-A26<=2,C26="VD",J26="DAUPHIN",K26=""),I26*Parametre!$E$7,IF(AND($AC$9-A26=1,F26-A26=2,C26="VD",J26="DAUPHIN",K26=""),I26*Parametre!$F$7,IF(AND($AC$9=A26,F26-A26<=2,J26="DAUPHIN",OR(C26="F",C26="AF"),K26=""),I26*Parametre!$E$8,IF(AND($AC$9-A26=1,F26-A26=2,J26="DAUPHIN",OR(C26="F",C26="AF"),K26=""),I26*Parametre!$F$8,IF(AND($AC$9=A26,F26-A26<=2,C26="VD",J26="LEGER",K26=""),I26*Parametre!$E$9,IF(AND($AC$9-A26=1,F26-A26=2,C26="VD",J26="LEGER",K26=""),I26*Parametre!$F$9,IF(AND($AC$9=A26,F26-A26<=2,J26="LEGER",OR(C26="F",C26="AF"),K26=""),I26*Parametre!$E$10,IF(AND($AC$9-A26=1,F26-A26=2,J26="LEGER",OR(C26="F",C26="AF"),K26=""),I26*Parametre!$F$10,IF(AND($AC$9=A26,F26-A26<=2,C26="VD",J26="DAUPHIN",K26="MILT_DAUPH"),I26*Parametre!$E$11,IF(AND($AC$9-A26=1,F26-A26=2,C26="VD",J26="DAUPHIN",K26="MILT_DAUPH"),I26*Parametre!$F$11,IF(AND($AC$9=A26,F26-A26<=2,C26="VD",J26="LEGER",K26="MILIT_LH"),I26*Parametre!$E$13,""))))))))))) | AO26: =IF(AD26<>"",G26,"") | AP26: =IF(AND($AC$9=F26,F26=A26+1),I26,IF(AND($AC$9=F26,F26-A26),I26,"")) | AQ26: =IF(AND($AC$9=A26,F26-A26<=2,C26="VD",J26="DAUPHIN",K26=""),I26*Parametre!$E$7,IF(AND($AC$9-A26=1,F26-A26=2,C26="VD",J26="DAUPHIN",K26=""),I26*Parametre!$F$7,IF(AND($AC$9=A26,F26-A26<=2,J26="DAUPHIN",OR(C26="F",C26="AF"),K26=""),I26*Parametre!$E$8,IF(AND($AC$9-A26=1,F26-A26=2,J26="DAUPHIN",OR(C26="F",C26="AF"),K26=""),I26*Parametre!$F$8,IF(AND($AC$9=A26,F26-A26<=2,C26="VD",J26="LEGER",K26=""),I26*Parametre!$E$9,IF(AND($AC$9-A26=1,F26-A26=2,C26="VD",J26="LEGER",K26=""),I26*Parametre!$F$9,IF(AND($AC$9=A26,F26-A26<=2,J26="LEGER",OR(C26="F",C26="AF"),K26=""),I26*Parametre!$E$10,IF(AND($AC$9-A26=1,F26-A26=2,J26="LEGER",OR(C26="F",C26="AF"),K26=""),I26*Parametre!$F$10,IF(AND($AC$9=A26,F26-A26<=2,C26="VD",J26="DAUPHIN",K26="MILT_DAUPH"),I26*Parametre!$E$11,IF(AND($AC$9-A26=1,F26-A26=2,C26="VD",J26="DAUPHIN",K26="MILT_DAUPH"),I26*Parametre!$F$11,IF(AND($AC$9=A26,F26-A26<=2,C26="VD",J26="LEGER",K26="MILIT_LH"),I26*Parametre!$E$13,""))))))))))) | AS26: =IF(AT26<>"",G26,"") | AT26: =IF(AND($AS$9=F26,F26=A26+1),I26,IF(AND($AS$9=F26,F26-A26),I26,"")) | AU26: =IF(AND($AS$9=A26,F26-A26<=2,C26="VD",J26="DAUPHIN",K26=""),I26*Parametre!$E$7,IF(AND($AS$9-A26=1,F26-A26=2,C26="VD",J26="DAUPHIN",K26=""),I26*Parametre!$F$7,IF(AND($AS$9=A26,F26-A26<=2,J26="DAUPHIN",OR(C26="F",C26="AF"),K26=""),I26*Parametre!$E$8,IF(AND($AS$9-A26=1,F26-A26=2,J26="DAUPHIN",OR(C26="F",C26="AF"),K26=""),I26*Parametre!$F$8,IF(AND($AS$9=A26,F26-A26<=2,C26="VD",J26="LEGER",K26=""),I26*Parametre!$E$9,IF(AND($AS$9-A26=1,F26-A26=2,C26="VD",J26="LEGER",K26=""),I26*Parametre!$F$9,IF(AND($AS$9=A26,F26-A26<=2,J26="LEGER",OR(C26="F",C26="AF"),K26=""),I26*Parametre!$E$10,IF(AND($AS$9-A26=1,F26-A26=2,J26="LEGER",OR(C26="F",C26="AF"),K26=""),I26*Parametre!$F$10,IF(AND($AS$9=A26,F26-A26<=2,C26="VD",J26="DAUPHIN",K26="MILT_DAUPH"),I26*Parametre!$E$11,IF(AND($AS$9-A26=1,F26-A26=2,C26="VD",J26="DAUPHIN",K26="MILT_DAUPH"),I26*Parametre!$F$11,IF(AND($AS$9=A26,F26-A26<=2,C26="VD",J26="LEGER",K26="MILIT_LH"),I26*Parametre!$E$13,""))))))))))) | AW26: =IF(AX26<>"",G26,"") | AX26: =IF(AND($AS$9=F26,F26=A26+1),I26,IF(AND($AS$9=F26,F26-A26),I26,"")) | AY26: =IF(AND($AS$9=A26,F26-A26<=2,C26="VD",J26="DAUPHIN",K26=""),I26*Parametre!$E$7,IF(AND($AS$9-A26=1,F26-A26=2,C26="VD",J26="DAUPHIN",K26=""),I26*Parametre!$F$7,IF(AND($AS$9=A26,F26-A26<=2,J26="DAUPHIN",OR(C26="F",C26="AF"),K26=""),I26*Parametre!$E$8,IF(AND($AS$9-A26=1,F26-A26=2,J26="DAUPHIN",OR(C26="F",C26="AF"),K26=""),I26*Parametre!$F$8,IF(AND($AS$9=A26,F26-A26<=2,C26="VD",J26="LEGER",K26=""),I26*Parametre!$E$9,IF(AND($AS$9-A26=1,F26-A26=2,C26="VD",J26="LEGER",K26=""),I26*Parametre!$F$9,IF(AND($AS$9=A26,F26-A26<=2,J26="LEGER",OR(C26="F",C26="AF"),K26=""),I26*Parametre!$E$10,IF(AND($AS$9-A26=1,F26-A26=2,J26="LEGER",OR(C26="F",C26="AF"),K26=""),I26*Parametre!$F$10,IF(AND($AS$9=A26,F26-A26<=2,C26="VD",J26="DAUPHIN",K26="MILT_DAUPH"),I26*Parametre!$E$11,IF(AND($AS$9-A26=1,F26-A26=2,C26="VD",J26="DAUPHIN",K26="MILT_DAUPH"),I26*Parametre!$F$11,IF(AND($AS$9=A26,F26-A26<=2,C26="VD",J26="LEGER",K26="MILIT_LH"),I26*Parametre!$E$13,""))))))))))) | BA26: =IF(BB26<>"",G26,"") | BB26: =IF(AND($AS$9=F26,F26=A26+1),I26,IF(AND($AS$9=F26,F26-A26),I26,"")) | BC26: =IF(AND($AS$9=A26,F26-A26<=2,C26="VD",J26="DAUPHIN",K26=""),I26*Parametre!$E$7,IF(AND($AS$9-A26=1,F26-A26=2,C26="VD",J26="DAUPHIN",K26=""),I26*Parametre!$F$7,IF(AND($AS$9=A26,F26-A26<=2,J26="DAUPHIN",OR(C26="F",C26="AF"),K26=""),I26*Parametre!$E$8,IF(AND($AS$9-A26=1,F26-A26=2,J26="DAUPHIN",OR(C26="F",C26="AF"),K26=""),I26*Parametre!$F$8,IF(AND($AS$9=A26,F26-A26<=2,C26="VD",J26="LEGER",K26=""),I26*Parametre!$E$9,IF(AND($AS$9-A26=1,F26-A26=2,C26="VD",J26="LEGER",K26=""),I26*Parametre!$F$9,IF(AND($AS$9=A26,F26-A26<=2,J26="LEGER",OR(C26="F",C26="AF"),K26=""),I26*Parametre!$E$10,IF(AND($AS$9-A26=1,F26-A26=2,J26="LEGER",OR(C26="F",C26="AF"),K26=""),I26*Parametre!$F$10,IF(AND($AS$9=A26,F26-A26<=2,C26="VD",J26="DAUPHIN",K26="MILT_DAUPH"),I26*Parametre!$E$11,IF(AND($AS$9-A26=1,F26-A26=2,C26="VD",J26="DAUPHIN",K26="MILT_DAUPH"),I26*Parametre!$F$11,IF(AND($AS$9=A26,F26-A26<=2,C26="VD",J26="LEGER",K26="MILIT_LH"),I26*Parametre!$E$13,""))))))))))) | BE26: =IF(BF26<>"",G26,"") | BF26: =IF(AND($AS$9=F26,F26=A26+1),I26,IF(AND($AS$9=F26,F26-A26),I26,"")) | BG26: =IF(AND($AS$9=A26,F26-A26<=2,C26="VD",J26="DAUPHIN",K26=""),I26*Parametre!$E$7,IF(AND($AS$9-A26=1,F26-A26=2,C26="VD",J26="DAUPHIN",K26=""),I26*Parametre!$F$7,IF(AND($AS$9=A26,F26-A26<=2,J26="DAUPHIN",OR(C26="F",C26="AF"),K26=""),I26*Parametre!$E$8,IF(AND($AS$9-A26=1,F26-A26=2,J26="DAUPHIN",OR(C26="F",C26="AF"),K26=""),I26*Parametre!$F$8,IF(AND($AS$9=A26,F26-A26<=2,C26="VD",J26="LEGER",K26=""),I26*Parametre!$E$9,IF(AND($AS$9-A26=1,F26-A26=2,C26="VD",J26="LEGER",K26=""),I26*Parametre!$F$9,IF(AND($AS$9=A26,F26-A26<=2,J26="LEGER",OR(C26="F",C26="AF"),K26=""),I26*Parametre!$E$10,IF(AND($AS$9-A26=1,F26-A26=2,J26="LEGER",OR(C26="F",C26="AF"),K26=""),I26*Parametre!$F$10,IF(AND($AS$9=A26,F26-A26<=2,C26="VD",J26="DAUPHIN",K26="MILT_DAUPH"),I26*Parametre!$E$11,IF(AND($AS$9-A26=1,F26-A26=2,C26="VD",J26="DAUPHIN",K26="MILT_DAUPH"),I26*Parametre!$F$11,IF(AND($AS$9=A26,F26-A26<=2,C26="VD",J26="LEGER",K26="MILIT_LH"),I26*Parametre!$E$13,"")))))))))))
