Workbook
Name __Ass01: [1]Paramètres!$B$9
Name __Ass02: [2]Paramètres!$B$10
Name __Ass04: [3]Paramètres!$B$12
Name __Ass05: [4]Paramètres!#REF!
Name __Ass06: [4]Paramètres!#REF!
Name __Ass07: [4]Paramètres!#REF!
Name __Ass08: [4]Paramètres!#REF!
Name __Ass09: [4]Paramètres!#REF!
Name __Dpm02: [2]Paramètres!$C$10
Name __Dpm04: [3]Paramètres!$C$12
Name __Dpm05: [4]Paramètres!#REF!
Name __Dpm06: [4]Paramètres!#REF!
Name __Dpm07: [4]Paramètres!#REF!
Name __Dpm08: [4]Paramètres!#REF!
Name __Fhp05: [4]Paramètres!#REF!
Name __Fhp06: [4]Paramètres!#REF!
Name __Fhp07: [4]Paramètres!#REF!
Name __Fhp08: [4]Paramètres!#REF!
Name __Fhp09: [4]Paramètres!#REF!
Name __Gsa01: [1]Paramètres!$D$9
Name __Gsa02: [2]Paramètres!$D$10
Name __Gsa04: [5]Paramètres!$D$12
Name __Gsa05: [4]Paramètres!#REF!
Name __Gsa06: [4]Paramètres!#REF!
Name __Gsa07: [4]Paramètres!#REF!
Name __Gsa08: [4]Paramètres!#REF!
Name __Gsa09: [4]Paramètres!#REF!
Name _Ass01: [1]Paramètres!$B$9
Name _Ass02: [2]Paramètres!$B$10
Name _Ass04: [3]Paramètres!$B$12
Name _Ass05: [4]Paramètres!#REF!
Name _Ass06: [4]Paramètres!#REF!
Name _Ass07: [4]Paramètres!#REF!
Name _Ass08: [4]Paramètres!#REF!
Name _Ass09: [4]Paramètres!#REF!
Name _Dpm02: [2]Paramètres!$C$10
Name _Dpm04: [3]Paramètres!$C$12
Name _Dpm05: [4]Paramètres!#REF!
Name _Dpm06: [4]Paramètres!#REF!
Name _Dpm07: [4]Paramètres!#REF!
Name _Dpm08: [4]Paramètres!#REF!
Name _Fhp05: [4]Paramètres!#REF!
Name _Fhp06: [4]Paramètres!#REF!
Name _Fhp07: [4]Paramètres!#REF!
Name _Fhp08: [4]Paramètres!#REF!
Name _Fhp09: [4]Paramètres!#REF!
Name _Gsa01: [1]Paramètres!$D$9
Name _Gsa02: [2]Paramètres!$D$10
Name _Gsa04: [5]Paramètres!$D$12
Name _Gsa05: [4]Paramètres!#REF!
Name _Gsa06: [4]Paramètres!#REF!
Name _Gsa07: [4]Paramètres!#REF!
Name _Gsa08: [4]Paramètres!#REF!
Name _Gsa09: [4]Paramètres!#REF!
Name Ass00: [1]Paramètres!$B$8
Name bd: #REF!
Name Fhp00: [6]Paramètres!#REF!
Name Gsa00: [5]Paramètres!$D$8
Name Livraison: #REF!
Name Livré: #REF!

Sheet Parametre
C6: VERSION | D6: FILIALE | E6: Année_Livraison = Année_Comd+1 | F6: Année_Livraison - Année_Comd > 1
C7: DO | D7: VD
D8: F/AF
C9: LE | D9: VD
D10: F/AF
C11: MD | D11: VD
D12: F/AF
C13: DL | D13: VD
D14: F/AF
E17: D | F17: L

Sheet AD
L2: Année_OP
L3: 2013
M9: =L3 -> 2013 | AC9: =L3+1 -> 2014 | AS9: =L3+2 -> 2015
M10: Q1 | Q10: Q2 | U10: Q3 | Y10: Q4 | AC10: Q1 | AG10: Q2 | AK10: Q3 | AO10: Q4 | AS10: Q1 | AW10: Q2 | BA10: Q3 | BE10: Q4 | BK10: =M9 -> 2013 | BN10: =AC9 -> 2014 | BQ10: =AS9 -> 2015
A11: Année de cde | B11: Version | C11: Filiale | D11: Devise | E11: Mois de livraison | F11: Année livraison | G11: Quantité | H11: CA Devise | I11: CA Total | J11: APPAREIL | K11: MIL | M11: Qté | N11: CA | O11: Acompte | P11: Receivable | Q11: Qté | R11: CA | S11: Acompte | T11: Receivable | U11: Qté | V11: CA | W11: Acompte | X11: Receivable | Y11: Qté | Z11: CA | AA11: Acompte | AB11: Receivable | AC11: Qté | AD11: CA | AE11: Acompte | AF11: Receivable | AG11: Qté | AH11: CA | AI11: Acompte | AJ11: Receivable | AK11: Qté | AL11: CA | AM11: Acompte | AN11: Receivable | AO11: Qté | AP11: CA | AQ11: Acompte | AR11: Receivable | AS11: Qté | AT11: CA | AU11: Acompte | AV11: Receivable | AW11: Qté | AX11: CA | AY11: Acompte | AZ11: Receivable | BA11: Qté | BB11: CA | BC11: Acompte | BD11: Receivable | BE11: Qté | BF11: CA | BG11: Acompte | BH11: Receivable | BK11: CA | BL11: Acompte | BM11: Receivable | BN11: CA | BO11: Acompte | BP11: Receivable | BQ11: CA | BR11: Acompte | BS11: Receivable
E12: 3 | I12: =H12*G12 -> 0 | M12: =IF(N12<>"",G12,"") | N12: =IF(AND($M$9=F12,F12=A12+1),I12,IF(AND($M$9=F12,F12-A12>1),I12,"")) | O12: =IF(AND($M$9=A12,F12-A12<=2,C12="VD",J12="DAUPHIN",K12=""),I12*Parametre!$E$7,IF(AND($M$9-A12=1,F12-A12=2,C12="VD",J12="DAUPHIN",K12=""),I12*Parametre!$F$7,IF(AND($M$9=A12,F12-A12<=2,J12="DAUPHIN",OR(C12="F",C12="AF"),K12=""),I12*Parametre!$E$8,IF(AND($M$9-A12=1,F12-A12=2,J12="DAUPHIN",OR(C12="F",C12="AF"),K12=""),I12*Parametre!$F$8,IF(AND($M$9=A12,F12-A12<=2,C12="VD",J12="LEGER",K12=""),I12*Parametre!$E$9,IF(AND($M$9-A12=1,F12-A12=2,C12="VD",J12="LEGER",K12=""),I12*Parametre!$F$9,IF(AND($M$9=A12,F12-A12<=2,J12="LEGER",OR(C12="F",C12="AF"),K12=""),I12*Parametre!$E$10,IF(AND($M$9-A12=1,F12-A12=2,J12="LEGER",OR(C12="F",C12="AF"),K12=""),I12*Parametre!$F$10,IF(AND($M$9=A12,F12-A12<=2,C12="VD",J12="DAUPHIN",K12="MILT_DAUPH"),I12*Parametre!$E$11,IF(AND($M$9-A12=1,F12-A12=2,C12="VD",J12="DAUPHIN",K12="MILT_DAUPH"),I12*Parametre!$F$11,IF(AND($M$9=A12,F12-A12<=2,C12="VD",J12="LEGER",K12="MILIT_LH"),I12*Parametre!$E$13,""))))))))))) | Q12: =IF(R12<>"",G12,"") | R12: =IF(AND($M$9=F12,F12=A12+1),I12,IF(AND($M$9=F12,F12-A12),I12,"")) | S12: =IF(AND($M$9=A12,F12-A12<=2,C12="VD",J12="DAUPHIN",K12=""),I12*Parametre!$E$7,IF(AND($M$9-A12=1,F12-A12=2,C12="VD",J12="DAUPHIN",K12=""),I12*Parametre!$F$7,IF(AND($M$9=A12,F12-A12<=2,J12="DAUPHIN",OR(C12="F",C12="AF"),K12=""),I12*Parametre!$E$8,IF(AND($M$9-A12=1,F12-A12=2,J12="DAUPHIN",OR(C12="F",C12="AF"),K12=""),I12*Parametre!$F$8,IF(AND($M$9=A12,F12-A12<=2,C12="VD",J12="LEGER",K12=""),I12*Parametre!$E$9,IF(AND($M$9-A12=1,F12-A12=2,C12="VD",J12="LEGER",K12=""),I12*Parametre!$F$9,IF(AND($M$9=A12,F12-A12<=2,J12="LEGER",OR(C12="F",C12="AF"),K12=""),I12*Parametre!$E$10,IF(AND($M$9-A12=1,F12-A12=2,J12="LEGER",OR(C12="F",C12="AF"),K12=""),I12*Parametre!$F$10,IF(AND($M$9=A12,F12-A12<=2,C12="VD",J12="DAUPHIN",K12="MILT_DAUPH"),I12*Parametre!$E$11,IF(AND($M$9-A12=1,F12-A12=2,C12="VD",J12="DAUPHIN",K12="MILT_DAUPH"),I12*Parametre!$F$11,IF(AND($M$9=A12,F12-A12<=2,C12="VD",J12="LEGER",K12="MILIT_LH"),I12*Parametre!$E$13,""))))))))))) | U12: =IF(V12<>"",G12,"") | V12: =IF(AND($M$9=F12,F12=A12+1),I12,IF(AND($M$9=F12,F12-A12),I12,"")) | W12: =IF(AND($M$9=A12,F12-A12<=2,C12="VD",J12="DAUPHIN",K12=""),I12*Parametre!$E$7,IF(AND($M$9-A12=1,F12-A12=2,C12="VD",J12="DAUPHIN",K12=""),I12*Parametre!$F$7,IF(AND($M$9=A12,F12-A12<=2,J12="DAUPHIN",OR(C12="F",C12="AF"),K12=""),I12*Parametre!$E$8,IF(AND($M$9-A12=1,F12-A12=2,J12="DAUPHIN",OR(C12="F",C12="AF"),K12=""),I12*Parametre!$F$8,IF(AND($M$9=A12,F12-A12<=2,C12="VD",J12="LEGER",K12=""),I12*Parametre!$E$9,IF(AND($M$9-A12=1,F12-A12=2,C12="VD",J12="LEGER",K12=""),I12*Parametre!$F$9,IF(AND($M$9=A12,F12-A12<=2,J12="LEGER",OR(C12="F",C12="AF"),K12=""),I12*Parametre!$E$10,IF(AND($M$9-A12=1,F12-A12=2,J12="LEGER",OR(C12="F",C12="AF"),K12=""),I12*Parametre!$F$10,IF(AND($M$9=A12,F12-A12<=2,C12="VD",J12="DAUPHIN",K12="MILT_DAUPH"),I12*Parametre!$E$11,IF(AND($M$9-A12=1,F12-A12=2,C12="VD",J12="DAUPHIN",K12="MILT_DAUPH"),I12*Parametre!$F$11,IF(AND($M$9=A12,F12-A12<=2,C12="VD",J12="LEGER",K12="MILIT_LH"),I12*Parametre!$E$13,""))))))))))) | Y12: =IF(Z12<>"",G12,"") | Z12: =IF(AND($M$9=F12,F12=A12+1),I12,IF(AND($M$9=F12,F12-A12),I12,"")) | AA12: =IF(AND($M$9=A12,F12-A12<=2,C12="VD",J12="DAUPHIN",K12=""),I12*Parametre!$E$7,IF(AND($M$9-A12=1,F12-A12=2,C12="VD",J12="DAUPHIN",K12=""),I12*Parametre!$F$7,IF(AND($M$9=A12,F12-A12<=2,J12="DAUPHIN",OR(C12="F",C12="AF"),K12=""),I12*Parametre!$E$8,IF(AND($M$9-A12=1,F12-A12=2,J12="DAUPHIN",OR(C12="F",C12="AF"),K12=""),I12*Parametre!$F$8,IF(AND($M$9=A12,F12-A12<=2,C12="VD",J12="LEGER",K12=""),I12*Parametre!$E$9,IF(AND($M$9-A12=1,F12-A12=2,C12="VD",J12="LEGER",K12=""),I12*Parametre!$F$9,IF(AND($M$9=A12,F12-A12<=2,J12="LEGER",OR(C12="F",C12="AF"),K12=""),I12*Parametre!$E$10,IF(AND($M$9-A12=1,F12-A12=2,J12="LEGER",OR(C12="F",C12="AF"),K12=""),I12*Parametre!$F$10,IF(AND($M$9=A12,F12-A12<=2,C12="VD",J12="DAUPHIN",K12="MILT_DAUPH"),I12*Parametre!$E$11,IF(AND($M$9-A12=1,F12-A12=2,C12="VD",J12="DAUPHIN",K12="MILT_DAUPH"),I12*Parametre!$F$11,IF(AND($M$9=A12,F12-A12<=2,C12="VD",J12="LEGER",K12="MILIT_LH"),I12*Parametre!$E$13,""))))))))))) | AC12: =IF(AD12<>"",G12,"") | AD12: =IF(AND($AC$9=F12,F12=A12+1),I12,IF(AND($AC$9=F12,F12-A12>1),I12,"")) | AE12: =IF(AND($AC$9=A12,F12-A12<=2,C12="VD",J12="DAUPHIN",K12=""),I12*Parametre!$E$7,IF(AND($AC$9-A12=1,F12-A12=2,C12="VD",J12="DAUPHIN",K12=""),I12*Parametre!$F$7,IF(AND($AC$9=A12,F12-A12<=2,J12="DAUPHIN",OR(C12="F",C12="AF"),K12=""),I12*Parametre!$E$8,IF(AND($AC$9-A12=1,F12-A12=2,J12="DAUPHIN",OR(C12="F",C12="AF"),K12=""),I12*Parametre!$F$8,IF(AND($AC$9=A12,F12-A12<=2,C12="VD",J12="LEGER",K12=""),I12*Parametre!$E$9,IF(AND($AC$9-A12=1,F12-A12=2,C12="VD",J12="LEGER",K12=""),I12*Parametre!$F$9,IF(AND($AC$9=A12,F12-A12<=2,J12="LEGER",OR(C12="F",C12="AF"),K12=""),I12*Parametre!$E$10,IF(AND($AC$9-A12=1,F12-A12=2,J12="LEGER",OR(C12="F",C12="AF"),K12=""),I12*Parametre!$F$10,IF(AND($AC$9=A12,F12-A12<=2,C12="VD",J12="DAUPHIN",K12="MILT_DAUPH"),I12*Parametre!$E$11,IF(AND($AC$9-A12=1,F12-A12=2,C12="VD",J12="DAUPHIN",K12="MILT_DAUPH"),I12*Parametre!$F$11,IF(AND($AC$9=A12,F12-A12<=2,C12="VD",J12="LEGER",K12="MILIT_LH"),I12*Parametre!$E$13,""))))))))))) | AG12: =IF(AD12<>"",G12,"") | AH12: =IF(AND($AC$9=F12,F12=A12+1),I12,IF(AND($AC$9=F12,F12-A12),I12,"")) | AI12: =IF(AND($AC$9=A12,F12-A12<=2,C12="VD",J12="DAUPHIN",K12=""),I12*Parametre!$E$7,IF(AND($AC$9-A12=1,F12-A12=2,C12="VD",J12="DAUPHIN",K12=""),I12*Parametre!$F$7,IF(AND($AC$9=A12,F12-A12<=2,J12="DAUPHIN",OR(C12="F",C12="AF"),K12=""),I12*Parametre!$E$8,IF(AND($AC$9-A12=1,F12-A12=2,J12="DAUPHIN",OR(C12="F",C12="AF"),K12=""),I12*Parametre!$F$8,IF(AND($AC$9=A12,F12-A12<=2,C12="VD",J12="LEGER",K12=""),I12*Parametre!$E$9,IF(AND($AC$9-A12=1,F12-A12=2,C12="VD",J12="LEGER",K12=""),I12*Parametre!$F$9,IF(AND($AC$9=A12,F12-A12<=2,J12="LEGER",OR(C12="F",C12="AF"),K12=""),I12*Parametre!$E$10,IF(AND($AC$9-A12=1,F12-A12=2,J12="LEGER",OR(C12="F",C12="AF"),K12=""),I12*Parametre!$F$10,IF(AND($AC$9=A12,F12-A12<=2,C12="VD",J12="DAUPHIN",K12="MILT_DAUPH"),I12*Parametre!$E$11,IF(AND($AC$9-A12=1,F12-A12=2,C12="VD",J12="DAUPHIN",K12="MILT_DAUPH"),I12*Parametre!$F$11,IF(AND($AC$9=A12,F12-A12<=2,C12="VD",J12="LEGER",K12="MILIT_LH"),I12*Parametre!$E$13,""))))))))))) | AK12: =IF(AD12<>"",G12,"") | AL12: =IF(AND($AC$9=F12,F12=A12+1),I12,IF(AND($AC$9=F12,F12-A12),I12,"")) | AM12: =IF(AND($AC$9=A12,F12-A12<=2,C12="VD",J12="DAUPHIN",K12=""),I12*Parametre!$E$7,IF(AND($AC$9-A12=1,F12-A12=2,C12="VD",J12="DAUPHIN",K12=""),I12*Parametre!$F$7,IF(AND($AC$9=A12,F12-A12<=2,J12="DAUPHIN",OR(C12="F",C12="AF"),K12=""),I12*Parametre!$E$8,IF(AND($AC$9-A12=1,F12-A12=2,J12="DAUPHIN",OR(C12="F",C12="AF"),K12=""),I12*Parametre!$F$8,IF(AND($AC$9=A12,F12-A12<=2,C12="VD",J12="LEGER",K12=""),I12*Parametre!$E$9,IF(AND($AC$9-A12=1,F12-A12=2,C12="VD",J12="LEGER",K12=""),I12*Parametre!$F$9,IF(AND($AC$9=A12,F12-A12<=2,J12="LEGER",OR(C12="F",C12="AF"),K12=""),I12*Parametre!$E$10,IF(AND($AC$9-A12=1,F12-A12=2,J12="LEGER",OR(C12="F",C12="AF"),K12=""),I12*Parametre!$F$10,IF(AND($AC$9=A12,F12-A12<=2,C12="VD",J12="DAUPHIN",K12="MILT_DAUPH"),I12*Parametre!$E$11,IF(AND($AC$9-A12=1,F12-A12=2,C12="VD",J12="DAUPHIN",K12="MILT_DAUPH"),I12*Parametre!$F$11,IF(AND($AC$9=A12,F12-A12<=2,C12="VD",J12="LEGER",K12="MILIT_LH"),I12*Parametre!$E$13,""))))))))))) | AO12: =IF(AD12<>"",G12,"") | AP12: =IF(AND($AC$9=F12,F12=A12+1),I12,IF(AND($AC$9=F12,F12-A12),I12,"")) | AQ12: =IF(AND($AC$9=A12,F12-A12<=2,C12="VD",J12="DAUPHIN",K12=""),I12*Parametre!$E$7,IF(AND($AC$9-A12=1,F12-A12=2,C12="VD",J12="DAUPHIN",K12=""),I12*Parametre!$F$7,IF(AND($AC$9=A12,F12-A12<=2,J12="DAUPHIN",OR(C12="F",C12="AF"),K12=""),I12*Parametre!$E$8,IF(AND($AC$9-A12=1,F12-A12=2,J12="DAUPHIN",OR(C12="F",C12="AF"),K12=""),I12*Parametre!$F$8,IF(AND($AC$9=A12,F12-A12<=2,C12="VD",J12="LEGER",K12=""),I12*Parametre!$E$9,IF(AND($AC$9-A12=1,F12-A12=2,C12="VD",J12="LEGER",K12=""),I12*Parametre!$F$9,IF(AND($AC$9=A12,F12-A12<=2,J12="LEGER",OR(C12="F",C12="AF"),K12=""),I12*Parametre!$E$10,IF(AND($AC$9-A12=1,F12-A12=2,J12="LEGER",OR(C12="F",C12="AF"),K12=""),I12*Parametre!$F$10,IF(AND($AC$9=A12,F12-A12<=2,C12="VD",J12="DAUPHIN",K12="MILT_DAUPH"),I12*Parametre!$E$11,IF(AND($AC$9-A12=1,F12-A12=2,C12="VD",J12="DAUPHIN",K12="MILT_DAUPH"),I12*Parametre!$F$11,IF(AND($AC$9=A12,F12-A12<=2,C12="VD",J12="LEGER",K12="MILIT_LH"),I12*Parametre!$E$13,""))))))))))) | AS12: =IF(AT12<>"",G12,"") | AT12: =IF(AND($AS$9=F12,F12=A12+1),I12,IF(AND($AS$9=F12,F12-A12),I12,"")) | AU12: =IF(AND($AS$9=A12,F12-A12<=2,C12="VD",J12="DAUPHIN",K12=""),I12*Parametre!$E$7,IF(AND($AS$9-A12=1,F12-A12=2,C12="VD",J12="DAUPHIN",K12=""),I12*Parametre!$F$7,IF(AND($AS$9=A12,F12-A12<=2,J12="DAUPHIN",OR(C12="F",C12="AF"),K12=""),I12*Parametre!$E$8,IF(AND($AS$9-A12=1,F12-A12=2,J12="DAUPHIN",OR(C12="F",C12="AF"),K12=""),I12*Parametre!$F$8,IF(AND($AS$9=A12,F12-A12<=2,C12="VD",J12="LEGER",K12=""),I12*Parametre!$E$9,IF(AND($AS$9-A12=1,F12-A12=2,C12="VD",J12="LEGER",K12=""),I12*Parametre!$F$9,IF(AND($AS$9=A12,F12-A12<=2,J12="LEGER",OR(C12="F",C12="AF"),K12=""),I12*Parametre!$E$10,IF(AND($AS$9-A12=1,F12-A12=2,J12="LEGER",OR(C12="F",C12="AF"),K12=""),I12*Parametre!$F$10,IF(AND($AS$9=A12,F12-A12<=2,C12="VD",J12="DAUPHIN",K12="MILT_DAUPH"),I12*Parametre!$E$11,IF(AND($AS$9-A12=1,F12-A12=2,C12="VD",J12="DAUPHIN",K12="MILT_DAUPH"),I12*Parametre!$F$11,IF(AND($AS$9=A12,F12-A12<=2,C12="VD",J12="LEGER",K12="MILIT_LH"),I12*Parametre!$E$13,""))))))))))) | AW12: =IF(AX12<>"",G12,"") | AX12: =IF(AND($AS$9=F12,F12=A12+1),I12,IF(AND($AS$9=F12,F12-A12),I12,"")) | AY12: =IF(AND($AS$9=A12,F12-A12<=2,C12="VD",J12="DAUPHIN",K12=""),I12*Parametre!$E$7,IF(AND($AS$9-A12=1,F12-A12=2,C12="VD",J12="DAUPHIN",K12=""),I12*Parametre!$F$7,IF(AND($AS$9=A12,F12-A12<=2,J12="DAUPHIN",OR(C12="F",C12="AF"),K12=""),I12*Parametre!$E$8,IF(AND($AS$9-A12=1,F12-A12=2,J12="DAUPHIN",OR(C12="F",C12="AF"),K12=""),I12*Parametre!$F$8,IF(AND($AS$9=A12,F12-A12<=2,C12="VD",J12="LEGER",K12=""),I12*Parametre!$E$9,IF(AND($AS$9-A12=1,F12-A12=2,C12="VD",J12="LEGER",K12=""),I12*Parametre!$F$9,IF(AND($AS$9=A12,F12-A12<=2,J12="LEGER",OR(C12="F",C12="AF"),K12=""),I12*Parametre!$E$10,IF(AND($AS$9-A12=1,F12-A12=2,J12="LEGER",OR(C12="F",C12="AF"),K12=""),I12*Parametre!$F$10,IF(AND($AS$9=A12,F12-A12<=2,C12="VD",J12="DAUPHIN",K12="MILT_DAUPH"),I12*Parametre!$E$11,IF(AND($AS$9-A12=1,F12-A12=2,C12="VD",J12="DAUPHIN",K12="MILT_DAUPH"),I12*Parametre!$F$11,IF(AND($AS$9=A12,F12-A12<=2,C12="VD",J12="LEGER",K12="MILIT_LH"),I12*Parametre!$E$13,""))))))))))) | BA12: =IF(BB12<>"",G12,"") | BB12: =IF(AND($AS$9=F12,F12=A12+1),I12,IF(AND($AS$9=F12,F12-A12),I12,"")) | BC12: =IF(AND($AS$9=A12,F12-A12<=2,C12="VD",J12="DAUPHIN",K12=""),I12*Parametre!$E$7,IF(AND($AS$9-A12=1,F12-A12=2,C12="VD",J12="DAUPHIN",K12=""),I12*Parametre!$F$7,IF(AND($AS$9=A12,F12-A12<=2,J12="DAUPHIN",OR(C12="F",C12="AF"),K12=""),I12*Parametre!$E$8,IF(AND($AS$9-A12=1,F12-A12=2,J12="DAUPHIN",OR(C12="F",C12="AF"),K12=""),I12*Parametre!$F$8,IF(AND($AS$9=A12,F12-A12<=2,C12="VD",J12="LEGER",K12=""),I12*Parametre!$E$9,IF(AND($AS$9-A12=1,F12-A12=2,C12="VD",J12="LEGER",K12=""),I12*Parametre!$F$9,IF(AND($AS$9=A12,F12-A12<=2,J12="LEGER",OR(C12="F",C12="AF"),K12=""),I12*Parametre!$E$10,IF(AND($AS$9-A12=1,F12-A12=2,J12="LEGER",OR(C12="F",C12="AF"),K12=""),I12*Parametre!$F$10,IF(AND($AS$9=A12,F12-A12<=2,C12="VD",J12="DAUPHIN",K12="MILT_DAUPH"),I12*Parametre!$E$11,IF(AND($AS$9-A12=1,F12-A12=2,C12="VD",J12="DAUPHIN",K12="MILT_DAUPH"),I12*Parametre!$F$11,IF(AND($AS$9=A12,F12-A12<=2,C12="VD",J12="LEGER",K12="MILIT_LH"),I12*Parametre!$E$13,""))))))))))) | BE12: =IF(BF12<>"",G12,"") | BF12: =IF(AND($AS$9=F12,F12=A12+1),I12,IF(AND($AS$9=F12,F12-A12),I12,"")) | BG12: =IF(AND($AS$9=A12,F12-A12<=2,C12="VD",J12="DAUPHIN",K12=""),I12*Parametre!$E$7,IF(AND($AS$9-A12=1,F12-A12=2,C12="VD",J12="DAUPHIN",K12=""),I12*Parametre!$F$7,IF(AND($AS$9=A12,F12-A12<=2,J12="DAUPHIN",OR(C12="F",C12="AF"),K12=""),I12*Parametre!$E$8,IF(AND($AS$9-A12=1,F12-A12=2,J12="DAUPHIN",OR(C12="F",C12="AF"),K12=""),I12*Parametre!$F$8,IF(AND($AS$9=A12,F12-A12<=2,C12="VD",J12="LEGER",K12=""),I12*Parametre!$E$9,IF(AND($AS$9-A12=1,F12-A12=2,C12="VD",J12="LEGER",K12=""),I12*Parametre!$F$9,IF(AND($AS$9=A12,F12-A12<=2,J12="LEGER",OR(C12="F",C12="AF"),K12=""),I12*Parametre!$E$10,IF(AND($AS$9-A12=1,F12-A12=2,J12="LEGER",OR(C12="F",C12="AF"),K12=""),I12*Parametre!$F$10,IF(AND($AS$9=A12,F12-A12<=2,C12="VD",J12="DAUPHIN",K12="MILT_DAUPH"),I12*Parametre!$E$11,IF(AND($AS$9-A12=1,F12-A12=2,C12="VD",J12="DAUPHIN",K12="MILT_DAUPH"),I12*Parametre!$F$11,IF(AND($AS$9=A12,F12-A12<=2,C12="VD",J12="LEGER",K12="MILIT_LH"),I12*Parametre!$E$13,""))))))))))) | BK12: =IF(N12<>"",N12,""),IF(R12<>"",R12,""),IF(V12<>"",V12,""),IF(Z12<>"",Z12,"") -> #VALUE!
E13: 1 | I13: =H13*G13 -> 0 | M13: =IF(N13<>"",G13,"") | N13: =IF(AND($M$9=F13,F13=A13+1),I13,IF(AND($M$9=F13,F13-A13>1),I13,"")) | O13: =IF(AND($M$9=A13,F13-A13<=2,C13="VD",J13="DAUPHIN",K13=""),I13*Parametre!$E$7,IF(AND($M$9-A13=1,F13-A13=2,C13="VD",J13="DAUPHIN",K13=""),I13*Parametre!$F$7,IF(AND($M$9=A13,F13-A13<=2,J13="DAUPHIN",OR(C13="F",C13="AF"),K13=""),I13*Parametre!$E$8,IF(AND($M$9-A13=1,F13-A13=2,J13="DAUPHIN",OR(C13="F",C13="AF"),K13=""),I13*Parametre!$F$8,IF(AND($M$9=A13,F13-A13<=2,C13="VD",J13="LEGER",K13=""),I13*Parametre!$E$9,IF(AND($M$9-A13=1,F13-A13=2,C13="VD",J13="LEGER",K13=""),I13*Parametre!$F$9,IF(AND($M$9=A13,F13-A13<=2,J13="LEGER",OR(C13="F",C13="AF"),K13=""),I13*Parametre!$E$10,IF(AND($M$9-A13=1,F13-A13=2,J13="LEGER",OR(C13="F",C13="AF"),K13=""),I13*Parametre!$F$10,IF(AND($M$9=A13,F13-A13<=2,C13="VD",J13="DAUPHIN",K13="MILT_DAUPH"),I13*Parametre!$E$11,IF(AND($M$9-A13=1,F13-A13=2,C13="VD",J13="DAUPHIN",K13="MILT_DAUPH"),I13*Parametre!$F$11,IF(AND($M$9=A13,F13-A13<=2,C13="VD",J13="LEGER",K13="MILIT_LH"),I13*Parametre!$E$13,""))))))))))) | Q13: =IF(R13<>"",G13,"") | R13: =IF(AND($M$9=F13,F13=A13+1),I13,IF(AND($M$9=F13,F13-A13),I13,"")) | S13: =IF(AND($M$9=A13,F13-A13<=2,C13="VD",J13="DAUPHIN",K13=""),I13*Parametre!$E$7,IF(AND($M$9-A13=1,F13-A13=2,C13="VD",J13="DAUPHIN",K13=""),I13*Parametre!$F$7,IF(AND($M$9=A13,F13-A13<=2,J13="DAUPHIN",OR(C13="F",C13="AF"),K13=""),I13*Parametre!$E$8,IF(AND($M$9-A13=1,F13-A13=2,J13="DAUPHIN",OR(C13="F",C13="AF"),K13=""),I13*Parametre!$F$8,IF(AND($M$9=A13,F13-A13<=2,C13="VD",J13="LEGER",K13=""),I13*Parametre!$E$9,IF(AND($M$9-A13=1,F13-A13=2,C13="VD",J13="LEGER",K13=""),I13*Parametre!$F$9,IF(AND($M$9=A13,F13-A13<=2,J13="LEGER",OR(C13="F",C13="AF"),K13=""),I13*Parametre!$E$10,IF(AND($M$9-A13=1,F13-A13=2,J13="LEGER",OR(C13="F",C13="AF"),K13=""),I13*Parametre!$F$10,IF(AND($M$9=A13,F13-A13<=2,C13="VD",J13="DAUPHIN",K13="MILT_DAUPH"),I13*Parametre!$E$11,IF(AND($M$9-A13=1,F13-A13=2,C13="VD",J13="DAUPHIN",K13="MILT_DAUPH"),I13*Parametre!$F$11,IF(AND($M$9=A13,F13-A13<=2,C13="VD",J13="LEGER",K13="MILIT_LH"),I13*Parametre!$E$13,""))))))))))) | U13: =IF(V13<>"",G13,"") | V13: =IF(AND($M$9=F13,F13=A13+1),I13,IF(AND($M$9=F13,F13-A13),I13,"")) | W13: =IF(AND($M$9=A13,F13-A13<=2,C13="VD",J13="DAUPHIN",K13=""),I13*Parametre!$E$7,IF(AND($M$9-A13=1,F13-A13=2,C13="VD",J13="DAUPHIN",K13=""),I13*Parametre!$F$7,IF(AND($M$9=A13,F13-A13<=2,J13="DAUPHIN",OR(C13="F",C13="AF"),K13=""),I13*Parametre!$E$8,IF(AND($M$9-A13=1,F13-A13=2,J13="DAUPHIN",OR(C13="F",C13="AF"),K13=""),I13*Parametre!$F$8,IF(AND($M$9=A13,F13-A13<=2,C13="VD",J13="LEGER",K13=""),I13*Parametre!$E$9,IF(AND($M$9-A13=1,F13-A13=2,C13="VD",J13="LEGER",K13=""),I13*Parametre!$F$9,IF(AND($M$9=A13,F13-A13<=2,J13="LEGER",OR(C13="F",C13="AF"),K13=""),I13*Parametre!$E$10,IF(AND($M$9-A13=1,F13-A13=2,J13="LEGER",OR(C13="F",C13="AF"),K13=""),I13*Parametre!$F$10,IF(AND($M$9=A13,F13-A13<=2,C13="VD",J13="DAUPHIN",K13="MILT_DAUPH"),I13*Parametre!$E$11,IF(AND($M$9-A13=1,F13-A13=2,C13="VD",J13="DAUPHIN",K13="MILT_DAUPH"),I13*Parametre!$F$11,IF(AND($M$9=A13,F13-A13<=2,C13="VD",J13="LEGER",K13="MILIT_LH"),I13*Parametre!$E$13,""))))))))))) | Y13: =IF(Z13<>"",G13,"") | Z13: =IF(AND($M$9=F13,F13=A13+1),I13,IF(AND($M$9=F13,F13-A13),I13,"")) | AA13: =IF(AND($M$9=A13,F13-A13<=2,C13="VD",J13="DAUPHIN",K13=""),I13*Parametre!$E$7,IF(AND($M$9-A13=1,F13-A13=2,C13="VD",J13="DAUPHIN",K13=""),I13*Parametre!$F$7,IF(AND($M$9=A13,F13-A13<=2,J13="DAUPHIN",OR(C13="F",C13="AF"),K13=""),I13*Parametre!$E$8,IF(AND($M$9-A13=1,F13-A13=2,J13="DAUPHIN",OR(C13="F",C13="AF"),K13=""),I13*Parametre!$F$8,IF(AND($M$9=A13,F13-A13<=2,C13="VD",J13="LEGER",K13=""),I13*Parametre!$E$9,IF(AND($M$9-A13=1,F13-A13=2,C13="VD",J13="LEGER",K13=""),I13*Parametre!$F$9,IF(AND($M$9=A13,F13-A13<=2,J13="LEGER",OR(C13="F",C13="AF"),K13=""),I13*Parametre!$E$10,IF(AND($M$9-A13=1,F13-A13=2,J13="LEGER",OR(C13="F",C13="AF"),K13=""),I13*Parametre!$F$10,IF(AND($M$9=A13,F13-A13<=2,C13="VD",J13="DAUPHIN",K13="MILT_DAUPH"),I13*Parametre!$E$11,IF(AND($M$9-A13=1,F13-A13=2,C13="VD",J13="DAUPHIN",K13="MILT_DAUPH"),I13*Parametre!$F$11,IF(AND($M$9=A13,F13-A13<=2,C13="VD",J13="LEGER",K13="MILIT_LH"),I13*Parametre!$E$13,""))))))))))) | AC13: =IF(AD13<>"",G13,"") | AD13: =IF(AND($AC$9=F13,F13=A13+1),I13,IF(AND($AC$9=F13,F13-A13>1),I13,"")) | AE13: =IF(AND($AC$9=A13,F13-A13<=2,C13="VD",J13="DAUPHIN",K13=""),I13*Parametre!$E$7,IF(AND($AC$9-A13=1,F13-A13=2,C13="VD",J13="DAUPHIN",K13=""),I13*Parametre!$F$7,IF(AND($AC$9=A13,F13-A13<=2,J13="DAUPHIN",OR(C13="F",C13="AF"),K13=""),I13*Parametre!$E$8,IF(AND($AC$9-A13=1,F13-A13=2,J13="DAUPHIN",OR(C13="F",C13="AF"),K13=""),I13*Parametre!$F$8,IF(AND($AC$9=A13,F13-A13<=2,C13="VD",J13="LEGER",K13=""),I13*Parametre!$E$9,IF(AND($AC$9-A13=1,F13-A13=2,C13="VD",J13="LEGER",K13=""),I13*Parametre!$F$9,IF(AND($AC$9=A13,F13-A13<=2,J13="LEGER",OR(C13="F",C13="AF"),K13=""),I13*Parametre!$E$10,IF(AND($AC$9-A13=1,F13-A13=2,J13="LEGER",OR(C13="F",C13="AF"),K13=""),I13*Parametre!$F$10,IF(AND($AC$9=A13,F13-A13<=2,C13="VD",J13="DAUPHIN",K13="MILT_DAUPH"),I13*Parametre!$E$11,IF(AND($AC$9-A13=1,F13-A13=2,C13="VD",J13="DAUPHIN",K13="MILT_DAUPH"),I13*Parametre!$F$11,IF(AND($AC$9=A13,F13-A13<=2,C13="VD",J13="LEGER",K13="MILIT_LH"),I13*Parametre!$E$13,""))))))))))) | AG13: =IF(AD13<>"",G13,"") | AH13: =IF(AND($AC$9=F13,F13=A13+1),I13,IF(AND($AC$9=F13,F13-A13),I13,"")) | AI13: =IF(AND($AC$9=A13,F13-A13<=2,C13="VD",J13="DAUPHIN",K13=""),I13*Parametre!$E$7,IF(AND($AC$9-A13=1,F13-A13=2,C13="VD",J13="DAUPHIN",K13=""),I13*Parametre!$F$7,IF(AND($AC$9=A13,F13-A13<=2,J13="DAUPHIN",OR(C13="F",C13="AF"),K13=""),I13*Parametre!$E$8,IF(AND($AC$9-A13=1,F13-A13=2,J13="DAUPHIN",OR(C13="F",C13="AF"),K13=""),I13*Parametre!$F$8,IF(AND($AC$9=A13,F13-A13<=2,C13="VD",J13="LEGER",K13=""),I13*Parametre!$E$9,IF(AND($AC$9-A13=1,F13-A13=2,C13="VD",J13="LEGER",K13=""),I13*Parametre!$F$9,IF(AND($AC$9=A13,F13-A13<=2,J13="LEGER",OR(C13="F",C13="AF"),K13=""),I13*Parametre!$E$10,IF(AND($AC$9-A13=1,F13-A13=2,J13="LEGER",OR(C13="F",C13="AF"),K13=""),I13*Parametre!$F$10,IF(AND($AC$9=A13,F13-A13<=2,C13="VD",J13="DAUPHIN",K13="MILT_DAUPH"),I13*Parametre!$E$11,IF(AND($AC$9-A13=1,F13-A13=2,C13="VD",J13="DAUPHIN",K13="MILT_DAUPH"),I13*Parametre!$F$11,IF(AND($AC$9=A13,F13-A13<=2,C13="VD",J13="LEGER",K13="MILIT_LH"),I13*Parametre!$E$13,""))))))))))) | AK13: =IF(AD13<>"",G13,"") | AL13: =IF(AND($AC$9=F13,F13=A13+1),I13,IF(AND($AC$9=F13,F13-A13),I13,"")) | AM13: =IF(AND($AC$9=A13,F13-A13<=2,C13="VD",J13="DAUPHIN",K13=""),I13*Parametre!$E$7,IF(AND($AC$9-A13=1,F13-A13=2,C13="VD",J13="DAUPHIN",K13=""),I13*Parametre!$F$7,IF(AND($AC$9=A13,F13-A13<=2,J13="DAUPHIN",OR(C13="F",C13="AF"),K13=""),I13*Parametre!$E$8,IF(AND($AC$9-A13=1,F13-A13=2,J13="DAUPHIN",OR(C13="F",C13="AF"),K13=""),I13*Parametre!$F$8,IF(AND($AC$9=A13,F13-A13<=2,C13="VD",J13="LEGER",K13=""),I13*Parametre!$E$9,IF(AND($AC$9-A13=1,F13-A13=2,C13="VD",J13="LEGER",K13=""),I13*Parametre!$F$9,IF(AND($AC$9=A13,F13-A13<=2,J13="LEGER",OR(C13="F",C13="AF"),K13=""),I13*Parametre!$E$10,IF(AND($AC$9-A13=1,F13-A13=2,J13="LEGER",OR(C13="F",C13="AF"),K13=""),I13*Parametre!$F$10,IF(AND($AC$9=A13,F13-A13<=2,C13="VD",J13="DAUPHIN",K13="MILT_DAUPH"),I13*Parametre!$E$11,IF(AND($AC$9-A13=1,F13-A13=2,C13="VD",J13="DAUPHIN",K13="MILT_DAUPH"),I13*Parametre!$F$11,IF(AND($AC$9=A13,F13-A13<=2,C13="VD",J13="LEGER",K13="MILIT_LH"),I13*Parametre!$E$13,""))))))))))) | AO13: =IF(AD13<>"",G13,"") | AP13: =IF(AND($AC$9=F13,F13=A13+1),I13,IF(AND($AC$9=F13,F13-A13),I13,"")) | AQ13: =IF(AND($AC$9=A13,F13-A13<=2,C13="VD",J13="DAUPHIN",K13=""),I13*Parametre!$E$7,IF(AND($AC$9-A13=1,F13-A13=2,C13="VD",J13="DAUPHIN",K13=""),I13*Parametre!$F$7,IF(AND($AC$9=A13,F13-A13<=2,J13="DAUPHIN",OR(C13="F",C13="AF"),K13=""),I13*Parametre!$E$8,IF(AND($AC$9-A13=1,F13-A13=2,J13="DAUPHIN",OR(C13="F",C13="AF"),K13=""),I13*Parametre!$F$8,IF(AND($AC$9=A13,F13-A13<=2,C13="VD",J13="LEGER",K13=""),I13*Parametre!$E$9,IF(AND($AC$9-A13=1,F13-A13=2,C13="VD",J13="LEGER",K13=""),I13*Parametre!$F$9,IF(AND($AC$9=A13,F13-A13<=2,J13="LEGER",OR(C13="F",C13="AF"),K13=""),I13*Parametre!$E$10,IF(AND($AC$9-A13=1,F13-A13=2,J13="LEGER",OR(C13="F",C13="AF"),K13=""),I13*Parametre!$F$10,IF(AND($AC$9=A13,F13-A13<=2,C13="VD",J13="DAUPHIN",K13="MILT_DAUPH"),I13*Parametre!$E$11,IF(AND($AC$9-A13=1,F13-A13=2,C13="VD",J13="DAUPHIN",K13="MILT_DAUPH"),I13*Parametre!$F$11,IF(AND($AC$9=A13,F13-A13<=2,C13="VD",J13="LEGER",K13="MILIT_LH"),I13*Parametre!$E$13,""))))))))))) | AS13: =IF(AT13<>"",G13,"") | AT13: =IF(AND($AS$9=F13,F13=A13+1),I13,IF(AND($AS$9=F13,F13-A13),I13,"")) | AU13: =IF(AND($AS$9=A13,F13-A13<=2,C13="VD",J13="DAUPHIN",K13=""),I13*Parametre!$E$7,IF(AND($AS$9-A13=1,F13-A13=2,C13="VD",J13="DAUPHIN",K13=""),I13*Parametre!$F$7,IF(AND($AS$9=A13,F13-A13<=2,J13="DAUPHIN",OR(C13="F",C13="AF"),K13=""),I13*Parametre!$E$8,IF(AND($AS$9-A13=1,F13-A13=2,J13="DAUPHIN",OR(C13="F",C13="AF"),K13=""),I13*Parametre!$F$8,IF(AND($AS$9=A13,F13-A13<=2,C13="VD",J13="LEGER",K13=""),I13*Parametre!$E$9,IF(AND($AS$9-A13=1,F13-A13=2,C13="VD",J13="LEGER",K13=""),I13*Parametre!$F$9,IF(AND($AS$9=A13,F13-A13<=2,J13="LEGER",OR(C13="F",C13="AF"),K13=""),I13*Parametre!$E$10,IF(AND($AS$9-A13=1,F13-A13=2,J13="LEGER",OR(C13="F",C13="AF"),K13=""),I13*Parametre!$F$10,IF(AND($AS$9=A13,F13-A13<=2,C13="VD",J13="DAUPHIN",K13="MILT_DAUPH"),I13*Parametre!$E$11,IF(AND($AS$9-A13=1,F13-A13=2,C13="VD",J13="DAUPHIN",K13="MILT_DAUPH"),I13*Parametre!$F$11,IF(AND($AS$9=A13,F13-A13<=2,C13="VD",J13="LEGER",K13="MILIT_LH"),I13*Parametre!$E$13,""))))))))))) | AW13: =IF(AX13<>"",G13,"") | AX13: =IF(AND($AS$9=F13,F13=A13+1),I13,IF(AND($AS$9=F13,F13-A13),I13,"")) | AY13: =IF(AND($AS$9=A13,F13-A13<=2,C13="VD",J13="DAUPHIN",K13=""),I13*Parametre!$E$7,IF(AND($AS$9-A13=1,F13-A13=2,C13="VD",J13="DAUPHIN",K13=""),I13*Parametre!$F$7,IF(AND($AS$9=A13,F13-A13<=2,J13="DAUPHIN",OR(C13="F",C13="AF"),K13=""),I13*Parametre!$E$8,IF(AND($AS$9-A13=1,F13-A13=2,J13="DAUPHIN",OR(C13="F",C13="AF"),K13=""),I13*Parametre!$F$8,IF(AND($AS$9=A13,F13-A13<=2,C13="VD",J13="LEGER",K13=""),I13*Parametre!$E$9,IF(AND($AS$9-A13=1,F13-A13=2,C13="VD",J13="LEGER",K13=""),I13*Parametre!$F$9,IF(AND($AS$9=A13,F13-A13<=2,J13="LEGER",OR(C13="F",C13="AF"),K13=""),I13*Parametre!$E$10,IF(AND($AS$9-A13=1,F13-A13=2,J13="LEGER",OR(C13="F",C13="AF"),K13=""),I13*Parametre!$F$10,IF(AND($AS$9=A13,F13-A13<=2,C13="VD",J13="DAUPHIN",K13="MILT_DAUPH"),I13*Parametre!$E$11,IF(AND($AS$9-A13=1,F13-A13=2,C13="VD",J13="DAUPHIN",K13="MILT_DAUPH"),I13*Parametre!$F$11,IF(AND($AS$9=A13,F13-A13<=2,C13="VD",J13="LEGER",K13="MILIT_LH"),I13*Parametre!$E$13,""))))))))))) | BA13: =IF(BB13<>"",G13,"") | BB13: =IF(AND($AS$9=F13,F13=A13+1),I13,IF(AND($AS$9=F13,F13-A13),I13,"")) | BC13: =IF(AND($AS$9=A13,F13-A13<=2,C13="VD",J13="DAUPHIN",K13=""),I13*Parametre!$E$7,IF(AND($AS$9-A13=1,F13-A13=2,C13="VD",J13="DAUPHIN",K13=""),I13*Parametre!$F$7,IF(AND($AS$9=A13,F13-A13<=2,J13="DAUPHIN",OR(C13="F",C13="AF"),K13=""),I13*Parametre!$E$8,IF(AND($AS$9-A13=1,F13-A13=2,J13="DAUPHIN",OR(C13="F",C13="AF"),K13=""),I13*Parametre!$F$8,IF(AND($AS$9=A13,F13-A13<=2,C13="VD",J13="LEGER",K13=""),I13*Parametre!$E$9,IF(AND($AS$9-A13=1,F13-A13=2,C13="VD",J13="LEGER",K13=""),I13*Parametre!$F$9,IF(AND($AS$9=A13,F13-A13<=2,J13="LEGER",OR(C13="F",C13="AF"),K13=""),I13*Parametre!$E$10,IF(AND($AS$9-A13=1,F13-A13=2,J13="LEGER",OR(C13="F",C13="AF"),K13=""),I13*Parametre!$F$10,IF(AND($AS$9=A13,F13-A13<=2,C13="VD",J13="DAUPHIN",K13="MILT_DAUPH"),I13*Parametre!$E$11,IF(AND($AS$9-A13=1,F13-A13=2,C13="VD",J13="DAUPHIN",K13="MILT_DAUPH"),I13*Parametre!$F$11,IF(AND($AS$9=A13,F13-A13<=2,C13="VD",J13="LEGER",K13="MILIT_LH"),I13*Parametre!$E$13,""))))))))))) | BE13: =IF(BF13<>"",G13,"") | BF13: =IF(AND($AS$9=F13,F13=A13+1),I13,IF(AND($AS$9=F13,F13-A13),I13,"")) | BG13: =IF(AND($AS$9=A13,F13-A13<=2,C13="VD",J13="DAUPHIN",K13=""),I13*Parametre!$E$7,IF(AND($AS$9-A13=1,F13-A13=2,C13="VD",J13="DAUPHIN",K13=""),I13*Parametre!$F$7,IF(AND($AS$9=A13,F13-A13<=2,J13="DAUPHIN",OR(C13="F",C13="AF"),K13=""),I13*Parametre!$E$8,IF(AND($AS$9-A13=1,F13-A13=2,J13="DAUPHIN",OR(C13="F",C13="AF"),K13=""),I13*Parametre!$F$8,IF(AND($AS$9=A13,F13-A13<=2,C13="VD",J13="LEGER",K13=""),I13*Parametre!$E$9,IF(AND($AS$9-A13=1,F13-A13=2,C13="VD",J13="LEGER",K13=""),I13*Parametre!$F$9,IF(AND($AS$9=A13,F13-A13<=2,J13="LEGER",OR(C13="F",C13="AF"),K13=""),I13*Parametre!$E$10,IF(AND($AS$9-A13=1,F13-A13=2,J13="LEGER",OR(C13="F",C13="AF"),K13=""),I13*Parametre!$F$10,IF(AND($AS$9=A13,F13-A13<=2,C13="VD",J13="DAUPHIN",K13="MILT_DAUPH"),I13*Parametre!$E$11,IF(AND($AS$9-A13=1,F13-A13=2,C13="VD",J13="DAUPHIN",K13="MILT_DAUPH"),I13*Parametre!$F$11,IF(AND($AS$9=A13,F13-A13<=2,C13="VD",J13="LEGER",K13="MILIT_LH"),I13*Parametre!$E$13,"")))))))))))
E14: 2 | I14: =H14*G14 -> 0 | M14: =IF(N14<>"",G14,"") | N14: =IF(AND($M$9=F14,F14=A14+1),I14,IF(AND($M$9=F14,F14-A14>1),I14,"")) | O14: =IF(AND($M$9=A14,F14-A14<=2,C14="VD",J14="DAUPHIN",K14=""),I14*Parametre!$E$7,IF(AND($M$9-A14=1,F14-A14=2,C14="VD",J14="DAUPHIN",K14=""),I14*Parametre!$F$7,IF(AND($M$9=A14,F14-A14<=2,J14="DAUPHIN",OR(C14="F",C14="AF"),K14=""),I14*Parametre!$E$8,IF(AND($M$9-A14=1,F14-A14=2,J14="DAUPHIN",OR(C14="F",C14="AF"),K14=""),I14*Parametre!$F$8,IF(AND($M$9=A14,F14-A14<=2,C14="VD",J14="LEGER",K14=""),I14*Parametre!$E$9,IF(AND($M$9-A14=1,F14-A14=2,C14="VD",J14="LEGER",K14=""),I14*Parametre!$F$9,IF(AND($M$9=A14,F14-A14<=2,J14="LEGER",OR(C14="F",C14="AF"),K14=""),I14*Parametre!$E$10,IF(AND($M$9-A14=1,F14-A14=2,J14="LEGER",OR(C14="F",C14="AF"),K14=""),I14*Parametre!$F$10,IF(AND($M$9=A14,F14-A14<=2,C14="VD",J14="DAUPHIN",K14="MILT_DAUPH"),I14*Parametre!$E$11,IF(AND($M$9-A14=1,F14-A14=2,C14="VD",J14="DAUPHIN",K14="MILT_DAUPH"),I14*Parametre!$F$11,IF(AND($M$9=A14,F14-A14<=2,C14="VD",J14="LEGER",K14="MILIT_LH"),I14*Parametre!$E$13,""))))))))))) | Q14: =IF(R14<>"",G14,"") | R14: =IF(AND($M$9=F14,F14=A14+1),I14,IF(AND($M$9=F14,F14-A14),I14,"")) | S14: =IF(AND($M$9=A14,F14-A14<=2,C14="VD",J14="DAUPHIN",K14=""),I14*Parametre!$E$7,IF(AND($M$9-A14=1,F14-A14=2,C14="VD",J14="DAUPHIN",K14=""),I14*Parametre!$F$7,IF(AND($M$9=A14,F14-A14<=2,J14="DAUPHIN",OR(C14="F",C14="AF"),K14=""),I14*Parametre!$E$8,IF(AND($M$9-A14=1,F14-A14=2,J14="DAUPHIN",OR(C14="F",C14="AF"),K14=""),I14*Parametre!$F$8,IF(AND($M$9=A14,F14-A14<=2,C14="VD",J14="LEGER",K14=""),I14*Parametre!$E$9,IF(AND($M$9-A14=1,F14-A14=2,C14="VD",J14="LEGER",K14=""),I14*Parametre!$F$9,IF(AND($M$9=A14,F14-A14<=2,J14="LEGER",OR(C14="F",C14="AF"),K14=""),I14*Parametre!$E$10,IF(AND($M$9-A14=1,F14-A14=2,J14="LEGER",OR(C14="F",C14="AF"),K14=""),I14*Parametre!$F$10,IF(AND($M$9=A14,F14-A14<=2,C14="VD",J14="DAUPHIN",K14="MILT_DAUPH"),I14*Parametre!$E$11,IF(AND($M$9-A14=1,F14-A14=2,C14="VD",J14="DAUPHIN",K14="MILT_DAUPH"),I14*Parametre!$F$11,IF(AND($M$9=A14,F14-A14<=2,C14="VD",J14="LEGER",K14="MILIT_LH"),I14*Parametre!$E$13,""))))))))))) | U14: =IF(V14<>"",G14,"") | V14: =IF(AND($M$9=F14,F14=A14+1),I14,IF(AND($M$9=F14,F14-A14),I14,"")) | W14: =IF(AND($M$9=A14,F14-A14<=2,C14="VD",J14="DAUPHIN",K14=""),I14*Parametre!$E$7,IF(AND($M$9-A14=1,F14-A14=2,C14="VD",J14="DAUPHIN",K14=""),I14*Parametre!$F$7,IF(AND($M$9=A14,F14-A14<=2,J14="DAUPHIN",OR(C14="F",C14="AF"),K14=""),I14*Parametre!$E$8,IF(AND($M$9-A14=1,F14-A14=2,J14="DAUPHIN",OR(C14="F",C14="AF"),K14=""),I14*Parametre!$F$8,IF(AND($M$9=A14,F14-A14<=2,C14="VD",J14="LEGER",K14=""),I14*Parametre!$E$9,IF(AND($M$9-A14=1,F14-A14=2,C14="VD",J14="LEGER",K14=""),I14*Parametre!$F$9,IF(AND($M$9=A14,F14-A14<=2,J14="LEGER",OR(C14="F",C14="AF"),K14=""),I14*Parametre!$E$10,IF(AND($M$9-A14=1,F14-A14=2,J14="LEGER",OR(C14="F",C14="AF"),K14=""),I14*Parametre!$F$10,IF(AND($M$9=A14,F14-A14<=2,C14="VD",J14="DAUPHIN",K14="MILT_DAUPH"),I14*Parametre!$E$11,IF(AND($M$9-A14=1,F14-A14=2,C14="VD",J14="DAUPHIN",K14="MILT_DAUPH"),I14*Parametre!$F$11,IF(AND($M$9=A14,F14-A14<=2,C14="VD",J14="LEGER",K14="MILIT_LH"),I14*Parametre!$E$13,""))))))))))) | Y14: =IF(Z14<>"",G14,"") | Z14: =IF(AND($M$9=F14,F14=A14+1),I14,IF(AND($M$9=F14,F14-A14),I14,"")) | AA14: =IF(AND($M$9=A14,F14-A14<=2,C14="VD",J14="DAUPHIN",K14=""),I14*Parametre!$E$7,IF(AND($M$9-A14=1,F14-A14=2,C14="VD",J14="DAUPHIN",K14=""),I14*Parametre!$F$7,IF(AND($M$9=A14,F14-A14<=2,J14="DAUPHIN",OR(C14="F",C14="AF"),K14=""),I14*Parametre!$E$8,IF(AND($M$9-A14=1,F14-A14=2,J14="DAUPHIN",OR(C14="F",C14="AF"),K14=""),I14*Parametre!$F$8,IF(AND($M$9=A14,F14-A14<=2,C14="VD",J14="LEGER",K14=""),I14*Parametre!$E$9,IF(AND($M$9-A14=1,F14-A14=2,C14="VD",J14="LEGER",K14=""),I14*Parametre!$F$9,IF(AND($M$9=A14,F14-A14<=2,J14="LEGER",OR(C14="F",C14="AF"),K14=""),I14*Parametre!$E$10,IF(AND($M$9-A14=1,F14-A14=2,J14="LEGER",OR(C14="F",C14="AF"),K14=""),I14*Parametre!$F$10,IF(AND($M$9=A14,F14-A14<=2,C14="VD",J14="DAUPHIN",K14="MILT_DAUPH"),I14*Parametre!$E$11,IF(AND($M$9-A14=1,F14-A14=2,C14="VD",J14="DAUPHIN",K14="MILT_DAUPH"),I14*Parametre!$F$11,IF(AND($M$9=A14,F14-A14<=2,C14="VD",J14="LEGER",K14="MILIT_LH"),I14*Parametre!$E$13,""))))))))))) | AC14: =IF(AD14<>"",G14,"") | AD14: =IF(AND($AC$9=F14,F14=A14+1),I14,IF(AND($AC$9=F14,F14-A14>1),I14,"")) | AE14: =IF(AND($AC$9=A14,F14-A14<=2,C14="VD",J14="DAUPHIN",K14=""),I14*Parametre!$E$7,IF(AND($AC$9-A14=1,F14-A14=2,C14="VD",J14="DAUPHIN",K14=""),I14*Parametre!$F$7,IF(AND($AC$9=A14,F14-A14<=2,J14="DAUPHIN",OR(C14="F",C14="AF"),K14=""),I14*Parametre!$E$8,IF(AND($AC$9-A14=1,F14-A14=2,J14="DAUPHIN",OR(C14="F",C14="AF"),K14=""),I14*Parametre!$F$8,IF(AND($AC$9=A14,F14-A14<=2,C14="VD",J14="LEGER",K14=""),I14*Parametre!$E$9,IF(AND($AC$9-A14=1,F14-A14=2,C14="VD",J14="LEGER",K14=""),I14*Parametre!$F$9,IF(AND($AC$9=A14,F14-A14<=2,J14="LEGER",OR(C14="F",C14="AF"),K14=""),I14*Parametre!$E$10,IF(AND($AC$9-A14=1,F14-A14=2,J14="LEGER",OR(C14="F",C14="AF"),K14=""),I14*Parametre!$F$10,IF(AND($AC$9=A14,F14-A14<=2,C14="VD",J14="DAUPHIN",K14="MILT_DAUPH"),I14*Parametre!$E$11,IF(AND($AC$9-A14=1,F14-A14=2,C14="VD",J14="DAUPHIN",K14="MILT_DAUPH"),I14*Parametre!$F$11,IF(AND($AC$9=A14,F14-A14<=2,C14="VD",J14="LEGER",K14="MILIT_LH"),I14*Parametre!$E$13,""))))))))))) | AG14: =IF(AD14<>"",G14,"") | AH14: =IF(AND($AC$9=F14,F14=A14+1),I14,IF(AND($AC$9=F14,F14-A14),I14,"")) | AI14: =IF(AND($AC$9=A14,F14-A14<=2,C14="VD",J14="DAUPHIN",K14=""),I14*Parametre!$E$7,IF(AND($AC$9-A14=1,F14-A14=2,C14="VD",J14="DAUPHIN",K14=""),I14*Parametre!$F$7,IF(AND($AC$9=A14,F14-A14<=2,J14="DAUPHIN",OR(C14="F",C14="AF"),K14=""),I14*Parametre!$E$8,IF(AND($AC$9-A14=1,F14-A14=2,J14="DAUPHIN",OR(C14="F",C14="AF"),K14=""),I14*Parametre!$F$8,IF(AND($AC$9=A14,F14-A14<=2,C14="VD",J14="LEGER",K14=""),I14*Parametre!$E$9,IF(AND($AC$9-A14=1,F14-A14=2,C14="VD",J14="LEGER",K14=""),I14*Parametre!$F$9,IF(AND($AC$9=A14,F14-A14<=2,J14="LEGER",OR(C14="F",C14="AF"),K14=""),I14*Parametre!$E$10,IF(AND($AC$9-A14=1,F14-A14=2,J14="LEGER",OR(C14="F",C14="AF"),K14=""),I14*Parametre!$F$10,IF(AND($AC$9=A14,F14-A14<=2,C14="VD",J14="DAUPHIN",K14="MILT_DAUPH"),I14*Parametre!$E$11,IF(AND($AC$9-A14=1,F14-A14=2,C14="VD",J14="DAUPHIN",K14="MILT_DAUPH"),I14*Parametre!$F$11,IF(AND($AC$9=A14,F14-A14<=2,C14="VD",J14="LEGER",K14="MILIT_LH"),I14*Parametre!$E$13,""))))))))))) | AK14: =IF(AD14<>"",G14,"") | AL14: =IF(AND($AC$9=F14,F14=A14+1),I14,IF(AND($AC$9=F14,F14-A14),I14,"")) | AM14: =IF(AND($AC$9=A14,F14-A14<=2,C14="VD",J14="DAUPHIN",K14=""),I14*Parametre!$E$7,IF(AND($AC$9-A14=1,F14-A14=2,C14="VD",J14="DAUPHIN",K14=""),I14*Parametre!$F$7,IF(AND($AC$9=A14,F14-A14<=2,J14="DAUPHIN",OR(C14="F",C14="AF"),K14=""),I14*Parametre!$E$8,IF(AND($AC$9-A14=1,F14-A14=2,J14="DAUPHIN",OR(C14="F",C14="AF"),K14=""),I14*Parametre!$F$8,IF(AND($AC$9=A14,F14-A14<=2,C14="VD",J14="LEGER",K14=""),I14*Parametre!$E$9,IF(AND($AC$9-A14=1,F14-A14=2,C14="VD",J14="LEGER",K14=""),I14*Parametre!$F$9,IF(AND($AC$9=A14,F14-A14<=2,J14="LEGER",OR(C14="F",C14="AF"),K14=""),I14*Parametre!$E$10,IF(AND($AC$9-A14=1,F14-A14=2,J14="LEGER",OR(C14="F",C14="AF"),K14=""),I14*Parametre!$F$10,IF(AND($AC$9=A14,F14-A14<=2,C14="VD",J14="DAUPHIN",K14="MILT_DAUPH"),I14*Parametre!$E$11,IF(AND($AC$9-A14=1,F14-A14=2,C14="VD",J14="DAUPHIN",K14="MILT_DAUPH"),I14*Parametre!$F$11,IF(AND($AC$9=A14,F14-A14<=2,C14="VD",J14="LEGER",K14="MILIT_LH"),I14*Parametre!$E$13,""))))))))))) | AO14: =IF(AD14<>"",G14,"") | AP14: =IF(AND($AC$9=F14,F14=A14+1),I14,IF(AND($AC$9=F14,F14-A14),I14,"")) | AQ14: =IF(AND($AC$9=A14,F14-A14<=2,C14="VD",J14="DAUPHIN",K14=""),I14*Parametre!$E$7,IF(AND($AC$9-A14=1,F14-A14=2,C14="VD",J14="DAUPHIN",K14=""),I14*Parametre!$F$7,IF(AND($AC$9=A14,F14-A14<=2,J14="DAUPHIN",OR(C14="F",C14="AF"),K14=""),I14*Parametre!$E$8,IF(AND($AC$9-A14=1,F14-A14=2,J14="DAUPHIN",OR(C14="F",C14="AF"),K14=""),I14*Parametre!$F$8,IF(AND($AC$9=A14,F14-A14<=2,C14="VD",J14="LEGER",K14=""),I14*Parametre!$E$9,IF(AND($AC$9-A14=1,F14-A14=2,C14="VD",J14="LEGER",K14=""),I14*Parametre!$F$9,IF(AND($AC$9=A14,F14-A14<=2,J14="LEGER",OR(C14="F",C14="AF"),K14=""),I14*Parametre!$E$10,IF(AND($AC$9-A14=1,F14-A14=2,J14="LEGER",OR(C14="F",C14="AF"),K14=""),I14*Parametre!$F$10,IF(AND($AC$9=A14,F14-A14<=2,C14="VD",J14="DAUPHIN",K14="MILT_DAUPH"),I14*Parametre!$E$11,IF(AND($AC$9-A14=1,F14-A14=2,C14="VD",J14="DAUPHIN",K14="MILT_DAUPH"),I14*Parametre!$F$11,IF(AND($AC$9=A14,F14-A14<=2,C14="VD",J14="LEGER",K14="MILIT_LH"),I14*Parametre!$E$13,""))))))))))) | AS14: =IF(AT14<>"",G14,"") | AT14: =IF(AND($AS$9=F14,F14=A14+1),I14,IF(AND($AS$9=F14,F14-A14),I14,"")) | AU14: =IF(AND($AS$9=A14,F14-A14<=2,C14="VD",J14="DAUPHIN",K14=""),I14*Parametre!$E$7,IF(AND($AS$9-A14=1,F14-A14=2,C14="VD",J14="DAUPHIN",K14=""),I14*Parametre!$F$7,IF(AND($AS$9=A14,F14-A14<=2,J14="DAUPHIN",OR(C14="F",C14="AF"),K14=""),I14*Parametre!$E$8,IF(AND($AS$9-A14=1,F14-A14=2,J14="DAUPHIN",OR(C14="F",C14="AF"),K14=""),I14*Parametre!$F$8,IF(AND($AS$9=A14,F14-A14<=2,C14="VD",J14="LEGER",K14=""),I14*Parametre!$E$9,IF(AND($AS$9-A14=1,F14-A14=2,C14="VD",J14="LEGER",K14=""),I14*Parametre!$F$9,IF(AND($AS$9=A14,F14-A14<=2,J14="LEGER",OR(C14="F",C14="AF"),K14=""),I14*Parametre!$E$10,IF(AND($AS$9-A14=1,F14-A14=2,J14="LEGER",OR(C14="F",C14="AF"),K14=""),I14*Parametre!$F$10,IF(AND($AS$9=A14,F14-A14<=2,C14="VD",J14="DAUPHIN",K14="MILT_DAUPH"),I14*Parametre!$E$11,IF(AND($AS$9-A14=1,F14-A14=2,C14="VD",J14="DAUPHIN",K14="MILT_DAUPH"),I14*Parametre!$F$11,IF(AND($AS$9=A14,F14-A14<=2,C14="VD",J14="LEGER",K14="MILIT_LH"),I14*Parametre!$E$13,""))))))))))) | AW14: =IF(AX14<>"",G14,"") | AX14: =IF(AND($AS$9=F14,F14=A14+1),I14,IF(AND($AS$9=F14,F14-A14),I14,"")) | AY14: =IF(AND($AS$9=A14,F14-A14<=2,C14="VD",J14="DAUPHIN",K14=""),I14*Parametre!$E$7,IF(AND($AS$9-A14=1,F14-A14=2,C14="VD",J14="DAUPHIN",K14=""),I14*Parametre!$F$7,IF(AND($AS$9=A14,F14-A14<=2,J14="DAUPHIN",OR(C14="F",C14="AF"),K14=""),I14*Parametre!$E$8,IF(AND($AS$9-A14=1,F14-A14=2,J14="DAUPHIN",OR(C14="F",C14="AF"),K14=""),I14*Parametre!$F$8,IF(AND($AS$9=A14,F14-A14<=2,C14="VD",J14="LEGER",K14=""),I14*Parametre!$E$9,IF(AND($AS$9-A14=1,F14-A14=2,C14="VD",J14="LEGER",K14=""),I14*Parametre!$F$9,IF(AND($AS$9=A14,F14-A14<=2,J14="LEGER",OR(C14="F",C14="AF"),K14=""),I14*Parametre!$E$10,IF(AND($AS$9-A14=1,F14-A14=2,J14="LEGER",OR(C14="F",C14="AF"),K14=""),I14*Parametre!$F$10,IF(AND($AS$9=A14,F14-A14<=2,C14="VD",J14="DAUPHIN",K14="MILT_DAUPH"),I14*Parametre!$E$11,IF(AND($AS$9-A14=1,F14-A14=2,C14="VD",J14="DAUPHIN",K14="MILT_DAUPH"),I14*Parametre!$F$11,IF(AND($AS$9=A14,F14-A14<=2,C14="VD",J14="LEGER",K14="MILIT_LH"),I14*Parametre!$E$13,""))))))))))) | BA14: =IF(BB14<>"",G14,"") | BB14: =IF(AND($AS$9=F14,F14=A14+1),I14,IF(AND($AS$9=F14,F14-A14),I14,"")) | BC14: =IF(AND($AS$9=A14,F14-A14<=2,C14="VD",J14="DAUPHIN",K14=""),I14*Parametre!$E$7,IF(AND($AS$9-A14=1,F14-A14=2,C14="VD",J14="DAUPHIN",K14=""),I14*Parametre!$F$7,IF(AND($AS$9=A14,F14-A14<=2,J14="DAUPHIN",OR(C14="F",C14="AF"),K14=""),I14*Parametre!$E$8,IF(AND($AS$9-A14=1,F14-A14=2,J14="DAUPHIN",OR(C14="F",C14="AF"),K14=""),I14*Parametre!$F$8,IF(AND($AS$9=A14,F14-A14<=2,C14="VD",J14="LEGER",K14=""),I14*Parametre!$E$9,IF(AND($AS$9-A14=1,F14-A14=2,C14="VD",J14="LEGER",K14=""),I14*Parametre!$F$9,IF(AND($AS$9=A14,F14-A14<=2,J14="LEGER",OR(C14="F",C14="AF"),K14=""),I14*Parametre!$E$10,IF(AND($AS$9-A14=1,F14-A14=2,J14="LEGER",OR(C14="F",C14="AF"),K14=""),I14*Parametre!$F$10,IF(AND($AS$9=A14,F14-A14<=2,C14="VD",J14="DAUPHIN",K14="MILT_DAUPH"),I14*Parametre!$E$11,IF(AND($AS$9-A14=1,F14-A14=2,C14="VD",J14="DAUPHIN",K14="MILT_DAUPH"),I14*Parametre!$F$11,IF(AND($AS$9=A14,F14-A14<=2,C14="VD",J14="LEGER",K14="MILIT_LH"),I14*Parametre!$E$13,""))))))))))) | BE14: =IF(BF14<>"",G14,"") | BF14: =IF(AND($AS$9=F14,F14=A14+1),I14,IF(AND($AS$9=F14,F14-A14),I14,"")) | BG14: =IF(AND($AS$9=A14,F14-A14<=2,C14="VD",J14="DAUPHIN",K14=""),I14*Parametre!$E$7,IF(AND($AS$9-A14=1,F14-A14=2,C14="VD",J14="DAUPHIN",K14=""),I14*Parametre!$F$7,IF(AND($AS$9=A14,F14-A14<=2,J14="DAUPHIN",OR(C14="F",C14="AF"),K14=""),I14*Parametre!$E$8,IF(AND($AS$9-A14=1,F14-A14=2,J14="DAUPHIN",OR(C14="F",C14="AF"),K14=""),I14*Parametre!$F$8,IF(AND($AS$9=A14,F14-A14<=2,C14="VD",J14="LEGER",K14=""),I14*Parametre!$E$9,IF(AND($AS$9-A14=1,F14-A14=2,C14="VD",J14="LEGER",K14=""),I14*Parametre!$F$9,IF(AND($AS$9=A14,F14-A14<=2,J14="LEGER",OR(C14="F",C14="AF"),K14=""),I14*Parametre!$E$10,IF(AND($AS$9-A14=1,F14-A14=2,J14="LEGER",OR(C14="F",C14="AF"),K14=""),I14*Parametre!$F$10,IF(AND($AS$9=A14,F14-A14<=2,C14="VD",J14="DAUPHIN",K14="MILT_DAUPH"),I14*Parametre!$E$11,IF(AND($AS$9-A14=1,F14-A14=2,C14="VD",J14="DAUPHIN",K14="MILT_DAUPH"),I14*Parametre!$F$11,IF(AND($AS$9=A14,F14-A14<=2,C14="VD",J14="LEGER",K14="MILIT_LH"),I14*Parametre!$E$13,"")))))))))))
E15: NC | I15: =H15*G15 -> 0 | M15: =IF(N15<>"",G15,"") | N15: =IF(AND($M$9=F15,F15=A15+1),I15,IF(AND($M$9=F15,F15-A15>1),I15,"")) | O15: =IF(AND($M$9=A15,F15-A15<=2,C15="VD",J15="DAUPHIN",K15=""),I15*Parametre!$E$7,IF(AND($M$9-A15=1,F15-A15=2,C15="VD",J15="DAUPHIN",K15=""),I15*Parametre!$F$7,IF(AND($M$9=A15,F15-A15<=2,J15="DAUPHIN",OR(C15="F",C15="AF"),K15=""),I15*Parametre!$E$8,IF(AND($M$9-A15=1,F15-A15=2,J15="DAUPHIN",OR(C15="F",C15="AF"),K15=""),I15*Parametre!$F$8,IF(AND($M$9=A15,F15-A15<=2,C15="VD",J15="LEGER",K15=""),I15*Parametre!$E$9,IF(AND($M$9-A15=1,F15-A15=2,C15="VD",J15="LEGER",K15=""),I15*Parametre!$F$9,IF(AND($M$9=A15,F15-A15<=2,J15="LEGER",OR(C15="F",C15="AF"),K15=""),I15*Parametre!$E$10,IF(AND($M$9-A15=1,F15-A15=2,J15="LEGER",OR(C15="F",C15="AF"),K15=""),I15*Parametre!$F$10,IF(AND($M$9=A15,F15-A15<=2,C15="VD",J15="DAUPHIN",K15="MILT_DAUPH"),I15*Parametre!$E$11,IF(AND($M$9-A15=1,F15-A15=2,C15="VD",J15="DAUPHIN",K15="MILT_DAUPH"),I15*Parametre!$F$11,IF(AND($M$9=A15,F15-A15<=2,C15="VD",J15="LEGER",K15="MILIT_LH"),I15*Parametre!$E$13,""))))))))))) | Q15: =IF(R15<>"",G15,"") | R15: =IF(AND($M$9=F15,F15=A15+1),I15,IF(AND($M$9=F15,F15-A15),I15,"")) | S15: =IF(AND($M$9=A15,F15-A15<=2,C15="VD",J15="DAUPHIN",K15=""),I15*Parametre!$E$7,IF(AND($M$9-A15=1,F15-A15=2,C15="VD",J15="DAUPHIN",K15=""),I15*Parametre!$F$7,IF(AND($M$9=A15,F15-A15<=2,J15="DAUPHIN",OR(C15="F",C15="AF"),K15=""),I15*Parametre!$E$8,IF(AND($M$9-A15=1,F15-A15=2,J15="DAUPHIN",OR(C15="F",C15="AF"),K15=""),I15*Parametre!$F$8,IF(AND($M$9=A15,F15-A15<=2,C15="VD",J15="LEGER",K15=""),I15*Parametre!$E$9,IF(AND($M$9-A15=1,F15-A15=2,C15="VD",J15="LEGER",K15=""),I15*Parametre!$F$9,IF(AND($M$9=A15,F15-A15<=2,J15="LEGER",OR(C15="F",C15="AF"),K15=""),I15*Parametre!$E$10,IF(AND($M$9-A15=1,F15-A15=2,J15="LEGER",OR(C15="F",C15="AF"),K15=""),I15*Parametre!$F$10,IF(AND($M$9=A15,F15-A15<=2,C15="VD",J15="DAUPHIN",K15="MILT_DAUPH"),I15*Parametre!$E$11,IF(AND($M$9-A15=1,F15-A15=2,C15="VD",J15="DAUPHIN",K15="MILT_DAUPH"),I15*Parametre!$F$11,IF(AND($M$9=A15,F15-A15<=2,C15="VD",J15="LEGER",K15="MILIT_LH"),I15*Parametre!$E$13,""))))))))))) | U15: =IF(V15<>"",G15,"") | V15: =IF(AND($M$9=F15,F15=A15+1),I15,IF(AND($M$9=F15,F15-A15),I15,"")) | W15: =IF(AND($M$9=A15,F15-A15<=2,C15="VD",J15="DAUPHIN",K15=""),I15*Parametre!$E$7,IF(AND($M$9-A15=1,F15-A15=2,C15="VD",J15="DAUPHIN",K15=""),I15*Parametre!$F$7,IF(AND($M$9=A15,F15-A15<=2,J15="DAUPHIN",OR(C15="F",C15="AF"),K15=""),I15*Parametre!$E$8,IF(AND($M$9-A15=1,F15-A15=2,J15="DAUPHIN",OR(C15="F",C15="AF"),K15=""),I15*Parametre!$F$8,IF(AND($M$9=A15,F15-A15<=2,C15="VD",J15="LEGER",K15=""),I15*Parametre!$E$9,IF(AND($M$9-A15=1,F15-A15=2,C15="VD",J15="LEGER",K15=""),I15*Parametre!$F$9,IF(AND($M$9=A15,F15-A15<=2,J15="LEGER",OR(C15="F",C15="AF"),K15=""),I15*Parametre!$E$10,IF(AND($M$9-A15=1,F15-A15=2,J15="LEGER",OR(C15="F",C15="AF"),K15=""),I15*Parametre!$F$10,IF(AND($M$9=A15,F15-A15<=2,C15="VD",J15="DAUPHIN",K15="MILT_DAUPH"),I15*Parametre!$E$11,IF(AND($M$9-A15=1,F15-A15=2,C15="VD",J15="DAUPHIN",K15="MILT_DAUPH"),I15*Parametre!$F$11,IF(AND($M$9=A15,F15-A15<=2,C15="VD",J15="LEGER",K15="MILIT_LH"),I15*Parametre!$E$13,""))))))))))) | Y15: =IF(Z15<>"",G15,"") | Z15: =IF(AND($M$9=F15,F15=A15+1),I15,IF(AND($M$9=F15,F15-A15),I15,"")) | AA15: =IF(AND($M$9=A15,F15-A15<=2,C15="VD",J15="DAUPHIN",K15=""),I15*Parametre!$E$7,IF(AND($M$9-A15=1,F15-A15=2,C15="VD",J15="DAUPHIN",K15=""),I15*Parametre!$F$7,IF(AND($M$9=A15,F15-A15<=2,J15="DAUPHIN",OR(C15="F",C15="AF"),K15=""),I15*Parametre!$E$8,IF(AND($M$9-A15=1,F15-A15=2,J15="DAUPHIN",OR(C15="F",C15="AF"),K15=""),I15*Parametre!$F$8,IF(AND($M$9=A15,F15-A15<=2,C15="VD",J15="LEGER",K15=""),I15*Parametre!$E$9,IF(AND($M$9-A15=1,F15-A15=2,C15="VD",J15="LEGER",K15=""),I15*Parametre!$F$9,IF(AND($M$9=A15,F15-A15<=2,J15="LEGER",OR(C15="F",C15="AF"),K15=""),I15*Parametre!$E$10,IF(AND($M$9-A15=1,F15-A15=2,J15="LEGER",OR(C15="F",C15="AF"),K15=""),I15*Parametre!$F$10,IF(AND($M$9=A15,F15-A15<=2,C15="VD",J15="DAUPHIN",K15="MILT_DAUPH"),I15*Parametre!$E$11,IF(AND($M$9-A15=1,F15-A15=2,C15="VD",J15="DAUPHIN",K15="MILT_DAUPH"),I15*Parametre!$F$11,IF(AND($M$9=A15,F15-A15<=2,C15="VD",J15="LEGER",K15="MILIT_LH"),I15*Parametre!$E$13,""))))))))))) | AC15: =IF(AD15<>"",G15,"") | AD15: =IF(AND($AC$9=F15,F15=A15+1),I15,IF(AND($AC$9=F15,F15-A15>1),I15,"")) | AE15: =IF(AND($AC$9=A15,F15-A15<=2,C15="VD",J15="DAUPHIN",K15=""),I15*Parametre!$E$7,IF(AND($AC$9-A15=1,F15-A15=2,C15="VD",J15="DAUPHIN",K15=""),I15*Parametre!$F$7,IF(AND($AC$9=A15,F15-A15<=2,J15="DAUPHIN",OR(C15="F",C15="AF"),K15=""),I15*Parametre!$E$8,IF(AND($AC$9-A15=1,F15-A15=2,J15="DAUPHIN",OR(C15="F",C15="AF"),K15=""),I15*Parametre!$F$8,IF(AND($AC$9=A15,F15-A15<=2,C15="VD",J15="LEGER",K15=""),I15*Parametre!$E$9,IF(AND($AC$9-A15=1,F15-A15=2,C15="VD",J15="LEGER",K15=""),I15*Parametre!$F$9,IF(AND($AC$9=A15,F15-A15<=2,J15="LEGER",OR(C15="F",C15="AF"),K15=""),I15*Parametre!$E$10,IF(AND($AC$9-A15=1,F15-A15=2,J15="LEGER",OR(C15="F",C15="AF"),K15=""),I15*Parametre!$F$10,IF(AND($AC$9=A15,F15-A15<=2,C15="VD",J15="DAUPHIN",K15="MILT_DAUPH"),I15*Parametre!$E$11,IF(AND($AC$9-A15=1,F15-A15=2,C15="VD",J15="DAUPHIN",K15="MILT_DAUPH"),I15*Parametre!$F$11,IF(AND($AC$9=A15,F15-A15<=2,C15="VD",J15="LEGER",K15="MILIT_LH"),I15*Parametre!$E$13,""))))))))))) | AG15: =IF(AD15<>"",G15,"") | AH15: =IF(AND($AC$9=F15,F15=A15+1),I15,IF(AND($AC$9=F15,F15-A15),I15,"")) | AI15: =IF(AND($AC$9=A15,F15-A15<=2,C15="VD",J15="DAUPHIN",K15=""),I15*Parametre!$E$7,IF(AND($AC$9-A15=1,F15-A15=2,C15="VD",J15="DAUPHIN",K15=""),I15*Parametre!$F$7,IF(AND($AC$9=A15,F15-A15<=2,J15="DAUPHIN",OR(C15="F",C15="AF"),K15=""),I15*Parametre!$E$8,IF(AND($AC$9-A15=1,F15-A15=2,J15="DAUPHIN",OR(C15="F",C15="AF"),K15=""),I15*Parametre!$F$8,IF(AND($AC$9=A15,F15-A15<=2,C15="VD",J15="LEGER",K15=""),I15*Parametre!$E$9,IF(AND($AC$9-A15=1,F15-A15=2,C15="VD",J15="LEGER",K15=""),I15*Parametre!$F$9,IF(AND($AC$9=A15,F15-A15<=2,J15="LEGER",OR(C15="F",C15="AF"),K15=""),I15*Parametre!$E$10,IF(AND($AC$9-A15=1,F15-A15=2,J15="LEGER",OR(C15="F",C15="AF"),K15=""),I15*Parametre!$F$10,IF(AND($AC$9=A15,F15-A15<=2,C15="VD",J15="DAUPHIN",K15="MILT_DAUPH"),I15*Parametre!$E$11,IF(AND($AC$9-A15=1,F15-A15=2,C15="VD",J15="DAUPHIN",K15="MILT_DAUPH"),I15*Parametre!$F$11,IF(AND($AC$9=A15,F15-A15<=2,C15="VD",J15="LEGER",K15="MILIT_LH"),I15*Parametre!$E$13,""))))))))))) | AK15: =IF(AD15<>"",G15,"") | AL15: =IF(AND($AC$9=F15,F15=A15+1),I15,IF(AND($AC$9=F15,F15-A15),I15,"")) | AM15: =IF(AND($AC$9=A15,F15-A15<=2,C15="VD",J15="DAUPHIN",K15=""),I15*Parametre!$E$7,IF(AND($AC$9-A15=1,F15-A15=2,C15="VD",J15="DAUPHIN",K15=""),I15*Parametre!$F$7,IF(AND($AC$9=A15,F15-A15<=2,J15="DAUPHIN",OR(C15="F",C15="AF"),K15=""),I15*Parametre!$E$8,IF(AND($AC$9-A15=1,F15-A15=2,J15="DAUPHIN",OR(C15="F",C15="AF"),K15=""),I15*Parametre!$F$8,IF(AND($AC$9=A15,F15-A15<=2,C15="VD",J15="LEGER",K15=""),I15*Parametre!$E$9,IF(AND($AC$9-A15=1,F15-A15=2,C15="VD",J15="LEGER",K15=""),I15*Parametre!$F$9,IF(AND($AC$9=A15,F15-A15<=2,J15="LEGER",OR(C15="F",C15="AF"),K15=""),I15*Parametre!$E$10,IF(AND($AC$9-A15=1,F15-A15=2,J15="LEGER",OR(C15="F",C15="AF"),K15=""),I15*Parametre!$F$10,IF(AND($AC$9=A15,F15-A15<=2,C15="VD",J15="DAUPHIN",K15="MILT_DAUPH"),I15*Parametre!$E$11,IF(AND($AC$9-A15=1,F15-A15=2,C15="VD",J15="DAUPHIN",K15="MILT_DAUPH"),I15*Parametre!$F$11,IF(AND($AC$9=A15,F15-A15<=2,C15="VD",J15="LEGER",K15="MILIT_LH"),I15*Parametre!$E$13,""))))))))))) | AO15: =IF(AD15<>"",G15,"") | AP15: =IF(AND($AC$9=F15,F15=A15+1),I15,IF(AND($AC$9=F15,F15-A15),I15,"")) | AQ15: =IF(AND($AC$9=A15,F15-A15<=2,C15="VD",J15="DAUPHIN",K15=""),I15*Parametre!$E$7,IF(AND($AC$9-A15=1,F15-A15=2,C15="VD",J15="DAUPHIN",K15=""),I15*Parametre!$F$7,IF(AND($AC$9=A15,F15-A15<=2,J15="DAUPHIN",OR(C15="F",C15="AF"),K15=""),I15*Parametre!$E$8,IF(AND($AC$9-A15=1,F15-A15=2,J15="DAUPHIN",OR(C15="F",C15="AF"),K15=""),I15*Parametre!$F$8,IF(AND($AC$9=A15,F15-A15<=2,C15="VD",J15="LEGER",K15=""),I15*Parametre!$E$9,IF(AND($AC$9-A15=1,F15-A15=2,C15="VD",J15="LEGER",K15=""),I15*Parametre!$F$9,IF(AND($AC$9=A15,F15-A15<=2,J15="LEGER",OR(C15="F",C15="AF"),K15=""),I15*Parametre!$E$10,IF(AND($AC$9-A15=1,F15-A15=2,J15="LEGER",OR(C15="F",C15="AF"),K15=""),I15*Parametre!$F$10,IF(AND($AC$9=A15,F15-A15<=2,C15="VD",J15="DAUPHIN",K15="MILT_DAUPH"),I15*Parametre!$E$11,IF(AND($AC$9-A15=1,F15-A15=2,C15="VD",J15="DAUPHIN",K15="MILT_DAUPH"),I15*Parametre!$F$11,IF(AND($AC$9=A15,F15-A15<=2,C15="VD",J15="LEGER",K15="MILIT_LH"),I15*Parametre!$E$13,""))))))))))) | AS15: =IF(AT15<>"",G15,"") | AT15: =IF(AND($AS$9=F15,F15=A15+1),I15,IF(AND($AS$9=F15,F15-A15),I15,"")) | AU15: =IF(AND($AS$9=A15,F15-A15<=2,C15="VD",J15="DAUPHIN",K15=""),I15*Parametre!$E$7,IF(AND($AS$9-A15=1,F15-A15=2,C15="VD",J15="DAUPHIN",K15=""),I15*Parametre!$F$7,IF(AND($AS$9=A15,F15-A15<=2,J15="DAUPHIN",OR(C15="F",C15="AF"),K15=""),I15*Parametre!$E$8,IF(AND($AS$9-A15=1,F15-A15=2,J15="DAUPHIN",OR(C15="F",C15="AF"),K15=""),I15*Parametre!$F$8,IF(AND($AS$9=A15,F15-A15<=2,C15="VD",J15="LEGER",K15=""),I15*Parametre!$E$9,IF(AND($AS$9-A15=1,F15-A15=2,C15="VD",J15="LEGER",K15=""),I15*Parametre!$F$9,IF(AND($AS$9=A15,F15-A15<=2,J15="LEGER",OR(C15="F",C15="AF"),K15=""),I15*Parametre!$E$10,IF(AND($AS$9-A15=1,F15-A15=2,J15="LEGER",OR(C15="F",C15="AF"),K15=""),I15*Parametre!$F$10,IF(AND($AS$9=A15,F15-A15<=2,C15="VD",J15="DAUPHIN",K15="MILT_DAUPH"),I15*Parametre!$E$11,IF(AND($AS$9-A15=1,F15-A15=2,C15="VD",J15="DAUPHIN",K15="MILT_DAUPH"),I15*Parametre!$F$11,IF(AND($AS$9=A15,F15-A15<=2,C15="VD",J15="LEGER",K15="MILIT_LH"),I15*Parametre!$E$13,""))))))))))) | AW15: =IF(AX15<>"",G15,"") | AX15: =IF(AND($AS$9=F15,F15=A15+1),I15,IF(AND($AS$9=F15,F15-A15),I15,"")) | AY15: =IF(AND($AS$9=A15,F15-A15<=2,C15="VD",J15="DAUPHIN",K15=""),I15*Parametre!$E$7,IF(AND($AS$9-A15=1,F15-A15=2,C15="VD",J15="DAUPHIN",K15=""),I15*Parametre!$F$7,IF(AND($AS$9=A15,F15-A15<=2,J15="DAUPHIN",OR(C15="F",C15="AF"),K15=""),I15*Parametre!$E$8,IF(AND($AS$9-A15=1,F15-A15=2,J15="DAUPHIN",OR(C15="F",C15="AF"),K15=""),I15*Parametre!$F$8,IF(AND($AS$9=A15,F15-A15<=2,C15="VD",J15="LEGER",K15=""),I15*Parametre!$E$9,IF(AND($AS$9-A15=1,F15-A15=2,C15="VD",J15="LEGER",K15=""),I15*Parametre!$F$9,IF(AND($AS$9=A15,F15-A15<=2,J15="LEGER",OR(C15="F",C15="AF"),K15=""),I15*Parametre!$E$10,IF(AND($AS$9-A15=1,F15-A15=2,J15="LEGER",OR(C15="F",C15="AF"),K15=""),I15*Parametre!$F$10,IF(AND($AS$9=A15,F15-A15<=2,C15="VD",J15="DAUPHIN",K15="MILT_DAUPH"),I15*Parametre!$E$11,IF(AND($AS$9-A15=1,F15-A15=2,C15="VD",J15="DAUPHIN",K15="MILT_DAUPH"),I15*Parametre!$F$11,IF(AND($AS$9=A15,F15-A15<=2,C15="VD",J15="LEGER",K15="MILIT_LH"),I15*Parametre!$E$13,""))))))))))) | BA15: =IF(BB15<>"",G15,"") | BB15: =IF(AND($AS$9=F15,F15=A15+1),I15,IF(AND($AS$9=F15,F15-A15),I15,"")) | BC15: =IF(AND($AS$9=A15,F15-A15<=2,C15="VD",J15="DAUPHIN",K15=""),I15*Parametre!$E$7,IF(AND($AS$9-A15=1,F15-A15=2,C15="VD",J15="DAUPHIN",K15=""),I15*Parametre!$F$7,IF(AND($AS$9=A15,F15-A15<=2,J15="DAUPHIN",OR(C15="F",C15="AF"),K15=""),I15*Parametre!$E$8,IF(AND($AS$9-A15=1,F15-A15=2,J15="DAUPHIN",OR(C15="F",C15="AF"),K15=""),I15*Parametre!$F$8,IF(AND($AS$9=A15,F15-A15<=2,C15="VD",J15="LEGER",K15=""),I15*Parametre!$E$9,IF(AND($AS$9-A15=1,F15-A15=2,C15="VD",J15="LEGER",K15=""),I15*Parametre!$F$9,IF(AND($AS$9=A15,F15-A15<=2,J15="LEGER",OR(C15="F",C15="AF"),K15=""),I15*Parametre!$E$10,IF(AND($AS$9-A15=1,F15-A15=2,J15="LEGER",OR(C15="F",C15="AF"),K15=""),I15*Parametre!$F$10,IF(AND($AS$9=A15,F15-A15<=2,C15="VD",J15="DAUPHIN",K15="MILT_DAUPH"),I15*Parametre!$E$11,IF(AND($AS$9-A15=1,F15-A15=2,C15="VD",J15="DAUPHIN",K15="MILT_DAUPH"),I15*Parametre!$F$11,IF(AND($AS$9=A15,F15-A15<=2,C15="VD",J15="LEGER",K15="MILIT_LH"),I15*Parametre!$E$13,""))))))))))) | BE15: =IF(BF15<>"",G15,"") | BF15: =IF(AND($AS$9=F15,F15=A15+1),I15,IF(AND($AS$9=F15,F15-A15),I15,"")) | BG15: =IF(AND($AS$9=A15,F15-A15<=2,C15="VD",J15="DAUPHIN",K15=""),I15*Parametre!$E$7,IF(AND($AS$9-A15=1,F15-A15=2,C15="VD",J15="DAUPHIN",K15=""),I15*Parametre!$F$7,IF(AND($AS$9=A15,F15-A15<=2,J15="DAUPHIN",OR(C15="F",C15="AF"),K15=""),I15*Parametre!$E$8,IF(AND($AS$9-A15=1,F15-A15=2,J15="DAUPHIN",OR(C15="F",C15="AF"),K15=""),I15*Parametre!$F$8,IF(AND($AS$9=A15,F15-A15<=2,C15="VD",J15="LEGER",K15=""),I15*Parametre!$E$9,IF(AND($AS$9-A15=1,F15-A15=2,C15="VD",J15="LEGER",K15=""),I15*Parametre!$F$9,IF(AND($AS$9=A15,F15-A15<=2,J15="LEGER",OR(C15="F",C15="AF"),K15=""),I15*Parametre!$E$10,IF(AND($AS$9-A15=1,F15-A15=2,J15="LEGER",OR(C15="F",C15="AF"),K15=""),I15*Parametre!$F$10,IF(AND($AS$9=A15,F15-A15<=2,C15="VD",J15="DAUPHIN",K15="MILT_DAUPH"),I15*Parametre!$E$11,IF(AND($AS$9-A15=1,F15-A15=2,C15="VD",J15="DAUPHIN",K15="MILT_DAUPH"),I15*Parametre!$F$11,IF(AND($AS$9=A15,F15-A15<=2,C15="VD",J15="LEGER",K15="MILIT_LH"),I15*Parametre!$E$13,"")))))))))))
