Workbook
Name _PL1: '[1]EXEMPLE BULL SAL'!$A$1
Name BASE: '[1]EXEMPLE BULL SAL'!$E$65+'[1]EXEMPLE BULL SAL'!$E$66
Name BASE1: '[1]EXEMPLE BULL SAL'!$E$7+'[1]EXEMPLE BULL SAL'!$E$8
Name BASE2: '[1]EXEMPLE BULL SAL'!$E$159
Name BASE99: '[2]EXEMPLE BULL SAL'!$E$63+'[2]EXEMPLE BULL SAL'!$E$64
Name BLANC0: [4]URSSAF!$C$6:$C$16,[4]URSSAF!$F$6:$F$16,[4]URSSAF!$C$21:$C$31,[4]URSSAF!$F$21:$F$31,[4]URSSAF!$C$39:$C$46,[4]URSSAF!$F$39:$F$46,[4]URSSAF!$D$51:$D$53
Name blanc2: [5]URSSAF!$A$10:$A$15+[5]URSSAF!$K$15+[5]URSSAF!$A$21:$A$32+[5]URSSAF!$A$38:$A$46+[5]URSSAF!$K$4:$K$5+[5]URSSAF!$K$9:$K$10+[5]URSSAF!$K$15+[5]URSSAF!$K$17:$K$19+[5]URSSAF!$K$23:$K$24
Name BLC: [5]URSSAF!$C$21:$C$31,[5]URSSAF!$C$6:$C$16,[5]URSSAF!$C$38:$C$46,[5]URSSAF!$F$21:$F$32,[5]URSSAF!$F$6:$F$16,[5]URSSAF!$F$38:$F$45,[5]URSSAF!$D$54:$D$56
Name Cachée: OFFSET('[6]Feuil3 (2)'!$F$5,,,COUNTA(Nom))
Name Fin: OFFSET(Noms,0,2)
Name Fin: OFFSET(Noms,0,2)
Name IRSCO: #REF!
Name JF: '[7]DEDUCTION CP 2009-2010'!$Q$2:$Q$15
Name listecredit: Compta!$A$2:$A$326
Name Nom: OFFSET('[6]Feuil3 (2)'!$A$5,,,COUNTA('[6]Feuil3 (2)'!$A:$A)-1)
Name PL: #REF!
Name Plafond2012: [8]Feuil1!$AA$2
Name Plafond2012: #REF!
Name Plafond2013: [8]Feuil1!$AC$2
Name Plafond2013: #REF!
Name PlafondMaterIJ.01.2013: '[6]Controle IJSS'!$AE$3
Name PlafondMaterIJ.07.2013: '[6]Controle IJSS'!$AE$4
Name PlafondmensuelSS: '[6]Controle IJSS'!$AE$2
Name PLD: '[4]T. REST'!#REF!
Name PLR: '[4]T. REST'!#REF!
Name po: #REF!
Name PT: #REF!
Name SMIC.01.12: '[6]Controle IJSS'!$AA$2
Name SMIC.01.13: '[6]Controle IJSS'!$AA$4
Name SMIC.07.12: '[6]Controle IJSS'!$AA$3
Name tarif: #REF!
Name taux: '[9]ch soc'!#REF!
Name taux: '[9]ch soc'!#REF!
Name tr: '[10]Suppl. Fam'!#REF!
Name tr: '[10]Suppl. Fam'!#REF!

Sheet Feuil1
A1: Total par pièce | B1: NOM Prénom | C1: Date Paiement | D1: Montant | E1: Pièce
A2: 78.7 | B2: AD | C2: 41276 | D2: 78.7 | E2: 44-2013-01-02-01
A3: 444.08 | B3: AG | C3: 41283 | D3: 444.08 | E3: 44-2013-01-09-01
A4: 928.34 | B4: E | C4: 41284 | D4: 428.49 | E4: 44-2013-01-10-01
A5: 928.34 | B5: AG | C5: 41284 | D5: 63.44 | E5: 44-2013-01-10-01
A6: 928.34 | B6: BB | C6: 41284 | D6: 436.41 | E6: 44-2013-01-10-01
A7: 279.18 | B7: Y | C7: 41289 | D7: 279.18 | E7: 44-2013-01-15-01
A8: 238.05 | B8: E | C8: 41290 | D8: 238.05 | E8: 44-2013-01-16-01
A9: 888.16 | B9: AG | C9: 41297 | D9: 888.16 | E9: 44-2013-01-23-01
A10: 666.54 | B10: E | C10: 41303 | D10: 666.54 | E10: 44-2013-01-29-01
A11: 770.66 | B11: D | C11: 41304 | D11: 236.1 | E11: 44-2013-01-30-01
A12: 770.66 | B12: AN | C12: 41304 | D12: 534.56 | E12: 44-2013-01-30-01
A13: 236.1 | B13: D | C13: 41310 | D13: 236.1 | E13: 44-2013-02-05-01
... A107: 78.96 | B107: AW | C107: 41444 | D107: 78.96 | E107: 44-2013-06-19-01
A108: … | B108: … | C108: … | D108: … | E108: …

Sheet Compta
A1: Crédit | B1: Débit | C1: Date de reception | D1: Libellé | E1: Recherche V | F1: Valeur souhaitée | G1: Check2 | H1: Valeur souhaitée2
A2: 1107.36 | C2: 41284 | D2: LA | E2: =VLOOKUP(A2,Feuil1!$A$1:$F$108,5,FALSE) -> #N/A | G2: =IF(F2=E2,"ok","FAUX") -> #N/A | H2: {=IF(D2<>"LA","Non-LA",IF(NOT(ISNUMBER(MATCH(A2,Feuil1!$A$2:$A$107,0))),"Valeur Crédit Non-Trouvée",INDEX(Feuil1!$E$2:$E$107,MATCH(Compta!A2&SMALL(IF(Feuil1!$A$2:$A$107=Compta!A2,Feuil1!$C$2:$C$107),MATCH(C2,SMALL(IF(Feuil1!$A$2:$A$107=Compta!A2,Feuil1!$C$2:$C$107),ROW(INDIRECT("1:"&COUNTIF(Feuil1!$A$2:$A$107,Compta!A2)))),1)),Feuil1!$A$2:$A$107&Feuil1!$C$2:$C$107,0))))} -> Valeur Crédit Non-Trouvée
A3: 444.08 | C3: 41284 | D3: LA | E3: =VLOOKUP(A3,Feuil1!$A$1:$F$108,5,FALSE) -> 44-2013-01-09-01 | F3: 44-2013-01-09-01 | G3: =IF(F3=E3,"ok","FAUX") -> ok | H3: {=IF(D3<>"LA","Non-LA",IF(NOT(ISNUMBER(MATCH(A3,Feuil1!$A$2:$A$107,0))),"Valeur Crédit Non-Trouvée",INDEX(Feuil1!$E$2:$E$107,MATCH(Compta!A3&SMALL(IF(Feuil1!$A$2:$A$107=Compta!A3,Feuil1!$C$2:$C$107),MATCH(C3,SMALL(IF(Feuil1!$A$2:$A$107=Compta!A3,Feuil1!$C$2:$C$107),ROW(INDIRECT("1:"&COUNTIF(Feuil1!$A$2:$A$107,Compta!A3)))),1)),Feuil1!$A$2:$A$107&Feuil1!$C$2:$C$107,0))))} -> 44-2013-01-09-01
A4: 1493.8 | C4: 41284 | D4: LE M | E4: =VLOOKUP(A4,Feuil1!$A$1:$F$108,5,FALSE) -> #N/A | H4: {=IF(D4<>"LA","Non-LA",IF(NOT(ISNUMBER(MATCH(A4,Feuil1!$A$2:$A$107,0))),"Valeur Crédit Non-Trouvée",INDEX(Feuil1!$E$2:$E$107,MATCH(Compta!A4&SMALL(IF(Feuil1!$A$2:$A$107=Compta!A4,Feuil1!$C$2:$C$107),MATCH(C4,SMALL(IF(Feuil1!$A$2:$A$107=Compta!A4,Feuil1!$C$2:$C$107),ROW(INDIRECT("1:"&COUNTIF(Feuil1!$A$2:$A$107,Compta!A4)))),1)),Feuil1!$A$2:$A$107&Feuil1!$C$2:$C$107,0))))} -> Non-LA
A5: 928.34 | C5: 41285 | D5: LA | E5: =VLOOKUP(A5,Feuil1!$A$1:$F$108,5,FALSE) -> 44-2013-01-10-01 | F5: 44-2013-01-10-01 | G5: =IF(F5=E5,"ok","FAUX") -> ok | H5: {=IF(D5<>"LA","Non-LA",IF(NOT(ISNUMBER(MATCH(A5,Feuil1!$A$2:$A$107,0))),"Valeur Crédit Non-Trouvée",INDEX(Feuil1!$E$2:$E$107,MATCH(Compta!A5&SMALL(IF(Feuil1!$A$2:$A$107=Compta!A5,Feuil1!$C$2:$C$107),MATCH(C5,SMALL(IF(Feuil1!$A$2:$A$107=Compta!A5,Feuil1!$C$2:$C$107),ROW(INDIRECT("1:"&COUNTIF(Feuil1!$A$2:$A$107,Compta!A5)))),1)),Feuil1!$A$2:$A$107&Feuil1!$C$2:$C$107,0))))} -> 44-2013-01-10-01
A6: 1045.38 | C6: 41288 | D6: LE M | E6: =VLOOKUP(A6,Feuil1!$A$1:$F$108,5,FALSE) -> 44-2013-05-31-01 | H6: {=IF(D6<>"LA","Non-LA",IF(NOT(ISNUMBER(MATCH(A6,Feuil1!$A$2:$A$107,0))),"Valeur Crédit Non-Trouvée",INDEX(Feuil1!$E$2:$E$107,MATCH(Compta!A6&SMALL(IF(Feuil1!$A$2:$A$107=Compta!A6,Feuil1!$C$2:$C$107),MATCH(C6,SMALL(IF(Feuil1!$A$2:$A$107=Compta!A6,Feuil1!$C$2:$C$107),ROW(INDIRECT("1:"&COUNTIF(Feuil1!$A$2:$A$107,Compta!A6)))),1)),Feuil1!$A$2:$A$107&Feuil1!$C$2:$C$107,0))))} -> Non-LA
A7: 279.18 | C7: 41290 | D7: LA | E7: =VLOOKUP(A7,Feuil1!$A$1:$F$108,5,FALSE) -> 44-2013-01-15-01 | F7: 44-2013-01-15-01 | G7: =IF(F7=E7,"ok","FAUX") -> ok | H7: {=IF(D7<>"LA","Non-LA",IF(NOT(ISNUMBER(MATCH(A7,Feuil1!$A$2:$A$107,0))),"Valeur Crédit Non-Trouvée",INDEX(Feuil1!$E$2:$E$107,MATCH(Compta!A7&SMALL(IF(Feuil1!$A$2:$A$107=Compta!A7,Feuil1!$C$2:$C$107),MATCH(C7,SMALL(IF(Feuil1!$A$2:$A$107=Compta!A7,Feuil1!$C$2:$C$107),ROW(INDIRECT("1:"&COUNTIF(Feuil1!$A$2:$A$107,Compta!A7)))),1)),Feuil1!$A$2:$A$107&Feuil1!$C$2:$C$107,0))))} -> 44-2013-01-15-01
A8: 497.51 | C8: 41290 | D8: LA | E8: =VLOOKUP(A8,Feuil1!$A$1:$F$108,5,FALSE) -> #N/A | G8: =IF(F8=E8,"ok","FAUX") -> #N/A | H8: {=IF(D8<>"LA","Non-LA",IF(NOT(ISNUMBER(MATCH(A8,Feuil1!$A$2:$A$107,0))),"Valeur Crédit Non-Trouvée",INDEX(Feuil1!$E$2:$E$107,MATCH(Compta!A8&SMALL(IF(Feuil1!$A$2:$A$107=Compta!A8,Feuil1!$C$2:$C$107),MATCH(C8,SMALL(IF(Feuil1!$A$2:$A$107=Compta!A8,Feuil1!$C$2:$C$107),ROW(INDIRECT("1:"&COUNTIF(Feuil1!$A$2:$A$107,Compta!A8)))),1)),Feuil1!$A$2:$A$107&Feuil1!$C$2:$C$107,0))))} -> Valeur Crédit Non-Trouvée
A9: 160.15 | C9: 41290 | D9: LE M | E9: =VLOOKUP(A9,Feuil1!$A$1:$F$108,5,FALSE) -> #N/A | H9: {=IF(D9<>"LA","Non-LA",IF(NOT(ISNUMBER(MATCH(A9,Feuil1!$A$2:$A$107,0))),"Valeur Crédit Non-Trouvée",INDEX(Feuil1!$E$2:$E$107,MATCH(Compta!A9&SMALL(IF(Feuil1!$A$2:$A$107=Compta!A9,Feuil1!$C$2:$C$107),MATCH(C9,SMALL(IF(Feuil1!$A$2:$A$107=Compta!A9,Feuil1!$C$2:$C$107),ROW(INDIRECT("1:"&COUNTIF(Feuil1!$A$2:$A$107,Compta!A9)))),1)),Feuil1!$A$2:$A$107&Feuil1!$C$2:$C$107,0))))} -> Non-LA
A10: 238.05 | C10: 41291 | D10: LA | E10: =VLOOKUP(A10,Feuil1!$A$1:$F$108,5,FALSE) -> 44-2013-01-16-01 | F10: 44-2013-01-16-01 | G10: =IF(F10=E10,"ok","FAUX") -> ok | H10: {=IF(D10<>"LA","Non-LA",IF(NOT(ISNUMBER(MATCH(A10,Feuil1!$A$2:$A$107,0))),"Valeur Crédit Non-Trouvée",INDEX(Feuil1!$E$2:$E$107,MATCH(Compta!A10&SMALL(IF(Feuil1!$A$2:$A$107=Compta!A10,Feuil1!$C$2:$C$107),MATCH(C10,SMALL(IF(Feuil1!$A$2:$A$107=Compta!A10,Feuil1!$C$2:$C$107),ROW(INDIRECT("1:"&COUNTIF(Feuil1!$A$2:$A$107,Compta!A10)))),1)),Feuil1!$A$2:$A$107&Feuil1!$C$2:$C$107,0))))} -> 44-2013-01-16-01
A11: 668.95 | C11: 41292 | D11: LE M | E11: =VLOOKUP(A11,Feuil1!$A$1:$F$108,5,FALSE) -> #N/A | H11: {=IF(D11<>"LA","Non-LA",IF(NOT(ISNUMBER(MATCH(A11,Feuil1!$A$2:$A$107,0))),"Valeur Crédit Non-Trouvée",INDEX(Feuil1!$E$2:$E$107,MATCH(Compta!A11&SMALL(IF(Feuil1!$A$2:$A$107=Compta!A11,Feuil1!$C$2:$C$107),MATCH(C11,SMALL(IF(Feuil1!$A$2:$A$107=Compta!A11,Feuil1!$C$2:$C$107),ROW(INDIRECT("1:"&COUNTIF(Feuil1!$A$2:$A$107,Compta!A11)))),1)),Feuil1!$A$2:$A$107&Feuil1!$C$2:$C$107,0))))} -> Non-LA
A12: 597.36 | C12: 41295 | D12: LE M | E12: =VLOOKUP(A12,Feuil1!$A$1:$F$108,5,FALSE) -> #N/A | H12: {=IF(D12<>"LA","Non-LA",IF(NOT(ISNUMBER(MATCH(A12,Feuil1!$A$2:$A$107,0))),"Valeur Crédit Non-Trouvée",INDEX(Feuil1!$E$2:$E$107,MATCH(Compta!A12&SMALL(IF(Feuil1!$A$2:$A$107=Compta!A12,Feuil1!$C$2:$C$107),MATCH(C12,SMALL(IF(Feuil1!$A$2:$A$107=Compta!A12,Feuil1!$C$2:$C$107),ROW(INDIRECT("1:"&COUNTIF(Feuil1!$A$2:$A$107,Compta!A12)))),1)),Feuil1!$A$2:$A$107&Feuil1!$C$2:$C$107,0))))} -> Non-LA
A13: 233.38 | C13: 41295 | D13: R | E13: =VLOOKUP(A13,Feuil1!$A$1:$F$108,5,FALSE) -> #N/A | H13: {=IF(D13<>"LA","Non-LA",IF(NOT(ISNUMBER(MATCH(A13,Feuil1!$A$2:$A$107,0))),"Valeur Crédit Non-Trouvée",INDEX(Feuil1!$E$2:$E$107,MATCH(Compta!A13&SMALL(IF(Feuil1!$A$2:$A$107=Compta!A13,Feuil1!$C$2:$C$107),MATCH(C13,SMALL(IF(Feuil1!$A$2:$A$107=Compta!A13,Feuil1!$C$2:$C$107),ROW(INDIRECT("1:"&COUNTIF(Feuil1!$A$2:$A$107,Compta!A13)))),1)),Feuil1!$A$2:$A$107&Feuil1!$C$2:$C$107,0))))} -> Non-LA
A14: 78.7 | C14: 41297 | D14: LA | E14: =VLOOKUP(A14,Feuil1!$A$1:$F$108,5,FALSE) -> 44-2013-01-02-01 | F14: 44-2013-01-02-01 | G14: =IF(F14=E14,"ok","FAUX") -> ok | H14: {=IF(D14<>"LA","Non-LA",IF(NOT(ISNUMBER(MATCH(A14,Feuil1!$A$2:$A$107,0))),"Valeur Crédit Non-Trouvée",INDEX(Feuil1!$E$2:$E$107,MATCH(Compta!A14&SMALL(IF(Feuil1!$A$2:$A$107=Compta!A14,Feuil1!$C$2:$C$107),MATCH(C14,SMALL(IF(Feuil1!$A$2:$A$107=Compta!A14,Feuil1!$C$2:$C$107),ROW(INDIRECT("1:"&COUNTIF(Feuil1!$A$2:$A$107,Compta!A14)))),1)),Feuil1!$A$2:$A$107&Feuil1!$C$2:$C$107,0))))} -> 44-2013-01-02-01
A15: 333.4 | C15: 41297 | D15: R | E15: =VLOOKUP(A15,Feuil1!$A$1:$F$108,5,FALSE) -> #N/A | H15: {=IF(D15<>"LA","Non-LA",IF(NOT(ISNUMBER(MATCH(A15,Feuil1!$A$2:$A$107,0))),"Valeur Crédit Non-Trouvée",INDEX(Feuil1!$E$2:$E$107,MATCH(Compta!A15&SMALL(IF(Feuil1!$A$2:$A$107=Compta!A15,Feuil1!$C$2:$C$107),MATCH(C15,SMALL(IF(Feuil1!$A$2:$A$107=Compta!A15,Feuil1!$C$2:$C$107),ROW(INDIRECT("1:"&COUNTIF(Feuil1!$A$2:$A$107,Compta!A15)))),1)),Feuil1!$A$2:$A$107&Feuil1!$C$2:$C$107,0))))} -> Non-LA
A16: 888.16 | C16: 41298 | D16: LA | E16: =VLOOKUP(A16,Feuil1!$A$1:$F$108,5,FALSE) -> 44-2013-01-23-01 | F16: 44-2013-01-23-01 | G16: =IF(F16=E16,"ok","FAUX") -> ok | H16: {=IF(D16<>"LA","Non-LA",IF(NOT(ISNUMBER(MATCH(A16,Feuil1!$A$2:$A$107,0))),"Valeur Crédit Non-Trouvée",INDEX(Feuil1!$E$2:$E$107,MATCH(Compta!A16&SMALL(IF(Feuil1!$A$2:$A$107=Compta!A16,Feuil1!$C$2:$C$107),MATCH(C16,SMALL(IF(Feuil1!$A$2:$A$107=Compta!A16,Feuil1!$C$2:$C$107),ROW(INDIRECT("1:"&COUNTIF(Feuil1!$A$2:$A$107,Compta!A16)))),1)),Feuil1!$A$2:$A$107&Feuil1!$C$2:$C$107,0))))} -> 44-2013-01-23-01
A17: 678.86 | C17: 41299 | D17: LA | E17: =VLOOKUP(A17,Feuil1!$A$1:$F$108,5,FALSE) -> #N/A | G17: =IF(F17=E17,"ok","FAUX") -> #N/A | H17: {=IF(D17<>"LA","Non-LA",IF(NOT(ISNUMBER(MATCH(A17,Feuil1!$A$2:$A$107,0))),"Valeur Crédit Non-Trouvée",INDEX(Feuil1!$E$2:$E$107,MATCH(Compta!A17&SMALL(IF(Feuil1!$A$2:$A$107=Compta!A17,Feuil1!$C$2:$C$107),MATCH(C17,SMALL(IF(Feuil1!$A$2:$A$107=Compta!A17,Feuil1!$C$2:$C$107),ROW(INDIRECT("1:"&COUNTIF(Feuil1!$A$2:$A$107,Compta!A17)))),1)),Feuil1!$A$2:$A$107&Feuil1!$C$2:$C$107,0))))} -> Valeur Crédit Non-Trouvée
A18: 540.4 | C18: 41299 | D18: M L | E18: =VLOOKUP(A18,Feuil1!$A$1:$F$108,5,FALSE) -> #N/A | H18: {=IF(D18<>"LA","Non-LA",IF(NOT(ISNUMBER(MATCH(A18,Feuil1!$A$2:$A$107,0))),"Valeur Crédit Non-Trouvée",INDEX(Feuil1!$E$2:$E$107,MATCH(Compta!A18&SMALL(IF(Feuil1!$A$2:$A$107=Compta!A18,Feuil1!$C$2:$C$107),MATCH(C18,SMALL(IF(Feuil1!$A$2:$A$107=Compta!A18,Feuil1!$C$2:$C$107),ROW(INDIRECT("1:"&COUNTIF(Feuil1!$A$2:$A$107,Compta!A18)))),1)),Feuil1!$A$2:$A$107&Feuil1!$C$2:$C$107,0))))} -> Non-LA
A19: 1045.38 | C19: 41302 | D19: LE M | E19: =VLOOKUP(A19,Feuil1!$A$1:$F$108,5,FALSE) -> 44-2013-05-31-01 | H19: {=IF(D19<>"LA","Non-LA",IF(NOT(ISNUMBER(MATCH(A19,Feuil1!$A$2:$A$107,0))),"Valeur Crédit Non-Trouvée",INDEX(Feuil1!$E$2:$E$107,MATCH(Compta!A19&SMALL(IF(Feuil1!$A$2:$A$107=Compta!A19,Feuil1!$C$2:$C$107),MATCH(C19,SMALL(IF(Feuil1!$A$2:$A$107=Compta!A19,Feuil1!$C$2:$C$107),ROW(INDIRECT("1:"&COUNTIF(Feuil1!$A$2:$A$107,Compta!A19)))),1)),Feuil1!$A$2:$A$107&Feuil1!$C$2:$C$107,0))))} -> Non-LA
A20: 666.54 | C20: 41304 | D20: LA | E20: =VLOOKUP(A20,Feuil1!$A$1:$F$108,5,FALSE) -> 44-2013-01-29-01 | F20: 44-2013-01-29-01 | G20: =IF(F20=E20,"ok","FAUX") -> ok | H20: {=IF(D20<>"LA","Non-LA",IF(NOT(ISNUMBER(MATCH(A20,Feuil1!$A$2:$A$107,0))),"Valeur Crédit Non-Trouvée",INDEX(Feuil1!$E$2:$E$107,MATCH(Compta!A20&SMALL(IF(Feuil1!$A$2:$A$107=Compta!A20,Feuil1!$C$2:$C$107),MATCH(C20,SMALL(IF(Feuil1!$A$2:$A$107=Compta!A20,Feuil1!$C$2:$C$107),ROW(INDIRECT("1:"&COUNTIF(Feuil1!$A$2:$A$107,Compta!A20)))),1)),Feuil1!$A$2:$A$107&Feuil1!$C$2:$C$107,0))))} -> 44-2013-01-29-01
A21: 390.6 | C21: 41304 | D21: LA | E21: =VLOOKUP(A21,Feuil1!$A$1:$F$108,5,FALSE) -> #N/A | G21: =IF(F21=E21,"ok","FAUX") -> #N/A | H21: {=IF(D21<>"LA","Non-LA",IF(NOT(ISNUMBER(MATCH(A21,Feuil1!$A$2:$A$107,0))),"Valeur Crédit Non-Trouvée",INDEX(Feuil1!$E$2:$E$107,MATCH(Compta!A21&SMALL(IF(Feuil1!$A$2:$A$107=Compta!A21,Feuil1!$C$2:$C$107),MATCH(C21,SMALL(IF(Feuil1!$A$2:$A$107=Compta!A21,Feuil1!$C$2:$C$107),ROW(INDIRECT("1:"&COUNTIF(Feuil1!$A$2:$A$107,Compta!A21)))),1)),Feuil1!$A$2:$A$107&Feuil1!$C$2:$C$107,0))))} -> Valeur Crédit Non-Trouvée
A22: 157.4 | C22: 41304 | D22: M L | E22: =VLOOKUP(A22,Feuil1!$A$1:$F$108,5,FALSE) -> 44-2013-03-12-01 | H22: {=IF(D22<>"LA","Non-LA",IF(NOT(ISNUMBER(MATCH(A22,Feuil1!$A$2:$A$107,0))),"Valeur Crédit Non-Trouvée",INDEX(Feuil1!$E$2:$E$107,MATCH(Compta!A22&SMALL(IF(Feuil1!$A$2:$A$107=Compta!A22,Feuil1!$C$2:$C$107),MATCH(C22,SMALL(IF(Feuil1!$A$2:$A$107=Compta!A22,Feuil1!$C$2:$C$107),ROW(INDIRECT("1:"&COUNTIF(Feuil1!$A$2:$A$107,Compta!A22)))),1)),Feuil1!$A$2:$A$107&Feuil1!$C$2:$C$107,0))))} -> Non-LA
A23: 39.35 | C23: 41305 | D23: LA | E23: =VLOOKUP(A23,Feuil1!$A$1:$F$108,5,FALSE) -> 44-2013-02-11-01 | G23: =IF(F23=E23,"ok","FAUX") -> FAUX | H23: {=IF(D23<>"LA","Non-LA",IF(NOT(ISNUMBER(MATCH(A23,Feuil1!$A$2:$A$107,0))),"Valeur Crédit Non-Trouvée",INDEX(Feuil1!$E$2:$E$107,MATCH(Compta!A23&SMALL(IF(Feuil1!$A$2:$A$107=Compta!A23,Feuil1!$C$2:$C$107),MATCH(C23,SMALL(IF(Feuil1!$A$2:$A$107=Compta!A23,Feuil1!$C$2:$C$107),ROW(INDIRECT("1:"&COUNTIF(Feuil1!$A$2:$A$107,Compta!A23)))),1)),Feuil1!$A$2:$A$107&Feuil1!$C$2:$C$107,0))))} -> #N/A
A24: 770.66 | C24: 41305 | D24: LA | E24: =VLOOKUP(A24,Feuil1!$A$1:$F$108,5,FALSE) -> 44-2013-01-30-01 | F24: 44-2013-01-30-01 | G24: =IF(F24=E24,"ok","FAUX") -> ok | H24: {=IF(D24<>"LA","Non-LA",IF(NOT(ISNUMBER(MATCH(A24,Feuil1!$A$2:$A$107,0))),"Valeur Crédit Non-Trouvée",INDEX(Feuil1!$E$2:$E$107,MATCH(Compta!A24&SMALL(IF(Feuil1!$A$2:$A$107=Compta!A24,Feuil1!$C$2:$C$107),MATCH(C24,SMALL(IF(Feuil1!$A$2:$A$107=Compta!A24,Feuil1!$C$2:$C$107),ROW(INDIRECT("1:"&COUNTIF(Feuil1!$A$2:$A$107,Compta!A24)))),1)),Feuil1!$A$2:$A$107&Feuil1!$C$2:$C$107,0))))} -> 44-2013-01-30-01
A25: 78.7 | C25: 41305 | D25: LA | E25: =VLOOKUP(A25,Feuil1!$A$1:$F$108,5,FALSE) -> 44-2013-01-02-01 | F25: 44-2013-02-08-01 | G25: =IF(F25=E25,"ok","FAUX") -> FAUX | H25: {=IF(D25<>"LA","Non-LA",IF(NOT(ISNUMBER(MATCH(A25,Feuil1!$A$2:$A$107,0))),"Valeur Crédit Non-Trouvée",INDEX(Feuil1!$E$2:$E$107,MATCH(Compta!A25&SMALL(IF(Feuil1!$A$2:$A$107=Compta!A25,Feuil1!$C$2:$C$107),MATCH(C25,SMALL(IF(Feuil1!$A$2:$A$107=Compta!A25,Feuil1!$C$2:$C$107),ROW(INDIRECT("1:"&COUNTIF(Feuil1!$A$2:$A$107,Compta!A25)))),1)),Feuil1!$A$2:$A$107&Feuil1!$C$2:$C$107,0))))} -> 44-2013-01-02-01
A26: 381.7 | C26: 41305 | D26: M L | E26: =VLOOKUP(A26,Feuil1!$A$1:$F$108,5,FALSE) -> #N/A | H26: {=IF(D26<>"LA","Non-LA",IF(NOT(ISNUMBER(MATCH(A26,Feuil1!$A$2:$A$107,0))),"Valeur Crédit Non-Trouvée",INDEX(Feuil1!$E$2:$E$107,MATCH(Compta!A26&SMALL(IF(Feuil1!$A$2:$A$107=Compta!A26,Feuil1!$C$2:$C$107),MATCH(C26,SMALL(IF(Feuil1!$A$2:$A$107=Compta!A26,Feuil1!$C$2:$C$107),ROW(INDIRECT("1:"&COUNTIF(Feuil1!$A$2:$A$107,Compta!A26)))),1)),Feuil1!$A$2:$A$107&Feuil1!$C$2:$C$107,0))))} -> Non-LA
A27: 1045.38 | C27: 41306 | D27: LE M | E27: =VLOOKUP(A27,Feuil1!$A$1:$F$108,5,FALSE) -> 44-2013-05-31-01 | H27: {=IF(D27<>"LA","Non-LA",IF(NOT(ISNUMBER(MATCH(A27,Feuil1!$A$2:$A$107,0))),"Valeur Crédit Non-Trouvée",INDEX(Feuil1!$E$2:$E$107,MATCH(Compta!A27&SMALL(IF(Feuil1!$A$2:$A$107=Compta!A27,Feuil1!$C$2:$C$107),MATCH(C27,SMALL(IF(Feuil1!$A$2:$A$107=Compta!A27,Feuil1!$C$2:$C$107),ROW(INDIRECT("1:"&COUNTIF(Feuil1!$A$2:$A$107,Compta!A27)))),1)),Feuil1!$A$2:$A$107&Feuil1!$C$2:$C$107,0))))} -> Non-LA
A28: 333.4 | C28: 41309 | D28: R | E28: =VLOOKUP(A28,Feuil1!$A$1:$F$108,5,FALSE) -> #N/A | H28: {=IF(D28<>"LA","Non-LA",IF(NOT(ISNUMBER(MATCH(A28,Feuil1!$A$2:$A$107,0))),"Valeur Crédit Non-Trouvée",INDEX(Feuil1!$E$2:$E$107,MATCH(Compta!A28&SMALL(IF(Feuil1!$A$2:$A$107=Compta!A28,Feuil1!$C$2:$C$107),MATCH(C28,SMALL(IF(Feuil1!$A$2:$A$107=Compta!A28,Feuil1!$C$2:$C$107),ROW(INDIRECT("1:"&COUNTIF(Feuil1!$A$2:$A$107,Compta!A28)))),1)),Feuil1!$A$2:$A$107&Feuil1!$C$2:$C$107,0))))} -> Non-LA
A29: 75.18 | C29: 41310 | D29: LE M | E29: =VLOOKUP(A29,Feuil1!$A$1:$F$108,5,FALSE) -> #N/A | H29: {=IF(D29<>"LA","Non-LA",IF(NOT(ISNUMBER(MATCH(A29,Feuil1!$A$2:$A$107,0))),"Valeur Crédit Non-Trouvée",INDEX(Feuil1!$E$2:$E$107,MATCH(Compta!A29&SMALL(IF(Feuil1!$A$2:$A$107=Compta!A29,Feuil1!$C$2:$C$107),MATCH(C29,SMALL(IF(Feuil1!$A$2:$A$107=Compta!A29,Feuil1!$C$2:$C$107),ROW(INDIRECT("1:"&COUNTIF(Feuil1!$A$2:$A$107,Compta!A29)))),1)),Feuil1!$A$2:$A$107&Feuil1!$C$2:$C$107,0))))} -> Non-LA
A30: 236.1 | C30: 41311 | D30: LA | E30: =VLOOKUP(A30,Feuil1!$A$1:$F$108,5,FALSE) -> 44-2013-02-05-01 | F30: 44-2013-02-05-01 | G30: =IF(F30=E30,"ok","FAUX") -> ok | H30: {=IF(D30<>"LA","Non-LA",IF(NOT(ISNUMBER(MATCH(A30,Feuil1!$A$2:$A$107,0))),"Valeur Crédit Non-Trouvée",INDEX(Feuil1!$E$2:$E$107,MATCH(Compta!A30&SMALL(IF(Feuil1!$A$2:$A$107=Compta!A30,Feuil1!$C$2:$C$107),MATCH(C30,SMALL(IF(Feuil1!$A$2:$A$107=Compta!A30,Feuil1!$C$2:$C$107),ROW(INDIRECT("1:"&COUNTIF(Feuil1!$A$2:$A$107,Compta!A30)))),1)),Feuil1!$A$2:$A$107&Feuil1!$C$2:$C$107,0))))} -> 44-2013-02-05-01
B31: 373.68 | C31: 41311 | D31: REGUL | E31: =VLOOKUP(A31,Feuil1!$A$1:$F$108,5,FALSE) -> 44-2013-03-04-02 | H31: {=IF(D31<>"LA","Non-LA",IF(NOT(ISNUMBER(MATCH(A31,Feuil1!$A$2:$A$107,0))),"Valeur Crédit Non-Trouvée",INDEX(Feuil1!$E$2:$E$107,MATCH(Compta!A31&SMALL(IF(Feuil1!$A$2:$A$107=Compta!A31,Feuil1!$C$2:$C$107),MATCH(C31,SMALL(IF(Feuil1!$A$2:$A$107=Compta!A31,Feuil1!$C$2:$C$107),ROW(INDIRECT("1:"&COUNTIF(Feuil1!$A$2:$A$107,Compta!A31)))),1)),Feuil1!$A$2:$A$107&Feuil1!$C$2:$C$107,0))))} -> Non-LA
A32: 888.16 | C32: 41313 | D32: LA | E32: =VLOOKUP(A32,Feuil1!$A$1:$F$108,5,FALSE) -> 44-2013-01-23-01 | F32: 44-2013-02-06-01 | G32: =IF(F32=E32,"ok","FAUX") -> FAUX | H32: {=IF(D32<>"LA","Non-LA",IF(NOT(ISNUMBER(MATCH(A32,Feuil1!$A$2:$A$107,0))),"Valeur Crédit Non-Trouvée",INDEX(Feuil1!$E$2:$E$107,MATCH(Compta!A32&SMALL(IF(Feuil1!$A$2:$A$107=Compta!A32,Feuil1!$C$2:$C$107),MATCH(C32,SMALL(IF(Feuil1!$A$2:$A$107=Compta!A32,Feuil1!$C$2:$C$107),ROW(INDIRECT("1:"&COUNTIF(Feuil1!$A$2:$A$107,Compta!A32)))),1)),Feuil1!$A$2:$A$107&Feuil1!$C$2:$C$107,0))))} -> 44-2013-02-06-01
A33: 48.49 | C33: 41313 | D33: LA | E33: =VLOOKUP(A33,Feuil1!$A$1:$F$108,5,FALSE) -> #N/A | G33: =IF(F33=E33,"ok","FAUX") -> #N/A | H33: {=IF(D33<>"LA","Non-LA",IF(NOT(ISNUMBER(MATCH(A33,Feuil1!$A$2:$A$107,0))),"Valeur Crédit Non-Trouvée",INDEX(Feuil1!$E$2:$E$107,MATCH(Compta!A33&SMALL(IF(Feuil1!$A$2:$A$107=Compta!A33,Feuil1!$C$2:$C$107),MATCH(C33,SMALL(IF(Feuil1!$A$2:$A$107=Compta!A33,Feuil1!$C$2:$C$107),ROW(INDIRECT("1:"&COUNTIF(Feuil1!$A$2:$A$107,Compta!A33)))),1)),Feuil1!$A$2:$A$107&Feuil1!$C$2:$C$107,0))))} -> Valeur Crédit Non-Trouvée
A34: 540.4 | C34: 41313 | D34: M L | E34: =VLOOKUP(A34,Feuil1!$A$1:$F$108,5,FALSE) -> #N/A | H34: {=IF(D34<>"LA","Non-LA",IF(NOT(ISNUMBER(MATCH(A34,Feuil1!$A$2:$A$107,0))),"Valeur Crédit Non-Trouvée",INDEX(Feuil1!$E$2:$E$107,MATCH(Compta!A34&SMALL(IF(Feuil1!$A$2:$A$107=Compta!A34,Feuil1!$C$2:$C$107),MATCH(C34,SMALL(IF(Feuil1!$A$2:$A$107=Compta!A34,Feuil1!$C$2:$C$107),ROW(INDIRECT("1:"&COUNTIF(Feuil1!$A$2:$A$107,Compta!A34)))),1)),Feuil1!$A$2:$A$107&Feuil1!$C$2:$C$107,0))))} -> Non-LA
A35: 37.75 | C35: 41313 | D35: V | E35: =VLOOKUP(A35,Feuil1!$A$1:$F$108,5,FALSE) -> #N/A | H35: {=IF(D35<>"LA","Non-LA",IF(NOT(ISNUMBER(MATCH(A35,Feuil1!$A$2:$A$107,0))),"Valeur Crédit Non-Trouvée",INDEX(Feuil1!$E$2:$E$107,MATCH(Compta!A35&SMALL(IF(Feuil1!$A$2:$A$107=Compta!A35,Feuil1!$C$2:$C$107),MATCH(C35,SMALL(IF(Feuil1!$A$2:$A$107=Compta!A35,Feuil1!$C$2:$C$107),ROW(INDIRECT("1:"&COUNTIF(Feuil1!$A$2:$A$107,Compta!A35)))),1)),Feuil1!$A$2:$A$107&Feuil1!$C$2:$C$107,0))))} -> Non-LA
A36: 987.97 | C36: 41316 | D36: LA | E36: =VLOOKUP(A36,Feuil1!$A$1:$F$108,5,FALSE) -> #N/A | G36: =IF(F36=E36,"ok","FAUX") -> #N/A | H36: {=IF(D36<>"LA","Non-LA",IF(NOT(ISNUMBER(MATCH(A36,Feuil1!$A$2:$A$107,0))),"Valeur Crédit Non-Trouvée",INDEX(Feuil1!$E$2:$E$107,MATCH(Compta!A36&SMALL(IF(Feuil1!$A$2:$A$107=Compta!A36,Feuil1!$C$2:$C$107),MATCH(C36,SMALL(IF(Feuil1!$A$2:$A$107=Compta!A36,Feuil1!$C$2:$C$107),ROW(INDIRECT("1:"&COUNTIF(Feuil1!$A$2:$A$107,Compta!A36)))),1)),Feuil1!$A$2:$A$107&Feuil1!$C$2:$C$107,0))))} -> Valeur Crédit Non-Trouvée
A37: 78.7 | C37: 41316 | D37: LA | E37: =VLOOKUP(A37,Feuil1!$A$1:$F$108,5,FALSE) -> 44-2013-01-02-01 | F37: 44-2013-02-12-03 | G37: =IF(F37=E37,"ok","FAUX") -> FAUX | H37: {=IF(D37<>"LA","Non-LA",IF(NOT(ISNUMBER(MATCH(A37,Feuil1!$A$2:$A$107,0))),"Valeur Crédit Non-Trouvée",INDEX(Feuil1!$E$2:$E$107,MATCH(Compta!A37&SMALL(IF(Feuil1!$A$2:$A$107=Compta!A37,Feuil1!$C$2:$C$107),MATCH(C37,SMALL(IF(Feuil1!$A$2:$A$107=Compta!A37,Feuil1!$C$2:$C$107),ROW(INDIRECT("1:"&COUNTIF(Feuil1!$A$2:$A$107,Compta!A37)))),1)),Feuil1!$A$2:$A$107&Feuil1!$C$2:$C$107,0))))} -> 44-2013-02-08-01
A38: 1045.38 | C38: 41316 | D38: LE M | E38: =VLOOKUP(A38,Feuil1!$A$1:$F$108,5,FALSE) -> 44-2013-05-31-01 | H38: {=IF(D38<>"LA","Non-LA",IF(NOT(ISNUMBER(MATCH(A38,Feuil1!$A$2:$A$107,0))),"Valeur Crédit Non-Trouvée",INDEX(Feuil1!$E$2:$E$107,MATCH(Compta!A38&SMALL(IF(Feuil1!$A$2:$A$107=Compta!A38,Feuil1!$C$2:$C$107),MATCH(C38,SMALL(IF(Feuil1!$A$2:$A$107=Compta!A38,Feuil1!$C$2:$C$107),ROW(INDIRECT("1:"&COUNTIF(Feuil1!$A$2:$A$107,Compta!A38)))),1)),Feuil1!$A$2:$A$107&Feuil1!$C$2:$C$107,0))))} -> Non-LA
A39: 78.7 | C39: 41317 | D39: LA | E39: =VLOOKUP(A39,Feuil1!$A$1:$F$108,5,FALSE) -> 44-2013-01-02-01 | G39: =IF(F39=E39,"ok","FAUX") -> FAUX | H39: {=IF(D39<>"LA","Non-LA",IF(NOT(ISNUMBER(MATCH(A39,Feuil1!$A$2:$A$107,0))),"Valeur Crédit Non-Trouvée",INDEX(Feuil1!$E$2:$E$107,MATCH(Compta!A39&SMALL(IF(Feuil1!$A$2:$A$107=Compta!A39,Feuil1!$C$2:$C$107),MATCH(C39,SMALL(IF(Feuil1!$A$2:$A$107=Compta!A39,Feuil1!$C$2:$C$107),ROW(INDIRECT("1:"&COUNTIF(Feuil1!$A$2:$A$107,Compta!A39)))),1)),Feuil1!$A$2:$A$107&Feuil1!$C$2:$C$107,0))))} -> 44-2013-02-12-03
A40: 39.35 | C40: 41317 | D40: LA | E40: =VLOOKUP(A40,Feuil1!$A$1:$F$108,5,FALSE) -> 44-2013-02-11-01 | G40: =IF(F40=E40,"ok","FAUX") -> FAUX | H40: {=IF(D40<>"LA","Non-LA",IF(NOT(ISNUMBER(MATCH(A40,Feuil1!$A$2:$A$107,0))),"Valeur Crédit Non-Trouvée",INDEX(Feuil1!$E$2:$E$107,MATCH(Compta!A40&SMALL(IF(Feuil1!$A$2:$A$107=Compta!A40,Feuil1!$C$2:$C$107),MATCH(C40,SMALL(IF(Feuil1!$A$2:$A$107=Compta!A40,Feuil1!$C$2:$C$107),ROW(INDIRECT("1:"&COUNTIF(Feuil1!$A$2:$A$107,Compta!A40)))),1)),Feuil1!$A$2:$A$107&Feuil1!$C$2:$C$107,0))))} -> 44-2013-02-11-01
...
