Workbook
Name _PL1: '[1]EXEMPLE BULL SAL'!$A$1
Name BASE: '[1]EXEMPLE BULL SAL'!$E$65+'[1]EXEMPLE BULL SAL'!$E$66
Name BASE1: '[1]EXEMPLE BULL SAL'!$E$7+'[1]EXEMPLE BULL SAL'!$E$8
Name BASE2: '[1]EXEMPLE BULL SAL'!$E$159
Name BASE99: '[2]EXEMPLE BULL SAL'!$E$63+'[2]EXEMPLE BULL SAL'!$E$64
Name BLANC0: [4]URSSAF!$C$6:$C$16,[4]URSSAF!$F$6:$F$16,[4]URSSAF!$C$21:$C$31,[4]URSSAF!$F$21:$F$31,[4]URSSAF!$C$39:$C$46,[4]URSSAF!$F$39:$F$46,[4]URSSAF!$D$51:$D$53
Name blanc2: [5]URSSAF!$A$10:$A$15+[5]URSSAF!$K$15+[5]URSSAF!$A$21:$A$32+[5]URSSAF!$A$38:$A$46+[5]URSSAF!$K$4:$K$5+[5]URSSAF!$K$9:$K$10+[5]URSSAF!$K$15+[5]URSSAF!$K$17:$K$19+[5]URSSAF!$K$23:$K$24
Name BLC: [5]URSSAF!$C$21:$C$31,[5]URSSAF!$C$6:$C$16,[5]URSSAF!$C$38:$C$46,[5]URSSAF!$F$21:$F$32,[5]URSSAF!$F$6:$F$16,[5]URSSAF!$F$38:$F$45,[5]URSSAF!$D$54:$D$56
Name Cachée: OFFSET('[6]Feuil3 (2)'!$F$5,,,COUNTA(Nom))
Name Fin: OFFSET(Noms,0,2)
Name Fin: OFFSET(Noms,0,2)
Name IRSCO: #REF!
Name JF: '[7]DEDUCTION CP 2009-2010'!$Q$2:$Q$15
Name listecredit: Compta!$A$2:$A$326
Name Nom: OFFSET('[6]Feuil3 (2)'!$A$5,,,COUNTA('[6]Feuil3 (2)'!$A:$A)-1)
Name PL: #REF!
Name Plafond2012: [8]Feuil1!$AA$2
Name Plafond2012: #REF!
Name Plafond2013: [8]Feuil1!$AC$2
Name Plafond2013: #REF!
Name PlafondMaterIJ.01.2013: '[6]Controle IJSS'!$AE$3
Name PlafondMaterIJ.07.2013: '[6]Controle IJSS'!$AE$4
Name PlafondmensuelSS: '[6]Controle IJSS'!$AE$2
Name PLD: '[4]T. REST'!#REF!
Name PLR: '[4]T. REST'!#REF!
Name po: #REF!
Name PT: #REF!
Name SMIC.01.12: '[6]Controle IJSS'!$AA$2
Name SMIC.01.13: '[6]Controle IJSS'!$AA$4
Name SMIC.07.12: '[6]Controle IJSS'!$AA$3
Name tarif: #REF!
Name taux: '[9]ch soc'!#REF!
Name taux: '[9]ch soc'!#REF!
Name tr: '[10]Suppl. Fam'!#REF!
Name tr: '[10]Suppl. Fam'!#REF!

Sheet Feuil1
A1: Total par pièce | B1: NOM Prénom | C1: Date Paiement | D1: Montant | E1: Pièce
A2: 78.7 | B2: AD | C2: 41276 | D2: 78.7 | E2: 44-2013-01-02-01
A3: 444.08 | B3: AG | C3: 41283 | D3: 444.08 | E3: 44-2013-01-09-01
A4: 928.34 | B4: E | C4: 41284 | D4: 428.49 | E4: 44-2013-01-10-01
A5: 928.34 | B5: AG | C5: 41284 | D5: 63.44 | E5: 44-2013-01-10-01
A6: 928.34 | B6: BB | C6: 41284 | D6: 436.41 | E6: 44-2013-01-10-01
A7: 279.18 | B7: Y | C7: 41289 | D7: 279.18 | E7: 44-2013-01-15-01
A8: 238.05 | B8: E | C8: 41290 | D8: 238.05 | E8: 44-2013-01-16-01
A9: 888.16 | B9: AG | C9: 41297 | D9: 888.16 | E9: 44-2013-01-23-01
A10: 666.54 | B10: E | C10: 41303 | D10: 666.54 | E10: 44-2013-01-29-01
A11: 770.66 | B11: D | C11: 41304 | D11: 236.1 | E11: 44-2013-01-30-01
A12: 770.66 | B12: AN | C12: 41304 | D12: 534.56 | E12: 44-2013-01-30-01
A13: 236.1 | B13: D | C13: 41310 | D13: 236.1 | E13: 44-2013-02-05-01
... A107: 78.96 | B107: AW | C107: 41444 | D107: 78.96 | E107: 44-2013-06-19-01
A108: … | B108: … | C108: … | D108: … | E108: …

Sheet Compta
A1: Crédit | B1: Débit | C1: Date de reception | D1: Libellé | E1: Recherche V | F1: Valeur souhaitée | G1: Check2 | H1: Valeur souhaitée2
A2: 1107.36 | C2: 41284 | D2: LA | E2: =VLOOKUP(A2,Feuil1!$A$1:$F$108,5,FALSE) -> #N/A | G2: =IF(F2=E2,"ok","FAUX") -> #N/A | H2: {=IF(D2<>"LA","Non-LA",IF(NOT(ISNUMBER(MATCH(A2,Feuil1!$A$2:$A$107,0))),"Valeur Crédit Non-Trouvée",INDEX(Feuil1!$E$2:$E$107,MATCH(Compta!A2&SMALL(IF(Feuil1!$A$2:$A$107=Compta!A2,Feuil1!$C$2:$C$107),MATCH(C2,SMALL(IF(Feuil1!$A$2:$A$107=Compta!A2,Feuil1!$C$2:$C$107),ROW(INDIRECT("1:"&COUNTIF(Feuil1!$A$2:$A$107,Compta!A2)))),1)),Feuil1!$A$2:$A$107&Feuil1!$C$2:$C$107,0))))} -> Valeur Crédit Non-Trouvée
A3: 444.08 | C3: 41284 | D3: LA | E3: =VLOOKUP(A3,Feuil1!$A$1:$F$108,5,FALSE) -> 44-2013-01-09-01 | F3: 44-2013-01-09-01 | G3: =IF(F3=E3,"ok","FAUX") -> ok | H3: {=IF(D3<>"LA","Non-LA",IF(NOT(ISNUMBER(MATCH(A3,Feuil1!$A$2:$A$107,0))),"Valeur Crédit Non-Trouvée",INDEX(Feuil1!$E$2:$E$107,MATCH(Compta!A3&SMALL(IF(Feuil1!$A$2:$A$107=Compta!A3,Feuil1!$C$2:$C$107),MATCH(C3,SMALL(IF(Feuil1!$A$2:$A$107=Compta!A3,Feuil1!$C$2:$C$107),ROW(INDIRECT("1:"&COUNTIF(Feuil1!$A$2:$A$107,Compta!A3)))),1)),Feuil1!$A$2:$A$107&Feuil1!$C$2:$C$107,0))))} -> 44-2013-01-09-01
A4: 1493.8 | C4: 41284 | D4: LE M | E4: =VLOOKUP(A4,Feuil1!$A$1:$F$108,5,FALSE) -> #N/A | H4: {=IF(D4<>"LA","Non-LA",IF(NOT(ISNUMBER(MATCH(A4,Feuil1!$A$2:$A$107,0))),"Valeur Crédit Non-Trouvée",INDEX(Feuil1!$E$2:$E$107,MATCH(Compta!A4&SMALL(IF(Feuil1!$A$2:$A$107=Compta!A4,Feuil1!$C$2:$C$107),MATCH(C4,SMALL(IF(Feuil1!$A$2:$A$107=Compta!A4,Feuil1!$C$2:$C$107),ROW(INDIRECT("1:"&COUNTIF(Feuil1!$A$2:$A$107,Compta!A4)))),1)),Feuil1!$A$2:$A$107&Feuil1!$C$2:$C$107,0))))} -> Non-LA
A5: 928.34 | C5: 41285 | D5: LA | E5: =VLOOKUP(A5,Feuil1!$A$1:$F$108,5,FALSE) -> 44-2013-01-10-01 | F5: 44-2013-01-10-01 | G5: =IF(F5=E5,"ok","FAUX") -> ok | H5: {=IF(D5<>"LA","Non-LA",IF(NOT(ISNUMBER(MATCH(A5,Feuil1!$A$2:$A$107,0))),"Valeur Crédit Non-Trouvée",INDEX(Feuil1!$E$2:$E$107,MATCH(Compta!A5&SMALL(IF(Feuil1!$A$2:$A$107=Compta!A5,Feuil1!$C$2:$C$107),MATCH(C5,SMALL(IF(Feuil1!$A$2:$A$107=Compta!A5,Feuil1!$C$2:$C$107),ROW(INDIRECT("1:"&COUNTIF(Feuil1!$A$2:$A$107,Compta!A5)))),1)),Feuil1!$A$2:$A$107&Feuil1!$C$2:$C$107,0))))} -> 44-2013-01-10-01
A6: 1045.38 | C6: 41288 | D6: LE M | E6: =VLOOKUP(A6,Feuil1!$A$1:$F$108,5,FALSE) -> 44-2013-05-31-01 | H6: {=IF(D6<>"LA","Non-LA",IF(NOT(ISNUMBER(MATCH(A6,Feuil1!$A$2:$A$107,0))),"Valeur Crédit Non-Trouvée",INDEX(Feuil1!$E$2:$E$107,MATCH(Compta!A6&SMALL(IF(Feuil1!$A$2:$A$107=Compta!A6,Feuil1!$C$2:$C$107),MATCH(C6,SMALL(IF(Feuil1!$A$2:$A$107=Compta!A6,Feuil1!$C$2:$C$107),ROW(INDIRECT("1:"&COUNTIF(Feuil1!$A$2:$A$107,Compta!A6)))),1)),Feuil1!$A$2:$A$107&Feuil1!$C$2:$C$107,0))))} -> Non-LA
A7: 279.18 | C7: 41290 | D7: LA | E7: =VLOOKUP(A7,Feuil1!$A$1:$F$108,5,FALSE) -> 44-2013-01-15-01 | F7: 44-2013-01-15-01 | G7: =IF(F7=E7,"ok","FAUX") -> ok | H7: {=IF(D7<>"LA","Non-LA",IF(NOT(ISNUMBER(MATCH(A7,Feuil1!$A$2:$A$107,0))),"Valeur Crédit Non-Trouvée",INDEX(Feuil1!$E$2:$E$107,MATCH(Compta!A7&SMALL(IF(Feuil1!$A$2:$A$107=Compta!A7,Feuil1!$C$2:$C$107),MATCH(C7,SMALL(IF(Feuil1!$A$2:$A$107=Compta!A7,Feuil1!$C$2:$C$107),ROW(INDIRECT("1:"&COUNTIF(Feuil1!$A$2:$A$107,Compta!A7)))),1)),Feuil1!$A$2:$A$107&Feuil1!$C$2:$C$107,0))))} -> 44-2013-01-15-01
A8: 497.51 | C8: 41290 | D8: LA | E8: =VLOOKUP(A8,Feuil1!$A$1:$F$108,5,FALSE) -> #N/A | G8: =IF(F8=E8,"ok","FAUX") -> #N/A | H8: {=IF(D8<>"LA","Non-LA",IF(NOT(ISNUMBER(MATCH(A8,Feuil1!$A$2:$A$107,0))),"Valeur Crédit Non-Trouvée",INDEX(Feuil1!$E$2:$E$107,MATCH(Compta!A8&SMALL(IF(Feuil1!$A$2:$A$107=Compta!A8,Feuil1!$C$2:$C$107),MATCH(C8,SMALL(IF(Feuil1!$A$2:$A$107=Compta!A8,Feuil1!$C$2:$C$107),ROW(INDIRECT("1:"&COUNTIF(Feuil1!$A$2:$A$107,Compta!A8)))),1)),Feuil1!$A$2:$A$107&Feuil1!$C$2:$C$107,0))))} -> Valeur Crédit Non-Trouvée
A9: 160.15 | C9: 41290 | D9: LE M | E9: =VLOOKUP(A9,Feuil1!$A$1:$F$108,5,FALSE) -> #N/A | H9: {=IF(D9<>"LA","Non-LA",IF(NOT(ISNUMBER(MATCH(A9,Feuil1!$A$2:$A$107,0))),"Valeur Crédit Non-Trouvée",INDEX(Feuil1!$E$2:$E$107,MATCH(Compta!A9&SMALL(IF(Feuil1!$A$2:$A$107=Compta!A9,Feuil1!$C$2:$C$107),MATCH(C9,SMALL(IF(Feuil1!$A$2:$A$107=Compta!A9,Feuil1!$C$2:$C$107),ROW(INDIRECT("1:"&COUNTIF(Feuil1!$A$2:$A$107,Compta!A9)))),1)),Feuil1!$A$2:$A$107&Feuil1!$C$2:$C$107,0))))} -> Non-LA
A10: 238.05 | C10: 41291 | D10: LA | E10: =VLOOKUP(A10,Feuil1!$A$1:$F$108,5,FALSE) -> 44-2013-01-16-01 | F10: 44-2013-01-16-01 | G10: =IF(F10=E10,"ok","FAUX") -> ok | H10: {=IF(D10<>"LA","Non-LA",IF(NOT(ISNUMBER(MATCH(A10,Feuil1!$A$2:$A$107,0))),"Valeur Crédit Non-Trouvée",INDEX(Feuil1!$E$2:$E$107,MATCH(Compta!A10&SMALL(IF(Feuil1!$A$2:$A$107=Compta!A10,Feuil1!$C$2:$C$107),MATCH(C10,SMALL(IF(Feuil1!$A$2:$A$107=Compta!A10,Feuil1!$C$2:$C$107),ROW(INDIRECT("1:"&COUNTIF(Feuil1!$A$2:$A$107,Compta!A10)))),1)),Feuil1!$A$2:$A$107&Feuil1!$C$2:$C$107,0))))} -> 44-2013-01-16-01
A11: 668.95 | C11: 41292 | D11: LE M | E11: =VLOOKUP(A11,Feuil1!$A$1:$F$108,5,FALSE) -> #N/A | H11: {=IF(D11<>"LA","Non-LA",IF(NOT(ISNUMBER(MATCH(A11,Feuil1!$A$2:$A$107,0))),"Valeur Crédit Non-Trouvée",INDEX(Feuil1!$E$2:$E$107,MATCH(Compta!A11&SMALL(IF(Feuil1!$A$2:$A$107=Compta!A11,Feuil1!$C$2:$C$107),MATCH(C11,SMALL(IF(Feuil1!$A$2:$A$107=Compta!A11,Feuil1!$C$2:$C$107),ROW(INDIRECT("1:"&COUNTIF(Feuil1!$A$2:$A$107,Compta!A11)))),1)),Feuil1!$A$2:$A$107&Feuil1!$C$2:$C$107,0))))} -> Non-LA
A12: 597.36 | C12: 41295 | D12: LE M | E12: =VLOOKUP(A12,Feuil1!$A$1:$F$108,5,FALSE) -> #N/A | H12: {=IF(D12<>"LA","Non-LA",IF(NOT(ISNUMBER(MATCH(A12,Feuil1!$A$2:$A$107,0))),"Valeur Crédit Non-Trouvée",INDEX(Feuil1!$E$2:$E$107,MATCH(Compta!A12&SMALL(IF(Feuil1!$A$2:$A$107=Compta!A12,Feuil1!$C$2:$C$107),MATCH(C12,SMALL(IF(Feuil1!$A$2:$A$107=Compta!A12,Feuil1!$C$2:$C$107),ROW(INDIRECT("1:"&COUNTIF(Feuil1!$A$2:$A$107,Compta!A12)))),1)),Feuil1!$A$2:$A$107&Feuil1!$C$2:$C$107,0))))} -> Non-LA
A13: 233.38 | C13: 41295 | D13: R | E13: =VLOOKUP(A13,Feuil1!$A$1:$F$108,5,FALSE) -> #N/A | H13: {=IF(D13<>"LA","Non-LA",IF(NOT(ISNUMBER(MATCH(A13,Feuil1!$A$2:$A$107,0))),"Valeur Crédit Non-Trouvée",INDEX(Feuil1!$E$2:$E$107,MATCH(Compta!A13&SMALL(IF(Feuil1!$A$2:$A$107=Compta!A13,Feuil1!$C$2:$C$107),MATCH(C13,SMALL(IF(Feuil1!$A$2:$A$107=Compta!A13,Feuil1!$C$2:$C$107),ROW(INDIRECT("1:"&COUNTIF(Feuil1!$A$2:$A$107,Compta!A13)))),1)),Feuil1!$A$2:$A$107&Feuil1!$C$2:$C$107,0))))} -> Non-LA
A14: 78.7 | C14: 41297 | D14: LA | E14: =VLOOKUP(A14,Feuil1!$A$1:$F$108,5,FALSE) -> 44-2013-01-02-01 | F14: 44-2013-01-02-01 | G14: =IF(F14=E14,"ok","FAUX") -> ok | H14: {=IF(D14<>"LA","Non-LA",IF(NOT(ISNUMBER(MATCH(A14,Feuil1!$A$2:$A$107,0))),"Valeur Crédit Non-Trouvée",INDEX(Feuil1!$E$2:$E$107,MATCH(Compta!A14&SMALL(IF(Feuil1!$A$2:$A$107=Compta!A14,Feuil1!$C$2:$C$107),MATCH(C14,SMALL(IF(Feuil1!$A$2:$A$107=Compta!A14,Feuil1!$C$2:$C$107),ROW(INDIRECT("1:"&COUNTIF(Feuil1!$A$2:$A$107,Compta!A14)))),1)),Feuil1!$A$2:$A$107&Feuil1!$C$2:$C$107,0))))} -> 44-2013-01-02-01
A15: 333.4 | C15: 41297 | D15: R | E15: =VLOOKUP(A15,Feuil1!$A$1:$F$108,5,FALSE) -> #N/A | H15: {=IF(D15<>"LA","Non-LA",IF(NOT(ISNUMBER(MATCH(A15,Feuil1!$A$2:$A$107,0))),"Valeur Crédit Non-Trouvée",INDEX(Feuil1!$E$2:$E$107,MATCH(Compta!A15&SMALL(IF(Feuil1!$A$2:$A$107=Compta!A15,Feuil1!$C$2:$C$107),MATCH(C15,SMALL(IF(Feuil1!$A$2:$A$107=Compta!A15,Feuil1!$C$2:$C$107),ROW(INDIRECT("1:"&COUNTIF(Feuil1!$A$2:$A$107,Compta!A15)))),1)),Feuil1!$A$2:$A$107&Feuil1!$C$2:$C$107,0))))} -> Non-LA
A16: 888.16 | C16: 41298 | D16: LA | E16: =VLOOKUP(A16,Feuil1!$A$1:$F$108,5,FALSE) -> 44-2013-01-23-01 | F16: 44-2013-01-23-01 | G16: =IF(F16=E16,"ok","FAUX") -> ok | H16: {=IF(D16<>"LA","Non-LA",IF(NOT(ISNUMBER(MATCH(A16,Feuil1!$A$2:$A$107,0))),"Valeur Crédit Non-Trouvée",INDEX(Feuil1!$E$2:$E$107,MATCH(Compta!A16&SMALL(IF(Feuil1!$A$2:$A$107=Compta!A16,Feuil1!$C$2:$C$107),MATCH(C16,SMALL(IF(Feuil1!$A$2:$A$107=Compta!A16,Feuil1!$C$2:$C$107),ROW(INDIRECT("1:"&COUNTIF(Feuil1!$A$2:$A$107,Compta!A16)))),1)),Feuil1!$A$2:$A$107&Feuil1!$C$2:$C$107,0))))} -> 44-2013-01-23-01
A17: 678.86 | C17: 41299 | D17: LA | E17: =VLOOKUP(A17,Feuil1!$A$1:$F$108,5,FALSE) -> #N/A | G17: =IF(F17=E17,"ok","FAUX") -> #N/A | H17: {=IF(D17<>"LA","Non-LA",IF(NOT(ISNUMBER(MATCH(A17,Feuil1!$A$2:$A$107,0))),"Valeur Crédit Non-Trouvée",INDEX(Feuil1!$E$2:$E$107,MATCH(Compta!A17&SMALL(IF(Feuil1!$A$2:$A$107=Compta!A17,Feuil1!$C$2:$C$107),MATCH(C17,SMALL(IF(Feuil1!$A$2:$A$107=Compta!A17,Feuil1!$C$2:$C$107),ROW(INDIRECT("1:"&COUNTIF(Feuil1!$A$2:$A$107,Compta!A17)))),1)),Feuil1!$A$2:$A$107&Feuil1!$C$2:$C$107,0))))} -> Valeur Crédit Non-Trouvée
A18: 540.4 | C18: 41299 | D18: M L | E18: =VLOOKUP(A18,Feuil1!$A$1:$F$108,5,FALSE) -> #N/A | H18: {=IF(D18<>"LA","Non-LA",IF(NOT(ISNUMBER(MATCH(A18,Feuil1!$A$2:$A$107,0))),"Valeur Crédit Non-Trouvée",INDEX(Feuil1!$E$2:$E$107,MATCH(Compta!A18&SMALL(IF(Feuil1!$A$2:$A$107=Compta!A18,Feuil1!$C$2:$C$107),MATCH(C18,SMALL(IF(Feuil1!$A$2:$A$107=Compta!A18,Feuil1!$C$2:$C$107),ROW(INDIRECT("1:"&COUNTIF(Feuil1!$A$2:$A$107,Compta!A18)))),1)),Feuil1!$A$2:$A$107&Feuil1!$C$2:$C$107,0))))} -> Non-LA
A19: 1045.38 | C19: 41302 | D19: LE M | E19: =VLOOKUP(A19,Feuil1!$A$1:$F$108,5,FALSE) -> 44-2013-05-31-01 | H19: {=IF(D19<>"LA","Non-LA",IF(NOT(ISNUMBER(MATCH(A19,Feuil1!$A$2:$A$107,0))),"Valeur Crédit Non-Trouvée",INDEX(Feuil1!$E$2:$E$107,MATCH(Compta!A19&SMALL(IF(Feuil1!$A$2:$A$107=Compta!A19,Feuil1!$C$2:$C$107),MATCH(C19,SMALL(IF(Feuil1!$A$2:$A$107=Compta!A19,Feuil1!$C$2:$C$107),ROW(INDIRECT("1:"&COUNTIF(Feuil1!$A$2:$A$107,Compta!A19)))),1)),Feuil1!$A$2:$A$107&Feuil1!$C$2:$C$107,0))))} -> Non-LA
A20: 666.54 | C20: 41304 | D20: LA | E20: =VLOOKUP(A20,Feuil1!$A$1:$F$108,5,FALSE) -> 44-2013-01-29-01 | F20: 44-2013-01-29-01 | G20: =IF(F20=E20,"ok","FAUX") -> ok | H20: {=IF(D20<>"LA","Non-LA",IF(NOT(ISNUMBER(MATCH(A20,Feuil1!$A$2:$A$107,0))),"Valeur Crédit Non-Trouvée",INDEX(Feuil1!$E$2:$E$107,MATCH(Compta!A20&SMALL(IF(Feuil1!$A$2:$A$107=Compta!A20,Feuil1!$C$2:$C$107),MATCH(C20,SMALL(IF(Feuil1!$A$2:$A$107=Compta!A20,Feuil1!$C$2:$C$107),ROW(INDIRECT("1:"&COUNTIF(Feuil1!$A$2:$A$107,Compta!A20)))),1)),Feuil1!$A$2:$A$107&Feuil1!$C$2:$C$107,0))))} -> 44-2013-01-29-01
A21: 390.6 | C21: 41304 | D21: LA | E21: =VLOOKUP(A21,Feuil1!$A$1:$F$108,5,FALSE) -> #N/A | G21: =IF(F21=E21,"ok","FAUX") -> #N/A | H21: {=IF(D21<>"LA","Non-LA",IF(NOT(ISNUMBER(MATCH(A21,Feuil1!$A$2:$A$107,0))),"Valeur Crédit Non-Trouvée",INDEX(Feuil1!$E$2:$E$107,MATCH(Compta!A21&SMALL(IF(Feuil1!$A$2:$A$107=Compta!A21,Feuil1!$C$2:$C$107),MATCH(C21,SMALL(IF(Feuil1!$A$2:$A$107=Compta!A21,Feuil1!$C$2:$C$107),ROW(INDIRECT("1:"&COUNTIF(Feuil1!$A$2:$A$107,Compta!A21)))),1)),Feuil1!$A$2:$A$107&Feuil1!$C$2:$C$107,0))))} -> Valeur Crédit Non-Trouvée
A22: 157.4 | C22: 41304 | D22: M L | E22: =VLOOKUP(A22,Feuil1!$A$1:$F$108,5,FALSE) -> 44-2013-03-12-01 | H22: {=IF(D22<>"LA","Non-LA",IF(NOT(ISNUMBER(MATCH(A22,Feuil1!$A$2:$A$107,0))),"Valeur Crédit Non-Trouvée",INDEX(Feuil1!$E$2:$E$107,MATCH(Compta!A22&SMALL(IF(Feuil1!$A$2:$A$107=Compta!A22,Feuil1!$C$2:$C$107),MATCH(C22,SMALL(IF(Feuil1!$A$2:$A$107=Compta!A22,Feuil1!$C$2:$C$107),ROW(INDIRECT("1:"&COUNTIF(Feuil1!$A$2:$A$107,Compta!A22)))),1)),Feuil1!$A$2:$A$107&Feuil1!$C$2:$C$107,0))))} -> Non-LA
A23: 39.35 | C23: 41305 | D23: LA | E23: =VLOOKUP(A23,Feuil1!$A$1:$F$108,5,FALSE) -> 44-2013-02-11-01 | G23: =IF(F23=E23,"ok","FAUX") -> FAUX | H23: {=IF(D23<>"LA","Non-LA",IF(NOT(ISNUMBER(MATCH(A23,Feuil1!$A$2:$A$107,0))),"Valeur Crédit Non-Trouvée",INDEX(Feuil1!$E$2:$E$107,MATCH(Compta!A23&SMALL(IF(Feuil1!$A$2:$A$107=Compta!A23,Feuil1!$C$2:$C$107),MATCH(C23,SMALL(IF(Feuil1!$A$2:$A$107=Compta!A23,Feuil1!$C$2:$C$107),ROW(INDIRECT("1:"&COUNTIF(Feuil1!$A$2:$A$107,Compta!A23)))),1)),Feuil1!$A$2:$A$107&Feuil1!$C$2:$C$107,0))))} -> #N/A
A24: 770.66 | C24: 41305 | D24: LA | E24: =VLOOKUP(A24,Feuil1!$A$1:$F$108,5,FALSE) -> 44-2013-01-30-01 | F24: 44-2013-01-30-01 | G24: =IF(F24=E24,"ok","FAUX") -> ok | H24: {=IF(D24<>"LA","Non-LA",IF(NOT(ISNUMBER(MATCH(A24,Feuil1!$A$2:$A$107,0))),"Valeur Crédit Non-Trouvée",INDEX(Feuil1!$E$2:$E$107,MATCH(Compta!A24&SMALL(IF(Feuil1!$A$2:$A$107=Compta!A24,Feuil1!$C$2:$C$107),MATCH(C24,SMALL(IF(Feuil1!$A$2:$A$107=Compta!A24,Feuil1!$C$2:$C$107),ROW(INDIRECT("1:"&COUNTIF(Feuil1!$A$2:$A$107,Compta!A24)))),1)),Feuil1!$A$2:$A$107&Feuil1!$C$2:$C$107,0))))} -> 44-2013-01-30-01
A25: 78.7 | C25: 41305 | D25: LA | E25: =VLOOKUP(A25,Feuil1!$A$1:$F$108,5,FALSE) -> 44-2013-01-02-01 | F25: 44-2013-02-08-01 | G25: =IF(F25=E25,"ok","FAUX") -> FAUX | H25: {=IF(D25<>"LA","Non-LA",IF(NOT(ISNUMBER(MATCH(A25,Feuil1!$A$2:$A$107,0))),"Valeur Crédit Non-Trouvée",INDEX(Feuil1!$E$2:$E$107,MATCH(Compta!A25&SMALL(IF(Feuil1!$A$2:$A$107=Compta!A25,Feuil1!$C$2:$C$107),MATCH(C25,SMALL(IF(Feuil1!$A$2:$A$107=Compta!A25,Feuil1!$C$2:$C$107),ROW(INDIRECT("1:"&COUNTIF(Feuil1!$A$2:$A$107,Compta!A25)))),1)),Feuil1!$A$2:$A$107&Feuil1!$C$2:$C$107,0))))} -> 44-2013-01-02-01
A26: 381.7 | C26: 41305 | D26: M L | E26: =VLOOKUP(A26,Feuil1!$A$1:$F$108,5,FALSE) -> #N/A | H26: {=IF(D26<>"LA","Non-LA",IF(NOT(ISNUMBER(MATCH(A26,Feuil1!$A$2:$A$107,0))),"Valeur Crédit Non-Trouvée",INDEX(Feuil1!$E$2:$E$107,MATCH(Compta!A26&SMALL(IF(Feuil1!$A$2:$A$107=Compta!A26,Feuil1!$C$2:$C$107),MATCH(C26,SMALL(IF(Feuil1!$A$2:$A$107=Compta!A26,Feuil1!$C$2:$C$107),ROW(INDIRECT("1:"&COUNTIF(Feuil1!$A$2:$A$107,Compta!A26)))),1)),Feuil1!$A$2:$A$107&Feuil1!$C$2:$C$107,0))))} -> Non-LA
A27: 1045.38 | C27: 41306 | D27: LE M | E27: =VLOOKUP(A27,Feuil1!$A$1:$F$108,5,FALSE) -> 44-2013-05-31-01 | H27: {=IF(D27<>"LA","Non-LA",IF(NOT(ISNUMBER(MATCH(A27,Feuil1!$A$2:$A$107,0))),"Valeur Crédit Non-Trouvée",INDEX(Feuil1!$E$2:$E$107,MATCH(Compta!A27&SMALL(IF(Feuil1!$A$2:$A$107=Compta!A27,Feuil1!$C$2:$C$107),MATCH(C27,SMALL(IF(Feuil1!$A$2:$A$107=Compta!A27,Feuil1!$C$2:$C$107),ROW(INDIRECT("1:"&COUNTIF(Feuil1!$A$2:$A$107,Compta!A27)))),1)),Feuil1!$A$2:$A$107&Feuil1!$C$2:$C$107,0))))} -> Non-LA
A28: 333.4 | C28: 41309 | D28: R | E28: =VLOOKUP(A28,Feuil1!$A$1:$F$108,5,FALSE) -> #N/A | H28: {=IF(D28<>"LA","Non-LA",IF(NOT(ISNUMBER(MATCH(A28,Feuil1!$A$2:$A$107,0))),"Valeur Crédit Non-Trouvée",INDEX(Feuil1!$E$2:$E$107,MATCH(Compta!A28&SMALL(IF(Feuil1!$A$2:$A$107=Compta!A28,Feuil1!$C$2:$C$107),MATCH(C28,SMALL(IF(Feuil1!$A$2:$A$107=Compta!A28,Feuil1!$C$2:$C$107),ROW(INDIRECT("1:"&COUNTIF(Feuil1!$A$2:$A$107,Compta!A28)))),1)),Feuil1!$A$2:$A$107&Feuil1!$C$2:$C$107,0))))} -> Non-LA
A29: 75.18 | C29: 41310 | D29: LE M | E29: =VLOOKUP(A29,Feuil1!$A$1:$F$108,5,FALSE) -> #N/A | H29: {=IF(D29<>"LA","Non-LA",IF(NOT(ISNUMBER(MATCH(A29,Feuil1!$A$2:$A$107,0))),"Valeur Crédit Non-Trouvée",INDEX(Feuil1!$E$2:$E$107,MATCH(Compta!A29&SMALL(IF(Feuil1!$A$2:$A$107=Compta!A29,Feuil1!$C$2:$C$107),MATCH(C29,SMALL(IF(Feuil1!$A$2:$A$107=Compta!A29,Feuil1!$C$2:$C$107),ROW(INDIRECT("1:"&COUNTIF(Feuil1!$A$2:$A$107,Compta!A29)))),1)),Feuil1!$A$2:$A$107&Feuil1!$C$2:$C$107,0))))} -> Non-LA
A30: 236.1 | C30: 41311 | D30: LA | E30: =VLOOKUP(A30,Feuil1!$A$1:$F$108,5,FALSE) -> 44-2013-02-05-01 | F30: 44-2013-02-05-01 | G30: =IF(F30=E30,"ok","FAUX") -> ok | H30: {=IF(D30<>"LA","Non-LA",IF(NOT(ISNUMBER(MATCH(A30,Feuil1!$A$2:$A$107,0))),"Valeur Crédit Non-Trouvée",INDEX(Feuil1!$E$2:$E$107,MATCH(Compta!A30&SMALL(IF(Feuil1!$A$2:$A$107=Compta!A30,Feuil1!$C$2:$C$107),MATCH(C30,SMALL(IF(Feuil1!$A$2:$A$107=Compta!A30,Feuil1!$C$2:$C$107),ROW(INDIRECT("1:"&COUNTIF(Feuil1!$A$2:$A$107,Compta!A30)))),1)),Feuil1!$A$2:$A$107&Feuil1!$C$2:$C$107,0))))} -> 44-2013-02-05-01
B31: 373.68 | C31: 41311 | D31: REGUL | E31: =VLOOKUP(A31,Feuil1!$A$1:$F$108,5,FALSE) -> 44-2013-03-04-02 | H31: {=IF(D31<>"LA","Non-LA",IF(NOT(ISNUMBER(MATCH(A31,Feuil1!$A$2:$A$107,0))),"Valeur Crédit Non-Trouvée",INDEX(Feuil1!$E$2:$E$107,MATCH(Compta!A31&SMALL(IF(Feuil1!$A$2:$A$107=Compta!A31,Feuil1!$C$2:$C$107),MATCH(C31,SMALL(IF(Feuil1!$A$2:$A$107=Compta!A31,Feuil1!$C$2:$C$107),ROW(INDIRECT("1:"&COUNTIF(Feuil1!$A$2:$A$107,Compta!A31)))),1)),Feuil1!$A$2:$A$107&Feuil1!$C$2:$C$107,0))))} -> Non-LA
A32: 888.16 | C32: 41313 | D32: LA | E32: =VLOOKUP(A32,Feuil1!$A$1:$F$108,5,FALSE) -> 44-2013-01-23-01 | F32: 44-2013-02-06-01 | G32: =IF(F32=E32,"ok","FAUX") -> FAUX | H32: {=IF(D32<>"LA","Non-LA",IF(NOT(ISNUMBER(MATCH(A32,Feuil1!$A$2:$A$107,0))),"Valeur Crédit Non-Trouvée",INDEX(Feuil1!$E$2:$E$107,MATCH(Compta!A32&SMALL(IF(Feuil1!$A$2:$A$107=Compta!A32,Feuil1!$C$2:$C$107),MATCH(C32,SMALL(IF(Feuil1!$A$2:$A$107=Compta!A32,Feuil1!$C$2:$C$107),ROW(INDIRECT("1:"&COUNTIF(Feuil1!$A$2:$A$107,Compta!A32)))),1)),Feuil1!$A$2:$A$107&Feuil1!$C$2:$C$107,0))))} -> 44-2013-02-06-01
A33: 48.49 | C33: 41313 | D33: LA | E33: =VLOOKUP(A33,Feuil1!$A$1:$F$108,5,FALSE) -> #N/A | G33: =IF(F33=E33,"ok","FAUX") -> #N/A | H33: {=IF(D33<>"LA","Non-LA",IF(NOT(ISNUMBER(MATCH(A33,Feuil1!$A$2:$A$107,0))),"Valeur Crédit Non-Trouvée",INDEX(Feuil1!$E$2:$E$107,MATCH(Compta!A33&SMALL(IF(Feuil1!$A$2:$A$107=Compta!A33,Feuil1!$C$2:$C$107),MATCH(C33,SMALL(IF(Feuil1!$A$2:$A$107=Compta!A33,Feuil1!$C$2:$C$107),ROW(INDIRECT("1:"&COUNTIF(Feuil1!$A$2:$A$107,Compta!A33)))),1)),Feuil1!$A$2:$A$107&Feuil1!$C$2:$C$107,0))))} -> Valeur Crédit Non-Trouvée
A34: 540.4 | C34: 41313 | D34: M L | E34: =VLOOKUP(A34,Feuil1!$A$1:$F$108,5,FALSE) -> #N/A | H34: {=IF(D34<>"LA","Non-LA",IF(NOT(ISNUMBER(MATCH(A34,Feuil1!$A$2:$A$107,0))),"Valeur Crédit Non-Trouvée",INDEX(Feuil1!$E$2:$E$107,MATCH(Compta!A34&SMALL(IF(Feuil1!$A$2:$A$107=Compta!A34,Feuil1!$C$2:$C$107),MATCH(C34,SMALL(IF(Feuil1!$A$2:$A$107=Compta!A34,Feuil1!$C$2:$C$107),ROW(INDIRECT("1:"&COUNTIF(Feuil1!$A$2:$A$107,Compta!A34)))),1)),Feuil1!$A$2:$A$107&Feuil1!$C$2:$C$107,0))))} -> Non-LA
A35: 37.75 | C35: 41313 | D35: V | E35: =VLOOKUP(A35,Feuil1!$A$1:$F$108,5,FALSE) -> #N/A | H35: {=IF(D35<>"LA","Non-LA",IF(NOT(ISNUMBER(MATCH(A35,Feuil1!$A$2:$A$107,0))),"Valeur Crédit Non-Trouvée",INDEX(Feuil1!$E$2:$E$107,MATCH(Compta!A35&SMALL(IF(Feuil1!$A$2:$A$107=Compta!A35,Feuil1!$C$2:$C$107),MATCH(C35,SMALL(IF(Feuil1!$A$2:$A$107=Compta!A35,Feuil1!$C$2:$C$107),ROW(INDIRECT("1:"&COUNTIF(Feuil1!$A$2:$A$107,Compta!A35)))),1)),Feuil1!$A$2:$A$107&Feuil1!$C$2:$C$107,0))))} -> Non-LA
A36: 987.97 | C36: 41316 | D36: LA | E36: =VLOOKUP(A36,Feuil1!$A$1:$F$108,5,FALSE) -> #N/A | G36: =IF(F36=E36,"ok","FAUX") -> #N/A | H36: {=IF(D36<>"LA","Non-LA",IF(NOT(ISNUMBER(MATCH(A36,Feuil1!$A$2:$A$107,0))),"Valeur Crédit Non-Trouvée",INDEX(Feuil1!$E$2:$E$107,MATCH(Compta!A36&SMALL(IF(Feuil1!$A$2:$A$107=Compta!A36,Feuil1!$C$2:$C$107),MATCH(C36,SMALL(IF(Feuil1!$A$2:$A$107=Compta!A36,Feuil1!$C$2:$C$107),ROW(INDIRECT("1:"&COUNTIF(Feuil1!$A$2:$A$107,Compta!A36)))),1)),Feuil1!$A$2:$A$107&Feuil1!$C$2:$C$107,0))))} -> Valeur Crédit Non-Trouvée
A37: 78.7 | C37: 41316 | D37: LA | E37: =VLOOKUP(A37,Feuil1!$A$1:$F$108,5,FALSE) -> 44-2013-01-02-01 | F37: 44-2013-02-12-03 | G37: =IF(F37=E37,"ok","FAUX") -> FAUX | H37: {=IF(D37<>"LA","Non-LA",IF(NOT(ISNUMBER(MATCH(A37,Feuil1!$A$2:$A$107,0))),"Valeur Crédit Non-Trouvée",INDEX(Feuil1!$E$2:$E$107,MATCH(Compta!A37&SMALL(IF(Feuil1!$A$2:$A$107=Compta!A37,Feuil1!$C$2:$C$107),MATCH(C37,SMALL(IF(Feuil1!$A$2:$A$107=Compta!A37,Feuil1!$C$2:$C$107),ROW(INDIRECT("1:"&COUNTIF(Feuil1!$A$2:$A$107,Compta!A37)))),1)),Feuil1!$A$2:$A$107&Feuil1!$C$2:$C$107,0))))} -> 44-2013-02-08-01
A38: 1045.38 | C38: 41316 | D38: LE M | E38: =VLOOKUP(A38,Feuil1!$A$1:$F$108,5,FALSE) -> 44-2013-05-31-01 | H38: {=IF(D38<>"LA","Non-LA",IF(NOT(ISNUMBER(MATCH(A38,Feuil1!$A$2:$A$107,0))),"Valeur Crédit Non-Trouvée",INDEX(Feuil1!$E$2:$E$107,MATCH(Compta!A38&SMALL(IF(Feuil1!$A$2:$A$107=Compta!A38,Feuil1!$C$2:$C$107),MATCH(C38,SMALL(IF(Feuil1!$A$2:$A$107=Compta!A38,Feuil1!$C$2:$C$107),ROW(INDIRECT("1:"&COUNTIF(Feuil1!$A$2:$A$107,Compta!A38)))),1)),Feuil1!$A$2:$A$107&Feuil1!$C$2:$C$107,0))))} -> Non-LA
A39: 78.7 | C39: 41317 | D39: LA | E39: =VLOOKUP(A39,Feuil1!$A$1:$F$108,5,FALSE) -> 44-2013-01-02-01 | G39: =IF(F39=E39,"ok","FAUX") -> FAUX | H39: {=IF(D39<>"LA","Non-LA",IF(NOT(ISNUMBER(MATCH(A39,Feuil1!$A$2:$A$107,0))),"Valeur Crédit Non-Trouvée",INDEX(Feuil1!$E$2:$E$107,MATCH(Compta!A39&SMALL(IF(Feuil1!$A$2:$A$107=Compta!A39,Feuil1!$C$2:$C$107),MATCH(C39,SMALL(IF(Feuil1!$A$2:$A$107=Compta!A39,Feuil1!$C$2:$C$107),ROW(INDIRECT("1:"&COUNTIF(Feuil1!$A$2:$A$107,Compta!A39)))),1)),Feuil1!$A$2:$A$107&Feuil1!$C$2:$C$107,0))))} -> 44-2013-02-12-03
A40: 39.35 | C40: 41317 | D40: LA | E40: =VLOOKUP(A40,Feuil1!$A$1:$F$108,5,FALSE) -> 44-2013-02-11-01 | G40: =IF(F40=E40,"ok","FAUX") -> FAUX | H40: {=IF(D40<>"LA","Non-LA",IF(NOT(ISNUMBER(MATCH(A40,Feuil1!$A$2:$A$107,0))),"Valeur Crédit Non-Trouvée",INDEX(Feuil1!$E$2:$E$107,MATCH(Compta!A40&SMALL(IF(Feuil1!$A$2:$A$107=Compta!A40,Feuil1!$C$2:$C$107),MATCH(C40,SMALL(IF(Feuil1!$A$2:$A$107=Compta!A40,Feuil1!$C$2:$C$107),ROW(INDIRECT("1:"&COUNTIF(Feuil1!$A$2:$A$107,Compta!A40)))),1)),Feuil1!$A$2:$A$107&Feuil1!$C$2:$C$107,0))))} -> 44-2013-02-11-01
A41: 1325.28 | C41: 41317 | D41: M L | E41: =VLOOKUP(A41,Feuil1!$A$1:$F$108,5,FALSE) -> #N/A | H41: {=IF(D41<>"LA","Non-LA",IF(NOT(ISNUMBER(MATCH(A41,Feuil1!$A$2:$A$107,0))),"Valeur Crédit Non-Trouvée",INDEX(Feuil1!$E$2:$E$107,MATCH(Compta!A41&SMALL(IF(Feuil1!$A$2:$A$107=Compta!A41,Feuil1!$C$2:$C$107),MATCH(C41,SMALL(IF(Feuil1!$A$2:$A$107=Compta!A41,Feuil1!$C$2:$C$107),ROW(INDIRECT("1:"&COUNTIF(Feuil1!$A$2:$A$107,Compta!A41)))),1)),Feuil1!$A$2:$A$107&Feuil1!$C$2:$C$107,0))))} -> Non-LA
A42: 466.76 | C42: 41317 | D42: R | E42: =VLOOKUP(A42,Feuil1!$A$1:$F$108,5,FALSE) -> #N/A | H42: {=IF(D42<>"LA","Non-LA",IF(NOT(ISNUMBER(MATCH(A42,Feuil1!$A$2:$A$107,0))),"Valeur Crédit Non-Trouvée",INDEX(Feuil1!$E$2:$E$107,MATCH(Compta!A42&SMALL(IF(Feuil1!$A$2:$A$107=Compta!A42,Feuil1!$C$2:$C$107),MATCH(C42,SMALL(IF(Feuil1!$A$2:$A$107=Compta!A42,Feuil1!$C$2:$C$107),ROW(INDIRECT("1:"&COUNTIF(Feuil1!$A$2:$A$107,Compta!A42)))),1)),Feuil1!$A$2:$A$107&Feuil1!$C$2:$C$107,0))))} -> Non-LA
A43: 921.5 | C43: 41318 | D43: LA | E43: =VLOOKUP(A43,Feuil1!$A$1:$F$108,5,FALSE) -> 44-2013-02-12-01 | G43: =IF(F43=E43,"ok","FAUX") -> FAUX | H43: {=IF(D43<>"LA","Non-LA",IF(NOT(ISNUMBER(MATCH(A43,Feuil1!$A$2:$A$107,0))),"Valeur Crédit Non-Trouvée",INDEX(Feuil1!$E$2:$E$107,MATCH(Compta!A43&SMALL(IF(Feuil1!$A$2:$A$107=Compta!A43,Feuil1!$C$2:$C$107),MATCH(C43,SMALL(IF(Feuil1!$A$2:$A$107=Compta!A43,Feuil1!$C$2:$C$107),ROW(INDIRECT("1:"&COUNTIF(Feuil1!$A$2:$A$107,Compta!A43)))),1)),Feuil1!$A$2:$A$107&Feuil1!$C$2:$C$107,0))))} -> 44-2013-02-12-01
A44: 390.6 | C44: 41318 | D44: LA | E44: =VLOOKUP(A44,Feuil1!$A$1:$F$108,5,FALSE) -> #N/A | G44: =IF(F44=E44,"ok","FAUX") -> #N/A | H44: {=IF(D44<>"LA","Non-LA",IF(NOT(ISNUMBER(MATCH(A44,Feuil1!$A$2:$A$107,0))),"Valeur Crédit Non-Trouvée",INDEX(Feuil1!$E$2:$E$107,MATCH(Compta!A44&SMALL(IF(Feuil1!$A$2:$A$107=Compta!A44,Feuil1!$C$2:$C$107),MATCH(C44,SMALL(IF(Feuil1!$A$2:$A$107=Compta!A44,Feuil1!$C$2:$C$107),ROW(INDIRECT("1:"&COUNTIF(Feuil1!$A$2:$A$107,Compta!A44)))),1)),Feuil1!$A$2:$A$107&Feuil1!$C$2:$C$107,0))))} -> Valeur Crédit Non-Trouvée
A45: 298.16 | C45: 41318 | D45: LA | E45: =VLOOKUP(A45,Feuil1!$A$1:$F$108,5,FALSE) -> 44-2013-02-12-02 | G45: =IF(F45=E45,"ok","FAUX") -> FAUX | H45: {=IF(D45<>"LA","Non-LA",IF(NOT(ISNUMBER(MATCH(A45,Feuil1!$A$2:$A$107,0))),"Valeur Crédit Non-Trouvée",INDEX(Feuil1!$E$2:$E$107,MATCH(Compta!A45&SMALL(IF(Feuil1!$A$2:$A$107=Compta!A45,Feuil1!$C$2:$C$107),MATCH(C45,SMALL(IF(Feuil1!$A$2:$A$107=Compta!A45,Feuil1!$C$2:$C$107),ROW(INDIRECT("1:"&COUNTIF(Feuil1!$A$2:$A$107,Compta!A45)))),1)),Feuil1!$A$2:$A$107&Feuil1!$C$2:$C$107,0))))} -> 44-2013-02-12-02
A46: 414.15 | C46: 41318 | D46: M L | E46: =VLOOKUP(A46,Feuil1!$A$1:$F$108,5,FALSE) -> #N/A | H46: {=IF(D46<>"LA","Non-LA",IF(NOT(ISNUMBER(MATCH(A46,Feuil1!$A$2:$A$107,0))),"Valeur Crédit Non-Trouvée",INDEX(Feuil1!$E$2:$E$107,MATCH(Compta!A46&SMALL(IF(Feuil1!$A$2:$A$107=Compta!A46,Feuil1!$C$2:$C$107),MATCH(C46,SMALL(IF(Feuil1!$A$2:$A$107=Compta!A46,Feuil1!$C$2:$C$107),ROW(INDIRECT("1:"&COUNTIF(Feuil1!$A$2:$A$107,Compta!A46)))),1)),Feuil1!$A$2:$A$107&Feuil1!$C$2:$C$107,0))))} -> Non-LA
A47: 37.27 | B47: versé a tord | C47: 41319 | D47: LA | E47: =VLOOKUP(A47,Feuil1!$A$1:$F$108,5,FALSE) -> 44-2013-02-13-01 | G47: =IF(F47=E47,"ok","FAUX") -> FAUX | H47: {=IF(D47<>"LA","Non-LA",IF(NOT(ISNUMBER(MATCH(A47,Feuil1!$A$2:$A$107,0))),"Valeur Crédit Non-Trouvée",INDEX(Feuil1!$E$2:$E$107,MATCH(Compta!A47&SMALL(IF(Feuil1!$A$2:$A$107=Compta!A47,Feuil1!$C$2:$C$107),MATCH(C47,SMALL(IF(Feuil1!$A$2:$A$107=Compta!A47,Feuil1!$C$2:$C$107),ROW(INDIRECT("1:"&COUNTIF(Feuil1!$A$2:$A$107,Compta!A47)))),1)),Feuil1!$A$2:$A$107&Feuil1!$C$2:$C$107,0))))} -> 44-2013-02-13-01
A48: 1045.38 | C48: 41320 | D48: LE M | E48: =VLOOKUP(A48,Feuil1!$A$1:$F$108,5,FALSE) -> 44-2013-05-31-01 | H48: {=IF(D48<>"LA","Non-LA",IF(NOT(ISNUMBER(MATCH(A48,Feuil1!$A$2:$A$107,0))),"Valeur Crédit Non-Trouvée",INDEX(Feuil1!$E$2:$E$107,MATCH(Compta!A48&SMALL(IF(Feuil1!$A$2:$A$107=Compta!A48,Feuil1!$C$2:$C$107),MATCH(C48,SMALL(IF(Feuil1!$A$2:$A$107=Compta!A48,Feuil1!$C$2:$C$107),ROW(INDIRECT("1:"&COUNTIF(Feuil1!$A$2:$A$107,Compta!A48)))),1)),Feuil1!$A$2:$A$107&Feuil1!$C$2:$C$107,0))))} -> Non-LA
A49: 39.4 | C49: 41323 | D49: LA | E49: =VLOOKUP(A49,Feuil1!$A$1:$F$108,5,FALSE) -> 44-2013-02-15-01 | G49: =IF(F49=E49,"ok","FAUX") -> FAUX | H49: {=IF(D49<>"LA","Non-LA",IF(NOT(ISNUMBER(MATCH(A49,Feuil1!$A$2:$A$107,0))),"Valeur Crédit Non-Trouvée",INDEX(Feuil1!$E$2:$E$107,MATCH(Compta!A49&SMALL(IF(Feuil1!$A$2:$A$107=Compta!A49,Feuil1!$C$2:$C$107),MATCH(C49,SMALL(IF(Feuil1!$A$2:$A$107=Compta!A49,Feuil1!$C$2:$C$107),ROW(INDIRECT("1:"&COUNTIF(Feuil1!$A$2:$A$107,Compta!A49)))),1)),Feuil1!$A$2:$A$107&Feuil1!$C$2:$C$107,0))))} -> 44-2013-02-15-01
A50: 39.4 | C50: 41323 | D50: LA | E50: =VLOOKUP(A50,Feuil1!$A$1:$F$108,5,FALSE) -> 44-2013-02-15-01 | G50: =IF(F50=E50,"ok","FAUX") -> FAUX | H50: {=IF(D50<>"LA","Non-LA",IF(NOT(ISNUMBER(MATCH(A50,Feuil1!$A$2:$A$107,0))),"Valeur Crédit Non-Trouvée",INDEX(Feuil1!$E$2:$E$107,MATCH(Compta!A50&SMALL(IF(Feuil1!$A$2:$A$107=Compta!A50,Feuil1!$C$2:$C$107),MATCH(C50,SMALL(IF(Feuil1!$A$2:$A$107=Compta!A50,Feuil1!$C$2:$C$107),ROW(INDIRECT("1:"&COUNTIF(Feuil1!$A$2:$A$107,Compta!A50)))),1)),Feuil1!$A$2:$A$107&Feuil1!$C$2:$C$107,0))))} -> 44-2013-02-15-01
A51: 461.19 | C51: 41324 | D51: LA | E51: =VLOOKUP(A51,Feuil1!$A$1:$F$108,5,FALSE) -> #N/A | G51: =IF(F51=E51,"ok","FAUX") -> #N/A | H51: {=IF(D51<>"LA","Non-LA",IF(NOT(ISNUMBER(MATCH(A51,Feuil1!$A$2:$A$107,0))),"Valeur Crédit Non-Trouvée",INDEX(Feuil1!$E$2:$E$107,MATCH(Compta!A51&SMALL(IF(Feuil1!$A$2:$A$107=Compta!A51,Feuil1!$C$2:$C$107),MATCH(C51,SMALL(IF(Feuil1!$A$2:$A$107=Compta!A51,Feuil1!$C$2:$C$107),ROW(INDIRECT("1:"&COUNTIF(Feuil1!$A$2:$A$107,Compta!A51)))),1)),Feuil1!$A$2:$A$107&Feuil1!$C$2:$C$107,0))))} -> Valeur Crédit Non-Trouvée
A52: 66.24 | C52: 41324 | D52: LA | E52: =VLOOKUP(A52,Feuil1!$A$1:$F$108,5,FALSE) -> #N/A | G52: =IF(F52=E52,"ok","FAUX") -> #N/A | H52: {=IF(D52<>"LA","Non-LA",IF(NOT(ISNUMBER(MATCH(A52,Feuil1!$A$2:$A$107,0))),"Valeur Crédit Non-Trouvée",INDEX(Feuil1!$E$2:$E$107,MATCH(Compta!A52&SMALL(IF(Feuil1!$A$2:$A$107=Compta!A52,Feuil1!$C$2:$C$107),MATCH(C52,SMALL(IF(Feuil1!$A$2:$A$107=Compta!A52,Feuil1!$C$2:$C$107),ROW(INDIRECT("1:"&COUNTIF(Feuil1!$A$2:$A$107,Compta!A52)))),1)),Feuil1!$A$2:$A$107&Feuil1!$C$2:$C$107,0))))} -> Valeur Crédit Non-Trouvée
A53: 1530.65 | C53: 41324 | D53: V | E53: =VLOOKUP(A53,Feuil1!$A$1:$F$108,5,FALSE) -> #N/A | H53: {=IF(D53<>"LA","Non-LA",IF(NOT(ISNUMBER(MATCH(A53,Feuil1!$A$2:$A$107,0))),"Valeur Crédit Non-Trouvée",INDEX(Feuil1!$E$2:$E$107,MATCH(Compta!A53&SMALL(IF(Feuil1!$A$2:$A$107=Compta!A53,Feuil1!$C$2:$C$107),MATCH(C53,SMALL(IF(Feuil1!$A$2:$A$107=Compta!A53,Feuil1!$C$2:$C$107),ROW(INDIRECT("1:"&COUNTIF(Feuil1!$A$2:$A$107,Compta!A53)))),1)),Feuil1!$A$2:$A$107&Feuil1!$C$2:$C$107,0))))} -> Non-LA
A54: 275.45 | C54: 41325 | D54: LA | E54: =VLOOKUP(A54,Feuil1!$A$1:$F$108,5,FALSE) -> 44-2013-03-26-03 | G54: =IF(F54=E54,"ok","FAUX") -> FAUX | H54: {=IF(D54<>"LA","Non-LA",IF(NOT(ISNUMBER(MATCH(A54,Feuil1!$A$2:$A$107,0))),"Valeur Crédit Non-Trouvée",INDEX(Feuil1!$E$2:$E$107,MATCH(Compta!A54&SMALL(IF(Feuil1!$A$2:$A$107=Compta!A54,Feuil1!$C$2:$C$107),MATCH(C54,SMALL(IF(Feuil1!$A$2:$A$107=Compta!A54,Feuil1!$C$2:$C$107),ROW(INDIRECT("1:"&COUNTIF(Feuil1!$A$2:$A$107,Compta!A54)))),1)),Feuil1!$A$2:$A$107&Feuil1!$C$2:$C$107,0))))} -> #N/A
A55: 78.8 | C55: 41325 | D55: LA | E55: =VLOOKUP(A55,Feuil1!$A$1:$F$108,5,FALSE) -> 44-2013-02-19-01 | G55: =IF(F55=E55,"ok","FAUX") -> FAUX | H55: {=IF(D55<>"LA","Non-LA",IF(NOT(ISNUMBER(MATCH(A55,Feuil1!$A$2:$A$107,0))),"Valeur Crédit Non-Trouvée",INDEX(Feuil1!$E$2:$E$107,MATCH(Compta!A55&SMALL(IF(Feuil1!$A$2:$A$107=Compta!A55,Feuil1!$C$2:$C$107),MATCH(C55,SMALL(IF(Feuil1!$A$2:$A$107=Compta!A55,Feuil1!$C$2:$C$107),ROW(INDIRECT("1:"&COUNTIF(Feuil1!$A$2:$A$107,Compta!A55)))),1)),Feuil1!$A$2:$A$107&Feuil1!$C$2:$C$107,0))))} -> 44-2013-02-19-01
A56: 888.16 | C56: 41326 | D56: LA | E56: =VLOOKUP(A56,Feuil1!$A$1:$F$108,5,FALSE) -> 44-2013-01-23-01 | G56: =IF(F56=E56,"ok","FAUX") -> FAUX | H56: {=IF(D56<>"LA","Non-LA",IF(NOT(ISNUMBER(MATCH(A56,Feuil1!$A$2:$A$107,0))),"Valeur Crédit Non-Trouvée",INDEX(Feuil1!$E$2:$E$107,MATCH(Compta!A56&SMALL(IF(Feuil1!$A$2:$A$107=Compta!A56,Feuil1!$C$2:$C$107),MATCH(C56,SMALL(IF(Feuil1!$A$2:$A$107=Compta!A56,Feuil1!$C$2:$C$107),ROW(INDIRECT("1:"&COUNTIF(Feuil1!$A$2:$A$107,Compta!A56)))),1)),Feuil1!$A$2:$A$107&Feuil1!$C$2:$C$107,0))))} -> 44-2013-02-20-01
A57: 149.59 | C57: 41326 | D57: LA | E57: =VLOOKUP(A57,Feuil1!$A$1:$F$108,5,FALSE) -> 44-2013-02-20-02 | G57: =IF(F57=E57,"ok","FAUX") -> FAUX | H57: {=IF(D57<>"LA","Non-LA",IF(NOT(ISNUMBER(MATCH(A57,Feuil1!$A$2:$A$107,0))),"Valeur Crédit Non-Trouvée",INDEX(Feuil1!$E$2:$E$107,MATCH(Compta!A57&SMALL(IF(Feuil1!$A$2:$A$107=Compta!A57,Feuil1!$C$2:$C$107),MATCH(C57,SMALL(IF(Feuil1!$A$2:$A$107=Compta!A57,Feuil1!$C$2:$C$107),ROW(INDIRECT("1:"&COUNTIF(Feuil1!$A$2:$A$107,Compta!A57)))),1)),Feuil1!$A$2:$A$107&Feuil1!$C$2:$C$107,0))))} -> 44-2013-02-20-02
A58: 354.44 | C58: 41326 | D58: LA | E58: =VLOOKUP(A58,Feuil1!$A$1:$F$108,5,FALSE) -> #N/A | G58: =IF(F58=E58,"ok","FAUX") -> #N/A | H58: {=IF(D58<>"LA","Non-LA",IF(NOT(ISNUMBER(MATCH(A58,Feuil1!$A$2:$A$107,0))),"Valeur Crédit Non-Trouvée",INDEX(Feuil1!$E$2:$E$107,MATCH(Compta!A58&SMALL(IF(Feuil1!$A$2:$A$107=Compta!A58,Feuil1!$C$2:$C$107),MATCH(C58,SMALL(IF(Feuil1!$A$2:$A$107=Compta!A58,Feuil1!$C$2:$C$107),ROW(INDIRECT("1:"&COUNTIF(Feuil1!$A$2:$A$107,Compta!A58)))),1)),Feuil1!$A$2:$A$107&Feuil1!$C$2:$C$107,0))))} -> Valeur Crédit Non-Trouvée
A59: 139.6 | C59: 41326 | D59: M L | E59: =VLOOKUP(A59,Feuil1!$A$1:$F$108,5,FALSE) -> #N/A | H59: {=IF(D59<>"LA","Non-LA",IF(NOT(ISNUMBER(MATCH(A59,Feuil1!$A$2:$A$107,0))),"Valeur Crédit Non-Trouvée",INDEX(Feuil1!$E$2:$E$107,MATCH(Compta!A59&SMALL(IF(Feuil1!$A$2:$A$107=Compta!A59,Feuil1!$C$2:$C$107),MATCH(C59,SMALL(IF(Feuil1!$A$2:$A$107=Compta!A59,Feuil1!$C$2:$C$107),ROW(INDIRECT("1:"&COUNTIF(Feuil1!$A$2:$A$107,Compta!A59)))),1)),Feuil1!$A$2:$A$107&Feuil1!$C$2:$C$107,0))))} -> Non-LA
A60: 157.4 | C60: 41326 | D60: M L | E60: =VLOOKUP(A60,Feuil1!$A$1:$F$108,5,FALSE) -> 44-2013-03-12-01 | H60: {=IF(D60<>"LA","Non-LA",IF(NOT(ISNUMBER(MATCH(A60,Feuil1!$A$2:$A$107,0))),"Valeur Crédit Non-Trouvée",INDEX(Feuil1!$E$2:$E$107,MATCH(Compta!A60&SMALL(IF(Feuil1!$A$2:$A$107=Compta!A60,Feuil1!$C$2:$C$107),MATCH(C60,SMALL(IF(Feuil1!$A$2:$A$107=Compta!A60,Feuil1!$C$2:$C$107),ROW(INDIRECT("1:"&COUNTIF(Feuil1!$A$2:$A$107,Compta!A60)))),1)),Feuil1!$A$2:$A$107&Feuil1!$C$2:$C$107,0))))} -> Non-LA
A61: 550.9 | C61: 41327 | D61: LA | E61: =VLOOKUP(A61,Feuil1!$A$1:$F$108,5,FALSE) -> 44-2013-02-21-01 | G61: =IF(F61=E61,"ok","FAUX") -> FAUX | H61: {=IF(D61<>"LA","Non-LA",IF(NOT(ISNUMBER(MATCH(A61,Feuil1!$A$2:$A$107,0))),"Valeur Crédit Non-Trouvée",INDEX(Feuil1!$E$2:$E$107,MATCH(Compta!A61&SMALL(IF(Feuil1!$A$2:$A$107=Compta!A61,Feuil1!$C$2:$C$107),MATCH(C61,SMALL(IF(Feuil1!$A$2:$A$107=Compta!A61,Feuil1!$C$2:$C$107),ROW(INDIRECT("1:"&COUNTIF(Feuil1!$A$2:$A$107,Compta!A61)))),1)),Feuil1!$A$2:$A$107&Feuil1!$C$2:$C$107,0))))} -> 44-2013-02-21-01
A62: 1045.38 | C62: 41327 | D62: LE M | E62: =VLOOKUP(A62,Feuil1!$A$1:$F$108,5,FALSE) -> 44-2013-05-31-01 | H62: {=IF(D62<>"LA","Non-LA",IF(NOT(ISNUMBER(MATCH(A62,Feuil1!$A$2:$A$107,0))),"Valeur Crédit Non-Trouvée",INDEX(Feuil1!$E$2:$E$107,MATCH(Compta!A62&SMALL(IF(Feuil1!$A$2:$A$107=Compta!A62,Feuil1!$C$2:$C$107),MATCH(C62,SMALL(IF(Feuil1!$A$2:$A$107=Compta!A62,Feuil1!$C$2:$C$107),ROW(INDIRECT("1:"&COUNTIF(Feuil1!$A$2:$A$107,Compta!A62)))),1)),Feuil1!$A$2:$A$107&Feuil1!$C$2:$C$107,0))))} -> Non-LA
A63: 540.4 | C63: 41327 | D63: M L | E63: =VLOOKUP(A63,Feuil1!$A$1:$F$108,5,FALSE) -> #N/A | H63: {=IF(D63<>"LA","Non-LA",IF(NOT(ISNUMBER(MATCH(A63,Feuil1!$A$2:$A$107,0))),"Valeur Crédit Non-Trouvée",INDEX(Feuil1!$E$2:$E$107,MATCH(Compta!A63&SMALL(IF(Feuil1!$A$2:$A$107=Compta!A63,Feuil1!$C$2:$C$107),MATCH(C63,SMALL(IF(Feuil1!$A$2:$A$107=Compta!A63,Feuil1!$C$2:$C$107),ROW(INDIRECT("1:"&COUNTIF(Feuil1!$A$2:$A$107,Compta!A63)))),1)),Feuil1!$A$2:$A$107&Feuil1!$C$2:$C$107,0))))} -> Non-LA
A64: 39.35 | C64: 41327 | D64: ML | E64: =VLOOKUP(A64,Feuil1!$A$1:$F$108,5,FALSE) -> 44-2013-02-11-01 | H64: {=IF(D64<>"LA","Non-LA",IF(NOT(ISNUMBER(MATCH(A64,Feuil1!$A$2:$A$107,0))),"Valeur Crédit Non-Trouvée",INDEX(Feuil1!$E$2:$E$107,MATCH(Compta!A64&SMALL(IF(Feuil1!$A$2:$A$107=Compta!A64,Feuil1!$C$2:$C$107),MATCH(C64,SMALL(IF(Feuil1!$A$2:$A$107=Compta!A64,Feuil1!$C$2:$C$107),ROW(INDIRECT("1:"&COUNTIF(Feuil1!$A$2:$A$107,Compta!A64)))),1)),Feuil1!$A$2:$A$107&Feuil1!$C$2:$C$107,0))))} -> Non-LA
A65: 302 | C65: 41327 | D65: V | E65: =VLOOKUP(A65,Feuil1!$A$1:$F$108,5,FALSE) -> #N/A | H65: {=IF(D65<>"LA","Non-LA",IF(NOT(ISNUMBER(MATCH(A65,Feuil1!$A$2:$A$107,0))),"Valeur Crédit Non-Trouvée",INDEX(Feuil1!$E$2:$E$107,MATCH(Compta!A65&SMALL(IF(Feuil1!$A$2:$A$107=Compta!A65,Feuil1!$C$2:$C$107),MATCH(C65,SMALL(IF(Feuil1!$A$2:$A$107=Compta!A65,Feuil1!$C$2:$C$107),ROW(INDIRECT("1:"&COUNTIF(Feuil1!$A$2:$A$107,Compta!A65)))),1)),Feuil1!$A$2:$A$107&Feuil1!$C$2:$C$107,0))))} -> Non-LA
A66: 308.9 | C66: 41327 | D66: V | E66: =VLOOKUP(A66,Feuil1!$A$1:$F$108,5,FALSE) -> #N/A | H66: {=IF(D66<>"LA","Non-LA",IF(NOT(ISNUMBER(MATCH(A66,Feuil1!$A$2:$A$107,0))),"Valeur Crédit Non-Trouvée",INDEX(Feuil1!$E$2:$E$107,MATCH(Compta!A66&SMALL(IF(Feuil1!$A$2:$A$107=Compta!A66,Feuil1!$C$2:$C$107),MATCH(C66,SMALL(IF(Feuil1!$A$2:$A$107=Compta!A66,Feuil1!$C$2:$C$107),ROW(INDIRECT("1:"&COUNTIF(Feuil1!$A$2:$A$107,Compta!A66)))),1)),Feuil1!$A$2:$A$107&Feuil1!$C$2:$C$107,0))))} -> Non-LA
A67: 197 | C67: 41330 | D67: LA | E67: =VLOOKUP(A67,Feuil1!$A$1:$F$108,5,FALSE) -> 44-2013-02-22-01 | G67: =IF(F67=E67,"ok","FAUX") -> FAUX | H67: {=IF(D67<>"LA","Non-LA",IF(NOT(ISNUMBER(MATCH(A67,Feuil1!$A$2:$A$107,0))),"Valeur Crédit Non-Trouvée",INDEX(Feuil1!$E$2:$E$107,MATCH(Compta!A67&SMALL(IF(Feuil1!$A$2:$A$107=Compta!A67,Feuil1!$C$2:$C$107),MATCH(C67,SMALL(IF(Feuil1!$A$2:$A$107=Compta!A67,Feuil1!$C$2:$C$107),ROW(INDIRECT("1:"&COUNTIF(Feuil1!$A$2:$A$107,Compta!A67)))),1)),Feuil1!$A$2:$A$107&Feuil1!$C$2:$C$107,0))))} -> 44-2013-02-22-01
A68: 62.78 | C68: 41330 | D68: M L | E68: =VLOOKUP(A68,Feuil1!$A$1:$F$108,5,FALSE) -> #N/A | H68: {=IF(D68<>"LA","Non-LA",IF(NOT(ISNUMBER(MATCH(A68,Feuil1!$A$2:$A$107,0))),"Valeur Crédit Non-Trouvée",INDEX(Feuil1!$E$2:$E$107,MATCH(Compta!A68&SMALL(IF(Feuil1!$A$2:$A$107=Compta!A68,Feuil1!$C$2:$C$107),MATCH(C68,SMALL(IF(Feuil1!$A$2:$A$107=Compta!A68,Feuil1!$C$2:$C$107),ROW(INDIRECT("1:"&COUNTIF(Feuil1!$A$2:$A$107,Compta!A68)))),1)),Feuil1!$A$2:$A$107&Feuil1!$C$2:$C$107,0))))} -> Non-LA
A69: 305.36 | C69: 41330 | D69: M L | E69: =VLOOKUP(A69,Feuil1!$A$1:$F$108,5,FALSE) -> #N/A | H69: {=IF(D69<>"LA","Non-LA",IF(NOT(ISNUMBER(MATCH(A69,Feuil1!$A$2:$A$107,0))),"Valeur Crédit Non-Trouvée",INDEX(Feuil1!$E$2:$E$107,MATCH(Compta!A69&SMALL(IF(Feuil1!$A$2:$A$107=Compta!A69,Feuil1!$C$2:$C$107),MATCH(C69,SMALL(IF(Feuil1!$A$2:$A$107=Compta!A69,Feuil1!$C$2:$C$107),ROW(INDIRECT("1:"&COUNTIF(Feuil1!$A$2:$A$107,Compta!A69)))),1)),Feuil1!$A$2:$A$107&Feuil1!$C$2:$C$107,0))))} -> Non-LA
A70: 446.18 | C70: 41331 | D70: LA | E70: =VLOOKUP(A70,Feuil1!$A$1:$F$108,5,FALSE) -> #N/A | G70: =IF(F70=E70,"ok","FAUX") -> #N/A | H70: {=IF(D70<>"LA","Non-LA",IF(NOT(ISNUMBER(MATCH(A70,Feuil1!$A$2:$A$107,0))),"Valeur Crédit Non-Trouvée",INDEX(Feuil1!$E$2:$E$107,MATCH(Compta!A70&SMALL(IF(Feuil1!$A$2:$A$107=Compta!A70,Feuil1!$C$2:$C$107),MATCH(C70,SMALL(IF(Feuil1!$A$2:$A$107=Compta!A70,Feuil1!$C$2:$C$107),ROW(INDIRECT("1:"&COUNTIF(Feuil1!$A$2:$A$107,Compta!A70)))),1)),Feuil1!$A$2:$A$107&Feuil1!$C$2:$C$107,0))))} -> Valeur Crédit Non-Trouvée
A71: 170.45 | C71: 41331 | D71: M L | E71: =VLOOKUP(A71,Feuil1!$A$1:$F$108,5,FALSE) -> #N/A | H71: {=IF(D71<>"LA","Non-LA",IF(NOT(ISNUMBER(MATCH(A71,Feuil1!$A$2:$A$107,0))),"Valeur Crédit Non-Trouvée",INDEX(Feuil1!$E$2:$E$107,MATCH(Compta!A71&SMALL(IF(Feuil1!$A$2:$A$107=Compta!A71,Feuil1!$C$2:$C$107),MATCH(C71,SMALL(IF(Feuil1!$A$2:$A$107=Compta!A71,Feuil1!$C$2:$C$107),ROW(INDIRECT("1:"&COUNTIF(Feuil1!$A$2:$A$107,Compta!A71)))),1)),Feuil1!$A$2:$A$107&Feuil1!$C$2:$C$107,0))))} -> Non-LA
A72: 386.54 | C72: 41331 | D72: M L | E72: =VLOOKUP(A72,Feuil1!$A$1:$F$108,5,FALSE) -> #N/A | H72: {=IF(D72<>"LA","Non-LA",IF(NOT(ISNUMBER(MATCH(A72,Feuil1!$A$2:$A$107,0))),"Valeur Crédit Non-Trouvée",INDEX(Feuil1!$E$2:$E$107,MATCH(Compta!A72&SMALL(IF(Feuil1!$A$2:$A$107=Compta!A72,Feuil1!$C$2:$C$107),MATCH(C72,SMALL(IF(Feuil1!$A$2:$A$107=Compta!A72,Feuil1!$C$2:$C$107),ROW(INDIRECT("1:"&COUNTIF(Feuil1!$A$2:$A$107,Compta!A72)))),1)),Feuil1!$A$2:$A$107&Feuil1!$C$2:$C$107,0))))} -> Non-LA
A73: 500.1 | C73: 41331 | D73: R | E73: =VLOOKUP(A73,Feuil1!$A$1:$F$108,5,FALSE) -> #N/A | H73: {=IF(D73<>"LA","Non-LA",IF(NOT(ISNUMBER(MATCH(A73,Feuil1!$A$2:$A$107,0))),"Valeur Crédit Non-Trouvée",INDEX(Feuil1!$E$2:$E$107,MATCH(Compta!A73&SMALL(IF(Feuil1!$A$2:$A$107=Compta!A73,Feuil1!$C$2:$C$107),MATCH(C73,SMALL(IF(Feuil1!$A$2:$A$107=Compta!A73,Feuil1!$C$2:$C$107),ROW(INDIRECT("1:"&COUNTIF(Feuil1!$A$2:$A$107,Compta!A73)))),1)),Feuil1!$A$2:$A$107&Feuil1!$C$2:$C$107,0))))} -> Non-LA
A74: 666.54 | C74: 41332 | D74: LA | E74: =VLOOKUP(A74,Feuil1!$A$1:$F$108,5,FALSE) -> 44-2013-01-29-01 | G74: =IF(F74=E74,"ok","FAUX") -> FAUX | H74: {=IF(D74<>"LA","Non-LA",IF(NOT(ISNUMBER(MATCH(A74,Feuil1!$A$2:$A$107,0))),"Valeur Crédit Non-Trouvée",INDEX(Feuil1!$E$2:$E$107,MATCH(Compta!A74&SMALL(IF(Feuil1!$A$2:$A$107=Compta!A74,Feuil1!$C$2:$C$107),MATCH(C74,SMALL(IF(Feuil1!$A$2:$A$107=Compta!A74,Feuil1!$C$2:$C$107),ROW(INDIRECT("1:"&COUNTIF(Feuil1!$A$2:$A$107,Compta!A74)))),1)),Feuil1!$A$2:$A$107&Feuil1!$C$2:$C$107,0))))} -> 44-2013-02-26-01
A75: 362.7 | C75: 41332 | D75: LA | E75: =VLOOKUP(A75,Feuil1!$A$1:$F$108,5,FALSE) -> #N/A | G75: =IF(F75=E75,"ok","FAUX") -> #N/A | H75: {=IF(D75<>"LA","Non-LA",IF(NOT(ISNUMBER(MATCH(A75,Feuil1!$A$2:$A$107,0))),"Valeur Crédit Non-Trouvée",INDEX(Feuil1!$E$2:$E$107,MATCH(Compta!A75&SMALL(IF(Feuil1!$A$2:$A$107=Compta!A75,Feuil1!$C$2:$C$107),MATCH(C75,SMALL(IF(Feuil1!$A$2:$A$107=Compta!A75,Feuil1!$C$2:$C$107),ROW(INDIRECT("1:"&COUNTIF(Feuil1!$A$2:$A$107,Compta!A75)))),1)),Feuil1!$A$2:$A$107&Feuil1!$C$2:$C$107,0))))} -> Valeur Crédit Non-Trouvée
A76: 33.41 | C76: 41332 | D76: LA | E76: =VLOOKUP(A76,Feuil1!$A$1:$F$108,5,FALSE) -> 44-2013-02-26-02 | G76: =IF(F76=E76,"ok","FAUX") -> FAUX | H76: {=IF(D76<>"LA","Non-LA",IF(NOT(ISNUMBER(MATCH(A76,Feuil1!$A$2:$A$107,0))),"Valeur Crédit Non-Trouvée",INDEX(Feuil1!$E$2:$E$107,MATCH(Compta!A76&SMALL(IF(Feuil1!$A$2:$A$107=Compta!A76,Feuil1!$C$2:$C$107),MATCH(C76,SMALL(IF(Feuil1!$A$2:$A$107=Compta!A76,Feuil1!$C$2:$C$107),ROW(INDIRECT("1:"&COUNTIF(Feuil1!$A$2:$A$107,Compta!A76)))),1)),Feuil1!$A$2:$A$107&Feuil1!$C$2:$C$107,0))))} -> 44-2013-02-26-02
A77: 34.74 | C77: 41332 | D77: LA | E77: =VLOOKUP(A77,Feuil1!$A$1:$F$108,5,FALSE) -> #N/A | G77: =IF(F77=E77,"ok","FAUX") -> #N/A | H77: {=IF(D77<>"LA","Non-LA",IF(NOT(ISNUMBER(MATCH(A77,Feuil1!$A$2:$A$107,0))),"Valeur Crédit Non-Trouvée",INDEX(Feuil1!$E$2:$E$107,MATCH(Compta!A77&SMALL(IF(Feuil1!$A$2:$A$107=Compta!A77,Feuil1!$C$2:$C$107),MATCH(C77,SMALL(IF(Feuil1!$A$2:$A$107=Compta!A77,Feuil1!$C$2:$C$107),ROW(INDIRECT("1:"&COUNTIF(Feuil1!$A$2:$A$107,Compta!A77)))),1)),Feuil1!$A$2:$A$107&Feuil1!$C$2:$C$107,0))))} -> Valeur Crédit Non-Trouvée
A78: 1747.59 | C78: 41332 | D78: LE M | E78: =VLOOKUP(A78,Feuil1!$A$1:$F$108,5,FALSE) -> #N/A | H78: {=IF(D78<>"LA","Non-LA",IF(NOT(ISNUMBER(MATCH(A78,Feuil1!$A$2:$A$107,0))),"Valeur Crédit Non-Trouvée",INDEX(Feuil1!$E$2:$E$107,MATCH(Compta!A78&SMALL(IF(Feuil1!$A$2:$A$107=Compta!A78,Feuil1!$C$2:$C$107),MATCH(C78,SMALL(IF(Feuil1!$A$2:$A$107=Compta!A78,Feuil1!$C$2:$C$107),ROW(INDIRECT("1:"&COUNTIF(Feuil1!$A$2:$A$107,Compta!A78)))),1)),Feuil1!$A$2:$A$107&Feuil1!$C$2:$C$107,0))))} -> Non-LA
A79: 1134.62 | C79: 41332 | D79: LE M | E79: =VLOOKUP(A79,Feuil1!$A$1:$F$108,5,FALSE) -> #N/A | H79: {=IF(D79<>"LA","Non-LA",IF(NOT(ISNUMBER(MATCH(A79,Feuil1!$A$2:$A$107,0))),"Valeur Crédit Non-Trouvée",INDEX(Feuil1!$E$2:$E$107,MATCH(Compta!A79&SMALL(IF(Feuil1!$A$2:$A$107=Compta!A79,Feuil1!$C$2:$C$107),MATCH(C79,SMALL(IF(Feuil1!$A$2:$A$107=Compta!A79,Feuil1!$C$2:$C$107),ROW(INDIRECT("1:"&COUNTIF(Feuil1!$A$2:$A$107,Compta!A79)))),1)),Feuil1!$A$2:$A$107&Feuil1!$C$2:$C$107,0))))} -> Non-LA
A80: 39.4 | C80: 41333 | D80: LA | E80: =VLOOKUP(A80,Feuil1!$A$1:$F$108,5,FALSE) -> 44-2013-02-15-01 | G80: =IF(F80=E80,"ok","FAUX") -> FAUX | H80: {=IF(D80<>"LA","Non-LA",IF(NOT(ISNUMBER(MATCH(A80,Feuil1!$A$2:$A$107,0))),"Valeur Crédit Non-Trouvée",INDEX(Feuil1!$E$2:$E$107,MATCH(Compta!A80&SMALL(IF(Feuil1!$A$2:$A$107=Compta!A80,Feuil1!$C$2:$C$107),MATCH(C80,SMALL(IF(Feuil1!$A$2:$A$107=Compta!A80,Feuil1!$C$2:$C$107),ROW(INDIRECT("1:"&COUNTIF(Feuil1!$A$2:$A$107,Compta!A80)))),1)),Feuil1!$A$2:$A$107&Feuil1!$C$2:$C$107,0))))} -> 44-2013-02-15-01
A81: 633.08 | C81: 41333 | D81: LE M | E81: =VLOOKUP(A81,Feuil1!$A$1:$F$108,5,FALSE) -> #N/A | H81: {=IF(D81<>"LA","Non-LA",IF(NOT(ISNUMBER(MATCH(A81,Feuil1!$A$2:$A$107,0))),"Valeur Crédit Non-Trouvée",INDEX(Feuil1!$E$2:$E$107,MATCH(Compta!A81&SMALL(IF(Feuil1!$A$2:$A$107=Compta!A81,Feuil1!$C$2:$C$107),MATCH(C81,SMALL(IF(Feuil1!$A$2:$A$107=Compta!A81,Feuil1!$C$2:$C$107),ROW(INDIRECT("1:"&COUNTIF(Feuil1!$A$2:$A$107,Compta!A81)))),1)),Feuil1!$A$2:$A$107&Feuil1!$C$2:$C$107,0))))} -> Non-LA
A82: 1045.38 | C82: 41333 | D82: LE M | E82: =VLOOKUP(A82,Feuil1!$A$1:$F$108,5,FALSE) -> 44-2013-05-31-01 | H82: {=IF(D82<>"LA","Non-LA",IF(NOT(ISNUMBER(MATCH(A82,Feuil1!$A$2:$A$107,0))),"Valeur Crédit Non-Trouvée",INDEX(Feuil1!$E$2:$E$107,MATCH(Compta!A82&SMALL(IF(Feuil1!$A$2:$A$107=Compta!A82,Feuil1!$C$2:$C$107),MATCH(C82,SMALL(IF(Feuil1!$A$2:$A$107=Compta!A82,Feuil1!$C$2:$C$107),ROW(INDIRECT("1:"&COUNTIF(Feuil1!$A$2:$A$107,Compta!A82)))),1)),Feuil1!$A$2:$A$107&Feuil1!$C$2:$C$107,0))))} -> Non-LA
A83: 64.64 | C83: 41333 | D83: M L | E83: =VLOOKUP(A83,Feuil1!$A$1:$F$108,5,FALSE) -> #N/A | H83: {=IF(D83<>"LA","Non-LA",IF(NOT(ISNUMBER(MATCH(A83,Feuil1!$A$2:$A$107,0))),"Valeur Crédit Non-Trouvée",INDEX(Feuil1!$E$2:$E$107,MATCH(Compta!A83&SMALL(IF(Feuil1!$A$2:$A$107=Compta!A83,Feuil1!$C$2:$C$107),MATCH(C83,SMALL(IF(Feuil1!$A$2:$A$107=Compta!A83,Feuil1!$C$2:$C$107),ROW(INDIRECT("1:"&COUNTIF(Feuil1!$A$2:$A$107,Compta!A83)))),1)),Feuil1!$A$2:$A$107&Feuil1!$C$2:$C$107,0))))} -> Non-LA
A84: 256 | C84: 41333 | D84: M L | E84: =VLOOKUP(A84,Feuil1!$A$1:$F$108,5,FALSE) -> #N/A | H84: {=IF(D84<>"LA","Non-LA",IF(NOT(ISNUMBER(MATCH(A84,Feuil1!$A$2:$A$107,0))),"Valeur Crédit Non-Trouvée",INDEX(Feuil1!$E$2:$E$107,MATCH(Compta!A84&SMALL(IF(Feuil1!$A$2:$A$107=Compta!A84,Feuil1!$C$2:$C$107),MATCH(C84,SMALL(IF(Feuil1!$A$2:$A$107=Compta!A84,Feuil1!$C$2:$C$107),ROW(INDIRECT("1:"&COUNTIF(Feuil1!$A$2:$A$107,Compta!A84)))),1)),Feuil1!$A$2:$A$107&Feuil1!$C$2:$C$107,0))))} -> Non-LA
A85: 985.26 | C85: 41333 | D85: M L | E85: =VLOOKUP(A85,Feuil1!$A$1:$F$108,5,FALSE) -> #N/A | H85: {=IF(D85<>"LA","Non-LA",IF(NOT(ISNUMBER(MATCH(A85,Feuil1!$A$2:$A$107,0))),"Valeur Crédit Non-Trouvée",INDEX(Feuil1!$E$2:$E$107,MATCH(Compta!A85&SMALL(IF(Feuil1!$A$2:$A$107=Compta!A85,Feuil1!$C$2:$C$107),MATCH(C85,SMALL(IF(Feuil1!$A$2:$A$107=Compta!A85,Feuil1!$C$2:$C$107),ROW(INDIRECT("1:"&COUNTIF(Feuil1!$A$2:$A$107,Compta!A85)))),1)),Feuil1!$A$2:$A$107&Feuil1!$C$2:$C$107,0))))} -> Non-LA
A86: 320.43 | C86: 41333 | D86: M L | E86: =VLOOKUP(A86,Feuil1!$A$1:$F$108,5,FALSE) -> #N/A | H86: {=IF(D86<>"LA","Non-LA",IF(NOT(ISNUMBER(MATCH(A86,Feuil1!$A$2:$A$107,0))),"Valeur Crédit Non-Trouvée",INDEX(Feuil1!$E$2:$E$107,MATCH(Compta!A86&SMALL(IF(Feuil1!$A$2:$A$107=Compta!A86,Feuil1!$C$2:$C$107),MATCH(C86,SMALL(IF(Feuil1!$A$2:$A$107=Compta!A86,Feuil1!$C$2:$C$107),ROW(INDIRECT("1:"&COUNTIF(Feuil1!$A$2:$A$107,Compta!A86)))),1)),Feuil1!$A$2:$A$107&Feuil1!$C$2:$C$107,0))))} -> Non-LA
A87: 36.94 | C87: 41333 | D87: May | E87: =VLOOKUP(A87,Feuil1!$A$1:$F$108,5,FALSE) -> #N/A | H87: {=IF(D87<>"LA","Non-LA",IF(NOT(ISNUMBER(MATCH(A87,Feuil1!$A$2:$A$107,0))),"Valeur Crédit Non-Trouvée",INDEX(Feuil1!$E$2:$E$107,MATCH(Compta!A87&SMALL(IF(Feuil1!$A$2:$A$107=Compta!A87,Feuil1!$C$2:$C$107),MATCH(C87,SMALL(IF(Feuil1!$A$2:$A$107=Compta!A87,Feuil1!$C$2:$C$107),ROW(INDIRECT("1:"&COUNTIF(Feuil1!$A$2:$A$107,Compta!A87)))),1)),Feuil1!$A$2:$A$107&Feuil1!$C$2:$C$107,0))))} -> Non-LA
A88: 709.2 | C88: 41334 | D88: LA | E88: =VLOOKUP(A88,Feuil1!$A$1:$F$108,5,FALSE) -> 44-2013-02-28-01 | G88: =IF(F88=E88,"ok","FAUX") -> FAUX | H88: {=IF(D88<>"LA","Non-LA",IF(NOT(ISNUMBER(MATCH(A88,Feuil1!$A$2:$A$107,0))),"Valeur Crédit Non-Trouvée",INDEX(Feuil1!$E$2:$E$107,MATCH(Compta!A88&SMALL(IF(Feuil1!$A$2:$A$107=Compta!A88,Feuil1!$C$2:$C$107),MATCH(C88,SMALL(IF(Feuil1!$A$2:$A$107=Compta!A88,Feuil1!$C$2:$C$107),ROW(INDIRECT("1:"&COUNTIF(Feuil1!$A$2:$A$107,Compta!A88)))),1)),Feuil1!$A$2:$A$107&Feuil1!$C$2:$C$107,0))))} -> 44-2013-02-28-01
A89: 118.05 | C89: 41337 | D89: LA | E89: =VLOOKUP(A89,Feuil1!$A$1:$F$108,5,FALSE) -> #N/A | G89: =IF(F89=E89,"ok","FAUX") -> #N/A | H89: {=IF(D89<>"LA","Non-LA",IF(NOT(ISNUMBER(MATCH(A89,Feuil1!$A$2:$A$107,0))),"Valeur Crédit Non-Trouvée",INDEX(Feuil1!$E$2:$E$107,MATCH(Compta!A89&SMALL(IF(Feuil1!$A$2:$A$107=Compta!A89,Feuil1!$C$2:$C$107),MATCH(C89,SMALL(IF(Feuil1!$A$2:$A$107=Compta!A89,Feuil1!$C$2:$C$107),ROW(INDIRECT("1:"&COUNTIF(Feuil1!$A$2:$A$107,Compta!A89)))),1)),Feuil1!$A$2:$A$107&Feuil1!$C$2:$C$107,0))))} -> Valeur Crédit Non-Trouvée
A90: 39.35 | C90: 41337 | D90: LE M | E90: =VLOOKUP(A90,Feuil1!$A$1:$F$108,5,FALSE) -> 44-2013-02-11-01 | H90: {=IF(D90<>"LA","Non-LA",IF(NOT(ISNUMBER(MATCH(A90,Feuil1!$A$2:$A$107,0))),"Valeur Crédit Non-Trouvée",INDEX(Feuil1!$E$2:$E$107,MATCH(Compta!A90&SMALL(IF(Feuil1!$A$2:$A$107=Compta!A90,Feuil1!$C$2:$C$107),MATCH(C90,SMALL(IF(Feuil1!$A$2:$A$107=Compta!A90,Feuil1!$C$2:$C$107),ROW(INDIRECT("1:"&COUNTIF(Feuil1!$A$2:$A$107,Compta!A90)))),1)),Feuil1!$A$2:$A$107&Feuil1!$C$2:$C$107,0))))} -> Non-LA
A91: 37.59 | C91: 41337 | D91: LE M | E91: =VLOOKUP(A91,Feuil1!$A$1:$F$108,5,FALSE) -> #N/A | H91: {=IF(D91<>"LA","Non-LA",IF(NOT(ISNUMBER(MATCH(A91,Feuil1!$A$2:$A$107,0))),"Valeur Crédit Non-Trouvée",INDEX(Feuil1!$E$2:$E$107,MATCH(Compta!A91&SMALL(IF(Feuil1!$A$2:$A$107=Compta!A91,Feuil1!$C$2:$C$107),MATCH(C91,SMALL(IF(Feuil1!$A$2:$A$107=Compta!A91,Feuil1!$C$2:$C$107),ROW(INDIRECT("1:"&COUNTIF(Feuil1!$A$2:$A$107,Compta!A91)))),1)),Feuil1!$A$2:$A$107&Feuil1!$C$2:$C$107,0))))} -> Non-LA
A92: 517.16 | C92: 41338 | D92: LA | E92: =VLOOKUP(A92,Feuil1!$A$1:$F$108,5,FALSE) -> 44-2013-03-04-03 | G92: =IF(F92=E92,"ok","FAUX") -> FAUX | H92: {=IF(D92<>"LA","Non-LA",IF(NOT(ISNUMBER(MATCH(A92,Feuil1!$A$2:$A$107,0))),"Valeur Crédit Non-Trouvée",INDEX(Feuil1!$E$2:$E$107,MATCH(Compta!A92&SMALL(IF(Feuil1!$A$2:$A$107=Compta!A92,Feuil1!$C$2:$C$107),MATCH(C92,SMALL(IF(Feuil1!$A$2:$A$107=Compta!A92,Feuil1!$C$2:$C$107),ROW(INDIRECT("1:"&COUNTIF(Feuil1!$A$2:$A$107,Compta!A92)))),1)),Feuil1!$A$2:$A$107&Feuil1!$C$2:$C$107,0))))} -> 44-2013-03-04-03
A93: 58.81 | C93: 41338 | D93: M L | E93: =VLOOKUP(A93,Feuil1!$A$1:$F$108,5,FALSE) -> #N/A | H93: {=IF(D93<>"LA","Non-LA",IF(NOT(ISNUMBER(MATCH(A93,Feuil1!$A$2:$A$107,0))),"Valeur Crédit Non-Trouvée",INDEX(Feuil1!$E$2:$E$107,MATCH(Compta!A93&SMALL(IF(Feuil1!$A$2:$A$107=Compta!A93,Feuil1!$C$2:$C$107),MATCH(C93,SMALL(IF(Feuil1!$A$2:$A$107=Compta!A93,Feuil1!$C$2:$C$107),ROW(INDIRECT("1:"&COUNTIF(Feuil1!$A$2:$A$107,Compta!A93)))),1)),Feuil1!$A$2:$A$107&Feuil1!$C$2:$C$107,0))))} -> Non-LA
A94: 73.72 | C94: 41338 | D94: V | E94: =VLOOKUP(A94,Feuil1!$A$1:$F$108,5,FALSE) -> 44-2013-03-04-01 | H94: {=IF(D94<>"LA","Non-LA",IF(NOT(ISNUMBER(MATCH(A94,Feuil1!$A$2:$A$107,0))),"Valeur Crédit Non-Trouvée",INDEX(Feuil1!$E$2:$E$107,MATCH(Compta!A94&SMALL(IF(Feuil1!$A$2:$A$107=Compta!A94,Feuil1!$C$2:$C$107),MATCH(C94,SMALL(IF(Feuil1!$A$2:$A$107=Compta!A94,Feuil1!$C$2:$C$107),ROW(INDIRECT("1:"&COUNTIF(Feuil1!$A$2:$A$107,Compta!A94)))),1)),Feuil1!$A$2:$A$107&Feuil1!$C$2:$C$107,0))))} -> Non-LA
A95: 139.5 | C95: 41339 | D95: LA | E95: =VLOOKUP(A95,Feuil1!$A$1:$F$108,5,FALSE) -> #N/A | G95: =IF(F95=E95,"ok","FAUX") -> #N/A | H95: {=IF(D95<>"LA","Non-LA",IF(NOT(ISNUMBER(MATCH(A95,Feuil1!$A$2:$A$107,0))),"Valeur Crédit Non-Trouvée",INDEX(Feuil1!$E$2:$E$107,MATCH(Compta!A95&SMALL(IF(Feuil1!$A$2:$A$107=Compta!A95,Feuil1!$C$2:$C$107),MATCH(C95,SMALL(IF(Feuil1!$A$2:$A$107=Compta!A95,Feuil1!$C$2:$C$107),ROW(INDIRECT("1:"&COUNTIF(Feuil1!$A$2:$A$107,Compta!A95)))),1)),Feuil1!$A$2:$A$107&Feuil1!$C$2:$C$107,0))))} -> Valeur Crédit Non-Trouvée
A96: 39.4 | C96: 41339 | D96: LA | E96: =VLOOKUP(A96,Feuil1!$A$1:$F$108,5,FALSE) -> 44-2013-02-15-01 | G96: =IF(F96=E96,"ok","FAUX") -> FAUX | H96: {=IF(D96<>"LA","Non-LA",IF(NOT(ISNUMBER(MATCH(A96,Feuil1!$A$2:$A$107,0))),"Valeur Crédit Non-Trouvée",INDEX(Feuil1!$E$2:$E$107,MATCH(Compta!A96&SMALL(IF(Feuil1!$A$2:$A$107=Compta!A96,Feuil1!$C$2:$C$107),MATCH(C96,SMALL(IF(Feuil1!$A$2:$A$107=Compta!A96,Feuil1!$C$2:$C$107),ROW(INDIRECT("1:"&COUNTIF(Feuil1!$A$2:$A$107,Compta!A96)))),1)),Feuil1!$A$2:$A$107&Feuil1!$C$2:$C$107,0))))} -> 44-2013-03-05-02
A97: 35.67 | C97: 41339 | D97: LA | E97: =VLOOKUP(A97,Feuil1!$A$1:$F$108,5,FALSE) -> #N/A | G97: =IF(F97=E97,"ok","FAUX") -> #N/A | H97: {=IF(D97<>"LA","Non-LA",IF(NOT(ISNUMBER(MATCH(A97,Feuil1!$A$2:$A$107,0))),"Valeur Crédit Non-Trouvée",INDEX(Feuil1!$E$2:$E$107,MATCH(Compta!A97&SMALL(IF(Feuil1!$A$2:$A$107=Compta!A97,Feuil1!$C$2:$C$107),MATCH(C97,SMALL(IF(Feuil1!$A$2:$A$107=Compta!A97,Feuil1!$C$2:$C$107),ROW(INDIRECT("1:"&COUNTIF(Feuil1!$A$2:$A$107,Compta!A97)))),1)),Feuil1!$A$2:$A$107&Feuil1!$C$2:$C$107,0))))} -> Valeur Crédit Non-Trouvée
A98: 451.08 | C98: 41339 | D98: LE M | E98: =VLOOKUP(A98,Feuil1!$A$1:$F$108,5,FALSE) -> #N/A | H98: {=IF(D98<>"LA","Non-LA",IF(NOT(ISNUMBER(MATCH(A98,Feuil1!$A$2:$A$107,0))),"Valeur Crédit Non-Trouvée",INDEX(Feuil1!$E$2:$E$107,MATCH(Compta!A98&SMALL(IF(Feuil1!$A$2:$A$107=Compta!A98,Feuil1!$C$2:$C$107),MATCH(C98,SMALL(IF(Feuil1!$A$2:$A$107=Compta!A98,Feuil1!$C$2:$C$107),ROW(INDIRECT("1:"&COUNTIF(Feuil1!$A$2:$A$107,Compta!A98)))),1)),Feuil1!$A$2:$A$107&Feuil1!$C$2:$C$107,0))))} -> Non-LA
A99: 36.61 | C99: 41339 | D99: M L | E99: =VLOOKUP(A99,Feuil1!$A$1:$F$108,5,FALSE) -> #N/A | H99: {=IF(D99<>"LA","Non-LA",IF(NOT(ISNUMBER(MATCH(A99,Feuil1!$A$2:$A$107,0))),"Valeur Crédit Non-Trouvée",INDEX(Feuil1!$E$2:$E$107,MATCH(Compta!A99&SMALL(IF(Feuil1!$A$2:$A$107=Compta!A99,Feuil1!$C$2:$C$107),MATCH(C99,SMALL(IF(Feuil1!$A$2:$A$107=Compta!A99,Feuil1!$C$2:$C$107),ROW(INDIRECT("1:"&COUNTIF(Feuil1!$A$2:$A$107,Compta!A99)))),1)),Feuil1!$A$2:$A$107&Feuil1!$C$2:$C$107,0))))} -> Non-LA
A100: 346.35 | C100: 41339 | D100: M L | E100: =VLOOKUP(A100,Feuil1!$A$1:$F$108,5,FALSE) -> #N/A | H100: {=IF(D100<>"LA","Non-LA",IF(NOT(ISNUMBER(MATCH(A100,Feuil1!$A$2:$A$107,0))),"Valeur Crédit Non-Trouvée",INDEX(Feuil1!$E$2:$E$107,MATCH(Compta!A100&SMALL(IF(Feuil1!$A$2:$A$107=Compta!A100,Feuil1!$C$2:$C$107),MATCH(C100,SMALL(IF(Feuil1!$A$2:$A$107=Compta!A100,Feuil1!$C$2:$C$107),ROW(INDIRECT("1:"&COUNTIF(Feuil1!$A$2:$A$107,Compta!A100)))),1)),Feuil1!$A$2:$A$107&Feuil1!$C$2:$C$107,0))))} -> Non-LA
...
