Workbook

Sheet Feuil1
A1: Date Announced | B1: Target Name | C1: Acquiror Name | D1: Acquiror Primary SIC Code | E1: ISIN SBF 120 IODS | F1: Target Public Status | G1: Value of Deal >=1% Market Cap of Acquiror | H1: Année | I1: Nb indépendants | J1: Nom_membre indépendant | K1: Prénom_membre indépendant
A2: 40889 | B2: Guyenne et Gascogne SA | C2: Carrefour SA | D2: 5411 | E2: FR0000120172 | F2: Public | G2: 0.02368427 | H2: 2010 | I2: 6 | J2: Taittinger | K2: Anne-Claire | L2: 6371 | M2: 7011 | N2: 6719 | O2: 6719 | P2: 3433 | Q2: 5122 | R2: 3229 | S2: 7011 | T2: 2084 | U2: 7011 | V2: 6726 | W2: 6211 | X2: 6211 | Y2: 6211 | Z2: 6021 | AA2: 6029
L3: =IF(L2="","",IF(SUMPRODUCT(('Secteur dactivité'!$B$2:$B$72<=Feuil1!L2)*('Secteur dactivité'!$C$2:$C$72>=Feuil1!L2))=0,"Non-trouvée",INDEX('Secteur dactivité'!$A$2:$A$72,SUMPRODUCT(('Secteur dactivité'!$B$2:$B$72<=Feuil1!L2)*('Secteur dactivité'!$C$2:$C$72>=Feuil1!L2)*(ROW('Secteur dactivité'!$B$2:$B$72)-MIN(ROW('Secteur dactivité'!$B$2:$B$72))+1))))) -> 6000-6999 | M3: =IF(M2="","",IF(SUMPRODUCT(('Secteur dactivité'!$B$2:$B$72<=Feuil1!M2)*('Secteur dactivité'!$C$2:$C$72>=Feuil1!M2))=0,"Non-trouvée",INDEX('Secteur dactivité'!$A$2:$A$72,SUMPRODUCT(('Secteur dactivité'!$B$2:$B$72<=Feuil1!M2)*('Secteur dactivité'!$C$2:$C$72>=Feuil1!M2)*(ROW('Secteur dactivité'!$B$2:$B$72)-MIN(ROW('Secteur dactivité'!$B$2:$B$72))+1))))) -> Non-trouvée | N3: =IF(N2="","",IF(SUMPRODUCT(('Secteur dactivité'!$B$2:$B$72<=Feuil1!N2)*('Secteur dactivité'!$C$2:$C$72>=Feuil1!N2))=0,"Non-trouvée",INDEX('Secteur dactivité'!$A$2:$A$72,SUMPRODUCT(('Secteur dactivité'!$B$2:$B$72<=Feuil1!N2)*('Secteur dactivité'!$C$2:$C$72>=Feuil1!N2)*(ROW('Secteur dactivité'!$B$2:$B$72)-MIN(ROW('Secteur dactivité'!$B$2:$B$72))+1))))) -> 6000-6999 | O3: =IF(O2="","",IF(SUMPRODUCT(('Secteur dactivité'!$B$2:$B$72<=Feuil1!O2)*('Secteur dactivité'!$C$2:$C$72>=Feuil1!O2))=0,"Non-trouvée",INDEX('Secteur dactivité'!$A$2:$A$72,SUMPRODUCT(('Secteur dactivité'!$B$2:$B$72<=Feuil1!O2)*('Secteur dactivité'!$C$2:$C$72>=Feuil1!O2)*(ROW('Secteur dactivité'!$B$2:$B$72)-MIN(ROW('Secteur dactivité'!$B$2:$B$72))+1))))) -> 6000-6999 | P3: =IF(P2="","",IF(SUMPRODUCT(('Secteur dactivité'!$B$2:$B$72<=Feuil1!P2)*('Secteur dactivité'!$C$2:$C$72>=Feuil1!P2))=0,"Non-trouvée",INDEX('Secteur dactivité'!$A$2:$A$72,SUMPRODUCT(('Secteur dactivité'!$B$2:$B$72<=Feuil1!P2)*('Secteur dactivité'!$C$2:$C$72>=Feuil1!P2)*(ROW('Secteur dactivité'!$B$2:$B$72)-MIN(ROW('Secteur dactivité'!$B$2:$B$72))+1))))) -> 3200-3569 | Q3: =IF(Q2="","",IF(SUMPRODUCT(('Secteur dactivité'!$B$2:$B$72<=Feuil1!Q2)*('Secteur dactivité'!$C$2:$C$72>=Feuil1!Q2))=0,"Non-trouvée",INDEX('Secteur dactivité'!$A$2:$A$72,SUMPRODUCT(('Secteur dactivité'!$B$2:$B$72<=Feuil1!Q2)*('Secteur dactivité'!$C$2:$C$72>=Feuil1!Q2)*(ROW('Secteur dactivité'!$B$2:$B$72)-MIN(ROW('Secteur dactivité'!$B$2:$B$72))+1))))) -> 5000-5999 | R3: =IF(R2="","",IF(SUMPRODUCT(('Secteur dactivité'!$B$2:$B$72<=Feuil1!R2)*('Secteur dactivité'!$C$2:$C$72>=Feuil1!R2))=0,"Non-trouvée",INDEX('Secteur dactivité'!$A$2:$A$72,SUMPRODUCT(('Secteur dactivité'!$B$2:$B$72<=Feuil1!R2)*('Secteur dactivité'!$C$2:$C$72>=Feuil1!R2)*(ROW('Secteur dactivité'!$B$2:$B$72)-MIN(ROW('Secteur dactivité'!$B$2:$B$72))+1))))) -> 3200-3569 | S3: =IF(S2="","",IF(SUMPRODUCT(('Secteur dactivité'!$B$2:$B$72<=Feuil1!S2)*('Secteur dactivité'!$C$2:$C$72>=Feuil1!S2))=0,"Non-trouvée",INDEX('Secteur dactivité'!$A$2:$A$72,SUMPRODUCT(('Secteur dactivité'!$B$2:$B$72<=Feuil1!S2)*('Secteur dactivité'!$C$2:$C$72>=Feuil1!S2)*(ROW('Secteur dactivité'!$B$2:$B$72)-MIN(ROW('Secteur dactivité'!$B$2:$B$72))+1))))) -> Non-trouvée | ... AF3: =IF(AF2="","",IF(SUMPRODUCT(('Secteur dactivité'!$B$2:$B$72<=Feuil1!AF2)*('Secteur dactivité'!$C$2:$C$72>=Feuil1!AF2))=0,"Non-trouvée",INDEX('Secteur dactivité'!$A$2:$A$72,SUMPRODUCT(('Secteur dactivité'!$B$2:$B$72<=Feuil1!AF2)*('Secteur dactivité'!$C$2:$C$72>=Feuil1!AF2)*(ROW('Secteur dactivité'!$B$2:$B$72)-MIN(ROW('Secteur dactivité'!$B$2:$B$72))+1)))))
A4: 40889 | B4: Guyenne et Gascogne SA | C4: Carrefour SA | D4: 5411 | E4: FR0000120172 | F4: Public | G4: 0.02368427 | H4: 2010 | I4: 6 | J4: Sèze | K4: Amaury de | L4: 7373 | M4: 3711 | N4: 6021 | O4: 6722 | P4: 6311 | Q4: 5064 | R4: 6799 | S4: 6519 | T4: 1459 | U4: 4953 | V4: 3251 | W4: 8742 | X4: 7311 | Y4: 6726 | Z4: 1541 | AA4: 6411 | AB4: 6799 | AC4: 6512 | AD4: 3639 | AE4: 5621
L5: =IF(L4="","",IF(SUMPRODUCT(('Secteur dactivité'!$B$2:$B$72<=Feuil1!L4)*('Secteur dactivité'!$C$2:$C$72>=Feuil1!L4))=0,"Non-trouvée",INDEX('Secteur dactivité'!$A$2:$A$72,SUMPRODUCT(('Secteur dactivité'!$B$2:$B$72<=Feuil1!L4)*('Secteur dactivité'!$C$2:$C$72>=Feuil1!L4)*(ROW('Secteur dactivité'!$B$2:$B$72)-MIN(ROW('Secteur dactivité'!$B$2:$B$72))+1))))) -> 7370-7379 | M5: =IF(M4="","",IF(SUMPRODUCT(('Secteur dactivité'!$B$2:$B$72<=Feuil1!M4)*('Secteur dactivité'!$C$2:$C$72>=Feuil1!M4))=0,"Non-trouvée",INDEX('Secteur dactivité'!$A$2:$A$72,SUMPRODUCT(('Secteur dactivité'!$B$2:$B$72<=Feuil1!M4)*('Secteur dactivité'!$C$2:$C$72>=Feuil1!M4)*(ROW('Secteur dactivité'!$B$2:$B$72)-MIN(ROW('Secteur dactivité'!$B$2:$B$72))+1))))) -> 3710-3711 | N5: =IF(N4="","",IF(SUMPRODUCT(('Secteur dactivité'!$B$2:$B$72<=Feuil1!N4)*('Secteur dactivité'!$C$2:$C$72>=Feuil1!N4))=0,"Non-trouvée",INDEX('Secteur dactivité'!$A$2:$A$72,SUMPRODUCT(('Secteur dactivité'!$B$2:$B$72<=Feuil1!N4)*('Secteur dactivité'!$C$2:$C$72>=Feuil1!N4)*(ROW('Secteur dactivité'!$B$2:$B$72)-MIN(ROW('Secteur dactivité'!$B$2:$B$72))+1))))) -> 6000-6999 | O5: =IF(O4="","",IF(SUMPRODUCT(('Secteur dactivité'!$B$2:$B$72<=Feuil1!O4)*('Secteur dactivité'!$C$2:$C$72>=Feuil1!O4))=0,"Non-trouvée",INDEX('Secteur dactivité'!$A$2:$A$72,SUMPRODUCT(('Secteur dactivité'!$B$2:$B$72<=Feuil1!O4)*('Secteur dactivité'!$C$2:$C$72>=Feuil1!O4)*(ROW('Secteur dactivité'!$B$2:$B$72)-MIN(ROW('Secteur dactivité'!$B$2:$B$72))+1))))) -> 6000-6999 | P5: =IF(P4="","",IF(SUMPRODUCT(('Secteur dactivité'!$B$2:$B$72<=Feuil1!P4)*('Secteur dactivité'!$C$2:$C$72>=Feuil1!P4))=0,"Non-trouvée",INDEX('Secteur dactivité'!$A$2:$A$72,SUMPRODUCT(('Secteur dactivité'!$B$2:$B$72<=Feuil1!P4)*('Secteur dactivité'!$C$2:$C$72>=Feuil1!P4)*(ROW('Secteur dactivité'!$B$2:$B$72)-MIN(ROW('Secteur dactivité'!$B$2:$B$72))+1))))) -> 6000-6999 | Q5: =IF(Q4="","",IF(SUMPRODUCT(('Secteur dactivité'!$B$2:$B$72<=Feuil1!Q4)*('Secteur dactivité'!$C$2:$C$72>=Feuil1!Q4))=0,"Non-trouvée",INDEX('Secteur dactivité'!$A$2:$A$72,SUMPRODUCT(('Secteur dactivité'!$B$2:$B$72<=Feuil1!Q4)*('Secteur dactivité'!$C$2:$C$72>=Feuil1!Q4)*(ROW('Secteur dactivité'!$B$2:$B$72)-MIN(ROW('Secteur dactivité'!$B$2:$B$72))+1))))) -> 5000-5999 | R5: =IF(R4="","",IF(SUMPRODUCT(('Secteur dactivité'!$B$2:$B$72<=Feuil1!R4)*('Secteur dactivité'!$C$2:$C$72>=Feuil1!R4))=0,"Non-trouvée",INDEX('Secteur dactivité'!$A$2:$A$72,SUMPRODUCT(('Secteur dactivité'!$B$2:$B$72<=Feuil1!R4)*('Secteur dactivité'!$C$2:$C$72>=Feuil1!R4)*(ROW('Secteur dactivité'!$B$2:$B$72)-MIN(ROW('Secteur dactivité'!$B$2:$B$72))+1))))) -> 6000-6999 | S5: =IF(S4="","",IF(SUMPRODUCT(('Secteur dactivité'!$B$2:$B$72<=Feuil1!S4)*('Secteur dactivité'!$C$2:$C$72>=Feuil1!S4))=0,"Non-trouvée",INDEX('Secteur dactivité'!$A$2:$A$72,SUMPRODUCT(('Secteur dactivité'!$B$2:$B$72<=Feuil1!S4)*('Secteur dactivité'!$C$2:$C$72>=Feuil1!S4)*(ROW('Secteur dactivité'!$B$2:$B$72)-MIN(ROW('Secteur dactivité'!$B$2:$B$72))+1))))) -> 6000-6999 | ... AF5: =IF(AF4="","",IF(SUMPRODUCT(('Secteur dactivité'!$B$2:$B$72<=Feuil1!AF4)*('Secteur dactivité'!$C$2:$C$72>=Feuil1!AF4))=0,"Non-trouvée",INDEX('Secteur dactivité'!$A$2:$A$72,SUMPRODUCT(('Secteur dactivité'!$B$2:$B$72<=Feuil1!AF4)*('Secteur dactivité'!$C$2:$C$72>=Feuil1!AF4)*(ROW('Secteur dactivité'!$B$2:$B$72)-MIN(ROW('Secteur dactivité'!$B$2:$B$72))+1)))))
A6: 40889 | B6: Guyenne et Gascogne SA | C6: Carrefour SA | D6: 5411 | E6: FR0000120172 | F6: Public | G6: 0.02368427 | H6: 2010 | I6: 6 | J6: Abate | K6: René | L6: 4581 | M6: 8742 | N6: 5411 | O6: 6719 | P6: 7373
L7: =IF(L6="","",IF(SUMPRODUCT(('Secteur dactivité'!$B$2:$B$72<=Feuil1!L6)*('Secteur dactivité'!$C$2:$C$72>=Feuil1!L6))=0,"Non-trouvée",INDEX('Secteur dactivité'!$A$2:$A$72,SUMPRODUCT(('Secteur dactivité'!$B$2:$B$72<=Feuil1!L6)*('Secteur dactivité'!$C$2:$C$72>=Feuil1!L6)*(ROW('Secteur dactivité'!$B$2:$B$72)-MIN(ROW('Secteur dactivité'!$B$2:$B$72))+1))))) -> Non-trouvée | M7: =IF(M6="","",IF(SUMPRODUCT(('Secteur dactivité'!$B$2:$B$72<=Feuil1!M6)*('Secteur dactivité'!$C$2:$C$72>=Feuil1!M6))=0,"Non-trouvée",INDEX('Secteur dactivité'!$A$2:$A$72,SUMPRODUCT(('Secteur dactivité'!$B$2:$B$72<=Feuil1!M6)*('Secteur dactivité'!$C$2:$C$72>=Feuil1!M6)*(ROW('Secteur dactivité'!$B$2:$B$72)-MIN(ROW('Secteur dactivité'!$B$2:$B$72))+1))))) -> Non-trouvée | N7: =IF(N6="","",IF(SUMPRODUCT(('Secteur dactivité'!$B$2:$B$72<=Feuil1!N6)*('Secteur dactivité'!$C$2:$C$72>=Feuil1!N6))=0,"Non-trouvée",INDEX('Secteur dactivité'!$A$2:$A$72,SUMPRODUCT(('Secteur dactivité'!$B$2:$B$72<=Feuil1!N6)*('Secteur dactivité'!$C$2:$C$72>=Feuil1!N6)*(ROW('Secteur dactivité'!$B$2:$B$72)-MIN(ROW('Secteur dactivité'!$B$2:$B$72))+1))))) -> 5000-5999 | O7: =IF(O6="","",IF(SUMPRODUCT(('Secteur dactivité'!$B$2:$B$72<=Feuil1!O6)*('Secteur dactivité'!$C$2:$C$72>=Feuil1!O6))=0,"Non-trouvée",INDEX('Secteur dactivité'!$A$2:$A$72,SUMPRODUCT(('Secteur dactivité'!$B$2:$B$72<=Feuil1!O6)*('Secteur dactivité'!$C$2:$C$72>=Feuil1!O6)*(ROW('Secteur dactivité'!$B$2:$B$72)-MIN(ROW('Secteur dactivité'!$B$2:$B$72))+1))))) -> 6000-6999 | P7: =IF(P6="","",IF(SUMPRODUCT(('Secteur dactivité'!$B$2:$B$72<=Feuil1!P6)*('Secteur dactivité'!$C$2:$C$72>=Feuil1!P6))=0,"Non-trouvée",INDEX('Secteur dactivité'!$A$2:$A$72,SUMPRODUCT(('Secteur dactivité'!$B$2:$B$72<=Feuil1!P6)*('Secteur dactivité'!$C$2:$C$72>=Feuil1!P6)*(ROW('Secteur dactivité'!$B$2:$B$72)-MIN(ROW('Secteur dactivité'!$B$2:$B$72))+1))))) -> 7370-7379 | Q7: =IF(Q6="","",IF(SUMPRODUCT(('Secteur dactivité'!$B$2:$B$72<=Feuil1!Q6)*('Secteur dactivité'!$C$2:$C$72>=Feuil1!Q6))=0,"Non-trouvée",INDEX('Secteur dactivité'!$A$2:$A$72,SUMPRODUCT(('Secteur dactivité'!$B$2:$B$72<=Feuil1!Q6)*('Secteur dactivité'!$C$2:$C$72>=Feuil1!Q6)*(ROW('Secteur dactivité'!$B$2:$B$72)-MIN(ROW('Secteur dactivité'!$B$2:$B$72))+1))))) | R7: =IF(R6="","",IF(SUMPRODUCT(('Secteur dactivité'!$B$2:$B$72<=Feuil1!R6)*('Secteur dactivité'!$C$2:$C$72>=Feuil1!R6))=0,"Non-trouvée",INDEX('Secteur dactivité'!$A$2:$A$72,SUMPRODUCT(('Secteur dactivité'!$B$2:$B$72<=Feuil1!R6)*('Secteur dactivité'!$C$2:$C$72>=Feuil1!R6)*(ROW('Secteur dactivité'!$B$2:$B$72)-MIN(ROW('Secteur dactivité'!$B$2:$B$72))+1))))) | S7: =IF(S6="","",IF(SUMPRODUCT(('Secteur dactivité'!$B$2:$B$72<=Feuil1!S6)*('Secteur dactivité'!$C$2:$C$72>=Feuil1!S6))=0,"Non-trouvée",INDEX('Secteur dactivité'!$A$2:$A$72,SUMPRODUCT(('Secteur dactivité'!$B$2:$B$72<=Feuil1!S6)*('Secteur dactivité'!$C$2:$C$72>=Feuil1!S6)*(ROW('Secteur dactivité'!$B$2:$B$72)-MIN(ROW('Secteur dactivité'!$B$2:$B$72))+1))))) | ... AF7: =IF(AF6="","",IF(SUMPRODUCT(('Secteur dactivité'!$B$2:$B$72<=Feuil1!AF6)*('Secteur dactivité'!$C$2:$C$72>=Feuil1!AF6))=0,"Non-trouvée",INDEX('Secteur dactivité'!$A$2:$A$72,SUMPRODUCT(('Secteur dactivité'!$B$2:$B$72<=Feuil1!AF6)*('Secteur dactivité'!$C$2:$C$72>=Feuil1!AF6)*(ROW('Secteur dactivité'!$B$2:$B$72)-MIN(ROW('Secteur dactivité'!$B$2:$B$72))+1)))))
A8: 40889 | B8: Guyenne et Gascogne SA | C8: Carrefour SA | D8: 5411 | E8: FR0000120172 | F8: Public | G8: 0.02368427 | H8: 2010 | I8: 6 | J8: Breton | K8: Thierry | L8: 7371 | M8: 7819 | N8: 4813 | O8: 7373
L9: =IF(L8="","",IF(SUMPRODUCT(('Secteur dactivité'!$B$2:$B$72<=Feuil1!L8)*('Secteur dactivité'!$C$2:$C$72>=Feuil1!L8))=0,"Non-trouvée",INDEX('Secteur dactivité'!$A$2:$A$72,SUMPRODUCT(('Secteur dactivité'!$B$2:$B$72<=Feuil1!L8)*('Secteur dactivité'!$C$2:$C$72>=Feuil1!L8)*(ROW('Secteur dactivité'!$B$2:$B$72)-MIN(ROW('Secteur dactivité'!$B$2:$B$72))+1))))) -> 7370-7379 | M9: =IF(M8="","",IF(SUMPRODUCT(('Secteur dactivité'!$B$2:$B$72<=Feuil1!M8)*('Secteur dactivité'!$C$2:$C$72>=Feuil1!M8))=0,"Non-trouvée",INDEX('Secteur dactivité'!$A$2:$A$72,SUMPRODUCT(('Secteur dactivité'!$B$2:$B$72<=Feuil1!M8)*('Secteur dactivité'!$C$2:$C$72>=Feuil1!M8)*(ROW('Secteur dactivité'!$B$2:$B$72)-MIN(ROW('Secteur dactivité'!$B$2:$B$72))+1))))) -> Non-trouvée | N9: =IF(N8="","",IF(SUMPRODUCT(('Secteur dactivité'!$B$2:$B$72<=Feuil1!N8)*('Secteur dactivité'!$C$2:$C$72>=Feuil1!N8))=0,"Non-trouvée",INDEX('Secteur dactivité'!$A$2:$A$72,SUMPRODUCT(('Secteur dactivité'!$B$2:$B$72<=Feuil1!N8)*('Secteur dactivité'!$C$2:$C$72>=Feuil1!N8)*(ROW('Secteur dactivité'!$B$2:$B$72)-MIN(ROW('Secteur dactivité'!$B$2:$B$72))+1))))) -> 4800-4899 | O9: =IF(O8="","",IF(SUMPRODUCT(('Secteur dactivité'!$B$2:$B$72<=Feuil1!O8)*('Secteur dactivité'!$C$2:$C$72>=Feuil1!O8))=0,"Non-trouvée",INDEX('Secteur dactivité'!$A$2:$A$72,SUMPRODUCT(('Secteur dactivité'!$B$2:$B$72<=Feuil1!O8)*('Secteur dactivité'!$C$2:$C$72>=Feuil1!O8)*(ROW('Secteur dactivité'!$B$2:$B$72)-MIN(ROW('Secteur dactivité'!$B$2:$B$72))+1))))) -> 7370-7379 | P9: =IF(P8="","",IF(SUMPRODUCT(('Secteur dactivité'!$B$2:$B$72<=Feuil1!P8)*('Secteur dactivité'!$C$2:$C$72>=Feuil1!P8))=0,"Non-trouvée",INDEX('Secteur dactivité'!$A$2:$A$72,SUMPRODUCT(('Secteur dactivité'!$B$2:$B$72<=Feuil1!P8)*('Secteur dactivité'!$C$2:$C$72>=Feuil1!P8)*(ROW('Secteur dactivité'!$B$2:$B$72)-MIN(ROW('Secteur dactivité'!$B$2:$B$72))+1))))) | Q9: =IF(Q8="","",IF(SUMPRODUCT(('Secteur dactivité'!$B$2:$B$72<=Feuil1!Q8)*('Secteur dactivité'!$C$2:$C$72>=Feuil1!Q8))=0,"Non-trouvée",INDEX('Secteur dactivité'!$A$2:$A$72,SUMPRODUCT(('Secteur dactivité'!$B$2:$B$72<=Feuil1!Q8)*('Secteur dactivité'!$C$2:$C$72>=Feuil1!Q8)*(ROW('Secteur dactivité'!$B$2:$B$72)-MIN(ROW('Secteur dactivité'!$B$2:$B$72))+1))))) | R9: =IF(R8="","",IF(SUMPRODUCT(('Secteur dactivité'!$B$2:$B$72<=Feuil1!R8)*('Secteur dactivité'!$C$2:$C$72>=Feuil1!R8))=0,"Non-trouvée",INDEX('Secteur dactivité'!$A$2:$A$72,SUMPRODUCT(('Secteur dactivité'!$B$2:$B$72<=Feuil1!R8)*('Secteur dactivité'!$C$2:$C$72>=Feuil1!R8)*(ROW('Secteur dactivité'!$B$2:$B$72)-MIN(ROW('Secteur dactivité'!$B$2:$B$72))+1))))) | S9: =IF(S8="","",IF(SUMPRODUCT(('Secteur dactivité'!$B$2:$B$72<=Feuil1!S8)*('Secteur dactivité'!$C$2:$C$72>=Feuil1!S8))=0,"Non-trouvée",INDEX('Secteur dactivité'!$A$2:$A$72,SUMPRODUCT(('Secteur dactivité'!$B$2:$B$72<=Feuil1!S8)*('Secteur dactivité'!$C$2:$C$72>=Feuil1!S8)*(ROW('Secteur dactivité'!$B$2:$B$72)-MIN(ROW('Secteur dactivité'!$B$2:$B$72))+1))))) | ... AF9: =IF(AF8="","",IF(SUMPRODUCT(('Secteur dactivité'!$B$2:$B$72<=Feuil1!AF8)*('Secteur dactivité'!$C$2:$C$72>=Feuil1!AF8))=0,"Non-trouvée",INDEX('Secteur dactivité'!$A$2:$A$72,SUMPRODUCT(('Secteur dactivité'!$B$2:$B$72<=Feuil1!AF8)*('Secteur dactivité'!$C$2:$C$72>=Feuil1!AF8)*(ROW('Secteur dactivité'!$B$2:$B$72)-MIN(ROW('Secteur dactivité'!$B$2:$B$72))+1)))))
A10: 40889 | B10: Guyenne et Gascogne SA | C10: Carrefour SA | D10: 5411 | E10: FR0000120172 | F10: Public | G10: 0.02368427 | H10: 2010 | I10: 6 | J10: Brillet | K10: René | L10: 5411
L11: =IF(L10="","",IF(SUMPRODUCT(('Secteur dactivité'!$B$2:$B$72<=Feuil1!L10)*('Secteur dactivité'!$C$2:$C$72>=Feuil1!L10))=0,"Non-trouvée",INDEX('Secteur dactivité'!$A$2:$A$72,SUMPRODUCT(('Secteur dactivité'!$B$2:$B$72<=Feuil1!L10)*('Secteur dactivité'!$C$2:$C$72>=Feuil1!L10)*(ROW('Secteur dactivité'!$B$2:$B$72)-MIN(ROW('Secteur dactivité'!$B$2:$B$72))+1))))) -> 5000-5999 | M11: =IF(M10="","",IF(SUMPRODUCT(('Secteur dactivité'!$B$2:$B$72<=Feuil1!M10)*('Secteur dactivité'!$C$2:$C$72>=Feuil1!M10))=0,"Non-trouvée",INDEX('Secteur dactivité'!$A$2:$A$72,SUMPRODUCT(('Secteur dactivité'!$B$2:$B$72<=Feuil1!M10)*('Secteur dactivité'!$C$2:$C$72>=Feuil1!M10)*(ROW('Secteur dactivité'!$B$2:$B$72)-MIN(ROW('Secteur dactivité'!$B$2:$B$72))+1))))) | N11: =IF(N10="","",IF(SUMPRODUCT(('Secteur dactivité'!$B$2:$B$72<=Feuil1!N10)*('Secteur dactivité'!$C$2:$C$72>=Feuil1!N10))=0,"Non-trouvée",INDEX('Secteur dactivité'!$A$2:$A$72,SUMPRODUCT(('Secteur dactivité'!$B$2:$B$72<=Feuil1!N10)*('Secteur dactivité'!$C$2:$C$72>=Feuil1!N10)*(ROW('Secteur dactivité'!$B$2:$B$72)-MIN(ROW('Secteur dactivité'!$B$2:$B$72))+1))))) | O11: =IF(O10="","",IF(SUMPRODUCT(('Secteur dactivité'!$B$2:$B$72<=Feuil1!O10)*('Secteur dactivité'!$C$2:$C$72>=Feuil1!O10))=0,"Non-trouvée",INDEX('Secteur dactivité'!$A$2:$A$72,SUMPRODUCT(('Secteur dactivité'!$B$2:$B$72<=Feuil1!O10)*('Secteur dactivité'!$C$2:$C$72>=Feuil1!O10)*(ROW('Secteur dactivité'!$B$2:$B$72)-MIN(ROW('Secteur dactivité'!$B$2:$B$72))+1))))) | P11: =IF(P10="","",IF(SUMPRODUCT(('Secteur dactivité'!$B$2:$B$72<=Feuil1!P10)*('Secteur dactivité'!$C$2:$C$72>=Feuil1!P10))=0,"Non-trouvée",INDEX('Secteur dactivité'!$A$2:$A$72,SUMPRODUCT(('Secteur dactivité'!$B$2:$B$72<=Feuil1!P10)*('Secteur dactivité'!$C$2:$C$72>=Feuil1!P10)*(ROW('Secteur dactivité'!$B$2:$B$72)-MIN(ROW('Secteur dactivité'!$B$2:$B$72))+1))))) | Q11: =IF(Q10="","",IF(SUMPRODUCT(('Secteur dactivité'!$B$2:$B$72<=Feuil1!Q10)*('Secteur dactivité'!$C$2:$C$72>=Feuil1!Q10))=0,"Non-trouvée",INDEX('Secteur dactivité'!$A$2:$A$72,SUMPRODUCT(('Secteur dactivité'!$B$2:$B$72<=Feuil1!Q10)*('Secteur dactivité'!$C$2:$C$72>=Feuil1!Q10)*(ROW('Secteur dactivité'!$B$2:$B$72)-MIN(ROW('Secteur dactivité'!$B$2:$B$72))+1))))) | R11: =IF(R10="","",IF(SUMPRODUCT(('Secteur dactivité'!$B$2:$B$72<=Feuil1!R10)*('Secteur dactivité'!$C$2:$C$72>=Feuil1!R10))=0,"Non-trouvée",INDEX('Secteur dactivité'!$A$2:$A$72,SUMPRODUCT(('Secteur dactivité'!$B$2:$B$72<=Feuil1!R10)*('Secteur dactivité'!$C$2:$C$72>=Feuil1!R10)*(ROW('Secteur dactivité'!$B$2:$B$72)-MIN(ROW('Secteur dactivité'!$B$2:$B$72))+1))))) | S11: =IF(S10="","",IF(SUMPRODUCT(('Secteur dactivité'!$B$2:$B$72<=Feuil1!S10)*('Secteur dactivité'!$C$2:$C$72>=Feuil1!S10))=0,"Non-trouvée",INDEX('Secteur dactivité'!$A$2:$A$72,SUMPRODUCT(('Secteur dactivité'!$B$2:$B$72<=Feuil1!S10)*('Secteur dactivité'!$C$2:$C$72>=Feuil1!S10)*(ROW('Secteur dactivité'!$B$2:$B$72)-MIN(ROW('Secteur dactivité'!$B$2:$B$72))+1))))) | ... AF11: =IF(AF10="","",IF(SUMPRODUCT(('Secteur dactivité'!$B$2:$B$72<=Feuil1!AF10)*('Secteur dactivité'!$C$2:$C$72>=Feuil1!AF10))=0,"Non-trouvée",INDEX('Secteur dactivité'!$A$2:$A$72,SUMPRODUCT(('Secteur dactivité'!$B$2:$B$72<=Feuil1!AF10)*('Secteur dactivité'!$C$2:$C$72>=Feuil1!AF10)*(ROW('Secteur dactivité'!$B$2:$B$72)-MIN(ROW('Secteur dactivité'!$B$2:$B$72))+1)))))
A12: 40889 | B12: Guyenne et Gascogne SA | C12: Carrefour SA | D12: 5411 | E12: FR0000120172 | F12: Public | G12: 0.02368427 | H12: 2010 | I12: 6 | J12: Edelstenne | K12: Charles | L12: 3721 | M12: 7372 | N12: 6726 | O12: 3728 | P12: 8711 | Q12: 3728 | R12: 3721 | S12: 5084 | T12: 3812 | U12: 6399
L13: =IF(L12="","",IF(SUMPRODUCT(('Secteur dactivité'!$B$2:$B$72<=Feuil1!L12)*('Secteur dactivité'!$C$2:$C$72>=Feuil1!L12))=0,"Non-trouvée",INDEX('Secteur dactivité'!$A$2:$A$72,SUMPRODUCT(('Secteur dactivité'!$B$2:$B$72<=Feuil1!L12)*('Secteur dactivité'!$C$2:$C$72>=Feuil1!L12)*(ROW('Secteur dactivité'!$B$2:$B$72)-MIN(ROW('Secteur dactivité'!$B$2:$B$72))+1))))) -> 3717-3749 | M13: =IF(M12="","",IF(SUMPRODUCT(('Secteur dactivité'!$B$2:$B$72<=Feuil1!M12)*('Secteur dactivité'!$C$2:$C$72>=Feuil1!M12))=0,"Non-trouvée",INDEX('Secteur dactivité'!$A$2:$A$72,SUMPRODUCT(('Secteur dactivité'!$B$2:$B$72<=Feuil1!M12)*('Secteur dactivité'!$C$2:$C$72>=Feuil1!M12)*(ROW('Secteur dactivité'!$B$2:$B$72)-MIN(ROW('Secteur dactivité'!$B$2:$B$72))+1))))) -> 7370-7379 | N13: =IF(N12="","",IF(SUMPRODUCT(('Secteur dactivité'!$B$2:$B$72<=Feuil1!N12)*('Secteur dactivité'!$C$2:$C$72>=Feuil1!N12))=0,"Non-trouvée",INDEX('Secteur dactivité'!$A$2:$A$72,SUMPRODUCT(('Secteur dactivité'!$B$2:$B$72<=Feuil1!N12)*('Secteur dactivité'!$C$2:$C$72>=Feuil1!N12)*(ROW('Secteur dactivité'!$B$2:$B$72)-MIN(ROW('Secteur dactivité'!$B$2:$B$72))+1))))) -> 6000-6999 | O13: =IF(O12="","",IF(SUMPRODUCT(('Secteur dactivité'!$B$2:$B$72<=Feuil1!O12)*('Secteur dactivité'!$C$2:$C$72>=Feuil1!O12))=0,"Non-trouvée",INDEX('Secteur dactivité'!$A$2:$A$72,SUMPRODUCT(('Secteur dactivité'!$B$2:$B$72<=Feuil1!O12)*('Secteur dactivité'!$C$2:$C$72>=Feuil1!O12)*(ROW('Secteur dactivité'!$B$2:$B$72)-MIN(ROW('Secteur dactivité'!$B$2:$B$72))+1))))) -> 3717-3749 | P13: =IF(P12="","",IF(SUMPRODUCT(('Secteur dactivité'!$B$2:$B$72<=Feuil1!P12)*('Secteur dactivité'!$C$2:$C$72>=Feuil1!P12))=0,"Non-trouvée",INDEX('Secteur dactivité'!$A$2:$A$72,SUMPRODUCT(('Secteur dactivité'!$B$2:$B$72<=Feuil1!P12)*('Secteur dactivité'!$C$2:$C$72>=Feuil1!P12)*(ROW('Secteur dactivité'!$B$2:$B$72)-MIN(ROW('Secteur dactivité'!$B$2:$B$72))+1))))) -> Non-trouvée | Q13: =IF(Q12="","",IF(SUMPRODUCT(('Secteur dactivité'!$B$2:$B$72<=Feuil1!Q12)*('Secteur dactivité'!$C$2:$C$72>=Feuil1!Q12))=0,"Non-trouvée",INDEX('Secteur dactivité'!$A$2:$A$72,SUMPRODUCT(('Secteur dactivité'!$B$2:$B$72<=Feuil1!Q12)*('Secteur dactivité'!$C$2:$C$72>=Feuil1!Q12)*(ROW('Secteur dactivité'!$B$2:$B$72)-MIN(ROW('Secteur dactivité'!$B$2:$B$72))+1))))) -> 3717-3749 | R13: =IF(R12="","",IF(SUMPRODUCT(('Secteur dactivité'!$B$2:$B$72<=Feuil1!R12)*('Secteur dactivité'!$C$2:$C$72>=Feuil1!R12))=0,"Non-trouvée",INDEX('Secteur dactivité'!$A$2:$A$72,SUMPRODUCT(('Secteur dactivité'!$B$2:$B$72<=Feuil1!R12)*('Secteur dactivité'!$C$2:$C$72>=Feuil1!R12)*(ROW('Secteur dactivité'!$B$2:$B$72)-MIN(ROW('Secteur dactivité'!$B$2:$B$72))+1))))) -> 3717-3749 | S13: =IF(S12="","",IF(SUMPRODUCT(('Secteur dactivité'!$B$2:$B$72<=Feuil1!S12)*('Secteur dactivité'!$C$2:$C$72>=Feuil1!S12))=0,"Non-trouvée",INDEX('Secteur dactivité'!$A$2:$A$72,SUMPRODUCT(('Secteur dactivité'!$B$2:$B$72<=Feuil1!S12)*('Secteur dactivité'!$C$2:$C$72>=Feuil1!S12)*(ROW('Secteur dactivité'!$B$2:$B$72)-MIN(ROW('Secteur dactivité'!$B$2:$B$72))+1))))) -> 5000-5999 | ... AF13: =IF(AF12="","",IF(SUMPRODUCT(('Secteur dactivité'!$B$2:$B$72<=Feuil1!AF12)*('Secteur dactivité'!$C$2:$C$72>=Feuil1!AF12))=0,"Non-trouvée",INDEX('Secteur dactivité'!$A$2:$A$72,SUMPRODUCT(('Secteur dactivité'!$B$2:$B$72<=Feuil1!AF12)*('Secteur dactivité'!$C$2:$C$72>=Feuil1!AF12)*(ROW('Secteur dactivité'!$B$2:$B$72)-MIN(ROW('Secteur dactivité'!$B$2:$B$72))+1)))))
A14: 40861 | B14: Xiring SA | C14: Ingenico SA | D14: 3578 | E14: FR0000125346 | F14: Public | G14: 0.045253752 | H14: 2010 | I14: 2 | J14: Moreno | K14: Xavier | L14: 2834 | M14: 4931 | N14: 6211 | O14: 6719 | P14: 6719 | Q14: 2834 | R14: 6719 | S14: 5039 | T14: 4813 | U14: 6719 | V14: 4789 | W14: 6719 | X14: 6719 | Y14: 6719 | Z14: 8711 | AA14: 5812 | AB14: 6726 | AC14: 6719 | AD14: 5699 | AE14: 6726 | AF14: 8742
L15: =IF(L14="","",IF(SUMPRODUCT(('Secteur dactivité'!$B$2:$B$72<=Feuil1!L14)*('Secteur dactivité'!$C$2:$C$72>=Feuil1!L14))=0,"Non-trouvée",INDEX('Secteur dactivité'!$A$2:$A$72,SUMPRODUCT(('Secteur dactivité'!$B$2:$B$72<=Feuil1!L14)*('Secteur dactivité'!$C$2:$C$72>=Feuil1!L14)*(ROW('Secteur dactivité'!$B$2:$B$72)-MIN(ROW('Secteur dactivité'!$B$2:$B$72))+1))))) -> 2830-2839 | M15: =IF(M14="","",IF(SUMPRODUCT(('Secteur dactivité'!$B$2:$B$72<=Feuil1!M14)*('Secteur dactivité'!$C$2:$C$72>=Feuil1!M14))=0,"Non-trouvée",INDEX('Secteur dactivité'!$A$2:$A$72,SUMPRODUCT(('Secteur dactivité'!$B$2:$B$72<=Feuil1!M14)*('Secteur dactivité'!$C$2:$C$72>=Feuil1!M14)*(ROW('Secteur dactivité'!$B$2:$B$72)-MIN(ROW('Secteur dactivité'!$B$2:$B$72))+1))))) -> 4900-4949 | N15: =IF(N14="","",IF(SUMPRODUCT(('Secteur dactivité'!$B$2:$B$72<=Feuil1!N14)*('Secteur dactivité'!$C$2:$C$72>=Feuil1!N14))=0,"Non-trouvée",INDEX('Secteur dactivité'!$A$2:$A$72,SUMPRODUCT(('Secteur dactivité'!$B$2:$B$72<=Feuil1!N14)*('Secteur dactivité'!$C$2:$C$72>=Feuil1!N14)*(ROW('Secteur dactivité'!$B$2:$B$72)-MIN(ROW('Secteur dactivité'!$B$2:$B$72))+1))))) -> 6000-6999 | O15: =IF(O14="","",IF(SUMPRODUCT(('Secteur dactivité'!$B$2:$B$72<=Feuil1!O14)*('Secteur dactivité'!$C$2:$C$72>=Feuil1!O14))=0,"Non-trouvée",INDEX('Secteur dactivité'!$A$2:$A$72,SUMPRODUCT(('Secteur dactivité'!$B$2:$B$72<=Feuil1!O14)*('Secteur dactivité'!$C$2:$C$72>=Feuil1!O14)*(ROW('Secteur dactivité'!$B$2:$B$72)-MIN(ROW('Secteur dactivité'!$B$2:$B$72))+1))))) -> 6000-6999 | P15: =IF(P14="","",IF(SUMPRODUCT(('Secteur dactivité'!$B$2:$B$72<=Feuil1!P14)*('Secteur dactivité'!$C$2:$C$72>=Feuil1!P14))=0,"Non-trouvée",INDEX('Secteur dactivité'!$A$2:$A$72,SUMPRODUCT(('Secteur dactivité'!$B$2:$B$72<=Feuil1!P14)*('Secteur dactivité'!$C$2:$C$72>=Feuil1!P14)*(ROW('Secteur dactivité'!$B$2:$B$72)-MIN(ROW('Secteur dactivité'!$B$2:$B$72))+1))))) -> 6000-6999 | Q15: =IF(Q14="","",IF(SUMPRODUCT(('Secteur dactivité'!$B$2:$B$72<=Feuil1!Q14)*('Secteur dactivité'!$C$2:$C$72>=Feuil1!Q14))=0,"Non-trouvée",INDEX('Secteur dactivité'!$A$2:$A$72,SUMPRODUCT(('Secteur dactivité'!$B$2:$B$72<=Feuil1!Q14)*('Secteur dactivité'!$C$2:$C$72>=Feuil1!Q14)*(ROW('Secteur dactivité'!$B$2:$B$72)-MIN(ROW('Secteur dactivité'!$B$2:$B$72))+1))))) -> 2830-2839 | R15: =IF(R14="","",IF(SUMPRODUCT(('Secteur dactivité'!$B$2:$B$72<=Feuil1!R14)*('Secteur dactivité'!$C$2:$C$72>=Feuil1!R14))=0,"Non-trouvée",INDEX('Secteur dactivité'!$A$2:$A$72,SUMPRODUCT(('Secteur dactivité'!$B$2:$B$72<=Feuil1!R14)*('Secteur dactivité'!$C$2:$C$72>=Feuil1!R14)*(ROW('Secteur dactivité'!$B$2:$B$72)-MIN(ROW('Secteur dactivité'!$B$2:$B$72))+1))))) -> 6000-6999 | S15: =IF(S14="","",IF(SUMPRODUCT(('Secteur dactivité'!$B$2:$B$72<=Feuil1!S14)*('Secteur dactivité'!$C$2:$C$72>=Feuil1!S14))=0,"Non-trouvée",INDEX('Secteur dactivité'!$A$2:$A$72,SUMPRODUCT(('Secteur dactivité'!$B$2:$B$72<=Feuil1!S14)*('Secteur dactivité'!$C$2:$C$72>=Feuil1!S14)*(ROW('Secteur dactivité'!$B$2:$B$72)-MIN(ROW('Secteur dactivité'!$B$2:$B$72))+1))))) -> 5000-5999 | ... AF15: =IF(AF14="","",IF(SUMPRODUCT(('Secteur dactivité'!$B$2:$B$72<=Feuil1!AF14)*('Secteur dactivité'!$C$2:$C$72>=Feuil1!AF14))=0,"Non-trouvée",INDEX('Secteur dactivité'!$A$2:$A$72,SUMPRODUCT(('Secteur dactivité'!$B$2:$B$72<=Feuil1!AF14)*('Secteur dactivité'!$C$2:$C$72>=Feuil1!AF14)*(ROW('Secteur dactivité'!$B$2:$B$72)-MIN(ROW('Secteur dactivité'!$B$2:$B$72))+1))))) -> Non-trouvée
A16: 40861 | B16: Xiring SA | C16: Ingenico SA | D16: 3578 | E16: FR0000125346 | F16: Public | G16: 0.045253752 | H16: 2010 | I16: 2 | J16: Vannier | K16: Elie | L16: 4833 | M16: 3423 | N16: 6021 | O16: 5995 | P16: 2834 | Q16: 5651 | R16: 2834 | S16: 571 | T16: 3731 | U16: 5199 | V16: 3851
L17: =IF(L16="","",IF(SUMPRODUCT(('Secteur dactivité'!$B$2:$B$72<=Feuil1!L16)*('Secteur dactivité'!$C$2:$C$72>=Feuil1!L16))=0,"Non-trouvée",INDEX('Secteur dactivité'!$A$2:$A$72,SUMPRODUCT(('Secteur dactivité'!$B$2:$B$72<=Feuil1!L16)*('Secteur dactivité'!$C$2:$C$72>=Feuil1!L16)*(ROW('Secteur dactivité'!$B$2:$B$72)-MIN(ROW('Secteur dactivité'!$B$2:$B$72))+1))))) -> 4800-4899 | M17: =IF(M16="","",IF(SUMPRODUCT(('Secteur dactivité'!$B$2:$B$72<=Feuil1!M16)*('Secteur dactivité'!$C$2:$C$72>=Feuil1!M16))=0,"Non-trouvée",INDEX('Secteur dactivité'!$A$2:$A$72,SUMPRODUCT(('Secteur dactivité'!$B$2:$B$72<=Feuil1!M16)*('Secteur dactivité'!$C$2:$C$72>=Feuil1!M16)*(ROW('Secteur dactivité'!$B$2:$B$72)-MIN(ROW('Secteur dactivité'!$B$2:$B$72))+1))))) -> 3200-3569 | N17: =IF(N16="","",IF(SUMPRODUCT(('Secteur dactivité'!$B$2:$B$72<=Feuil1!N16)*('Secteur dactivité'!$C$2:$C$72>=Feuil1!N16))=0,"Non-trouvée",INDEX('Secteur dactivité'!$A$2:$A$72,SUMPRODUCT(('Secteur dactivité'!$B$2:$B$72<=Feuil1!N16)*('Secteur dactivité'!$C$2:$C$72>=Feuil1!N16)*(ROW('Secteur dactivité'!$B$2:$B$72)-MIN(ROW('Secteur dactivité'!$B$2:$B$72))+1))))) -> 6000-6999 | O17: =IF(O16="","",IF(SUMPRODUCT(('Secteur dactivité'!$B$2:$B$72<=Feuil1!O16)*('Secteur dactivité'!$C$2:$C$72>=Feuil1!O16))=0,"Non-trouvée",INDEX('Secteur dactivité'!$A$2:$A$72,SUMPRODUCT(('Secteur dactivité'!$B$2:$B$72<=Feuil1!O16)*('Secteur dactivité'!$C$2:$C$72>=Feuil1!O16)*(ROW('Secteur dactivité'!$B$2:$B$72)-MIN(ROW('Secteur dactivité'!$B$2:$B$72))+1))))) -> 5000-5999 | P17: =IF(P16="","",IF(SUMPRODUCT(('Secteur dactivité'!$B$2:$B$72<=Feuil1!P16)*('Secteur dactivité'!$C$2:$C$72>=Feuil1!P16))=0,"Non-trouvée",INDEX('Secteur dactivité'!$A$2:$A$72,SUMPRODUCT(('Secteur dactivité'!$B$2:$B$72<=Feuil1!P16)*('Secteur dactivité'!$C$2:$C$72>=Feuil1!P16)*(ROW('Secteur dactivité'!$B$2:$B$72)-MIN(ROW('Secteur dactivité'!$B$2:$B$72))+1))))) -> 2830-2839 | Q17: =IF(Q16="","",IF(SUMPRODUCT(('Secteur dactivité'!$B$2:$B$72<=Feuil1!Q16)*('Secteur dactivité'!$C$2:$C$72>=Feuil1!Q16))=0,"Non-trouvée",INDEX('Secteur dactivité'!$A$2:$A$72,SUMPRODUCT(('Secteur dactivité'!$B$2:$B$72<=Feuil1!Q16)*('Secteur dactivité'!$C$2:$C$72>=Feuil1!Q16)*(ROW('Secteur dactivité'!$B$2:$B$72)-MIN(ROW('Secteur dactivité'!$B$2:$B$72))+1))))) -> 5000-5999 | R17: =IF(R16="","",IF(SUMPRODUCT(('Secteur dactivité'!$B$2:$B$72<=Feuil1!R16)*('Secteur dactivité'!$C$2:$C$72>=Feuil1!R16))=0,"Non-trouvée",INDEX('Secteur dactivité'!$A$2:$A$72,SUMPRODUCT(('Secteur dactivité'!$B$2:$B$72<=Feuil1!R16)*('Secteur dactivité'!$C$2:$C$72>=Feuil1!R16)*(ROW('Secteur dactivité'!$B$2:$B$72)-MIN(ROW('Secteur dactivité'!$B$2:$B$72))+1))))) -> 2830-2839 | S17: =IF(S16="","",IF(SUMPRODUCT(('Secteur dactivité'!$B$2:$B$72<=Feuil1!S16)*('Secteur dactivité'!$C$2:$C$72>=Feuil1!S16))=0,"Non-trouvée",INDEX('Secteur dactivité'!$A$2:$A$72,SUMPRODUCT(('Secteur dactivité'!$B$2:$B$72<=Feuil1!S16)*('Secteur dactivité'!$C$2:$C$72>=Feuil1!S16)*(ROW('Secteur dactivité'!$B$2:$B$72)-MIN(ROW('Secteur dactivité'!$B$2:$B$72))+1))))) -> 0100-0999 | ... AF17: =IF(AF16="","",IF(SUMPRODUCT(('Secteur dactivité'!$B$2:$B$72<=Feuil1!AF16)*('Secteur dactivité'!$C$2:$C$72>=Feuil1!AF16))=0,"Non-trouvée",INDEX('Secteur dactivité'!$A$2:$A$72,SUMPRODUCT(('Secteur dactivité'!$B$2:$B$72<=Feuil1!AF16)*('Secteur dactivité'!$C$2:$C$72>=Feuil1!AF16)*(ROW('Secteur dactivité'!$B$2:$B$72)-MIN(ROW('Secteur dactivité'!$B$2:$B$72))+1)))))

Sheet Secteur dactivité
A1: 1NoDurConsumerNonDurables--Food,Tobacco,Textiles,Apparel,Leather,Toys
A2: 0100-0999 | B2: 100 | C2: 999
A3: 2000-2399 | B3: 2000 | C3: 2399
A4: 2700-2749 | B4: 2700 | C4: 2749
A5: 2770-2799 | B5: 2770 | C5: 2799
A6: 3100-3199 | B6: 3100 | C6: 3199
A7: 3940-3989 | B7: 3940 | C7: 3989
A9: 2DurblConsumerDurables--Cars,TV's,Furniture,HouseholdAppliances
A10: 2500-2519 | B10: 2500 | C10: 2519
A11: 2590-2599 | B11: 2590 | C11: 2599
A12: 3630-3659 | B12: 3630 | C12: 3659
A13: 3710-3711 | B13: 3710 | C13: 3711
A14: 3714-3714 | B14: 3714 | C14: 3714
A15: 3716-3716 | B15: 3716 | C15: 3716
A16: 3750-3751 | B16: 3750 | C16: 3751
A17: 3792-3792 | B17: 3792 | C17: 3792
A18: 3900-3939 | B18: 3900 | C18: 3939
A19: 3990-3999 | B19: 3990 | C19: 3999
A21: 3ManufManufacturing--Machinery,Trucks,Planes,OffFurn,Paper,ComPrinting
A22: 2520-2589 | B22: 2520 | C22: 2589
A23: 2600-2699 | B23: 2600 | C23: 2699
A24: 2750-2769 | B24: 2750 | C24: 2769
A25: 3000-3099 | B25: 3000 | C25: 3099
A26: 3200-3569 | B26: 3200 | C26: 3569
A27: 3580-3629 | B27: 3580 | C27: 3629
A28: 3700-3709 | B28: 3700 | C28: 3709
A29: 3712-3713 | B29: 3712 | C29: 3713
A30: 3715-3715 | B30: 3715 | C30: 3715
A31: 3717-3749 | B31: 3717 | C31: 3749
A32: 3752-3791 | B32: 3752 | C32: 3791
A33: 3793-3799 | B33: 3793 | C33: 3799
... A35: 3860-3899 | B35: 3860 | C35: 3899
A37: 4EnrgyOil,Gas,andCoalExtractionandProducts
A38: 1200-1399 | B38: 1200 | C38: 1399
A39: 2900-2999 | B39: 2900 | C39: 2999
A41: 5ChemsChemicalsandAlliedProducts
A42: 2800-2829 | B42: 2800 | C42: 2829
A43: 2840-2899 | B43: 2840 | C43: 2899
A45: 6BusEqBusinessEquipment--Computers,Software,andElectronicEquipment
A46: 3570-3579 | B46: 3570 | C46: 3579
A47: 3660-3692 | B47: 3660 | C47: 3692
A48: 3694-3699 | B48: 3694 | C48: 3699
A49: 3810-3829 | B49: 3810 | C49: 3829
A50: 7370-7379 | B50: 7370 | C50: 7379
A52: 7TelcmTelephoneandTelevisionTransmission
A53: 4800-4899 | B53: 4800 | C53: 4899
A55: 8UtilsUtilities
A56: 4900-4949 | B56: 4900 | C56: 4949
A58: 9ShopsWholesale,Retail,andSomeServices(Laundries,RepairShops)
A59: 5000-5999 | B59: 5000 | C59: 5999
A60: 7200-7299 | B60: 7200 | C60: 7299
A61: 7600-7699 | B61: 7600 | C61: 7699
A63: 10HlthHealthcare,MedicalEquipment,andDrugs
A64: 2830-2839 | B64: 2830 | C64: 2839
A65: 3693-3693 | B65: 3693 | C65: 3693
A66: 3840-3859 | B66: 3840 | C66: 3859
A67: 8000-8099 | B67: 8000 | C67: 8099
A69: 11MoneyFinance
A70: 6000-6999 | B70: 6000 | C70: 6999
A72: 12OtherOther--Mines,Constr,BldMt,Trans,Hotels,BusServ,Entertainment

Sheet Feuil2

Sheet Feuil3
