Workbook

Sheet Dashboard
C2: 41214 | D2: 41244 | E2: 41275 | F2: 41306 | G2: 41334 | H2: 41365 | I2: 41395 | J2: 41426 | K2: 41456 | L2: 41487 | M2: 41518 | N2: 41548 | O2: 41579 | P2: 41609 | Q2: 41640 | R2: 41671 | S2: 41699 | T2: 41730 | U2: 41760 | V2: 41791 | W2: 41821 | X2: 41852 | Y2: 41883 | Z2: 41913 | AA2: 41944 | AB2: 41974
B3: New | C3: =COUNTIFS(#REF!,MONTH(Dashboard!C2),#REF!,YEAR(Dashboard!C2)) -> #REF! | D3: =COUNTIFS(#REF!,MONTH(Dashboard!D2),#REF!,YEAR(Dashboard!D2)) -> #REF! | E3: =COUNTIFS(#REF!,MONTH(Dashboard!E2),#REF!,YEAR(Dashboard!E2)) -> #REF! | F3: =COUNTIFS(#REF!,MONTH(Dashboard!F2),#REF!,YEAR(Dashboard!F2)) -> #REF! | G3: =COUNTIFS(#REF!,MONTH(Dashboard!G2),#REF!,YEAR(Dashboard!G2)) -> #REF! | H3: =COUNTIFS(#REF!,MONTH(Dashboard!H2),#REF!,YEAR(Dashboard!H2)) -> #REF! | I3: =COUNTIFS(#REF!,MONTH(Dashboard!I2),#REF!,YEAR(Dashboard!I2)) -> #REF! | J3: =COUNTIFS(#REF!,MONTH(Dashboard!J2),#REF!,YEAR(Dashboard!J2)) -> #REF! | ... AB3: =COUNTIFS(#REF!,MONTH(Dashboard!AB2),#REF!,YEAR(Dashboard!AB2)) -> #REF!
B4: Closed | C4: =COUNTIFS(#REF!,MONTH(Dashboard!C2),#REF!,YEAR(Dashboard!C2),#REF!,"Closed") -> #REF! | D4: =COUNTIFS(#REF!,MONTH(Dashboard!D2),#REF!,YEAR(Dashboard!D2),#REF!,"Closed") -> #REF! | E4: =COUNTIFS(#REF!,MONTH(Dashboard!E2),#REF!,YEAR(Dashboard!E2),#REF!,"Closed") -> #REF! | F4: =COUNTIFS(#REF!,MONTH(Dashboard!F2),#REF!,YEAR(Dashboard!F2),#REF!,"Closed") -> #REF! | G4: =COUNTIFS(#REF!,MONTH(Dashboard!G2),#REF!,YEAR(Dashboard!G2),#REF!,"Closed") -> #REF! | H4: =COUNTIFS(#REF!,MONTH(Dashboard!H2),#REF!,YEAR(Dashboard!H2),#REF!,"Closed") -> #REF! | I4: =COUNTIFS(#REF!,MONTH(Dashboard!I2),#REF!,YEAR(Dashboard!I2),#REF!,"Closed") -> #REF! | J4: =COUNTIFS(#REF!,MONTH(Dashboard!J2),#REF!,YEAR(Dashboard!J2),#REF!,"Closed") -> #REF! | ... AB4: =COUNTIFS(#REF!,MONTH(Dashboard!AB2),#REF!,YEAR(Dashboard!AB2),#REF!,"Closed") -> #REF!
B5: Open | C5: =IF(C2<=TODAY(),C3-C4," ") -> #REF! | D5: =IF(D2<=TODAY(),D3+C5-D4," ") -> #REF! | E5: =IF(E2<=TODAY(),E3+D5-E4," ") -> #REF! | F5: =IF(F2<=TODAY(),F3+E5-F4," ") -> #REF! | G5: =IF(G2<=TODAY(),G3+F5-G4," ") -> #REF! | H5: =IF(H2<=TODAY(),H3+G5-H4," ") -> #REF! | I5: =IF(I2<=TODAY(),I3+H5-I4," ") -> #REF! | J5: =IF(J2<=TODAY(),J3+I5-J4," ") | K5: =IF(K2<=TODAY(),K3+J5-K4," ") | ... AB5: =IF(AB2<=TODAY(),AB3+AA5-AB4," ")
B6: Evol | C6: =IF(C5=" "," ",C3-C4) -> #REF! | D6: =IF(D5=" "," ",D3-D4) -> #REF! | E6: =IF(E5=" "," ",E3-E4) -> #REF! | F6: =IF(F5=" "," ",F3-F4) -> #REF! | G6: =IF(G5=" "," ",G3-G4) -> #REF! | H6: =IF(H5=" "," ",H3-H4) -> #REF! | I6: =IF(I5=" "," ",I3-I4) -> #REF! | J6: =IF(J5=" "," ",J3-J4) | ... AB6: =IF(AB5=" "," ",AB3-AB4)
Y8: Cross checks
Y9: Open | Z9: =INDEX(Dashboard!5:5,COUNT(Dashboard!5:5)+2) -> Open | AA9: =AND(Z9=F40,Z9=V45,Z9=SUM(N40:N45)) -> #REF!
Y10: Closed | Z10: =SUM(C4:AB4) -> #REF! | AA10: =AND(Z10=F43, Z10=SUM(L40:L45),Z10=T45) -> #REF!
Y11: Total | Z11: =Z9+Z10 -> #VALUE! | AA11: =AND(Z11=F44, Z11=SUM(J40:J45),Z11=(SUM(L40:L45)+SUM(N40:N45)),Z11=R45,Z11=T45+V45) -> #VALUE!
AA12: =AND(AA9,AA10,AA11) -> #REF!
Z15: Min | AA15: Max | AB15: Avg
Y16: New | Z16: =MIN(C3:I3) -> #REF! | AA16: =MAX(C3:AB3) -> #REF! | AB16: =SUM(C3:AB3)/COUNT(5:5) -> #REF!
Y17: Closed | Z17: =MIN(C4:I4) -> #REF! | AA17: =MAX(C4:AB4) -> #REF! | AB17: =SUM(C4:AB4)/COUNT(5:5) -> #REF!
Y18: Open | Z18: =MIN(C5:AB5) -> #REF! | AA18: =MAX(C5:AB5) -> #REF! | AB18: =SUM(C5:AB5)/COUNT(5:5) -> #REF!
Y19: Evol | Z19: =MIN(C6:AB6) -> #REF! | AA19: =MAX(C6:AB6) -> #REF! | AB19: =SUM(C6:AB6)/COUNT(5:5) -> #REF!
B39: Status of the changes | H39: Duration | J39: Total | L39: Closed | N39: Open | Q39: Types | R39: Total | T39: Closed | V39: Open
B40: Open | C40: Specification | E40: =COUNTIF(#REF!,C40) -> #REF! | F40: =SUM(E40:E42) -> #REF! | H40: < 1 Wk | J40: =COUNTIF(#REF!,"A") -> #REF! | K40: =J40/$R$45 -> #REF! | L40: =COUNTIFS(#REF!,"A",#REF!,"C") -> #REF! | M40: =L40/$T$45 -> #REF! | N40: =COUNTIFS(#REF!,"A",#REF!,"O") -> #REF! | O40: =N40/$V$45 -> #REF! | Q40: G | R40: =COUNTIF(#REF!,Q40) -> #REF! | S40: =R40/$R$45 -> #REF! | T40: =COUNTIFS(#REF!,Q40,#REF!,"C") -> #REF! | U40: =T40/$T$45 -> #REF! | V40: =COUNTIFS(#REF!,Q40,#REF!,"O") -> #REF! | W40: =V40/$V$45 -> #REF!
C41: Design | E41: =COUNTIF(#REF!,C41) -> #REF! | H41: 1-2 Wks | J41: =COUNTIF(#REF!,"B") -> #REF! | K41: =J41/$R$45 -> #REF! | L41: =COUNTIFS(#REF!,"B",#REF!,"C") -> #REF! | M41: =L41/$T$45 -> #REF! | N41: =COUNTIFS(#REF!,"B",#REF!,"O") -> #REF! | O41: =N41/$V$45 -> #REF! | Q41: Y | R41: =COUNTIF(#REF!,Q41) -> #REF! | S41: =R41/$R$45 -> #REF! | T41: =COUNTIFS(#REF!,Q41,#REF!,"C") -> #REF! | U41: =T41/$T$45 -> #REF! | V41: =COUNTIFS(#REF!,Q41,#REF!,"O") -> #REF! | W41: =V41/$V$45 -> #REF!
C42: Implementation | E42: =COUNTIF(#REF!,C42) -> #REF! | H42: 2 Wks-1 M | J42: =COUNTIF(#REF!,"C") -> #REF! | K42: =J42/$R$45 -> #REF! | L42: =COUNTIFS(#REF!,"C",#REF!,"C") -> #REF! | M42: =L42/$T$45 -> #REF! | N42: =COUNTIFS(#REF!,"C",#REF!,"O") -> #REF! | O42: =N42/$V$45 -> #REF! | Q42: O | R42: =COUNTIF(#REF!,Q42) -> #REF! | S42: =R42/$R$45 -> #REF! | T42: =COUNTIFS(#REF!,Q42,#REF!,"C") -> #REF! | U42: =T42/$T$45 -> #REF! | V42: =COUNTIFS(#REF!,Q42,#REF!,"O") -> #REF! | W42: =V42/$V$45 -> #REF!
B43: Closed | C43: Closed | F43: =COUNTIF(#REF!,C43) -> #REF! | H43: 1-2 M | J43: =COUNTIF(#REF!,"D") -> #REF! | K43: =J43/$R$45 -> #REF! | L43: =COUNTIFS(#REF!,"D",#REF!,"C") -> #REF! | M43: =L43/$T$45 -> #REF! | N43: =COUNTIFS(#REF!,"D",#REF!,"O") -> #REF! | O43: =N43/$V$45 -> #REF! | Q43: R | R43: =COUNTIF(#REF!,Q43) -> #REF! | S43: =R43/$R$45 -> #REF! | T43: =COUNTIFS(#REF!,Q43,#REF!,"C") -> #REF! | U43: =T43/$T$45 -> #REF! | V43: =COUNTIFS(#REF!,Q43,#REF!,"O") -> #REF! | W43: =V43/$V$45 -> #REF!
B44: Total | F44: =SUM(F40:F43) -> #REF! | H44: 2-3 M | J44: =COUNTIF(#REF!,"E") -> #REF! | K44: =J44/$R$45 -> #REF! | L44: =COUNTIFS(#REF!,"E",#REF!,"C") -> #REF! | M44: =L44/$T$45 -> #REF! | N44: =COUNTIFS(#REF!,"E",#REF!,"O") -> #REF! | O44: =N44/$V$45 -> #REF! | Q44: TBD | R44: =COUNTIF(#REF!,Q44) -> #REF! | S44: =R44/$R$45 -> #REF! | T44: =COUNTIFS(#REF!,Q44,#REF!,"C") -> #REF! | U44: =T44/$T$45 -> #REF! | V44: =COUNTIFS(#REF!,Q44,#REF!,"O") -> #REF! | W44: =V44/$V$45 -> #REF!
H45: > 3M | J45: =COUNTIF(#REF!,"F") -> #REF! | K45: =J45/$R$45 -> #REF! | L45: =COUNTIFS(#REF!,"F",#REF!,"C") -> #REF! | M45: =L45/$T$45 -> #REF! | N45: =COUNTIFS(#REF!,"F",#REF!,"O") -> #REF! | O45: =N45/$V$45 -> #REF! | R45: =SUM(R40:R44) -> #REF! | T45: =SUM(T40:T44) -> #REF! | V45: =SUM(V40:V44) -> #REF!

Sheet Sheet1
C2: 41214 | D2: 41244 | E2: 41275 | F2: 41306 | G2: 41334 | H2: 41365 | I2: 41395 | J2: 41426 | K2: 41456 | L2: 41487 | M2: 41518 | N2: 41548 | O2: 41579 | P2: 41609
B3: New | C3: 15 | D3: 10 | E3: 21 | F3: 19 | G3: 11 | H3: 18 | I3: 19 | J3: 0 | K3: 0 | L3: 0 | M3: 0 | N3: 0 | O3: 0 | P3: 0
B4: Closed | C4: 6 | D4: 8 | E4: 9 | F4: 19 | G4: 15 | H4: 12 | I4: 13 | J4: 0 | K4: 0 | L4: 0 | M4: 0 | N4: 0 | O4: 0 | P4: 0
D7: Min | E7: Max
C8: New | D8: =MIN(C3:P3) -> 0 | E8: =MAX(C3:P3) -> 21
C9: Closed | D9: =MIN(C4:P4) -> 0 | E9: =MAX(C4:P4) -> 19
C11: {=MIN(IF(OFFSET(C3,,,2,COUNT($2:$2))<>0,OFFSET(C3,,,2,COUNT($2:$2))))} -> 6
