Workbook

Sheet Feuil1
A3: Bouillot | B3: =IF(ISNUMBER(A3),INDEX('Secteur dactivité'!$A$2:$A$72,SUMPRODUCT(('Secteur dactivité'!$B$2:$B$72<=Feuil1!A3)*('Secteur dactivité'!$C$2:$C$72>=Feuil1!A3))),"")
A4: Isabelle | B4: =IF(ISNUMBER(A4),INDEX('Secteur dactivité'!$A$2:$A$72,SUMPRODUCT(('Secteur dactivité'!$B$2:$B$72<=Feuil1!A4)*('Secteur dactivité'!$C$2:$C$72>=Feuil1!A4))),"")
A5: 6371 | B5: =IF(1-(ISNUMBER(A5)),"",IF(SUMPRODUCT(('Secteur dactivité'!$B$2:$B$72<=Feuil1!A5)*('Secteur dactivité'!$C$2:$C$72>=Feuil1!A5))=0,"Non-trouvée",INDEX('Secteur dactivité'!$A$2:$A$72,SUMPRODUCT(('Secteur dactivité'!$B$2:$B$72<=Feuil1!A5)*('Secteur dactivité'!$C$2:$C$72>=Feuil1!A5)*(ROW('Secteur dactivité'!$B$2:$B$72)-MIN(ROW('Secteur dactivité'!$B$2:$B$72))+1))))) -> 6000-6999
A6: 6211 | B6: =IF(1-(ISNUMBER(A6)),"",IF(SUMPRODUCT(('Secteur dactivité'!$B$2:$B$72<=Feuil1!A6)*('Secteur dactivité'!$C$2:$C$72>=Feuil1!A6))=0,"Non-trouvée",INDEX('Secteur dactivité'!$A$2:$A$72,SUMPRODUCT(('Secteur dactivité'!$B$2:$B$72<=Feuil1!A6)*('Secteur dactivité'!$C$2:$C$72>=Feuil1!A6)*(ROW('Secteur dactivité'!$B$2:$B$72)-MIN(ROW('Secteur dactivité'!$B$2:$B$72))+1))))) -> 6000-6999
A7: 6726 | B7: =IF(1-(ISNUMBER(A7)),"",IF(SUMPRODUCT(('Secteur dactivité'!$B$2:$B$72<=Feuil1!A7)*('Secteur dactivité'!$C$2:$C$72>=Feuil1!A7))=0,"Non-trouvée",INDEX('Secteur dactivité'!$A$2:$A$72,SUMPRODUCT(('Secteur dactivité'!$B$2:$B$72<=Feuil1!A7)*('Secteur dactivité'!$C$2:$C$72>=Feuil1!A7)*(ROW('Secteur dactivité'!$B$2:$B$72)-MIN(ROW('Secteur dactivité'!$B$2:$B$72))+1))))) -> 6000-6999
A8: 3211 | B8: =IF(1-(ISNUMBER(A8)),"",IF(SUMPRODUCT(('Secteur dactivité'!$B$2:$B$72<=Feuil1!A8)*('Secteur dactivité'!$C$2:$C$72>=Feuil1!A8))=0,"Non-trouvée",INDEX('Secteur dactivité'!$A$2:$A$72,SUMPRODUCT(('Secteur dactivité'!$B$2:$B$72<=Feuil1!A8)*('Secteur dactivité'!$C$2:$C$72>=Feuil1!A8)*(ROW('Secteur dactivité'!$B$2:$B$72)-MIN(ROW('Secteur dactivité'!$B$2:$B$72))+1))))) -> 3200-3569
A9: 8742 | B9: =IF(1-(ISNUMBER(A9)),"",IF(SUMPRODUCT(('Secteur dactivité'!$B$2:$B$72<=Feuil1!A9)*('Secteur dactivité'!$C$2:$C$72>=Feuil1!A9))=0,"Non-trouvée",INDEX('Secteur dactivité'!$A$2:$A$72,SUMPRODUCT(('Secteur dactivité'!$B$2:$B$72<=Feuil1!A9)*('Secteur dactivité'!$C$2:$C$72>=Feuil1!A9)*(ROW('Secteur dactivité'!$B$2:$B$72)-MIN(ROW('Secteur dactivité'!$B$2:$B$72))+1))))) -> Non-trouvée
A10: 3331 | B10: =IF(1-(ISNUMBER(A10)),"",IF(SUMPRODUCT(('Secteur dactivité'!$B$2:$B$72<=Feuil1!A10)*('Secteur dactivité'!$C$2:$C$72>=Feuil1!A10))=0,"Non-trouvée",INDEX('Secteur dactivité'!$A$2:$A$72,SUMPRODUCT(('Secteur dactivité'!$B$2:$B$72<=Feuil1!A10)*('Secteur dactivité'!$C$2:$C$72>=Feuil1!A10)*(ROW('Secteur dactivité'!$B$2:$B$72)-MIN(ROW('Secteur dactivité'!$B$2:$B$72))+1))))) -> 3200-3569
A11: 3559 | B11: =IF(1-(ISNUMBER(A11)),"",IF(SUMPRODUCT(('Secteur dactivité'!$B$2:$B$72<=Feuil1!A11)*('Secteur dactivité'!$C$2:$C$72>=Feuil1!A11))=0,"Non-trouvée",INDEX('Secteur dactivité'!$A$2:$A$72,SUMPRODUCT(('Secteur dactivité'!$B$2:$B$72<=Feuil1!A11)*('Secteur dactivité'!$C$2:$C$72>=Feuil1!A11)*(ROW('Secteur dactivité'!$B$2:$B$72)-MIN(ROW('Secteur dactivité'!$B$2:$B$72))+1))))) -> 3200-3569
A12: 6311 | B12: =IF(1-(ISNUMBER(A12)),"",IF(SUMPRODUCT(('Secteur dactivité'!$B$2:$B$72<=Feuil1!A12)*('Secteur dactivité'!$C$2:$C$72>=Feuil1!A12))=0,"Non-trouvée",INDEX('Secteur dactivité'!$A$2:$A$72,SUMPRODUCT(('Secteur dactivité'!$B$2:$B$72<=Feuil1!A12)*('Secteur dactivité'!$C$2:$C$72>=Feuil1!A12)*(ROW('Secteur dactivité'!$B$2:$B$72)-MIN(ROW('Secteur dactivité'!$B$2:$B$72))+1))))) -> 6000-6999
A13: 6211 | B13: =IF(1-(ISNUMBER(A13)),"",IF(SUMPRODUCT(('Secteur dactivité'!$B$2:$B$72<=Feuil1!A13)*('Secteur dactivité'!$C$2:$C$72>=Feuil1!A13))=0,"Non-trouvée",INDEX('Secteur dactivité'!$A$2:$A$72,SUMPRODUCT(('Secteur dactivité'!$B$2:$B$72<=Feuil1!A13)*('Secteur dactivité'!$C$2:$C$72>=Feuil1!A13)*(ROW('Secteur dactivité'!$B$2:$B$72)-MIN(ROW('Secteur dactivité'!$B$2:$B$72))+1))))) -> 6000-6999
A14: 6726 | B14: =IF(1-(ISNUMBER(A14)),"",IF(SUMPRODUCT(('Secteur dactivité'!$B$2:$B$72<=Feuil1!A14)*('Secteur dactivité'!$C$2:$C$72>=Feuil1!A14))=0,"Non-trouvée",INDEX('Secteur dactivité'!$A$2:$A$72,SUMPRODUCT(('Secteur dactivité'!$B$2:$B$72<=Feuil1!A14)*('Secteur dactivité'!$C$2:$C$72>=Feuil1!A14)*(ROW('Secteur dactivité'!$B$2:$B$72)-MIN(ROW('Secteur dactivité'!$B$2:$B$72))+1))))) -> 6000-6999
A15: 1742 | B15: =IF(1-(ISNUMBER(A15)),"",IF(SUMPRODUCT(('Secteur dactivité'!$B$2:$B$72<=Feuil1!A15)*('Secteur dactivité'!$C$2:$C$72>=Feuil1!A15))=0,"Non-trouvée",INDEX('Secteur dactivité'!$A$2:$A$72,SUMPRODUCT(('Secteur dactivité'!$B$2:$B$72<=Feuil1!A15)*('Secteur dactivité'!$C$2:$C$72>=Feuil1!A15)*(ROW('Secteur dactivité'!$B$2:$B$72)-MIN(ROW('Secteur dactivité'!$B$2:$B$72))+1))))) -> Non-trouvée
A16: 4311 | B16: =IF(1-(ISNUMBER(A16)),"",IF(SUMPRODUCT(('Secteur dactivité'!$B$2:$B$72<=Feuil1!A16)*('Secteur dactivité'!$C$2:$C$72>=Feuil1!A16))=0,"Non-trouvée",INDEX('Secteur dactivité'!$A$2:$A$72,SUMPRODUCT(('Secteur dactivité'!$B$2:$B$72<=Feuil1!A16)*('Secteur dactivité'!$C$2:$C$72>=Feuil1!A16)*(ROW('Secteur dactivité'!$B$2:$B$72)-MIN(ROW('Secteur dactivité'!$B$2:$B$72))+1))))) -> Non-trouvée
... A18: 7389 | B18: =IF(1-(ISNUMBER(A18)),"",IF(SUMPRODUCT(('Secteur dactivité'!$B$2:$B$72<=Feuil1!A18)*('Secteur dactivité'!$C$2:$C$72>=Feuil1!A18))=0,"Non-trouvée",INDEX('Secteur dactivité'!$A$2:$A$72,SUMPRODUCT(('Secteur dactivité'!$B$2:$B$72<=Feuil1!A18)*('Secteur dactivité'!$C$2:$C$72>=Feuil1!A18)*(ROW('Secteur dactivité'!$B$2:$B$72)-MIN(ROW('Secteur dactivité'!$B$2:$B$72))+1))))) -> Non-trouvée
A19: Camus | B19: =IF(1-(ISNUMBER(A19)),"",IF(SUMPRODUCT(('Secteur dactivité'!$B$2:$B$72<=Feuil1!A19)*('Secteur dactivité'!$C$2:$C$72>=Feuil1!A19))=0,"Non-trouvée",INDEX('Secteur dactivité'!$A$2:$A$72,SUMPRODUCT(('Secteur dactivité'!$B$2:$B$72<=Feuil1!A19)*('Secteur dactivité'!$C$2:$C$72>=Feuil1!A19)*(ROW('Secteur dactivité'!$B$2:$B$72)-MIN(ROW('Secteur dactivité'!$B$2:$B$72))+1)))))
A20: Philippe | B20: =IF(1-(ISNUMBER(A20)),"",IF(SUMPRODUCT(('Secteur dactivité'!$B$2:$B$72<=Feuil1!A20)*('Secteur dactivité'!$C$2:$C$72>=Feuil1!A20))=0,"Non-trouvée",INDEX('Secteur dactivité'!$A$2:$A$72,SUMPRODUCT(('Secteur dactivité'!$B$2:$B$72<=Feuil1!A20)*('Secteur dactivité'!$C$2:$C$72>=Feuil1!A20)*(ROW('Secteur dactivité'!$B$2:$B$72)-MIN(ROW('Secteur dactivité'!$B$2:$B$72))+1)))))
A21: 2731 | B21: =IF(1-(ISNUMBER(A21)),"",IF(SUMPRODUCT(('Secteur dactivité'!$B$2:$B$72<=Feuil1!A21)*('Secteur dactivité'!$C$2:$C$72>=Feuil1!A21))=0,"Non-trouvée",INDEX('Secteur dactivité'!$A$2:$A$72,SUMPRODUCT(('Secteur dactivité'!$B$2:$B$72<=Feuil1!A21)*('Secteur dactivité'!$C$2:$C$72>=Feuil1!A21)*(ROW('Secteur dactivité'!$B$2:$B$72)-MIN(ROW('Secteur dactivité'!$B$2:$B$72))+1))))) -> 2700-2749
A22: 6371 | B22: =IF(1-(ISNUMBER(A22)),"",IF(SUMPRODUCT(('Secteur dactivité'!$B$2:$B$72<=Feuil1!A22)*('Secteur dactivité'!$C$2:$C$72>=Feuil1!A22))=0,"Non-trouvée",INDEX('Secteur dactivité'!$A$2:$A$72,SUMPRODUCT(('Secteur dactivité'!$B$2:$B$72<=Feuil1!A22)*('Secteur dactivité'!$C$2:$C$72>=Feuil1!A22)*(ROW('Secteur dactivité'!$B$2:$B$72)-MIN(ROW('Secteur dactivité'!$B$2:$B$72))+1))))) -> 6000-6999
A23: 3721 | B23: =IF(1-(ISNUMBER(A23)),"",IF(SUMPRODUCT(('Secteur dactivité'!$B$2:$B$72<=Feuil1!A23)*('Secteur dactivité'!$C$2:$C$72>=Feuil1!A23))=0,"Non-trouvée",INDEX('Secteur dactivité'!$A$2:$A$72,SUMPRODUCT(('Secteur dactivité'!$B$2:$B$72<=Feuil1!A23)*('Secteur dactivité'!$C$2:$C$72>=Feuil1!A23)*(ROW('Secteur dactivité'!$B$2:$B$72)-MIN(ROW('Secteur dactivité'!$B$2:$B$72))+1))))) -> 3717-3749
A24: 6719 | B24: =IF(1-(ISNUMBER(A24)),"",IF(SUMPRODUCT(('Secteur dactivité'!$B$2:$B$72<=Feuil1!A24)*('Secteur dactivité'!$C$2:$C$72>=Feuil1!A24))=0,"Non-trouvée",INDEX('Secteur dactivité'!$A$2:$A$72,SUMPRODUCT(('Secteur dactivité'!$B$2:$B$72<=Feuil1!A24)*('Secteur dactivité'!$C$2:$C$72>=Feuil1!A24)*(ROW('Secteur dactivité'!$B$2:$B$72)-MIN(ROW('Secteur dactivité'!$B$2:$B$72))+1))))) -> 6000-6999
A25: 6519 | B25: =IF(1-(ISNUMBER(A25)),"",IF(SUMPRODUCT(('Secteur dactivité'!$B$2:$B$72<=Feuil1!A25)*('Secteur dactivité'!$C$2:$C$72>=Feuil1!A25))=0,"Non-trouvée",INDEX('Secteur dactivité'!$A$2:$A$72,SUMPRODUCT(('Secteur dactivité'!$B$2:$B$72<=Feuil1!A25)*('Secteur dactivité'!$C$2:$C$72>=Feuil1!A25)*(ROW('Secteur dactivité'!$B$2:$B$72)-MIN(ROW('Secteur dactivité'!$B$2:$B$72))+1))))) -> 6000-6999
A26: 6021 | B26: =IF(1-(ISNUMBER(A26)),"",IF(SUMPRODUCT(('Secteur dactivité'!$B$2:$B$72<=Feuil1!A26)*('Secteur dactivité'!$C$2:$C$72>=Feuil1!A26))=0,"Non-trouvée",INDEX('Secteur dactivité'!$A$2:$A$72,SUMPRODUCT(('Secteur dactivité'!$B$2:$B$72<=Feuil1!A26)*('Secteur dactivité'!$C$2:$C$72>=Feuil1!A26)*(ROW('Secteur dactivité'!$B$2:$B$72)-MIN(ROW('Secteur dactivité'!$B$2:$B$72))+1))))) -> 6000-6999
A27: 2721 | B27: =IF(1-(ISNUMBER(A27)),"",IF(SUMPRODUCT(('Secteur dactivité'!$B$2:$B$72<=Feuil1!A27)*('Secteur dactivité'!$C$2:$C$72>=Feuil1!A27))=0,"Non-trouvée",INDEX('Secteur dactivité'!$A$2:$A$72,SUMPRODUCT(('Secteur dactivité'!$B$2:$B$72<=Feuil1!A27)*('Secteur dactivité'!$C$2:$C$72>=Feuil1!A27)*(ROW('Secteur dactivité'!$B$2:$B$72)-MIN(ROW('Secteur dactivité'!$B$2:$B$72))+1))))) -> 2700-2749
A28: 5947 | B28: =IF(1-(ISNUMBER(A28)),"",IF(SUMPRODUCT(('Secteur dactivité'!$B$2:$B$72<=Feuil1!A28)*('Secteur dactivité'!$C$2:$C$72>=Feuil1!A28))=0,"Non-trouvée",INDEX('Secteur dactivité'!$A$2:$A$72,SUMPRODUCT(('Secteur dactivité'!$B$2:$B$72<=Feuil1!A28)*('Secteur dactivité'!$C$2:$C$72>=Feuil1!A28)*(ROW('Secteur dactivité'!$B$2:$B$72)-MIN(ROW('Secteur dactivité'!$B$2:$B$72))+1))))) -> 5000-5999
A29: 2731 | B29: =IF(1-(ISNUMBER(A29)),"",IF(SUMPRODUCT(('Secteur dactivité'!$B$2:$B$72<=Feuil1!A29)*('Secteur dactivité'!$C$2:$C$72>=Feuil1!A29))=0,"Non-trouvée",INDEX('Secteur dactivité'!$A$2:$A$72,SUMPRODUCT(('Secteur dactivité'!$B$2:$B$72<=Feuil1!A29)*('Secteur dactivité'!$C$2:$C$72>=Feuil1!A29)*(ROW('Secteur dactivité'!$B$2:$B$72)-MIN(ROW('Secteur dactivité'!$B$2:$B$72))+1))))) -> 2700-2749
A30: 4832 | B30: =IF(1-(ISNUMBER(A30)),"",IF(SUMPRODUCT(('Secteur dactivité'!$B$2:$B$72<=Feuil1!A30)*('Secteur dactivité'!$C$2:$C$72>=Feuil1!A30))=0,"Non-trouvée",INDEX('Secteur dactivité'!$A$2:$A$72,SUMPRODUCT(('Secteur dactivité'!$B$2:$B$72<=Feuil1!A30)*('Secteur dactivité'!$C$2:$C$72>=Feuil1!A30)*(ROW('Secteur dactivité'!$B$2:$B$72)-MIN(ROW('Secteur dactivité'!$B$2:$B$72))+1))))) -> 4800-4899
A31: 2721 | B31: =IF(1-(ISNUMBER(A31)),"",IF(SUMPRODUCT(('Secteur dactivité'!$B$2:$B$72<=Feuil1!A31)*('Secteur dactivité'!$C$2:$C$72>=Feuil1!A31))=0,"Non-trouvée",INDEX('Secteur dactivité'!$A$2:$A$72,SUMPRODUCT(('Secteur dactivité'!$B$2:$B$72<=Feuil1!A31)*('Secteur dactivité'!$C$2:$C$72>=Feuil1!A31)*(ROW('Secteur dactivité'!$B$2:$B$72)-MIN(ROW('Secteur dactivité'!$B$2:$B$72))+1))))) -> 2700-2749
A32: 7372 | B32: =IF(1-(ISNUMBER(A32)),"",IF(SUMPRODUCT(('Secteur dactivité'!$B$2:$B$72<=Feuil1!A32)*('Secteur dactivité'!$C$2:$C$72>=Feuil1!A32))=0,"Non-trouvée",INDEX('Secteur dactivité'!$A$2:$A$72,SUMPRODUCT(('Secteur dactivité'!$B$2:$B$72<=Feuil1!A32)*('Secteur dactivité'!$C$2:$C$72>=Feuil1!A32)*(ROW('Secteur dactivité'!$B$2:$B$72)-MIN(ROW('Secteur dactivité'!$B$2:$B$72))+1))))) -> 7370-7379
... A38: 3721 | B38: =IF(1-(ISNUMBER(A38)),"",IF(SUMPRODUCT(('Secteur dactivité'!$B$2:$B$72<=Feuil1!A38)*('Secteur dactivité'!$C$2:$C$72>=Feuil1!A38))=0,"Non-trouvée",INDEX('Secteur dactivité'!$A$2:$A$72,SUMPRODUCT(('Secteur dactivité'!$B$2:$B$72<=Feuil1!A38)*('Secteur dactivité'!$C$2:$C$72>=Feuil1!A38)*(ROW('Secteur dactivité'!$B$2:$B$72)-MIN(ROW('Secteur dactivité'!$B$2:$B$72))+1))))) -> 3717-3749
A39: Cardoso | B39: =IF(1-(ISNUMBER(A39)),"",IF(SUMPRODUCT(('Secteur dactivité'!$B$2:$B$72<=Feuil1!A39)*('Secteur dactivité'!$C$2:$C$72>=Feuil1!A39))=0,"Non-trouvée",INDEX('Secteur dactivité'!$A$2:$A$72,SUMPRODUCT(('Secteur dactivité'!$B$2:$B$72<=Feuil1!A39)*('Secteur dactivité'!$C$2:$C$72>=Feuil1!A39)*(ROW('Secteur dactivité'!$B$2:$B$72)-MIN(ROW('Secteur dactivité'!$B$2:$B$72))+1)))))
A40: Aldo | B40: =IF(1-(ISNUMBER(A40)),"",IF(SUMPRODUCT(('Secteur dactivité'!$B$2:$B$72<=Feuil1!A40)*('Secteur dactivité'!$C$2:$C$72>=Feuil1!A40))=0,"Non-trouvée",INDEX('Secteur dactivité'!$A$2:$A$72,SUMPRODUCT(('Secteur dactivité'!$B$2:$B$72<=Feuil1!A40)*('Secteur dactivité'!$C$2:$C$72>=Feuil1!A40)*(ROW('Secteur dactivité'!$B$2:$B$72)-MIN(ROW('Secteur dactivité'!$B$2:$B$72))+1)))))
A41: 7322 | B41: =IF(1-(ISNUMBER(A41)),"",IF(SUMPRODUCT(('Secteur dactivité'!$B$2:$B$72<=Feuil1!A41)*('Secteur dactivité'!$C$2:$C$72>=Feuil1!A41))=0,"Non-trouvée",INDEX('Secteur dactivité'!$A$2:$A$72,SUMPRODUCT(('Secteur dactivité'!$B$2:$B$72<=Feuil1!A41)*('Secteur dactivité'!$C$2:$C$72>=Feuil1!A41)*(ROW('Secteur dactivité'!$B$2:$B$72)-MIN(ROW('Secteur dactivité'!$B$2:$B$72))+1))))) -> Non-trouvée
A42: 4931 | B42: =IF(1-(ISNUMBER(A42)),"",IF(SUMPRODUCT(('Secteur dactivité'!$B$2:$B$72<=Feuil1!A42)*('Secteur dactivité'!$C$2:$C$72>=Feuil1!A42))=0,"Non-trouvée",INDEX('Secteur dactivité'!$A$2:$A$72,SUMPRODUCT(('Secteur dactivité'!$B$2:$B$72<=Feuil1!A42)*('Secteur dactivité'!$C$2:$C$72>=Feuil1!A42)*(ROW('Secteur dactivité'!$B$2:$B$72)-MIN(ROW('Secteur dactivité'!$B$2:$B$72))+1))))) -> 4900-4949
A43: 3251 | B43: =IF(1-(ISNUMBER(A43)),"",IF(SUMPRODUCT(('Secteur dactivité'!$B$2:$B$72<=Feuil1!A43)*('Secteur dactivité'!$C$2:$C$72>=Feuil1!A43))=0,"Non-trouvée",INDEX('Secteur dactivité'!$A$2:$A$72,SUMPRODUCT(('Secteur dactivité'!$B$2:$B$72<=Feuil1!A43)*('Secteur dactivité'!$C$2:$C$72>=Feuil1!A43)*(ROW('Secteur dactivité'!$B$2:$B$72)-MIN(ROW('Secteur dactivité'!$B$2:$B$72))+1))))) -> 3200-3569
A44: 2819 | B44: =IF(1-(ISNUMBER(A44)),"",IF(SUMPRODUCT(('Secteur dactivité'!$B$2:$B$72<=Feuil1!A44)*('Secteur dactivité'!$C$2:$C$72>=Feuil1!A44))=0,"Non-trouvée",INDEX('Secteur dactivité'!$A$2:$A$72,SUMPRODUCT(('Secteur dactivité'!$B$2:$B$72<=Feuil1!A44)*('Secteur dactivité'!$C$2:$C$72>=Feuil1!A44)*(ROW('Secteur dactivité'!$B$2:$B$72)-MIN(ROW('Secteur dactivité'!$B$2:$B$72))+1))))) -> 2800-2829
A45: 8734 | B45: =IF(1-(ISNUMBER(A45)),"",IF(SUMPRODUCT(('Secteur dactivité'!$B$2:$B$72<=Feuil1!A45)*('Secteur dactivité'!$C$2:$C$72>=Feuil1!A45))=0,"Non-trouvée",INDEX('Secteur dactivité'!$A$2:$A$72,SUMPRODUCT(('Secteur dactivité'!$B$2:$B$72<=Feuil1!A45)*('Secteur dactivité'!$C$2:$C$72>=Feuil1!A45)*(ROW('Secteur dactivité'!$B$2:$B$72)-MIN(ROW('Secteur dactivité'!$B$2:$B$72))+1))))) -> Non-trouvée
A46: 6719 | B46: =IF(1-(ISNUMBER(A46)),"",IF(SUMPRODUCT(('Secteur dactivité'!$B$2:$B$72<=Feuil1!A46)*('Secteur dactivité'!$C$2:$C$72>=Feuil1!A46))=0,"Non-trouvée",INDEX('Secteur dactivité'!$A$2:$A$72,SUMPRODUCT(('Secteur dactivité'!$B$2:$B$72<=Feuil1!A46)*('Secteur dactivité'!$C$2:$C$72>=Feuil1!A46)*(ROW('Secteur dactivité'!$B$2:$B$72)-MIN(ROW('Secteur dactivité'!$B$2:$B$72))+1))))) -> 6000-6999
A47: 4212 | B47: =IF(1-(ISNUMBER(A47)),"",IF(SUMPRODUCT(('Secteur dactivité'!$B$2:$B$72<=Feuil1!A47)*('Secteur dactivité'!$C$2:$C$72>=Feuil1!A47))=0,"Non-trouvée",INDEX('Secteur dactivité'!$A$2:$A$72,SUMPRODUCT(('Secteur dactivité'!$B$2:$B$72<=Feuil1!A47)*('Secteur dactivité'!$C$2:$C$72>=Feuil1!A47)*(ROW('Secteur dactivité'!$B$2:$B$72)-MIN(ROW('Secteur dactivité'!$B$2:$B$72))+1))))) -> Non-trouvée
A48: 4813 | B48: =IF(1-(ISNUMBER(A48)),"",IF(SUMPRODUCT(('Secteur dactivité'!$B$2:$B$72<=Feuil1!A48)*('Secteur dactivité'!$C$2:$C$72>=Feuil1!A48))=0,"Non-trouvée",INDEX('Secteur dactivité'!$A$2:$A$72,SUMPRODUCT(('Secteur dactivité'!$B$2:$B$72<=Feuil1!A48)*('Secteur dactivité'!$C$2:$C$72>=Feuil1!A48)*(ROW('Secteur dactivité'!$B$2:$B$72)-MIN(ROW('Secteur dactivité'!$B$2:$B$72))+1))))) -> 4800-4899
...

Sheet Secteur dactivité
A1: 1NoDurConsumerNonDurables--Food,Tobacco,Textiles,Apparel,Leather,Toys
A2: 0100-0999 | B2: 100 | C2: 999
A3: 2000-2399 | B3: 2000 | C3: 2399
A4: 2700-2749 | B4: 2700 | C4: 2749
A5: 2770-2799 | B5: 2770 | C5: 2799
A6: 3100-3199 | B6: 3100 | C6: 3199
A7: 3940-3989 | B7: 3940 | C7: 3989
A9: 2DurblConsumerDurables--Cars,TV's,Furniture,HouseholdAppliances
A10: 2500-2519 | B10: 2500 | C10: 2519
A11: 2590-2599 | B11: 2590 | C11: 2599
A12: 3630-3659 | B12: 3630 | C12: 3659
A13: 3710-3711 | B13: 3710 | C13: 3711
A14: 3714-3714 | B14: 3714 | C14: 3714
A15: 3716-3716 | B15: 3716 | C15: 3716
A16: 3750-3751 | B16: 3750 | C16: 3751
A17: 3792-3792 | B17: 3792 | C17: 3792
A18: 3900-3939 | B18: 3900 | C18: 3939
A19: 3990-3999 | B19: 3990 | C19: 3999
A21: 3ManufManufacturing--Machinery,Trucks,Planes,OffFurn,Paper,ComPrinting
A22: 2520-2589 | B22: 2520 | C22: 2589
A23: 2600-2699 | B23: 2600 | C23: 2699
A24: 2750-2769 | B24: 2750 | C24: 2769
A25: 3000-3099 | B25: 3000 | C25: 3099
A26: 3200-3569 | B26: 3200 | C26: 3569
A27: 3580-3629 | B27: 3580 | C27: 3629
A28: 3700-3709 | B28: 3700 | C28: 3709
A29: 3712-3713 | B29: 3712 | C29: 3713
A30: 3715-3715 | B30: 3715 | C30: 3715
A31: 3717-3749 | B31: 3717 | C31: 3749
A32: 3752-3791 | B32: 3752 | C32: 3791
A33: 3793-3799 | B33: 3793 | C33: 3799
... A35: 3860-3899 | B35: 3860 | C35: 3899
A37: 4EnrgyOil,Gas,andCoalExtractionandProducts
A38: 1200-1399 | B38: 1200 | C38: 1399
A39: 2900-2999 | B39: 2900 | C39: 2999
A41: 5ChemsChemicalsandAlliedProducts
A42: 2800-2829 | B42: 2800 | C42: 2829
A43: 2840-2899 | B43: 2840 | C43: 2899
A45: 6BusEqBusinessEquipment--Computers,Software,andElectronicEquipment
A46: 3570-3579 | B46: 3570 | C46: 3579
...

Sheet Feuil3
