Workbook

Sheet Feuil1
A3: Bouillot | B3: =IF(ISNUMBER(A3),INDEX('Secteur dactivité'!$A$2:$A$72,SUMPRODUCT(('Secteur dactivité'!$B$2:$B$72<=Feuil1!A3)*('Secteur dactivité'!$C$2:$C$72>=Feuil1!A3))),"")
A4: Isabelle | B4: =IF(ISNUMBER(A4),INDEX('Secteur dactivité'!$A$2:$A$72,SUMPRODUCT(('Secteur dactivité'!$B$2:$B$72<=Feuil1!A4)*('Secteur dactivité'!$C$2:$C$72>=Feuil1!A4))),"")
A5: 6371 | B5: =IF(1-(ISNUMBER(A5)),"",IF(SUMPRODUCT(('Secteur dactivité'!$B$2:$B$72<=Feuil1!A5)*('Secteur dactivité'!$C$2:$C$72>=Feuil1!A5))=0,"Non-trouvée",INDEX('Secteur dactivité'!$A$2:$A$72,SUMPRODUCT(('Secteur dactivité'!$B$2:$B$72<=Feuil1!A5)*('Secteur dactivité'!$C$2:$C$72>=Feuil1!A5)*(ROW('Secteur dactivité'!$B$2:$B$72)-MIN(ROW('Secteur dactivité'!$B$2:$B$72))+1))))) -> 6000-6999
A6: 6211 | B6: =IF(1-(ISNUMBER(A6)),"",IF(SUMPRODUCT(('Secteur dactivité'!$B$2:$B$72<=Feuil1!A6)*('Secteur dactivité'!$C$2:$C$72>=Feuil1!A6))=0,"Non-trouvée",INDEX('Secteur dactivité'!$A$2:$A$72,SUMPRODUCT(('Secteur dactivité'!$B$2:$B$72<=Feuil1!A6)*('Secteur dactivité'!$C$2:$C$72>=Feuil1!A6)*(ROW('Secteur dactivité'!$B$2:$B$72)-MIN(ROW('Secteur dactivité'!$B$2:$B$72))+1))))) -> 6000-6999
A7: 6726 | B7: =IF(1-(ISNUMBER(A7)),"",IF(SUMPRODUCT(('Secteur dactivité'!$B$2:$B$72<=Feuil1!A7)*('Secteur dactivité'!$C$2:$C$72>=Feuil1!A7))=0,"Non-trouvée",INDEX('Secteur dactivité'!$A$2:$A$72,SUMPRODUCT(('Secteur dactivité'!$B$2:$B$72<=Feuil1!A7)*('Secteur dactivité'!$C$2:$C$72>=Feuil1!A7)*(ROW('Secteur dactivité'!$B$2:$B$72)-MIN(ROW('Secteur dactivité'!$B$2:$B$72))+1))))) -> 6000-6999
A8: 3211 | B8: =IF(1-(ISNUMBER(A8)),"",IF(SUMPRODUCT(('Secteur dactivité'!$B$2:$B$72<=Feuil1!A8)*('Secteur dactivité'!$C$2:$C$72>=Feuil1!A8))=0,"Non-trouvée",INDEX('Secteur dactivité'!$A$2:$A$72,SUMPRODUCT(('Secteur dactivité'!$B$2:$B$72<=Feuil1!A8)*('Secteur dactivité'!$C$2:$C$72>=Feuil1!A8)*(ROW('Secteur dactivité'!$B$2:$B$72)-MIN(ROW('Secteur dactivité'!$B$2:$B$72))+1))))) -> 3200-3569
A9: 8742 | B9: =IF(1-(ISNUMBER(A9)),"",IF(SUMPRODUCT(('Secteur dactivité'!$B$2:$B$72<=Feuil1!A9)*('Secteur dactivité'!$C$2:$C$72>=Feuil1!A9))=0,"Non-trouvée",INDEX('Secteur dactivité'!$A$2:$A$72,SUMPRODUCT(('Secteur dactivité'!$B$2:$B$72<=Feuil1!A9)*('Secteur dactivité'!$C$2:$C$72>=Feuil1!A9)*(ROW('Secteur dactivité'!$B$2:$B$72)-MIN(ROW('Secteur dactivité'!$B$2:$B$72))+1))))) -> Non-trouvée
A10: 3331 | B10: =IF(1-(ISNUMBER(A10)),"",IF(SUMPRODUCT(('Secteur dactivité'!$B$2:$B$72<=Feuil1!A10)*('Secteur dactivité'!$C$2:$C$72>=Feuil1!A10))=0,"Non-trouvée",INDEX('Secteur dactivité'!$A$2:$A$72,SUMPRODUCT(('Secteur dactivité'!$B$2:$B$72<=Feuil1!A10)*('Secteur dactivité'!$C$2:$C$72>=Feuil1!A10)*(ROW('Secteur dactivité'!$B$2:$B$72)-MIN(ROW('Secteur dactivité'!$B$2:$B$72))+1))))) -> 3200-3569
A11: 3559 | B11: =IF(1-(ISNUMBER(A11)),"",IF(SUMPRODUCT(('Secteur dactivité'!$B$2:$B$72<=Feuil1!A11)*('Secteur dactivité'!$C$2:$C$72>=Feuil1!A11))=0,"Non-trouvée",INDEX('Secteur dactivité'!$A$2:$A$72,SUMPRODUCT(('Secteur dactivité'!$B$2:$B$72<=Feuil1!A11)*('Secteur dactivité'!$C$2:$C$72>=Feuil1!A11)*(ROW('Secteur dactivité'!$B$2:$B$72)-MIN(ROW('Secteur dactivité'!$B$2:$B$72))+1))))) -> 3200-3569
A12: 6311 | B12: =IF(1-(ISNUMBER(A12)),"",IF(SUMPRODUCT(('Secteur dactivité'!$B$2:$B$72<=Feuil1!A12)*('Secteur dactivité'!$C$2:$C$72>=Feuil1!A12))=0,"Non-trouvée",INDEX('Secteur dactivité'!$A$2:$A$72,SUMPRODUCT(('Secteur dactivité'!$B$2:$B$72<=Feuil1!A12)*('Secteur dactivité'!$C$2:$C$72>=Feuil1!A12)*(ROW('Secteur dactivité'!$B$2:$B$72)-MIN(ROW('Secteur dactivité'!$B$2:$B$72))+1))))) -> 6000-6999
A13: 6211 | B13: =IF(1-(ISNUMBER(A13)),"",IF(SUMPRODUCT(('Secteur dactivité'!$B$2:$B$72<=Feuil1!A13)*('Secteur dactivité'!$C$2:$C$72>=Feuil1!A13))=0,"Non-trouvée",INDEX('Secteur dactivité'!$A$2:$A$72,SUMPRODUCT(('Secteur dactivité'!$B$2:$B$72<=Feuil1!A13)*('Secteur dactivité'!$C$2:$C$72>=Feuil1!A13)*(ROW('Secteur dactivité'!$B$2:$B$72)-MIN(ROW('Secteur dactivité'!$B$2:$B$72))+1))))) -> 6000-6999
A14: 6726 | B14: =IF(1-(ISNUMBER(A14)),"",IF(SUMPRODUCT(('Secteur dactivité'!$B$2:$B$72<=Feuil1!A14)*('Secteur dactivité'!$C$2:$C$72>=Feuil1!A14))=0,"Non-trouvée",INDEX('Secteur dactivité'!$A$2:$A$72,SUMPRODUCT(('Secteur dactivité'!$B$2:$B$72<=Feuil1!A14)*('Secteur dactivité'!$C$2:$C$72>=Feuil1!A14)*(ROW('Secteur dactivité'!$B$2:$B$72)-MIN(ROW('Secteur dactivité'!$B$2:$B$72))+1))))) -> 6000-6999
A15: 1742 | B15: =IF(1-(ISNUMBER(A15)),"",IF(SUMPRODUCT(('Secteur dactivité'!$B$2:$B$72<=Feuil1!A15)*('Secteur dactivité'!$C$2:$C$72>=Feuil1!A15))=0,"Non-trouvée",INDEX('Secteur dactivité'!$A$2:$A$72,SUMPRODUCT(('Secteur dactivité'!$B$2:$B$72<=Feuil1!A15)*('Secteur dactivité'!$C$2:$C$72>=Feuil1!A15)*(ROW('Secteur dactivité'!$B$2:$B$72)-MIN(ROW('Secteur dactivité'!$B$2:$B$72))+1))))) -> Non-trouvée
A16: 4311 | B16: =IF(1-(ISNUMBER(A16)),"",IF(SUMPRODUCT(('Secteur dactivité'!$B$2:$B$72<=Feuil1!A16)*('Secteur dactivité'!$C$2:$C$72>=Feuil1!A16))=0,"Non-trouvée",INDEX('Secteur dactivité'!$A$2:$A$72,SUMPRODUCT(('Secteur dactivité'!$B$2:$B$72<=Feuil1!A16)*('Secteur dactivité'!$C$2:$C$72>=Feuil1!A16)*(ROW('Secteur dactivité'!$B$2:$B$72)-MIN(ROW('Secteur dactivité'!$B$2:$B$72))+1))))) -> Non-trouvée
... A18: 7389 | B18: =IF(1-(ISNUMBER(A18)),"",IF(SUMPRODUCT(('Secteur dactivité'!$B$2:$B$72<=Feuil1!A18)*('Secteur dactivité'!$C$2:$C$72>=Feuil1!A18))=0,"Non-trouvée",INDEX('Secteur dactivité'!$A$2:$A$72,SUMPRODUCT(('Secteur dactivité'!$B$2:$B$72<=Feuil1!A18)*('Secteur dactivité'!$C$2:$C$72>=Feuil1!A18)*(ROW('Secteur dactivité'!$B$2:$B$72)-MIN(ROW('Secteur dactivité'!$B$2:$B$72))+1))))) -> Non-trouvée
A19: Camus | B19: =IF(1-(ISNUMBER(A19)),"",IF(SUMPRODUCT(('Secteur dactivité'!$B$2:$B$72<=Feuil1!A19)*('Secteur dactivité'!$C$2:$C$72>=Feuil1!A19))=0,"Non-trouvée",INDEX('Secteur dactivité'!$A$2:$A$72,SUMPRODUCT(('Secteur dactivité'!$B$2:$B$72<=Feuil1!A19)*('Secteur dactivité'!$C$2:$C$72>=Feuil1!A19)*(ROW('Secteur dactivité'!$B$2:$B$72)-MIN(ROW('Secteur dactivité'!$B$2:$B$72))+1)))))
A20: Philippe | B20: =IF(1-(ISNUMBER(A20)),"",IF(SUMPRODUCT(('Secteur dactivité'!$B$2:$B$72<=Feuil1!A20)*('Secteur dactivité'!$C$2:$C$72>=Feuil1!A20))=0,"Non-trouvée",INDEX('Secteur dactivité'!$A$2:$A$72,SUMPRODUCT(('Secteur dactivité'!$B$2:$B$72<=Feuil1!A20)*('Secteur dactivité'!$C$2:$C$72>=Feuil1!A20)*(ROW('Secteur dactivité'!$B$2:$B$72)-MIN(ROW('Secteur dactivité'!$B$2:$B$72))+1)))))
A21: 2731 | B21: =IF(1-(ISNUMBER(A21)),"",IF(SUMPRODUCT(('Secteur dactivité'!$B$2:$B$72<=Feuil1!A21)*('Secteur dactivité'!$C$2:$C$72>=Feuil1!A21))=0,"Non-trouvée",INDEX('Secteur dactivité'!$A$2:$A$72,SUMPRODUCT(('Secteur dactivité'!$B$2:$B$72<=Feuil1!A21)*('Secteur dactivité'!$C$2:$C$72>=Feuil1!A21)*(ROW('Secteur dactivité'!$B$2:$B$72)-MIN(ROW('Secteur dactivité'!$B$2:$B$72))+1))))) -> 2700-2749
A22: 6371 | B22: =IF(1-(ISNUMBER(A22)),"",IF(SUMPRODUCT(('Secteur dactivité'!$B$2:$B$72<=Feuil1!A22)*('Secteur dactivité'!$C$2:$C$72>=Feuil1!A22))=0,"Non-trouvée",INDEX('Secteur dactivité'!$A$2:$A$72,SUMPRODUCT(('Secteur dactivité'!$B$2:$B$72<=Feuil1!A22)*('Secteur dactivité'!$C$2:$C$72>=Feuil1!A22)*(ROW('Secteur dactivité'!$B$2:$B$72)-MIN(ROW('Secteur dactivité'!$B$2:$B$72))+1))))) -> 6000-6999
A23: 3721 | B23: =IF(1-(ISNUMBER(A23)),"",IF(SUMPRODUCT(('Secteur dactivité'!$B$2:$B$72<=Feuil1!A23)*('Secteur dactivité'!$C$2:$C$72>=Feuil1!A23))=0,"Non-trouvée",INDEX('Secteur dactivité'!$A$2:$A$72,SUMPRODUCT(('Secteur dactivité'!$B$2:$B$72<=Feuil1!A23)*('Secteur dactivité'!$C$2:$C$72>=Feuil1!A23)*(ROW('Secteur dactivité'!$B$2:$B$72)-MIN(ROW('Secteur dactivité'!$B$2:$B$72))+1))))) -> 3717-3749
A24: 6719 | B24: =IF(1-(ISNUMBER(A24)),"",IF(SUMPRODUCT(('Secteur dactivité'!$B$2:$B$72<=Feuil1!A24)*('Secteur dactivité'!$C$2:$C$72>=Feuil1!A24))=0,"Non-trouvée",INDEX('Secteur dactivité'!$A$2:$A$72,SUMPRODUCT(('Secteur dactivité'!$B$2:$B$72<=Feuil1!A24)*('Secteur dactivité'!$C$2:$C$72>=Feuil1!A24)*(ROW('Secteur dactivité'!$B$2:$B$72)-MIN(ROW('Secteur dactivité'!$B$2:$B$72))+1))))) -> 6000-6999
A25: 6519 | B25: =IF(1-(ISNUMBER(A25)),"",IF(SUMPRODUCT(('Secteur dactivité'!$B$2:$B$72<=Feuil1!A25)*('Secteur dactivité'!$C$2:$C$72>=Feuil1!A25))=0,"Non-trouvée",INDEX('Secteur dactivité'!$A$2:$A$72,SUMPRODUCT(('Secteur dactivité'!$B$2:$B$72<=Feuil1!A25)*('Secteur dactivité'!$C$2:$C$72>=Feuil1!A25)*(ROW('Secteur dactivité'!$B$2:$B$72)-MIN(ROW('Secteur dactivité'!$B$2:$B$72))+1))))) -> 6000-6999
A26: 6021 | B26: =IF(1-(ISNUMBER(A26)),"",IF(SUMPRODUCT(('Secteur dactivité'!$B$2:$B$72<=Feuil1!A26)*('Secteur dactivité'!$C$2:$C$72>=Feuil1!A26))=0,"Non-trouvée",INDEX('Secteur dactivité'!$A$2:$A$72,SUMPRODUCT(('Secteur dactivité'!$B$2:$B$72<=Feuil1!A26)*('Secteur dactivité'!$C$2:$C$72>=Feuil1!A26)*(ROW('Secteur dactivité'!$B$2:$B$72)-MIN(ROW('Secteur dactivité'!$B$2:$B$72))+1))))) -> 6000-6999
A27: 2721 | B27: =IF(1-(ISNUMBER(A27)),"",IF(SUMPRODUCT(('Secteur dactivité'!$B$2:$B$72<=Feuil1!A27)*('Secteur dactivité'!$C$2:$C$72>=Feuil1!A27))=0,"Non-trouvée",INDEX('Secteur dactivité'!$A$2:$A$72,SUMPRODUCT(('Secteur dactivité'!$B$2:$B$72<=Feuil1!A27)*('Secteur dactivité'!$C$2:$C$72>=Feuil1!A27)*(ROW('Secteur dactivité'!$B$2:$B$72)-MIN(ROW('Secteur dactivité'!$B$2:$B$72))+1))))) -> 2700-2749
A28: 5947 | B28: =IF(1-(ISNUMBER(A28)),"",IF(SUMPRODUCT(('Secteur dactivité'!$B$2:$B$72<=Feuil1!A28)*('Secteur dactivité'!$C$2:$C$72>=Feuil1!A28))=0,"Non-trouvée",INDEX('Secteur dactivité'!$A$2:$A$72,SUMPRODUCT(('Secteur dactivité'!$B$2:$B$72<=Feuil1!A28)*('Secteur dactivité'!$C$2:$C$72>=Feuil1!A28)*(ROW('Secteur dactivité'!$B$2:$B$72)-MIN(ROW('Secteur dactivité'!$B$2:$B$72))+1))))) -> 5000-5999
A29: 2731 | B29: =IF(1-(ISNUMBER(A29)),"",IF(SUMPRODUCT(('Secteur dactivité'!$B$2:$B$72<=Feuil1!A29)*('Secteur dactivité'!$C$2:$C$72>=Feuil1!A29))=0,"Non-trouvée",INDEX('Secteur dactivité'!$A$2:$A$72,SUMPRODUCT(('Secteur dactivité'!$B$2:$B$72<=Feuil1!A29)*('Secteur dactivité'!$C$2:$C$72>=Feuil1!A29)*(ROW('Secteur dactivité'!$B$2:$B$72)-MIN(ROW('Secteur dactivité'!$B$2:$B$72))+1))))) -> 2700-2749
A30: 4832 | B30: =IF(1-(ISNUMBER(A30)),"",IF(SUMPRODUCT(('Secteur dactivité'!$B$2:$B$72<=Feuil1!A30)*('Secteur dactivité'!$C$2:$C$72>=Feuil1!A30))=0,"Non-trouvée",INDEX('Secteur dactivité'!$A$2:$A$72,SUMPRODUCT(('Secteur dactivité'!$B$2:$B$72<=Feuil1!A30)*('Secteur dactivité'!$C$2:$C$72>=Feuil1!A30)*(ROW('Secteur dactivité'!$B$2:$B$72)-MIN(ROW('Secteur dactivité'!$B$2:$B$72))+1))))) -> 4800-4899
A31: 2721 | B31: =IF(1-(ISNUMBER(A31)),"",IF(SUMPRODUCT(('Secteur dactivité'!$B$2:$B$72<=Feuil1!A31)*('Secteur dactivité'!$C$2:$C$72>=Feuil1!A31))=0,"Non-trouvée",INDEX('Secteur dactivité'!$A$2:$A$72,SUMPRODUCT(('Secteur dactivité'!$B$2:$B$72<=Feuil1!A31)*('Secteur dactivité'!$C$2:$C$72>=Feuil1!A31)*(ROW('Secteur dactivité'!$B$2:$B$72)-MIN(ROW('Secteur dactivité'!$B$2:$B$72))+1))))) -> 2700-2749
A32: 7372 | B32: =IF(1-(ISNUMBER(A32)),"",IF(SUMPRODUCT(('Secteur dactivité'!$B$2:$B$72<=Feuil1!A32)*('Secteur dactivité'!$C$2:$C$72>=Feuil1!A32))=0,"Non-trouvée",INDEX('Secteur dactivité'!$A$2:$A$72,SUMPRODUCT(('Secteur dactivité'!$B$2:$B$72<=Feuil1!A32)*('Secteur dactivité'!$C$2:$C$72>=Feuil1!A32)*(ROW('Secteur dactivité'!$B$2:$B$72)-MIN(ROW('Secteur dactivité'!$B$2:$B$72))+1))))) -> 7370-7379
... A38: 3721 | B38: =IF(1-(ISNUMBER(A38)),"",IF(SUMPRODUCT(('Secteur dactivité'!$B$2:$B$72<=Feuil1!A38)*('Secteur dactivité'!$C$2:$C$72>=Feuil1!A38))=0,"Non-trouvée",INDEX('Secteur dactivité'!$A$2:$A$72,SUMPRODUCT(('Secteur dactivité'!$B$2:$B$72<=Feuil1!A38)*('Secteur dactivité'!$C$2:$C$72>=Feuil1!A38)*(ROW('Secteur dactivité'!$B$2:$B$72)-MIN(ROW('Secteur dactivité'!$B$2:$B$72))+1))))) -> 3717-3749
A39: Cardoso | B39: =IF(1-(ISNUMBER(A39)),"",IF(SUMPRODUCT(('Secteur dactivité'!$B$2:$B$72<=Feuil1!A39)*('Secteur dactivité'!$C$2:$C$72>=Feuil1!A39))=0,"Non-trouvée",INDEX('Secteur dactivité'!$A$2:$A$72,SUMPRODUCT(('Secteur dactivité'!$B$2:$B$72<=Feuil1!A39)*('Secteur dactivité'!$C$2:$C$72>=Feuil1!A39)*(ROW('Secteur dactivité'!$B$2:$B$72)-MIN(ROW('Secteur dactivité'!$B$2:$B$72))+1)))))
A40: Aldo | B40: =IF(1-(ISNUMBER(A40)),"",IF(SUMPRODUCT(('Secteur dactivité'!$B$2:$B$72<=Feuil1!A40)*('Secteur dactivité'!$C$2:$C$72>=Feuil1!A40))=0,"Non-trouvée",INDEX('Secteur dactivité'!$A$2:$A$72,SUMPRODUCT(('Secteur dactivité'!$B$2:$B$72<=Feuil1!A40)*('Secteur dactivité'!$C$2:$C$72>=Feuil1!A40)*(ROW('Secteur dactivité'!$B$2:$B$72)-MIN(ROW('Secteur dactivité'!$B$2:$B$72))+1)))))
A41: 7322 | B41: =IF(1-(ISNUMBER(A41)),"",IF(SUMPRODUCT(('Secteur dactivité'!$B$2:$B$72<=Feuil1!A41)*('Secteur dactivité'!$C$2:$C$72>=Feuil1!A41))=0,"Non-trouvée",INDEX('Secteur dactivité'!$A$2:$A$72,SUMPRODUCT(('Secteur dactivité'!$B$2:$B$72<=Feuil1!A41)*('Secteur dactivité'!$C$2:$C$72>=Feuil1!A41)*(ROW('Secteur dactivité'!$B$2:$B$72)-MIN(ROW('Secteur dactivité'!$B$2:$B$72))+1))))) -> Non-trouvée
A42: 4931 | B42: =IF(1-(ISNUMBER(A42)),"",IF(SUMPRODUCT(('Secteur dactivité'!$B$2:$B$72<=Feuil1!A42)*('Secteur dactivité'!$C$2:$C$72>=Feuil1!A42))=0,"Non-trouvée",INDEX('Secteur dactivité'!$A$2:$A$72,SUMPRODUCT(('Secteur dactivité'!$B$2:$B$72<=Feuil1!A42)*('Secteur dactivité'!$C$2:$C$72>=Feuil1!A42)*(ROW('Secteur dactivité'!$B$2:$B$72)-MIN(ROW('Secteur dactivité'!$B$2:$B$72))+1))))) -> 4900-4949
A43: 3251 | B43: =IF(1-(ISNUMBER(A43)),"",IF(SUMPRODUCT(('Secteur dactivité'!$B$2:$B$72<=Feuil1!A43)*('Secteur dactivité'!$C$2:$C$72>=Feuil1!A43))=0,"Non-trouvée",INDEX('Secteur dactivité'!$A$2:$A$72,SUMPRODUCT(('Secteur dactivité'!$B$2:$B$72<=Feuil1!A43)*('Secteur dactivité'!$C$2:$C$72>=Feuil1!A43)*(ROW('Secteur dactivité'!$B$2:$B$72)-MIN(ROW('Secteur dactivité'!$B$2:$B$72))+1))))) -> 3200-3569
A44: 2819 | B44: =IF(1-(ISNUMBER(A44)),"",IF(SUMPRODUCT(('Secteur dactivité'!$B$2:$B$72<=Feuil1!A44)*('Secteur dactivité'!$C$2:$C$72>=Feuil1!A44))=0,"Non-trouvée",INDEX('Secteur dactivité'!$A$2:$A$72,SUMPRODUCT(('Secteur dactivité'!$B$2:$B$72<=Feuil1!A44)*('Secteur dactivité'!$C$2:$C$72>=Feuil1!A44)*(ROW('Secteur dactivité'!$B$2:$B$72)-MIN(ROW('Secteur dactivité'!$B$2:$B$72))+1))))) -> 2800-2829
A45: 8734 | B45: =IF(1-(ISNUMBER(A45)),"",IF(SUMPRODUCT(('Secteur dactivité'!$B$2:$B$72<=Feuil1!A45)*('Secteur dactivité'!$C$2:$C$72>=Feuil1!A45))=0,"Non-trouvée",INDEX('Secteur dactivité'!$A$2:$A$72,SUMPRODUCT(('Secteur dactivité'!$B$2:$B$72<=Feuil1!A45)*('Secteur dactivité'!$C$2:$C$72>=Feuil1!A45)*(ROW('Secteur dactivité'!$B$2:$B$72)-MIN(ROW('Secteur dactivité'!$B$2:$B$72))+1))))) -> Non-trouvée
A46: 6719 | B46: =IF(1-(ISNUMBER(A46)),"",IF(SUMPRODUCT(('Secteur dactivité'!$B$2:$B$72<=Feuil1!A46)*('Secteur dactivité'!$C$2:$C$72>=Feuil1!A46))=0,"Non-trouvée",INDEX('Secteur dactivité'!$A$2:$A$72,SUMPRODUCT(('Secteur dactivité'!$B$2:$B$72<=Feuil1!A46)*('Secteur dactivité'!$C$2:$C$72>=Feuil1!A46)*(ROW('Secteur dactivité'!$B$2:$B$72)-MIN(ROW('Secteur dactivité'!$B$2:$B$72))+1))))) -> 6000-6999
A47: 4212 | B47: =IF(1-(ISNUMBER(A47)),"",IF(SUMPRODUCT(('Secteur dactivité'!$B$2:$B$72<=Feuil1!A47)*('Secteur dactivité'!$C$2:$C$72>=Feuil1!A47))=0,"Non-trouvée",INDEX('Secteur dactivité'!$A$2:$A$72,SUMPRODUCT(('Secteur dactivité'!$B$2:$B$72<=Feuil1!A47)*('Secteur dactivité'!$C$2:$C$72>=Feuil1!A47)*(ROW('Secteur dactivité'!$B$2:$B$72)-MIN(ROW('Secteur dactivité'!$B$2:$B$72))+1))))) -> Non-trouvée
A48: 4813 | B48: =IF(1-(ISNUMBER(A48)),"",IF(SUMPRODUCT(('Secteur dactivité'!$B$2:$B$72<=Feuil1!A48)*('Secteur dactivité'!$C$2:$C$72>=Feuil1!A48))=0,"Non-trouvée",INDEX('Secteur dactivité'!$A$2:$A$72,SUMPRODUCT(('Secteur dactivité'!$B$2:$B$72<=Feuil1!A48)*('Secteur dactivité'!$C$2:$C$72>=Feuil1!A48)*(ROW('Secteur dactivité'!$B$2:$B$72)-MIN(ROW('Secteur dactivité'!$B$2:$B$72))+1))))) -> 4800-4899
A49: Galateri di Genola | B49: =IF(1-(ISNUMBER(A49)),"",IF(SUMPRODUCT(('Secteur dactivité'!$B$2:$B$72<=Feuil1!A49)*('Secteur dactivité'!$C$2:$C$72>=Feuil1!A49))=0,"Non-trouvée",INDEX('Secteur dactivité'!$A$2:$A$72,SUMPRODUCT(('Secteur dactivité'!$B$2:$B$72<=Feuil1!A49)*('Secteur dactivité'!$C$2:$C$72>=Feuil1!A49)*(ROW('Secteur dactivité'!$B$2:$B$72)-MIN(ROW('Secteur dactivité'!$B$2:$B$72))+1)))))
A50: Gabriele | B50: =IF(1-(ISNUMBER(A50)),"",IF(SUMPRODUCT(('Secteur dactivité'!$B$2:$B$72<=Feuil1!A50)*('Secteur dactivité'!$C$2:$C$72>=Feuil1!A50))=0,"Non-trouvée",INDEX('Secteur dactivité'!$A$2:$A$72,SUMPRODUCT(('Secteur dactivité'!$B$2:$B$72<=Feuil1!A50)*('Secteur dactivité'!$C$2:$C$72>=Feuil1!A50)*(ROW('Secteur dactivité'!$B$2:$B$72)-MIN(ROW('Secteur dactivité'!$B$2:$B$72))+1)))))
A51: 3211 | B51: =IF(1-(ISNUMBER(A51)),"",IF(SUMPRODUCT(('Secteur dactivité'!$B$2:$B$72<=Feuil1!A51)*('Secteur dactivité'!$C$2:$C$72>=Feuil1!A51))=0,"Non-trouvée",INDEX('Secteur dactivité'!$A$2:$A$72,SUMPRODUCT(('Secteur dactivité'!$B$2:$B$72<=Feuil1!A51)*('Secteur dactivité'!$C$2:$C$72>=Feuil1!A51)*(ROW('Secteur dactivité'!$B$2:$B$72)-MIN(ROW('Secteur dactivité'!$B$2:$B$72))+1))))) -> 3200-3569
A52: 3711 | B52: =IF(1-(ISNUMBER(A52)),"",IF(SUMPRODUCT(('Secteur dactivité'!$B$2:$B$72<=Feuil1!A52)*('Secteur dactivité'!$C$2:$C$72>=Feuil1!A52))=0,"Non-trouvée",INDEX('Secteur dactivité'!$A$2:$A$72,SUMPRODUCT(('Secteur dactivité'!$B$2:$B$72<=Feuil1!A52)*('Secteur dactivité'!$C$2:$C$72>=Feuil1!A52)*(ROW('Secteur dactivité'!$B$2:$B$72)-MIN(ROW('Secteur dactivité'!$B$2:$B$72))+1))))) -> 3710-3711
A53: 6719 | B53: =IF(1-(ISNUMBER(A53)),"",IF(SUMPRODUCT(('Secteur dactivité'!$B$2:$B$72<=Feuil1!A53)*('Secteur dactivité'!$C$2:$C$72>=Feuil1!A53))=0,"Non-trouvée",INDEX('Secteur dactivité'!$A$2:$A$72,SUMPRODUCT(('Secteur dactivité'!$B$2:$B$72<=Feuil1!A53)*('Secteur dactivité'!$C$2:$C$72>=Feuil1!A53)*(ROW('Secteur dactivité'!$B$2:$B$72)-MIN(ROW('Secteur dactivité'!$B$2:$B$72))+1))))) -> 6000-6999
A54: 6021 | B54: =IF(1-(ISNUMBER(A54)),"",IF(SUMPRODUCT(('Secteur dactivité'!$B$2:$B$72<=Feuil1!A54)*('Secteur dactivité'!$C$2:$C$72>=Feuil1!A54))=0,"Non-trouvée",INDEX('Secteur dactivité'!$A$2:$A$72,SUMPRODUCT(('Secteur dactivité'!$B$2:$B$72<=Feuil1!A54)*('Secteur dactivité'!$C$2:$C$72>=Feuil1!A54)*(ROW('Secteur dactivité'!$B$2:$B$72)-MIN(ROW('Secteur dactivité'!$B$2:$B$72))+1))))) -> 6000-6999
A55: 4813 | B55: =IF(1-(ISNUMBER(A55)),"",IF(SUMPRODUCT(('Secteur dactivité'!$B$2:$B$72<=Feuil1!A55)*('Secteur dactivité'!$C$2:$C$72>=Feuil1!A55))=0,"Non-trouvée",INDEX('Secteur dactivité'!$A$2:$A$72,SUMPRODUCT(('Secteur dactivité'!$B$2:$B$72<=Feuil1!A55)*('Secteur dactivité'!$C$2:$C$72>=Feuil1!A55)*(ROW('Secteur dactivité'!$B$2:$B$72)-MIN(ROW('Secteur dactivité'!$B$2:$B$72))+1))))) -> 4800-4899
A56: 6399 | B56: =IF(1-(ISNUMBER(A56)),"",IF(SUMPRODUCT(('Secteur dactivité'!$B$2:$B$72<=Feuil1!A56)*('Secteur dactivité'!$C$2:$C$72>=Feuil1!A56))=0,"Non-trouvée",INDEX('Secteur dactivité'!$A$2:$A$72,SUMPRODUCT(('Secteur dactivité'!$B$2:$B$72<=Feuil1!A56)*('Secteur dactivité'!$C$2:$C$72>=Feuil1!A56)*(ROW('Secteur dactivité'!$B$2:$B$72)-MIN(ROW('Secteur dactivité'!$B$2:$B$72))+1))))) -> 6000-6999
A57: 2711 | B57: =IF(1-(ISNUMBER(A57)),"",IF(SUMPRODUCT(('Secteur dactivité'!$B$2:$B$72<=Feuil1!A57)*('Secteur dactivité'!$C$2:$C$72>=Feuil1!A57))=0,"Non-trouvée",INDEX('Secteur dactivité'!$A$2:$A$72,SUMPRODUCT(('Secteur dactivité'!$B$2:$B$72<=Feuil1!A57)*('Secteur dactivité'!$C$2:$C$72>=Feuil1!A57)*(ROW('Secteur dactivité'!$B$2:$B$72)-MIN(ROW('Secteur dactivité'!$B$2:$B$72))+1))))) -> 2700-2749
A58: 7041 | B58: =IF(1-(ISNUMBER(A58)),"",IF(SUMPRODUCT(('Secteur dactivité'!$B$2:$B$72<=Feuil1!A58)*('Secteur dactivité'!$C$2:$C$72>=Feuil1!A58))=0,"Non-trouvée",INDEX('Secteur dactivité'!$A$2:$A$72,SUMPRODUCT(('Secteur dactivité'!$B$2:$B$72<=Feuil1!A58)*('Secteur dactivité'!$C$2:$C$72>=Feuil1!A58)*(ROW('Secteur dactivité'!$B$2:$B$72)-MIN(ROW('Secteur dactivité'!$B$2:$B$72))+1))))) -> Non-trouvée
A59: 7389 | B59: =IF(1-(ISNUMBER(A59)),"",IF(SUMPRODUCT(('Secteur dactivité'!$B$2:$B$72<=Feuil1!A59)*('Secteur dactivité'!$C$2:$C$72>=Feuil1!A59))=0,"Non-trouvée",INDEX('Secteur dactivité'!$A$2:$A$72,SUMPRODUCT(('Secteur dactivité'!$B$2:$B$72<=Feuil1!A59)*('Secteur dactivité'!$C$2:$C$72>=Feuil1!A59)*(ROW('Secteur dactivité'!$B$2:$B$72)-MIN(ROW('Secteur dactivité'!$B$2:$B$72))+1))))) -> Non-trouvée
A60: 6021 | B60: =IF(1-(ISNUMBER(A60)),"",IF(SUMPRODUCT(('Secteur dactivité'!$B$2:$B$72<=Feuil1!A60)*('Secteur dactivité'!$C$2:$C$72>=Feuil1!A60))=0,"Non-trouvée",INDEX('Secteur dactivité'!$A$2:$A$72,SUMPRODUCT(('Secteur dactivité'!$B$2:$B$72<=Feuil1!A60)*('Secteur dactivité'!$C$2:$C$72>=Feuil1!A60)*(ROW('Secteur dactivité'!$B$2:$B$72)-MIN(ROW('Secteur dactivité'!$B$2:$B$72))+1))))) -> 6000-6999
A61: 3241 | B61: =IF(1-(ISNUMBER(A61)),"",IF(SUMPRODUCT(('Secteur dactivité'!$B$2:$B$72<=Feuil1!A61)*('Secteur dactivité'!$C$2:$C$72>=Feuil1!A61))=0,"Non-trouvée",INDEX('Secteur dactivité'!$A$2:$A$72,SUMPRODUCT(('Secteur dactivité'!$B$2:$B$72<=Feuil1!A61)*('Secteur dactivité'!$C$2:$C$72>=Feuil1!A61)*(ROW('Secteur dactivité'!$B$2:$B$72)-MIN(ROW('Secteur dactivité'!$B$2:$B$72))+1))))) -> 3200-3569
A62: 6021 | B62: =IF(1-(ISNUMBER(A62)),"",IF(SUMPRODUCT(('Secteur dactivité'!$B$2:$B$72<=Feuil1!A62)*('Secteur dactivité'!$C$2:$C$72>=Feuil1!A62))=0,"Non-trouvée",INDEX('Secteur dactivité'!$A$2:$A$72,SUMPRODUCT(('Secteur dactivité'!$B$2:$B$72<=Feuil1!A62)*('Secteur dactivité'!$C$2:$C$72>=Feuil1!A62)*(ROW('Secteur dactivité'!$B$2:$B$72)-MIN(ROW('Secteur dactivité'!$B$2:$B$72))+1))))) -> 6000-6999
... A74: 6311 | B74: =IF(1-(ISNUMBER(A74)),"",IF(SUMPRODUCT(('Secteur dactivité'!$B$2:$B$72<=Feuil1!A74)*('Secteur dactivité'!$C$2:$C$72>=Feuil1!A74))=0,"Non-trouvée",INDEX('Secteur dactivité'!$A$2:$A$72,SUMPRODUCT(('Secteur dactivité'!$B$2:$B$72<=Feuil1!A74)*('Secteur dactivité'!$C$2:$C$72>=Feuil1!A74)*(ROW('Secteur dactivité'!$B$2:$B$72)-MIN(ROW('Secteur dactivité'!$B$2:$B$72))+1))))) -> 6000-6999
A75: Lyne | B75: =IF(1-(ISNUMBER(A75)),"",IF(SUMPRODUCT(('Secteur dactivité'!$B$2:$B$72<=Feuil1!A75)*('Secteur dactivité'!$C$2:$C$72>=Feuil1!A75))=0,"Non-trouvée",INDEX('Secteur dactivité'!$A$2:$A$72,SUMPRODUCT(('Secteur dactivité'!$B$2:$B$72<=Feuil1!A75)*('Secteur dactivité'!$C$2:$C$72>=Feuil1!A75)*(ROW('Secteur dactivité'!$B$2:$B$72)-MIN(ROW('Secteur dactivité'!$B$2:$B$72))+1)))))
A76: Roderic | B76: =IF(1-(ISNUMBER(A76)),"",IF(SUMPRODUCT(('Secteur dactivité'!$B$2:$B$72<=Feuil1!A76)*('Secteur dactivité'!$C$2:$C$72>=Feuil1!A76))=0,"Non-trouvée",INDEX('Secteur dactivité'!$A$2:$A$72,SUMPRODUCT(('Secteur dactivité'!$B$2:$B$72<=Feuil1!A76)*('Secteur dactivité'!$C$2:$C$72>=Feuil1!A76)*(ROW('Secteur dactivité'!$B$2:$B$72)-MIN(ROW('Secteur dactivité'!$B$2:$B$72))+1)))))
A77: 1041 | B77: =IF(1-(ISNUMBER(A77)),"",IF(SUMPRODUCT(('Secteur dactivité'!$B$2:$B$72<=Feuil1!A77)*('Secteur dactivité'!$C$2:$C$72>=Feuil1!A77))=0,"Non-trouvée",INDEX('Secteur dactivité'!$A$2:$A$72,SUMPRODUCT(('Secteur dactivité'!$B$2:$B$72<=Feuil1!A77)*('Secteur dactivité'!$C$2:$C$72>=Feuil1!A77)*(ROW('Secteur dactivité'!$B$2:$B$72)-MIN(ROW('Secteur dactivité'!$B$2:$B$72))+1))))) -> Non-trouvée
A78: 6021 | B78: =IF(1-(ISNUMBER(A78)),"",IF(SUMPRODUCT(('Secteur dactivité'!$B$2:$B$72<=Feuil1!A78)*('Secteur dactivité'!$C$2:$C$72>=Feuil1!A78))=0,"Non-trouvée",INDEX('Secteur dactivité'!$A$2:$A$72,SUMPRODUCT(('Secteur dactivité'!$B$2:$B$72<=Feuil1!A78)*('Secteur dactivité'!$C$2:$C$72>=Feuil1!A78)*(ROW('Secteur dactivité'!$B$2:$B$72)-MIN(ROW('Secteur dactivité'!$B$2:$B$72))+1))))) -> 6000-6999
A79: 1311 | B79: =IF(1-(ISNUMBER(A79)),"",IF(SUMPRODUCT(('Secteur dactivité'!$B$2:$B$72<=Feuil1!A79)*('Secteur dactivité'!$C$2:$C$72>=Feuil1!A79))=0,"Non-trouvée",INDEX('Secteur dactivité'!$A$2:$A$72,SUMPRODUCT(('Secteur dactivité'!$B$2:$B$72<=Feuil1!A79)*('Secteur dactivité'!$C$2:$C$72>=Feuil1!A79)*(ROW('Secteur dactivité'!$B$2:$B$72)-MIN(ROW('Secteur dactivité'!$B$2:$B$72))+1))))) -> 1200-1399
A80: 7389 | B80: =IF(1-(ISNUMBER(A80)),"",IF(SUMPRODUCT(('Secteur dactivité'!$B$2:$B$72<=Feuil1!A80)*('Secteur dactivité'!$C$2:$C$72>=Feuil1!A80))=0,"Non-trouvée",INDEX('Secteur dactivité'!$A$2:$A$72,SUMPRODUCT(('Secteur dactivité'!$B$2:$B$72<=Feuil1!A80)*('Secteur dactivité'!$C$2:$C$72>=Feuil1!A80)*(ROW('Secteur dactivité'!$B$2:$B$72)-MIN(ROW('Secteur dactivité'!$B$2:$B$72))+1))))) -> Non-trouvée
A81: 4899 | B81: =IF(1-(ISNUMBER(A81)),"",IF(SUMPRODUCT(('Secteur dactivité'!$B$2:$B$72<=Feuil1!A81)*('Secteur dactivité'!$C$2:$C$72>=Feuil1!A81))=0,"Non-trouvée",INDEX('Secteur dactivité'!$A$2:$A$72,SUMPRODUCT(('Secteur dactivité'!$B$2:$B$72<=Feuil1!A81)*('Secteur dactivité'!$C$2:$C$72>=Feuil1!A81)*(ROW('Secteur dactivité'!$B$2:$B$72)-MIN(ROW('Secteur dactivité'!$B$2:$B$72))+1))))) -> 4800-4899
A82: Riboud | B82: =IF(1-(ISNUMBER(A82)),"",IF(SUMPRODUCT(('Secteur dactivité'!$B$2:$B$72<=Feuil1!A82)*('Secteur dactivité'!$C$2:$C$72>=Feuil1!A82))=0,"Non-trouvée",INDEX('Secteur dactivité'!$A$2:$A$72,SUMPRODUCT(('Secteur dactivité'!$B$2:$B$72<=Feuil1!A82)*('Secteur dactivité'!$C$2:$C$72>=Feuil1!A82)*(ROW('Secteur dactivité'!$B$2:$B$72)-MIN(ROW('Secteur dactivité'!$B$2:$B$72))+1)))))
A83: Franck | B83: =IF(1-(ISNUMBER(A83)),"",IF(SUMPRODUCT(('Secteur dactivité'!$B$2:$B$72<=Feuil1!A83)*('Secteur dactivité'!$C$2:$C$72>=Feuil1!A83))=0,"Non-trouvée",INDEX('Secteur dactivité'!$A$2:$A$72,SUMPRODUCT(('Secteur dactivité'!$B$2:$B$72<=Feuil1!A83)*('Secteur dactivité'!$C$2:$C$72>=Feuil1!A83)*(ROW('Secteur dactivité'!$B$2:$B$72)-MIN(ROW('Secteur dactivité'!$B$2:$B$72))+1)))))
A84: 3711 | B84: =IF(1-(ISNUMBER(A84)),"",IF(SUMPRODUCT(('Secteur dactivité'!$B$2:$B$72<=Feuil1!A84)*('Secteur dactivité'!$C$2:$C$72>=Feuil1!A84))=0,"Non-trouvée",INDEX('Secteur dactivité'!$A$2:$A$72,SUMPRODUCT(('Secteur dactivité'!$B$2:$B$72<=Feuil1!A84)*('Secteur dactivité'!$C$2:$C$72>=Feuil1!A84)*(ROW('Secteur dactivité'!$B$2:$B$72)-MIN(ROW('Secteur dactivité'!$B$2:$B$72))+1))))) -> 3710-3711
A85: 2023 | B85: =IF(1-(ISNUMBER(A85)),"",IF(SUMPRODUCT(('Secteur dactivité'!$B$2:$B$72<=Feuil1!A85)*('Secteur dactivité'!$C$2:$C$72>=Feuil1!A85))=0,"Non-trouvée",INDEX('Secteur dactivité'!$A$2:$A$72,SUMPRODUCT(('Secteur dactivité'!$B$2:$B$72<=Feuil1!A85)*('Secteur dactivité'!$C$2:$C$72>=Feuil1!A85)*(ROW('Secteur dactivité'!$B$2:$B$72)-MIN(ROW('Secteur dactivité'!$B$2:$B$72))+1))))) -> 2000-2399
A86: 5943 | B86: =IF(1-(ISNUMBER(A86)),"",IF(SUMPRODUCT(('Secteur dactivité'!$B$2:$B$72<=Feuil1!A86)*('Secteur dactivité'!$C$2:$C$72>=Feuil1!A86))=0,"Non-trouvée",INDEX('Secteur dactivité'!$A$2:$A$72,SUMPRODUCT(('Secteur dactivité'!$B$2:$B$72<=Feuil1!A86)*('Secteur dactivité'!$C$2:$C$72>=Feuil1!A86)*(ROW('Secteur dactivité'!$B$2:$B$72)-MIN(ROW('Secteur dactivité'!$B$2:$B$72))+1))))) -> 5000-5999
A87: 3711 | B87: =IF(1-(ISNUMBER(A87)),"",IF(SUMPRODUCT(('Secteur dactivité'!$B$2:$B$72<=Feuil1!A87)*('Secteur dactivité'!$C$2:$C$72>=Feuil1!A87))=0,"Non-trouvée",INDEX('Secteur dactivité'!$A$2:$A$72,SUMPRODUCT(('Secteur dactivité'!$B$2:$B$72<=Feuil1!A87)*('Secteur dactivité'!$C$2:$C$72>=Feuil1!A87)*(ROW('Secteur dactivité'!$B$2:$B$72)-MIN(ROW('Secteur dactivité'!$B$2:$B$72))+1))))) -> 3710-3711
A88: 6719 | B88: =IF(1-(ISNUMBER(A88)),"",IF(SUMPRODUCT(('Secteur dactivité'!$B$2:$B$72<=Feuil1!A88)*('Secteur dactivité'!$C$2:$C$72>=Feuil1!A88))=0,"Non-trouvée",INDEX('Secteur dactivité'!$A$2:$A$72,SUMPRODUCT(('Secteur dactivité'!$B$2:$B$72<=Feuil1!A88)*('Secteur dactivité'!$C$2:$C$72>=Feuil1!A88)*(ROW('Secteur dactivité'!$B$2:$B$72)-MIN(ROW('Secteur dactivité'!$B$2:$B$72))+1))))) -> 6000-6999
A89: 2062 | B89: =IF(1-(ISNUMBER(A89)),"",IF(SUMPRODUCT(('Secteur dactivité'!$B$2:$B$72<=Feuil1!A89)*('Secteur dactivité'!$C$2:$C$72>=Feuil1!A89))=0,"Non-trouvée",INDEX('Secteur dactivité'!$A$2:$A$72,SUMPRODUCT(('Secteur dactivité'!$B$2:$B$72<=Feuil1!A89)*('Secteur dactivité'!$C$2:$C$72>=Feuil1!A89)*(ROW('Secteur dactivité'!$B$2:$B$72)-MIN(ROW('Secteur dactivité'!$B$2:$B$72))+1))))) -> 2000-2399
A90: 2026 | B90: =IF(1-(ISNUMBER(A90)),"",IF(SUMPRODUCT(('Secteur dactivité'!$B$2:$B$72<=Feuil1!A90)*('Secteur dactivité'!$C$2:$C$72>=Feuil1!A90))=0,"Non-trouvée",INDEX('Secteur dactivité'!$A$2:$A$72,SUMPRODUCT(('Secteur dactivité'!$B$2:$B$72<=Feuil1!A90)*('Secteur dactivité'!$C$2:$C$72>=Feuil1!A90)*(ROW('Secteur dactivité'!$B$2:$B$72)-MIN(ROW('Secteur dactivité'!$B$2:$B$72))+1))))) -> 2000-2399
A91: 6719 | B91: =IF(1-(ISNUMBER(A91)),"",IF(SUMPRODUCT(('Secteur dactivité'!$B$2:$B$72<=Feuil1!A91)*('Secteur dactivité'!$C$2:$C$72>=Feuil1!A91))=0,"Non-trouvée",INDEX('Secteur dactivité'!$A$2:$A$72,SUMPRODUCT(('Secteur dactivité'!$B$2:$B$72<=Feuil1!A91)*('Secteur dactivité'!$C$2:$C$72>=Feuil1!A91)*(ROW('Secteur dactivité'!$B$2:$B$72)-MIN(ROW('Secteur dactivité'!$B$2:$B$72))+1))))) -> 6000-6999
A92: 6799 | B92: =IF(1-(ISNUMBER(A92)),"",IF(SUMPRODUCT(('Secteur dactivité'!$B$2:$B$72<=Feuil1!A92)*('Secteur dactivité'!$C$2:$C$72>=Feuil1!A92))=0,"Non-trouvée",INDEX('Secteur dactivité'!$A$2:$A$72,SUMPRODUCT(('Secteur dactivité'!$B$2:$B$72<=Feuil1!A92)*('Secteur dactivité'!$C$2:$C$72>=Feuil1!A92)*(ROW('Secteur dactivité'!$B$2:$B$72)-MIN(ROW('Secteur dactivité'!$B$2:$B$72))+1))))) -> 6000-6999
A93: 5031 | B93: =IF(1-(ISNUMBER(A93)),"",IF(SUMPRODUCT(('Secteur dactivité'!$B$2:$B$72<=Feuil1!A93)*('Secteur dactivité'!$C$2:$C$72>=Feuil1!A93))=0,"Non-trouvée",INDEX('Secteur dactivité'!$A$2:$A$72,SUMPRODUCT(('Secteur dactivité'!$B$2:$B$72<=Feuil1!A93)*('Secteur dactivité'!$C$2:$C$72>=Feuil1!A93)*(ROW('Secteur dactivité'!$B$2:$B$72)-MIN(ROW('Secteur dactivité'!$B$2:$B$72))+1))))) -> 5000-5999
A94: 2844 | B94: =IF(1-(ISNUMBER(A94)),"",IF(SUMPRODUCT(('Secteur dactivité'!$B$2:$B$72<=Feuil1!A94)*('Secteur dactivité'!$C$2:$C$72>=Feuil1!A94))=0,"Non-trouvée",INDEX('Secteur dactivité'!$A$2:$A$72,SUMPRODUCT(('Secteur dactivité'!$B$2:$B$72<=Feuil1!A94)*('Secteur dactivité'!$C$2:$C$72>=Feuil1!A94)*(ROW('Secteur dactivité'!$B$2:$B$72)-MIN(ROW('Secteur dactivité'!$B$2:$B$72))+1))))) -> 2840-2899
A95: 6733 | B95: =IF(1-(ISNUMBER(A95)),"",IF(SUMPRODUCT(('Secteur dactivité'!$B$2:$B$72<=Feuil1!A95)*('Secteur dactivité'!$C$2:$C$72>=Feuil1!A95))=0,"Non-trouvée",INDEX('Secteur dactivité'!$A$2:$A$72,SUMPRODUCT(('Secteur dactivité'!$B$2:$B$72<=Feuil1!A95)*('Secteur dactivité'!$C$2:$C$72>=Feuil1!A95)*(ROW('Secteur dactivité'!$B$2:$B$72)-MIN(ROW('Secteur dactivité'!$B$2:$B$72))+1))))) -> 6000-6999
... A98: 2389 | B98: =IF(1-(ISNUMBER(A98)),"",IF(SUMPRODUCT(('Secteur dactivité'!$B$2:$B$72<=Feuil1!A98)*('Secteur dactivité'!$C$2:$C$72>=Feuil1!A98))=0,"Non-trouvée",INDEX('Secteur dactivité'!$A$2:$A$72,SUMPRODUCT(('Secteur dactivité'!$B$2:$B$72<=Feuil1!A98)*('Secteur dactivité'!$C$2:$C$72>=Feuil1!A98)*(ROW('Secteur dactivité'!$B$2:$B$72)-MIN(ROW('Secteur dactivité'!$B$2:$B$72))+1))))) -> 2000-2399
A99: Seydoux | B99: =IF(1-(ISNUMBER(A99)),"",IF(SUMPRODUCT(('Secteur dactivité'!$B$2:$B$72<=Feuil1!A99)*('Secteur dactivité'!$C$2:$C$72>=Feuil1!A99))=0,"Non-trouvée",INDEX('Secteur dactivité'!$A$2:$A$72,SUMPRODUCT(('Secteur dactivité'!$B$2:$B$72<=Feuil1!A99)*('Secteur dactivité'!$C$2:$C$72>=Feuil1!A99)*(ROW('Secteur dactivité'!$B$2:$B$72)-MIN(ROW('Secteur dactivité'!$B$2:$B$72))+1)))))
A100: Jérôme | B100: =IF(1-(ISNUMBER(A100)),"",IF(SUMPRODUCT(('Secteur dactivité'!$B$2:$B$72<=Feuil1!A100)*('Secteur dactivité'!$C$2:$C$72>=Feuil1!A100))=0,"Non-trouvée",INDEX('Secteur dactivité'!$A$2:$A$72,SUMPRODUCT(('Secteur dactivité'!$B$2:$B$72<=Feuil1!A100)*('Secteur dactivité'!$C$2:$C$72>=Feuil1!A100)*(ROW('Secteur dactivité'!$B$2:$B$72)-MIN(ROW('Secteur dactivité'!$B$2:$B$72))+1)))))
A101: 6029 | B101: =IF(1-(ISNUMBER(A101)),"",IF(SUMPRODUCT(('Secteur dactivité'!$B$2:$B$72<=Feuil1!A101)*('Secteur dactivité'!$C$2:$C$72>=Feuil1!A101))=0,"Non-trouvée",INDEX('Secteur dactivité'!$A$2:$A$72,SUMPRODUCT(('Secteur dactivité'!$B$2:$B$72<=Feuil1!A101)*('Secteur dactivité'!$C$2:$C$72>=Feuil1!A101)*(ROW('Secteur dactivité'!$B$2:$B$72)-MIN(ROW('Secteur dactivité'!$B$2:$B$72))+1))))) -> 6000-6999
A102: 1382 | B102: =IF(1-(ISNUMBER(A102)),"",IF(SUMPRODUCT(('Secteur dactivité'!$B$2:$B$72<=Feuil1!A102)*('Secteur dactivité'!$C$2:$C$72>=Feuil1!A102))=0,"Non-trouvée",INDEX('Secteur dactivité'!$A$2:$A$72,SUMPRODUCT(('Secteur dactivité'!$B$2:$B$72<=Feuil1!A102)*('Secteur dactivité'!$C$2:$C$72>=Feuil1!A102)*(ROW('Secteur dactivité'!$B$2:$B$72)-MIN(ROW('Secteur dactivité'!$B$2:$B$72))+1))))) -> 1200-1399
A103: 2282 | B103: =IF(1-(ISNUMBER(A103)),"",IF(SUMPRODUCT(('Secteur dactivité'!$B$2:$B$72<=Feuil1!A103)*('Secteur dactivité'!$C$2:$C$72>=Feuil1!A103))=0,"Non-trouvée",INDEX('Secteur dactivité'!$A$2:$A$72,SUMPRODUCT(('Secteur dactivité'!$B$2:$B$72<=Feuil1!A103)*('Secteur dactivité'!$C$2:$C$72>=Feuil1!A103)*(ROW('Secteur dactivité'!$B$2:$B$72)-MIN(ROW('Secteur dactivité'!$B$2:$B$72))+1))))) -> 2000-2399
A104: 5064 | B104: =IF(1-(ISNUMBER(A104)),"",IF(SUMPRODUCT(('Secteur dactivité'!$B$2:$B$72<=Feuil1!A104)*('Secteur dactivité'!$C$2:$C$72>=Feuil1!A104))=0,"Non-trouvée",INDEX('Secteur dactivité'!$A$2:$A$72,SUMPRODUCT(('Secteur dactivité'!$B$2:$B$72<=Feuil1!A104)*('Secteur dactivité'!$C$2:$C$72>=Feuil1!A104)*(ROW('Secteur dactivité'!$B$2:$B$72)-MIN(ROW('Secteur dactivité'!$B$2:$B$72))+1))))) -> 5000-5999
A105: 7829 | B105: =IF(1-(ISNUMBER(A105)),"",IF(SUMPRODUCT(('Secteur dactivité'!$B$2:$B$72<=Feuil1!A105)*('Secteur dactivité'!$C$2:$C$72>=Feuil1!A105))=0,"Non-trouvée",INDEX('Secteur dactivité'!$A$2:$A$72,SUMPRODUCT(('Secteur dactivité'!$B$2:$B$72<=Feuil1!A105)*('Secteur dactivité'!$C$2:$C$72>=Feuil1!A105)*(ROW('Secteur dactivité'!$B$2:$B$72)-MIN(ROW('Secteur dactivité'!$B$2:$B$72))+1))))) -> Non-trouvée
A106: 6799 | B106: =IF(1-(ISNUMBER(A106)),"",IF(SUMPRODUCT(('Secteur dactivité'!$B$2:$B$72<=Feuil1!A106)*('Secteur dactivité'!$C$2:$C$72>=Feuil1!A106))=0,"Non-trouvée",INDEX('Secteur dactivité'!$A$2:$A$72,SUMPRODUCT(('Secteur dactivité'!$B$2:$B$72<=Feuil1!A106)*('Secteur dactivité'!$C$2:$C$72>=Feuil1!A106)*(ROW('Secteur dactivité'!$B$2:$B$72)-MIN(ROW('Secteur dactivité'!$B$2:$B$72))+1))))) -> 6000-6999
A107: 4111 | B107: =IF(1-(ISNUMBER(A107)),"",IF(SUMPRODUCT(('Secteur dactivité'!$B$2:$B$72<=Feuil1!A107)*('Secteur dactivité'!$C$2:$C$72>=Feuil1!A107))=0,"Non-trouvée",INDEX('Secteur dactivité'!$A$2:$A$72,SUMPRODUCT(('Secteur dactivité'!$B$2:$B$72<=Feuil1!A107)*('Secteur dactivité'!$C$2:$C$72>=Feuil1!A107)*(ROW('Secteur dactivité'!$B$2:$B$72)-MIN(ROW('Secteur dactivité'!$B$2:$B$72))+1))))) -> Non-trouvée
A108: 6519 | B108: =IF(1-(ISNUMBER(A108)),"",IF(SUMPRODUCT(('Secteur dactivité'!$B$2:$B$72<=Feuil1!A108)*('Secteur dactivité'!$C$2:$C$72>=Feuil1!A108))=0,"Non-trouvée",INDEX('Secteur dactivité'!$A$2:$A$72,SUMPRODUCT(('Secteur dactivité'!$B$2:$B$72<=Feuil1!A108)*('Secteur dactivité'!$C$2:$C$72>=Feuil1!A108)*(ROW('Secteur dactivité'!$B$2:$B$72)-MIN(ROW('Secteur dactivité'!$B$2:$B$72))+1))))) -> 6000-6999
A109: 6211 | B109: =IF(1-(ISNUMBER(A109)),"",IF(SUMPRODUCT(('Secteur dactivité'!$B$2:$B$72<=Feuil1!A109)*('Secteur dactivité'!$C$2:$C$72>=Feuil1!A109))=0,"Non-trouvée",INDEX('Secteur dactivité'!$A$2:$A$72,SUMPRODUCT(('Secteur dactivité'!$B$2:$B$72<=Feuil1!A109)*('Secteur dactivité'!$C$2:$C$72>=Feuil1!A109)*(ROW('Secteur dactivité'!$B$2:$B$72)-MIN(ROW('Secteur dactivité'!$B$2:$B$72))+1))))) -> 6000-6999
A110: 7819 | B110: =IF(1-(ISNUMBER(A110)),"",IF(SUMPRODUCT(('Secteur dactivité'!$B$2:$B$72<=Feuil1!A110)*('Secteur dactivité'!$C$2:$C$72>=Feuil1!A110))=0,"Non-trouvée",INDEX('Secteur dactivité'!$A$2:$A$72,SUMPRODUCT(('Secteur dactivité'!$B$2:$B$72<=Feuil1!A110)*('Secteur dactivité'!$C$2:$C$72>=Feuil1!A110)*(ROW('Secteur dactivité'!$B$2:$B$72)-MIN(ROW('Secteur dactivité'!$B$2:$B$72))+1))))) -> Non-trouvée
A111: 4813 | B111: =IF(1-(ISNUMBER(A111)),"",IF(SUMPRODUCT(('Secteur dactivité'!$B$2:$B$72<=Feuil1!A111)*('Secteur dactivité'!$C$2:$C$72>=Feuil1!A111))=0,"Non-trouvée",INDEX('Secteur dactivité'!$A$2:$A$72,SUMPRODUCT(('Secteur dactivité'!$B$2:$B$72<=Feuil1!A111)*('Secteur dactivité'!$C$2:$C$72>=Feuil1!A111)*(ROW('Secteur dactivité'!$B$2:$B$72)-MIN(ROW('Secteur dactivité'!$B$2:$B$72))+1))))) -> 4800-4899
A112: 7832 | B112: =IF(1-(ISNUMBER(A112)),"",IF(SUMPRODUCT(('Secteur dactivité'!$B$2:$B$72<=Feuil1!A112)*('Secteur dactivité'!$C$2:$C$72>=Feuil1!A112))=0,"Non-trouvée",INDEX('Secteur dactivité'!$A$2:$A$72,SUMPRODUCT(('Secteur dactivité'!$B$2:$B$72<=Feuil1!A112)*('Secteur dactivité'!$C$2:$C$72>=Feuil1!A112)*(ROW('Secteur dactivité'!$B$2:$B$72)-MIN(ROW('Secteur dactivité'!$B$2:$B$72))+1))))) -> Non-trouvée
... A114: 4111 | B114: =IF(1-(ISNUMBER(A114)),"",IF(SUMPRODUCT(('Secteur dactivité'!$B$2:$B$72<=Feuil1!A114)*('Secteur dactivité'!$C$2:$C$72>=Feuil1!A114))=0,"Non-trouvée",INDEX('Secteur dactivité'!$A$2:$A$72,SUMPRODUCT(('Secteur dactivité'!$B$2:$B$72<=Feuil1!A114)*('Secteur dactivité'!$C$2:$C$72>=Feuil1!A114)*(ROW('Secteur dactivité'!$B$2:$B$72)-MIN(ROW('Secteur dactivité'!$B$2:$B$72))+1))))) -> Non-trouvée
A115: Waigel | B115: =IF(1-(ISNUMBER(A115)),"",IF(SUMPRODUCT(('Secteur dactivité'!$B$2:$B$72<=Feuil1!A115)*('Secteur dactivité'!$C$2:$C$72>=Feuil1!A115))=0,"Non-trouvée",INDEX('Secteur dactivité'!$A$2:$A$72,SUMPRODUCT(('Secteur dactivité'!$B$2:$B$72<=Feuil1!A115)*('Secteur dactivité'!$C$2:$C$72>=Feuil1!A115)*(ROW('Secteur dactivité'!$B$2:$B$72)-MIN(ROW('Secteur dactivité'!$B$2:$B$72))+1)))))
A116: Theo | B116: =IF(1-(ISNUMBER(A116)),"",IF(SUMPRODUCT(('Secteur dactivité'!$B$2:$B$72<=Feuil1!A116)*('Secteur dactivité'!$C$2:$C$72>=Feuil1!A116))=0,"Non-trouvée",INDEX('Secteur dactivité'!$A$2:$A$72,SUMPRODUCT(('Secteur dactivité'!$B$2:$B$72<=Feuil1!A116)*('Secteur dactivité'!$C$2:$C$72>=Feuil1!A116)*(ROW('Secteur dactivité'!$B$2:$B$72)-MIN(ROW('Secteur dactivité'!$B$2:$B$72))+1)))))
A117: 5099 | B117: =IF(1-(ISNUMBER(A117)),"",IF(SUMPRODUCT(('Secteur dactivité'!$B$2:$B$72<=Feuil1!A117)*('Secteur dactivité'!$C$2:$C$72>=Feuil1!A117))=0,"Non-trouvée",INDEX('Secteur dactivité'!$A$2:$A$72,SUMPRODUCT(('Secteur dactivité'!$B$2:$B$72<=Feuil1!A117)*('Secteur dactivité'!$C$2:$C$72>=Feuil1!A117)*(ROW('Secteur dactivité'!$B$2:$B$72)-MIN(ROW('Secteur dactivité'!$B$2:$B$72))+1))))) -> 5000-5999
A118: 6321 | B118: =IF(1-(ISNUMBER(A118)),"",IF(SUMPRODUCT(('Secteur dactivité'!$B$2:$B$72<=Feuil1!A118)*('Secteur dactivité'!$C$2:$C$72>=Feuil1!A118))=0,"Non-trouvée",INDEX('Secteur dactivité'!$A$2:$A$72,SUMPRODUCT(('Secteur dactivité'!$B$2:$B$72<=Feuil1!A118)*('Secteur dactivité'!$C$2:$C$72>=Feuil1!A118)*(ROW('Secteur dactivité'!$B$2:$B$72)-MIN(ROW('Secteur dactivité'!$B$2:$B$72))+1))))) -> 6000-6999
A119: 6311 | B119: =IF(1-(ISNUMBER(A119)),"",IF(SUMPRODUCT(('Secteur dactivité'!$B$2:$B$72<=Feuil1!A119)*('Secteur dactivité'!$C$2:$C$72>=Feuil1!A119))=0,"Non-trouvée",INDEX('Secteur dactivité'!$A$2:$A$72,SUMPRODUCT(('Secteur dactivité'!$B$2:$B$72<=Feuil1!A119)*('Secteur dactivité'!$C$2:$C$72>=Feuil1!A119)*(ROW('Secteur dactivité'!$B$2:$B$72)-MIN(ROW('Secteur dactivité'!$B$2:$B$72))+1))))) -> 6000-6999
A120: 5083 | B120: =IF(1-(ISNUMBER(A120)),"",IF(SUMPRODUCT(('Secteur dactivité'!$B$2:$B$72<=Feuil1!A120)*('Secteur dactivité'!$C$2:$C$72>=Feuil1!A120))=0,"Non-trouvée",INDEX('Secteur dactivité'!$A$2:$A$72,SUMPRODUCT(('Secteur dactivité'!$B$2:$B$72<=Feuil1!A120)*('Secteur dactivité'!$C$2:$C$72>=Feuil1!A120)*(ROW('Secteur dactivité'!$B$2:$B$72)-MIN(ROW('Secteur dactivité'!$B$2:$B$72))+1))))) -> 5000-5999
A121: 4214 | B121: =IF(1-(ISNUMBER(A121)),"",IF(SUMPRODUCT(('Secteur dactivité'!$B$2:$B$72<=Feuil1!A121)*('Secteur dactivité'!$C$2:$C$72>=Feuil1!A121))=0,"Non-trouvée",INDEX('Secteur dactivité'!$A$2:$A$72,SUMPRODUCT(('Secteur dactivité'!$B$2:$B$72<=Feuil1!A121)*('Secteur dactivité'!$C$2:$C$72>=Feuil1!A121)*(ROW('Secteur dactivité'!$B$2:$B$72)-MIN(ROW('Secteur dactivité'!$B$2:$B$72))+1))))) -> Non-trouvée
A122: 8742 | B122: =IF(1-(ISNUMBER(A122)),"",IF(SUMPRODUCT(('Secteur dactivité'!$B$2:$B$72<=Feuil1!A122)*('Secteur dactivité'!$C$2:$C$72>=Feuil1!A122))=0,"Non-trouvée",INDEX('Secteur dactivité'!$A$2:$A$72,SUMPRODUCT(('Secteur dactivité'!$B$2:$B$72<=Feuil1!A122)*('Secteur dactivité'!$C$2:$C$72>=Feuil1!A122)*(ROW('Secteur dactivité'!$B$2:$B$72)-MIN(ROW('Secteur dactivité'!$B$2:$B$72))+1))))) -> Non-trouvée
...

Sheet Secteur dactivité
A1: 1NoDurConsumerNonDurables--Food,Tobacco,Textiles,Apparel,Leather,Toys
A2: 0100-0999 | B2: 100 | C2: 999
A3: 2000-2399 | B3: 2000 | C3: 2399
A4: 2700-2749 | B4: 2700 | C4: 2749
A5: 2770-2799 | B5: 2770 | C5: 2799
A6: 3100-3199 | B6: 3100 | C6: 3199
A7: 3940-3989 | B7: 3940 | C7: 3989
A9: 2DurblConsumerDurables--Cars,TV's,Furniture,HouseholdAppliances
A10: 2500-2519 | B10: 2500 | C10: 2519
A11: 2590-2599 | B11: 2590 | C11: 2599
A12: 3630-3659 | B12: 3630 | C12: 3659
A13: 3710-3711 | B13: 3710 | C13: 3711
A14: 3714-3714 | B14: 3714 | C14: 3714
A15: 3716-3716 | B15: 3716 | C15: 3716
A16: 3750-3751 | B16: 3750 | C16: 3751
A17: 3792-3792 | B17: 3792 | C17: 3792
A18: 3900-3939 | B18: 3900 | C18: 3939
A19: 3990-3999 | B19: 3990 | C19: 3999
A21: 3ManufManufacturing--Machinery,Trucks,Planes,OffFurn,Paper,ComPrinting
A22: 2520-2589 | B22: 2520 | C22: 2589
A23: 2600-2699 | B23: 2600 | C23: 2699
A24: 2750-2769 | B24: 2750 | C24: 2769
A25: 3000-3099 | B25: 3000 | C25: 3099
A26: 3200-3569 | B26: 3200 | C26: 3569
A27: 3580-3629 | B27: 3580 | C27: 3629
A28: 3700-3709 | B28: 3700 | C28: 3709
A29: 3712-3713 | B29: 3712 | C29: 3713
A30: 3715-3715 | B30: 3715 | C30: 3715
A31: 3717-3749 | B31: 3717 | C31: 3749
A32: 3752-3791 | B32: 3752 | C32: 3791
A33: 3793-3799 | B33: 3793 | C33: 3799
... A35: 3860-3899 | B35: 3860 | C35: 3899
A37: 4EnrgyOil,Gas,andCoalExtractionandProducts
A38: 1200-1399 | B38: 1200 | C38: 1399
A39: 2900-2999 | B39: 2900 | C39: 2999
A41: 5ChemsChemicalsandAlliedProducts
A42: 2800-2829 | B42: 2800 | C42: 2829
A43: 2840-2899 | B43: 2840 | C43: 2899
A45: 6BusEqBusinessEquipment--Computers,Software,andElectronicEquipment
A46: 3570-3579 | B46: 3570 | C46: 3579
A47: 3660-3692 | B47: 3660 | C47: 3692
A48: 3694-3699 | B48: 3694 | C48: 3699
A49: 3810-3829 | B49: 3810 | C49: 3829
A50: 7370-7379 | B50: 7370 | C50: 7379
A52: 7TelcmTelephoneandTelevisionTransmission
A53: 4800-4899 | B53: 4800 | C53: 4899
A55: 8UtilsUtilities
A56: 4900-4949 | B56: 4900 | C56: 4949
A58: 9ShopsWholesale,Retail,andSomeServices(Laundries,RepairShops)
A59: 5000-5999 | B59: 5000 | C59: 5999
A60: 7200-7299 | B60: 7200 | C60: 7299
A61: 7600-7699 | B61: 7600 | C61: 7699
A63: 10HlthHealthcare,MedicalEquipment,andDrugs
A64: 2830-2839 | B64: 2830 | C64: 2839
A65: 3693-3693 | B65: 3693 | C65: 3693
A66: 3840-3859 | B66: 3840 | C66: 3859
A67: 8000-8099 | B67: 8000 | C67: 8099
A69: 11MoneyFinance
A70: 6000-6999 | B70: 6000 | C70: 6999
A72: 12OtherOther--Mines,Constr,BldMt,Trans,Hotels,BusServ,Entertainment

Sheet Feuil3
