Workbook

Sheet JUIN
B1: DATE | C1: matin | D1: pic-nic | E1: Sans SP | F1: 0.48958333 | G1: 0.60416667 | H1: 0.65625 | I1: 0.70833333 | J1: option repas | K1: option pause | L1: option tab | M1: option atelier | N1: option VG | O1: option spéciale | P1: infos
A2: =CHOOSE(WEEKDAY(B2,2),"lundi","mardi","mercredi","jeudi","vendredi","samedi","dimanche") -> dimanche | B2: 41791 | C2: =SUMPRODUCT(('Juin-détails'!$B$2:$B$108=$B2)*('Juin-détails'!$C$2:$C$108<TIMEVALUE("12:30"))*('Juin-détails'!$D$2:$G$108)) -> 0 | D2: =SUMPRODUCT(('Juin-détails'!$B$2:$B$108=$B2)*('Juin-détails'!$H$2:$H$108<>"...")*('Juin-détails'!$D$2:$G$108)) -> 0 | E2: =SUMPRODUCT(('Juin-détails'!$B$2:$B$108=$B2)*('Juin-détails'!$J$2:$J$108="...")*('Juin-détails'!$C$2:$C$108>TIMEVALUE("12:30"))*('Juin-détails'!$D$2:$G$108)) -> 0 | F2: =SUMPRODUCT(('Juin-détails'!$B$2:$B$108=$B2)*('Juin-détails'!$J$2:$J$108=$F$1)*('Juin-détails'!$D$2:$G$108)) -> 0 | G2: =SUMPRODUCT(('Juin-détails'!$B$2:$B$108=$B2)*('Juin-détails'!$J$2:$J$108=$G$1)*('Juin-détails'!$D$2:$G$108)) -> 0 | H2: =SUMPRODUCT(('Juin-détails'!$B$2:$B$108=$B2)*('Juin-détails'!$J$2:$J$108=$H$1)*('Juin-détails'!$D$2:$G$108)) -> 0 | I2: =SUMPRODUCT(('Juin-détails'!$B$2:$B$108=$B2)*('Juin-détails'!$J$2:$J$108=$I$1)*('Juin-détails'!$D$2:$G$108)) -> 0 | J2: =(SUMPRODUCT(('Juin-détails'!$B$2:$B$108=$B2)*('Juin-détails'!$I$2:$I$108="PicNic")*('Juin-détails'!$D$2:$G$108)))+(SUMPRODUCT(('Juin-détails'!$B$2:$B$108=$B2)*('Juin-détails'!$I$2:$I$108="Flamm")*('Juin-détails'!$D$2:$G$108)))+(SUMPRODUCT(('Juin-détails'!$B$2:$B$108=$B2)*('Juin-détails'!$I$2:$I$108="Pouce")*('Juin-détails'!$D$2:$G$108))) -> 0 | K2: =(SUMPRODUCT(('Juin-détails'!$B$2:$B$108=$B2)*('Juin-détails'!$K$2:$K$108="pti-déJ")*('Juin-détails'!$D$2:$G$108)))+(SUMPRODUCT(('Juin-détails'!$B$2:$B$108=$B2)*('Juin-détails'!$K$2:$K$108="pause-sucrée")*('Juin-détails'!$D$2:$G$108)))+(SUMPRODUCT(('Juin-détails'!$B$2:$B$108=$B2)*('Juin-détails'!$K$2:$K$108="pause-salé")*('Juin-détails'!$D$2:$G$108)))+(SUMPRODUCT(('Juin-détails'!$B$2:$B$108=$B2)*('Juin-détails'!$L$2:$L$108="pti-déJ")*('Juin-détails'!$D$2:$G$108)))+(SUMPRODUCT(('Juin-détails'!$B$2:$B$108=$B2)*('Juin-détails'!$L$2:$L$108="pause-sucrée")*('Juin-détails'!$D$2:$G$108)))+(SUMPRODUCT(('Juin-détails'!$B$2:$B$108=$B2)*('Juin-détails'!$L$2:$L$108="pause-salé")*('Juin-détails'!$D$2:$G$108))) -> 0 | L2: =((SUMPRODUCT(('Juin-détails'!$B$2:$B$108=$B2)*('Juin-détails'!$K$2:$K$108="tab-découv")*('Juin-détails'!$D$2:$G$108)))+(SUMPRODUCT(('Juin-détails'!$B$2:$B$108=$B2)*('Juin-détails'!$K$2:$K$108="tab-homme")*('Juin-détails'!$D$2:$G$108)))+(SUMPRODUCT(('Juin-détails'!$B$2:$B$108=$B2)*('Juin-détails'!$K$2:$K$108="tab-traces")*('Juin-détails'!$D$2:$G$108)))+(SUMPRODUCT(('Juin-détails'!$B$2:$B$108=$B2)*('Juin-détails'!$K$2:$K$108="tab-ailes")*('Juin-détails'!$D$2:$G$108)))+(SUMPRODUCT(('Juin-détails'!$B$2:$B$108=$B2)*('Juin-détails'!$L$2:$L$108="tab-découv")*('Juin-détails'!$D$2:$G$108)))+(SUMPRODUCT(('Juin-détails'!$B$2:$B$108=$B2)*('Juin-détails'!$L$2:$L$108="tab-homme")*('Juin-détails'!$D$2:$G$108)))+(SUMPRODUCT(('Juin-détails'!$B$2:$B$108=$B2)*('Juin-détails'!$L$2:$L$108="tab-traces")*('Juin-détails'!$D$2:$G$108)))+(SUMPRODUCT(('Juin-détails'!$B$2:$B$108=$B2)*('Juin-détails'!$L$2:$L$108="tab-ailes")*('Juin-détails'!$D$2:$G$108))))/15 -> 0 | M2: =(SUMPRODUCT(('Juin-détails'!$B$2:$B$108=$B2)*('Juin-détails'!$K$2:$K$108="atelier-oiso")*('Juin-détails'!$D$2:$G$108)))+(SUMPRODUCT(('Juin-détails'!$B$2:$B$108=$B2)*('Juin-détails'!$K$2:$K$108="atelier-bouc")*('Juin-détails'!$D$2:$G$108)))+(SUMPRODUCT(('Juin-détails'!$B$2:$B$108=$B2)*('Juin-détails'!$K$2:$K$108="atelier-traces")*('Juin-détails'!$D$2:$G$108)))+(SUMPRODUCT(('Juin-détails'!$B$2:$B$108=$B2)*('Juin-détails'!$L$2:$L$108="atelier-oiso")*('Juin-détails'!$D$2:$G$108)))+(SUMPRODUCT(('Juin-détails'!$B$2:$B$108=$B2)*('Juin-détails'!$L$2:$L$108="atelier-oiso")*('Juin-détails'!$D$2:$G$108)))+(SUMPRODUCT(('Juin-détails'!$B$2:$B$108=$B2)*('Juin-détails'!$L$2:$L$108="atelier-traces")*('Juin-détails'!$D$2:$G$108))) -> 0 | N2: =(SUMPRODUCT(('Juin-détails'!$B$2:$B$108=$B2)*('Juin-détails'!$K$2:$K$108="visite-guidee")*('Juin-détails'!$D$2:$G$108)))+(SUMPRODUCT(('Juin-détails'!$B$2:$B$108=$B2)*('Juin-détails'!$L$2:$L$108="visite-guidee")*('Juin-détails'!$D$2:$G$108))) -> 0 | O2: =(SUMPRODUCT(('Juin-détails'!$B$2:$B$108=$B2)*('Juin-détails'!$K$2:$K$108="plein’air")*('Juin-détails'!$D$2:$G$108)))+(SUMPRODUCT(('Juin-détails'!$B$2:$B$108=$B2)*('Juin-détails'!$K$2:$K$108="event")*('Juin-détails'!$D$2:$G$108)))+(SUMPRODUCT(('Juin-détails'!$B$2:$B$108=$B2)*('Juin-détails'!$L$2:$L$108="plein’air")*('Juin-détails'!$D$2:$G$108)))+(SUMPRODUCT(('Juin-détails'!$B$2:$B$108=$B2)*('Juin-détails'!$L$2:$L$108="event")*('Juin-détails'!$D$2:$G$108))) -> 0
A3: =CHOOSE(WEEKDAY(B3,2),"lundi","mardi","mercredi","jeudi","vendredi","samedi","dimanche") -> lundi | B3: 41792 | C3: =SUMPRODUCT(('Juin-détails'!$B$2:$B$108=$B3)*('Juin-détails'!$C$2:$C$108<TIMEVALUE("12:30"))*('Juin-détails'!$D$2:$G$108)) -> 0 | D3: =SUMPRODUCT(('Juin-détails'!$B$2:$B$108=$B3)*('Juin-détails'!$H$2:$H$108<>"...")*('Juin-détails'!$D$2:$G$108)) -> 0 | E3: =SUMPRODUCT(('Juin-détails'!$B$2:$B$108=$B3)*('Juin-détails'!$J$2:$J$108="...")*('Juin-détails'!$C$2:$C$108>TIMEVALUE("12:30"))*('Juin-détails'!$D$2:$G$108)) -> 0 | F3: =SUMPRODUCT(('Juin-détails'!$B$2:$B$108=$B3)*('Juin-détails'!$J$2:$J$108=$F$1)*('Juin-détails'!$D$2:$G$108)) -> 0 | G3: =SUMPRODUCT(('Juin-détails'!$B$2:$B$108=$B3)*('Juin-détails'!$J$2:$J$108=$G$1)*('Juin-détails'!$D$2:$G$108)) -> 0 | H3: =SUMPRODUCT(('Juin-détails'!$B$2:$B$108=$B3)*('Juin-détails'!$J$2:$J$108=$H$1)*('Juin-détails'!$D$2:$G$108)) -> 64 | I3: =SUMPRODUCT(('Juin-détails'!$B$2:$B$108=$B3)*('Juin-détails'!$J$2:$J$108=$I$1)*('Juin-détails'!$D$2:$G$108)) -> 0 | J3: =(SUMPRODUCT(('Juin-détails'!$B$2:$B$108=$B3)*('Juin-détails'!$I$2:$I$108="PicNic")*('Juin-détails'!$D$2:$G$108)))+(SUMPRODUCT(('Juin-détails'!$B$2:$B$108=$B3)*('Juin-détails'!$I$2:$I$108="Flamm")*('Juin-détails'!$D$2:$G$108)))+(SUMPRODUCT(('Juin-détails'!$B$2:$B$108=$B3)*('Juin-détails'!$I$2:$I$108="Pouce")*('Juin-détails'!$D$2:$G$108))) -> 0 | K3: =(SUMPRODUCT(('Juin-détails'!$B$2:$B$108=$B3)*('Juin-détails'!$K$2:$K$108="pti-déJ")*('Juin-détails'!$D$2:$G$108)))+(SUMPRODUCT(('Juin-détails'!$B$2:$B$108=$B3)*('Juin-détails'!$K$2:$K$108="pause-sucrée")*('Juin-détails'!$D$2:$G$108)))+(SUMPRODUCT(('Juin-détails'!$B$2:$B$108=$B3)*('Juin-détails'!$K$2:$K$108="pause-salé")*('Juin-détails'!$D$2:$G$108)))+(SUMPRODUCT(('Juin-détails'!$B$2:$B$108=$B3)*('Juin-détails'!$L$2:$L$108="pti-déJ")*('Juin-détails'!$D$2:$G$108)))+(SUMPRODUCT(('Juin-détails'!$B$2:$B$108=$B3)*('Juin-détails'!$L$2:$L$108="pause-sucrée")*('Juin-détails'!$D$2:$G$108)))+(SUMPRODUCT(('Juin-détails'!$B$2:$B$108=$B3)*('Juin-détails'!$L$2:$L$108="pause-salé")*('Juin-détails'!$D$2:$G$108))) -> 0 | L3: =((SUMPRODUCT(('Juin-détails'!$B$2:$B$108=$B3)*('Juin-détails'!$K$2:$K$108="tab-découv")*('Juin-détails'!$D$2:$G$108)))+(SUMPRODUCT(('Juin-détails'!$B$2:$B$108=$B3)*('Juin-détails'!$K$2:$K$108="tab-homme")*('Juin-détails'!$D$2:$G$108)))+(SUMPRODUCT(('Juin-détails'!$B$2:$B$108=$B3)*('Juin-détails'!$K$2:$K$108="tab-traces")*('Juin-détails'!$D$2:$G$108)))+(SUMPRODUCT(('Juin-détails'!$B$2:$B$108=$B3)*('Juin-détails'!$K$2:$K$108="tab-ailes")*('Juin-détails'!$D$2:$G$108)))+(SUMPRODUCT(('Juin-détails'!$B$2:$B$108=$B3)*('Juin-détails'!$L$2:$L$108="tab-découv")*('Juin-détails'!$D$2:$G$108)))+(SUMPRODUCT(('Juin-détails'!$B$2:$B$108=$B3)*('Juin-détails'!$L$2:$L$108="tab-homme")*('Juin-détails'!$D$2:$G$108)))+(SUMPRODUCT(('Juin-détails'!$B$2:$B$108=$B3)*('Juin-détails'!$L$2:$L$108="tab-traces")*('Juin-détails'!$D$2:$G$108)))+(SUMPRODUCT(('Juin-détails'!$B$2:$B$108=$B3)*('Juin-détails'!$L$2:$L$108="tab-ailes")*('Juin-détails'!$D$2:$G$108))))/15 -> 0 | M3: =(SUMPRODUCT(('Juin-détails'!$B$2:$B$108=$B3)*('Juin-détails'!$K$2:$K$108="atelier-oiso")*('Juin-détails'!$D$2:$G$108)))+(SUMPRODUCT(('Juin-détails'!$B$2:$B$108=$B3)*('Juin-détails'!$K$2:$K$108="atelier-bouc")*('Juin-détails'!$D$2:$G$108)))+(SUMPRODUCT(('Juin-détails'!$B$2:$B$108=$B3)*('Juin-détails'!$K$2:$K$108="atelier-traces")*('Juin-détails'!$D$2:$G$108)))+(SUMPRODUCT(('Juin-détails'!$B$2:$B$108=$B3)*('Juin-détails'!$L$2:$L$108="atelier-oiso")*('Juin-détails'!$D$2:$G$108)))+(SUMPRODUCT(('Juin-détails'!$B$2:$B$108=$B3)*('Juin-détails'!$L$2:$L$108="atelier-oiso")*('Juin-détails'!$D$2:$G$108)))+(SUMPRODUCT(('Juin-détails'!$B$2:$B$108=$B3)*('Juin-détails'!$L$2:$L$108="atelier-traces")*('Juin-détails'!$D$2:$G$108))) -> 0 | N3: =(SUMPRODUCT(('Juin-détails'!$B$2:$B$108=$B3)*('Juin-détails'!$K$2:$K$108="visite-guidee")*('Juin-détails'!$D$2:$G$108)))+(SUMPRODUCT(('Juin-détails'!$B$2:$B$108=$B3)*('Juin-détails'!$L$2:$L$108="visite-guidee")*('Juin-détails'!$D$2:$G$108))) -> 0 | O3: =(SUMPRODUCT(('Juin-détails'!$B$2:$B$108=$B3)*('Juin-détails'!$K$2:$K$108="plein’air")*('Juin-détails'!$D$2:$G$108)))+(SUMPRODUCT(('Juin-détails'!$B$2:$B$108=$B3)*('Juin-détails'!$K$2:$K$108="event")*('Juin-détails'!$D$2:$G$108)))+(SUMPRODUCT(('Juin-détails'!$B$2:$B$108=$B3)*('Juin-détails'!$L$2:$L$108="plein’air")*('Juin-détails'!$D$2:$G$108)))+(SUMPRODUCT(('Juin-détails'!$B$2:$B$108=$B3)*('Juin-détails'!$L$2:$L$108="event")*('Juin-détails'!$D$2:$G$108))) -> 0
A4: =CHOOSE(WEEKDAY(B4,2),"lundi","mardi","mercredi","jeudi","vendredi","samedi","dimanche") -> mardi | B4: 41793 | C4: =SUMPRODUCT(('Juin-détails'!$B$2:$B$108=$B4)*('Juin-détails'!$C$2:$C$108<TIMEVALUE("12:30"))*('Juin-détails'!$D$2:$G$108)) -> 388 | D4: =SUMPRODUCT(('Juin-détails'!$B$2:$B$108=$B4)*('Juin-détails'!$H$2:$H$108<>"...")*('Juin-détails'!$D$2:$G$108)) -> 388 | E4: =SUMPRODUCT(('Juin-détails'!$B$2:$B$108=$B4)*('Juin-détails'!$J$2:$J$108="...")*('Juin-détails'!$C$2:$C$108>TIMEVALUE("12:30"))*('Juin-détails'!$D$2:$G$108)) -> 0 | F4: =SUMPRODUCT(('Juin-détails'!$B$2:$B$108=$B4)*('Juin-détails'!$J$2:$J$108=$F$1)*('Juin-détails'!$D$2:$G$108)) -> 306 | G4: =SUMPRODUCT(('Juin-détails'!$B$2:$B$108=$B4)*('Juin-détails'!$J$2:$J$108=$G$1)*('Juin-détails'!$D$2:$G$108)) -> 254 | H4: =SUMPRODUCT(('Juin-détails'!$B$2:$B$108=$B4)*('Juin-détails'!$J$2:$J$108=$H$1)*('Juin-détails'!$D$2:$G$108)) -> 0 | I4: =SUMPRODUCT(('Juin-détails'!$B$2:$B$108=$B4)*('Juin-détails'!$J$2:$J$108=$I$1)*('Juin-détails'!$D$2:$G$108)) -> 0 | J4: =(SUMPRODUCT(('Juin-détails'!$B$2:$B$108=$B4)*('Juin-détails'!$I$2:$I$108="PicNic")*('Juin-détails'!$D$2:$G$108)))+(SUMPRODUCT(('Juin-détails'!$B$2:$B$108=$B4)*('Juin-détails'!$I$2:$I$108="Flamm")*('Juin-détails'!$D$2:$G$108)))+(SUMPRODUCT(('Juin-détails'!$B$2:$B$108=$B4)*('Juin-détails'!$I$2:$I$108="Pouce")*('Juin-détails'!$D$2:$G$108))) -> 0 | K4: =(SUMPRODUCT(('Juin-détails'!$B$2:$B$108=$B4)*('Juin-détails'!$K$2:$K$108="pti-déJ")*('Juin-détails'!$D$2:$G$108)))+(SUMPRODUCT(('Juin-détails'!$B$2:$B$108=$B4)*('Juin-détails'!$K$2:$K$108="pause-sucrée")*('Juin-détails'!$D$2:$G$108)))+(SUMPRODUCT(('Juin-détails'!$B$2:$B$108=$B4)*('Juin-détails'!$K$2:$K$108="pause-salé")*('Juin-détails'!$D$2:$G$108)))+(SUMPRODUCT(('Juin-détails'!$B$2:$B$108=$B4)*('Juin-détails'!$L$2:$L$108="pti-déJ")*('Juin-détails'!$D$2:$G$108)))+(SUMPRODUCT(('Juin-détails'!$B$2:$B$108=$B4)*('Juin-détails'!$L$2:$L$108="pause-sucrée")*('Juin-détails'!$D$2:$G$108)))+(SUMPRODUCT(('Juin-détails'!$B$2:$B$108=$B4)*('Juin-détails'!$L$2:$L$108="pause-salé")*('Juin-détails'!$D$2:$G$108))) -> 0 | L4: =((SUMPRODUCT(('Juin-détails'!$B$2:$B$108=$B4)*('Juin-détails'!$K$2:$K$108="tab-découv")*('Juin-détails'!$D$2:$G$108)))+(SUMPRODUCT(('Juin-détails'!$B$2:$B$108=$B4)*('Juin-détails'!$K$2:$K$108="tab-homme")*('Juin-détails'!$D$2:$G$108)))+(SUMPRODUCT(('Juin-détails'!$B$2:$B$108=$B4)*('Juin-détails'!$K$2:$K$108="tab-traces")*('Juin-détails'!$D$2:$G$108)))+(SUMPRODUCT(('Juin-détails'!$B$2:$B$108=$B4)*('Juin-détails'!$K$2:$K$108="tab-ailes")*('Juin-détails'!$D$2:$G$108)))+(SUMPRODUCT(('Juin-détails'!$B$2:$B$108=$B4)*('Juin-détails'!$L$2:$L$108="tab-découv")*('Juin-détails'!$D$2:$G$108)))+(SUMPRODUCT(('Juin-détails'!$B$2:$B$108=$B4)*('Juin-détails'!$L$2:$L$108="tab-homme")*('Juin-détails'!$D$2:$G$108)))+(SUMPRODUCT(('Juin-détails'!$B$2:$B$108=$B4)*('Juin-détails'!$L$2:$L$108="tab-traces")*('Juin-détails'!$D$2:$G$108)))+(SUMPRODUCT(('Juin-détails'!$B$2:$B$108=$B4)*('Juin-détails'!$L$2:$L$108="tab-ailes")*('Juin-détails'!$D$2:$G$108))))/15 -> 5.3333333 | M4: =(SUMPRODUCT(('Juin-détails'!$B$2:$B$108=$B4)*('Juin-détails'!$K$2:$K$108="atelier-oiso")*('Juin-détails'!$D$2:$G$108)))+(SUMPRODUCT(('Juin-détails'!$B$2:$B$108=$B4)*('Juin-détails'!$K$2:$K$108="atelier-bouc")*('Juin-détails'!$D$2:$G$108)))+(SUMPRODUCT(('Juin-détails'!$B$2:$B$108=$B4)*('Juin-détails'!$K$2:$K$108="atelier-traces")*('Juin-détails'!$D$2:$G$108)))+(SUMPRODUCT(('Juin-détails'!$B$2:$B$108=$B4)*('Juin-détails'!$L$2:$L$108="atelier-oiso")*('Juin-détails'!$D$2:$G$108)))+(SUMPRODUCT(('Juin-détails'!$B$2:$B$108=$B4)*('Juin-détails'!$L$2:$L$108="atelier-oiso")*('Juin-détails'!$D$2:$G$108)))+(SUMPRODUCT(('Juin-détails'!$B$2:$B$108=$B4)*('Juin-détails'!$L$2:$L$108="atelier-traces")*('Juin-détails'!$D$2:$G$108))) -> 160 | N4: =(SUMPRODUCT(('Juin-détails'!$B$2:$B$108=$B4)*('Juin-détails'!$K$2:$K$108="visite-guidee")*('Juin-détails'!$D$2:$G$108)))+(SUMPRODUCT(('Juin-détails'!$B$2:$B$108=$B4)*('Juin-détails'!$L$2:$L$108="visite-guidee")*('Juin-détails'!$D$2:$G$108))) -> 0 | O4: =(SUMPRODUCT(('Juin-détails'!$B$2:$B$108=$B4)*('Juin-détails'!$K$2:$K$108="plein’air")*('Juin-détails'!$D$2:$G$108)))+(SUMPRODUCT(('Juin-détails'!$B$2:$B$108=$B4)*('Juin-détails'!$K$2:$K$108="event")*('Juin-détails'!$D$2:$G$108)))+(SUMPRODUCT(('Juin-détails'!$B$2:$B$108=$B4)*('Juin-détails'!$L$2:$L$108="plein’air")*('Juin-détails'!$D$2:$G$108)))+(SUMPRODUCT(('Juin-détails'!$B$2:$B$108=$B4)*('Juin-détails'!$L$2:$L$108="event")*('Juin-détails'!$D$2:$G$108))) -> 0
A5: =CHOOSE(WEEKDAY(B5,2),"lundi","mardi","mercredi","jeudi","vendredi","samedi","dimanche") -> mercredi | B5: 41794 | C5: =SUMPRODUCT(('Juin-détails'!$B$2:$B$108=$B5)*('Juin-détails'!$C$2:$C$108<TIMEVALUE("12:30"))*('Juin-détails'!$D$2:$G$108)) -> 0 | D5: =SUMPRODUCT(('Juin-détails'!$B$2:$B$108=$B5)*('Juin-détails'!$H$2:$H$108<>"...")*('Juin-détails'!$D$2:$G$108)) -> 0 | E5: =SUMPRODUCT(('Juin-détails'!$B$2:$B$108=$B5)*('Juin-détails'!$J$2:$J$108="...")*('Juin-détails'!$C$2:$C$108>TIMEVALUE("12:30"))*('Juin-détails'!$D$2:$G$108)) -> 140 | F5: =SUMPRODUCT(('Juin-détails'!$B$2:$B$108=$B5)*('Juin-détails'!$J$2:$J$108=$F$1)*('Juin-détails'!$D$2:$G$108)) -> 0 | G5: =SUMPRODUCT(('Juin-détails'!$B$2:$B$108=$B5)*('Juin-détails'!$J$2:$J$108=$G$1)*('Juin-détails'!$D$2:$G$108)) -> 50 | H5: =SUMPRODUCT(('Juin-détails'!$B$2:$B$108=$B5)*('Juin-détails'!$J$2:$J$108=$H$1)*('Juin-détails'!$D$2:$G$108)) -> 35 | I5: =SUMPRODUCT(('Juin-détails'!$B$2:$B$108=$B5)*('Juin-détails'!$J$2:$J$108=$I$1)*('Juin-détails'!$D$2:$G$108)) -> 0 | J5: =(SUMPRODUCT(('Juin-détails'!$B$2:$B$108=$B5)*('Juin-détails'!$I$2:$I$108="PicNic")*('Juin-détails'!$D$2:$G$108)))+(SUMPRODUCT(('Juin-détails'!$B$2:$B$108=$B5)*('Juin-détails'!$I$2:$I$108="Flamm")*('Juin-détails'!$D$2:$G$108)))+(SUMPRODUCT(('Juin-détails'!$B$2:$B$108=$B5)*('Juin-détails'!$I$2:$I$108="Pouce")*('Juin-détails'!$D$2:$G$108))) -> 0 | K5: =(SUMPRODUCT(('Juin-détails'!$B$2:$B$108=$B5)*('Juin-détails'!$K$2:$K$108="pti-déJ")*('Juin-détails'!$D$2:$G$108)))+(SUMPRODUCT(('Juin-détails'!$B$2:$B$108=$B5)*('Juin-détails'!$K$2:$K$108="pause-sucrée")*('Juin-détails'!$D$2:$G$108)))+(SUMPRODUCT(('Juin-détails'!$B$2:$B$108=$B5)*('Juin-détails'!$K$2:$K$108="pause-salé")*('Juin-détails'!$D$2:$G$108)))+(SUMPRODUCT(('Juin-détails'!$B$2:$B$108=$B5)*('Juin-détails'!$L$2:$L$108="pti-déJ")*('Juin-détails'!$D$2:$G$108)))+(SUMPRODUCT(('Juin-détails'!$B$2:$B$108=$B5)*('Juin-détails'!$L$2:$L$108="pause-sucrée")*('Juin-détails'!$D$2:$G$108)))+(SUMPRODUCT(('Juin-détails'!$B$2:$B$108=$B5)*('Juin-détails'!$L$2:$L$108="pause-salé")*('Juin-détails'!$D$2:$G$108))) -> 0 | L5: =((SUMPRODUCT(('Juin-détails'!$B$2:$B$108=$B5)*('Juin-détails'!$K$2:$K$108="tab-découv")*('Juin-détails'!$D$2:$G$108)))+(SUMPRODUCT(('Juin-détails'!$B$2:$B$108=$B5)*('Juin-détails'!$K$2:$K$108="tab-homme")*('Juin-détails'!$D$2:$G$108)))+(SUMPRODUCT(('Juin-détails'!$B$2:$B$108=$B5)*('Juin-détails'!$K$2:$K$108="tab-traces")*('Juin-détails'!$D$2:$G$108)))+(SUMPRODUCT(('Juin-détails'!$B$2:$B$108=$B5)*('Juin-détails'!$K$2:$K$108="tab-ailes")*('Juin-détails'!$D$2:$G$108)))+(SUMPRODUCT(('Juin-détails'!$B$2:$B$108=$B5)*('Juin-détails'!$L$2:$L$108="tab-découv")*('Juin-détails'!$D$2:$G$108)))+(SUMPRODUCT(('Juin-détails'!$B$2:$B$108=$B5)*('Juin-détails'!$L$2:$L$108="tab-homme")*('Juin-détails'!$D$2:$G$108)))+(SUMPRODUCT(('Juin-détails'!$B$2:$B$108=$B5)*('Juin-détails'!$L$2:$L$108="tab-traces")*('Juin-détails'!$D$2:$G$108)))+(SUMPRODUCT(('Juin-détails'!$B$2:$B$108=$B5)*('Juin-détails'!$L$2:$L$108="tab-ailes")*('Juin-détails'!$D$2:$G$108))))/15 -> 0 | M5: =(SUMPRODUCT(('Juin-détails'!$B$2:$B$108=$B5)*('Juin-détails'!$K$2:$K$108="atelier-oiso")*('Juin-détails'!$D$2:$G$108)))+(SUMPRODUCT(('Juin-détails'!$B$2:$B$108=$B5)*('Juin-détails'!$K$2:$K$108="atelier-bouc")*('Juin-détails'!$D$2:$G$108)))+(SUMPRODUCT(('Juin-détails'!$B$2:$B$108=$B5)*('Juin-détails'!$K$2:$K$108="atelier-traces")*('Juin-détails'!$D$2:$G$108)))+(SUMPRODUCT(('Juin-détails'!$B$2:$B$108=$B5)*('Juin-détails'!$L$2:$L$108="atelier-oiso")*('Juin-détails'!$D$2:$G$108)))+(SUMPRODUCT(('Juin-détails'!$B$2:$B$108=$B5)*('Juin-détails'!$L$2:$L$108="atelier-oiso")*('Juin-détails'!$D$2:$G$108)))+(SUMPRODUCT(('Juin-détails'!$B$2:$B$108=$B5)*('Juin-détails'!$L$2:$L$108="atelier-traces")*('Juin-détails'!$D$2:$G$108))) -> 0 | N5: =(SUMPRODUCT(('Juin-détails'!$B$2:$B$108=$B5)*('Juin-détails'!$K$2:$K$108="visite-guidee")*('Juin-détails'!$D$2:$G$108)))+(SUMPRODUCT(('Juin-détails'!$B$2:$B$108=$B5)*('Juin-détails'!$L$2:$L$108="visite-guidee")*('Juin-détails'!$D$2:$G$108))) -> 0 | O5: =(SUMPRODUCT(('Juin-détails'!$B$2:$B$108=$B5)*('Juin-détails'!$K$2:$K$108="plein’air")*('Juin-détails'!$D$2:$G$108)))+(SUMPRODUCT(('Juin-détails'!$B$2:$B$108=$B5)*('Juin-détails'!$K$2:$K$108="event")*('Juin-détails'!$D$2:$G$108)))+(SUMPRODUCT(('Juin-détails'!$B$2:$B$108=$B5)*('Juin-détails'!$L$2:$L$108="plein’air")*('Juin-détails'!$D$2:$G$108)))+(SUMPRODUCT(('Juin-détails'!$B$2:$B$108=$B5)*('Juin-détails'!$L$2:$L$108="event")*('Juin-détails'!$D$2:$G$108))) -> 0
A6: =CHOOSE(WEEKDAY(B6,2),"lundi","mardi","mercredi","jeudi","vendredi","samedi","dimanche") -> jeudi | B6: 41795 | C6: =SUMPRODUCT(('Juin-détails'!$B$2:$B$108=$B6)*('Juin-détails'!$C$2:$C$108<TIMEVALUE("12:30"))*('Juin-détails'!$D$2:$G$108)) -> 344 | D6: =SUMPRODUCT(('Juin-détails'!$B$2:$B$108=$B6)*('Juin-détails'!$H$2:$H$108<>"...")*('Juin-détails'!$D$2:$G$108)) -> 344 | E6: =SUMPRODUCT(('Juin-détails'!$B$2:$B$108=$B6)*('Juin-détails'!$J$2:$J$108="...")*('Juin-détails'!$C$2:$C$108>TIMEVALUE("12:30"))*('Juin-détails'!$D$2:$G$108)) -> 0 | F6: =SUMPRODUCT(('Juin-détails'!$B$2:$B$108=$B6)*('Juin-détails'!$J$2:$J$108=$F$1)*('Juin-détails'!$D$2:$G$108)) -> 104 | G6: =SUMPRODUCT(('Juin-détails'!$B$2:$B$108=$B6)*('Juin-détails'!$J$2:$J$108=$G$1)*('Juin-détails'!$D$2:$G$108)) -> 240 | H6: =SUMPRODUCT(('Juin-détails'!$B$2:$B$108=$B6)*('Juin-détails'!$J$2:$J$108=$H$1)*('Juin-détails'!$D$2:$G$108)) -> 0 | I6: =SUMPRODUCT(('Juin-détails'!$B$2:$B$108=$B6)*('Juin-détails'!$J$2:$J$108=$I$1)*('Juin-détails'!$D$2:$G$108)) -> 0 | J6: =(SUMPRODUCT(('Juin-détails'!$B$2:$B$108=$B6)*('Juin-détails'!$I$2:$I$108="PicNic")*('Juin-détails'!$D$2:$G$108)))+(SUMPRODUCT(('Juin-détails'!$B$2:$B$108=$B6)*('Juin-détails'!$I$2:$I$108="Flamm")*('Juin-détails'!$D$2:$G$108)))+(SUMPRODUCT(('Juin-détails'!$B$2:$B$108=$B6)*('Juin-détails'!$I$2:$I$108="Pouce")*('Juin-détails'!$D$2:$G$108))) -> 0 | K6: =(SUMPRODUCT(('Juin-détails'!$B$2:$B$108=$B6)*('Juin-détails'!$K$2:$K$108="pti-déJ")*('Juin-détails'!$D$2:$G$108)))+(SUMPRODUCT(('Juin-détails'!$B$2:$B$108=$B6)*('Juin-détails'!$K$2:$K$108="pause-sucrée")*('Juin-détails'!$D$2:$G$108)))+(SUMPRODUCT(('Juin-détails'!$B$2:$B$108=$B6)*('Juin-détails'!$K$2:$K$108="pause-salé")*('Juin-détails'!$D$2:$G$108)))+(SUMPRODUCT(('Juin-détails'!$B$2:$B$108=$B6)*('Juin-détails'!$L$2:$L$108="pti-déJ")*('Juin-détails'!$D$2:$G$108)))+(SUMPRODUCT(('Juin-détails'!$B$2:$B$108=$B6)*('Juin-détails'!$L$2:$L$108="pause-sucrée")*('Juin-détails'!$D$2:$G$108)))+(SUMPRODUCT(('Juin-détails'!$B$2:$B$108=$B6)*('Juin-détails'!$L$2:$L$108="pause-salé")*('Juin-détails'!$D$2:$G$108))) -> 0 | L6: =((SUMPRODUCT(('Juin-détails'!$B$2:$B$108=$B6)*('Juin-détails'!$K$2:$K$108="tab-découv")*('Juin-détails'!$D$2:$G$108)))+(SUMPRODUCT(('Juin-détails'!$B$2:$B$108=$B6)*('Juin-détails'!$K$2:$K$108="tab-homme")*('Juin-détails'!$D$2:$G$108)))+(SUMPRODUCT(('Juin-détails'!$B$2:$B$108=$B6)*('Juin-détails'!$K$2:$K$108="tab-traces")*('Juin-détails'!$D$2:$G$108)))+(SUMPRODUCT(('Juin-détails'!$B$2:$B$108=$B6)*('Juin-détails'!$K$2:$K$108="tab-ailes")*('Juin-détails'!$D$2:$G$108)))+(SUMPRODUCT(('Juin-détails'!$B$2:$B$108=$B6)*('Juin-détails'!$L$2:$L$108="tab-découv")*('Juin-détails'!$D$2:$G$108)))+(SUMPRODUCT(('Juin-détails'!$B$2:$B$108=$B6)*('Juin-détails'!$L$2:$L$108="tab-homme")*('Juin-détails'!$D$2:$G$108)))+(SUMPRODUCT(('Juin-détails'!$B$2:$B$108=$B6)*('Juin-détails'!$L$2:$L$108="tab-traces")*('Juin-détails'!$D$2:$G$108)))+(SUMPRODUCT(('Juin-détails'!$B$2:$B$108=$B6)*('Juin-détails'!$L$2:$L$108="tab-ailes")*('Juin-détails'!$D$2:$G$108))))/15 -> 0 | M6: =(SUMPRODUCT(('Juin-détails'!$B$2:$B$108=$B6)*('Juin-détails'!$K$2:$K$108="atelier-oiso")*('Juin-détails'!$D$2:$G$108)))+(SUMPRODUCT(('Juin-détails'!$B$2:$B$108=$B6)*('Juin-détails'!$K$2:$K$108="atelier-bouc")*('Juin-détails'!$D$2:$G$108)))+(SUMPRODUCT(('Juin-détails'!$B$2:$B$108=$B6)*('Juin-détails'!$K$2:$K$108="atelier-traces")*('Juin-détails'!$D$2:$G$108)))+(SUMPRODUCT(('Juin-détails'!$B$2:$B$108=$B6)*('Juin-détails'!$L$2:$L$108="atelier-oiso")*('Juin-détails'!$D$2:$G$108)))+(SUMPRODUCT(('Juin-détails'!$B$2:$B$108=$B6)*('Juin-détails'!$L$2:$L$108="atelier-oiso")*('Juin-détails'!$D$2:$G$108)))+(SUMPRODUCT(('Juin-détails'!$B$2:$B$108=$B6)*('Juin-détails'!$L$2:$L$108="atelier-traces")*('Juin-détails'!$D$2:$G$108))) -> 180 | N6: =(SUMPRODUCT(('Juin-détails'!$B$2:$B$108=$B6)*('Juin-détails'!$K$2:$K$108="visite-guidee")*('Juin-détails'!$D$2:$G$108)))+(SUMPRODUCT(('Juin-détails'!$B$2:$B$108=$B6)*('Juin-détails'!$L$2:$L$108="visite-guidee")*('Juin-détails'!$D$2:$G$108))) -> 0 | O6: =(SUMPRODUCT(('Juin-détails'!$B$2:$B$108=$B6)*('Juin-détails'!$K$2:$K$108="plein’air")*('Juin-détails'!$D$2:$G$108)))+(SUMPRODUCT(('Juin-détails'!$B$2:$B$108=$B6)*('Juin-détails'!$K$2:$K$108="event")*('Juin-détails'!$D$2:$G$108)))+(SUMPRODUCT(('Juin-détails'!$B$2:$B$108=$B6)*('Juin-détails'!$L$2:$L$108="plein’air")*('Juin-détails'!$D$2:$G$108)))+(SUMPRODUCT(('Juin-détails'!$B$2:$B$108=$B6)*('Juin-détails'!$L$2:$L$108="event")*('Juin-détails'!$D$2:$G$108))) -> 0
A7: =CHOOSE(WEEKDAY(B7,2),"lundi","mardi","mercredi","jeudi","vendredi","samedi","dimanche") -> vendredi | B7: 41796 | C7: =SUMPRODUCT(('Juin-détails'!$B$2:$B$108=$B7)*('Juin-détails'!$C$2:$C$108<TIMEVALUE("12:30"))*('Juin-détails'!$D$2:$G$108)) -> 356 | D7: =SUMPRODUCT(('Juin-détails'!$B$2:$B$108=$B7)*('Juin-détails'!$H$2:$H$108<>"...")*('Juin-détails'!$D$2:$G$108)) -> 356 | E7: =SUMPRODUCT(('Juin-détails'!$B$2:$B$108=$B7)*('Juin-détails'!$J$2:$J$108="...")*('Juin-détails'!$C$2:$C$108>TIMEVALUE("12:30"))*('Juin-détails'!$D$2:$G$108)) -> 0 | F7: =SUMPRODUCT(('Juin-détails'!$B$2:$B$108=$B7)*('Juin-détails'!$J$2:$J$108=$F$1)*('Juin-détails'!$D$2:$G$108)) -> 0 | G7: =SUMPRODUCT(('Juin-détails'!$B$2:$B$108=$B7)*('Juin-détails'!$J$2:$J$108=$G$1)*('Juin-détails'!$D$2:$G$108)) -> 356 | H7: =SUMPRODUCT(('Juin-détails'!$B$2:$B$108=$B7)*('Juin-détails'!$J$2:$J$108=$H$1)*('Juin-détails'!$D$2:$G$108)) -> 40 | I7: =SUMPRODUCT(('Juin-détails'!$B$2:$B$108=$B7)*('Juin-détails'!$J$2:$J$108=$I$1)*('Juin-détails'!$D$2:$G$108)) -> 0 | J7: =(SUMPRODUCT(('Juin-détails'!$B$2:$B$108=$B7)*('Juin-détails'!$I$2:$I$108="PicNic")*('Juin-détails'!$D$2:$G$108)))+(SUMPRODUCT(('Juin-détails'!$B$2:$B$108=$B7)*('Juin-détails'!$I$2:$I$108="Flamm")*('Juin-détails'!$D$2:$G$108)))+(SUMPRODUCT(('Juin-détails'!$B$2:$B$108=$B7)*('Juin-détails'!$I$2:$I$108="Pouce")*('Juin-détails'!$D$2:$G$108))) -> 0 | K7: =(SUMPRODUCT(('Juin-détails'!$B$2:$B$108=$B7)*('Juin-détails'!$K$2:$K$108="pti-déJ")*('Juin-détails'!$D$2:$G$108)))+(SUMPRODUCT(('Juin-détails'!$B$2:$B$108=$B7)*('Juin-détails'!$K$2:$K$108="pause-sucrée")*('Juin-détails'!$D$2:$G$108)))+(SUMPRODUCT(('Juin-détails'!$B$2:$B$108=$B7)*('Juin-détails'!$K$2:$K$108="pause-salé")*('Juin-détails'!$D$2:$G$108)))+(SUMPRODUCT(('Juin-détails'!$B$2:$B$108=$B7)*('Juin-détails'!$L$2:$L$108="pti-déJ")*('Juin-détails'!$D$2:$G$108)))+(SUMPRODUCT(('Juin-détails'!$B$2:$B$108=$B7)*('Juin-détails'!$L$2:$L$108="pause-sucrée")*('Juin-détails'!$D$2:$G$108)))+(SUMPRODUCT(('Juin-détails'!$B$2:$B$108=$B7)*('Juin-détails'!$L$2:$L$108="pause-salé")*('Juin-détails'!$D$2:$G$108))) -> 0 | L7: =((SUMPRODUCT(('Juin-détails'!$B$2:$B$108=$B7)*('Juin-détails'!$K$2:$K$108="tab-découv")*('Juin-détails'!$D$2:$G$108)))+(SUMPRODUCT(('Juin-détails'!$B$2:$B$108=$B7)*('Juin-détails'!$K$2:$K$108="tab-homme")*('Juin-détails'!$D$2:$G$108)))+(SUMPRODUCT(('Juin-détails'!$B$2:$B$108=$B7)*('Juin-détails'!$K$2:$K$108="tab-traces")*('Juin-détails'!$D$2:$G$108)))+(SUMPRODUCT(('Juin-détails'!$B$2:$B$108=$B7)*('Juin-détails'!$K$2:$K$108="tab-ailes")*('Juin-détails'!$D$2:$G$108)))+(SUMPRODUCT(('Juin-détails'!$B$2:$B$108=$B7)*('Juin-détails'!$L$2:$L$108="tab-découv")*('Juin-détails'!$D$2:$G$108)))+(SUMPRODUCT(('Juin-détails'!$B$2:$B$108=$B7)*('Juin-détails'!$L$2:$L$108="tab-homme")*('Juin-détails'!$D$2:$G$108)))+(SUMPRODUCT(('Juin-détails'!$B$2:$B$108=$B7)*('Juin-détails'!$L$2:$L$108="tab-traces")*('Juin-détails'!$D$2:$G$108)))+(SUMPRODUCT(('Juin-détails'!$B$2:$B$108=$B7)*('Juin-détails'!$L$2:$L$108="tab-ailes")*('Juin-détails'!$D$2:$G$108))))/15 -> 3.7333333 | M7: =(SUMPRODUCT(('Juin-détails'!$B$2:$B$108=$B7)*('Juin-détails'!$K$2:$K$108="atelier-oiso")*('Juin-détails'!$D$2:$G$108)))+(SUMPRODUCT(('Juin-détails'!$B$2:$B$108=$B7)*('Juin-détails'!$K$2:$K$108="atelier-bouc")*('Juin-détails'!$D$2:$G$108)))+(SUMPRODUCT(('Juin-détails'!$B$2:$B$108=$B7)*('Juin-détails'!$K$2:$K$108="atelier-traces")*('Juin-détails'!$D$2:$G$108)))+(SUMPRODUCT(('Juin-détails'!$B$2:$B$108=$B7)*('Juin-détails'!$L$2:$L$108="atelier-oiso")*('Juin-détails'!$D$2:$G$108)))+(SUMPRODUCT(('Juin-détails'!$B$2:$B$108=$B7)*('Juin-détails'!$L$2:$L$108="atelier-oiso")*('Juin-détails'!$D$2:$G$108)))+(SUMPRODUCT(('Juin-détails'!$B$2:$B$108=$B7)*('Juin-détails'!$L$2:$L$108="atelier-traces")*('Juin-détails'!$D$2:$G$108))) -> 240 | N7: =(SUMPRODUCT(('Juin-détails'!$B$2:$B$108=$B7)*('Juin-détails'!$K$2:$K$108="visite-guidee")*('Juin-détails'!$D$2:$G$108)))+(SUMPRODUCT(('Juin-détails'!$B$2:$B$108=$B7)*('Juin-détails'!$L$2:$L$108="visite-guidee")*('Juin-détails'!$D$2:$G$108))) -> 0 | O7: =(SUMPRODUCT(('Juin-détails'!$B$2:$B$108=$B7)*('Juin-détails'!$K$2:$K$108="plein’air")*('Juin-détails'!$D$2:$G$108)))+(SUMPRODUCT(('Juin-détails'!$B$2:$B$108=$B7)*('Juin-détails'!$K$2:$K$108="event")*('Juin-détails'!$D$2:$G$108)))+(SUMPRODUCT(('Juin-détails'!$B$2:$B$108=$B7)*('Juin-détails'!$L$2:$L$108="plein’air")*('Juin-détails'!$D$2:$G$108)))+(SUMPRODUCT(('Juin-détails'!$B$2:$B$108=$B7)*('Juin-détails'!$L$2:$L$108="event")*('Juin-détails'!$D$2:$G$108))) -> 0
A8: =CHOOSE(WEEKDAY(B8,2),"lundi","mardi","mercredi","jeudi","vendredi","samedi","dimanche") -> samedi | B8: 41797 | C8: =SUMPRODUCT(('Juin-détails'!$B$2:$B$108=$B8)*('Juin-détails'!$C$2:$C$108<TIMEVALUE("12:30"))*('Juin-détails'!$D$2:$G$108)) -> 0 | D8: =SUMPRODUCT(('Juin-détails'!$B$2:$B$108=$B8)*('Juin-détails'!$H$2:$H$108<>"...")*('Juin-détails'!$D$2:$G$108)) -> 0 | E8: =SUMPRODUCT(('Juin-détails'!$B$2:$B$108=$B8)*('Juin-détails'!$J$2:$J$108="...")*('Juin-détails'!$C$2:$C$108>TIMEVALUE("12:30"))*('Juin-détails'!$D$2:$G$108)) -> 140 | F8: =SUMPRODUCT(('Juin-détails'!$B$2:$B$108=$B8)*('Juin-détails'!$J$2:$J$108=$F$1)*('Juin-détails'!$D$2:$G$108)) -> 0 | G8: =SUMPRODUCT(('Juin-détails'!$B$2:$B$108=$B8)*('Juin-détails'!$J$2:$J$108=$G$1)*('Juin-détails'!$D$2:$G$108)) -> 0 | H8: =SUMPRODUCT(('Juin-détails'!$B$2:$B$108=$B8)*('Juin-détails'!$J$2:$J$108=$H$1)*('Juin-détails'!$D$2:$G$108)) -> 0 | I8: =SUMPRODUCT(('Juin-détails'!$B$2:$B$108=$B8)*('Juin-détails'!$J$2:$J$108=$I$1)*('Juin-détails'!$D$2:$G$108)) -> 0 | J8: =(SUMPRODUCT(('Juin-détails'!$B$2:$B$108=$B8)*('Juin-détails'!$I$2:$I$108="PicNic")*('Juin-détails'!$D$2:$G$108)))+(SUMPRODUCT(('Juin-détails'!$B$2:$B$108=$B8)*('Juin-détails'!$I$2:$I$108="Flamm")*('Juin-détails'!$D$2:$G$108)))+(SUMPRODUCT(('Juin-détails'!$B$2:$B$108=$B8)*('Juin-détails'!$I$2:$I$108="Pouce")*('Juin-détails'!$D$2:$G$108))) -> 0 | K8: =(SUMPRODUCT(('Juin-détails'!$B$2:$B$108=$B8)*('Juin-détails'!$K$2:$K$108="pti-déJ")*('Juin-détails'!$D$2:$G$108)))+(SUMPRODUCT(('Juin-détails'!$B$2:$B$108=$B8)*('Juin-détails'!$K$2:$K$108="pause-sucrée")*('Juin-détails'!$D$2:$G$108)))+(SUMPRODUCT(('Juin-détails'!$B$2:$B$108=$B8)*('Juin-détails'!$K$2:$K$108="pause-salé")*('Juin-détails'!$D$2:$G$108)))+(SUMPRODUCT(('Juin-détails'!$B$2:$B$108=$B8)*('Juin-détails'!$L$2:$L$108="pti-déJ")*('Juin-détails'!$D$2:$G$108)))+(SUMPRODUCT(('Juin-détails'!$B$2:$B$108=$B8)*('Juin-détails'!$L$2:$L$108="pause-sucrée")*('Juin-détails'!$D$2:$G$108)))+(SUMPRODUCT(('Juin-détails'!$B$2:$B$108=$B8)*('Juin-détails'!$L$2:$L$108="pause-salé")*('Juin-détails'!$D$2:$G$108))) -> 0 | L8: =((SUMPRODUCT(('Juin-détails'!$B$2:$B$108=$B8)*('Juin-détails'!$K$2:$K$108="tab-découv")*('Juin-détails'!$D$2:$G$108)))+(SUMPRODUCT(('Juin-détails'!$B$2:$B$108=$B8)*('Juin-détails'!$K$2:$K$108="tab-homme")*('Juin-détails'!$D$2:$G$108)))+(SUMPRODUCT(('Juin-détails'!$B$2:$B$108=$B8)*('Juin-détails'!$K$2:$K$108="tab-traces")*('Juin-détails'!$D$2:$G$108)))+(SUMPRODUCT(('Juin-détails'!$B$2:$B$108=$B8)*('Juin-détails'!$K$2:$K$108="tab-ailes")*('Juin-détails'!$D$2:$G$108)))+(SUMPRODUCT(('Juin-détails'!$B$2:$B$108=$B8)*('Juin-détails'!$L$2:$L$108="tab-découv")*('Juin-détails'!$D$2:$G$108)))+(SUMPRODUCT(('Juin-détails'!$B$2:$B$108=$B8)*('Juin-détails'!$L$2:$L$108="tab-homme")*('Juin-détails'!$D$2:$G$108)))+(SUMPRODUCT(('Juin-détails'!$B$2:$B$108=$B8)*('Juin-détails'!$L$2:$L$108="tab-traces")*('Juin-détails'!$D$2:$G$108)))+(SUMPRODUCT(('Juin-détails'!$B$2:$B$108=$B8)*('Juin-détails'!$L$2:$L$108="tab-ailes")*('Juin-détails'!$D$2:$G$108))))/15 -> 0 | M8: =(SUMPRODUCT(('Juin-détails'!$B$2:$B$108=$B8)*('Juin-détails'!$K$2:$K$108="atelier-oiso")*('Juin-détails'!$D$2:$G$108)))+(SUMPRODUCT(('Juin-détails'!$B$2:$B$108=$B8)*('Juin-détails'!$K$2:$K$108="atelier-bouc")*('Juin-détails'!$D$2:$G$108)))+(SUMPRODUCT(('Juin-détails'!$B$2:$B$108=$B8)*('Juin-détails'!$K$2:$K$108="atelier-traces")*('Juin-détails'!$D$2:$G$108)))+(SUMPRODUCT(('Juin-détails'!$B$2:$B$108=$B8)*('Juin-détails'!$L$2:$L$108="atelier-oiso")*('Juin-détails'!$D$2:$G$108)))+(SUMPRODUCT(('Juin-détails'!$B$2:$B$108=$B8)*('Juin-détails'!$L$2:$L$108="atelier-oiso")*('Juin-détails'!$D$2:$G$108)))+(SUMPRODUCT(('Juin-détails'!$B$2:$B$108=$B8)*('Juin-détails'!$L$2:$L$108="atelier-traces")*('Juin-détails'!$D$2:$G$108))) -> 0 | N8: =(SUMPRODUCT(('Juin-détails'!$B$2:$B$108=$B8)*('Juin-détails'!$K$2:$K$108="visite-guidee")*('Juin-détails'!$D$2:$G$108)))+(SUMPRODUCT(('Juin-détails'!$B$2:$B$108=$B8)*('Juin-détails'!$L$2:$L$108="visite-guidee")*('Juin-détails'!$D$2:$G$108))) -> 0 | O8: =(SUMPRODUCT(('Juin-détails'!$B$2:$B$108=$B8)*('Juin-détails'!$K$2:$K$108="plein’air")*('Juin-détails'!$D$2:$G$108)))+(SUMPRODUCT(('Juin-détails'!$B$2:$B$108=$B8)*('Juin-détails'!$K$2:$K$108="event")*('Juin-détails'!$D$2:$G$108)))+(SUMPRODUCT(('Juin-détails'!$B$2:$B$108=$B8)*('Juin-détails'!$L$2:$L$108="plein’air")*('Juin-détails'!$D$2:$G$108)))+(SUMPRODUCT(('Juin-détails'!$B$2:$B$108=$B8)*('Juin-détails'!$L$2:$L$108="event")*('Juin-détails'!$D$2:$G$108))) -> 0
A9: =CHOOSE(WEEKDAY(B9,2),"lundi","mardi","mercredi","jeudi","vendredi","samedi","dimanche") -> dimanche | B9: 41798 | C9: =SUMPRODUCT(('Juin-détails'!$B$2:$B$108=$B9)*('Juin-détails'!$C$2:$C$108<TIMEVALUE("12:30"))*('Juin-détails'!$D$2:$G$108)) -> 0 | D9: =SUMPRODUCT(('Juin-détails'!$B$2:$B$108=$B9)*('Juin-détails'!$H$2:$H$108<>"...")*('Juin-détails'!$D$2:$G$108)) -> 0 | E9: =SUMPRODUCT(('Juin-détails'!$B$2:$B$108=$B9)*('Juin-détails'!$J$2:$J$108="...")*('Juin-détails'!$C$2:$C$108>TIMEVALUE("12:30"))*('Juin-détails'!$D$2:$G$108)) -> 0 | F9: =SUMPRODUCT(('Juin-détails'!$B$2:$B$108=$B9)*('Juin-détails'!$J$2:$J$108=$F$1)*('Juin-détails'!$D$2:$G$108)) -> 0 | G9: =SUMPRODUCT(('Juin-détails'!$B$2:$B$108=$B9)*('Juin-détails'!$J$2:$J$108=$G$1)*('Juin-détails'!$D$2:$G$108)) -> 0 | H9: =SUMPRODUCT(('Juin-détails'!$B$2:$B$108=$B9)*('Juin-détails'!$J$2:$J$108=$H$1)*('Juin-détails'!$D$2:$G$108)) -> 80 | I9: =SUMPRODUCT(('Juin-détails'!$B$2:$B$108=$B9)*('Juin-détails'!$J$2:$J$108=$I$1)*('Juin-détails'!$D$2:$G$108)) -> 45 | J9: =(SUMPRODUCT(('Juin-détails'!$B$2:$B$108=$B9)*('Juin-détails'!$I$2:$I$108="PicNic")*('Juin-détails'!$D$2:$G$108)))+(SUMPRODUCT(('Juin-détails'!$B$2:$B$108=$B9)*('Juin-détails'!$I$2:$I$108="Flamm")*('Juin-détails'!$D$2:$G$108)))+(SUMPRODUCT(('Juin-détails'!$B$2:$B$108=$B9)*('Juin-détails'!$I$2:$I$108="Pouce")*('Juin-détails'!$D$2:$G$108))) -> 0 | K9: =(SUMPRODUCT(('Juin-détails'!$B$2:$B$108=$B9)*('Juin-détails'!$K$2:$K$108="pti-déJ")*('Juin-détails'!$D$2:$G$108)))+(SUMPRODUCT(('Juin-détails'!$B$2:$B$108=$B9)*('Juin-détails'!$K$2:$K$108="pause-sucrée")*('Juin-détails'!$D$2:$G$108)))+(SUMPRODUCT(('Juin-détails'!$B$2:$B$108=$B9)*('Juin-détails'!$K$2:$K$108="pause-salé")*('Juin-détails'!$D$2:$G$108)))+(SUMPRODUCT(('Juin-détails'!$B$2:$B$108=$B9)*('Juin-détails'!$L$2:$L$108="pti-déJ")*('Juin-détails'!$D$2:$G$108)))+(SUMPRODUCT(('Juin-détails'!$B$2:$B$108=$B9)*('Juin-détails'!$L$2:$L$108="pause-sucrée")*('Juin-détails'!$D$2:$G$108)))+(SUMPRODUCT(('Juin-détails'!$B$2:$B$108=$B9)*('Juin-détails'!$L$2:$L$108="pause-salé")*('Juin-détails'!$D$2:$G$108))) -> 0 | L9: =((SUMPRODUCT(('Juin-détails'!$B$2:$B$108=$B9)*('Juin-détails'!$K$2:$K$108="tab-découv")*('Juin-détails'!$D$2:$G$108)))+(SUMPRODUCT(('Juin-détails'!$B$2:$B$108=$B9)*('Juin-détails'!$K$2:$K$108="tab-homme")*('Juin-détails'!$D$2:$G$108)))+(SUMPRODUCT(('Juin-détails'!$B$2:$B$108=$B9)*('Juin-détails'!$K$2:$K$108="tab-traces")*('Juin-détails'!$D$2:$G$108)))+(SUMPRODUCT(('Juin-détails'!$B$2:$B$108=$B9)*('Juin-détails'!$K$2:$K$108="tab-ailes")*('Juin-détails'!$D$2:$G$108)))+(SUMPRODUCT(('Juin-détails'!$B$2:$B$108=$B9)*('Juin-détails'!$L$2:$L$108="tab-découv")*('Juin-détails'!$D$2:$G$108)))+(SUMPRODUCT(('Juin-détails'!$B$2:$B$108=$B9)*('Juin-détails'!$L$2:$L$108="tab-homme")*('Juin-détails'!$D$2:$G$108)))+(SUMPRODUCT(('Juin-détails'!$B$2:$B$108=$B9)*('Juin-détails'!$L$2:$L$108="tab-traces")*('Juin-détails'!$D$2:$G$108)))+(SUMPRODUCT(('Juin-détails'!$B$2:$B$108=$B9)*('Juin-détails'!$L$2:$L$108="tab-ailes")*('Juin-détails'!$D$2:$G$108))))/15 -> 0 | M9: =(SUMPRODUCT(('Juin-détails'!$B$2:$B$108=$B9)*('Juin-détails'!$K$2:$K$108="atelier-oiso")*('Juin-détails'!$D$2:$G$108)))+(SUMPRODUCT(('Juin-détails'!$B$2:$B$108=$B9)*('Juin-détails'!$K$2:$K$108="atelier-bouc")*('Juin-détails'!$D$2:$G$108)))+(SUMPRODUCT(('Juin-détails'!$B$2:$B$108=$B9)*('Juin-détails'!$K$2:$K$108="atelier-traces")*('Juin-détails'!$D$2:$G$108)))+(SUMPRODUCT(('Juin-détails'!$B$2:$B$108=$B9)*('Juin-détails'!$L$2:$L$108="atelier-oiso")*('Juin-détails'!$D$2:$G$108)))+(SUMPRODUCT(('Juin-détails'!$B$2:$B$108=$B9)*('Juin-détails'!$L$2:$L$108="atelier-oiso")*('Juin-détails'!$D$2:$G$108)))+(SUMPRODUCT(('Juin-détails'!$B$2:$B$108=$B9)*('Juin-détails'!$L$2:$L$108="atelier-traces")*('Juin-détails'!$D$2:$G$108))) -> 0 | N9: =(SUMPRODUCT(('Juin-détails'!$B$2:$B$108=$B9)*('Juin-détails'!$K$2:$K$108="visite-guidee")*('Juin-détails'!$D$2:$G$108)))+(SUMPRODUCT(('Juin-détails'!$B$2:$B$108=$B9)*('Juin-détails'!$L$2:$L$108="visite-guidee")*('Juin-détails'!$D$2:$G$108))) -> 0 | O9: =(SUMPRODUCT(('Juin-détails'!$B$2:$B$108=$B9)*('Juin-détails'!$K$2:$K$108="plein’air")*('Juin-détails'!$D$2:$G$108)))+(SUMPRODUCT(('Juin-détails'!$B$2:$B$108=$B9)*('Juin-détails'!$K$2:$K$108="event")*('Juin-détails'!$D$2:$G$108)))+(SUMPRODUCT(('Juin-détails'!$B$2:$B$108=$B9)*('Juin-détails'!$L$2:$L$108="plein’air")*('Juin-détails'!$D$2:$G$108)))+(SUMPRODUCT(('Juin-détails'!$B$2:$B$108=$B9)*('Juin-détails'!$L$2:$L$108="event")*('Juin-détails'!$D$2:$G$108))) -> 0
A10: =CHOOSE(WEEKDAY(B10,2),"lundi","mardi","mercredi","jeudi","vendredi","samedi","dimanche") -> lundi | B10: 41799 | C10: =SUMPRODUCT(('Juin-détails'!$B$2:$B$108=$B10)*('Juin-détails'!$C$2:$C$108<TIMEVALUE("12:30"))*('Juin-détails'!$D$2:$G$108)) -> 0 | D10: =SUMPRODUCT(('Juin-détails'!$B$2:$B$108=$B10)*('Juin-détails'!$H$2:$H$108<>"...")*('Juin-détails'!$D$2:$G$108)) -> 0 | E10: =SUMPRODUCT(('Juin-détails'!$B$2:$B$108=$B10)*('Juin-détails'!$J$2:$J$108="...")*('Juin-détails'!$C$2:$C$108>TIMEVALUE("12:30"))*('Juin-détails'!$D$2:$G$108)) -> 140 | F10: =SUMPRODUCT(('Juin-détails'!$B$2:$B$108=$B10)*('Juin-détails'!$J$2:$J$108=$F$1)*('Juin-détails'!$D$2:$G$108)) -> 0 | G10: =SUMPRODUCT(('Juin-détails'!$B$2:$B$108=$B10)*('Juin-détails'!$J$2:$J$108=$G$1)*('Juin-détails'!$D$2:$G$108)) -> 0 | H10: =SUMPRODUCT(('Juin-détails'!$B$2:$B$108=$B10)*('Juin-détails'!$J$2:$J$108=$H$1)*('Juin-détails'!$D$2:$G$108)) -> 0 | I10: =SUMPRODUCT(('Juin-détails'!$B$2:$B$108=$B10)*('Juin-détails'!$J$2:$J$108=$I$1)*('Juin-détails'!$D$2:$G$108)) -> 0 | J10: =(SUMPRODUCT(('Juin-détails'!$B$2:$B$108=$B10)*('Juin-détails'!$I$2:$I$108="PicNic")*('Juin-détails'!$D$2:$G$108)))+(SUMPRODUCT(('Juin-détails'!$B$2:$B$108=$B10)*('Juin-détails'!$I$2:$I$108="Flamm")*('Juin-détails'!$D$2:$G$108)))+(SUMPRODUCT(('Juin-détails'!$B$2:$B$108=$B10)*('Juin-détails'!$I$2:$I$108="Pouce")*('Juin-détails'!$D$2:$G$108))) -> 0 | K10: =(SUMPRODUCT(('Juin-détails'!$B$2:$B$108=$B10)*('Juin-détails'!$K$2:$K$108="pti-déJ")*('Juin-détails'!$D$2:$G$108)))+(SUMPRODUCT(('Juin-détails'!$B$2:$B$108=$B10)*('Juin-détails'!$K$2:$K$108="pause-sucrée")*('Juin-détails'!$D$2:$G$108)))+(SUMPRODUCT(('Juin-détails'!$B$2:$B$108=$B10)*('Juin-détails'!$K$2:$K$108="pause-salé")*('Juin-détails'!$D$2:$G$108)))+(SUMPRODUCT(('Juin-détails'!$B$2:$B$108=$B10)*('Juin-détails'!$L$2:$L$108="pti-déJ")*('Juin-détails'!$D$2:$G$108)))+(SUMPRODUCT(('Juin-détails'!$B$2:$B$108=$B10)*('Juin-détails'!$L$2:$L$108="pause-sucrée")*('Juin-détails'!$D$2:$G$108)))+(SUMPRODUCT(('Juin-détails'!$B$2:$B$108=$B10)*('Juin-détails'!$L$2:$L$108="pause-salé")*('Juin-détails'!$D$2:$G$108))) -> 0 | L10: =((SUMPRODUCT(('Juin-détails'!$B$2:$B$108=$B10)*('Juin-détails'!$K$2:$K$108="tab-découv")*('Juin-détails'!$D$2:$G$108)))+(SUMPRODUCT(('Juin-détails'!$B$2:$B$108=$B10)*('Juin-détails'!$K$2:$K$108="tab-homme")*('Juin-détails'!$D$2:$G$108)))+(SUMPRODUCT(('Juin-détails'!$B$2:$B$108=$B10)*('Juin-détails'!$K$2:$K$108="tab-traces")*('Juin-détails'!$D$2:$G$108)))+(SUMPRODUCT(('Juin-détails'!$B$2:$B$108=$B10)*('Juin-détails'!$K$2:$K$108="tab-ailes")*('Juin-détails'!$D$2:$G$108)))+(SUMPRODUCT(('Juin-détails'!$B$2:$B$108=$B10)*('Juin-détails'!$L$2:$L$108="tab-découv")*('Juin-détails'!$D$2:$G$108)))+(SUMPRODUCT(('Juin-détails'!$B$2:$B$108=$B10)*('Juin-détails'!$L$2:$L$108="tab-homme")*('Juin-détails'!$D$2:$G$108)))+(SUMPRODUCT(('Juin-détails'!$B$2:$B$108=$B10)*('Juin-détails'!$L$2:$L$108="tab-traces")*('Juin-détails'!$D$2:$G$108)))+(SUMPRODUCT(('Juin-détails'!$B$2:$B$108=$B10)*('Juin-détails'!$L$2:$L$108="tab-ailes")*('Juin-détails'!$D$2:$G$108))))/15 -> 0 | M10: =(SUMPRODUCT(('Juin-détails'!$B$2:$B$108=$B10)*('Juin-détails'!$K$2:$K$108="atelier-oiso")*('Juin-détails'!$D$2:$G$108)))+(SUMPRODUCT(('Juin-détails'!$B$2:$B$108=$B10)*('Juin-détails'!$K$2:$K$108="atelier-bouc")*('Juin-détails'!$D$2:$G$108)))+(SUMPRODUCT(('Juin-détails'!$B$2:$B$108=$B10)*('Juin-détails'!$K$2:$K$108="atelier-traces")*('Juin-détails'!$D$2:$G$108)))+(SUMPRODUCT(('Juin-détails'!$B$2:$B$108=$B10)*('Juin-détails'!$L$2:$L$108="atelier-oiso")*('Juin-détails'!$D$2:$G$108)))+(SUMPRODUCT(('Juin-détails'!$B$2:$B$108=$B10)*('Juin-détails'!$L$2:$L$108="atelier-oiso")*('Juin-détails'!$D$2:$G$108)))+(SUMPRODUCT(('Juin-détails'!$B$2:$B$108=$B10)*('Juin-détails'!$L$2:$L$108="atelier-traces")*('Juin-détails'!$D$2:$G$108))) -> 0 | N10: =(SUMPRODUCT(('Juin-détails'!$B$2:$B$108=$B10)*('Juin-détails'!$K$2:$K$108="visite-guidee")*('Juin-détails'!$D$2:$G$108)))+(SUMPRODUCT(('Juin-détails'!$B$2:$B$108=$B10)*('Juin-détails'!$L$2:$L$108="visite-guidee")*('Juin-détails'!$D$2:$G$108))) -> 0 | O10: =(SUMPRODUCT(('Juin-détails'!$B$2:$B$108=$B10)*('Juin-détails'!$K$2:$K$108="plein’air")*('Juin-détails'!$D$2:$G$108)))+(SUMPRODUCT(('Juin-détails'!$B$2:$B$108=$B10)*('Juin-détails'!$K$2:$K$108="event")*('Juin-détails'!$D$2:$G$108)))+(SUMPRODUCT(('Juin-détails'!$B$2:$B$108=$B10)*('Juin-détails'!$L$2:$L$108="plein’air")*('Juin-détails'!$D$2:$G$108)))+(SUMPRODUCT(('Juin-détails'!$B$2:$B$108=$B10)*('Juin-détails'!$L$2:$L$108="event")*('Juin-détails'!$D$2:$G$108))) -> 0
A11: =CHOOSE(WEEKDAY(B11,2),"lundi","mardi","mercredi","jeudi","vendredi","samedi","dimanche") -> mardi | B11: 41800 | C11: =SUMPRODUCT(('Juin-détails'!$B$2:$B$108=$B11)*('Juin-détails'!$C$2:$C$108<TIMEVALUE("12:30"))*('Juin-détails'!$D$2:$G$108)) -> 228 | D11: =SUMPRODUCT(('Juin-détails'!$B$2:$B$108=$B11)*('Juin-détails'!$H$2:$H$108<>"...")*('Juin-détails'!$D$2:$G$108)) -> 228 | E11: =SUMPRODUCT(('Juin-détails'!$B$2:$B$108=$B11)*('Juin-détails'!$J$2:$J$108="...")*('Juin-détails'!$C$2:$C$108>TIMEVALUE("12:30"))*('Juin-détails'!$D$2:$G$108)) -> 0 | F11: =SUMPRODUCT(('Juin-détails'!$B$2:$B$108=$B11)*('Juin-détails'!$J$2:$J$108=$F$1)*('Juin-détails'!$D$2:$G$108)) -> 0 | G11: =SUMPRODUCT(('Juin-détails'!$B$2:$B$108=$B11)*('Juin-détails'!$J$2:$J$108=$G$1)*('Juin-détails'!$D$2:$G$108)) -> 228 | H11: =SUMPRODUCT(('Juin-détails'!$B$2:$B$108=$B11)*('Juin-détails'!$J$2:$J$108=$H$1)*('Juin-détails'!$D$2:$G$108)) -> 72 | I11: =SUMPRODUCT(('Juin-détails'!$B$2:$B$108=$B11)*('Juin-détails'!$J$2:$J$108=$I$1)*('Juin-détails'!$D$2:$G$108)) -> 0 | J11: =(SUMPRODUCT(('Juin-détails'!$B$2:$B$108=$B11)*('Juin-détails'!$I$2:$I$108="PicNic")*('Juin-détails'!$D$2:$G$108)))+(SUMPRODUCT(('Juin-détails'!$B$2:$B$108=$B11)*('Juin-détails'!$I$2:$I$108="Flamm")*('Juin-détails'!$D$2:$G$108)))+(SUMPRODUCT(('Juin-détails'!$B$2:$B$108=$B11)*('Juin-détails'!$I$2:$I$108="Pouce")*('Juin-détails'!$D$2:$G$108))) -> 0 | K11: =(SUMPRODUCT(('Juin-détails'!$B$2:$B$108=$B11)*('Juin-détails'!$K$2:$K$108="pti-déJ")*('Juin-détails'!$D$2:$G$108)))+(SUMPRODUCT(('Juin-détails'!$B$2:$B$108=$B11)*('Juin-détails'!$K$2:$K$108="pause-sucrée")*('Juin-détails'!$D$2:$G$108)))+(SUMPRODUCT(('Juin-détails'!$B$2:$B$108=$B11)*('Juin-détails'!$K$2:$K$108="pause-salé")*('Juin-détails'!$D$2:$G$108)))+(SUMPRODUCT(('Juin-détails'!$B$2:$B$108=$B11)*('Juin-détails'!$L$2:$L$108="pti-déJ")*('Juin-détails'!$D$2:$G$108)))+(SUMPRODUCT(('Juin-détails'!$B$2:$B$108=$B11)*('Juin-détails'!$L$2:$L$108="pause-sucrée")*('Juin-détails'!$D$2:$G$108)))+(SUMPRODUCT(('Juin-détails'!$B$2:$B$108=$B11)*('Juin-détails'!$L$2:$L$108="pause-salé")*('Juin-détails'!$D$2:$G$108))) -> 0 | L11: =((SUMPRODUCT(('Juin-détails'!$B$2:$B$108=$B11)*('Juin-détails'!$K$2:$K$108="tab-découv")*('Juin-détails'!$D$2:$G$108)))+(SUMPRODUCT(('Juin-détails'!$B$2:$B$108=$B11)*('Juin-détails'!$K$2:$K$108="tab-homme")*('Juin-détails'!$D$2:$G$108)))+(SUMPRODUCT(('Juin-détails'!$B$2:$B$108=$B11)*('Juin-détails'!$K$2:$K$108="tab-traces")*('Juin-détails'!$D$2:$G$108)))+(SUMPRODUCT(('Juin-détails'!$B$2:$B$108=$B11)*('Juin-détails'!$K$2:$K$108="tab-ailes")*('Juin-détails'!$D$2:$G$108)))+(SUMPRODUCT(('Juin-détails'!$B$2:$B$108=$B11)*('Juin-détails'!$L$2:$L$108="tab-découv")*('Juin-détails'!$D$2:$G$108)))+(SUMPRODUCT(('Juin-détails'!$B$2:$B$108=$B11)*('Juin-détails'!$L$2:$L$108="tab-homme")*('Juin-détails'!$D$2:$G$108)))+(SUMPRODUCT(('Juin-détails'!$B$2:$B$108=$B11)*('Juin-détails'!$L$2:$L$108="tab-traces")*('Juin-détails'!$D$2:$G$108)))+(SUMPRODUCT(('Juin-détails'!$B$2:$B$108=$B11)*('Juin-détails'!$L$2:$L$108="tab-ailes")*('Juin-détails'!$D$2:$G$108))))/15 -> 4 | M11: =(SUMPRODUCT(('Juin-détails'!$B$2:$B$108=$B11)*('Juin-détails'!$K$2:$K$108="atelier-oiso")*('Juin-détails'!$D$2:$G$108)))+(SUMPRODUCT(('Juin-détails'!$B$2:$B$108=$B11)*('Juin-détails'!$K$2:$K$108="atelier-bouc")*('Juin-détails'!$D$2:$G$108)))+(SUMPRODUCT(('Juin-détails'!$B$2:$B$108=$B11)*('Juin-détails'!$K$2:$K$108="atelier-traces")*('Juin-détails'!$D$2:$G$108)))+(SUMPRODUCT(('Juin-détails'!$B$2:$B$108=$B11)*('Juin-détails'!$L$2:$L$108="atelier-oiso")*('Juin-détails'!$D$2:$G$108)))+(SUMPRODUCT(('Juin-détails'!$B$2:$B$108=$B11)*('Juin-détails'!$L$2:$L$108="atelier-oiso")*('Juin-détails'!$D$2:$G$108)))+(SUMPRODUCT(('Juin-détails'!$B$2:$B$108=$B11)*('Juin-détails'!$L$2:$L$108="atelier-traces")*('Juin-détails'!$D$2:$G$108))) -> 0 | N11: =(SUMPRODUCT(('Juin-détails'!$B$2:$B$108=$B11)*('Juin-détails'!$K$2:$K$108="visite-guidee")*('Juin-détails'!$D$2:$G$108)))+(SUMPRODUCT(('Juin-détails'!$B$2:$B$108=$B11)*('Juin-détails'!$L$2:$L$108="visite-guidee")*('Juin-détails'!$D$2:$G$108))) -> 0 | O11: =(SUMPRODUCT(('Juin-détails'!$B$2:$B$108=$B11)*('Juin-détails'!$K$2:$K$108="plein’air")*('Juin-détails'!$D$2:$G$108)))+(SUMPRODUCT(('Juin-détails'!$B$2:$B$108=$B11)*('Juin-détails'!$K$2:$K$108="event")*('Juin-détails'!$D$2:$G$108)))+(SUMPRODUCT(('Juin-détails'!$B$2:$B$108=$B11)*('Juin-détails'!$L$2:$L$108="plein’air")*('Juin-détails'!$D$2:$G$108)))+(SUMPRODUCT(('Juin-détails'!$B$2:$B$108=$B11)*('Juin-détails'!$L$2:$L$108="event")*('Juin-détails'!$D$2:$G$108))) -> 0
A12: =CHOOSE(WEEKDAY(B12,2),"lundi","mardi","mercredi","jeudi","vendredi","samedi","dimanche") -> mercredi | B12: 41801 | C12: =SUMPRODUCT(('Juin-détails'!$B$2:$B$108=$B12)*('Juin-détails'!$C$2:$C$108<TIMEVALUE("12:30"))*('Juin-détails'!$D$2:$G$108)) -> 0 | D12: =SUMPRODUCT(('Juin-détails'!$B$2:$B$108=$B12)*('Juin-détails'!$H$2:$H$108<>"...")*('Juin-détails'!$D$2:$G$108)) -> 0 | E12: =SUMPRODUCT(('Juin-détails'!$B$2:$B$108=$B12)*('Juin-détails'!$J$2:$J$108="...")*('Juin-détails'!$C$2:$C$108>TIMEVALUE("12:30"))*('Juin-détails'!$D$2:$G$108)) -> 0 | F12: =SUMPRODUCT(('Juin-détails'!$B$2:$B$108=$B12)*('Juin-détails'!$J$2:$J$108=$F$1)*('Juin-détails'!$D$2:$G$108)) -> 0 | G12: =SUMPRODUCT(('Juin-détails'!$B$2:$B$108=$B12)*('Juin-détails'!$J$2:$J$108=$G$1)*('Juin-détails'!$D$2:$G$108)) -> 0 | H12: =SUMPRODUCT(('Juin-détails'!$B$2:$B$108=$B12)*('Juin-détails'!$J$2:$J$108=$H$1)*('Juin-détails'!$D$2:$G$108)) -> 38 | I12: =SUMPRODUCT(('Juin-détails'!$B$2:$B$108=$B12)*('Juin-détails'!$J$2:$J$108=$I$1)*('Juin-détails'!$D$2:$G$108)) -> 0 | J12: =(SUMPRODUCT(('Juin-détails'!$B$2:$B$108=$B12)*('Juin-détails'!$I$2:$I$108="PicNic")*('Juin-détails'!$D$2:$G$108)))+(SUMPRODUCT(('Juin-détails'!$B$2:$B$108=$B12)*('Juin-détails'!$I$2:$I$108="Flamm")*('Juin-détails'!$D$2:$G$108)))+(SUMPRODUCT(('Juin-détails'!$B$2:$B$108=$B12)*('Juin-détails'!$I$2:$I$108="Pouce")*('Juin-détails'!$D$2:$G$108))) -> 0 | K12: =(SUMPRODUCT(('Juin-détails'!$B$2:$B$108=$B12)*('Juin-détails'!$K$2:$K$108="pti-déJ")*('Juin-détails'!$D$2:$G$108)))+(SUMPRODUCT(('Juin-détails'!$B$2:$B$108=$B12)*('Juin-détails'!$K$2:$K$108="pause-sucrée")*('Juin-détails'!$D$2:$G$108)))+(SUMPRODUCT(('Juin-détails'!$B$2:$B$108=$B12)*('Juin-détails'!$K$2:$K$108="pause-salé")*('Juin-détails'!$D$2:$G$108)))+(SUMPRODUCT(('Juin-détails'!$B$2:$B$108=$B12)*('Juin-détails'!$L$2:$L$108="pti-déJ")*('Juin-détails'!$D$2:$G$108)))+(SUMPRODUCT(('Juin-détails'!$B$2:$B$108=$B12)*('Juin-détails'!$L$2:$L$108="pause-sucrée")*('Juin-détails'!$D$2:$G$108)))+(SUMPRODUCT(('Juin-détails'!$B$2:$B$108=$B12)*('Juin-détails'!$L$2:$L$108="pause-salé")*('Juin-détails'!$D$2:$G$108))) -> 0 | L12: =((SUMPRODUCT(('Juin-détails'!$B$2:$B$108=$B12)*('Juin-détails'!$K$2:$K$108="tab-découv")*('Juin-détails'!$D$2:$G$108)))+(SUMPRODUCT(('Juin-détails'!$B$2:$B$108=$B12)*('Juin-détails'!$K$2:$K$108="tab-homme")*('Juin-détails'!$D$2:$G$108)))+(SUMPRODUCT(('Juin-détails'!$B$2:$B$108=$B12)*('Juin-détails'!$K$2:$K$108="tab-traces")*('Juin-détails'!$D$2:$G$108)))+(SUMPRODUCT(('Juin-détails'!$B$2:$B$108=$B12)*('Juin-détails'!$K$2:$K$108="tab-ailes")*('Juin-détails'!$D$2:$G$108)))+(SUMPRODUCT(('Juin-détails'!$B$2:$B$108=$B12)*('Juin-détails'!$L$2:$L$108="tab-découv")*('Juin-détails'!$D$2:$G$108)))+(SUMPRODUCT(('Juin-détails'!$B$2:$B$108=$B12)*('Juin-détails'!$L$2:$L$108="tab-homme")*('Juin-détails'!$D$2:$G$108)))+(SUMPRODUCT(('Juin-détails'!$B$2:$B$108=$B12)*('Juin-détails'!$L$2:$L$108="tab-traces")*('Juin-détails'!$D$2:$G$108)))+(SUMPRODUCT(('Juin-détails'!$B$2:$B$108=$B12)*('Juin-détails'!$L$2:$L$108="tab-ailes")*('Juin-détails'!$D$2:$G$108))))/15 -> 0 | M12: =(SUMPRODUCT(('Juin-détails'!$B$2:$B$108=$B12)*('Juin-détails'!$K$2:$K$108="atelier-oiso")*('Juin-détails'!$D$2:$G$108)))+(SUMPRODUCT(('Juin-détails'!$B$2:$B$108=$B12)*('Juin-détails'!$K$2:$K$108="atelier-bouc")*('Juin-détails'!$D$2:$G$108)))+(SUMPRODUCT(('Juin-détails'!$B$2:$B$108=$B12)*('Juin-détails'!$K$2:$K$108="atelier-traces")*('Juin-détails'!$D$2:$G$108)))+(SUMPRODUCT(('Juin-détails'!$B$2:$B$108=$B12)*('Juin-détails'!$L$2:$L$108="atelier-oiso")*('Juin-détails'!$D$2:$G$108)))+(SUMPRODUCT(('Juin-détails'!$B$2:$B$108=$B12)*('Juin-détails'!$L$2:$L$108="atelier-oiso")*('Juin-détails'!$D$2:$G$108)))+(SUMPRODUCT(('Juin-détails'!$B$2:$B$108=$B12)*('Juin-détails'!$L$2:$L$108="atelier-traces")*('Juin-détails'!$D$2:$G$108))) -> 0 | N12: =(SUMPRODUCT(('Juin-détails'!$B$2:$B$108=$B12)*('Juin-détails'!$K$2:$K$108="visite-guidee")*('Juin-détails'!$D$2:$G$108)))+(SUMPRODUCT(('Juin-détails'!$B$2:$B$108=$B12)*('Juin-détails'!$L$2:$L$108="visite-guidee")*('Juin-détails'!$D$2:$G$108))) -> 0 | O12: =(SUMPRODUCT(('Juin-détails'!$B$2:$B$108=$B12)*('Juin-détails'!$K$2:$K$108="plein’air")*('Juin-détails'!$D$2:$G$108)))+(SUMPRODUCT(('Juin-détails'!$B$2:$B$108=$B12)*('Juin-détails'!$K$2:$K$108="event")*('Juin-détails'!$D$2:$G$108)))+(SUMPRODUCT(('Juin-détails'!$B$2:$B$108=$B12)*('Juin-détails'!$L$2:$L$108="plein’air")*('Juin-détails'!$D$2:$G$108)))+(SUMPRODUCT(('Juin-détails'!$B$2:$B$108=$B12)*('Juin-détails'!$L$2:$L$108="event")*('Juin-détails'!$D$2:$G$108))) -> 0
A13: =CHOOSE(WEEKDAY(B13,2),"lundi","mardi","mercredi","jeudi","vendredi","samedi","dimanche") -> jeudi | B13: 41802 | C13: =SUMPRODUCT(('Juin-détails'!$B$2:$B$108=$B13)*('Juin-détails'!$C$2:$C$108<TIMEVALUE("12:30"))*('Juin-détails'!$D$2:$G$108)) -> 310 | D13: =SUMPRODUCT(('Juin-détails'!$B$2:$B$108=$B13)*('Juin-détails'!$H$2:$H$108<>"...")*('Juin-détails'!$D$2:$G$108)) -> 136 | E13: =SUMPRODUCT(('Juin-détails'!$B$2:$B$108=$B13)*('Juin-détails'!$J$2:$J$108="...")*('Juin-détails'!$C$2:$C$108>TIMEVALUE("12:30"))*('Juin-détails'!$D$2:$G$108)) -> 140 | F13: =SUMPRODUCT(('Juin-détails'!$B$2:$B$108=$B13)*('Juin-détails'!$J$2:$J$108=$F$1)*('Juin-détails'!$D$2:$G$108)) -> 136 | G13: =SUMPRODUCT(('Juin-détails'!$B$2:$B$108=$B13)*('Juin-détails'!$J$2:$J$108=$G$1)*('Juin-détails'!$D$2:$G$108)) -> 0 | H13: =SUMPRODUCT(('Juin-détails'!$B$2:$B$108=$B13)*('Juin-détails'!$J$2:$J$108=$H$1)*('Juin-détails'!$D$2:$G$108)) -> 0 | I13: =SUMPRODUCT(('Juin-détails'!$B$2:$B$108=$B13)*('Juin-détails'!$J$2:$J$108=$I$1)*('Juin-détails'!$D$2:$G$108)) -> 0 | J13: =(SUMPRODUCT(('Juin-détails'!$B$2:$B$108=$B13)*('Juin-détails'!$I$2:$I$108="PicNic")*('Juin-détails'!$D$2:$G$108)))+(SUMPRODUCT(('Juin-détails'!$B$2:$B$108=$B13)*('Juin-détails'!$I$2:$I$108="Flamm")*('Juin-détails'!$D$2:$G$108)))+(SUMPRODUCT(('Juin-détails'!$B$2:$B$108=$B13)*('Juin-détails'!$I$2:$I$108="Pouce")*('Juin-détails'!$D$2:$G$108))) -> 0 | K13: =(SUMPRODUCT(('Juin-détails'!$B$2:$B$108=$B13)*('Juin-détails'!$K$2:$K$108="pti-déJ")*('Juin-détails'!$D$2:$G$108)))+(SUMPRODUCT(('Juin-détails'!$B$2:$B$108=$B13)*('Juin-détails'!$K$2:$K$108="pause-sucrée")*('Juin-détails'!$D$2:$G$108)))+(SUMPRODUCT(('Juin-détails'!$B$2:$B$108=$B13)*('Juin-détails'!$K$2:$K$108="pause-salé")*('Juin-détails'!$D$2:$G$108)))+(SUMPRODUCT(('Juin-détails'!$B$2:$B$108=$B13)*('Juin-détails'!$L$2:$L$108="pti-déJ")*('Juin-détails'!$D$2:$G$108)))+(SUMPRODUCT(('Juin-détails'!$B$2:$B$108=$B13)*('Juin-détails'!$L$2:$L$108="pause-sucrée")*('Juin-détails'!$D$2:$G$108)))+(SUMPRODUCT(('Juin-détails'!$B$2:$B$108=$B13)*('Juin-détails'!$L$2:$L$108="pause-salé")*('Juin-détails'!$D$2:$G$108))) -> 0 | L13: =((SUMPRODUCT(('Juin-détails'!$B$2:$B$108=$B13)*('Juin-détails'!$K$2:$K$108="tab-découv")*('Juin-détails'!$D$2:$G$108)))+(SUMPRODUCT(('Juin-détails'!$B$2:$B$108=$B13)*('Juin-détails'!$K$2:$K$108="tab-homme")*('Juin-détails'!$D$2:$G$108)))+(SUMPRODUCT(('Juin-détails'!$B$2:$B$108=$B13)*('Juin-détails'!$K$2:$K$108="tab-traces")*('Juin-détails'!$D$2:$G$108)))+(SUMPRODUCT(('Juin-détails'!$B$2:$B$108=$B13)*('Juin-détails'!$K$2:$K$108="tab-ailes")*('Juin-détails'!$D$2:$G$108)))+(SUMPRODUCT(('Juin-détails'!$B$2:$B$108=$B13)*('Juin-détails'!$L$2:$L$108="tab-découv")*('Juin-détails'!$D$2:$G$108)))+(SUMPRODUCT(('Juin-détails'!$B$2:$B$108=$B13)*('Juin-détails'!$L$2:$L$108="tab-homme")*('Juin-détails'!$D$2:$G$108)))+(SUMPRODUCT(('Juin-détails'!$B$2:$B$108=$B13)*('Juin-détails'!$L$2:$L$108="tab-traces")*('Juin-détails'!$D$2:$G$108)))+(SUMPRODUCT(('Juin-détails'!$B$2:$B$108=$B13)*('Juin-détails'!$L$2:$L$108="tab-ailes")*('Juin-détails'!$D$2:$G$108))))/15 -> 0 | M13: =(SUMPRODUCT(('Juin-détails'!$B$2:$B$108=$B13)*('Juin-détails'!$K$2:$K$108="atelier-oiso")*('Juin-détails'!$D$2:$G$108)))+(SUMPRODUCT(('Juin-détails'!$B$2:$B$108=$B13)*('Juin-détails'!$K$2:$K$108="atelier-bouc")*('Juin-détails'!$D$2:$G$108)))+(SUMPRODUCT(('Juin-détails'!$B$2:$B$108=$B13)*('Juin-détails'!$K$2:$K$108="atelier-traces")*('Juin-détails'!$D$2:$G$108)))+(SUMPRODUCT(('Juin-détails'!$B$2:$B$108=$B13)*('Juin-détails'!$L$2:$L$108="atelier-oiso")*('Juin-détails'!$D$2:$G$108)))+(SUMPRODUCT(('Juin-détails'!$B$2:$B$108=$B13)*('Juin-détails'!$L$2:$L$108="atelier-oiso")*('Juin-détails'!$D$2:$G$108)))+(SUMPRODUCT(('Juin-détails'!$B$2:$B$108=$B13)*('Juin-détails'!$L$2:$L$108="atelier-traces")*('Juin-détails'!$D$2:$G$108))) -> 0 | N13: =(SUMPRODUCT(('Juin-détails'!$B$2:$B$108=$B13)*('Juin-détails'!$K$2:$K$108="visite-guidee")*('Juin-détails'!$D$2:$G$108)))+(SUMPRODUCT(('Juin-détails'!$B$2:$B$108=$B13)*('Juin-détails'!$L$2:$L$108="visite-guidee")*('Juin-détails'!$D$2:$G$108))) -> 0 | O13: =(SUMPRODUCT(('Juin-détails'!$B$2:$B$108=$B13)*('Juin-détails'!$K$2:$K$108="plein’air")*('Juin-détails'!$D$2:$G$108)))+(SUMPRODUCT(('Juin-détails'!$B$2:$B$108=$B13)*('Juin-détails'!$K$2:$K$108="event")*('Juin-détails'!$D$2:$G$108)))+(SUMPRODUCT(('Juin-détails'!$B$2:$B$108=$B13)*('Juin-détails'!$L$2:$L$108="plein’air")*('Juin-détails'!$D$2:$G$108)))+(SUMPRODUCT(('Juin-détails'!$B$2:$B$108=$B13)*('Juin-détails'!$L$2:$L$108="event")*('Juin-détails'!$D$2:$G$108))) -> 0
... A31: =CHOOSE(WEEKDAY(B31,2),"lundi","mardi","mercredi","jeudi","vendredi","samedi","dimanche") -> lundi | B31: 41820 | C31: =SUMPRODUCT(('Juin-détails'!$B$2:$B$108=$B31)*('Juin-détails'!$C$2:$C$108<TIMEVALUE("12:30"))*('Juin-détails'!$D$2:$G$108)) -> 0 | D31: =SUMPRODUCT(('Juin-détails'!$B$2:$B$108=$B31)*('Juin-détails'!$H$2:$H$108<>"...")*('Juin-détails'!$D$2:$G$108)) -> 0 | E31: =SUMPRODUCT(('Juin-détails'!$B$2:$B$108=$B31)*('Juin-détails'!$J$2:$J$108="...")*('Juin-détails'!$C$2:$C$108>TIMEVALUE("12:30"))*('Juin-détails'!$D$2:$G$108)) -> 0 | F31: =SUMPRODUCT(('Juin-détails'!$B$2:$B$108=$B31)*('Juin-détails'!$J$2:$J$108=$F$1)*('Juin-détails'!$D$2:$G$108)) -> 0 | G31: =SUMPRODUCT(('Juin-détails'!$B$2:$B$108=$B31)*('Juin-détails'!$J$2:$J$108=$G$1)*('Juin-détails'!$D$2:$G$108)) -> 0 | H31: =SUMPRODUCT(('Juin-détails'!$B$2:$B$108=$B31)*('Juin-détails'!$J$2:$J$108=$H$1)*('Juin-détails'!$D$2:$G$108)) -> 40 | I31: =SUMPRODUCT(('Juin-détails'!$B$2:$B$108=$B31)*('Juin-détails'!$J$2:$J$108=$I$1)*('Juin-détails'!$D$2:$G$108)) -> 0 | J31: =(SUMPRODUCT(('Juin-détails'!$B$2:$B$108=$B31)*('Juin-détails'!$I$2:$I$108="PicNic")*('Juin-détails'!$D$2:$G$108)))+(SUMPRODUCT(('Juin-détails'!$B$2:$B$108=$B31)*('Juin-détails'!$I$2:$I$108="Flamm")*('Juin-détails'!$D$2:$G$108)))+(SUMPRODUCT(('Juin-détails'!$B$2:$B$108=$B31)*('Juin-détails'!$I$2:$I$108="Pouce")*('Juin-détails'!$D$2:$G$108))) -> 0 | K31: =(SUMPRODUCT(('Juin-détails'!$B$2:$B$108=$B31)*('Juin-détails'!$K$2:$K$108="pti-déJ")*('Juin-détails'!$D$2:$G$108)))+(SUMPRODUCT(('Juin-détails'!$B$2:$B$108=$B31)*('Juin-détails'!$K$2:$K$108="pause-sucrée")*('Juin-détails'!$D$2:$G$108)))+(SUMPRODUCT(('Juin-détails'!$B$2:$B$108=$B31)*('Juin-détails'!$K$2:$K$108="pause-salé")*('Juin-détails'!$D$2:$G$108)))+(SUMPRODUCT(('Juin-détails'!$B$2:$B$108=$B31)*('Juin-détails'!$L$2:$L$108="pti-déJ")*('Juin-détails'!$D$2:$G$108)))+(SUMPRODUCT(('Juin-détails'!$B$2:$B$108=$B31)*('Juin-détails'!$L$2:$L$108="pause-sucrée")*('Juin-détails'!$D$2:$G$108)))+(SUMPRODUCT(('Juin-détails'!$B$2:$B$108=$B31)*('Juin-détails'!$L$2:$L$108="pause-salé")*('Juin-détails'!$D$2:$G$108))) -> 0 | L31: =((SUMPRODUCT(('Juin-détails'!$B$2:$B$108=$B31)*('Juin-détails'!$K$2:$K$108="tab-découv")*('Juin-détails'!$D$2:$G$108)))+(SUMPRODUCT(('Juin-détails'!$B$2:$B$108=$B31)*('Juin-détails'!$K$2:$K$108="tab-homme")*('Juin-détails'!$D$2:$G$108)))+(SUMPRODUCT(('Juin-détails'!$B$2:$B$108=$B31)*('Juin-détails'!$K$2:$K$108="tab-traces")*('Juin-détails'!$D$2:$G$108)))+(SUMPRODUCT(('Juin-détails'!$B$2:$B$108=$B31)*('Juin-détails'!$K$2:$K$108="tab-ailes")*('Juin-détails'!$D$2:$G$108)))+(SUMPRODUCT(('Juin-détails'!$B$2:$B$108=$B31)*('Juin-détails'!$L$2:$L$108="tab-découv")*('Juin-détails'!$D$2:$G$108)))+(SUMPRODUCT(('Juin-détails'!$B$2:$B$108=$B31)*('Juin-détails'!$L$2:$L$108="tab-homme")*('Juin-détails'!$D$2:$G$108)))+(SUMPRODUCT(('Juin-détails'!$B$2:$B$108=$B31)*('Juin-détails'!$L$2:$L$108="tab-traces")*('Juin-détails'!$D$2:$G$108)))+(SUMPRODUCT(('Juin-détails'!$B$2:$B$108=$B31)*('Juin-détails'!$L$2:$L$108="tab-ailes")*('Juin-détails'!$D$2:$G$108))))/15 -> 0 | M31: =(SUMPRODUCT(('Juin-détails'!$B$2:$B$108=$B31)*('Juin-détails'!$K$2:$K$108="atelier-oiso")*('Juin-détails'!$D$2:$G$108)))+(SUMPRODUCT(('Juin-détails'!$B$2:$B$108=$B31)*('Juin-détails'!$K$2:$K$108="atelier-bouc")*('Juin-détails'!$D$2:$G$108)))+(SUMPRODUCT(('Juin-détails'!$B$2:$B$108=$B31)*('Juin-détails'!$K$2:$K$108="atelier-traces")*('Juin-détails'!$D$2:$G$108)))+(SUMPRODUCT(('Juin-détails'!$B$2:$B$108=$B31)*('Juin-détails'!$L$2:$L$108="atelier-oiso")*('Juin-détails'!$D$2:$G$108)))+(SUMPRODUCT(('Juin-détails'!$B$2:$B$108=$B31)*('Juin-détails'!$L$2:$L$108="atelier-oiso")*('Juin-détails'!$D$2:$G$108)))+(SUMPRODUCT(('Juin-détails'!$B$2:$B$108=$B31)*('Juin-détails'!$L$2:$L$108="atelier-traces")*('Juin-détails'!$D$2:$G$108))) -> 0 | N31: =(SUMPRODUCT(('Juin-détails'!$B$2:$B$108=$B31)*('Juin-détails'!$K$2:$K$108="visite-guidee")*('Juin-détails'!$D$2:$G$108)))+(SUMPRODUCT(('Juin-détails'!$B$2:$B$108=$B31)*('Juin-détails'!$L$2:$L$108="visite-guidee")*('Juin-détails'!$D$2:$G$108))) -> 0 | O31: =(SUMPRODUCT(('Juin-détails'!$B$2:$B$108=$B31)*('Juin-détails'!$K$2:$K$108="plein’air")*('Juin-détails'!$D$2:$G$108)))+(SUMPRODUCT(('Juin-détails'!$B$2:$B$108=$B31)*('Juin-détails'!$K$2:$K$108="event")*('Juin-détails'!$D$2:$G$108)))+(SUMPRODUCT(('Juin-détails'!$B$2:$B$108=$B31)*('Juin-détails'!$L$2:$L$108="plein’air")*('Juin-détails'!$D$2:$G$108)))+(SUMPRODUCT(('Juin-détails'!$B$2:$B$108=$B31)*('Juin-détails'!$L$2:$L$108="event")*('Juin-détails'!$D$2:$G$108))) -> 0

Sheet Juin-détails
A1: JUIN | B1: Date | C1: Arrivée | D1: ADU | E1: JEU | F1: ENF | G1: ACC | H1: PN | I1: Repas | J1: Spectacle | K1: Option1 | L1: Option2 | M1: Horaires | N1: Groupe | O1: Responsable | P1: Tél. | Q1: Gsm | R1: Mail | S1: Adresse | T1: CP | U1: Ville
A2: =CHOOSE(WEEKDAY(B2,2),"lundi","mardi","mercredi","jeudi","vendredi","samedi","dimanche") -> dimanche | B2: 41791
A3: =CHOOSE(WEEKDAY(B3,2),"lundi","mardi","mercredi","jeudi","vendredi","samedi","dimanche") -> lundi | B3: 41792 | C3: 0.64583333 | F3: 55 | G3: 9 | H3: ... | I3: ... | J3: 0.65625 | K3: ... | L3: ... | N3: Ecole primaire | O3: Mme Spaggiari | P3: 03 82 21 99 12 | R3: alexandre.cremer@free.fr | S3: 15 Rue de la République | T3: 54111 | U3: Mont Bonvillers
