Workbook

Sheet JUIN
B1: DATE | C1: matin | D1: pic-nic | E1: Sans SP | F1: 0.48958333 | G1: 0.60416667 | H1: 0.65625 | I1: 0.70833333 | J1: option repas | K1: option pause | L1: option tab | M1: option atelier | N1: option VG | O1: option spéciale | P1: infos
A2: =CHOOSE(WEEKDAY(B2,2),"lundi","mardi","mercredi","jeudi","vendredi","samedi","dimanche") -> dimanche | B2: 41791 | C2: =SUMPRODUCT(('Juin-détails'!$B$2:$B$108=$B2)*('Juin-détails'!$C$2:$C$108<TIMEVALUE("12:30"))*('Juin-détails'!$D$2:$G$108)) -> 0 | D2: =SUMPRODUCT(('Juin-détails'!$B$2:$B$108=$B2)*('Juin-détails'!$H$2:$H$108<>"...")*('Juin-détails'!$D$2:$G$108)) -> 0 | E2: =SUMPRODUCT(('Juin-détails'!$B$2:$B$108=$B2)*('Juin-détails'!$J$2:$J$108="...")*('Juin-détails'!$C$2:$C$108>TIMEVALUE("12:30"))*('Juin-détails'!$D$2:$G$108)) -> 0 | F2: =SUMPRODUCT(('Juin-détails'!$B$2:$B$108=$B2)*('Juin-détails'!$J$2:$J$108=$F$1)*('Juin-détails'!$D$2:$G$108)) -> 0 | G2: =SUMPRODUCT(('Juin-détails'!$B$2:$B$108=$B2)*('Juin-détails'!$J$2:$J$108=$G$1)*('Juin-détails'!$D$2:$G$108)) -> 0 | H2: =SUMPRODUCT(('Juin-détails'!$B$2:$B$108=$B2)*('Juin-détails'!$J$2:$J$108=$H$1)*('Juin-détails'!$D$2:$G$108)) -> 0 | I2: =SUMPRODUCT(('Juin-détails'!$B$2:$B$108=$B2)*('Juin-détails'!$J$2:$J$108=$I$1)*('Juin-détails'!$D$2:$G$108)) -> 0 | J2: =(SUMPRODUCT(('Juin-détails'!$B$2:$B$108=$B2)*('Juin-détails'!$I$2:$I$108="PicNic")*('Juin-détails'!$D$2:$G$108)))+(SUMPRODUCT(('Juin-détails'!$B$2:$B$108=$B2)*('Juin-détails'!$I$2:$I$108="Flamm")*('Juin-détails'!$D$2:$G$108)))+(SUMPRODUCT(('Juin-détails'!$B$2:$B$108=$B2)*('Juin-détails'!$I$2:$I$108="Pouce")*('Juin-détails'!$D$2:$G$108))) -> 0 | K2: =(SUMPRODUCT(('Juin-détails'!$B$2:$B$108=$B2)*('Juin-détails'!$K$2:$K$108="pti-déJ")*('Juin-détails'!$D$2:$G$108)))+(SUMPRODUCT(('Juin-détails'!$B$2:$B$108=$B2)*('Juin-détails'!$K$2:$K$108="pause-sucrée")*('Juin-détails'!$D$2:$G$108)))+(SUMPRODUCT(('Juin-détails'!$B$2:$B$108=$B2)*('Juin-détails'!$K$2:$K$108="pause-salé")*('Juin-détails'!$D$2:$G$108)))+(SUMPRODUCT(('Juin-détails'!$B$2:$B$108=$B2)*('Juin-détails'!$L$2:$L$108="pti-déJ")*('Juin-détails'!$D$2:$G$108)))+(SUMPRODUCT(('Juin-détails'!$B$2:$B$108=$B2)*('Juin-détails'!$L$2:$L$108="pause-sucrée")*('Juin-détails'!$D$2:$G$108)))+(SUMPRODUCT(('Juin-détails'!$B$2:$B$108=$B2)*('Juin-détails'!$L$2:$L$108="pause-salé")*('Juin-détails'!$D$2:$G$108))) -> 0 | L2: =((SUMPRODUCT(('Juin-détails'!$B$2:$B$108=$B2)*('Juin-détails'!$K$2:$K$108="tab-découv")*('Juin-détails'!$D$2:$G$108)))+(SUMPRODUCT(('Juin-détails'!$B$2:$B$108=$B2)*('Juin-détails'!$K$2:$K$108="tab-homme")*('Juin-détails'!$D$2:$G$108)))+(SUMPRODUCT(('Juin-détails'!$B$2:$B$108=$B2)*('Juin-détails'!$K$2:$K$108="tab-traces")*('Juin-détails'!$D$2:$G$108)))+(SUMPRODUCT(('Juin-détails'!$B$2:$B$108=$B2)*('Juin-détails'!$K$2:$K$108="tab-ailes")*('Juin-détails'!$D$2:$G$108)))+(SUMPRODUCT(('Juin-détails'!$B$2:$B$108=$B2)*('Juin-détails'!$L$2:$L$108="tab-découv")*('Juin-détails'!$D$2:$G$108)))+(SUMPRODUCT(('Juin-détails'!$B$2:$B$108=$B2)*('Juin-détails'!$L$2:$L$108="tab-homme")*('Juin-détails'!$D$2:$G$108)))+(SUMPRODUCT(('Juin-détails'!$B$2:$B$108=$B2)*('Juin-détails'!$L$2:$L$108="tab-traces")*('Juin-détails'!$D$2:$G$108)))+(SUMPRODUCT(('Juin-détails'!$B$2:$B$108=$B2)*('Juin-détails'!$L$2:$L$108="tab-ailes")*('Juin-détails'!$D$2:$G$108))))/15 -> 0 | M2: =(SUMPRODUCT(('Juin-détails'!$B$2:$B$108=$B2)*('Juin-détails'!$K$2:$K$108="atelier-oiso")*('Juin-détails'!$D$2:$G$108)))+(SUMPRODUCT(('Juin-détails'!$B$2:$B$108=$B2)*('Juin-détails'!$K$2:$K$108="atelier-bouc")*('Juin-détails'!$D$2:$G$108)))+(SUMPRODUCT(('Juin-détails'!$B$2:$B$108=$B2)*('Juin-détails'!$K$2:$K$108="atelier-traces")*('Juin-détails'!$D$2:$G$108)))+(SUMPRODUCT(('Juin-détails'!$B$2:$B$108=$B2)*('Juin-détails'!$L$2:$L$108="atelier-oiso")*('Juin-détails'!$D$2:$G$108)))+(SUMPRODUCT(('Juin-détails'!$B$2:$B$108=$B2)*('Juin-détails'!$L$2:$L$108="atelier-oiso")*('Juin-détails'!$D$2:$G$108)))+(SUMPRODUCT(('Juin-détails'!$B$2:$B$108=$B2)*('Juin-détails'!$L$2:$L$108="atelier-traces")*('Juin-détails'!$D$2:$G$108))) -> 0 | N2: =(SUMPRODUCT(('Juin-détails'!$B$2:$B$108=$B2)*('Juin-détails'!$K$2:$K$108="visite-guidee")*('Juin-détails'!$D$2:$G$108)))+(SUMPRODUCT(('Juin-détails'!$B$2:$B$108=$B2)*('Juin-détails'!$L$2:$L$108="visite-guidee")*('Juin-détails'!$D$2:$G$108))) -> 0 | O2: =(SUMPRODUCT(('Juin-détails'!$B$2:$B$108=$B2)*('Juin-détails'!$K$2:$K$108="plein’air")*('Juin-détails'!$D$2:$G$108)))+(SUMPRODUCT(('Juin-détails'!$B$2:$B$108=$B2)*('Juin-détails'!$K$2:$K$108="event")*('Juin-détails'!$D$2:$G$108)))+(SUMPRODUCT(('Juin-détails'!$B$2:$B$108=$B2)*('Juin-détails'!$L$2:$L$108="plein’air")*('Juin-détails'!$D$2:$G$108)))+(SUMPRODUCT(('Juin-détails'!$B$2:$B$108=$B2)*('Juin-détails'!$L$2:$L$108="event")*('Juin-détails'!$D$2:$G$108))) -> 0
A3: =CHOOSE(WEEKDAY(B3,2),"lundi","mardi","mercredi","jeudi","vendredi","samedi","dimanche") -> lundi | B3: 41792 | C3: =SUMPRODUCT(('Juin-détails'!$B$2:$B$108=$B3)*('Juin-détails'!$C$2:$C$108<TIMEVALUE("12:30"))*('Juin-détails'!$D$2:$G$108)) -> 0 | D3: =SUMPRODUCT(('Juin-détails'!$B$2:$B$108=$B3)*('Juin-détails'!$H$2:$H$108<>"...")*('Juin-détails'!$D$2:$G$108)) -> 0 | E3: =SUMPRODUCT(('Juin-détails'!$B$2:$B$108=$B3)*('Juin-détails'!$J$2:$J$108="...")*('Juin-détails'!$C$2:$C$108>TIMEVALUE("12:30"))*('Juin-détails'!$D$2:$G$108)) -> 0 | F3: =SUMPRODUCT(('Juin-détails'!$B$2:$B$108=$B3)*('Juin-détails'!$J$2:$J$108=$F$1)*('Juin-détails'!$D$2:$G$108)) -> 0 | G3: =SUMPRODUCT(('Juin-détails'!$B$2:$B$108=$B3)*('Juin-détails'!$J$2:$J$108=$G$1)*('Juin-détails'!$D$2:$G$108)) -> 0 | H3: =SUMPRODUCT(('Juin-détails'!$B$2:$B$108=$B3)*('Juin-détails'!$J$2:$J$108=$H$1)*('Juin-détails'!$D$2:$G$108)) -> 64 | I3: =SUMPRODUCT(('Juin-détails'!$B$2:$B$108=$B3)*('Juin-détails'!$J$2:$J$108=$I$1)*('Juin-détails'!$D$2:$G$108)) -> 0 | J3: =(SUMPRODUCT(('Juin-détails'!$B$2:$B$108=$B3)*('Juin-détails'!$I$2:$I$108="PicNic")*('Juin-détails'!$D$2:$G$108)))+(SUMPRODUCT(('Juin-détails'!$B$2:$B$108=$B3)*('Juin-détails'!$I$2:$I$108="Flamm")*('Juin-détails'!$D$2:$G$108)))+(SUMPRODUCT(('Juin-détails'!$B$2:$B$108=$B3)*('Juin-détails'!$I$2:$I$108="Pouce")*('Juin-détails'!$D$2:$G$108))) -> 0 | K3: =(SUMPRODUCT(('Juin-détails'!$B$2:$B$108=$B3)*('Juin-détails'!$K$2:$K$108="pti-déJ")*('Juin-détails'!$D$2:$G$108)))+(SUMPRODUCT(('Juin-détails'!$B$2:$B$108=$B3)*('Juin-détails'!$K$2:$K$108="pause-sucrée")*('Juin-détails'!$D$2:$G$108)))+(SUMPRODUCT(('Juin-détails'!$B$2:$B$108=$B3)*('Juin-détails'!$K$2:$K$108="pause-salé")*('Juin-détails'!$D$2:$G$108)))+(SUMPRODUCT(('Juin-détails'!$B$2:$B$108=$B3)*('Juin-détails'!$L$2:$L$108="pti-déJ")*('Juin-détails'!$D$2:$G$108)))+(SUMPRODUCT(('Juin-détails'!$B$2:$B$108=$B3)*('Juin-détails'!$L$2:$L$108="pause-sucrée")*('Juin-détails'!$D$2:$G$108)))+(SUMPRODUCT(('Juin-détails'!$B$2:$B$108=$B3)*('Juin-détails'!$L$2:$L$108="pause-salé")*('Juin-détails'!$D$2:$G$108))) -> 0 | L3: =((SUMPRODUCT(('Juin-détails'!$B$2:$B$108=$B3)*('Juin-détails'!$K$2:$K$108="tab-découv")*('Juin-détails'!$D$2:$G$108)))+(SUMPRODUCT(('Juin-détails'!$B$2:$B$108=$B3)*('Juin-détails'!$K$2:$K$108="tab-homme")*('Juin-détails'!$D$2:$G$108)))+(SUMPRODUCT(('Juin-détails'!$B$2:$B$108=$B3)*('Juin-détails'!$K$2:$K$108="tab-traces")*('Juin-détails'!$D$2:$G$108)))+(SUMPRODUCT(('Juin-détails'!$B$2:$B$108=$B3)*('Juin-détails'!$K$2:$K$108="tab-ailes")*('Juin-détails'!$D$2:$G$108)))+(SUMPRODUCT(('Juin-détails'!$B$2:$B$108=$B3)*('Juin-détails'!$L$2:$L$108="tab-découv")*('Juin-détails'!$D$2:$G$108)))+(SUMPRODUCT(('Juin-détails'!$B$2:$B$108=$B3)*('Juin-détails'!$L$2:$L$108="tab-homme")*('Juin-détails'!$D$2:$G$108)))+(SUMPRODUCT(('Juin-détails'!$B$2:$B$108=$B3)*('Juin-détails'!$L$2:$L$108="tab-traces")*('Juin-détails'!$D$2:$G$108)))+(SUMPRODUCT(('Juin-détails'!$B$2:$B$108=$B3)*('Juin-détails'!$L$2:$L$108="tab-ailes")*('Juin-détails'!$D$2:$G$108))))/15 -> 0 | M3: =(SUMPRODUCT(('Juin-détails'!$B$2:$B$108=$B3)*('Juin-détails'!$K$2:$K$108="atelier-oiso")*('Juin-détails'!$D$2:$G$108)))+(SUMPRODUCT(('Juin-détails'!$B$2:$B$108=$B3)*('Juin-détails'!$K$2:$K$108="atelier-bouc")*('Juin-détails'!$D$2:$G$108)))+(SUMPRODUCT(('Juin-détails'!$B$2:$B$108=$B3)*('Juin-détails'!$K$2:$K$108="atelier-traces")*('Juin-détails'!$D$2:$G$108)))+(SUMPRODUCT(('Juin-détails'!$B$2:$B$108=$B3)*('Juin-détails'!$L$2:$L$108="atelier-oiso")*('Juin-détails'!$D$2:$G$108)))+(SUMPRODUCT(('Juin-détails'!$B$2:$B$108=$B3)*('Juin-détails'!$L$2:$L$108="atelier-oiso")*('Juin-détails'!$D$2:$G$108)))+(SUMPRODUCT(('Juin-détails'!$B$2:$B$108=$B3)*('Juin-détails'!$L$2:$L$108="atelier-traces")*('Juin-détails'!$D$2:$G$108))) -> 0 | N3: =(SUMPRODUCT(('Juin-détails'!$B$2:$B$108=$B3)*('Juin-détails'!$K$2:$K$108="visite-guidee")*('Juin-détails'!$D$2:$G$108)))+(SUMPRODUCT(('Juin-détails'!$B$2:$B$108=$B3)*('Juin-détails'!$L$2:$L$108="visite-guidee")*('Juin-détails'!$D$2:$G$108))) -> 0 | O3: =(SUMPRODUCT(('Juin-détails'!$B$2:$B$108=$B3)*('Juin-détails'!$K$2:$K$108="plein’air")*('Juin-détails'!$D$2:$G$108)))+(SUMPRODUCT(('Juin-détails'!$B$2:$B$108=$B3)*('Juin-détails'!$K$2:$K$108="event")*('Juin-détails'!$D$2:$G$108)))+(SUMPRODUCT(('Juin-détails'!$B$2:$B$108=$B3)*('Juin-détails'!$L$2:$L$108="plein’air")*('Juin-détails'!$D$2:$G$108)))+(SUMPRODUCT(('Juin-détails'!$B$2:$B$108=$B3)*('Juin-détails'!$L$2:$L$108="event")*('Juin-détails'!$D$2:$G$108))) -> 0
A4: =CHOOSE(WEEKDAY(B4,2),"lundi","mardi","mercredi","jeudi","vendredi","samedi","dimanche") -> mardi | B4: 41793 | C4: =SUMPRODUCT(('Juin-détails'!$B$2:$B$108=$B4)*('Juin-détails'!$C$2:$C$108<TIMEVALUE("12:30"))*('Juin-détails'!$D$2:$G$108)) -> 388 | D4: =SUMPRODUCT(('Juin-détails'!$B$2:$B$108=$B4)*('Juin-détails'!$H$2:$H$108<>"...")*('Juin-détails'!$D$2:$G$108)) -> 388 | E4: =SUMPRODUCT(('Juin-détails'!$B$2:$B$108=$B4)*('Juin-détails'!$J$2:$J$108="...")*('Juin-détails'!$C$2:$C$108>TIMEVALUE("12:30"))*('Juin-détails'!$D$2:$G$108)) -> 0 | F4: =SUMPRODUCT(('Juin-détails'!$B$2:$B$108=$B4)*('Juin-détails'!$J$2:$J$108=$F$1)*('Juin-détails'!$D$2:$G$108)) -> 306 | G4: =SUMPRODUCT(('Juin-détails'!$B$2:$B$108=$B4)*('Juin-détails'!$J$2:$J$108=$G$1)*('Juin-détails'!$D$2:$G$108)) -> 254 | H4: =SUMPRODUCT(('Juin-détails'!$B$2:$B$108=$B4)*('Juin-détails'!$J$2:$J$108=$H$1)*('Juin-détails'!$D$2:$G$108)) -> 0 | I4: =SUMPRODUCT(('Juin-détails'!$B$2:$B$108=$B4)*('Juin-détails'!$J$2:$J$108=$I$1)*('Juin-détails'!$D$2:$G$108)) -> 0 | J4: =(SUMPRODUCT(('Juin-détails'!$B$2:$B$108=$B4)*('Juin-détails'!$I$2:$I$108="PicNic")*('Juin-détails'!$D$2:$G$108)))+(SUMPRODUCT(('Juin-détails'!$B$2:$B$108=$B4)*('Juin-détails'!$I$2:$I$108="Flamm")*('Juin-détails'!$D$2:$G$108)))+(SUMPRODUCT(('Juin-détails'!$B$2:$B$108=$B4)*('Juin-détails'!$I$2:$I$108="Pouce")*('Juin-détails'!$D$2:$G$108))) -> 0 | K4: =(SUMPRODUCT(('Juin-détails'!$B$2:$B$108=$B4)*('Juin-détails'!$K$2:$K$108="pti-déJ")*('Juin-détails'!$D$2:$G$108)))+(SUMPRODUCT(('Juin-détails'!$B$2:$B$108=$B4)*('Juin-détails'!$K$2:$K$108="pause-sucrée")*('Juin-détails'!$D$2:$G$108)))+(SUMPRODUCT(('Juin-détails'!$B$2:$B$108=$B4)*('Juin-détails'!$K$2:$K$108="pause-salé")*('Juin-détails'!$D$2:$G$108)))+(SUMPRODUCT(('Juin-détails'!$B$2:$B$108=$B4)*('Juin-détails'!$L$2:$L$108="pti-déJ")*('Juin-détails'!$D$2:$G$108)))+(SUMPRODUCT(('Juin-détails'!$B$2:$B$108=$B4)*('Juin-détails'!$L$2:$L$108="pause-sucrée")*('Juin-détails'!$D$2:$G$108)))+(SUMPRODUCT(('Juin-détails'!$B$2:$B$108=$B4)*('Juin-détails'!$L$2:$L$108="pause-salé")*('Juin-détails'!$D$2:$G$108))) -> 0 | L4: =((SUMPRODUCT(('Juin-détails'!$B$2:$B$108=$B4)*('Juin-détails'!$K$2:$K$108="tab-découv")*('Juin-détails'!$D$2:$G$108)))+(SUMPRODUCT(('Juin-détails'!$B$2:$B$108=$B4)*('Juin-détails'!$K$2:$K$108="tab-homme")*('Juin-détails'!$D$2:$G$108)))+(SUMPRODUCT(('Juin-détails'!$B$2:$B$108=$B4)*('Juin-détails'!$K$2:$K$108="tab-traces")*('Juin-détails'!$D$2:$G$108)))+(SUMPRODUCT(('Juin-détails'!$B$2:$B$108=$B4)*('Juin-détails'!$K$2:$K$108="tab-ailes")*('Juin-détails'!$D$2:$G$108)))+(SUMPRODUCT(('Juin-détails'!$B$2:$B$108=$B4)*('Juin-détails'!$L$2:$L$108="tab-découv")*('Juin-détails'!$D$2:$G$108)))+(SUMPRODUCT(('Juin-détails'!$B$2:$B$108=$B4)*('Juin-détails'!$L$2:$L$108="tab-homme")*('Juin-détails'!$D$2:$G$108)))+(SUMPRODUCT(('Juin-détails'!$B$2:$B$108=$B4)*('Juin-détails'!$L$2:$L$108="tab-traces")*('Juin-détails'!$D$2:$G$108)))+(SUMPRODUCT(('Juin-détails'!$B$2:$B$108=$B4)*('Juin-détails'!$L$2:$L$108="tab-ailes")*('Juin-détails'!$D$2:$G$108))))/15 -> 5.3333333 | M4: =(SUMPRODUCT(('Juin-détails'!$B$2:$B$108=$B4)*('Juin-détails'!$K$2:$K$108="atelier-oiso")*('Juin-détails'!$D$2:$G$108)))+(SUMPRODUCT(('Juin-détails'!$B$2:$B$108=$B4)*('Juin-détails'!$K$2:$K$108="atelier-bouc")*('Juin-détails'!$D$2:$G$108)))+(SUMPRODUCT(('Juin-détails'!$B$2:$B$108=$B4)*('Juin-détails'!$K$2:$K$108="atelier-traces")*('Juin-détails'!$D$2:$G$108)))+(SUMPRODUCT(('Juin-détails'!$B$2:$B$108=$B4)*('Juin-détails'!$L$2:$L$108="atelier-oiso")*('Juin-détails'!$D$2:$G$108)))+(SUMPRODUCT(('Juin-détails'!$B$2:$B$108=$B4)*('Juin-détails'!$L$2:$L$108="atelier-oiso")*('Juin-détails'!$D$2:$G$108)))+(SUMPRODUCT(('Juin-détails'!$B$2:$B$108=$B4)*('Juin-détails'!$L$2:$L$108="atelier-traces")*('Juin-détails'!$D$2:$G$108))) -> 160 | N4: =(SUMPRODUCT(('Juin-détails'!$B$2:$B$108=$B4)*('Juin-détails'!$K$2:$K$108="visite-guidee")*('Juin-détails'!$D$2:$G$108)))+(SUMPRODUCT(('Juin-détails'!$B$2:$B$108=$B4)*('Juin-détails'!$L$2:$L$108="visite-guidee")*('Juin-détails'!$D$2:$G$108))) -> 0 | O4: =(SUMPRODUCT(('Juin-détails'!$B$2:$B$108=$B4)*('Juin-détails'!$K$2:$K$108="plein’air")*('Juin-détails'!$D$2:$G$108)))+(SUMPRODUCT(('Juin-détails'!$B$2:$B$108=$B4)*('Juin-détails'!$K$2:$K$108="event")*('Juin-détails'!$D$2:$G$108)))+(SUMPRODUCT(('Juin-détails'!$B$2:$B$108=$B4)*('Juin-détails'!$L$2:$L$108="plein’air")*('Juin-détails'!$D$2:$G$108)))+(SUMPRODUCT(('Juin-détails'!$B$2:$B$108=$B4)*('Juin-détails'!$L$2:$L$108="event")*('Juin-détails'!$D$2:$G$108))) -> 0
A5: =CHOOSE(WEEKDAY(B5,2),"lundi","mardi","mercredi","jeudi","vendredi","samedi","dimanche") -> mercredi | B5: 41794 | C5: =SUMPRODUCT(('Juin-détails'!$B$2:$B$108=$B5)*('Juin-détails'!$C$2:$C$108<TIMEVALUE("12:30"))*('Juin-détails'!$D$2:$G$108)) -> 0 | D5: =SUMPRODUCT(('Juin-détails'!$B$2:$B$108=$B5)*('Juin-détails'!$H$2:$H$108<>"...")*('Juin-détails'!$D$2:$G$108)) -> 0 | E5: =SUMPRODUCT(('Juin-détails'!$B$2:$B$108=$B5)*('Juin-détails'!$J$2:$J$108="...")*('Juin-détails'!$C$2:$C$108>TIMEVALUE("12:30"))*('Juin-détails'!$D$2:$G$108)) -> 140 | F5: =SUMPRODUCT(('Juin-détails'!$B$2:$B$108=$B5)*('Juin-détails'!$J$2:$J$108=$F$1)*('Juin-détails'!$D$2:$G$108)) -> 0 | G5: =SUMPRODUCT(('Juin-détails'!$B$2:$B$108=$B5)*('Juin-détails'!$J$2:$J$108=$G$1)*('Juin-détails'!$D$2:$G$108)) -> 50 | H5: =SUMPRODUCT(('Juin-détails'!$B$2:$B$108=$B5)*('Juin-détails'!$J$2:$J$108=$H$1)*('Juin-détails'!$D$2:$G$108)) -> 35 | I5: =SUMPRODUCT(('Juin-détails'!$B$2:$B$108=$B5)*('Juin-détails'!$J$2:$J$108=$I$1)*('Juin-détails'!$D$2:$G$108)) -> 0 | J5: =(SUMPRODUCT(('Juin-détails'!$B$2:$B$108=$B5)*('Juin-détails'!$I$2:$I$108="PicNic")*('Juin-détails'!$D$2:$G$108)))+(SUMPRODUCT(('Juin-détails'!$B$2:$B$108=$B5)*('Juin-détails'!$I$2:$I$108="Flamm")*('Juin-détails'!$D$2:$G$108)))+(SUMPRODUCT(('Juin-détails'!$B$2:$B$108=$B5)*('Juin-détails'!$I$2:$I$108="Pouce")*('Juin-détails'!$D$2:$G$108))) -> 0 | K5: =(SUMPRODUCT(('Juin-détails'!$B$2:$B$108=$B5)*('Juin-détails'!$K$2:$K$108="pti-déJ")*('Juin-détails'!$D$2:$G$108)))+(SUMPRODUCT(('Juin-détails'!$B$2:$B$108=$B5)*('Juin-détails'!$K$2:$K$108="pause-sucrée")*('Juin-détails'!$D$2:$G$108)))+(SUMPRODUCT(('Juin-détails'!$B$2:$B$108=$B5)*('Juin-détails'!$K$2:$K$108="pause-salé")*('Juin-détails'!$D$2:$G$108)))+(SUMPRODUCT(('Juin-détails'!$B$2:$B$108=$B5)*('Juin-détails'!$L$2:$L$108="pti-déJ")*('Juin-détails'!$D$2:$G$108)))+(SUMPRODUCT(('Juin-détails'!$B$2:$B$108=$B5)*('Juin-détails'!$L$2:$L$108="pause-sucrée")*('Juin-détails'!$D$2:$G$108)))+(SUMPRODUCT(('Juin-détails'!$B$2:$B$108=$B5)*('Juin-détails'!$L$2:$L$108="pause-salé")*('Juin-détails'!$D$2:$G$108))) -> 0 | L5: =((SUMPRODUCT(('Juin-détails'!$B$2:$B$108=$B5)*('Juin-détails'!$K$2:$K$108="tab-découv")*('Juin-détails'!$D$2:$G$108)))+(SUMPRODUCT(('Juin-détails'!$B$2:$B$108=$B5)*('Juin-détails'!$K$2:$K$108="tab-homme")*('Juin-détails'!$D$2:$G$108)))+(SUMPRODUCT(('Juin-détails'!$B$2:$B$108=$B5)*('Juin-détails'!$K$2:$K$108="tab-traces")*('Juin-détails'!$D$2:$G$108)))+(SUMPRODUCT(('Juin-détails'!$B$2:$B$108=$B5)*('Juin-détails'!$K$2:$K$108="tab-ailes")*('Juin-détails'!$D$2:$G$108)))+(SUMPRODUCT(('Juin-détails'!$B$2:$B$108=$B5)*('Juin-détails'!$L$2:$L$108="tab-découv")*('Juin-détails'!$D$2:$G$108)))+(SUMPRODUCT(('Juin-détails'!$B$2:$B$108=$B5)*('Juin-détails'!$L$2:$L$108="tab-homme")*('Juin-détails'!$D$2:$G$108)))+(SUMPRODUCT(('Juin-détails'!$B$2:$B$108=$B5)*('Juin-détails'!$L$2:$L$108="tab-traces")*('Juin-détails'!$D$2:$G$108)))+(SUMPRODUCT(('Juin-détails'!$B$2:$B$108=$B5)*('Juin-détails'!$L$2:$L$108="tab-ailes")*('Juin-détails'!$D$2:$G$108))))/15 -> 0 | M5: =(SUMPRODUCT(('Juin-détails'!$B$2:$B$108=$B5)*('Juin-détails'!$K$2:$K$108="atelier-oiso")*('Juin-détails'!$D$2:$G$108)))+(SUMPRODUCT(('Juin-détails'!$B$2:$B$108=$B5)*('Juin-détails'!$K$2:$K$108="atelier-bouc")*('Juin-détails'!$D$2:$G$108)))+(SUMPRODUCT(('Juin-détails'!$B$2:$B$108=$B5)*('Juin-détails'!$K$2:$K$108="atelier-traces")*('Juin-détails'!$D$2:$G$108)))+(SUMPRODUCT(('Juin-détails'!$B$2:$B$108=$B5)*('Juin-détails'!$L$2:$L$108="atelier-oiso")*('Juin-détails'!$D$2:$G$108)))+(SUMPRODUCT(('Juin-détails'!$B$2:$B$108=$B5)*('Juin-détails'!$L$2:$L$108="atelier-oiso")*('Juin-détails'!$D$2:$G$108)))+(SUMPRODUCT(('Juin-détails'!$B$2:$B$108=$B5)*('Juin-détails'!$L$2:$L$108="atelier-traces")*('Juin-détails'!$D$2:$G$108))) -> 0 | N5: =(SUMPRODUCT(('Juin-détails'!$B$2:$B$108=$B5)*('Juin-détails'!$K$2:$K$108="visite-guidee")*('Juin-détails'!$D$2:$G$108)))+(SUMPRODUCT(('Juin-détails'!$B$2:$B$108=$B5)*('Juin-détails'!$L$2:$L$108="visite-guidee")*('Juin-détails'!$D$2:$G$108))) -> 0 | O5: =(SUMPRODUCT(('Juin-détails'!$B$2:$B$108=$B5)*('Juin-détails'!$K$2:$K$108="plein’air")*('Juin-détails'!$D$2:$G$108)))+(SUMPRODUCT(('Juin-détails'!$B$2:$B$108=$B5)*('Juin-détails'!$K$2:$K$108="event")*('Juin-détails'!$D$2:$G$108)))+(SUMPRODUCT(('Juin-détails'!$B$2:$B$108=$B5)*('Juin-détails'!$L$2:$L$108="plein’air")*('Juin-détails'!$D$2:$G$108)))+(SUMPRODUCT(('Juin-détails'!$B$2:$B$108=$B5)*('Juin-détails'!$L$2:$L$108="event")*('Juin-détails'!$D$2:$G$108))) -> 0
A6: =CHOOSE(WEEKDAY(B6,2),"lundi","mardi","mercredi","jeudi","vendredi","samedi","dimanche") -> jeudi | B6: 41795 | C6: =SUMPRODUCT(('Juin-détails'!$B$2:$B$108=$B6)*('Juin-détails'!$C$2:$C$108<TIMEVALUE("12:30"))*('Juin-détails'!$D$2:$G$108)) -> 344 | D6: =SUMPRODUCT(('Juin-détails'!$B$2:$B$108=$B6)*('Juin-détails'!$H$2:$H$108<>"...")*('Juin-détails'!$D$2:$G$108)) -> 344 | E6: =SUMPRODUCT(('Juin-détails'!$B$2:$B$108=$B6)*('Juin-détails'!$J$2:$J$108="...")*('Juin-détails'!$C$2:$C$108>TIMEVALUE("12:30"))*('Juin-détails'!$D$2:$G$108)) -> 0 | F6: =SUMPRODUCT(('Juin-détails'!$B$2:$B$108=$B6)*('Juin-détails'!$J$2:$J$108=$F$1)*('Juin-détails'!$D$2:$G$108)) -> 104 | G6: =SUMPRODUCT(('Juin-détails'!$B$2:$B$108=$B6)*('Juin-détails'!$J$2:$J$108=$G$1)*('Juin-détails'!$D$2:$G$108)) -> 240 | H6: =SUMPRODUCT(('Juin-détails'!$B$2:$B$108=$B6)*('Juin-détails'!$J$2:$J$108=$H$1)*('Juin-détails'!$D$2:$G$108)) -> 0 | I6: =SUMPRODUCT(('Juin-détails'!$B$2:$B$108=$B6)*('Juin-détails'!$J$2:$J$108=$I$1)*('Juin-détails'!$D$2:$G$108)) -> 0 | J6: =(SUMPRODUCT(('Juin-détails'!$B$2:$B$108=$B6)*('Juin-détails'!$I$2:$I$108="PicNic")*('Juin-détails'!$D$2:$G$108)))+(SUMPRODUCT(('Juin-détails'!$B$2:$B$108=$B6)*('Juin-détails'!$I$2:$I$108="Flamm")*('Juin-détails'!$D$2:$G$108)))+(SUMPRODUCT(('Juin-détails'!$B$2:$B$108=$B6)*('Juin-détails'!$I$2:$I$108="Pouce")*('Juin-détails'!$D$2:$G$108))) -> 0 | K6: =(SUMPRODUCT(('Juin-détails'!$B$2:$B$108=$B6)*('Juin-détails'!$K$2:$K$108="pti-déJ")*('Juin-détails'!$D$2:$G$108)))+(SUMPRODUCT(('Juin-détails'!$B$2:$B$108=$B6)*('Juin-détails'!$K$2:$K$108="pause-sucrée")*('Juin-détails'!$D$2:$G$108)))+(SUMPRODUCT(('Juin-détails'!$B$2:$B$108=$B6)*('Juin-détails'!$K$2:$K$108="pause-salé")*('Juin-détails'!$D$2:$G$108)))+(SUMPRODUCT(('Juin-détails'!$B$2:$B$108=$B6)*('Juin-détails'!$L$2:$L$108="pti-déJ")*('Juin-détails'!$D$2:$G$108)))+(SUMPRODUCT(('Juin-détails'!$B$2:$B$108=$B6)*('Juin-détails'!$L$2:$L$108="pause-sucrée")*('Juin-détails'!$D$2:$G$108)))+(SUMPRODUCT(('Juin-détails'!$B$2:$B$108=$B6)*('Juin-détails'!$L$2:$L$108="pause-salé")*('Juin-détails'!$D$2:$G$108))) -> 0 | L6: =((SUMPRODUCT(('Juin-détails'!$B$2:$B$108=$B6)*('Juin-détails'!$K$2:$K$108="tab-découv")*('Juin-détails'!$D$2:$G$108)))+(SUMPRODUCT(('Juin-détails'!$B$2:$B$108=$B6)*('Juin-détails'!$K$2:$K$108="tab-homme")*('Juin-détails'!$D$2:$G$108)))+(SUMPRODUCT(('Juin-détails'!$B$2:$B$108=$B6)*('Juin-détails'!$K$2:$K$108="tab-traces")*('Juin-détails'!$D$2:$G$108)))+(SUMPRODUCT(('Juin-détails'!$B$2:$B$108=$B6)*('Juin-détails'!$K$2:$K$108="tab-ailes")*('Juin-détails'!$D$2:$G$108)))+(SUMPRODUCT(('Juin-détails'!$B$2:$B$108=$B6)*('Juin-détails'!$L$2:$L$108="tab-découv")*('Juin-détails'!$D$2:$G$108)))+(SUMPRODUCT(('Juin-détails'!$B$2:$B$108=$B6)*('Juin-détails'!$L$2:$L$108="tab-homme")*('Juin-détails'!$D$2:$G$108)))+(SUMPRODUCT(('Juin-détails'!$B$2:$B$108=$B6)*('Juin-détails'!$L$2:$L$108="tab-traces")*('Juin-détails'!$D$2:$G$108)))+(SUMPRODUCT(('Juin-détails'!$B$2:$B$108=$B6)*('Juin-détails'!$L$2:$L$108="tab-ailes")*('Juin-détails'!$D$2:$G$108))))/15 -> 0 | M6: =(SUMPRODUCT(('Juin-détails'!$B$2:$B$108=$B6)*('Juin-détails'!$K$2:$K$108="atelier-oiso")*('Juin-détails'!$D$2:$G$108)))+(SUMPRODUCT(('Juin-détails'!$B$2:$B$108=$B6)*('Juin-détails'!$K$2:$K$108="atelier-bouc")*('Juin-détails'!$D$2:$G$108)))+(SUMPRODUCT(('Juin-détails'!$B$2:$B$108=$B6)*('Juin-détails'!$K$2:$K$108="atelier-traces")*('Juin-détails'!$D$2:$G$108)))+(SUMPRODUCT(('Juin-détails'!$B$2:$B$108=$B6)*('Juin-détails'!$L$2:$L$108="atelier-oiso")*('Juin-détails'!$D$2:$G$108)))+(SUMPRODUCT(('Juin-détails'!$B$2:$B$108=$B6)*('Juin-détails'!$L$2:$L$108="atelier-oiso")*('Juin-détails'!$D$2:$G$108)))+(SUMPRODUCT(('Juin-détails'!$B$2:$B$108=$B6)*('Juin-détails'!$L$2:$L$108="atelier-traces")*('Juin-détails'!$D$2:$G$108))) -> 180 | N6: =(SUMPRODUCT(('Juin-détails'!$B$2:$B$108=$B6)*('Juin-détails'!$K$2:$K$108="visite-guidee")*('Juin-détails'!$D$2:$G$108)))+(SUMPRODUCT(('Juin-détails'!$B$2:$B$108=$B6)*('Juin-détails'!$L$2:$L$108="visite-guidee")*('Juin-détails'!$D$2:$G$108))) -> 0 | O6: =(SUMPRODUCT(('Juin-détails'!$B$2:$B$108=$B6)*('Juin-détails'!$K$2:$K$108="plein’air")*('Juin-détails'!$D$2:$G$108)))+(SUMPRODUCT(('Juin-détails'!$B$2:$B$108=$B6)*('Juin-détails'!$K$2:$K$108="event")*('Juin-détails'!$D$2:$G$108)))+(SUMPRODUCT(('Juin-détails'!$B$2:$B$108=$B6)*('Juin-détails'!$L$2:$L$108="plein’air")*('Juin-détails'!$D$2:$G$108)))+(SUMPRODUCT(('Juin-détails'!$B$2:$B$108=$B6)*('Juin-détails'!$L$2:$L$108="event")*('Juin-détails'!$D$2:$G$108))) -> 0
A7: =CHOOSE(WEEKDAY(B7,2),"lundi","mardi","mercredi","jeudi","vendredi","samedi","dimanche") -> vendredi | B7: 41796 | C7: =SUMPRODUCT(('Juin-détails'!$B$2:$B$108=$B7)*('Juin-détails'!$C$2:$C$108<TIMEVALUE("12:30"))*('Juin-détails'!$D$2:$G$108)) -> 356 | D7: =SUMPRODUCT(('Juin-détails'!$B$2:$B$108=$B7)*('Juin-détails'!$H$2:$H$108<>"...")*('Juin-détails'!$D$2:$G$108)) -> 356 | E7: =SUMPRODUCT(('Juin-détails'!$B$2:$B$108=$B7)*('Juin-détails'!$J$2:$J$108="...")*('Juin-détails'!$C$2:$C$108>TIMEVALUE("12:30"))*('Juin-détails'!$D$2:$G$108)) -> 0 | F7: =SUMPRODUCT(('Juin-détails'!$B$2:$B$108=$B7)*('Juin-détails'!$J$2:$J$108=$F$1)*('Juin-détails'!$D$2:$G$108)) -> 0 | G7: =SUMPRODUCT(('Juin-détails'!$B$2:$B$108=$B7)*('Juin-détails'!$J$2:$J$108=$G$1)*('Juin-détails'!$D$2:$G$108)) -> 356 | H7: =SUMPRODUCT(('Juin-détails'!$B$2:$B$108=$B7)*('Juin-détails'!$J$2:$J$108=$H$1)*('Juin-détails'!$D$2:$G$108)) -> 40 | I7: =SUMPRODUCT(('Juin-détails'!$B$2:$B$108=$B7)*('Juin-détails'!$J$2:$J$108=$I$1)*('Juin-détails'!$D$2:$G$108)) -> 0 | J7: =(SUMPRODUCT(('Juin-détails'!$B$2:$B$108=$B7)*('Juin-détails'!$I$2:$I$108="PicNic")*('Juin-détails'!$D$2:$G$108)))+(SUMPRODUCT(('Juin-détails'!$B$2:$B$108=$B7)*('Juin-détails'!$I$2:$I$108="Flamm")*('Juin-détails'!$D$2:$G$108)))+(SUMPRODUCT(('Juin-détails'!$B$2:$B$108=$B7)*('Juin-détails'!$I$2:$I$108="Pouce")*('Juin-détails'!$D$2:$G$108))) -> 0 | K7: =(SUMPRODUCT(('Juin-détails'!$B$2:$B$108=$B7)*('Juin-détails'!$K$2:$K$108="pti-déJ")*('Juin-détails'!$D$2:$G$108)))+(SUMPRODUCT(('Juin-détails'!$B$2:$B$108=$B7)*('Juin-détails'!$K$2:$K$108="pause-sucrée")*('Juin-détails'!$D$2:$G$108)))+(SUMPRODUCT(('Juin-détails'!$B$2:$B$108=$B7)*('Juin-détails'!$K$2:$K$108="pause-salé")*('Juin-détails'!$D$2:$G$108)))+(SUMPRODUCT(('Juin-détails'!$B$2:$B$108=$B7)*('Juin-détails'!$L$2:$L$108="pti-déJ")*('Juin-détails'!$D$2:$G$108)))+(SUMPRODUCT(('Juin-détails'!$B$2:$B$108=$B7)*('Juin-détails'!$L$2:$L$108="pause-sucrée")*('Juin-détails'!$D$2:$G$108)))+(SUMPRODUCT(('Juin-détails'!$B$2:$B$108=$B7)*('Juin-détails'!$L$2:$L$108="pause-salé")*('Juin-détails'!$D$2:$G$108))) -> 0 | L7: =((SUMPRODUCT(('Juin-détails'!$B$2:$B$108=$B7)*('Juin-détails'!$K$2:$K$108="tab-découv")*('Juin-détails'!$D$2:$G$108)))+(SUMPRODUCT(('Juin-détails'!$B$2:$B$108=$B7)*('Juin-détails'!$K$2:$K$108="tab-homme")*('Juin-détails'!$D$2:$G$108)))+(SUMPRODUCT(('Juin-détails'!$B$2:$B$108=$B7)*('Juin-détails'!$K$2:$K$108="tab-traces")*('Juin-détails'!$D$2:$G$108)))+(SUMPRODUCT(('Juin-détails'!$B$2:$B$108=$B7)*('Juin-détails'!$K$2:$K$108="tab-ailes")*('Juin-détails'!$D$2:$G$108)))+(SUMPRODUCT(('Juin-détails'!$B$2:$B$108=$B7)*('Juin-détails'!$L$2:$L$108="tab-découv")*('Juin-détails'!$D$2:$G$108)))+(SUMPRODUCT(('Juin-détails'!$B$2:$B$108=$B7)*('Juin-détails'!$L$2:$L$108="tab-homme")*('Juin-détails'!$D$2:$G$108)))+(SUMPRODUCT(('Juin-détails'!$B$2:$B$108=$B7)*('Juin-détails'!$L$2:$L$108="tab-traces")*('Juin-détails'!$D$2:$G$108)))+(SUMPRODUCT(('Juin-détails'!$B$2:$B$108=$B7)*('Juin-détails'!$L$2:$L$108="tab-ailes")*('Juin-détails'!$D$2:$G$108))))/15 -> 3.7333333 | M7: =(SUMPRODUCT(('Juin-détails'!$B$2:$B$108=$B7)*('Juin-détails'!$K$2:$K$108="atelier-oiso")*('Juin-détails'!$D$2:$G$108)))+(SUMPRODUCT(('Juin-détails'!$B$2:$B$108=$B7)*('Juin-détails'!$K$2:$K$108="atelier-bouc")*('Juin-détails'!$D$2:$G$108)))+(SUMPRODUCT(('Juin-détails'!$B$2:$B$108=$B7)*('Juin-détails'!$K$2:$K$108="atelier-traces")*('Juin-détails'!$D$2:$G$108)))+(SUMPRODUCT(('Juin-détails'!$B$2:$B$108=$B7)*('Juin-détails'!$L$2:$L$108="atelier-oiso")*('Juin-détails'!$D$2:$G$108)))+(SUMPRODUCT(('Juin-détails'!$B$2:$B$108=$B7)*('Juin-détails'!$L$2:$L$108="atelier-oiso")*('Juin-détails'!$D$2:$G$108)))+(SUMPRODUCT(('Juin-détails'!$B$2:$B$108=$B7)*('Juin-détails'!$L$2:$L$108="atelier-traces")*('Juin-détails'!$D$2:$G$108))) -> 240 | N7: =(SUMPRODUCT(('Juin-détails'!$B$2:$B$108=$B7)*('Juin-détails'!$K$2:$K$108="visite-guidee")*('Juin-détails'!$D$2:$G$108)))+(SUMPRODUCT(('Juin-détails'!$B$2:$B$108=$B7)*('Juin-détails'!$L$2:$L$108="visite-guidee")*('Juin-détails'!$D$2:$G$108))) -> 0 | O7: =(SUMPRODUCT(('Juin-détails'!$B$2:$B$108=$B7)*('Juin-détails'!$K$2:$K$108="plein’air")*('Juin-détails'!$D$2:$G$108)))+(SUMPRODUCT(('Juin-détails'!$B$2:$B$108=$B7)*('Juin-détails'!$K$2:$K$108="event")*('Juin-détails'!$D$2:$G$108)))+(SUMPRODUCT(('Juin-détails'!$B$2:$B$108=$B7)*('Juin-détails'!$L$2:$L$108="plein’air")*('Juin-détails'!$D$2:$G$108)))+(SUMPRODUCT(('Juin-détails'!$B$2:$B$108=$B7)*('Juin-détails'!$L$2:$L$108="event")*('Juin-détails'!$D$2:$G$108))) -> 0
A8: =CHOOSE(WEEKDAY(B8,2),"lundi","mardi","mercredi","jeudi","vendredi","samedi","dimanche") -> samedi | B8: 41797 | C8: =SUMPRODUCT(('Juin-détails'!$B$2:$B$108=$B8)*('Juin-détails'!$C$2:$C$108<TIMEVALUE("12:30"))*('Juin-détails'!$D$2:$G$108)) -> 0 | D8: =SUMPRODUCT(('Juin-détails'!$B$2:$B$108=$B8)*('Juin-détails'!$H$2:$H$108<>"...")*('Juin-détails'!$D$2:$G$108)) -> 0 | E8: =SUMPRODUCT(('Juin-détails'!$B$2:$B$108=$B8)*('Juin-détails'!$J$2:$J$108="...")*('Juin-détails'!$C$2:$C$108>TIMEVALUE("12:30"))*('Juin-détails'!$D$2:$G$108)) -> 140 | F8: =SUMPRODUCT(('Juin-détails'!$B$2:$B$108=$B8)*('Juin-détails'!$J$2:$J$108=$F$1)*('Juin-détails'!$D$2:$G$108)) -> 0 | G8: =SUMPRODUCT(('Juin-détails'!$B$2:$B$108=$B8)*('Juin-détails'!$J$2:$J$108=$G$1)*('Juin-détails'!$D$2:$G$108)) -> 0 | H8: =SUMPRODUCT(('Juin-détails'!$B$2:$B$108=$B8)*('Juin-détails'!$J$2:$J$108=$H$1)*('Juin-détails'!$D$2:$G$108)) -> 0 | I8: =SUMPRODUCT(('Juin-détails'!$B$2:$B$108=$B8)*('Juin-détails'!$J$2:$J$108=$I$1)*('Juin-détails'!$D$2:$G$108)) -> 0 | J8: =(SUMPRODUCT(('Juin-détails'!$B$2:$B$108=$B8)*('Juin-détails'!$I$2:$I$108="PicNic")*('Juin-détails'!$D$2:$G$108)))+(SUMPRODUCT(('Juin-détails'!$B$2:$B$108=$B8)*('Juin-détails'!$I$2:$I$108="Flamm")*('Juin-détails'!$D$2:$G$108)))+(SUMPRODUCT(('Juin-détails'!$B$2:$B$108=$B8)*('Juin-détails'!$I$2:$I$108="Pouce")*('Juin-détails'!$D$2:$G$108))) -> 0 | K8: =(SUMPRODUCT(('Juin-détails'!$B$2:$B$108=$B8)*('Juin-détails'!$K$2:$K$108="pti-déJ")*('Juin-détails'!$D$2:$G$108)))+(SUMPRODUCT(('Juin-détails'!$B$2:$B$108=$B8)*('Juin-détails'!$K$2:$K$108="pause-sucrée")*('Juin-détails'!$D$2:$G$108)))+(SUMPRODUCT(('Juin-détails'!$B$2:$B$108=$B8)*('Juin-détails'!$K$2:$K$108="pause-salé")*('Juin-détails'!$D$2:$G$108)))+(SUMPRODUCT(('Juin-détails'!$B$2:$B$108=$B8)*('Juin-détails'!$L$2:$L$108="pti-déJ")*('Juin-détails'!$D$2:$G$108)))+(SUMPRODUCT(('Juin-détails'!$B$2:$B$108=$B8)*('Juin-détails'!$L$2:$L$108="pause-sucrée")*('Juin-détails'!$D$2:$G$108)))+(SUMPRODUCT(('Juin-détails'!$B$2:$B$108=$B8)*('Juin-détails'!$L$2:$L$108="pause-salé")*('Juin-détails'!$D$2:$G$108))) -> 0 | L8: =((SUMPRODUCT(('Juin-détails'!$B$2:$B$108=$B8)*('Juin-détails'!$K$2:$K$108="tab-découv")*('Juin-détails'!$D$2:$G$108)))+(SUMPRODUCT(('Juin-détails'!$B$2:$B$108=$B8)*('Juin-détails'!$K$2:$K$108="tab-homme")*('Juin-détails'!$D$2:$G$108)))+(SUMPRODUCT(('Juin-détails'!$B$2:$B$108=$B8)*('Juin-détails'!$K$2:$K$108="tab-traces")*('Juin-détails'!$D$2:$G$108)))+(SUMPRODUCT(('Juin-détails'!$B$2:$B$108=$B8)*('Juin-détails'!$K$2:$K$108="tab-ailes")*('Juin-détails'!$D$2:$G$108)))+(SUMPRODUCT(('Juin-détails'!$B$2:$B$108=$B8)*('Juin-détails'!$L$2:$L$108="tab-découv")*('Juin-détails'!$D$2:$G$108)))+(SUMPRODUCT(('Juin-détails'!$B$2:$B$108=$B8)*('Juin-détails'!$L$2:$L$108="tab-homme")*('Juin-détails'!$D$2:$G$108)))+(SUMPRODUCT(('Juin-détails'!$B$2:$B$108=$B8)*('Juin-détails'!$L$2:$L$108="tab-traces")*('Juin-détails'!$D$2:$G$108)))+(SUMPRODUCT(('Juin-détails'!$B$2:$B$108=$B8)*('Juin-détails'!$L$2:$L$108="tab-ailes")*('Juin-détails'!$D$2:$G$108))))/15 -> 0 | M8: =(SUMPRODUCT(('Juin-détails'!$B$2:$B$108=$B8)*('Juin-détails'!$K$2:$K$108="atelier-oiso")*('Juin-détails'!$D$2:$G$108)))+(SUMPRODUCT(('Juin-détails'!$B$2:$B$108=$B8)*('Juin-détails'!$K$2:$K$108="atelier-bouc")*('Juin-détails'!$D$2:$G$108)))+(SUMPRODUCT(('Juin-détails'!$B$2:$B$108=$B8)*('Juin-détails'!$K$2:$K$108="atelier-traces")*('Juin-détails'!$D$2:$G$108)))+(SUMPRODUCT(('Juin-détails'!$B$2:$B$108=$B8)*('Juin-détails'!$L$2:$L$108="atelier-oiso")*('Juin-détails'!$D$2:$G$108)))+(SUMPRODUCT(('Juin-détails'!$B$2:$B$108=$B8)*('Juin-détails'!$L$2:$L$108="atelier-oiso")*('Juin-détails'!$D$2:$G$108)))+(SUMPRODUCT(('Juin-détails'!$B$2:$B$108=$B8)*('Juin-détails'!$L$2:$L$108="atelier-traces")*('Juin-détails'!$D$2:$G$108))) -> 0 | N8: =(SUMPRODUCT(('Juin-détails'!$B$2:$B$108=$B8)*('Juin-détails'!$K$2:$K$108="visite-guidee")*('Juin-détails'!$D$2:$G$108)))+(SUMPRODUCT(('Juin-détails'!$B$2:$B$108=$B8)*('Juin-détails'!$L$2:$L$108="visite-guidee")*('Juin-détails'!$D$2:$G$108))) -> 0 | O8: =(SUMPRODUCT(('Juin-détails'!$B$2:$B$108=$B8)*('Juin-détails'!$K$2:$K$108="plein’air")*('Juin-détails'!$D$2:$G$108)))+(SUMPRODUCT(('Juin-détails'!$B$2:$B$108=$B8)*('Juin-détails'!$K$2:$K$108="event")*('Juin-détails'!$D$2:$G$108)))+(SUMPRODUCT(('Juin-détails'!$B$2:$B$108=$B8)*('Juin-détails'!$L$2:$L$108="plein’air")*('Juin-détails'!$D$2:$G$108)))+(SUMPRODUCT(('Juin-détails'!$B$2:$B$108=$B8)*('Juin-détails'!$L$2:$L$108="event")*('Juin-détails'!$D$2:$G$108))) -> 0
A9: =CHOOSE(WEEKDAY(B9,2),"lundi","mardi","mercredi","jeudi","vendredi","samedi","dimanche") -> dimanche | B9: 41798 | C9: =SUMPRODUCT(('Juin-détails'!$B$2:$B$108=$B9)*('Juin-détails'!$C$2:$C$108<TIMEVALUE("12:30"))*('Juin-détails'!$D$2:$G$108)) -> 0 | D9: =SUMPRODUCT(('Juin-détails'!$B$2:$B$108=$B9)*('Juin-détails'!$H$2:$H$108<>"...")*('Juin-détails'!$D$2:$G$108)) -> 0 | E9: =SUMPRODUCT(('Juin-détails'!$B$2:$B$108=$B9)*('Juin-détails'!$J$2:$J$108="...")*('Juin-détails'!$C$2:$C$108>TIMEVALUE("12:30"))*('Juin-détails'!$D$2:$G$108)) -> 0 | F9: =SUMPRODUCT(('Juin-détails'!$B$2:$B$108=$B9)*('Juin-détails'!$J$2:$J$108=$F$1)*('Juin-détails'!$D$2:$G$108)) -> 0 | G9: =SUMPRODUCT(('Juin-détails'!$B$2:$B$108=$B9)*('Juin-détails'!$J$2:$J$108=$G$1)*('Juin-détails'!$D$2:$G$108)) -> 0 | H9: =SUMPRODUCT(('Juin-détails'!$B$2:$B$108=$B9)*('Juin-détails'!$J$2:$J$108=$H$1)*('Juin-détails'!$D$2:$G$108)) -> 80 | I9: =SUMPRODUCT(('Juin-détails'!$B$2:$B$108=$B9)*('Juin-détails'!$J$2:$J$108=$I$1)*('Juin-détails'!$D$2:$G$108)) -> 45 | J9: =(SUMPRODUCT(('Juin-détails'!$B$2:$B$108=$B9)*('Juin-détails'!$I$2:$I$108="PicNic")*('Juin-détails'!$D$2:$G$108)))+(SUMPRODUCT(('Juin-détails'!$B$2:$B$108=$B9)*('Juin-détails'!$I$2:$I$108="Flamm")*('Juin-détails'!$D$2:$G$108)))+(SUMPRODUCT(('Juin-détails'!$B$2:$B$108=$B9)*('Juin-détails'!$I$2:$I$108="Pouce")*('Juin-détails'!$D$2:$G$108))) -> 0 | K9: =(SUMPRODUCT(('Juin-détails'!$B$2:$B$108=$B9)*('Juin-détails'!$K$2:$K$108="pti-déJ")*('Juin-détails'!$D$2:$G$108)))+(SUMPRODUCT(('Juin-détails'!$B$2:$B$108=$B9)*('Juin-détails'!$K$2:$K$108="pause-sucrée")*('Juin-détails'!$D$2:$G$108)))+(SUMPRODUCT(('Juin-détails'!$B$2:$B$108=$B9)*('Juin-détails'!$K$2:$K$108="pause-salé")*('Juin-détails'!$D$2:$G$108)))+(SUMPRODUCT(('Juin-détails'!$B$2:$B$108=$B9)*('Juin-détails'!$L$2:$L$108="pti-déJ")*('Juin-détails'!$D$2:$G$108)))+(SUMPRODUCT(('Juin-détails'!$B$2:$B$108=$B9)*('Juin-détails'!$L$2:$L$108="pause-sucrée")*('Juin-détails'!$D$2:$G$108)))+(SUMPRODUCT(('Juin-détails'!$B$2:$B$108=$B9)*('Juin-détails'!$L$2:$L$108="pause-salé")*('Juin-détails'!$D$2:$G$108))) -> 0 | L9: =((SUMPRODUCT(('Juin-détails'!$B$2:$B$108=$B9)*('Juin-détails'!$K$2:$K$108="tab-découv")*('Juin-détails'!$D$2:$G$108)))+(SUMPRODUCT(('Juin-détails'!$B$2:$B$108=$B9)*('Juin-détails'!$K$2:$K$108="tab-homme")*('Juin-détails'!$D$2:$G$108)))+(SUMPRODUCT(('Juin-détails'!$B$2:$B$108=$B9)*('Juin-détails'!$K$2:$K$108="tab-traces")*('Juin-détails'!$D$2:$G$108)))+(SUMPRODUCT(('Juin-détails'!$B$2:$B$108=$B9)*('Juin-détails'!$K$2:$K$108="tab-ailes")*('Juin-détails'!$D$2:$G$108)))+(SUMPRODUCT(('Juin-détails'!$B$2:$B$108=$B9)*('Juin-détails'!$L$2:$L$108="tab-découv")*('Juin-détails'!$D$2:$G$108)))+(SUMPRODUCT(('Juin-détails'!$B$2:$B$108=$B9)*('Juin-détails'!$L$2:$L$108="tab-homme")*('Juin-détails'!$D$2:$G$108)))+(SUMPRODUCT(('Juin-détails'!$B$2:$B$108=$B9)*('Juin-détails'!$L$2:$L$108="tab-traces")*('Juin-détails'!$D$2:$G$108)))+(SUMPRODUCT(('Juin-détails'!$B$2:$B$108=$B9)*('Juin-détails'!$L$2:$L$108="tab-ailes")*('Juin-détails'!$D$2:$G$108))))/15 -> 0 | M9: =(SUMPRODUCT(('Juin-détails'!$B$2:$B$108=$B9)*('Juin-détails'!$K$2:$K$108="atelier-oiso")*('Juin-détails'!$D$2:$G$108)))+(SUMPRODUCT(('Juin-détails'!$B$2:$B$108=$B9)*('Juin-détails'!$K$2:$K$108="atelier-bouc")*('Juin-détails'!$D$2:$G$108)))+(SUMPRODUCT(('Juin-détails'!$B$2:$B$108=$B9)*('Juin-détails'!$K$2:$K$108="atelier-traces")*('Juin-détails'!$D$2:$G$108)))+(SUMPRODUCT(('Juin-détails'!$B$2:$B$108=$B9)*('Juin-détails'!$L$2:$L$108="atelier-oiso")*('Juin-détails'!$D$2:$G$108)))+(SUMPRODUCT(('Juin-détails'!$B$2:$B$108=$B9)*('Juin-détails'!$L$2:$L$108="atelier-oiso")*('Juin-détails'!$D$2:$G$108)))+(SUMPRODUCT(('Juin-détails'!$B$2:$B$108=$B9)*('Juin-détails'!$L$2:$L$108="atelier-traces")*('Juin-détails'!$D$2:$G$108))) -> 0 | N9: =(SUMPRODUCT(('Juin-détails'!$B$2:$B$108=$B9)*('Juin-détails'!$K$2:$K$108="visite-guidee")*('Juin-détails'!$D$2:$G$108)))+(SUMPRODUCT(('Juin-détails'!$B$2:$B$108=$B9)*('Juin-détails'!$L$2:$L$108="visite-guidee")*('Juin-détails'!$D$2:$G$108))) -> 0 | O9: =(SUMPRODUCT(('Juin-détails'!$B$2:$B$108=$B9)*('Juin-détails'!$K$2:$K$108="plein’air")*('Juin-détails'!$D$2:$G$108)))+(SUMPRODUCT(('Juin-détails'!$B$2:$B$108=$B9)*('Juin-détails'!$K$2:$K$108="event")*('Juin-détails'!$D$2:$G$108)))+(SUMPRODUCT(('Juin-détails'!$B$2:$B$108=$B9)*('Juin-détails'!$L$2:$L$108="plein’air")*('Juin-détails'!$D$2:$G$108)))+(SUMPRODUCT(('Juin-détails'!$B$2:$B$108=$B9)*('Juin-détails'!$L$2:$L$108="event")*('Juin-détails'!$D$2:$G$108))) -> 0
A10: =CHOOSE(WEEKDAY(B10,2),"lundi","mardi","mercredi","jeudi","vendredi","samedi","dimanche") -> lundi | B10: 41799 | C10: =SUMPRODUCT(('Juin-détails'!$B$2:$B$108=$B10)*('Juin-détails'!$C$2:$C$108<TIMEVALUE("12:30"))*('Juin-détails'!$D$2:$G$108)) -> 0 | D10: =SUMPRODUCT(('Juin-détails'!$B$2:$B$108=$B10)*('Juin-détails'!$H$2:$H$108<>"...")*('Juin-détails'!$D$2:$G$108)) -> 0 | E10: =SUMPRODUCT(('Juin-détails'!$B$2:$B$108=$B10)*('Juin-détails'!$J$2:$J$108="...")*('Juin-détails'!$C$2:$C$108>TIMEVALUE("12:30"))*('Juin-détails'!$D$2:$G$108)) -> 140 | F10: =SUMPRODUCT(('Juin-détails'!$B$2:$B$108=$B10)*('Juin-détails'!$J$2:$J$108=$F$1)*('Juin-détails'!$D$2:$G$108)) -> 0 | G10: =SUMPRODUCT(('Juin-détails'!$B$2:$B$108=$B10)*('Juin-détails'!$J$2:$J$108=$G$1)*('Juin-détails'!$D$2:$G$108)) -> 0 | H10: =SUMPRODUCT(('Juin-détails'!$B$2:$B$108=$B10)*('Juin-détails'!$J$2:$J$108=$H$1)*('Juin-détails'!$D$2:$G$108)) -> 0 | I10: =SUMPRODUCT(('Juin-détails'!$B$2:$B$108=$B10)*('Juin-détails'!$J$2:$J$108=$I$1)*('Juin-détails'!$D$2:$G$108)) -> 0 | J10: =(SUMPRODUCT(('Juin-détails'!$B$2:$B$108=$B10)*('Juin-détails'!$I$2:$I$108="PicNic")*('Juin-détails'!$D$2:$G$108)))+(SUMPRODUCT(('Juin-détails'!$B$2:$B$108=$B10)*('Juin-détails'!$I$2:$I$108="Flamm")*('Juin-détails'!$D$2:$G$108)))+(SUMPRODUCT(('Juin-détails'!$B$2:$B$108=$B10)*('Juin-détails'!$I$2:$I$108="Pouce")*('Juin-détails'!$D$2:$G$108))) -> 0 | K10: =(SUMPRODUCT(('Juin-détails'!$B$2:$B$108=$B10)*('Juin-détails'!$K$2:$K$108="pti-déJ")*('Juin-détails'!$D$2:$G$108)))+(SUMPRODUCT(('Juin-détails'!$B$2:$B$108=$B10)*('Juin-détails'!$K$2:$K$108="pause-sucrée")*('Juin-détails'!$D$2:$G$108)))+(SUMPRODUCT(('Juin-détails'!$B$2:$B$108=$B10)*('Juin-détails'!$K$2:$K$108="pause-salé")*('Juin-détails'!$D$2:$G$108)))+(SUMPRODUCT(('Juin-détails'!$B$2:$B$108=$B10)*('Juin-détails'!$L$2:$L$108="pti-déJ")*('Juin-détails'!$D$2:$G$108)))+(SUMPRODUCT(('Juin-détails'!$B$2:$B$108=$B10)*('Juin-détails'!$L$2:$L$108="pause-sucrée")*('Juin-détails'!$D$2:$G$108)))+(SUMPRODUCT(('Juin-détails'!$B$2:$B$108=$B10)*('Juin-détails'!$L$2:$L$108="pause-salé")*('Juin-détails'!$D$2:$G$108))) -> 0 | L10: =((SUMPRODUCT(('Juin-détails'!$B$2:$B$108=$B10)*('Juin-détails'!$K$2:$K$108="tab-découv")*('Juin-détails'!$D$2:$G$108)))+(SUMPRODUCT(('Juin-détails'!$B$2:$B$108=$B10)*('Juin-détails'!$K$2:$K$108="tab-homme")*('Juin-détails'!$D$2:$G$108)))+(SUMPRODUCT(('Juin-détails'!$B$2:$B$108=$B10)*('Juin-détails'!$K$2:$K$108="tab-traces")*('Juin-détails'!$D$2:$G$108)))+(SUMPRODUCT(('Juin-détails'!$B$2:$B$108=$B10)*('Juin-détails'!$K$2:$K$108="tab-ailes")*('Juin-détails'!$D$2:$G$108)))+(SUMPRODUCT(('Juin-détails'!$B$2:$B$108=$B10)*('Juin-détails'!$L$2:$L$108="tab-découv")*('Juin-détails'!$D$2:$G$108)))+(SUMPRODUCT(('Juin-détails'!$B$2:$B$108=$B10)*('Juin-détails'!$L$2:$L$108="tab-homme")*('Juin-détails'!$D$2:$G$108)))+(SUMPRODUCT(('Juin-détails'!$B$2:$B$108=$B10)*('Juin-détails'!$L$2:$L$108="tab-traces")*('Juin-détails'!$D$2:$G$108)))+(SUMPRODUCT(('Juin-détails'!$B$2:$B$108=$B10)*('Juin-détails'!$L$2:$L$108="tab-ailes")*('Juin-détails'!$D$2:$G$108))))/15 -> 0 | M10: =(SUMPRODUCT(('Juin-détails'!$B$2:$B$108=$B10)*('Juin-détails'!$K$2:$K$108="atelier-oiso")*('Juin-détails'!$D$2:$G$108)))+(SUMPRODUCT(('Juin-détails'!$B$2:$B$108=$B10)*('Juin-détails'!$K$2:$K$108="atelier-bouc")*('Juin-détails'!$D$2:$G$108)))+(SUMPRODUCT(('Juin-détails'!$B$2:$B$108=$B10)*('Juin-détails'!$K$2:$K$108="atelier-traces")*('Juin-détails'!$D$2:$G$108)))+(SUMPRODUCT(('Juin-détails'!$B$2:$B$108=$B10)*('Juin-détails'!$L$2:$L$108="atelier-oiso")*('Juin-détails'!$D$2:$G$108)))+(SUMPRODUCT(('Juin-détails'!$B$2:$B$108=$B10)*('Juin-détails'!$L$2:$L$108="atelier-oiso")*('Juin-détails'!$D$2:$G$108)))+(SUMPRODUCT(('Juin-détails'!$B$2:$B$108=$B10)*('Juin-détails'!$L$2:$L$108="atelier-traces")*('Juin-détails'!$D$2:$G$108))) -> 0 | N10: =(SUMPRODUCT(('Juin-détails'!$B$2:$B$108=$B10)*('Juin-détails'!$K$2:$K$108="visite-guidee")*('Juin-détails'!$D$2:$G$108)))+(SUMPRODUCT(('Juin-détails'!$B$2:$B$108=$B10)*('Juin-détails'!$L$2:$L$108="visite-guidee")*('Juin-détails'!$D$2:$G$108))) -> 0 | O10: =(SUMPRODUCT(('Juin-détails'!$B$2:$B$108=$B10)*('Juin-détails'!$K$2:$K$108="plein’air")*('Juin-détails'!$D$2:$G$108)))+(SUMPRODUCT(('Juin-détails'!$B$2:$B$108=$B10)*('Juin-détails'!$K$2:$K$108="event")*('Juin-détails'!$D$2:$G$108)))+(SUMPRODUCT(('Juin-détails'!$B$2:$B$108=$B10)*('Juin-détails'!$L$2:$L$108="plein’air")*('Juin-détails'!$D$2:$G$108)))+(SUMPRODUCT(('Juin-détails'!$B$2:$B$108=$B10)*('Juin-détails'!$L$2:$L$108="event")*('Juin-détails'!$D$2:$G$108))) -> 0
A11: =CHOOSE(WEEKDAY(B11,2),"lundi","mardi","mercredi","jeudi","vendredi","samedi","dimanche") -> mardi | B11: 41800 | C11: =SUMPRODUCT(('Juin-détails'!$B$2:$B$108=$B11)*('Juin-détails'!$C$2:$C$108<TIMEVALUE("12:30"))*('Juin-détails'!$D$2:$G$108)) -> 228 | D11: =SUMPRODUCT(('Juin-détails'!$B$2:$B$108=$B11)*('Juin-détails'!$H$2:$H$108<>"...")*('Juin-détails'!$D$2:$G$108)) -> 228 | E11: =SUMPRODUCT(('Juin-détails'!$B$2:$B$108=$B11)*('Juin-détails'!$J$2:$J$108="...")*('Juin-détails'!$C$2:$C$108>TIMEVALUE("12:30"))*('Juin-détails'!$D$2:$G$108)) -> 0 | F11: =SUMPRODUCT(('Juin-détails'!$B$2:$B$108=$B11)*('Juin-détails'!$J$2:$J$108=$F$1)*('Juin-détails'!$D$2:$G$108)) -> 0 | G11: =SUMPRODUCT(('Juin-détails'!$B$2:$B$108=$B11)*('Juin-détails'!$J$2:$J$108=$G$1)*('Juin-détails'!$D$2:$G$108)) -> 228 | H11: =SUMPRODUCT(('Juin-détails'!$B$2:$B$108=$B11)*('Juin-détails'!$J$2:$J$108=$H$1)*('Juin-détails'!$D$2:$G$108)) -> 72 | I11: =SUMPRODUCT(('Juin-détails'!$B$2:$B$108=$B11)*('Juin-détails'!$J$2:$J$108=$I$1)*('Juin-détails'!$D$2:$G$108)) -> 0 | J11: =(SUMPRODUCT(('Juin-détails'!$B$2:$B$108=$B11)*('Juin-détails'!$I$2:$I$108="PicNic")*('Juin-détails'!$D$2:$G$108)))+(SUMPRODUCT(('Juin-détails'!$B$2:$B$108=$B11)*('Juin-détails'!$I$2:$I$108="Flamm")*('Juin-détails'!$D$2:$G$108)))+(SUMPRODUCT(('Juin-détails'!$B$2:$B$108=$B11)*('Juin-détails'!$I$2:$I$108="Pouce")*('Juin-détails'!$D$2:$G$108))) -> 0 | K11: =(SUMPRODUCT(('Juin-détails'!$B$2:$B$108=$B11)*('Juin-détails'!$K$2:$K$108="pti-déJ")*('Juin-détails'!$D$2:$G$108)))+(SUMPRODUCT(('Juin-détails'!$B$2:$B$108=$B11)*('Juin-détails'!$K$2:$K$108="pause-sucrée")*('Juin-détails'!$D$2:$G$108)))+(SUMPRODUCT(('Juin-détails'!$B$2:$B$108=$B11)*('Juin-détails'!$K$2:$K$108="pause-salé")*('Juin-détails'!$D$2:$G$108)))+(SUMPRODUCT(('Juin-détails'!$B$2:$B$108=$B11)*('Juin-détails'!$L$2:$L$108="pti-déJ")*('Juin-détails'!$D$2:$G$108)))+(SUMPRODUCT(('Juin-détails'!$B$2:$B$108=$B11)*('Juin-détails'!$L$2:$L$108="pause-sucrée")*('Juin-détails'!$D$2:$G$108)))+(SUMPRODUCT(('Juin-détails'!$B$2:$B$108=$B11)*('Juin-détails'!$L$2:$L$108="pause-salé")*('Juin-détails'!$D$2:$G$108))) -> 0 | L11: =((SUMPRODUCT(('Juin-détails'!$B$2:$B$108=$B11)*('Juin-détails'!$K$2:$K$108="tab-découv")*('Juin-détails'!$D$2:$G$108)))+(SUMPRODUCT(('Juin-détails'!$B$2:$B$108=$B11)*('Juin-détails'!$K$2:$K$108="tab-homme")*('Juin-détails'!$D$2:$G$108)))+(SUMPRODUCT(('Juin-détails'!$B$2:$B$108=$B11)*('Juin-détails'!$K$2:$K$108="tab-traces")*('Juin-détails'!$D$2:$G$108)))+(SUMPRODUCT(('Juin-détails'!$B$2:$B$108=$B11)*('Juin-détails'!$K$2:$K$108="tab-ailes")*('Juin-détails'!$D$2:$G$108)))+(SUMPRODUCT(('Juin-détails'!$B$2:$B$108=$B11)*('Juin-détails'!$L$2:$L$108="tab-découv")*('Juin-détails'!$D$2:$G$108)))+(SUMPRODUCT(('Juin-détails'!$B$2:$B$108=$B11)*('Juin-détails'!$L$2:$L$108="tab-homme")*('Juin-détails'!$D$2:$G$108)))+(SUMPRODUCT(('Juin-détails'!$B$2:$B$108=$B11)*('Juin-détails'!$L$2:$L$108="tab-traces")*('Juin-détails'!$D$2:$G$108)))+(SUMPRODUCT(('Juin-détails'!$B$2:$B$108=$B11)*('Juin-détails'!$L$2:$L$108="tab-ailes")*('Juin-détails'!$D$2:$G$108))))/15 -> 4 | M11: =(SUMPRODUCT(('Juin-détails'!$B$2:$B$108=$B11)*('Juin-détails'!$K$2:$K$108="atelier-oiso")*('Juin-détails'!$D$2:$G$108)))+(SUMPRODUCT(('Juin-détails'!$B$2:$B$108=$B11)*('Juin-détails'!$K$2:$K$108="atelier-bouc")*('Juin-détails'!$D$2:$G$108)))+(SUMPRODUCT(('Juin-détails'!$B$2:$B$108=$B11)*('Juin-détails'!$K$2:$K$108="atelier-traces")*('Juin-détails'!$D$2:$G$108)))+(SUMPRODUCT(('Juin-détails'!$B$2:$B$108=$B11)*('Juin-détails'!$L$2:$L$108="atelier-oiso")*('Juin-détails'!$D$2:$G$108)))+(SUMPRODUCT(('Juin-détails'!$B$2:$B$108=$B11)*('Juin-détails'!$L$2:$L$108="atelier-oiso")*('Juin-détails'!$D$2:$G$108)))+(SUMPRODUCT(('Juin-détails'!$B$2:$B$108=$B11)*('Juin-détails'!$L$2:$L$108="atelier-traces")*('Juin-détails'!$D$2:$G$108))) -> 0 | N11: =(SUMPRODUCT(('Juin-détails'!$B$2:$B$108=$B11)*('Juin-détails'!$K$2:$K$108="visite-guidee")*('Juin-détails'!$D$2:$G$108)))+(SUMPRODUCT(('Juin-détails'!$B$2:$B$108=$B11)*('Juin-détails'!$L$2:$L$108="visite-guidee")*('Juin-détails'!$D$2:$G$108))) -> 0 | O11: =(SUMPRODUCT(('Juin-détails'!$B$2:$B$108=$B11)*('Juin-détails'!$K$2:$K$108="plein’air")*('Juin-détails'!$D$2:$G$108)))+(SUMPRODUCT(('Juin-détails'!$B$2:$B$108=$B11)*('Juin-détails'!$K$2:$K$108="event")*('Juin-détails'!$D$2:$G$108)))+(SUMPRODUCT(('Juin-détails'!$B$2:$B$108=$B11)*('Juin-détails'!$L$2:$L$108="plein’air")*('Juin-détails'!$D$2:$G$108)))+(SUMPRODUCT(('Juin-détails'!$B$2:$B$108=$B11)*('Juin-détails'!$L$2:$L$108="event")*('Juin-détails'!$D$2:$G$108))) -> 0
A12: =CHOOSE(WEEKDAY(B12,2),"lundi","mardi","mercredi","jeudi","vendredi","samedi","dimanche") -> mercredi | B12: 41801 | C12: =SUMPRODUCT(('Juin-détails'!$B$2:$B$108=$B12)*('Juin-détails'!$C$2:$C$108<TIMEVALUE("12:30"))*('Juin-détails'!$D$2:$G$108)) -> 0 | D12: =SUMPRODUCT(('Juin-détails'!$B$2:$B$108=$B12)*('Juin-détails'!$H$2:$H$108<>"...")*('Juin-détails'!$D$2:$G$108)) -> 0 | E12: =SUMPRODUCT(('Juin-détails'!$B$2:$B$108=$B12)*('Juin-détails'!$J$2:$J$108="...")*('Juin-détails'!$C$2:$C$108>TIMEVALUE("12:30"))*('Juin-détails'!$D$2:$G$108)) -> 0 | F12: =SUMPRODUCT(('Juin-détails'!$B$2:$B$108=$B12)*('Juin-détails'!$J$2:$J$108=$F$1)*('Juin-détails'!$D$2:$G$108)) -> 0 | G12: =SUMPRODUCT(('Juin-détails'!$B$2:$B$108=$B12)*('Juin-détails'!$J$2:$J$108=$G$1)*('Juin-détails'!$D$2:$G$108)) -> 0 | H12: =SUMPRODUCT(('Juin-détails'!$B$2:$B$108=$B12)*('Juin-détails'!$J$2:$J$108=$H$1)*('Juin-détails'!$D$2:$G$108)) -> 38 | I12: =SUMPRODUCT(('Juin-détails'!$B$2:$B$108=$B12)*('Juin-détails'!$J$2:$J$108=$I$1)*('Juin-détails'!$D$2:$G$108)) -> 0 | J12: =(SUMPRODUCT(('Juin-détails'!$B$2:$B$108=$B12)*('Juin-détails'!$I$2:$I$108="PicNic")*('Juin-détails'!$D$2:$G$108)))+(SUMPRODUCT(('Juin-détails'!$B$2:$B$108=$B12)*('Juin-détails'!$I$2:$I$108="Flamm")*('Juin-détails'!$D$2:$G$108)))+(SUMPRODUCT(('Juin-détails'!$B$2:$B$108=$B12)*('Juin-détails'!$I$2:$I$108="Pouce")*('Juin-détails'!$D$2:$G$108))) -> 0 | K12: =(SUMPRODUCT(('Juin-détails'!$B$2:$B$108=$B12)*('Juin-détails'!$K$2:$K$108="pti-déJ")*('Juin-détails'!$D$2:$G$108)))+(SUMPRODUCT(('Juin-détails'!$B$2:$B$108=$B12)*('Juin-détails'!$K$2:$K$108="pause-sucrée")*('Juin-détails'!$D$2:$G$108)))+(SUMPRODUCT(('Juin-détails'!$B$2:$B$108=$B12)*('Juin-détails'!$K$2:$K$108="pause-salé")*('Juin-détails'!$D$2:$G$108)))+(SUMPRODUCT(('Juin-détails'!$B$2:$B$108=$B12)*('Juin-détails'!$L$2:$L$108="pti-déJ")*('Juin-détails'!$D$2:$G$108)))+(SUMPRODUCT(('Juin-détails'!$B$2:$B$108=$B12)*('Juin-détails'!$L$2:$L$108="pause-sucrée")*('Juin-détails'!$D$2:$G$108)))+(SUMPRODUCT(('Juin-détails'!$B$2:$B$108=$B12)*('Juin-détails'!$L$2:$L$108="pause-salé")*('Juin-détails'!$D$2:$G$108))) -> 0 | L12: =((SUMPRODUCT(('Juin-détails'!$B$2:$B$108=$B12)*('Juin-détails'!$K$2:$K$108="tab-découv")*('Juin-détails'!$D$2:$G$108)))+(SUMPRODUCT(('Juin-détails'!$B$2:$B$108=$B12)*('Juin-détails'!$K$2:$K$108="tab-homme")*('Juin-détails'!$D$2:$G$108)))+(SUMPRODUCT(('Juin-détails'!$B$2:$B$108=$B12)*('Juin-détails'!$K$2:$K$108="tab-traces")*('Juin-détails'!$D$2:$G$108)))+(SUMPRODUCT(('Juin-détails'!$B$2:$B$108=$B12)*('Juin-détails'!$K$2:$K$108="tab-ailes")*('Juin-détails'!$D$2:$G$108)))+(SUMPRODUCT(('Juin-détails'!$B$2:$B$108=$B12)*('Juin-détails'!$L$2:$L$108="tab-découv")*('Juin-détails'!$D$2:$G$108)))+(SUMPRODUCT(('Juin-détails'!$B$2:$B$108=$B12)*('Juin-détails'!$L$2:$L$108="tab-homme")*('Juin-détails'!$D$2:$G$108)))+(SUMPRODUCT(('Juin-détails'!$B$2:$B$108=$B12)*('Juin-détails'!$L$2:$L$108="tab-traces")*('Juin-détails'!$D$2:$G$108)))+(SUMPRODUCT(('Juin-détails'!$B$2:$B$108=$B12)*('Juin-détails'!$L$2:$L$108="tab-ailes")*('Juin-détails'!$D$2:$G$108))))/15 -> 0 | M12: =(SUMPRODUCT(('Juin-détails'!$B$2:$B$108=$B12)*('Juin-détails'!$K$2:$K$108="atelier-oiso")*('Juin-détails'!$D$2:$G$108)))+(SUMPRODUCT(('Juin-détails'!$B$2:$B$108=$B12)*('Juin-détails'!$K$2:$K$108="atelier-bouc")*('Juin-détails'!$D$2:$G$108)))+(SUMPRODUCT(('Juin-détails'!$B$2:$B$108=$B12)*('Juin-détails'!$K$2:$K$108="atelier-traces")*('Juin-détails'!$D$2:$G$108)))+(SUMPRODUCT(('Juin-détails'!$B$2:$B$108=$B12)*('Juin-détails'!$L$2:$L$108="atelier-oiso")*('Juin-détails'!$D$2:$G$108)))+(SUMPRODUCT(('Juin-détails'!$B$2:$B$108=$B12)*('Juin-détails'!$L$2:$L$108="atelier-oiso")*('Juin-détails'!$D$2:$G$108)))+(SUMPRODUCT(('Juin-détails'!$B$2:$B$108=$B12)*('Juin-détails'!$L$2:$L$108="atelier-traces")*('Juin-détails'!$D$2:$G$108))) -> 0 | N12: =(SUMPRODUCT(('Juin-détails'!$B$2:$B$108=$B12)*('Juin-détails'!$K$2:$K$108="visite-guidee")*('Juin-détails'!$D$2:$G$108)))+(SUMPRODUCT(('Juin-détails'!$B$2:$B$108=$B12)*('Juin-détails'!$L$2:$L$108="visite-guidee")*('Juin-détails'!$D$2:$G$108))) -> 0 | O12: =(SUMPRODUCT(('Juin-détails'!$B$2:$B$108=$B12)*('Juin-détails'!$K$2:$K$108="plein’air")*('Juin-détails'!$D$2:$G$108)))+(SUMPRODUCT(('Juin-détails'!$B$2:$B$108=$B12)*('Juin-détails'!$K$2:$K$108="event")*('Juin-détails'!$D$2:$G$108)))+(SUMPRODUCT(('Juin-détails'!$B$2:$B$108=$B12)*('Juin-détails'!$L$2:$L$108="plein’air")*('Juin-détails'!$D$2:$G$108)))+(SUMPRODUCT(('Juin-détails'!$B$2:$B$108=$B12)*('Juin-détails'!$L$2:$L$108="event")*('Juin-détails'!$D$2:$G$108))) -> 0
A13: =CHOOSE(WEEKDAY(B13,2),"lundi","mardi","mercredi","jeudi","vendredi","samedi","dimanche") -> jeudi | B13: 41802 | C13: =SUMPRODUCT(('Juin-détails'!$B$2:$B$108=$B13)*('Juin-détails'!$C$2:$C$108<TIMEVALUE("12:30"))*('Juin-détails'!$D$2:$G$108)) -> 310 | D13: =SUMPRODUCT(('Juin-détails'!$B$2:$B$108=$B13)*('Juin-détails'!$H$2:$H$108<>"...")*('Juin-détails'!$D$2:$G$108)) -> 136 | E13: =SUMPRODUCT(('Juin-détails'!$B$2:$B$108=$B13)*('Juin-détails'!$J$2:$J$108="...")*('Juin-détails'!$C$2:$C$108>TIMEVALUE("12:30"))*('Juin-détails'!$D$2:$G$108)) -> 140 | F13: =SUMPRODUCT(('Juin-détails'!$B$2:$B$108=$B13)*('Juin-détails'!$J$2:$J$108=$F$1)*('Juin-détails'!$D$2:$G$108)) -> 136 | G13: =SUMPRODUCT(('Juin-détails'!$B$2:$B$108=$B13)*('Juin-détails'!$J$2:$J$108=$G$1)*('Juin-détails'!$D$2:$G$108)) -> 0 | H13: =SUMPRODUCT(('Juin-détails'!$B$2:$B$108=$B13)*('Juin-détails'!$J$2:$J$108=$H$1)*('Juin-détails'!$D$2:$G$108)) -> 0 | I13: =SUMPRODUCT(('Juin-détails'!$B$2:$B$108=$B13)*('Juin-détails'!$J$2:$J$108=$I$1)*('Juin-détails'!$D$2:$G$108)) -> 0 | J13: =(SUMPRODUCT(('Juin-détails'!$B$2:$B$108=$B13)*('Juin-détails'!$I$2:$I$108="PicNic")*('Juin-détails'!$D$2:$G$108)))+(SUMPRODUCT(('Juin-détails'!$B$2:$B$108=$B13)*('Juin-détails'!$I$2:$I$108="Flamm")*('Juin-détails'!$D$2:$G$108)))+(SUMPRODUCT(('Juin-détails'!$B$2:$B$108=$B13)*('Juin-détails'!$I$2:$I$108="Pouce")*('Juin-détails'!$D$2:$G$108))) -> 0 | K13: =(SUMPRODUCT(('Juin-détails'!$B$2:$B$108=$B13)*('Juin-détails'!$K$2:$K$108="pti-déJ")*('Juin-détails'!$D$2:$G$108)))+(SUMPRODUCT(('Juin-détails'!$B$2:$B$108=$B13)*('Juin-détails'!$K$2:$K$108="pause-sucrée")*('Juin-détails'!$D$2:$G$108)))+(SUMPRODUCT(('Juin-détails'!$B$2:$B$108=$B13)*('Juin-détails'!$K$2:$K$108="pause-salé")*('Juin-détails'!$D$2:$G$108)))+(SUMPRODUCT(('Juin-détails'!$B$2:$B$108=$B13)*('Juin-détails'!$L$2:$L$108="pti-déJ")*('Juin-détails'!$D$2:$G$108)))+(SUMPRODUCT(('Juin-détails'!$B$2:$B$108=$B13)*('Juin-détails'!$L$2:$L$108="pause-sucrée")*('Juin-détails'!$D$2:$G$108)))+(SUMPRODUCT(('Juin-détails'!$B$2:$B$108=$B13)*('Juin-détails'!$L$2:$L$108="pause-salé")*('Juin-détails'!$D$2:$G$108))) -> 0 | L13: =((SUMPRODUCT(('Juin-détails'!$B$2:$B$108=$B13)*('Juin-détails'!$K$2:$K$108="tab-découv")*('Juin-détails'!$D$2:$G$108)))+(SUMPRODUCT(('Juin-détails'!$B$2:$B$108=$B13)*('Juin-détails'!$K$2:$K$108="tab-homme")*('Juin-détails'!$D$2:$G$108)))+(SUMPRODUCT(('Juin-détails'!$B$2:$B$108=$B13)*('Juin-détails'!$K$2:$K$108="tab-traces")*('Juin-détails'!$D$2:$G$108)))+(SUMPRODUCT(('Juin-détails'!$B$2:$B$108=$B13)*('Juin-détails'!$K$2:$K$108="tab-ailes")*('Juin-détails'!$D$2:$G$108)))+(SUMPRODUCT(('Juin-détails'!$B$2:$B$108=$B13)*('Juin-détails'!$L$2:$L$108="tab-découv")*('Juin-détails'!$D$2:$G$108)))+(SUMPRODUCT(('Juin-détails'!$B$2:$B$108=$B13)*('Juin-détails'!$L$2:$L$108="tab-homme")*('Juin-détails'!$D$2:$G$108)))+(SUMPRODUCT(('Juin-détails'!$B$2:$B$108=$B13)*('Juin-détails'!$L$2:$L$108="tab-traces")*('Juin-détails'!$D$2:$G$108)))+(SUMPRODUCT(('Juin-détails'!$B$2:$B$108=$B13)*('Juin-détails'!$L$2:$L$108="tab-ailes")*('Juin-détails'!$D$2:$G$108))))/15 -> 0 | M13: =(SUMPRODUCT(('Juin-détails'!$B$2:$B$108=$B13)*('Juin-détails'!$K$2:$K$108="atelier-oiso")*('Juin-détails'!$D$2:$G$108)))+(SUMPRODUCT(('Juin-détails'!$B$2:$B$108=$B13)*('Juin-détails'!$K$2:$K$108="atelier-bouc")*('Juin-détails'!$D$2:$G$108)))+(SUMPRODUCT(('Juin-détails'!$B$2:$B$108=$B13)*('Juin-détails'!$K$2:$K$108="atelier-traces")*('Juin-détails'!$D$2:$G$108)))+(SUMPRODUCT(('Juin-détails'!$B$2:$B$108=$B13)*('Juin-détails'!$L$2:$L$108="atelier-oiso")*('Juin-détails'!$D$2:$G$108)))+(SUMPRODUCT(('Juin-détails'!$B$2:$B$108=$B13)*('Juin-détails'!$L$2:$L$108="atelier-oiso")*('Juin-détails'!$D$2:$G$108)))+(SUMPRODUCT(('Juin-détails'!$B$2:$B$108=$B13)*('Juin-détails'!$L$2:$L$108="atelier-traces")*('Juin-détails'!$D$2:$G$108))) -> 0 | N13: =(SUMPRODUCT(('Juin-détails'!$B$2:$B$108=$B13)*('Juin-détails'!$K$2:$K$108="visite-guidee")*('Juin-détails'!$D$2:$G$108)))+(SUMPRODUCT(('Juin-détails'!$B$2:$B$108=$B13)*('Juin-détails'!$L$2:$L$108="visite-guidee")*('Juin-détails'!$D$2:$G$108))) -> 0 | O13: =(SUMPRODUCT(('Juin-détails'!$B$2:$B$108=$B13)*('Juin-détails'!$K$2:$K$108="plein’air")*('Juin-détails'!$D$2:$G$108)))+(SUMPRODUCT(('Juin-détails'!$B$2:$B$108=$B13)*('Juin-détails'!$K$2:$K$108="event")*('Juin-détails'!$D$2:$G$108)))+(SUMPRODUCT(('Juin-détails'!$B$2:$B$108=$B13)*('Juin-détails'!$L$2:$L$108="plein’air")*('Juin-détails'!$D$2:$G$108)))+(SUMPRODUCT(('Juin-détails'!$B$2:$B$108=$B13)*('Juin-détails'!$L$2:$L$108="event")*('Juin-détails'!$D$2:$G$108))) -> 0
... A31: =CHOOSE(WEEKDAY(B31,2),"lundi","mardi","mercredi","jeudi","vendredi","samedi","dimanche") -> lundi | B31: 41820 | C31: =SUMPRODUCT(('Juin-détails'!$B$2:$B$108=$B31)*('Juin-détails'!$C$2:$C$108<TIMEVALUE("12:30"))*('Juin-détails'!$D$2:$G$108)) -> 0 | D31: =SUMPRODUCT(('Juin-détails'!$B$2:$B$108=$B31)*('Juin-détails'!$H$2:$H$108<>"...")*('Juin-détails'!$D$2:$G$108)) -> 0 | E31: =SUMPRODUCT(('Juin-détails'!$B$2:$B$108=$B31)*('Juin-détails'!$J$2:$J$108="...")*('Juin-détails'!$C$2:$C$108>TIMEVALUE("12:30"))*('Juin-détails'!$D$2:$G$108)) -> 0 | F31: =SUMPRODUCT(('Juin-détails'!$B$2:$B$108=$B31)*('Juin-détails'!$J$2:$J$108=$F$1)*('Juin-détails'!$D$2:$G$108)) -> 0 | G31: =SUMPRODUCT(('Juin-détails'!$B$2:$B$108=$B31)*('Juin-détails'!$J$2:$J$108=$G$1)*('Juin-détails'!$D$2:$G$108)) -> 0 | H31: =SUMPRODUCT(('Juin-détails'!$B$2:$B$108=$B31)*('Juin-détails'!$J$2:$J$108=$H$1)*('Juin-détails'!$D$2:$G$108)) -> 40 | I31: =SUMPRODUCT(('Juin-détails'!$B$2:$B$108=$B31)*('Juin-détails'!$J$2:$J$108=$I$1)*('Juin-détails'!$D$2:$G$108)) -> 0 | J31: =(SUMPRODUCT(('Juin-détails'!$B$2:$B$108=$B31)*('Juin-détails'!$I$2:$I$108="PicNic")*('Juin-détails'!$D$2:$G$108)))+(SUMPRODUCT(('Juin-détails'!$B$2:$B$108=$B31)*('Juin-détails'!$I$2:$I$108="Flamm")*('Juin-détails'!$D$2:$G$108)))+(SUMPRODUCT(('Juin-détails'!$B$2:$B$108=$B31)*('Juin-détails'!$I$2:$I$108="Pouce")*('Juin-détails'!$D$2:$G$108))) -> 0 | K31: =(SUMPRODUCT(('Juin-détails'!$B$2:$B$108=$B31)*('Juin-détails'!$K$2:$K$108="pti-déJ")*('Juin-détails'!$D$2:$G$108)))+(SUMPRODUCT(('Juin-détails'!$B$2:$B$108=$B31)*('Juin-détails'!$K$2:$K$108="pause-sucrée")*('Juin-détails'!$D$2:$G$108)))+(SUMPRODUCT(('Juin-détails'!$B$2:$B$108=$B31)*('Juin-détails'!$K$2:$K$108="pause-salé")*('Juin-détails'!$D$2:$G$108)))+(SUMPRODUCT(('Juin-détails'!$B$2:$B$108=$B31)*('Juin-détails'!$L$2:$L$108="pti-déJ")*('Juin-détails'!$D$2:$G$108)))+(SUMPRODUCT(('Juin-détails'!$B$2:$B$108=$B31)*('Juin-détails'!$L$2:$L$108="pause-sucrée")*('Juin-détails'!$D$2:$G$108)))+(SUMPRODUCT(('Juin-détails'!$B$2:$B$108=$B31)*('Juin-détails'!$L$2:$L$108="pause-salé")*('Juin-détails'!$D$2:$G$108))) -> 0 | L31: =((SUMPRODUCT(('Juin-détails'!$B$2:$B$108=$B31)*('Juin-détails'!$K$2:$K$108="tab-découv")*('Juin-détails'!$D$2:$G$108)))+(SUMPRODUCT(('Juin-détails'!$B$2:$B$108=$B31)*('Juin-détails'!$K$2:$K$108="tab-homme")*('Juin-détails'!$D$2:$G$108)))+(SUMPRODUCT(('Juin-détails'!$B$2:$B$108=$B31)*('Juin-détails'!$K$2:$K$108="tab-traces")*('Juin-détails'!$D$2:$G$108)))+(SUMPRODUCT(('Juin-détails'!$B$2:$B$108=$B31)*('Juin-détails'!$K$2:$K$108="tab-ailes")*('Juin-détails'!$D$2:$G$108)))+(SUMPRODUCT(('Juin-détails'!$B$2:$B$108=$B31)*('Juin-détails'!$L$2:$L$108="tab-découv")*('Juin-détails'!$D$2:$G$108)))+(SUMPRODUCT(('Juin-détails'!$B$2:$B$108=$B31)*('Juin-détails'!$L$2:$L$108="tab-homme")*('Juin-détails'!$D$2:$G$108)))+(SUMPRODUCT(('Juin-détails'!$B$2:$B$108=$B31)*('Juin-détails'!$L$2:$L$108="tab-traces")*('Juin-détails'!$D$2:$G$108)))+(SUMPRODUCT(('Juin-détails'!$B$2:$B$108=$B31)*('Juin-détails'!$L$2:$L$108="tab-ailes")*('Juin-détails'!$D$2:$G$108))))/15 -> 0 | M31: =(SUMPRODUCT(('Juin-détails'!$B$2:$B$108=$B31)*('Juin-détails'!$K$2:$K$108="atelier-oiso")*('Juin-détails'!$D$2:$G$108)))+(SUMPRODUCT(('Juin-détails'!$B$2:$B$108=$B31)*('Juin-détails'!$K$2:$K$108="atelier-bouc")*('Juin-détails'!$D$2:$G$108)))+(SUMPRODUCT(('Juin-détails'!$B$2:$B$108=$B31)*('Juin-détails'!$K$2:$K$108="atelier-traces")*('Juin-détails'!$D$2:$G$108)))+(SUMPRODUCT(('Juin-détails'!$B$2:$B$108=$B31)*('Juin-détails'!$L$2:$L$108="atelier-oiso")*('Juin-détails'!$D$2:$G$108)))+(SUMPRODUCT(('Juin-détails'!$B$2:$B$108=$B31)*('Juin-détails'!$L$2:$L$108="atelier-oiso")*('Juin-détails'!$D$2:$G$108)))+(SUMPRODUCT(('Juin-détails'!$B$2:$B$108=$B31)*('Juin-détails'!$L$2:$L$108="atelier-traces")*('Juin-détails'!$D$2:$G$108))) -> 0 | N31: =(SUMPRODUCT(('Juin-détails'!$B$2:$B$108=$B31)*('Juin-détails'!$K$2:$K$108="visite-guidee")*('Juin-détails'!$D$2:$G$108)))+(SUMPRODUCT(('Juin-détails'!$B$2:$B$108=$B31)*('Juin-détails'!$L$2:$L$108="visite-guidee")*('Juin-détails'!$D$2:$G$108))) -> 0 | O31: =(SUMPRODUCT(('Juin-détails'!$B$2:$B$108=$B31)*('Juin-détails'!$K$2:$K$108="plein’air")*('Juin-détails'!$D$2:$G$108)))+(SUMPRODUCT(('Juin-détails'!$B$2:$B$108=$B31)*('Juin-détails'!$K$2:$K$108="event")*('Juin-détails'!$D$2:$G$108)))+(SUMPRODUCT(('Juin-détails'!$B$2:$B$108=$B31)*('Juin-détails'!$L$2:$L$108="plein’air")*('Juin-détails'!$D$2:$G$108)))+(SUMPRODUCT(('Juin-détails'!$B$2:$B$108=$B31)*('Juin-détails'!$L$2:$L$108="event")*('Juin-détails'!$D$2:$G$108))) -> 0

Sheet Juin-détails
A1: JUIN | B1: Date | C1: Arrivée | D1: ADU | E1: JEU | F1: ENF | G1: ACC | H1: PN | I1: Repas | J1: Spectacle | K1: Option1 | L1: Option2 | M1: Horaires | N1: Groupe | O1: Responsable | P1: Tél. | Q1: Gsm | R1: Mail | S1: Adresse | T1: CP | U1: Ville
A2: =CHOOSE(WEEKDAY(B2,2),"lundi","mardi","mercredi","jeudi","vendredi","samedi","dimanche") -> dimanche | B2: 41791
A3: =CHOOSE(WEEKDAY(B3,2),"lundi","mardi","mercredi","jeudi","vendredi","samedi","dimanche") -> lundi | B3: 41792 | C3: 0.64583333 | F3: 55 | G3: 9 | H3: ... | I3: ... | J3: 0.65625 | K3: ... | L3: ... | N3: Ecole primaire | O3: Mme Spaggiari | P3: 03 82 21 99 12 | R3: alexandre.cremer@free.fr | S3: 15 Rue de la République | T3: 54111 | U3: Mont Bonvillers
A4: =CHOOSE(WEEKDAY(B4,2),"lundi","mardi","mercredi","jeudi","vendredi","samedi","dimanche") -> mardi | B4: 41793 | C4: 0.41666667 | F4: 66 | G4: 14 | H4: 0.52083333 | I4: ... | J4: 0.48958333 | K4: tab-découv | L4: atelier-oiso | M4: 0.4375 | N4: Ecole Mat Griesheim près de Molsheim | O4: Mme Pelle | P4: 388386398 | R4: ce.0671997g@ac-strasbourg.fr
A5: =CHOOSE(WEEKDAY(B5,2),"lundi","mardi","mercredi","jeudi","vendredi","samedi","dimanche") -> mardi | B5: 41793 | C5: 0.41666667 | F5: 70 | G5: 12 | H5: 0.5 | I5: ... | J5: 0.60416667 | K5: ... | L5: ... | N5: Ecole Mat Gutemberg | O5: Mme Véronique Henry | P5: 601331487
A6: =CHOOSE(WEEKDAY(B6,2),"lundi","mardi","mercredi","jeudi","vendredi","samedi","dimanche") -> mardi | B6: 41793 | C6: 0.41666667 | F6: 120 | G6: 20 | H6: 0.52083333 | I6: ... | J6: 0.48958333 | K6: ... | L6: ... | N6: Ecole La Canardière | O6: Mme France Baudrand | P6: 388393075 | R6: francebaudrand@gmail.com
A7: =CHOOSE(WEEKDAY(B7,2),"lundi","mardi","mercredi","jeudi","vendredi","samedi","dimanche") -> mardi | B7: 41793 | C7: 0.41666667 | F7: 73 | G7: 13 | H7: 0.53125 | I7: ... | J7: 0.48958333 | K7: ... | L7: ... | N7: Ecole Colonel Dawatre | O7: Mme Catto | R7: catto.jean-michel@orange.fr | U7: BLODELSHEIM
A8: =CHOOSE(WEEKDAY(B8,2),"lundi","mardi","mercredi","jeudi","vendredi","samedi","dimanche") -> mardi | B8: 41793 | C8: 0.58333333 | D8: 50 | H8: ... | I8: ... | J8: 0.60416667 | K8: ... | L8: ... | N8: STC Voyages Voyages Rochette
A9: =CHOOSE(WEEKDAY(B9,2),"lundi","mardi","mercredi","jeudi","vendredi","samedi","dimanche") -> mardi | B9: 41793 | C9: 0.58333333 | F9: 15 | G9: 6 | H9: ... | I9: ... | J9: 0.60416667 | K9: ... | L9: ... | N9: Ribeaufilous | O9: Mme Engel Céline | P9: 368890030 | R9: enfance.mat.ribeauville@cc-ribeauville.fr | S9: 4 Rue du Parc | T9: 68150 | U9: RIBEAUVILLE
A10: =CHOOSE(WEEKDAY(B10,2),"lundi","mardi","mercredi","jeudi","vendredi","samedi","dimanche") -> mardi | B10: 41793 | C10: 0.58333333 | D10: 50 | H10: ... | I10: ... | J10: 0.60416667 | K10: ... | L10: ... | N10: STC Voyages | O10: Florence | P10: 237960960
A11: =CHOOSE(WEEKDAY(B11,2),"lundi","mardi","mercredi","jeudi","vendredi","samedi","dimanche") -> mardi | B11: 41793 | C11: 0.59375 | D11: 51 | H11: ... | I11: ... | J11: 0.60416667 | K11: ... | L11: ... | N11: Cars Lécuyer | O11: Florence | P11: 237960960
A12: =CHOOSE(WEEKDAY(B12,2),"lundi","mardi","mercredi","jeudi","vendredi","samedi","dimanche") -> mercredi | B12: 41794 | C12: 0.58333333 | F12: 44 | G12: 6 | H12: ... | I12: ... | J12: 0.60416667 | K12: ... | L12: ... | N12: Côté Découvertes Ecole de Marolles en Brie | P12: 160710200
A13: =CHOOSE(WEEKDAY(B13,2),"lundi","mardi","mercredi","jeudi","vendredi","samedi","dimanche") -> mercredi | B13: 41794 | C13: 0.625 | D13: 140 | H13: ... | I13: ... | J13: ... | K13: ... | L13: ... | N13: GCT
A14: =CHOOSE(WEEKDAY(B14,2),"lundi","mardi","mercredi","jeudi","vendredi","samedi","dimanche") -> mercredi | B14: 41794 | C14: 0.64583333 | D14: 35 | H14: ... | I14: ... | J14: 0.65625 | K14: ... | L14: ... | N14: Au Nid de Cigogne Girardot
A15: =CHOOSE(WEEKDAY(B15,2),"lundi","mardi","mercredi","jeudi","vendredi","samedi","dimanche") -> jeudi | B15: 41795 | C15: 0.41666667 | F15: 50 | G15: 10 | H15: 0.53125 | I15: ... | J15: 0.48958333 | K15: atelier-bouc | L15: atelier-oiso | M15: 0.4375 | N15: Ecole Mat Saint Germain le Chatelet | P15: 03 83 42 94 14 | R15: ce.0541045t@ac-nancy-metz.fr | S15: 26 Rue de L'Eglise | T15: 54300 | U15: Thiebaumenil
A16: =CHOOSE(WEEKDAY(B16,2),"lundi","mardi","mercredi","jeudi","vendredi","samedi","dimanche") -> jeudi | B16: 41795 | C16: 0.41666667 | F16: 38 | G16: 6 | H16: 0.53125 | I16: ... | J16: 0.48958333 | K16: ... | L16: ... | N16: Ecole Mat | O16: Mme Vanot | P16: 03 83 42 94 14 | R16: ce.0541045t@ac-nancy-metz.fr | S16: 26 Rue de L'Eglise | T16: 54300 | U16: Thiebaumenil
A17: =CHOOSE(WEEKDAY(B17,2),"lundi","mardi","mercredi","jeudi","vendredi","samedi","dimanche") -> jeudi | B17: 41795 | C17: 0.41666667 | F17: 103 | G17: 15 | H17: 0.5 | I17: ... | J17: 0.60416667 | K17: ... | L17: ... | N17: Ecole Mat de Barrès | P17: 384210931
A18: =CHOOSE(WEEKDAY(B18,2),"lundi","mardi","mercredi","jeudi","vendredi","samedi","dimanche") -> jeudi | B18: 41795 | C18: 0.5 | F18: 107 | G18: 15 | H18: 0.5 | I18: ... | J18: 0.60416667 | K18: ... | L18: ... | N18: Ecole Mat de Baldersheim
A19: =CHOOSE(WEEKDAY(B19,2),"lundi","mardi","mercredi","jeudi","vendredi","samedi","dimanche") -> vendredi | B19: 41796 | C19: 0.41666667 | F19: 50 | G19: 4 | H19: 0.5 | I19: ... | J19: 0.60416667 | K19: ... | L19: ... | N19: Ecole St Nicolas | R19: christine.marchal97@gmail.com
A20: =CHOOSE(WEEKDAY(B20,2),"lundi","mardi","mercredi","jeudi","vendredi","samedi","dimanche") -> vendredi | B20: 41796 | C20: 0.41666667 | F20: 50 | G20: 6 | H20: 0.5 | J20: 0.60416667 | K20: tab-découv | N20: Ecole de Westhouse | O20: Mme MATHON Aline | P20: 388744510 | Q20: 388744069 | R20: ce.0672576l@ac-strasbourg.fr
A21: =CHOOSE(WEEKDAY(B21,2),"lundi","mardi","mercredi","jeudi","vendredi","samedi","dimanche") -> vendredi | B21: 41796 | C21: 0.41666667 | F21: 100 | G21: 20 | H21: 0.52083333 | J21: 0.60416667 | L21: atelier-oiso | M21: matinée | N21: Ecole Maternelle Les Sources | O21: Mme SCHILT | P21: 388910272 | R21: em.sources@wanadoo.fr | U21: Saverne
A22: =CHOOSE(WEEKDAY(B22,2),"lundi","mardi","mercredi","jeudi","vendredi","samedi","dimanche") -> vendredi | B22: 41796 | C22: 0.41666667 | F22: 105 | G22: 21 | H22: 0.52083333 | J22: 0.60416667 | N22: Ecole Mat. Du Nord | O22: Mme KEMPF | P22: 389461000 | R22: carokempf@yahoo.fr
A23: =CHOOSE(WEEKDAY(B23,2),"lundi","mardi","mercredi","jeudi","vendredi","samedi","dimanche") -> vendredi | B23: 41796 | C23: 0.66666667 | D23: 40 | H23: ... | I23: ... | J23: 0.65625 | K23: ... | L23: ... | N23: L ECU D OR
A24: =CHOOSE(WEEKDAY(B24,2),"lundi","mardi","mercredi","jeudi","vendredi","samedi","dimanche") -> samedi | B24: 41797 | C24: 0.625 | D24: 140 | H24: ... | I24: ... | J24: ... | K24: ... | L24: ... | N24: GCT
A25: =CHOOSE(WEEKDAY(B25,2),"lundi","mardi","mercredi","jeudi","vendredi","samedi","dimanche") -> dimanche | B25: 41798 | C25: 0.58333333 | F25: 50 | H25: ... | I25: ... | J25: 0.65625 | K25: ... | L25: ... | N25: Accordéon Club Epernay | O25: Mme Narat | P25: 625547513 | R25: naratcyrille@drauge.fr
A26: =CHOOSE(WEEKDAY(B26,2),"lundi","mardi","mercredi","jeudi","vendredi","samedi","dimanche") -> dimanche | B26: 41798 | C26: 0.625 | D26: 30 | H26: ... | I26: ... | J26: 0.65625 | K26: ... | L26: ... | N26: Nid de Cigognes
A27: =CHOOSE(WEEKDAY(B27,2),"lundi","mardi","mercredi","jeudi","vendredi","samedi","dimanche") -> dimanche | B27: 41798 | C27: 0.66666667 | D27: 45 | H27: ... | I27: ... | J27: 0.70833333 | K27: ... | L27: ... | N27: Voyages Internationaux
A28: =CHOOSE(WEEKDAY(B28,2),"lundi","mardi","mercredi","jeudi","vendredi","samedi","dimanche") -> lundi | B28: 41799 | C28: 0.625 | D28: 140 | H28: ... | I28: ... | J28: ... | K28: ... | L28: ... | N28: GCT
A29: =CHOOSE(WEEKDAY(B29,2),"lundi","mardi","mercredi","jeudi","vendredi","samedi","dimanche") -> mardi | B29: 41800 | C29: 0.41666667 | F29: 140 | G29: 28 | H29: 0.5 | I29: ... | J29: 0.60416667 | K29: ... | L29: ... | N29: Ecole Française Dolto | O29: Sabine Siblot | P29: 384294838
A30: =CHOOSE(WEEKDAY(B30,2),"lundi","mardi","mercredi","jeudi","vendredi","samedi","dimanche") -> mardi | B30: 41800 | C30: 0.41666667 | F30: 52 | G30: 8 | H30: 0.51041667 | I30: ... | J30: 0.60416667 | K30: tab-découv | L30: ... | N30: Ecole Mat Vagny | O30: Mme Meazza | P30: 684177229 | Q30: 684177229 | R30: meazzadelphine@gmail.com
A31: =CHOOSE(WEEKDAY(B31,2),"lundi","mardi","mercredi","jeudi","vendredi","samedi","dimanche") -> mardi | B31: 41800 | C31: 0.625 | F31: 37 | G31: 5 | H31: ... | I31: ... | J31: 0.65625 | K31: ... | L31: ... | N31: Ecole Primaire | O31: M.Daniel Sauthier | P31: 41766743277 | R31: sauthier.daniel@sunrise.ch
A32: =CHOOSE(WEEKDAY(B32,2),"lundi","mardi","mercredi","jeudi","vendredi","samedi","dimanche") -> mardi | B32: 41800 | C32: 0.63541667 | D32: 30 | H32: ... | I32: ... | J32: 0.65625 | K32: ... | L32: ... | N32: Au Nid de Cigogne Partance
A33: =CHOOSE(WEEKDAY(B33,2),"lundi","mardi","mercredi","jeudi","vendredi","samedi","dimanche") -> mercredi | B33: 41801 | C33: 0.52083333 | F33: 34 | G33: 4 | H33: ... | I33: ... | J33: 0.65625 | K33: ... | L33: ... | N33: Ecole Mme Henard CLC | O33: Myriam | P33: 565775031 | R33: myriam.pages@clc.fr
A34: =CHOOSE(WEEKDAY(B34,2),"lundi","mardi","mercredi","jeudi","vendredi","samedi","dimanche") -> jeudi | B34: 41802 | C34: 0.41666667 | F34: 140 | G34: 34 | H34: ... | I34: ... | J34: ... | K34: ... | L34: ... | N34: Ecole mat de Wolfisheim | P34: 388770098 | R34: maternelle.wolfisheim@orange.fr
A35: jeudi | B35: 41802 | C35: 0.41666667 | F35: 126 | G35: 10 | J35: 0.48958333 | N35: Ecole Mat. Plobsheim | O35: PFLEYER Stéphanie | P35: 388985236 | R35: ce.0672005r@ac-strasbourg.fr
A36: =CHOOSE(WEEKDAY(B36,2),"lundi","mardi","mercredi","jeudi","vendredi","samedi","dimanche") -> jeudi | B36: 41802 | C36: 0.625 | D36: 140 | H36: ... | I36: ... | J36: ... | K36: ... | L36: ... | N36: GCT
A37: =CHOOSE(WEEKDAY(B37,2),"lundi","mardi","mercredi","jeudi","vendredi","samedi","dimanche") -> vendredi | B37: 41803 | C37: 0.60416667 | D37: 52 | G37: 2 | H37: ... | I37: ... | J37: 0.65625 | K37: ... | L37: ... | N37: LES AMIS DE ST FRANCOIS D'ASSISES | O37: Mme SMECKAERT | P37: 619423095 | Q37: 619423095 | R37: mariefrance.smeckaert@sfr.fr
A38: =CHOOSE(WEEKDAY(B38,2),"lundi","mardi","mercredi","jeudi","vendredi","samedi","dimanche") -> samedi | B38: 41804 | C38: ... | H38: ... | I38: ... | J38: ... | K38: ... | L38: ...
A39: =CHOOSE(WEEKDAY(B39,2),"lundi","mardi","mercredi","jeudi","vendredi","samedi","dimanche") -> dimanche | B39: 41805 | C39: 0.63541667 | D39: 35 | H39: ... | I39: ... | J39: 0.65625 | K39: ... | L39: ... | N39: Au Nid de Cigogne Meridien
A40: =CHOOSE(WEEKDAY(B40,2),"lundi","mardi","mercredi","jeudi","vendredi","samedi","dimanche") -> lundi | B40: 41806 | C40: 0.4375 | E40: 26 | G40: 3 | H40: 0.52083333 | J40: 0.60416667 | K40: tab-découv | N40: Collège De Vinci | O40: Mme SORDELET | P40: 962624265
A41: =CHOOSE(WEEKDAY(B41,2),"lundi","mardi","mercredi","jeudi","vendredi","samedi","dimanche") -> lundi | B41: 41806 | C41: 0.58333333 | F41: 48 | G41: 6 | H41: ... | I41: ... | J41: 0.60416667 | K41: ... | L41: ... | N41: Mme Cocatrix | P41: 672719427 | Q41: 672719427
A42: =CHOOSE(WEEKDAY(B42,2),"lundi","mardi","mercredi","jeudi","vendredi","samedi","dimanche") -> mardi | B42: 41807 | C42: 0.41666667 | F42: 47 | G42: 6 | H42: 0.52083333 | I42: ... | J42: 0.48958333 | K42: tab-découv | L42: carnet-explo | N42: Ecole Primaire Grassenwald | O42: Mme Krugler | P42: 389551174 | R42: ce.0681301v@ac-strasbourg.fr
A43: =CHOOSE(WEEKDAY(B43,2),"lundi","mardi","mercredi","jeudi","vendredi","samedi","dimanche") -> mardi | B43: 41807 | C43: 0.41666667 | F43: 42 | G43: 10 | H43: 0.52083333 | I43: ... | J43: 0.48958333 | K43: tab-découv | L43: atelier-oiso | M43: 0.4375 | N43: Ecole Mat Urmatt | O43: Mme Herment | P43: 388473455 | R43: maternelle.urmatt@laposte.net
A44: =CHOOSE(WEEKDAY(B44,2),"lundi","mardi","mercredi","jeudi","vendredi","samedi","dimanche") -> mardi | B44: 41807 | C44: 0.41666667 | F44: 75 | G44: 10 | H44: 0.52083333 | I44: ... | J44: 0.48958333 | K44: ... | L44: ... | N44: Ecole Mat Wallart | O44: Mme Blenner | P44: 389697784 | R44: em.wallart@wanadoo.fr
A45: =CHOOSE(WEEKDAY(B45,2),"lundi","mardi","mercredi","jeudi","vendredi","samedi","dimanche") -> mardi | B45: 41807 | C45: 0.41666667 | F45: 59 | G45: 6 | H45: 0.5 | J45: 0.60416667 | N45: Ecole Elem de Châtel s/Moselle | O45: M. Joly | P45: 329679084 | R45: ce.0881323@ac-nancy-metz.fr
A46: =CHOOSE(WEEKDAY(B46,2),"lundi","mardi","mercredi","jeudi","vendredi","samedi","dimanche") -> mardi | B46: 41807 | C46: 0.4375 | F46: 22 | G46: 3 | H46: 0.52083333 | I46: ... | J46: 0.48958333 | K46: ... | L46: ... | N46: Ecole Louis Poirot | O46: M. Moncozet | P46: 329352037 | R46: christophe.moncozet@orange.fr
A47: =CHOOSE(WEEKDAY(B47,2),"lundi","mardi","mercredi","jeudi","vendredi","samedi","dimanche") -> mardi | B47: 41807 | C47: 0.58333333 | D47: 57 | H47: ... | I47: ... | J47: 0.60416667 | K47: ... | L47: ... | N47: Azureva Bussang
A48: =CHOOSE(WEEKDAY(B48,2),"lundi","mardi","mercredi","jeudi","vendredi","samedi","dimanche") -> mardi | B48: 41807 | C48: 0.625 | F48: 20 | G48: 6 | H48: ... | I48: ... | J48: 0.65625 | K48: ... | L48: ... | N48: Ecole Primaire de la Pommeraie | O48: Marina Pikiakos | P48: 325320138 | R48: ce.0520711r@ac-reims.fr
A49: =CHOOSE(WEEKDAY(B49,2),"lundi","mardi","mercredi","jeudi","vendredi","samedi","dimanche") -> mercredi | B49: 41808 | C49: ... | H49: ... | I49: ... | J49: ... | K49: ... | L49: ...
A50: =CHOOSE(WEEKDAY(B50,2),"lundi","mardi","mercredi","jeudi","vendredi","samedi","dimanche") -> jeudi | B50: 41809 | C50: 0.63541667 | D50: 40 | H50: ... | I50: ... | J50: 0.65625 | K50: ... | L50: ... | N50: Au Nid de Cigogne Venet Voyages
A51: =CHOOSE(WEEKDAY(B51,2),"lundi","mardi","mercredi","jeudi","vendredi","samedi","dimanche") -> vendredi | B51: 41810 | C51: 0.41666667 | F51: 35 | G51: 7 | H51: 0.5 | I51: ... | J51: 0.60416667 | K51: ... | L51: ... | N51: Ecole Laire et Lougres | P51: 381923461 | R51: faye.magali@voila.fr
A52: =CHOOSE(WEEKDAY(B52,2),"lundi","mardi","mercredi","jeudi","vendredi","samedi","dimanche") -> vendredi | B52: 41810 | C52: 0.41666667 | F52: 71 | G52: 15 | H52: 0.5 | I52: ... | J52: 0.60416667 | K52: ... | L52: ... | N52: Ecole Mat de Bourogne | P52: 384235788
A53: =CHOOSE(WEEKDAY(B53,2),"lundi","mardi","mercredi","jeudi","vendredi","samedi","dimanche") -> vendredi | B53: 41810 | C53: 0.41666667 | F53: 111 | G53: 20 | H53: 0.5 | I53: ... | J53: 0.60416667 | K53: tab-traces | L53: ... | N53: Ecole Mat de Benfeld | P53: 388744429
A54: =CHOOSE(WEEKDAY(B54,2),"lundi","mardi","mercredi","jeudi","vendredi","samedi","dimanche") -> vendredi | B54: 41810 | C54: 0.41666667 | F54: 89 | G54: 16 | H54: 0.5 | I54: ... | J54: 0.60416667 | K54: ... | L54: ... | N54: Ecole Mat Karine 1 | P54: 388270485
A55: =CHOOSE(WEEKDAY(B55,2),"lundi","mardi","mercredi","jeudi","vendredi","samedi","dimanche") -> vendredi | B55: 41810 | C55: 0.41666667 | F55: 35 | G55: 9 | H55: 0.5 | I55: ... | J55: 0.60416667 | K55: ... | L55: ... | N55: Maternelle de L'Air ? | P55: 381923461
A56: =CHOOSE(WEEKDAY(B56,2),"lundi","mardi","mercredi","jeudi","vendredi","samedi","dimanche") -> vendredi | B56: 41810 | C56: 0.60416667 | D56: 45 | H56: ... | I56: ... | J56: 0.60416667 | K56: ... | L56: ... | N56: OT Colmar
A57: =CHOOSE(WEEKDAY(B57,2),"lundi","mardi","mercredi","jeudi","vendredi","samedi","dimanche") -> vendredi | B57: 41810 | C57: 0.66666667 | D57: 50 | H57: ... | I57: ... | J57: 0.70833333 | K57: ... | L57: ... | N57: Fitour | P57: 555884275
A58: =CHOOSE(WEEKDAY(B58,2),"lundi","mardi","mercredi","jeudi","vendredi","samedi","dimanche") -> samedi | B58: 41811 | C58: 0.4375 | D58: 20 | H58: 0.5 | I58: ... | J58: 0.60416667 | K58: ... | L58: ... | N58: Les Tamoulous | O58: Mme Dubois | P58: 640142343 | Q58: 640142343
A59: =CHOOSE(WEEKDAY(B59,2),"lundi","mardi","mercredi","jeudi","vendredi","samedi","dimanche") -> dimanche | B59: 41812 | C59: ... | H59: ... | I59: ... | J59: ... | K59: ... | L59: ...
A60: =CHOOSE(WEEKDAY(B60,2),"lundi","mardi","mercredi","jeudi","vendredi","samedi","dimanche") -> lundi | B60: 41813 | C60: 0.5 | F60: 69 | G60: 10 | H60: 0.51041667 | I60: ... | J60: 0.60416667 | K60: ... | L60: ... | N60: Ecole Mat/Prim. Kolbsheim | O60: Mme WEBER | P60: 390294242 | R60: ecolepr@estvideo.fr
A61: =CHOOSE(WEEKDAY(B61,2),"lundi","mardi","mercredi","jeudi","vendredi","samedi","dimanche") -> lundi | B61: 41813 | C61: 0.52083333 | F61: 61 | G61: 5 | H61: 0.5 | I61: ... | J61: 0.60416667 | K61: ... | L61: ... | N61: ADAPS PROVENCE Collège Ste Marie | O61: Cécile | P61: 491645744
A62: =CHOOSE(WEEKDAY(B62,2),"lundi","mardi","mercredi","jeudi","vendredi","samedi","dimanche") -> lundi | B62: 41813 | C62: 0.58333333 | D62: 21 | H62: ... | I62: ... | J62: 0.60416667 | K62: ... | L62: ... | N62: Azureva Bussang
A63: =CHOOSE(WEEKDAY(B63,2),"lundi","mardi","mercredi","jeudi","vendredi","samedi","dimanche") -> mardi | B63: 41814 | C63: 0.41666667 | F63: 65 | G63: 20 | H63: 0.48958333 | I63: ... | J63: 0.48958333 | K63: ... | L63: ... | N63: Ecole Mat La Passerelle Dingsheim | P63: 388561713 | R63: ecolmat.lapasserelle@free.fr
A64: =CHOOSE(WEEKDAY(B64,2),"lundi","mardi","mercredi","jeudi","vendredi","samedi","dimanche") -> mardi | B64: 41814 | C64: 0.41666667 | F64: 110 | G64: 16 | H64: 0.52083333 | I64: ... | J64: 0.48958333 | K64: ... | L64: atelier-bouc | M64: matinée | N64: Ecole St Exupery | O64: Mme Pourchet
A65: =CHOOSE(WEEKDAY(B65,2),"lundi","mardi","mercredi","jeudi","vendredi","samedi","dimanche") -> mardi | B65: 41814 | C65: 0.625 | D65: 40 | H65: ... | I65: ... | J65: 0.65625 | K65: ... | L65: ... | N65: L ECU D OR
A66: =CHOOSE(WEEKDAY(B66,2),"lundi","mardi","mercredi","jeudi","vendredi","samedi","dimanche") -> mercredi | B66: 41815
A67: =CHOOSE(WEEKDAY(B67,2),"lundi","mardi","mercredi","jeudi","vendredi","samedi","dimanche") -> jeudi | B67: 41816 | C67: 0.41666667 | F67: 26 | G67: 6 | H67: 0.52083333 | I67: ... | J67: 0.48958333 | K67: ... | L67: ... | N67: Ecole Mat/ Elem Niederlauterbach | O67: Estelle Klein | P67: 388536063
A68: =CHOOSE(WEEKDAY(B68,2),"lundi","mardi","mercredi","jeudi","vendredi","samedi","dimanche") -> jeudi | B68: 41816 | C68: 0.41666667 | F68: 105 | G68: 25 | H68: 0.52083333 | I68: ... | J68: 0.48958333 | K68: ... | L68: ... | M68: matinée | N68: Ecole Mat/ Elem Niederlauterbach
K69: ... | L69: atelier-oiso | M69: 0.44791667 | N69: Ecole Mat/ Elem Niederlauterbach
K70: ... | L70: atelier-oiso | M70: 0.5625 | N70: Ecole Mat/ Elem Niederlauterbach
K71: ... | L71: atelier-oiso | M71: 0.59375 | N71: Ecole Mat/ Elem Niederlauterbach
A72: =CHOOSE(WEEKDAY(B72,2),"lundi","mardi","mercredi","jeudi","vendredi","samedi","dimanche") -> vendredi | B72: 41817 | C72: 0.41666667 | F72: 10 | G72: 2 | H72: ... | I72: ... | J72: 0.60416667 | K72: ... | L72: ... | N72: Ecole d'Allichamps | O72: Mme Aurore Sordelet | P72: 325550648 | R72: ce.0520373y@ac-reims.fr
A73: =CHOOSE(WEEKDAY(B73,2),"lundi","mardi","mercredi","jeudi","vendredi","samedi","dimanche") -> vendredi | B73: 41817 | C73: 0.52083333 | F73: 106 | G73: 12 | H73: 0.52083333 | J73: 0.60416667 | K73: tab-découv | M73: 0.54166667 | N73: Ecole Elem Fehlacker | O73: Mme HARTMANN | P73: 389508887 | R73: ce.0681309D@ac-strasbourg.fr
A74: =CHOOSE(WEEKDAY(B74,2),"lundi","mardi","mercredi","jeudi","vendredi","samedi","dimanche") -> samedi | B74: 41818 | C74: ... | H74: ... | I74: ... | J74: ... | K74: ... | L74: ...
A75: =CHOOSE(WEEKDAY(B75,2),"lundi","mardi","mercredi","jeudi","vendredi","samedi","dimanche") -> dimanche | B75: 41819 | C75: 0.625 | D75: 30 | G75: 2 | H75: ... | I75: ... | J75: 0.65625 | K75: ... | L75: ... | N75: Sarasin | O75: Mme Géraldine Gauthé | P75: 385844502 | R75: sas.sarasin@orange.fr
A76: =CHOOSE(WEEKDAY(B76,2),"lundi","mardi","mercredi","jeudi","vendredi","samedi","dimanche") -> lundi | B76: 41820 | C76: 0.64583333 | D76: 40 | H76: ... | I76: ... | J76: 0.65625 | K76: ... | L76: ... | N76: L ECU D OR

Sheet OPTIONS
A1: Arrivée | B1: PicNic | C1: Repas | D1: SP mar-mai | E1: SP jui | F1: SP aout | G1: SP sep-nov | H1: *** ENFANTS ***
A2: matinée | B2: 0.47916667 | C2: PicNic | D2: 0.625 | E2: 0.48958333 | F2: 0.60416667 | G2: 0.625 | H2: tab-découv
A3: 0.41666667 | B3: 0.48958333 | C3: Flamm' | D3: 0.6875 | E3: 0.60416667 | F3: 0.64583333 | G3: 0.6875 | H3: tab-traces
A4: 0.42708333 | B4: 0.5 | C4: Sur le Pouce | D4: 17:30* | E4: 0.65625 | F4: 0.6875 | H4: tab-ailes
A5: 0.4375 | B5: 0.51041667 | C5: O'Resto | E5: 0.70833333 | F5: 0.72916667 | H5: tab-homme
A6: 0.44791667 | B6: 0.52083333 | H6: atelier-oiso
A7: 0.45833333 | B7: 0.53125 | H7: atelier-bouc
A8: 0.46875 | B8: 0.54166667 | H8: atelier-empr
A9: 0.47916667 | B9: 0.55208333 | H9: carnet-explo
A10: 0.48958333 | B10: 0.5625 | H10: *** ADULTES ***
A11: 0.5 | H11: visite-guidée
A12: 0.51041667 | H12: études
A13: 0.52083333 | H13: pti-déJ
A14: 0.53125 | H14: pause-sucrée
A15: 0.54166667 | H15: pause-salée
A16: 0.55208333 | H16: plein'air
A17: 0.5625 | H17: event
A18: 0.57291667
A19: 0.58333333
A20: 0.59375
A21: 0.60416667
A22: 0.61458333
A23: 0.625
A24: 0.63541667
A25: 0.64583333
A26: 0.65625
A27: 0.66666667
A28: 0.67708333
A29: 0.6875
... A33: 0.72916667

Sheet Resa-Tipi
C1: 0.41666667 | E1: 0.42708333 | G1: 0.4375 | I1: 0.44791667 | K1: 0.45833333 | M1: 0.46875 | O1: 0.47916667 | Q1: 0.48958333 | S1: 0.5 | U1: 0.51041667 | W1: 0.52083333 | Y1: 0.53125 | AA1: 0.54166667 | AC1: 0.55208333 | AE1: 0.5625 | AG1: 0.57291667 | AI1: 0.58333333 | AK1: 0.59375 | AM1: 0.60416667 | AO1: 0.61458333 | AQ1: 0.625 | AS1: 0.63541667 | AU1: 0.64583333 | AW1: 0.65625 | AY1: 0.66666667 | BA1: 0.67708333 | BC1: 0.6875 | BE1: 0.69791667 | BG1: 0.70833333 | BI1: 0.71875 | BK1: 0.72916667 | BM1: 0.73958333 | BO1: 0.75
A2: =CHOOSE(WEEKDAY(B2,2),"lundi","mardi","mercredi","jeudi","vendredi","samedi","dimanche") -> samedi | B2: 41727
A3: =CHOOSE(WEEKDAY(B3,2),"lundi","mardi","mercredi","jeudi","vendredi","samedi","dimanche") -> dimanche | B3: 41728
A4: =CHOOSE(WEEKDAY(B4,2),"lundi","mardi","mercredi","jeudi","vendredi","samedi","dimanche") -> lundi | B4: 41729
A5: =CHOOSE(WEEKDAY(B5,2),"lundi","mardi","mercredi","jeudi","vendredi","samedi","dimanche") -> mardi | B5: 41730
A6: =CHOOSE(WEEKDAY(B6,2),"lundi","mardi","mercredi","jeudi","vendredi","samedi","dimanche") -> mercredi | B6: 41731
A7: =CHOOSE(WEEKDAY(B7,2),"lundi","mardi","mercredi","jeudi","vendredi","samedi","dimanche") -> jeudi | B7: 41732
A8: =CHOOSE(WEEKDAY(B8,2),"lundi","mardi","mercredi","jeudi","vendredi","samedi","dimanche") -> vendredi | B8: 41733
A9: =CHOOSE(WEEKDAY(B9,2),"lundi","mardi","mercredi","jeudi","vendredi","samedi","dimanche") -> samedi | B9: 41734
A10: =CHOOSE(WEEKDAY(B10,2),"lundi","mardi","mercredi","jeudi","vendredi","samedi","dimanche") -> dimanche | B10: 41735
A11: =CHOOSE(WEEKDAY(B11,2),"lundi","mardi","mercredi","jeudi","vendredi","samedi","dimanche") -> lundi | B11: 41736
A12: =CHOOSE(WEEKDAY(B12,2),"lundi","mardi","mercredi","jeudi","vendredi","samedi","dimanche") -> mardi | B12: 41737
A13: =CHOOSE(WEEKDAY(B13,2),"lundi","mardi","mercredi","jeudi","vendredi","samedi","dimanche") -> mercredi | B13: 41738
... A229: =CHOOSE(WEEKDAY(B229,2),"lundi","mardi","mercredi","jeudi","vendredi","samedi","dimanche") -> mardi | B229: 41954
