Workbook

Sheet  VENTE
A1: SPECTACLE | D1: 44579 | E1: 44580 | F1: 44581 | G1: 44582 | H1: 44583 | I1: 44583 | J1: 44586 | K1: 44587
A2: TARIF | D2: 21H00 | E2: 21H00 | F2: 21H00 | G2: 21H00 | H2: 17H00 | I2: 21H00 | J2: 19H00 | K2: 19H00
A3: GUICHET | B3: TARIF 1 | C3: 15 | D3: 10 | E3: 2 | F3: 1 | G3: 10 | H3: 1 | I3: 2 | J3: 1 | K3: 2
C4: TOTAL | D4: =C3*D3 -> 150 | E4: =C3*E3 -> 30 | F4: =C3*F3 -> 15 | G4: =C3*G3 -> 150 | H4: =C3*H3 -> 15 | I4: =C3*I3 -> 30 | J4: =C3*J3 -> 15 | K4: =C3*K3 -> 30
A5: REVENDEUR | B5: TARIF 2 | C5: 10 | D5: 1 | H5: 5 | I5: 6 | K5: 1
C6: TOTAL | D6: =C5*D5 -> 10 | E6: =C5*E5 -> 0 | F6: =C5*F5 -> 0 | G6: =C5*G5 -> 0 | H6: =C5*H5 -> 50 | I6: =C5*I5 -> 60 | J6: =C5*J5 -> 0 | K6: =C5*K5 -> 10
A8: RECETTE | C8: =SUM(C8:D8) -> 0 | D8: =SUM(D4,D6) -> 160 | E8: =SUM(E4,E6) -> 30 | F8: =SUM(F4,F6) -> 15 | G8: =SUM(G4,G6) -> 150 | H8: =SUM(H4,H6) -> 65 | I8: =SUM(I4,I6) -> 90 | J8: =SUM(J4,J6) -> 15 | K8: =SUM(K4,K6) -> 40
A9: PAYANTS | C9: =SUM(D9:K9) -> 42 | D9: =SUM(D3,D5) -> 11 | E9: =SUM(E3,E5) -> 2 | F9: =SUM(F3,F5) -> 1 | G9: =SUM(G3,G5) -> 10 | H9: =SUM(H3,H5) -> 6 | I9: =SUM(I3,I5) -> 8 | J9: =SUM(J3,J5) -> 1 | K9: =SUM(K3,K5) -> 3
A10: INVITATIONS | C10: =SUM(D10:K10) -> 34 | D10: =INVITATIONS!C3 -> 10 | E10: =INVITATIONS!F3 -> 1 | F10: =INVITATIONS!I3 -> 2 | G10: =INVITATIONS!L3 -> 3 | H10: =INVITATIONS!O3 -> 5 | I10: =INVITATIONS!R3 -> 1 | J10: =INVITATIONS!U3 -> 2 | K10: =INVITATIONS!X3 -> 10
A11: TOTAL SALLE | C11: =SUM(D11:K11) -> 76 | D11: =SUM(D9:D10) -> 21 | E11: =SUM(E9:E10) -> 3 | F11: =SUM(F9:F10) -> 3 | G11: =SUM(G9:G10) -> 13 | H11: =SUM(H9:H10) -> 11 | I11: =SUM(I9:I10) -> 9 | J11: =SUM(J9:J10) -> 3 | K11: =SUM(K9:K10) -> 13
A12: PLACES A VENDRE | D12: 132 | E12: 132 | F12: 132 | G12: 132 | H12: 132 | I12: 132 | J12: 132 | K12: 132
A13: RESTE A VENDRE | D13: =SUM(D12-D11) -> 111 | E13: =SUM(E12-E11) -> 129 | F13: =SUM(F12-F11) -> 129 | G13: =SUM(G12-G11) -> 119 | H13: =SUM(H12-H11) -> 121 | I13: =SUM(I12-I11) -> 123 | J13: =SUM(J12-J11) -> 129 | K13: =SUM(K12-K11) -> 119
A14: DATES | D14: 44579 | E14: 44580 | F14: 44581 | G14: 44582 | H14: 44583 | I14: 44583 | J14: 44586 | K14: 44587

Sheet INVITATIONS
A1: 44579 | D1: 44580 | G1: 44581 | J1: 44582 | M1: 44583 | P1: 44583 | S1: 44586 | V1: 44587
A2: 21H00 | D2: 21H00 | G2: 21H00 | J2: 21H00 | M2: 17H00 | P2: 21H00 | S2: 19H00 | V2: 19H00
C3: =SUM(A5:A96) -> 10 | F3: =SUM(D5:D95) -> 1 | I3: =SUM(G5:G96) -> 2 | L3: =SUM(J5:J95) -> 3 | O3: =SUM(M5:M96) -> 5 | R3: =SUM(P5:P93) -> 1 | U3: =SUM(S5:S96) -> 2 | X3: =SUM(V5:V95) -> 10
A4: NB | B4: NOM | C4: INVITE PAR | D4: NB | E4: NOM | F4: INVITE PAR | G4: NB | H4: NOM | I4: INVITE PAR | J4: NB | K4: NOM | L4: INVITE PAR | M4: NB | N4: NOM | O4: INVITE PAR | P4: NB | Q4: NOM | R4: INVITE PAR | S4: NB | T4: NOM | U4: INVITE PAR | V4: NB | W4: NOM | X4: INVITE PAR
A5: 10 | B5: TARTENPION | C5: EMMA | D5: 1 | E5: TARTEMPION | F5: EMMA | G5: 2 | H5: XXX | I5: XXX | J5: 3 | K5: XXX | L5: XXX | M5: 4 | N5: XXXX | O5: XXX | P5: 1 | Q5: XX | R5: XXX | S5: 2 | T5: XXX | U5: XXX | V5: 10 | W5: XXX | X5: MDP
M6: 1 | N6: XXXX | O6: XXX
