Workbook
Name ANNEE: OFFSET([1]UTILISATIONS!$A$2,,,COUNTA([1]UTILISATIONS!$D:$D)-1)
Name campagne: OFFSET([1]UTILISATIONS!$A$2,,,COUNTA([1]UTILISATIONS!$D:$D)-1)
Name categorie: OFFSET([1]UTILISATIONS!$H$2,,,COUNTA([1]UTILISATIONS!$D:$D)-1)
Name Col_Annee: OFFSET(PARCELLAIRE!$A$2,,,COUNT(PARCELLAIRE!$A:$A))
Name Col_Culture: OFFSET(Col_Annee,,1)
Name Col_Parcelle: OFFSET(Col_Annee,,3)
Name Col_Variete: OFFSET(Col_Annee,,2)
Name COLN: OFFSET([1]UTILISATIONS!$N$2,,,COUNTA([1]UTILISATIONS!$E:$E)-1)
Name CULTURE: OFFSET([1]VARIETE!$A$1,,,,COUNTA([1]VARIETE!$A$1:$I$1))
Name DATE: OFFSET([1]UTILISATIONS!$E$2,,,COUNTA([1]UTILISATIONS!$D:$D)-1)
Name DEPT: [1]VARIETE!$A$2
Name indice: OFFSET([1]UTILISATIONS!#REF!,,,COUNTA([1]UTILISATIONS!$D:$D)-1)
Name Liste_Annee: OFFSET([1]ANNEE!$A$1,,,,COUNTA([1]ANNEE!$1:$1))
Name MONTANT: OFFSET([1]UTILISATIONS!$M$2,,,COUNTA([1]UTILISATIONS!$D:$D)-1)
Name NB.HA: OFFSET([1]UTILISATIONS!$J$2,,,COUNTA([1]UTILISATIONS!$D:$D)-1)
Name paran: OFFSET(PARCELLAIRE!$A$2,,,COUNT(PARCELLAIRE!$A:$A))
Name PARCELLE: OFFSET([1]UTILISATIONS!$D$2,,,COUNTA([1]UTILISATIONS!$D:$D)-1)
Name parcult: OFFSET(PARCELLAIRE!$B$2,,,COUNT(PARCELLAIRE!$A:$A))
Name parsurf: OFFSET(PARCELLAIRE!$F$2,,,COUNT(PARCELLAIRE!$A:$A))
Name parvar: OFFSET(PARCELLAIRE!$C$2,,,COUNT(PARCELLAIRE!$A:$A))
Name PRODUIT: OFFSET([1]UTILISATIONS!$F$2,,,COUNTA([1]UTILISATIONS!$E:$E)-1)
Name QTE.HA: OFFSET([1]UTILISATIONS!$I$2,,,COUNTA([1]UTILISATIONS!$D:$D)-1)
Name QUANTITE: OFFSET([1]UTILISATIONS!$K$2,,,COUNTA([1]UTILISATIONS!$D:$D)-1)
Name synth_culture: OFFSET([1]UTILISATIONS!$B$2,,,COUNTA([1]UTILISATIONS!$D:$D)-1)
Name synth_variete: OFFSET([1]UTILISATIONS!$C$2,,,COUNTA([1]UTILISATIONS!$D:$D)-1)
Name UNITE: OFFSET([1]UTILISATIONS!$G$2,,,COUNTA([1]UTILISATIONS!$D:$D)-1)
Name VARIETE: PARCELLAIRE!$C$2
Name WHEN: '[1]FOCUS PARCELLE'!$G$7
Name WHERE: '[1]FOCUS PARCELLE'!$G$8

Sheet SAISIE
C6: CAMPAGNE | D6: CULTURE | E6: VARIETE | F6: PARCELLE | G6: DATE | H6: PRODUIT | I6: QTE / HA | J6: NB / HA | K6: QTE TOTAL
C7: 2014 | D7: {=INDEX(PARCELLAIRE!$B$2:$B$85,MATCH(C7,IF(PARCELLAIRE!$D$2:$D$85=F7,PARCELLAIRE!$A$2:$A$85,""),0))} -> BLE DUR | E7: {=INDEX(PARCELLAIRE!$C$2:$C$85,MATCH(C7,IF(PARCELLAIRE!$D$2:$D$85=F7,PARCELLAIRE!$A$2:$A$85,""),0))} -> PESCADOUX | F7: Andres | G7: 41211 | H7: Heliosol | I7: 0.2 | J7: 11.9 | K7: =I7*J7 -> 2.38
C10: 1 | D10: Saisie manuelle (ligne 7)
C12: 2 | D12: MACRO
D13: -> COPIER ligne 7
D14: -> COLLER la ligne 7 dans la dernière ligne du tableau de l'onglet "Pivot" (première ligne du tableau disponible - donc ligne 38)
D15: -> Dès validation de la macro, la ligne est collée définitivement
D16: Quand je saisis une nouvelle donnée, celle-ci vient se coller juste en dessous de la précédente.
D17: -> Enfin,est-il poissble de faire un filtre sur la colonne "date" de l'onglet "Pivot" afin d'avoir toujours les utilisations de la plus ancienne ou la plus récente.
D18: Si elles n'ont pas été saisies correctement.

Sheet PIVOT
A1: CAMPAGNE | B1: CULTURE | C1: VARIETE | D1: PARCELLE | E1: DATE | F1: PRODUIT | G1: QTE / HA | H1: NB / HA | I1: QTE TOTAL
A2: 2013 | B2: {=INDEX(PARCELLAIRE!$B$2:$B$85,MATCH(PIVOT!A2,IF(PARCELLAIRE!$D$2:$D$85=PIVOT!D2,PARCELLAIRE!$A$2:$A$85,""),0))} -> TOURNESOL | C2: {=INDEX(PARCELLAIRE!$C$2:$C$85,MATCH(PIVOT!A2,IF(PARCELLAIRE!$D$2:$D$85=PIVOT!D2,PARCELLAIRE!$A$2:$A$85,""),0))} -> SY SAMIN | D2: Bousquet Pourtanel | E2: 41155 | F2: Glyphosate | G2: 1 | H2: =VLOOKUP(D2,[1]PARCELLAIRE!$D$2:$F$29,3,0) -> 2.33 | I2: =H2*G2 -> 2.33
A3: 2013 | B3: {=INDEX(PARCELLAIRE!$B$2:$B$85,MATCH(PIVOT!A3,IF(PARCELLAIRE!$D$2:$D$85=PIVOT!D3,PARCELLAIRE!$A$2:$A$85,""),0))} -> TOURNESOL | C3: {=INDEX(PARCELLAIRE!$C$2:$C$85,MATCH(PIVOT!A3,IF(PARCELLAIRE!$D$2:$D$85=PIVOT!D3,PARCELLAIRE!$A$2:$A$85,""),0))} -> LG5474 | D3: Andres | E3: 41155 | F3: Glyphosate | G3: 1 | H3: =VLOOKUP(D3,[1]PARCELLAIRE!$D$2:$F$29,3,0) -> 5.17 | I3: =H3*G3 -> 5.17
A4: 2013 | B4: {=INDEX(PARCELLAIRE!$B$2:$B$85,MATCH(PIVOT!A4,IF(PARCELLAIRE!$D$2:$D$85=PIVOT!D4,PARCELLAIRE!$A$2:$A$85,""),0))} -> TOURNESOL | C4: {=INDEX(PARCELLAIRE!$C$2:$C$85,MATCH(PIVOT!A4,IF(PARCELLAIRE!$D$2:$D$85=PIVOT!D4,PARCELLAIRE!$A$2:$A$85,""),0))} -> LG5474 | D4: Andres | E4: 41155 | F4: Heliosol | G4: 0.2 | H4: =VLOOKUP(D4,[1]PARCELLAIRE!$D$2:$F$29,3,0) -> 5.17 | I4: =H4*G4 -> 1.034
A5: 2013 | B5: {=INDEX(PARCELLAIRE!$B$2:$B$85,MATCH(PIVOT!A5,IF(PARCELLAIRE!$D$2:$D$85=PIVOT!D5,PARCELLAIRE!$A$2:$A$85,""),0))} -> TOURNESOL | C5: {=INDEX(PARCELLAIRE!$C$2:$C$85,MATCH(PIVOT!A5,IF(PARCELLAIRE!$D$2:$D$85=PIVOT!D5,PARCELLAIRE!$A$2:$A$85,""),0))} -> SY SAMIN | D5: Bousquet Pourtanel | E5: 41155 | F5: Heliosol | G5: 0.2 | H5: =VLOOKUP(D5,[1]PARCELLAIRE!$D$2:$F$29,3,0) -> 2.33 | I5: =H5*G5 -> 0.466
A6: 2013 | B6: {=INDEX(PARCELLAIRE!$B$2:$B$85,MATCH(PIVOT!A6,IF(PARCELLAIRE!$D$2:$D$85=PIVOT!D6,PARCELLAIRE!$A$2:$A$85,""),0))} -> SOJA | C6: {=INDEX(PARCELLAIRE!$C$2:$C$85,MATCH(PIVOT!A6,IF(PARCELLAIRE!$D$2:$D$85=PIVOT!D6,PARCELLAIRE!$A$2:$A$85,""),0))} -> ISIDOR | D6: Engleyse Route | E6: 41155 | F6: Heliosol | G6: 0.2 | H6: =VLOOKUP(D6,[1]PARCELLAIRE!$D$2:$F$29,3,0) -> 8.58 | I6: =H6*G6 -> 1.716
A7: 2013 | B7: {=INDEX(PARCELLAIRE!$B$2:$B$85,MATCH(PIVOT!A7,IF(PARCELLAIRE!$D$2:$D$85=PIVOT!D7,PARCELLAIRE!$A$2:$A$85,""),0))} -> TOURNESOL | C7: {=INDEX(PARCELLAIRE!$C$2:$C$85,MATCH(PIVOT!A7,IF(PARCELLAIRE!$D$2:$D$85=PIVOT!D7,PARCELLAIRE!$A$2:$A$85,""),0))} -> LG5474 | D7: Moulin Barthes | E7: 41155 | F7: Heliosol | G7: 0.2 | H7: =VLOOKUP(D7,[1]PARCELLAIRE!$D$2:$F$29,3,0) -> 21.88 | I7: =H7*G7 -> 4.376
A8: 2013 | B8: {=INDEX(PARCELLAIRE!$B$2:$B$85,MATCH(PIVOT!A8,IF(PARCELLAIRE!$D$2:$D$85=PIVOT!D8,PARCELLAIRE!$A$2:$A$85,""),0))} -> TOURNESOL | C8: {=INDEX(PARCELLAIRE!$C$2:$C$85,MATCH(PIVOT!A8,IF(PARCELLAIRE!$D$2:$D$85=PIVOT!D8,PARCELLAIRE!$A$2:$A$85,""),0))} -> LG5474 | D8: Moulin Côteau | E8: 41155 | F8: Heliosol | G8: 0.2 | H8: =VLOOKUP(D8,[1]PARCELLAIRE!$D$2:$F$29,3,0) -> 5.67 | I8: =H8*G8 -> 1.134
A9: 2013 | B9: {=INDEX(PARCELLAIRE!$B$2:$B$85,MATCH(PIVOT!A9,IF(PARCELLAIRE!$D$2:$D$85=PIVOT!D9,PARCELLAIRE!$A$2:$A$85,""),0))} -> TOURNESOL | C9: {=INDEX(PARCELLAIRE!$C$2:$C$85,MATCH(PIVOT!A9,IF(PARCELLAIRE!$D$2:$D$85=PIVOT!D9,PARCELLAIRE!$A$2:$A$85,""),0))} -> SY SAMIN | D9: Picotalène Midi | E9: 41155 | F9: Heliosol | G9: 0.2 | H9: =VLOOKUP(D9,[1]PARCELLAIRE!$D$2:$F$29,3,0) -> 4.12 | I9: =H9*G9 -> 0.824
A10: 2013 | B10: {=INDEX(PARCELLAIRE!$B$2:$B$85,MATCH(PIVOT!A10,IF(PARCELLAIRE!$D$2:$D$85=PIVOT!D10,PARCELLAIRE!$A$2:$A$85,""),0))} -> TOURNESOL | C10: {=INDEX(PARCELLAIRE!$C$2:$C$85,MATCH(PIVOT!A10,IF(PARCELLAIRE!$D$2:$D$85=PIVOT!D10,PARCELLAIRE!$A$2:$A$85,""),0))} -> SY SAMIN | D10: Pourtanel | E10: 41155 | F10: Heliosol | G10: 0.2 | H10: =VLOOKUP(D10,[1]PARCELLAIRE!$D$2:$F$29,3,0) -> 12.06 | I10: =H10*G10 -> 2.412
A11: 2013 | B11: {=INDEX(PARCELLAIRE!$B$2:$B$85,MATCH(PIVOT!A11,IF(PARCELLAIRE!$D$2:$D$85=PIVOT!D11,PARCELLAIRE!$A$2:$A$85,""),0))} -> TOURNESOL | C11: {=INDEX(PARCELLAIRE!$C$2:$C$85,MATCH(PIVOT!A11,IF(PARCELLAIRE!$D$2:$D$85=PIVOT!D11,PARCELLAIRE!$A$2:$A$85,""),0))} -> SY SAMIN | D11: Picotalène Nord | E11: 41155 | F11: Heliosol | G11: 0.2 | H11: =VLOOKUP(D11,[1]PARCELLAIRE!$D$2:$F$29,3,0) -> 4.42 | I11: =H11*G11 -> 0.884
A12: 2013 | B12: {=INDEX(PARCELLAIRE!$B$2:$B$85,MATCH(PIVOT!A12,IF(PARCELLAIRE!$D$2:$D$85=PIVOT!D12,PARCELLAIRE!$A$2:$A$85,""),0))} -> TOURNESOL | C12: {=INDEX(PARCELLAIRE!$C$2:$C$85,MATCH(PIVOT!A12,IF(PARCELLAIRE!$D$2:$D$85=PIVOT!D12,PARCELLAIRE!$A$2:$A$85,""),0))} -> MAS 96 OL | D12: L'Aule métairie | E12: 41155 | F12: Heliosol | G12: 0.2 | H12: =VLOOKUP(D12,[1]PARCELLAIRE!$D$2:$F$29,3,0) -> 5.26 | I12: =H12*G12 -> 1.052
A13: 2013 | B13: {=INDEX(PARCELLAIRE!$B$2:$B$85,MATCH(PIVOT!A13,IF(PARCELLAIRE!$D$2:$D$85=PIVOT!D13,PARCELLAIRE!$A$2:$A$85,""),0))} -> TOURNESOL | C13: {=INDEX(PARCELLAIRE!$C$2:$C$85,MATCH(PIVOT!A13,IF(PARCELLAIRE!$D$2:$D$85=PIVOT!D13,PARCELLAIRE!$A$2:$A$85,""),0))} -> MAS 96 OL | D13: L'Aule Plaine | E13: 41155 | F13: Heliosol | G13: 0.2 | H13: =VLOOKUP(D13,[1]PARCELLAIRE!$D$2:$F$29,3,0) -> 15.64 | I13: =H13*G13 -> 3.128
... A37: 2013 | B37: {=INDEX(PARCELLAIRE!$B$2:$B$85,MATCH(PIVOT!A37,IF(PARCELLAIRE!$D$2:$D$85=PIVOT!D37,PARCELLAIRE!$A$2:$A$85,""),0))} -> BLE DUR | C37: {=INDEX(PARCELLAIRE!$C$2:$C$85,MATCH(PIVOT!A37,IF(PARCELLAIRE!$D$2:$D$85=PIVOT!D37,PARCELLAIRE!$A$2:$A$85,""),0))} -> PESCADOUX | D37: Bousquet Château | E37: 41205 | F37: Heliosol | G37: 0.2 | H37: =VLOOKUP(D37,[1]PARCELLAIRE!$D$2:$F$29,3,0) -> 5.27 | I37: =H37*G37 -> 1.054

Sheet PARCELLAIRE
A1: ANNEE | B1: CULTURE | C1: VARIETE | D1: PARCELLE | E1: N° | F1: SURFACE / HA | G1: ILOT
A2: 2013 | B2: TOURNESOL | C2: LG5474 | D2: Andres | E2: 11 | F2: 5.17 | G2: 13
A3: 2013 | B3: BLE DUR | C3: PESCADOUX | D3: Bousquet Château | E3: 15 | F3: 5.27 | G3: 17
A4: 2013 | B4: TOURNESOL | C4: SY SAMIN | D4: Bousquet Pourtanel | E4: 16 | F4: 2.33 | G4: 18
A5: 2013 | B5: GEL | C5: - | D5: Bousquet Prairie | E5: 22 | F5: 4.41 | G5: 23
A6: 2013 | B6: BLE DUR | C6: MIRADOUX | D6: Bousquet Route | E6: 4 | F6: 5.67 | G6: 12
A7: 2013 | B7: BLE DUR | C7: SCULPTUR | D7: Engleyse Bousquet | E7: 6 | F7: 12.49 | G7: 12
A8: 2013 | B8: SORGHO | C8: ARDITO | D8: Engleyse métairie | E8: 7 | F8: 10.93 | G8: 12
A9: 2013 | B9: SOJA | C9: ISIDOR | D9: Engleyse Route | E9: 5 | F9: 8.58 | G9: 12
A10: 2013 | B10: BLE DUR | C10: MIRADOUX | D10: Escarcelou | E10: 14 | F10: 7.58 | G10: 16
A11: 2013 | B11: BLE DUR | C11: MIRADOUX | D11: Escarcelou Jachère | E11: 14 | F11: 1.34 | G11: 16
A12: 2013 | B12: BLE DUR | C12: MIRADOUX | D12: Escarcelou Pte | E12: 14 | F12: 7.5 | G12: 16
A13: 2013 | B13: GEL | C13: - | D13: Gel fixe #1 | E13: 1 | F13: 0.09 | G13: 11
... A57: 2014 | B57: TOURNESOL | C57: - | D57: Seillonne | E57: 2 | F57: 1.26 | G57: 11
A58: 2015 | D58: Andres | E58: 11 | F58: 5.17 | G58: 13
A59: 2015 | D59: Bousquet Château | E59: 15 | F59: 5.27 | G59: 17
A60: 2015 | D60: Bousquet Pourtanel | E60: 16 | F60: 2.33 | G60: 18
A61: 2015 | D61: Bousquet Prairie | E61: 22 | F61: 4.41 | G61: 23
A62: 2015 | D62: Bousquet Route | E62: 4 | F62: 5.67 | G62: 12
A63: 2015 | D63: Engleyse Bousquet | E63: 6 | F63: 12.49 | G63: 12
A64: 2015 | D64: Engleyse métairie | E64: 7 | F64: 10.93 | G64: 12
A65: 2015 | D65: Engleyse Route | E65: 5 | F65: 8.58 | G65: 12
A66: 2015 | D66: Escarcelou | E66: 14 | F66: 7.58 | G66: 16
A67: 2015 | D67: Escarcelou Jachère | E67: 14 | F67: 1.34 | G67: 16
A68: 2015 | D68: Escarcelou Pte | E68: 14 | F68: 7.5 | G68: 16
A69: 2015 | D69: Gel fixe #1 | E69: 1 | F69: 0.09 | G69: 11
... A85: 2015 | D85: Seillonne | E85: 2 | F85: 1.26 | G85: 11
