Workbook
Name ANNEE: OFFSET(UTILISATIONS!$A$2,,,COUNTA(UTILISATIONS!$C:$C)-1)
Name campagne: OFFSET(UTILISATIONS!$A$2,,,COUNTA(UTILISATIONS!$C:$C)-1)
Name categorie: OFFSET(UTILISATIONS!$G$2,,,COUNTA(UTILISATIONS!$C:$C)-1)
Name Col_Annee: OFFSET(PARCELLAIRE!$A$2,,,COUNT(PARCELLAIRE!$A:$A))
Name Col_Culture: OFFSET(Col_Annee,,1)
Name Col_Parcelle: OFFSET(Col_Annee,,3)
Name Col_Variete: OFFSET(Col_Annee,,2)
Name COLN: OFFSET(UTILISATIONS!$N$2,,,COUNTA(UTILISATIONS!$D:$D)-1)
Name CULTURE: OFFSET(VARIETE!$A$1,,,,COUNTA(VARIETE!$A$1:$H$1))
Name DATE: OFFSET(UTILISATIONS!$D$2,,,COUNTA(UTILISATIONS!$C:$C)-1)
Name DEPT: [1]VARIETE!$A$2
Name indice: OFFSET(UTILISATIONS!$O$2,,,COUNTA(UTILISATIONS!$C:$C)-1)
Name Liste_Annee: OFFSET('FOCUS CULTURE'!$Q$7,,,COUNT('FOCUS CULTURE'!$Q$7:$Q$27))
Name Liste_Culture: OFFSET('FOCUS CULTURE'!$R$7,,,COUNTIF('FOCUS CULTURE'!$R$7:$R$27,"?*"))
Name MONTANT: OFFSET(UTILISATIONS!$L$2,,,COUNTA(UTILISATIONS!$C:$C)-1)
Name NB.HA: OFFSET(UTILISATIONS!$I$2,,,COUNTA(UTILISATIONS!$C:$C)-1)
Name paran: OFFSET(PARCELLAIRE!$A$2,,,COUNT(PARCELLAIRE!$A:$A))
Name PARCELLE: OFFSET(UTILISATIONS!$C$2,,,COUNTA(UTILISATIONS!$C:$C)-1)
Name parcult: OFFSET(PARCELLAIRE!$B$2,,,COUNT(PARCELLAIRE!$A:$A))
Name parsurf: OFFSET(PARCELLAIRE!$F$2,,,COUNT(PARCELLAIRE!$A:$A))
Name parvar: OFFSET(PARCELLAIRE!$C$2,,,COUNT(PARCELLAIRE!$A:$A))
Name PRODUIT: OFFSET(UTILISATIONS!$E$2,,,COUNTA(UTILISATIONS!$D:$D)-1)
Name QTE.HA: OFFSET(UTILISATIONS!$H$2,,,COUNTA(UTILISATIONS!$C:$C)-1)
Name VARIETE: PARCELLAIRE!$C$2
Name WHEN: 'FOCUS CULTURE'!$F$7
Name WHEN: 'FOCUS PARCELLE'!$F$7
Name WHERE: 'FOCUS CULTURE'!$F$9
Name WHERE: 'FOCUS PARCELLE'!$F$8

Sheet FOCUS CULTURE
C3: SYNTHESE UTILISATIONS / PARCELLE
I6: DATE | J6: CATEGORIE | K6: PRODUIT | L6: SURFACE | M6: QTE/HA | N6: MONTANT € | Q6: ANNEE | R6: CULTURE | S6: PARCELLE
D7: CAMPAGNE | F7: 2013 | I7: {=IF(ROW($A1)>COUNTIF(COLN,WHERE),"",INDEX(DATE,SMALL(IF(COLN=WHERE,ROW(COLN)-1,""),ROW($A1))))} -> 41205 | J7: {=IF(ROW($A1)>COUNTIF(COLN,WHERE),"",INDEX(categorie,SMALL(IF(COLN=WHERE,ROW(COLN)-1,""),ROW($A1))))} -> DESHERBANT | K7: {=IF(ROW($A1)>COUNTIF(COLN,WHERE),"",INDEX(PRODUIT,SMALL(IF(COLN=WHERE,ROW(COLN)-1,""),ROW($A1))))} -> Glyphosate | L7: {=IF(ROW($A1)>COUNTIF(COLN,WHERE),"",INDEX(NB.HA,SMALL(IF(COLN=WHERE,ROW(COLN)-1,""),ROW($A1))))} -> 5.67 | M7: {=IF(ROW($A1)>COUNTIF(COLN,WHERE),"",INDEX(QTE.HA,SMALL(IF(COLN=WHERE,ROW(COLN)-1,""),ROW($A1))))} -> 1 | N7: {=IF(ROW($A1)>COUNTIF(COLN,WHERE),"",INDEX(MONTANT,SMALL(IF(COLN=WHERE,ROW(COLN)-1,""),ROW($A1))))} -> 27.999323 | Q7: {=IFERROR(SMALL(IF(MATCH(Col_Annee,Col_Annee,0)=ROW(Col_Annee)-1,Col_Annee),ROW(Col_Annee)-1),"")} -> 2013 | R7: {=IFERROR(INDEX(Col_Culture,MATCH(SMALL(IF(MATCH(Col_Annee&Col_Culture,Col_Annee&Col_Culture,0)=ROW(Col_Annee)-1,IF(Col_Annee=F7,COUNTIF(Col_Culture,"<"&Col_Culture))),ROW(Col_Annee)-1),IF(Col_Annee=F7,COUNTIF(Col_Culture,"<"&Col_Culture)),0)),"")} -> BLE DUR | S7: {=IFERROR(SMALL(IF((Col_Annee=F7)*(Col_Culture=F8),Col_Parcelle),ROW(Col_Annee)-1),"")}
D8: CULTURE | F8: BLE TENDRE | I8: {=IF(ROW($A2)>COUNTIF(COLN,WHERE),"",INDEX(DATE,SMALL(IF(COLN=WHERE,ROW(COLN)-1,""),ROW($A2))))} -> 41205 | J8: {=IF(ROW($A2)>COUNTIF(COLN,WHERE),"",INDEX(categorie,SMALL(IF(COLN=WHERE,ROW(COLN)-1,""),ROW($A2))))} -> DIVERS | K8: {=IF(ROW($A2)>COUNTIF(COLN,WHERE),"",INDEX(PRODUIT,SMALL(IF(COLN=WHERE,ROW(COLN)-1,""),ROW($A2))))} -> Heliosol | L8: {=IF(ROW($A2)>COUNTIF(COLN,WHERE),"",INDEX(NB.HA,SMALL(IF(COLN=WHERE,ROW(COLN)-1,""),ROW($A2))))} -> 5.67 | M8: {=IF(ROW($A2)>COUNTIF(COLN,WHERE),"",INDEX(QTE.HA,SMALL(IF(COLN=WHERE,ROW(COLN)-1,""),ROW($A2))))} -> 0.2 | N8: {=IF(ROW($A2)>COUNTIF(COLN,WHERE),"",INDEX(MONTANT,SMALL(IF(COLN=WHERE,ROW(COLN)-1,""),ROW($A2))))} -> 12.48534 | Q8: 2014 | R8: BLE TENDRE
D9: PARCELLE | F9: Bousquet Route | I9: {=IF(ROW($A3)>COUNTIF(COLN,WHERE),"",INDEX(DATE,SMALL(IF(COLN=WHERE,ROW(COLN)-1,""),ROW($A3))))} -> 41207 | J9: {=IF(ROW($A3)>COUNTIF(COLN,WHERE),"",INDEX(categorie,SMALL(IF(COLN=WHERE,ROW(COLN)-1,""),ROW($A3))))} -> SEMENCES | K9: {=IF(ROW($A3)>COUNTIF(COLN,WHERE),"",INDEX(PRODUIT,SMALL(IF(COLN=WHERE,ROW(COLN)-1,""),ROW($A3))))} -> Miradoux | L9: {=IF(ROW($A3)>COUNTIF(COLN,WHERE),"",INDEX(NB.HA,SMALL(IF(COLN=WHERE,ROW(COLN)-1,""),ROW($A3))))} -> 5.67 | M9: {=IF(ROW($A3)>COUNTIF(COLN,WHERE),"",INDEX(QTE.HA,SMALL(IF(COLN=WHERE,ROW(COLN)-1,""),ROW($A3))))} -> 168 | N9: {=IF(ROW($A3)>COUNTIF(COLN,WHERE),"",INDEX(MONTANT,SMALL(IF(COLN=WHERE,ROW(COLN)-1,""),ROW($A3))))} -> 247.47882 | Q9: 2015 | R9: GEL
I10: {=IF(ROW($A4)>COUNTIF(COLN,WHERE),"",INDEX(DATE,SMALL(IF(COLN=WHERE,ROW(COLN)-1,""),ROW($A4))))} -> 41207 | J10: {=IF(ROW($A4)>COUNTIF(COLN,WHERE),"",INDEX(categorie,SMALL(IF(COLN=WHERE,ROW(COLN)-1,""),ROW($A4))))} -> SEMENCES | K10: {=IF(ROW($A4)>COUNTIF(COLN,WHERE),"",INDEX(PRODUIT,SMALL(IF(COLN=WHERE,ROW(COLN)-1,""),ROW($A4))))} -> Miradoux Certifiées | L10: {=IF(ROW($A4)>COUNTIF(COLN,WHERE),"",INDEX(NB.HA,SMALL(IF(COLN=WHERE,ROW(COLN)-1,""),ROW($A4))))} -> 5.67 | M10: {=IF(ROW($A4)>COUNTIF(COLN,WHERE),"",INDEX(QTE.HA,SMALL(IF(COLN=WHERE,ROW(COLN)-1,""),ROW($A4))))} -> 168 | N10: {=IF(ROW($A4)>COUNTIF(COLN,WHERE),"",INDEX(MONTANT,SMALL(IF(COLN=WHERE,ROW(COLN)-1,""),ROW($A4))))} -> 766.8108 | R10: SOJA
D11: SURFACE | F11: =VLOOKUP(WHERE,PARCELLAIRE!$C$2:$F$29,3,FALSE) -> #N/A | I11: {=IF(ROW($A5)>COUNTIF(COLN,WHERE),"",INDEX(DATE,SMALL(IF(COLN=WHERE,ROW(COLN)-1,""),ROW($A5))))} -> 41324 | J11: {=IF(ROW($A5)>COUNTIF(COLN,WHERE),"",INDEX(categorie,SMALL(IF(COLN=WHERE,ROW(COLN)-1,""),ROW($A5))))} -> ENGRAIS | K11: {=IF(ROW($A5)>COUNTIF(COLN,WHERE),"",INDEX(PRODUIT,SMALL(IF(COLN=WHERE,ROW(COLN)-1,""),ROW($A5))))} -> Urée | L11: {=IF(ROW($A5)>COUNTIF(COLN,WHERE),"",INDEX(NB.HA,SMALL(IF(COLN=WHERE,ROW(COLN)-1,""),ROW($A5))))} -> 5.67 | M11: {=IF(ROW($A5)>COUNTIF(COLN,WHERE),"",INDEX(QTE.HA,SMALL(IF(COLN=WHERE,ROW(COLN)-1,""),ROW($A5))))} -> 150 | N11: {=IF(ROW($A5)>COUNTIF(COLN,WHERE),"",INDEX(MONTANT,SMALL(IF(COLN=WHERE,ROW(COLN)-1,""),ROW($A5))))} -> 356.22064 | R11: SORGHO
D12: VARIETE | F12: =IF($F$7=PARCELLAIRE!A2,VLOOKUP('FOCUS CULTURE'!$F$9,PARCELLAIRE!$C:$G,6,0)," ") -> #N/A | I12: {=IF(ROW($A6)>COUNTIF(COLN,WHERE),"",INDEX(DATE,SMALL(IF(COLN=WHERE,ROW(COLN)-1,""),ROW($A6))))} -> 41341 | J12: {=IF(ROW($A6)>COUNTIF(COLN,WHERE),"",INDEX(categorie,SMALL(IF(COLN=WHERE,ROW(COLN)-1,""),ROW($A6))))} -> DESHERBANT | K12: {=IF(ROW($A6)>COUNTIF(COLN,WHERE),"",INDEX(PRODUIT,SMALL(IF(COLN=WHERE,ROW(COLN)-1,""),ROW($A6))))} -> Allié SX | L12: {=IF(ROW($A6)>COUNTIF(COLN,WHERE),"",INDEX(NB.HA,SMALL(IF(COLN=WHERE,ROW(COLN)-1,""),ROW($A6))))} -> 5.67 | M12: {=IF(ROW($A6)>COUNTIF(COLN,WHERE),"",INDEX(QTE.HA,SMALL(IF(COLN=WHERE,ROW(COLN)-1,""),ROW($A6))))} -> 20 | N12: {=IF(ROW($A6)>COUNTIF(COLN,WHERE),"",INDEX(MONTANT,SMALL(IF(COLN=WHERE,ROW(COLN)-1,""),ROW($A6))))} -> 75.978 | R12: TOURNESOL
I13: {=IF(ROW($A7)>COUNTIF(COLN,WHERE),"",INDEX(DATE,SMALL(IF(COLN=WHERE,ROW(COLN)-1,""),ROW($A7))))} -> 41341 | J13: {=IF(ROW($A7)>COUNTIF(COLN,WHERE),"",INDEX(categorie,SMALL(IF(COLN=WHERE,ROW(COLN)-1,""),ROW($A7))))} -> DESHERBANT | K13: {=IF(ROW($A7)>COUNTIF(COLN,WHERE),"",INDEX(PRODUIT,SMALL(IF(COLN=WHERE,ROW(COLN)-1,""),ROW($A7))))} -> Actual Pratic | L13: {=IF(ROW($A7)>COUNTIF(COLN,WHERE),"",INDEX(NB.HA,SMALL(IF(COLN=WHERE,ROW(COLN)-1,""),ROW($A7))))} -> 5.67 | M13: {=IF(ROW($A7)>COUNTIF(COLN,WHERE),"",INDEX(QTE.HA,SMALL(IF(COLN=WHERE,ROW(COLN)-1,""),ROW($A7))))} -> 0.9 | N13: {=IF(ROW($A7)>COUNTIF(COLN,WHERE),"",INDEX(MONTANT,SMALL(IF(COLN=WHERE,ROW(COLN)-1,""),ROW($A7))))} -> 158.193
D14: TOTAL UTILISATIONS | F14: =SUM(N7:N37) -> 3280.1975 | I14: {=IF(ROW($A8)>COUNTIF(COLN,WHERE),"",INDEX(DATE,SMALL(IF(COLN=WHERE,ROW(COLN)-1,""),ROW($A8))))} -> 41347 | J14: {=IF(ROW($A8)>COUNTIF(COLN,WHERE),"",INDEX(categorie,SMALL(IF(COLN=WHERE,ROW(COLN)-1,""),ROW($A8))))} -> ENGRAIS | K14: {=IF(ROW($A8)>COUNTIF(COLN,WHERE),"",INDEX(PRODUIT,SMALL(IF(COLN=WHERE,ROW(COLN)-1,""),ROW($A8))))} -> Urée | L14: {=IF(ROW($A8)>COUNTIF(COLN,WHERE),"",INDEX(NB.HA,SMALL(IF(COLN=WHERE,ROW(COLN)-1,""),ROW($A8))))} -> 5.67 | M14: {=IF(ROW($A8)>COUNTIF(COLN,WHERE),"",INDEX(QTE.HA,SMALL(IF(COLN=WHERE,ROW(COLN)-1,""),ROW($A8))))} -> 180 | N14: {=IF(ROW($A8)>COUNTIF(COLN,WHERE),"",INDEX(MONTANT,SMALL(IF(COLN=WHERE,ROW(COLN)-1,""),ROW($A8))))} -> 427.46477
E15: SEMENCES | F15: =SUMIF($J$7:$J$36,E15,$N$7:$N$36) -> 1014.2896 | I15: {=IF(ROW($A9)>COUNTIF(COLN,WHERE),"",INDEX(DATE,SMALL(IF(COLN=WHERE,ROW(COLN)-1,""),ROW($A9))))} -> 41354 | J15: {=IF(ROW($A9)>COUNTIF(COLN,WHERE),"",INDEX(categorie,SMALL(IF(COLN=WHERE,ROW(COLN)-1,""),ROW($A9))))} -> DIVERS | K15: {=IF(ROW($A9)>COUNTIF(COLN,WHERE),"",INDEX(PRODUIT,SMALL(IF(COLN=WHERE,ROW(COLN)-1,""),ROW($A9))))} -> Effecto | L15: {=IF(ROW($A9)>COUNTIF(COLN,WHERE),"",INDEX(NB.HA,SMALL(IF(COLN=WHERE,ROW(COLN)-1,""),ROW($A9))))} -> 5.67 | M15: {=IF(ROW($A9)>COUNTIF(COLN,WHERE),"",INDEX(QTE.HA,SMALL(IF(COLN=WHERE,ROW(COLN)-1,""),ROW($A9))))} -> 3 | N15: {=IF(ROW($A9)>COUNTIF(COLN,WHERE),"",INDEX(MONTANT,SMALL(IF(COLN=WHERE,ROW(COLN)-1,""),ROW($A9))))} -> 49.329
E16: ENGRAIS | F16: =SUMIF($J$7:$J$36,E16,$N$7:$N$36) -> 1128.032 | I16: {=IF(ROW($A10)>COUNTIF(COLN,WHERE),"",INDEX(DATE,SMALL(IF(COLN=WHERE,ROW(COLN)-1,""),ROW($A10))))} -> 41379 | J16: {=IF(ROW($A10)>COUNTIF(COLN,WHERE),"",INDEX(categorie,SMALL(IF(COLN=WHERE,ROW(COLN)-1,""),ROW($A10))))} -> FONGICIDES | K16: {=IF(ROW($A10)>COUNTIF(COLN,WHERE),"",INDEX(PRODUIT,SMALL(IF(COLN=WHERE,ROW(COLN)-1,""),ROW($A10))))} -> Opus New | L16: {=IF(ROW($A10)>COUNTIF(COLN,WHERE),"",INDEX(NB.HA,SMALL(IF(COLN=WHERE,ROW(COLN)-1,""),ROW($A10))))} -> 5.67 | M16: {=IF(ROW($A10)>COUNTIF(COLN,WHERE),"",INDEX(QTE.HA,SMALL(IF(COLN=WHERE,ROW(COLN)-1,""),ROW($A10))))} -> 0.6 | N16: {=IF(ROW($A10)>COUNTIF(COLN,WHERE),"",INDEX(MONTANT,SMALL(IF(COLN=WHERE,ROW(COLN)-1,""),ROW($A10))))} -> 105.15582
E17: DESHERBANT | F17: =SUMIF($J$7:$J$36,E17,$N$7:$N$36) -> 262.17032 | I17: {=IF(ROW($A11)>COUNTIF(COLN,WHERE),"",INDEX(DATE,SMALL(IF(COLN=WHERE,ROW(COLN)-1,""),ROW($A11))))} -> 41379 | J17: {=IF(ROW($A11)>COUNTIF(COLN,WHERE),"",INDEX(categorie,SMALL(IF(COLN=WHERE,ROW(COLN)-1,""),ROW($A11))))} -> FONGICIDES | K17: {=IF(ROW($A11)>COUNTIF(COLN,WHERE),"",INDEX(PRODUIT,SMALL(IF(COLN=WHERE,ROW(COLN)-1,""),ROW($A11))))} -> Mirage | L17: {=IF(ROW($A11)>COUNTIF(COLN,WHERE),"",INDEX(NB.HA,SMALL(IF(COLN=WHERE,ROW(COLN)-1,""),ROW($A11))))} -> 5.67 | M17: {=IF(ROW($A11)>COUNTIF(COLN,WHERE),"",INDEX(QTE.HA,SMALL(IF(COLN=WHERE,ROW(COLN)-1,""),ROW($A11))))} -> 0.7 | N17: {=IF(ROW($A11)>COUNTIF(COLN,WHERE),"",INDEX(MONTANT,SMALL(IF(COLN=WHERE,ROW(COLN)-1,""),ROW($A11))))} -> 35.721
E18: FONGICIDES | F18: =SUMIF($J$7:$J$36,E18,$N$7:$N$36) -> 530.40582 | I18: {=IF(ROW($A12)>COUNTIF(COLN,WHERE),"",INDEX(DATE,SMALL(IF(COLN=WHERE,ROW(COLN)-1,""),ROW($A12))))} -> 41379 | J18: {=IF(ROW($A12)>COUNTIF(COLN,WHERE),"",INDEX(categorie,SMALL(IF(COLN=WHERE,ROW(COLN)-1,""),ROW($A12))))} -> DIVERS | K18: {=IF(ROW($A12)>COUNTIF(COLN,WHERE),"",INDEX(PRODUIT,SMALL(IF(COLN=WHERE,ROW(COLN)-1,""),ROW($A12))))} -> Heliosol | L18: {=IF(ROW($A12)>COUNTIF(COLN,WHERE),"",INDEX(NB.HA,SMALL(IF(COLN=WHERE,ROW(COLN)-1,""),ROW($A12))))} -> 5.67 | M18: {=IF(ROW($A12)>COUNTIF(COLN,WHERE),"",INDEX(QTE.HA,SMALL(IF(COLN=WHERE,ROW(COLN)-1,""),ROW($A12))))} -> 0.2 | N18: {=IF(ROW($A12)>COUNTIF(COLN,WHERE),"",INDEX(MONTANT,SMALL(IF(COLN=WHERE,ROW(COLN)-1,""),ROW($A12))))} -> 12.48534
E19: INSECTICIDE | F19: =SUMIF($J$7:$J$36,E19,$N$7:$N$36) -> 0 | I19: {=IF(ROW($A13)>COUNTIF(COLN,WHERE),"",INDEX(DATE,SMALL(IF(COLN=WHERE,ROW(COLN)-1,""),ROW($A13))))} -> 41389 | J19: {=IF(ROW($A13)>COUNTIF(COLN,WHERE),"",INDEX(categorie,SMALL(IF(COLN=WHERE,ROW(COLN)-1,""),ROW($A13))))} -> ENGRAIS | K19: {=IF(ROW($A13)>COUNTIF(COLN,WHERE),"",INDEX(PRODUIT,SMALL(IF(COLN=WHERE,ROW(COLN)-1,""),ROW($A13))))} -> Urée | L19: {=IF(ROW($A13)>COUNTIF(COLN,WHERE),"",INDEX(NB.HA,SMALL(IF(COLN=WHERE,ROW(COLN)-1,""),ROW($A13))))} -> 5.67 | M19: {=IF(ROW($A13)>COUNTIF(COLN,WHERE),"",INDEX(QTE.HA,SMALL(IF(COLN=WHERE,ROW(COLN)-1,""),ROW($A13))))} -> 145 | N19: {=IF(ROW($A13)>COUNTIF(COLN,WHERE),"",INDEX(MONTANT,SMALL(IF(COLN=WHERE,ROW(COLN)-1,""),ROW($A13))))} -> 344.34662
D20: COÛT/HA | F20: =F14/F11 -> #N/A | I20: {=IF(ROW($A14)>COUNTIF(COLN,WHERE),"",INDEX(DATE,SMALL(IF(COLN=WHERE,ROW(COLN)-1,""),ROW($A14))))} -> 41396 | J20: {=IF(ROW($A14)>COUNTIF(COLN,WHERE),"",INDEX(categorie,SMALL(IF(COLN=WHERE,ROW(COLN)-1,""),ROW($A14))))} -> FONGICIDES | K20: {=IF(ROW($A14)>COUNTIF(COLN,WHERE),"",INDEX(PRODUIT,SMALL(IF(COLN=WHERE,ROW(COLN)-1,""),ROW($A14))))} -> Acanto | L20: {=IF(ROW($A14)>COUNTIF(COLN,WHERE),"",INDEX(NB.HA,SMALL(IF(COLN=WHERE,ROW(COLN)-1,""),ROW($A14))))} -> 5.67 | M20: {=IF(ROW($A14)>COUNTIF(COLN,WHERE),"",INDEX(QTE.HA,SMALL(IF(COLN=WHERE,ROW(COLN)-1,""),ROW($A14))))} -> 0.3 | N20: {=IF(ROW($A14)>COUNTIF(COLN,WHERE),"",INDEX(MONTANT,SMALL(IF(COLN=WHERE,ROW(COLN)-1,""),ROW($A14))))} -> 62.937
I21: {=IF(ROW($A15)>COUNTIF(COLN,WHERE),"",INDEX(DATE,SMALL(IF(COLN=WHERE,ROW(COLN)-1,""),ROW($A15))))} -> 41396 | J21: {=IF(ROW($A15)>COUNTIF(COLN,WHERE),"",INDEX(categorie,SMALL(IF(COLN=WHERE,ROW(COLN)-1,""),ROW($A15))))} -> FONGICIDES | K21: {=IF(ROW($A15)>COUNTIF(COLN,WHERE),"",INDEX(PRODUIT,SMALL(IF(COLN=WHERE,ROW(COLN)-1,""),ROW($A15))))} -> Pixel | L21: {=IF(ROW($A15)>COUNTIF(COLN,WHERE),"",INDEX(NB.HA,SMALL(IF(COLN=WHERE,ROW(COLN)-1,""),ROW($A15))))} -> 5.67 | M21: {=IF(ROW($A15)>COUNTIF(COLN,WHERE),"",INDEX(QTE.HA,SMALL(IF(COLN=WHERE,ROW(COLN)-1,""),ROW($A15))))} -> 1 | N21: {=IF(ROW($A15)>COUNTIF(COLN,WHERE),"",INDEX(MONTANT,SMALL(IF(COLN=WHERE,ROW(COLN)-1,""),ROW($A15))))} -> 81.648
I22: {=IF(ROW($A16)>COUNTIF(COLN,WHERE),"",INDEX(DATE,SMALL(IF(COLN=WHERE,ROW(COLN)-1,""),ROW($A16))))} -> 41421 | J22: {=IF(ROW($A16)>COUNTIF(COLN,WHERE),"",INDEX(categorie,SMALL(IF(COLN=WHERE,ROW(COLN)-1,""),ROW($A16))))} -> FONGICIDES | K22: {=IF(ROW($A16)>COUNTIF(COLN,WHERE),"",INDEX(PRODUIT,SMALL(IF(COLN=WHERE,ROW(COLN)-1,""),ROW($A16))))} -> Kestrel | L22: {=IF(ROW($A16)>COUNTIF(COLN,WHERE),"",INDEX(NB.HA,SMALL(IF(COLN=WHERE,ROW(COLN)-1,""),ROW($A16))))} -> 5.67 | M22: {=IF(ROW($A16)>COUNTIF(COLN,WHERE),"",INDEX(QTE.HA,SMALL(IF(COLN=WHERE,ROW(COLN)-1,""),ROW($A16))))} -> 0.8 | N22: {=IF(ROW($A16)>COUNTIF(COLN,WHERE),"",INDEX(MONTANT,SMALL(IF(COLN=WHERE,ROW(COLN)-1,""),ROW($A16))))} -> 244.944
I23: {=IF(ROW($A17)>COUNTIF(COLN,WHERE),"",INDEX(DATE,SMALL(IF(COLN=WHERE,ROW(COLN)-1,""),ROW($A17))))} -> 41479 | J23: {=IF(ROW($A17)>COUNTIF(COLN,WHERE),"",INDEX(categorie,SMALL(IF(COLN=WHERE,ROW(COLN)-1,""),ROW($A17))))} -> RECOLTE | K23: {=IF(ROW($A17)>COUNTIF(COLN,WHERE),"",INDEX(PRODUIT,SMALL(IF(COLN=WHERE,ROW(COLN)-1,""),ROW($A17))))} -> Récolte | L23: {=IF(ROW($A17)>COUNTIF(COLN,WHERE),"",INDEX(NB.HA,SMALL(IF(COLN=WHERE,ROW(COLN)-1,""),ROW($A17))))} -> 5.67 | M23: {=IF(ROW($A17)>COUNTIF(COLN,WHERE),"",INDEX(QTE.HA,SMALL(IF(COLN=WHERE,ROW(COLN)-1,""),ROW($A17))))} -> 47.795414 | N23: {=IF(ROW($A17)>COUNTIF(COLN,WHERE),"",INDEX(MONTANT,SMALL(IF(COLN=WHERE,ROW(COLN)-1,""),ROW($A17))))} -> 271
I24: {=IF(ROW($A18)>COUNTIF(COLN,WHERE),"",INDEX(DATE,SMALL(IF(COLN=WHERE,ROW(COLN)-1,""),ROW($A18))))} | J24: {=IF(ROW($A18)>COUNTIF(COLN,WHERE),"",INDEX(categorie,SMALL(IF(COLN=WHERE,ROW(COLN)-1,""),ROW($A18))))} | K24: {=IF(ROW($A18)>COUNTIF(COLN,WHERE),"",INDEX(PRODUIT,SMALL(IF(COLN=WHERE,ROW(COLN)-1,""),ROW($A18))))} | L24: {=IF(ROW($A18)>COUNTIF(COLN,WHERE),"",INDEX(NB.HA,SMALL(IF(COLN=WHERE,ROW(COLN)-1,""),ROW($A18))))} | M24: {=IF(ROW($A18)>COUNTIF(COLN,WHERE),"",INDEX(QTE.HA,SMALL(IF(COLN=WHERE,ROW(COLN)-1,""),ROW($A18))))} | N24: {=IF(ROW($A18)>COUNTIF(COLN,WHERE),"",INDEX(MONTANT,SMALL(IF(COLN=WHERE,ROW(COLN)-1,""),ROW($A18))))}
I25: {=IF(ROW($A19)>COUNTIF(COLN,WHERE),"",INDEX(DATE,SMALL(IF(COLN=WHERE,ROW(COLN)-1,""),ROW($A19))))} | J25: {=IF(ROW($A19)>COUNTIF(COLN,WHERE),"",INDEX(categorie,SMALL(IF(COLN=WHERE,ROW(COLN)-1,""),ROW($A19))))} | K25: {=IF(ROW($A19)>COUNTIF(COLN,WHERE),"",INDEX(PRODUIT,SMALL(IF(COLN=WHERE,ROW(COLN)-1,""),ROW($A19))))} | L25: {=IF(ROW($A19)>COUNTIF(COLN,WHERE),"",INDEX(NB.HA,SMALL(IF(COLN=WHERE,ROW(COLN)-1,""),ROW($A19))))} | M25: {=IF(ROW($A19)>COUNTIF(COLN,WHERE),"",INDEX(QTE.HA,SMALL(IF(COLN=WHERE,ROW(COLN)-1,""),ROW($A19))))} | N25: {=IF(ROW($A19)>COUNTIF(COLN,WHERE),"",INDEX(MONTANT,SMALL(IF(COLN=WHERE,ROW(COLN)-1,""),ROW($A19))))}
I26: {=IF(ROW($A20)>COUNTIF(COLN,WHERE),"",INDEX(DATE,SMALL(IF(COLN=WHERE,ROW(COLN)-1,""),ROW($A20))))} | J26: {=IF(ROW($A20)>COUNTIF(COLN,WHERE),"",INDEX(categorie,SMALL(IF(COLN=WHERE,ROW(COLN)-1,""),ROW($A20))))} | K26: {=IF(ROW($A20)>COUNTIF(COLN,WHERE),"",INDEX(PRODUIT,SMALL(IF(COLN=WHERE,ROW(COLN)-1,""),ROW($A20))))} | L26: {=IF(ROW($A20)>COUNTIF(COLN,WHERE),"",INDEX(NB.HA,SMALL(IF(COLN=WHERE,ROW(COLN)-1,""),ROW($A20))))} | M26: {=IF(ROW($A20)>COUNTIF(COLN,WHERE),"",INDEX(QTE.HA,SMALL(IF(COLN=WHERE,ROW(COLN)-1,""),ROW($A20))))} | N26: {=IF(ROW($A20)>COUNTIF(COLN,WHERE),"",INDEX(MONTANT,SMALL(IF(COLN=WHERE,ROW(COLN)-1,""),ROW($A20))))}
I27: {=IF(ROW($A21)>COUNTIF(COLN,WHERE),"",INDEX(DATE,SMALL(IF(COLN=WHERE,ROW(COLN)-1,""),ROW($A21))))} | J27: {=IF(ROW($A21)>COUNTIF(COLN,WHERE),"",INDEX(categorie,SMALL(IF(COLN=WHERE,ROW(COLN)-1,""),ROW($A21))))} | K27: {=IF(ROW($A21)>COUNTIF(COLN,WHERE),"",INDEX(PRODUIT,SMALL(IF(COLN=WHERE,ROW(COLN)-1,""),ROW($A21))))} | L27: {=IF(ROW($A21)>COUNTIF(COLN,WHERE),"",INDEX(NB.HA,SMALL(IF(COLN=WHERE,ROW(COLN)-1,""),ROW($A21))))} | M27: {=IF(ROW($A21)>COUNTIF(COLN,WHERE),"",INDEX(QTE.HA,SMALL(IF(COLN=WHERE,ROW(COLN)-1,""),ROW($A21))))} | N27: {=IF(ROW($A21)>COUNTIF(COLN,WHERE),"",INDEX(MONTANT,SMALL(IF(COLN=WHERE,ROW(COLN)-1,""),ROW($A21))))}
I28: {=IF(ROW($A22)>COUNTIF(COLN,WHERE),"",INDEX(DATE,SMALL(IF(COLN=WHERE,ROW(COLN)-1,""),ROW($A22))))} | J28: {=IF(ROW($A22)>COUNTIF(COLN,WHERE),"",INDEX(categorie,SMALL(IF(COLN=WHERE,ROW(COLN)-1,""),ROW($A22))))} | K28: {=IF(ROW($A22)>COUNTIF(COLN,WHERE),"",INDEX(PRODUIT,SMALL(IF(COLN=WHERE,ROW(COLN)-1,""),ROW($A22))))} | L28: {=IF(ROW($A22)>COUNTIF(COLN,WHERE),"",INDEX(NB.HA,SMALL(IF(COLN=WHERE,ROW(COLN)-1,""),ROW($A22))))} | M28: {=IF(ROW($A22)>COUNTIF(COLN,WHERE),"",INDEX(QTE.HA,SMALL(IF(COLN=WHERE,ROW(COLN)-1,""),ROW($A22))))} | N28: {=IF(ROW($A22)>COUNTIF(COLN,WHERE),"",INDEX(MONTANT,SMALL(IF(COLN=WHERE,ROW(COLN)-1,""),ROW($A22))))}
I29: {=IF(ROW($A23)>COUNTIF(COLN,WHERE),"",INDEX(DATE,SMALL(IF(COLN=WHERE,ROW(COLN)-1,""),ROW($A23))))} | J29: {=IF(ROW($A23)>COUNTIF(COLN,WHERE),"",INDEX(categorie,SMALL(IF(COLN=WHERE,ROW(COLN)-1,""),ROW($A23))))} | K29: {=IF(ROW($A23)>COUNTIF(COLN,WHERE),"",INDEX(PRODUIT,SMALL(IF(COLN=WHERE,ROW(COLN)-1,""),ROW($A23))))} | L29: {=IF(ROW($A23)>COUNTIF(COLN,WHERE),"",INDEX(NB.HA,SMALL(IF(COLN=WHERE,ROW(COLN)-1,""),ROW($A23))))} | M29: {=IF(ROW($A23)>COUNTIF(COLN,WHERE),"",INDEX(QTE.HA,SMALL(IF(COLN=WHERE,ROW(COLN)-1,""),ROW($A23))))} | N29: {=IF(ROW($A23)>COUNTIF(COLN,WHERE),"",INDEX(MONTANT,SMALL(IF(COLN=WHERE,ROW(COLN)-1,""),ROW($A23))))}
E30: RENDEMENT (q/ha) | F30: 60 | I30: {=IF(ROW($A24)>COUNTIF(COLN,WHERE),"",INDEX(DATE,SMALL(IF(COLN=WHERE,ROW(COLN)-1,""),ROW($A24))))} | J30: {=IF(ROW($A24)>COUNTIF(COLN,WHERE),"",INDEX(categorie,SMALL(IF(COLN=WHERE,ROW(COLN)-1,""),ROW($A24))))} | K30: {=IF(ROW($A24)>COUNTIF(COLN,WHERE),"",INDEX(PRODUIT,SMALL(IF(COLN=WHERE,ROW(COLN)-1,""),ROW($A24))))} | L30: {=IF(ROW($A24)>COUNTIF(COLN,WHERE),"",INDEX(NB.HA,SMALL(IF(COLN=WHERE,ROW(COLN)-1,""),ROW($A24))))} | M30: {=IF(ROW($A24)>COUNTIF(COLN,WHERE),"",INDEX(QTE.HA,SMALL(IF(COLN=WHERE,ROW(COLN)-1,""),ROW($A24))))} | N30: {=IF(ROW($A24)>COUNTIF(COLN,WHERE),"",INDEX(MONTANT,SMALL(IF(COLN=WHERE,ROW(COLN)-1,""),ROW($A24))))}
E31: VENTES (€/T) | F31: 190 | I31: {=IF(ROW($A25)>COUNTIF(COLN,WHERE),"",INDEX(DATE,SMALL(IF(COLN=WHERE,ROW(COLN)-1,""),ROW($A25))))} | J31: {=IF(ROW($A25)>COUNTIF(COLN,WHERE),"",INDEX(categorie,SMALL(IF(COLN=WHERE,ROW(COLN)-1,""),ROW($A25))))} | K31: {=IF(ROW($A25)>COUNTIF(COLN,WHERE),"",INDEX(PRODUIT,SMALL(IF(COLN=WHERE,ROW(COLN)-1,""),ROW($A25))))} | L31: {=IF(ROW($A25)>COUNTIF(COLN,WHERE),"",INDEX(NB.HA,SMALL(IF(COLN=WHERE,ROW(COLN)-1,""),ROW($A25))))} | M31: {=IF(ROW($A25)>COUNTIF(COLN,WHERE),"",INDEX(QTE.HA,SMALL(IF(COLN=WHERE,ROW(COLN)-1,""),ROW($A25))))} | N31: {=IF(ROW($A25)>COUNTIF(COLN,WHERE),"",INDEX(MONTANT,SMALL(IF(COLN=WHERE,ROW(COLN)-1,""),ROW($A25))))}
E32: AIDES PAC (€/ha) | I32: {=IF(ROW($A26)>COUNTIF(COLN,WHERE),"",INDEX(DATE,SMALL(IF(COLN=WHERE,ROW(COLN)-1,""),ROW($A26))))} | J32: {=IF(ROW($A26)>COUNTIF(COLN,WHERE),"",INDEX(categorie,SMALL(IF(COLN=WHERE,ROW(COLN)-1,""),ROW($A26))))} | K32: {=IF(ROW($A26)>COUNTIF(COLN,WHERE),"",INDEX(PRODUIT,SMALL(IF(COLN=WHERE,ROW(COLN)-1,""),ROW($A26))))} | L32: {=IF(ROW($A26)>COUNTIF(COLN,WHERE),"",INDEX(NB.HA,SMALL(IF(COLN=WHERE,ROW(COLN)-1,""),ROW($A26))))} | M32: {=IF(ROW($A26)>COUNTIF(COLN,WHERE),"",INDEX(QTE.HA,SMALL(IF(COLN=WHERE,ROW(COLN)-1,""),ROW($A26))))} | N32: {=IF(ROW($A26)>COUNTIF(COLN,WHERE),"",INDEX(MONTANT,SMALL(IF(COLN=WHERE,ROW(COLN)-1,""),ROW($A26))))}
D33: PRODUIT (€/ha) | F33: =((((F30*F11)/10)*F31)+(F32*F11))/F11 -> #N/A | I33: {=IF(ROW($A27)>COUNTIF(COLN,WHERE),"",INDEX(DATE,SMALL(IF(COLN=WHERE,ROW(COLN)-1,""),ROW($A27))))} | J33: {=IF(ROW($A27)>COUNTIF(COLN,WHERE),"",INDEX(categorie,SMALL(IF(COLN=WHERE,ROW(COLN)-1,""),ROW($A27))))} | K33: {=IF(ROW($A27)>COUNTIF(COLN,WHERE),"",INDEX(PRODUIT,SMALL(IF(COLN=WHERE,ROW(COLN)-1,""),ROW($A27))))} | L33: {=IF(ROW($A27)>COUNTIF(COLN,WHERE),"",INDEX(NB.HA,SMALL(IF(COLN=WHERE,ROW(COLN)-1,""),ROW($A27))))} | M33: {=IF(ROW($A27)>COUNTIF(COLN,WHERE),"",INDEX(QTE.HA,SMALL(IF(COLN=WHERE,ROW(COLN)-1,""),ROW($A27))))} | N33: {=IF(ROW($A27)>COUNTIF(COLN,WHERE),"",INDEX(MONTANT,SMALL(IF(COLN=WHERE,ROW(COLN)-1,""),ROW($A27))))}
I34: {=IF(ROW($A28)>COUNTIF(COLN,WHERE),"",INDEX(DATE,SMALL(IF(COLN=WHERE,ROW(COLN)-1,""),ROW($A28))))} | J34: {=IF(ROW($A28)>COUNTIF(COLN,WHERE),"",INDEX(categorie,SMALL(IF(COLN=WHERE,ROW(COLN)-1,""),ROW($A28))))} | K34: {=IF(ROW($A28)>COUNTIF(COLN,WHERE),"",INDEX(PRODUIT,SMALL(IF(COLN=WHERE,ROW(COLN)-1,""),ROW($A28))))} | L34: {=IF(ROW($A28)>COUNTIF(COLN,WHERE),"",INDEX(NB.HA,SMALL(IF(COLN=WHERE,ROW(COLN)-1,""),ROW($A28))))} | M34: {=IF(ROW($A28)>COUNTIF(COLN,WHERE),"",INDEX(QTE.HA,SMALL(IF(COLN=WHERE,ROW(COLN)-1,""),ROW($A28))))} | N34: {=IF(ROW($A28)>COUNTIF(COLN,WHERE),"",INDEX(MONTANT,SMALL(IF(COLN=WHERE,ROW(COLN)-1,""),ROW($A28))))}
D35: MARGE BRUTE | F35: =(F33*F11)-F14 -> #N/A | I35: {=IF(ROW($A29)>COUNTIF(COLN,WHERE),"",INDEX(DATE,SMALL(IF(COLN=WHERE,ROW(COLN)-1,""),ROW($A29))))} | J35: {=IF(ROW($A29)>COUNTIF(COLN,WHERE),"",INDEX(categorie,SMALL(IF(COLN=WHERE,ROW(COLN)-1,""),ROW($A29))))} | K35: {=IF(ROW($A29)>COUNTIF(COLN,WHERE),"",INDEX(PRODUIT,SMALL(IF(COLN=WHERE,ROW(COLN)-1,""),ROW($A29))))} | L35: {=IF(ROW($A29)>COUNTIF(COLN,WHERE),"",INDEX(NB.HA,SMALL(IF(COLN=WHERE,ROW(COLN)-1,""),ROW($A29))))} | M35: {=IF(ROW($A29)>COUNTIF(COLN,WHERE),"",INDEX(QTE.HA,SMALL(IF(COLN=WHERE,ROW(COLN)-1,""),ROW($A29))))} | N35: {=IF(ROW($A29)>COUNTIF(COLN,WHERE),"",INDEX(MONTANT,SMALL(IF(COLN=WHERE,ROW(COLN)-1,""),ROW($A29))))}
I36: {=IF(ROW($A30)>COUNTIF(COLN,WHERE),"",INDEX(DATE,SMALL(IF(COLN=WHERE,ROW(COLN)-1,""),ROW($A30))))} | J36: {=IF(ROW($A30)>COUNTIF(COLN,WHERE),"",INDEX(categorie,SMALL(IF(COLN=WHERE,ROW(COLN)-1,""),ROW($A30))))} | K36: {=IF(ROW($A30)>COUNTIF(COLN,WHERE),"",INDEX(PRODUIT,SMALL(IF(COLN=WHERE,ROW(COLN)-1,""),ROW($A30))))} | L36: {=IF(ROW($A30)>COUNTIF(COLN,WHERE),"",INDEX(NB.HA,SMALL(IF(COLN=WHERE,ROW(COLN)-1,""),ROW($A30))))} | M36: {=IF(ROW($A30)>COUNTIF(COLN,WHERE),"",INDEX(QTE.HA,SMALL(IF(COLN=WHERE,ROW(COLN)-1,""),ROW($A30))))} | N36: {=IF(ROW($A30)>COUNTIF(COLN,WHERE),"",INDEX(MONTANT,SMALL(IF(COLN=WHERE,ROW(COLN)-1,""),ROW($A30))))}

Sheet FOCUS C
C3: SYNTHÈSE PAR CULTURE
C6: CAMPAGNE | E6: 2013 | G6: PRODUIT (€/ha) | I6: =((((I7*E12)/10)*I9)+(I10*E12))/E12 -> 1540
C7: CULTURE | E7: BLE TENDRE | H7: RENDEMENT (q/ha) | I7: 60
C8: PARCELLE
C9: VARIETE | E9: SOLEIHO | H9: VENTES (€/T) | I9: 190
H10: AIDES PAC (€/ha) | I10: 400
C12: SURFACE / HA | E12: =SUMPRODUCT((paran=E6)*(parcult=E7)*(parvar=E9)*(parsurf)) -> 17.55 | G12: MARGE BRUTE | I12: =(I6*E12)-E14 -> 7082.4351
C14: TOTAL UTILISATIONS | E14: =SUM(E15:E19) -> 19944.565
D15: SEMENCES | E15: =SUMPRODUCT(--(campagne=$E$6)*(indice=1)*(categorie=D15)*(MONTANT)) -> 3427.6216
D16: ENGRAIS | E16: =SUMPRODUCT(--(campagne=$E$6)*(indice=1)*(categorie=D16)*(MONTANT)) -> 9859.1278
D17: DESHERBANT | E17: =SUMPRODUCT(--(campagne=$E$6)*(indice=1)*(categorie=D17)*(MONTANT)) -> 5301.3099
D18: FONGICIDES | E18: =SUMPRODUCT(--(campagne=$E$6)*(indice=1)*(categorie=D18)*(MONTANT)) -> 1356.5056
D19: INSECTICIDE | E19: =SUMPRODUCT(--(campagne=$E$6)*(indice=1)*(categorie=D19)*(MONTANT)) -> 0
C20: COÛT/HA | E20: =E14/E12 -> 1136.4424

Sheet FOCUS PARCELLE
C3: SYNTHESE UTILISATIONS / PARCELLE
I6: DATE | J6: CATEGORIE | K6: PRODUIT | L6: SURFACE | M6: QTE/HA | N6: MONTANT €
D7: CAMPAGNE | F7: 2013 | I7: {=IF(ROW($A1)>COUNTIF(COLN,WHERE),"",INDEX(DATE,SMALL(IF(COLN=WHERE,ROW(COLN)-1,""),ROW($A1))))} -> 41113 | J7: {=IF(ROW($A1)>COUNTIF(COLN,WHERE),"",INDEX(categorie,SMALL(IF(COLN=WHERE,ROW(COLN)-1,""),ROW($A1))))} -> ENGRAIS | K7: {=IF(ROW($A1)>COUNTIF(COLN,WHERE),"",INDEX(PRODUIT,SMALL(IF(COLN=WHERE,ROW(COLN)-1,""),ROW($A1))))} -> Physiolith | L7: {=IF(ROW($A1)>COUNTIF(COLN,WHERE),"",INDEX(NB.HA,SMALL(IF(COLN=WHERE,ROW(COLN)-1,""),ROW($A1))))} -> 17.55 | M7: {=IF(ROW($A1)>COUNTIF(COLN,WHERE),"",INDEX(QTE.HA,SMALL(IF(COLN=WHERE,ROW(COLN)-1,""),ROW($A1))))} -> 600 | N7: {=IF(ROW($A1)>COUNTIF(COLN,WHERE),"",INDEX(MONTANT,SMALL(IF(COLN=WHERE,ROW(COLN)-1,""),ROW($A1))))} -> 2271.1295
D8: PARCELLE | F8: Labaou Plaine | I8: {=IF(ROW($A2)>COUNTIF(COLN,WHERE),"",INDEX(DATE,SMALL(IF(COLN=WHERE,ROW(COLN)-1,""),ROW($A2))))} -> 41177 | J8: {=IF(ROW($A2)>COUNTIF(COLN,WHERE),"",INDEX(categorie,SMALL(IF(COLN=WHERE,ROW(COLN)-1,""),ROW($A2))))} -> ENGRAIS | K8: {=IF(ROW($A2)>COUNTIF(COLN,WHERE),"",INDEX(PRODUIT,SMALL(IF(COLN=WHERE,ROW(COLN)-1,""),ROW($A2))))} -> Terragral | L8: {=IF(ROW($A2)>COUNTIF(COLN,WHERE),"",INDEX(NB.HA,SMALL(IF(COLN=WHERE,ROW(COLN)-1,""),ROW($A2))))} -> 17.55 | M8: {=IF(ROW($A2)>COUNTIF(COLN,WHERE),"",INDEX(QTE.HA,SMALL(IF(COLN=WHERE,ROW(COLN)-1,""),ROW($A2))))} -> 545 | N8: {=IF(ROW($A2)>COUNTIF(COLN,WHERE),"",INDEX(MONTANT,SMALL(IF(COLN=WHERE,ROW(COLN)-1,""),ROW($A2))))} -> 2104.245
I9: {=IF(ROW($A3)>COUNTIF(COLN,WHERE),"",INDEX(DATE,SMALL(IF(COLN=WHERE,ROW(COLN)-1,""),ROW($A3))))} -> 41205 | J9: {=IF(ROW($A3)>COUNTIF(COLN,WHERE),"",INDEX(categorie,SMALL(IF(COLN=WHERE,ROW(COLN)-1,""),ROW($A3))))} -> DESHERBANT | K9: {=IF(ROW($A3)>COUNTIF(COLN,WHERE),"",INDEX(PRODUIT,SMALL(IF(COLN=WHERE,ROW(COLN)-1,""),ROW($A3))))} -> Glyphosate | L9: {=IF(ROW($A3)>COUNTIF(COLN,WHERE),"",INDEX(NB.HA,SMALL(IF(COLN=WHERE,ROW(COLN)-1,""),ROW($A3))))} -> 17.55 | M9: {=IF(ROW($A3)>COUNTIF(COLN,WHERE),"",INDEX(QTE.HA,SMALL(IF(COLN=WHERE,ROW(COLN)-1,""),ROW($A3))))} -> 1 | N9: {=IF(ROW($A3)>COUNTIF(COLN,WHERE),"",INDEX(MONTANT,SMALL(IF(COLN=WHERE,ROW(COLN)-1,""),ROW($A3))))} -> 86.664571
D10: SURFACE | F10: =VLOOKUP(WHERE,PARCELLAIRE!$D$2:$F$29,3,FALSE) -> 17.55 | I10: {=IF(ROW($A4)>COUNTIF(COLN,WHERE),"",INDEX(DATE,SMALL(IF(COLN=WHERE,ROW(COLN)-1,""),ROW($A4))))} -> 41205 | J10: {=IF(ROW($A4)>COUNTIF(COLN,WHERE),"",INDEX(categorie,SMALL(IF(COLN=WHERE,ROW(COLN)-1,""),ROW($A4))))} -> DIVERS | K10: {=IF(ROW($A4)>COUNTIF(COLN,WHERE),"",INDEX(PRODUIT,SMALL(IF(COLN=WHERE,ROW(COLN)-1,""),ROW($A4))))} -> Heliosol | L10: {=IF(ROW($A4)>COUNTIF(COLN,WHERE),"",INDEX(NB.HA,SMALL(IF(COLN=WHERE,ROW(COLN)-1,""),ROW($A4))))} -> 17.55 | M10: {=IF(ROW($A4)>COUNTIF(COLN,WHERE),"",INDEX(QTE.HA,SMALL(IF(COLN=WHERE,ROW(COLN)-1,""),ROW($A4))))} -> 0.2 | N10: {=IF(ROW($A4)>COUNTIF(COLN,WHERE),"",INDEX(MONTANT,SMALL(IF(COLN=WHERE,ROW(COLN)-1,""),ROW($A4))))} -> 38.6451
D11: CULTURE | F11: =IF(WHEN=UTILISATIONS!A:A,INDEX(PARCELLAIRE!A:D,MATCH(WHERE,PARCELLAIRE!D:D,2),0)) -> #VALUE! | I11: {=IF(ROW($A5)>COUNTIF(COLN,WHERE),"",INDEX(DATE,SMALL(IF(COLN=WHERE,ROW(COLN)-1,""),ROW($A5))))} -> 41206 | J11: {=IF(ROW($A5)>COUNTIF(COLN,WHERE),"",INDEX(categorie,SMALL(IF(COLN=WHERE,ROW(COLN)-1,""),ROW($A5))))} -> SEMENCES | K11: {=IF(ROW($A5)>COUNTIF(COLN,WHERE),"",INDEX(PRODUIT,SMALL(IF(COLN=WHERE,ROW(COLN)-1,""),ROW($A5))))} -> Soleiho Certifiées | L11: {=IF(ROW($A5)>COUNTIF(COLN,WHERE),"",INDEX(NB.HA,SMALL(IF(COLN=WHERE,ROW(COLN)-1,""),ROW($A5))))} -> 17.55 | M11: {=IF(ROW($A5)>COUNTIF(COLN,WHERE),"",INDEX(QTE.HA,SMALL(IF(COLN=WHERE,ROW(COLN)-1,""),ROW($A5))))} -> 153 | N11: {=IF(ROW($A5)>COUNTIF(COLN,WHERE),"",INDEX(MONTANT,SMALL(IF(COLN=WHERE,ROW(COLN)-1,""),ROW($A5))))} -> 1932.2638
D12: VARIETE | F12: =IF(WHEN=UTILISATIONS!A:A,INDEX(PARCELLAIRE!A:D,MATCH(WHERE,PARCELLAIRE!D:D,2),0)) -> #VALUE! | I12: {=IF(ROW($A6)>COUNTIF(COLN,WHERE),"",INDEX(DATE,SMALL(IF(COLN=WHERE,ROW(COLN)-1,""),ROW($A6))))} -> 41262 | J12: {=IF(ROW($A6)>COUNTIF(COLN,WHERE),"",INDEX(categorie,SMALL(IF(COLN=WHERE,ROW(COLN)-1,""),ROW($A6))))} -> DESHERBANT | K12: {=IF(ROW($A6)>COUNTIF(COLN,WHERE),"",INDEX(PRODUIT,SMALL(IF(COLN=WHERE,ROW(COLN)-1,""),ROW($A6))))} -> Athlet | L12: {=IF(ROW($A6)>COUNTIF(COLN,WHERE),"",INDEX(NB.HA,SMALL(IF(COLN=WHERE,ROW(COLN)-1,""),ROW($A6))))} -> 17.55 | M12: {=IF(ROW($A6)>COUNTIF(COLN,WHERE),"",INDEX(QTE.HA,SMALL(IF(COLN=WHERE,ROW(COLN)-1,""),ROW($A6))))} -> 3 | N12: {=IF(ROW($A6)>COUNTIF(COLN,WHERE),"",INDEX(MONTANT,SMALL(IF(COLN=WHERE,ROW(COLN)-1,""),ROW($A6))))} -> 723.9375
I13: {=IF(ROW($A7)>COUNTIF(COLN,WHERE),"",INDEX(DATE,SMALL(IF(COLN=WHERE,ROW(COLN)-1,""),ROW($A7))))} -> 41324 | J13: {=IF(ROW($A7)>COUNTIF(COLN,WHERE),"",INDEX(categorie,SMALL(IF(COLN=WHERE,ROW(COLN)-1,""),ROW($A7))))} -> ENGRAIS | K13: {=IF(ROW($A7)>COUNTIF(COLN,WHERE),"",INDEX(PRODUIT,SMALL(IF(COLN=WHERE,ROW(COLN)-1,""),ROW($A7))))} -> Urée | L13: {=IF(ROW($A7)>COUNTIF(COLN,WHERE),"",INDEX(NB.HA,SMALL(IF(COLN=WHERE,ROW(COLN)-1,""),ROW($A7))))} -> 17.55 | M13: {=IF(ROW($A7)>COUNTIF(COLN,WHERE),"",INDEX(QTE.HA,SMALL(IF(COLN=WHERE,ROW(COLN)-1,""),ROW($A7))))} -> 150 | N13: {=IF(ROW($A7)>COUNTIF(COLN,WHERE),"",INDEX(MONTANT,SMALL(IF(COLN=WHERE,ROW(COLN)-1,""),ROW($A7))))} -> 1102.5877
D14: TOTAL UTILISATIONS | F14: =SUM(F15:F20) -> 13066.795 | I14: {=IF(ROW($A8)>COUNTIF(COLN,WHERE),"",INDEX(DATE,SMALL(IF(COLN=WHERE,ROW(COLN)-1,""),ROW($A8))))} -> 41340 | J14: {=IF(ROW($A8)>COUNTIF(COLN,WHERE),"",INDEX(categorie,SMALL(IF(COLN=WHERE,ROW(COLN)-1,""),ROW($A8))))} -> DIVERS | K14: {=IF(ROW($A8)>COUNTIF(COLN,WHERE),"",INDEX(PRODUIT,SMALL(IF(COLN=WHERE,ROW(COLN)-1,""),ROW($A8))))} -> Contreverse | L14: {=IF(ROW($A8)>COUNTIF(COLN,WHERE),"",INDEX(NB.HA,SMALL(IF(COLN=WHERE,ROW(COLN)-1,""),ROW($A8))))} -> 17.55 | M14: {=IF(ROW($A8)>COUNTIF(COLN,WHERE),"",INDEX(QTE.HA,SMALL(IF(COLN=WHERE,ROW(COLN)-1,""),ROW($A8))))} -> 3 | N14: {=IF(ROW($A8)>COUNTIF(COLN,WHERE),"",INDEX(MONTANT,SMALL(IF(COLN=WHERE,ROW(COLN)-1,""),ROW($A8))))} -> 87.399
E15: SEMENCES | F15: =SUMIF($J$7:$J$37,E15,$N$7:$N$37) -> 1932.2638 | I15: {=IF(ROW($A9)>COUNTIF(COLN,WHERE),"",INDEX(DATE,SMALL(IF(COLN=WHERE,ROW(COLN)-1,""),ROW($A9))))} -> 41340 | J15: {=IF(ROW($A9)>COUNTIF(COLN,WHERE),"",INDEX(categorie,SMALL(IF(COLN=WHERE,ROW(COLN)-1,""),ROW($A9))))} -> DIVERS | K15: {=IF(ROW($A9)>COUNTIF(COLN,WHERE),"",INDEX(PRODUIT,SMALL(IF(COLN=WHERE,ROW(COLN)-1,""),ROW($A9))))} -> Effecto | L15: {=IF(ROW($A9)>COUNTIF(COLN,WHERE),"",INDEX(NB.HA,SMALL(IF(COLN=WHERE,ROW(COLN)-1,""),ROW($A9))))} -> 17.55 | M15: {=IF(ROW($A9)>COUNTIF(COLN,WHERE),"",INDEX(QTE.HA,SMALL(IF(COLN=WHERE,ROW(COLN)-1,""),ROW($A9))))} -> 3 | N15: {=IF(ROW($A9)>COUNTIF(COLN,WHERE),"",INDEX(MONTANT,SMALL(IF(COLN=WHERE,ROW(COLN)-1,""),ROW($A9))))} -> 152.685
E16: ENGRAIS | F16: =SUMIF($J$7:$J$37,E16,$N$7:$N$37) -> 7756.6435 | I16: {=IF(ROW($A10)>COUNTIF(COLN,WHERE),"",INDEX(DATE,SMALL(IF(COLN=WHERE,ROW(COLN)-1,""),ROW($A10))))} -> 41347 | J16: {=IF(ROW($A10)>COUNTIF(COLN,WHERE),"",INDEX(categorie,SMALL(IF(COLN=WHERE,ROW(COLN)-1,""),ROW($A10))))} -> ENGRAIS | K16: {=IF(ROW($A10)>COUNTIF(COLN,WHERE),"",INDEX(PRODUIT,SMALL(IF(COLN=WHERE,ROW(COLN)-1,""),ROW($A10))))} -> Urée | L16: {=IF(ROW($A10)>COUNTIF(COLN,WHERE),"",INDEX(NB.HA,SMALL(IF(COLN=WHERE,ROW(COLN)-1,""),ROW($A10))))} -> 17.55 | M16: {=IF(ROW($A10)>COUNTIF(COLN,WHERE),"",INDEX(QTE.HA,SMALL(IF(COLN=WHERE,ROW(COLN)-1,""),ROW($A10))))} -> 180 | N16: {=IF(ROW($A10)>COUNTIF(COLN,WHERE),"",INDEX(MONTANT,SMALL(IF(COLN=WHERE,ROW(COLN)-1,""),ROW($A10))))} -> 1323.1052
E17: DESHERBANT | F17: =SUMIF($J$7:$J$37,E17,$N$7:$N$37) -> 2021.3821 | I17: {=IF(ROW($A11)>COUNTIF(COLN,WHERE),"",INDEX(DATE,SMALL(IF(COLN=WHERE,ROW(COLN)-1,""),ROW($A11))))} -> 41354 | J17: {=IF(ROW($A11)>COUNTIF(COLN,WHERE),"",INDEX(categorie,SMALL(IF(COLN=WHERE,ROW(COLN)-1,""),ROW($A11))))} -> DESHERBANT | K17: {=IF(ROW($A11)>COUNTIF(COLN,WHERE),"",INDEX(PRODUIT,SMALL(IF(COLN=WHERE,ROW(COLN)-1,""),ROW($A11))))} -> Actual Pratic | L17: {=IF(ROW($A11)>COUNTIF(COLN,WHERE),"",INDEX(NB.HA,SMALL(IF(COLN=WHERE,ROW(COLN)-1,""),ROW($A11))))} -> 17.55 | M17: {=IF(ROW($A11)>COUNTIF(COLN,WHERE),"",INDEX(QTE.HA,SMALL(IF(COLN=WHERE,ROW(COLN)-1,""),ROW($A11))))} -> 0.9 | N17: {=IF(ROW($A11)>COUNTIF(COLN,WHERE),"",INDEX(MONTANT,SMALL(IF(COLN=WHERE,ROW(COLN)-1,""),ROW($A11))))} -> 489.645
E18: FONGICIDES | F18: =SUMIF($J$7:$J$37,E18,$N$7:$N$37) -> 1356.5056 | I18: {=IF(ROW($A12)>COUNTIF(COLN,WHERE),"",INDEX(DATE,SMALL(IF(COLN=WHERE,ROW(COLN)-1,""),ROW($A12))))} -> 41358 | J18: {=IF(ROW($A12)>COUNTIF(COLN,WHERE),"",INDEX(categorie,SMALL(IF(COLN=WHERE,ROW(COLN)-1,""),ROW($A12))))} -> DESHERBANT | K18: {=IF(ROW($A12)>COUNTIF(COLN,WHERE),"",INDEX(PRODUIT,SMALL(IF(COLN=WHERE,ROW(COLN)-1,""),ROW($A12))))} -> Primus | L18: {=IF(ROW($A12)>COUNTIF(COLN,WHERE),"",INDEX(NB.HA,SMALL(IF(COLN=WHERE,ROW(COLN)-1,""),ROW($A12))))} -> 17.55 | M18: {=IF(ROW($A12)>COUNTIF(COLN,WHERE),"",INDEX(QTE.HA,SMALL(IF(COLN=WHERE,ROW(COLN)-1,""),ROW($A12))))} -> 0.057 | N18: {=IF(ROW($A12)>COUNTIF(COLN,WHERE),"",INDEX(MONTANT,SMALL(IF(COLN=WHERE,ROW(COLN)-1,""),ROW($A12))))} -> 320.112
E19: INSECTICIDE | F19: =SUMIF($J$7:$J$37,E19,$N$7:$N$37) -> 0 | I19: {=IF(ROW($A13)>COUNTIF(COLN,WHERE),"",INDEX(DATE,SMALL(IF(COLN=WHERE,ROW(COLN)-1,""),ROW($A13))))} -> 41358 | J19: {=IF(ROW($A13)>COUNTIF(COLN,WHERE),"",INDEX(categorie,SMALL(IF(COLN=WHERE,ROW(COLN)-1,""),ROW($A13))))} -> DESHERBANT | K19: {=IF(ROW($A13)>COUNTIF(COLN,WHERE),"",INDEX(PRODUIT,SMALL(IF(COLN=WHERE,ROW(COLN)-1,""),ROW($A13))))} -> Pragma | L19: {=IF(ROW($A13)>COUNTIF(COLN,WHERE),"",INDEX(NB.HA,SMALL(IF(COLN=WHERE,ROW(COLN)-1,""),ROW($A13))))} -> 17.55 | M19: {=IF(ROW($A13)>COUNTIF(COLN,WHERE),"",INDEX(QTE.HA,SMALL(IF(COLN=WHERE,ROW(COLN)-1,""),ROW($A13))))} -> 68.38 | N19: {=IF(ROW($A13)>COUNTIF(COLN,WHERE),"",INDEX(MONTANT,SMALL(IF(COLN=WHERE,ROW(COLN)-1,""),ROW($A13))))} -> 401.02306
E20: TRAVAIL DU SOL | F20: =SUMIF($J$7:$J$37,E20,$N$7:$N$37) -> 0 | I20: {=IF(ROW($A14)>COUNTIF(COLN,WHERE),"",INDEX(DATE,SMALL(IF(COLN=WHERE,ROW(COLN)-1,""),ROW($A14))))} -> 41380 | J20: {=IF(ROW($A14)>COUNTIF(COLN,WHERE),"",INDEX(categorie,SMALL(IF(COLN=WHERE,ROW(COLN)-1,""),ROW($A14))))} -> FONGICIDES | K20: {=IF(ROW($A14)>COUNTIF(COLN,WHERE),"",INDEX(PRODUIT,SMALL(IF(COLN=WHERE,ROW(COLN)-1,""),ROW($A14))))} -> Pixel | L20: {=IF(ROW($A14)>COUNTIF(COLN,WHERE),"",INDEX(NB.HA,SMALL(IF(COLN=WHERE,ROW(COLN)-1,""),ROW($A14))))} -> 17.55 | M20: {=IF(ROW($A14)>COUNTIF(COLN,WHERE),"",INDEX(QTE.HA,SMALL(IF(COLN=WHERE,ROW(COLN)-1,""),ROW($A14))))} -> 1.3 | N20: {=IF(ROW($A14)>COUNTIF(COLN,WHERE),"",INDEX(MONTANT,SMALL(IF(COLN=WHERE,ROW(COLN)-1,""),ROW($A14))))} -> 328.536
D21: COÛT/HA | F21: =F14/F10 -> 744.54673 | I21: {=IF(ROW($A15)>COUNTIF(COLN,WHERE),"",INDEX(DATE,SMALL(IF(COLN=WHERE,ROW(COLN)-1,""),ROW($A15))))} -> 41380 | J21: {=IF(ROW($A15)>COUNTIF(COLN,WHERE),"",INDEX(categorie,SMALL(IF(COLN=WHERE,ROW(COLN)-1,""),ROW($A15))))} -> FONGICIDES | K21: {=IF(ROW($A15)>COUNTIF(COLN,WHERE),"",INDEX(PRODUIT,SMALL(IF(COLN=WHERE,ROW(COLN)-1,""),ROW($A15))))} -> Mirage | L21: {=IF(ROW($A15)>COUNTIF(COLN,WHERE),"",INDEX(NB.HA,SMALL(IF(COLN=WHERE,ROW(COLN)-1,""),ROW($A15))))} -> 17.55 | M21: {=IF(ROW($A15)>COUNTIF(COLN,WHERE),"",INDEX(QTE.HA,SMALL(IF(COLN=WHERE,ROW(COLN)-1,""),ROW($A15))))} -> 0.7 | N21: {=IF(ROW($A15)>COUNTIF(COLN,WHERE),"",INDEX(MONTANT,SMALL(IF(COLN=WHERE,ROW(COLN)-1,""),ROW($A15))))} -> 110.565
I22: {=IF(ROW($A16)>COUNTIF(COLN,WHERE),"",INDEX(DATE,SMALL(IF(COLN=WHERE,ROW(COLN)-1,""),ROW($A16))))} -> 41380 | J22: {=IF(ROW($A16)>COUNTIF(COLN,WHERE),"",INDEX(categorie,SMALL(IF(COLN=WHERE,ROW(COLN)-1,""),ROW($A16))))} -> DIVERS | K22: {=IF(ROW($A16)>COUNTIF(COLN,WHERE),"",INDEX(PRODUIT,SMALL(IF(COLN=WHERE,ROW(COLN)-1,""),ROW($A16))))} -> Heliosol | L22: {=IF(ROW($A16)>COUNTIF(COLN,WHERE),"",INDEX(NB.HA,SMALL(IF(COLN=WHERE,ROW(COLN)-1,""),ROW($A16))))} -> 17.55 | M22: {=IF(ROW($A16)>COUNTIF(COLN,WHERE),"",INDEX(QTE.HA,SMALL(IF(COLN=WHERE,ROW(COLN)-1,""),ROW($A16))))} -> 0.2 | N22: {=IF(ROW($A16)>COUNTIF(COLN,WHERE),"",INDEX(MONTANT,SMALL(IF(COLN=WHERE,ROW(COLN)-1,""),ROW($A16))))} -> 38.6451
I23: {=IF(ROW($A17)>COUNTIF(COLN,WHERE),"",INDEX(DATE,SMALL(IF(COLN=WHERE,ROW(COLN)-1,""),ROW($A17))))} -> 41389 | J23: {=IF(ROW($A17)>COUNTIF(COLN,WHERE),"",INDEX(categorie,SMALL(IF(COLN=WHERE,ROW(COLN)-1,""),ROW($A17))))} -> ENGRAIS | K23: {=IF(ROW($A17)>COUNTIF(COLN,WHERE),"",INDEX(PRODUIT,SMALL(IF(COLN=WHERE,ROW(COLN)-1,""),ROW($A17))))} -> Urée | L23: {=IF(ROW($A17)>COUNTIF(COLN,WHERE),"",INDEX(NB.HA,SMALL(IF(COLN=WHERE,ROW(COLN)-1,""),ROW($A17))))} -> 17.55 | M23: {=IF(ROW($A17)>COUNTIF(COLN,WHERE),"",INDEX(QTE.HA,SMALL(IF(COLN=WHERE,ROW(COLN)-1,""),ROW($A17))))} -> 130 | N23: {=IF(ROW($A17)>COUNTIF(COLN,WHERE),"",INDEX(MONTANT,SMALL(IF(COLN=WHERE,ROW(COLN)-1,""),ROW($A17))))} -> 955.57601
I24: {=IF(ROW($A18)>COUNTIF(COLN,WHERE),"",INDEX(DATE,SMALL(IF(COLN=WHERE,ROW(COLN)-1,""),ROW($A18))))} -> 41396 | J24: {=IF(ROW($A18)>COUNTIF(COLN,WHERE),"",INDEX(categorie,SMALL(IF(COLN=WHERE,ROW(COLN)-1,""),ROW($A18))))} -> FONGICIDES | K24: {=IF(ROW($A18)>COUNTIF(COLN,WHERE),"",INDEX(PRODUIT,SMALL(IF(COLN=WHERE,ROW(COLN)-1,""),ROW($A18))))} -> Acanto | L24: {=IF(ROW($A18)>COUNTIF(COLN,WHERE),"",INDEX(NB.HA,SMALL(IF(COLN=WHERE,ROW(COLN)-1,""),ROW($A18))))} -> 17.55 | M24: {=IF(ROW($A18)>COUNTIF(COLN,WHERE),"",INDEX(QTE.HA,SMALL(IF(COLN=WHERE,ROW(COLN)-1,""),ROW($A18))))} -> 0.3 | N24: {=IF(ROW($A18)>COUNTIF(COLN,WHERE),"",INDEX(MONTANT,SMALL(IF(COLN=WHERE,ROW(COLN)-1,""),ROW($A18))))} -> 194.805
I25: {=IF(ROW($A19)>COUNTIF(COLN,WHERE),"",INDEX(DATE,SMALL(IF(COLN=WHERE,ROW(COLN)-1,""),ROW($A19))))} -> 41396 | J25: {=IF(ROW($A19)>COUNTIF(COLN,WHERE),"",INDEX(categorie,SMALL(IF(COLN=WHERE,ROW(COLN)-1,""),ROW($A19))))} -> FONGICIDES | K25: {=IF(ROW($A19)>COUNTIF(COLN,WHERE),"",INDEX(PRODUIT,SMALL(IF(COLN=WHERE,ROW(COLN)-1,""),ROW($A19))))} -> Opus New | L25: {=IF(ROW($A19)>COUNTIF(COLN,WHERE),"",INDEX(NB.HA,SMALL(IF(COLN=WHERE,ROW(COLN)-1,""),ROW($A19))))} -> 17.55 | M25: {=IF(ROW($A19)>COUNTIF(COLN,WHERE),"",INDEX(QTE.HA,SMALL(IF(COLN=WHERE,ROW(COLN)-1,""),ROW($A19))))} -> 0.6 | N25: {=IF(ROW($A19)>COUNTIF(COLN,WHERE),"",INDEX(MONTANT,SMALL(IF(COLN=WHERE,ROW(COLN)-1,""),ROW($A19))))} -> 325.4823
I26: {=IF(ROW($A20)>COUNTIF(COLN,WHERE),"",INDEX(DATE,SMALL(IF(COLN=WHERE,ROW(COLN)-1,""),ROW($A20))))} -> 41400 | J26: {=IF(ROW($A20)>COUNTIF(COLN,WHERE),"",INDEX(categorie,SMALL(IF(COLN=WHERE,ROW(COLN)-1,""),ROW($A20))))} -> DIVERS | K26: {=IF(ROW($A20)>COUNTIF(COLN,WHERE),"",INDEX(PRODUIT,SMALL(IF(COLN=WHERE,ROW(COLN)-1,""),ROW($A20))))} -> Fertilider | L26: {=IF(ROW($A20)>COUNTIF(COLN,WHERE),"",INDEX(NB.HA,SMALL(IF(COLN=WHERE,ROW(COLN)-1,""),ROW($A20))))} -> 17.55 | M26: {=IF(ROW($A20)>COUNTIF(COLN,WHERE),"",INDEX(QTE.HA,SMALL(IF(COLN=WHERE,ROW(COLN)-1,""),ROW($A20))))} -> 3 | N26: {=IF(ROW($A20)>COUNTIF(COLN,WHERE),"",INDEX(MONTANT,SMALL(IF(COLN=WHERE,ROW(COLN)-1,""),ROW($A20))))} -> 647.595
I27: {=IF(ROW($A21)>COUNTIF(COLN,WHERE),"",INDEX(DATE,SMALL(IF(COLN=WHERE,ROW(COLN)-1,""),ROW($A21))))} -> 41421 | J27: {=IF(ROW($A21)>COUNTIF(COLN,WHERE),"",INDEX(categorie,SMALL(IF(COLN=WHERE,ROW(COLN)-1,""),ROW($A21))))} -> FONGICIDES | K27: {=IF(ROW($A21)>COUNTIF(COLN,WHERE),"",INDEX(PRODUIT,SMALL(IF(COLN=WHERE,ROW(COLN)-1,""),ROW($A21))))} -> Prosaro | L27: {=IF(ROW($A21)>COUNTIF(COLN,WHERE),"",INDEX(NB.HA,SMALL(IF(COLN=WHERE,ROW(COLN)-1,""),ROW($A21))))} -> 17.55 | M27: {=IF(ROW($A21)>COUNTIF(COLN,WHERE),"",INDEX(QTE.HA,SMALL(IF(COLN=WHERE,ROW(COLN)-1,""),ROW($A21))))} -> 0.5704 | N27: {=IF(ROW($A21)>COUNTIF(COLN,WHERE),"",INDEX(MONTANT,SMALL(IF(COLN=WHERE,ROW(COLN)-1,""),ROW($A21))))} -> 397.11733
I28: {=IF(ROW($A22)>COUNTIF(COLN,WHERE),"",INDEX(DATE,SMALL(IF(COLN=WHERE,ROW(COLN)-1,""),ROW($A22))))} -> 41479 | J28: {=IF(ROW($A22)>COUNTIF(COLN,WHERE),"",INDEX(categorie,SMALL(IF(COLN=WHERE,ROW(COLN)-1,""),ROW($A22))))} -> RECOLTE | K28: {=IF(ROW($A22)>COUNTIF(COLN,WHERE),"",INDEX(PRODUIT,SMALL(IF(COLN=WHERE,ROW(COLN)-1,""),ROW($A22))))} -> Récolte | L28: {=IF(ROW($A22)>COUNTIF(COLN,WHERE),"",INDEX(NB.HA,SMALL(IF(COLN=WHERE,ROW(COLN)-1,""),ROW($A22))))} -> 17.55 | M28: {=IF(ROW($A22)>COUNTIF(COLN,WHERE),"",INDEX(QTE.HA,SMALL(IF(COLN=WHERE,ROW(COLN)-1,""),ROW($A22))))} -> 74.757835 | N28: {=IF(ROW($A22)>COUNTIF(COLN,WHERE),"",INDEX(MONTANT,SMALL(IF(COLN=WHERE,ROW(COLN)-1,""),ROW($A22))))} -> 1312
I29: {=IF(ROW($A23)>COUNTIF(COLN,WHERE),"",INDEX(DATE,SMALL(IF(COLN=WHERE,ROW(COLN)-1,""),ROW($A23))))} | J29: {=IF(ROW($A23)>COUNTIF(COLN,WHERE),"",INDEX(categorie,SMALL(IF(COLN=WHERE,ROW(COLN)-1,""),ROW($A23))))} | K29: {=IF(ROW($A23)>COUNTIF(COLN,WHERE),"",INDEX(PRODUIT,SMALL(IF(COLN=WHERE,ROW(COLN)-1,""),ROW($A23))))} | L29: {=IF(ROW($A23)>COUNTIF(COLN,WHERE),"",INDEX(NB.HA,SMALL(IF(COLN=WHERE,ROW(COLN)-1,""),ROW($A23))))} | M29: {=IF(ROW($A23)>COUNTIF(COLN,WHERE),"",INDEX(QTE.HA,SMALL(IF(COLN=WHERE,ROW(COLN)-1,""),ROW($A23))))} | N29: {=IF(ROW($A23)>COUNTIF(COLN,WHERE),"",INDEX(MONTANT,SMALL(IF(COLN=WHERE,ROW(COLN)-1,""),ROW($A23))))}
I30: {=IF(ROW($A24)>COUNTIF(COLN,WHERE),"",INDEX(DATE,SMALL(IF(COLN=WHERE,ROW(COLN)-1,""),ROW($A24))))} | J30: {=IF(ROW($A24)>COUNTIF(COLN,WHERE),"",INDEX(categorie,SMALL(IF(COLN=WHERE,ROW(COLN)-1,""),ROW($A24))))} | K30: {=IF(ROW($A24)>COUNTIF(COLN,WHERE),"",INDEX(PRODUIT,SMALL(IF(COLN=WHERE,ROW(COLN)-1,""),ROW($A24))))} | L30: {=IF(ROW($A24)>COUNTIF(COLN,WHERE),"",INDEX(NB.HA,SMALL(IF(COLN=WHERE,ROW(COLN)-1,""),ROW($A24))))} | M30: {=IF(ROW($A24)>COUNTIF(COLN,WHERE),"",INDEX(QTE.HA,SMALL(IF(COLN=WHERE,ROW(COLN)-1,""),ROW($A24))))} | N30: {=IF(ROW($A24)>COUNTIF(COLN,WHERE),"",INDEX(MONTANT,SMALL(IF(COLN=WHERE,ROW(COLN)-1,""),ROW($A24))))}
E31: RENDEMENT (q/ha) | F31: 75 | I31: {=IF(ROW($A25)>COUNTIF(COLN,WHERE),"",INDEX(DATE,SMALL(IF(COLN=WHERE,ROW(COLN)-1,""),ROW($A25))))} | J31: {=IF(ROW($A25)>COUNTIF(COLN,WHERE),"",INDEX(categorie,SMALL(IF(COLN=WHERE,ROW(COLN)-1,""),ROW($A25))))} | K31: {=IF(ROW($A25)>COUNTIF(COLN,WHERE),"",INDEX(PRODUIT,SMALL(IF(COLN=WHERE,ROW(COLN)-1,""),ROW($A25))))} | L31: {=IF(ROW($A25)>COUNTIF(COLN,WHERE),"",INDEX(NB.HA,SMALL(IF(COLN=WHERE,ROW(COLN)-1,""),ROW($A25))))} | M31: {=IF(ROW($A25)>COUNTIF(COLN,WHERE),"",INDEX(QTE.HA,SMALL(IF(COLN=WHERE,ROW(COLN)-1,""),ROW($A25))))} | N31: {=IF(ROW($A25)>COUNTIF(COLN,WHERE),"",INDEX(MONTANT,SMALL(IF(COLN=WHERE,ROW(COLN)-1,""),ROW($A25))))}
E32: VENTES (€/T) | F32: 185 | I32: {=IF(ROW($A26)>COUNTIF(COLN,WHERE),"",INDEX(DATE,SMALL(IF(COLN=WHERE,ROW(COLN)-1,""),ROW($A26))))} | J32: {=IF(ROW($A26)>COUNTIF(COLN,WHERE),"",INDEX(categorie,SMALL(IF(COLN=WHERE,ROW(COLN)-1,""),ROW($A26))))} | K32: {=IF(ROW($A26)>COUNTIF(COLN,WHERE),"",INDEX(PRODUIT,SMALL(IF(COLN=WHERE,ROW(COLN)-1,""),ROW($A26))))} | L32: {=IF(ROW($A26)>COUNTIF(COLN,WHERE),"",INDEX(NB.HA,SMALL(IF(COLN=WHERE,ROW(COLN)-1,""),ROW($A26))))} | M32: {=IF(ROW($A26)>COUNTIF(COLN,WHERE),"",INDEX(QTE.HA,SMALL(IF(COLN=WHERE,ROW(COLN)-1,""),ROW($A26))))} | N32: {=IF(ROW($A26)>COUNTIF(COLN,WHERE),"",INDEX(MONTANT,SMALL(IF(COLN=WHERE,ROW(COLN)-1,""),ROW($A26))))}
E33: AIDES PAC (€/ha) | I33: {=IF(ROW($A27)>COUNTIF(COLN,WHERE),"",INDEX(DATE,SMALL(IF(COLN=WHERE,ROW(COLN)-1,""),ROW($A27))))} | J33: {=IF(ROW($A27)>COUNTIF(COLN,WHERE),"",INDEX(categorie,SMALL(IF(COLN=WHERE,ROW(COLN)-1,""),ROW($A27))))} | K33: {=IF(ROW($A27)>COUNTIF(COLN,WHERE),"",INDEX(PRODUIT,SMALL(IF(COLN=WHERE,ROW(COLN)-1,""),ROW($A27))))} | L33: {=IF(ROW($A27)>COUNTIF(COLN,WHERE),"",INDEX(NB.HA,SMALL(IF(COLN=WHERE,ROW(COLN)-1,""),ROW($A27))))} | M33: {=IF(ROW($A27)>COUNTIF(COLN,WHERE),"",INDEX(QTE.HA,SMALL(IF(COLN=WHERE,ROW(COLN)-1,""),ROW($A27))))} | N33: {=IF(ROW($A27)>COUNTIF(COLN,WHERE),"",INDEX(MONTANT,SMALL(IF(COLN=WHERE,ROW(COLN)-1,""),ROW($A27))))}
D34: PRODUIT (€/ha) | F34: =((((F31*F10)/10)*F32)+(F33*F10))/F10 -> 1387.5 | I34: {=IF(ROW($A28)>COUNTIF(COLN,WHERE),"",INDEX(DATE,SMALL(IF(COLN=WHERE,ROW(COLN)-1,""),ROW($A28))))} | J34: {=IF(ROW($A28)>COUNTIF(COLN,WHERE),"",INDEX(categorie,SMALL(IF(COLN=WHERE,ROW(COLN)-1,""),ROW($A28))))} | K34: {=IF(ROW($A28)>COUNTIF(COLN,WHERE),"",INDEX(PRODUIT,SMALL(IF(COLN=WHERE,ROW(COLN)-1,""),ROW($A28))))} | L34: {=IF(ROW($A28)>COUNTIF(COLN,WHERE),"",INDEX(NB.HA,SMALL(IF(COLN=WHERE,ROW(COLN)-1,""),ROW($A28))))} | M34: {=IF(ROW($A28)>COUNTIF(COLN,WHERE),"",INDEX(QTE.HA,SMALL(IF(COLN=WHERE,ROW(COLN)-1,""),ROW($A28))))} | N34: {=IF(ROW($A28)>COUNTIF(COLN,WHERE),"",INDEX(MONTANT,SMALL(IF(COLN=WHERE,ROW(COLN)-1,""),ROW($A28))))}
I35: {=IF(ROW($A29)>COUNTIF(COLN,WHERE),"",INDEX(DATE,SMALL(IF(COLN=WHERE,ROW(COLN)-1,""),ROW($A29))))} | J35: {=IF(ROW($A29)>COUNTIF(COLN,WHERE),"",INDEX(categorie,SMALL(IF(COLN=WHERE,ROW(COLN)-1,""),ROW($A29))))} | K35: {=IF(ROW($A29)>COUNTIF(COLN,WHERE),"",INDEX(PRODUIT,SMALL(IF(COLN=WHERE,ROW(COLN)-1,""),ROW($A29))))} | L35: {=IF(ROW($A29)>COUNTIF(COLN,WHERE),"",INDEX(NB.HA,SMALL(IF(COLN=WHERE,ROW(COLN)-1,""),ROW($A29))))} | M35: {=IF(ROW($A29)>COUNTIF(COLN,WHERE),"",INDEX(QTE.HA,SMALL(IF(COLN=WHERE,ROW(COLN)-1,""),ROW($A29))))} | N35: {=IF(ROW($A29)>COUNTIF(COLN,WHERE),"",INDEX(MONTANT,SMALL(IF(COLN=WHERE,ROW(COLN)-1,""),ROW($A29))))}
D36: MARGE BRUTE | F36: =(F34*F10)-F14 -> 11283.83 | I36: {=IF(ROW($A30)>COUNTIF(COLN,WHERE),"",INDEX(DATE,SMALL(IF(COLN=WHERE,ROW(COLN)-1,""),ROW($A30))))} | J36: {=IF(ROW($A30)>COUNTIF(COLN,WHERE),"",INDEX(categorie,SMALL(IF(COLN=WHERE,ROW(COLN)-1,""),ROW($A30))))} | K36: {=IF(ROW($A30)>COUNTIF(COLN,WHERE),"",INDEX(PRODUIT,SMALL(IF(COLN=WHERE,ROW(COLN)-1,""),ROW($A30))))} | L36: {=IF(ROW($A30)>COUNTIF(COLN,WHERE),"",INDEX(NB.HA,SMALL(IF(COLN=WHERE,ROW(COLN)-1,""),ROW($A30))))} | M36: {=IF(ROW($A30)>COUNTIF(COLN,WHERE),"",INDEX(QTE.HA,SMALL(IF(COLN=WHERE,ROW(COLN)-1,""),ROW($A30))))} | N36: {=IF(ROW($A30)>COUNTIF(COLN,WHERE),"",INDEX(MONTANT,SMALL(IF(COLN=WHERE,ROW(COLN)-1,""),ROW($A30))))}
I37: {=IF(ROW($A31)>COUNTIF(COLN,WHERE),"",INDEX(DATE,SMALL(IF(COLN=WHERE,ROW(COLN)-1,""),ROW($A31))))} | J37: {=IF(ROW($A31)>COUNTIF(COLN,WHERE),"",INDEX(categorie,SMALL(IF(COLN=WHERE,ROW(COLN)-1,""),ROW($A31))))} | K37: {=IF(ROW($A31)>COUNTIF(COLN,WHERE),"",INDEX(PRODUIT,SMALL(IF(COLN=WHERE,ROW(COLN)-1,""),ROW($A31))))} | L37: {=IF(ROW($A31)>COUNTIF(COLN,WHERE),"",INDEX(NB.HA,SMALL(IF(COLN=WHERE,ROW(COLN)-1,""),ROW($A31))))} | M37: {=IF(ROW($A31)>COUNTIF(COLN,WHERE),"",INDEX(QTE.HA,SMALL(IF(COLN=WHERE,ROW(COLN)-1,""),ROW($A31))))} | N37: {=IF(ROW($A31)>COUNTIF(COLN,WHERE),"",INDEX(MONTANT,SMALL(IF(COLN=WHERE,ROW(COLN)-1,""),ROW($A31))))}

Sheet UTILISATIONS
A1: CAMPAGNE | B1: CULTURE | C1: PARCELLE | D1: DATE | E1: PRODUIT | F1: Unit | G1: CATEGORIE | H1: QTE / HA | I1: NB / HA | J1: QTE TOTAL | K1: PRIX UNITAIRE | L1: MONTANT | M1: DOSE MAX
A2: 2013 | B2: =INDEX(PARCELLAIRE!$B$2:$B$29,MATCH(UTILISATIONS!C2,PARCELLAIRE!$D$2:$D$29,0)) -> TOURNESOL | C2: Andres | D2: 41108 | E2: Pac 22 | F2: L | G2: =VLOOKUP(E2,ACHATS!$C:$D,2,0) -> ENGRAIS | H2: 200 | I2: =VLOOKUP(C2,PARCELLAIRE!$D$2:$F$29,3,0) -> 5.17 | J2: =I2*H2 -> 1034 | K2: =VLOOKUP(E2,'COUT MOYEN'!$B$1:$E$71,4,0) -> 0.50298667 | L2: =K2*J2 -> 520.08821 | N2: =IF(WHEN=A2,C2,1) -> Andres | O2: =SUMPRODUCT(--(PARCELLAIRE!H$2:H$58=UTILISATIONS!N2)) -> 0
A3: 2013 | B3: =INDEX(PARCELLAIRE!$B$2:$B$29,MATCH(UTILISATIONS!C3,PARCELLAIRE!$D$2:$D$29,0)) -> TOURNESOL | C3: Bousquet Pourtanel | D3: 41108 | E3: Pac 22 | F3: L | G3: =VLOOKUP(E3,ACHATS!$C:$D,2,0) -> ENGRAIS | H3: 200 | I3: =VLOOKUP(C3,PARCELLAIRE!$D$2:$F$29,3,0) -> 2.33 | J3: =I3*H3 -> 466 | K3: =VLOOKUP(E3,'COUT MOYEN'!$B$1:$E$71,4,0) -> 0.50298667 | L3: =K3*J3 -> 234.39179 | N3: =IF(WHEN=A3,C3,1) -> Bousquet Pourtanel | O3: =SUMPRODUCT(--(PARCELLAIRE!H$2:H$58=UTILISATIONS!N3)) -> 0
A4: 2013 | B4: =INDEX(PARCELLAIRE!$B$2:$B$29,MATCH(UTILISATIONS!C4,PARCELLAIRE!$D$2:$D$29,0)) -> TOURNESOL | C4: Moulin Barthes | D4: 41108 | E4: Pac 22 | F4: L | G4: =VLOOKUP(E4,ACHATS!$C:$D,2,0) -> ENGRAIS | H4: 200 | I4: =VLOOKUP(C4,PARCELLAIRE!$D$2:$F$29,3,0) -> 21.88 | J4: =I4*H4 -> 4376 | K4: =VLOOKUP(E4,'COUT MOYEN'!$B$1:$E$71,4,0) -> 0.50298667 | L4: =K4*J4 -> 2201.0697 | N4: =IF(WHEN=A4,C4,1) -> Moulin Barthes | O4: =SUMPRODUCT(--(PARCELLAIRE!H$2:H$58=UTILISATIONS!N4)) -> 0
A5: 2013 | B5: =INDEX(PARCELLAIRE!$B$2:$B$29,MATCH(UTILISATIONS!C5,PARCELLAIRE!$D$2:$D$29,0)) -> TOURNESOL | C5: Moulin Côteau | D5: 41108 | E5: Pac 22 | F5: L | G5: =VLOOKUP(E5,ACHATS!$C:$D,2,0) -> ENGRAIS | H5: 200 | I5: =VLOOKUP(C5,PARCELLAIRE!$D$2:$F$29,3,0) -> 5.67 | J5: =I5*H5 -> 1134 | K5: =VLOOKUP(E5,'COUT MOYEN'!$B$1:$E$71,4,0) -> 0.50298667 | L5: =K5*J5 -> 570.38688 | N5: =IF(WHEN=A5,C5,1) -> Moulin Côteau | O5: =SUMPRODUCT(--(PARCELLAIRE!H$2:H$58=UTILISATIONS!N5)) -> 0
A6: 2013 | B6: =INDEX(PARCELLAIRE!$B$2:$B$29,MATCH(UTILISATIONS!C6,PARCELLAIRE!$D$2:$D$29,0)) -> TOURNESOL | C6: Picotalène Midi | D6: 41108 | E6: Pac 22 | F6: L | G6: =VLOOKUP(E6,ACHATS!$C:$D,2,0) -> ENGRAIS | H6: 200 | I6: =VLOOKUP(C6,PARCELLAIRE!$D$2:$F$29,3,0) -> 4.12 | J6: =I6*H6 -> 824 | K6: =VLOOKUP(E6,'COUT MOYEN'!$B$1:$E$71,4,0) -> 0.50298667 | L6: =K6*J6 -> 414.46101 | N6: =IF(WHEN=A6,C6,1) -> Picotalène Midi | O6: =SUMPRODUCT(--(PARCELLAIRE!H$2:H$58=UTILISATIONS!N6)) -> 0
A7: 2013 | B7: =INDEX(PARCELLAIRE!$B$2:$B$29,MATCH(UTILISATIONS!C7,PARCELLAIRE!$D$2:$D$29,0)) -> TOURNESOL | C7: Picotalène Nord | D7: 41108 | E7: Pac 22 | F7: L | G7: =VLOOKUP(E7,ACHATS!$C:$D,2,0) -> ENGRAIS | H7: 200 | I7: =VLOOKUP(C7,PARCELLAIRE!$D$2:$F$29,3,0) -> 4.42 | J7: =I7*H7 -> 884 | K7: =VLOOKUP(E7,'COUT MOYEN'!$B$1:$E$71,4,0) -> 0.50298667 | L7: =K7*J7 -> 444.64021 | N7: =IF(WHEN=A7,C7,1) -> Picotalène Nord | O7: =SUMPRODUCT(--(PARCELLAIRE!H$2:H$58=UTILISATIONS!N7)) -> 0
A8: 2013 | B8: =INDEX(PARCELLAIRE!$B$2:$B$29,MATCH(UTILISATIONS!C8,PARCELLAIRE!$D$2:$D$29,0)) -> TOURNESOL | C8: Pourtanel | D8: 41108 | E8: Pac 22 | F8: L | G8: =VLOOKUP(E8,ACHATS!$C:$D,2,0) -> ENGRAIS | H8: 200 | I8: =VLOOKUP(C8,PARCELLAIRE!$D$2:$F$29,3,0) -> 12.06 | J8: =I8*H8 -> 2412 | K8: =VLOOKUP(E8,'COUT MOYEN'!$B$1:$E$71,4,0) -> 0.50298667 | L8: =K8*J8 -> 1213.2038 | N8: =IF(WHEN=A8,C8,1) -> Pourtanel | O8: =SUMPRODUCT(--(PARCELLAIRE!H$2:H$58=UTILISATIONS!N8)) -> 0
A9: 2013 | B9: =INDEX(PARCELLAIRE!$B$2:$B$29,MATCH(UTILISATIONS!C9,PARCELLAIRE!$D$2:$D$29,0)) -> TOURNESOL | C9: L'Aule métairie | D9: 41108 | E9: Pac 22 | F9: L | G9: =VLOOKUP(E9,ACHATS!$C:$D,2,0) -> ENGRAIS | H9: 200 | I9: =VLOOKUP(C9,PARCELLAIRE!$D$2:$F$29,3,0) -> 5.26 | J9: =I9*H9 -> 1052 | K9: =VLOOKUP(E9,'COUT MOYEN'!$B$1:$E$71,4,0) -> 0.50298667 | L9: =K9*J9 -> 529.14197 | N9: =IF(WHEN=A9,C9,1) -> L'Aule métairie | O9: =SUMPRODUCT(--(PARCELLAIRE!H$2:H$58=UTILISATIONS!N9)) -> 1
A10: 2013 | B10: =INDEX(PARCELLAIRE!$B$2:$B$29,MATCH(UTILISATIONS!C10,PARCELLAIRE!$D$2:$D$29,0)) -> TOURNESOL | C10: L'Aule Plaine | D10: 41108 | E10: Pac 22 | F10: L | G10: =VLOOKUP(E10,ACHATS!$C:$D,2,0) -> ENGRAIS | H10: 200 | I10: =VLOOKUP(C10,PARCELLAIRE!$D$2:$F$29,3,0) -> 15.64 | J10: =I10*H10 -> 3128 | K10: =VLOOKUP(E10,'COUT MOYEN'!$B$1:$E$71,4,0) -> 0.50298667 | L10: =K10*J10 -> 1573.3423 | N10: =IF(WHEN=A10,C10,1) -> L'Aule Plaine | O10: =SUMPRODUCT(--(PARCELLAIRE!H$2:H$58=UTILISATIONS!N10)) -> 1
A11: 2013 | B11: =INDEX(PARCELLAIRE!$B$2:$B$29,MATCH(UTILISATIONS!C11,PARCELLAIRE!$D$2:$D$29,0)) -> SOJA | C11: Engleyse Route | D11: 41113 | E11: Physiolith | F11: Kg | G11: =VLOOKUP(E11,ACHATS!$C:$D,2,0) -> ENGRAIS | H11: 600 | I11: =VLOOKUP(C11,PARCELLAIRE!$D$2:$F$29,3,0) -> 8.58 | J11: =I11*H11 -> 5148 | K11: =VLOOKUP(E11,'COUT MOYEN'!$B$1:$E$71,4,0) -> 0.21568182 | L11: =K11*J11 -> 1110.33 | N11: =IF(WHEN=A11,C11,1) -> Engleyse Route | O11: =SUMPRODUCT(--(PARCELLAIRE!H$2:H$58=UTILISATIONS!N11)) -> 0
A12: 2013 | B12: =INDEX(PARCELLAIRE!$B$2:$B$29,MATCH(UTILISATIONS!C12,PARCELLAIRE!$D$2:$D$29,0)) -> SORGHO | C12: Engleyse métairie | D12: 41113 | E12: Physiolith | F12: Kg | G12: =VLOOKUP(E12,ACHATS!$C:$D,2,0) -> ENGRAIS | H12: 600 | I12: =VLOOKUP(C12,PARCELLAIRE!$D$2:$F$29,3,0) -> 10.93 | J12: =I12*H12 -> 6558 | K12: =VLOOKUP(E12,'COUT MOYEN'!$B$1:$E$71,4,0) -> 0.21568182 | L12: =K12*J12 -> 1414.4414 | N12: =IF(WHEN=A12,C12,1) -> Engleyse métairie | O12: =SUMPRODUCT(--(PARCELLAIRE!H$2:H$58=UTILISATIONS!N12)) -> 0
A13: 2013 | B13: =INDEX(PARCELLAIRE!$B$2:$B$29,MATCH(UTILISATIONS!C13,PARCELLAIRE!$D$2:$D$29,0)) -> SOJA | C13: Engleyse Route | D13: 41113 | E13: Physiolith | F13: Kg | G13: =VLOOKUP(E13,ACHATS!$C:$D,2,0) -> ENGRAIS | H13: 600 | I13: =VLOOKUP(C13,PARCELLAIRE!$D$2:$F$29,3,0) -> 8.58 | J13: =I13*H13 -> 5148 | K13: =VLOOKUP(E13,'COUT MOYEN'!$B$1:$E$71,4,0) -> 0.21568182 | L13: =K13*J13 -> 1110.33 | N13: =IF(WHEN=A13,C13,1) -> Engleyse Route | O13: =SUMPRODUCT(--(PARCELLAIRE!H$2:H$58=UTILISATIONS!N13)) -> 0
... A39: 2013 | B39: =INDEX(PARCELLAIRE!$B$2:$B$29,MATCH(UTILISATIONS!C39,PARCELLAIRE!$D$2:$D$29,0)) -> BLE TENDRE | C39: Labaou Plaine | D39: 41177 | E39: Terragral | F39: Kg | G39: =VLOOKUP(E39,ACHATS!$C:$D,2,0) -> ENGRAIS | H39: 545 | I39: =VLOOKUP(C39,PARCELLAIRE!$D$2:$F$29,3,0) -> 17.55 | J39: =I39*H39 -> 9564.75 | K39: =VLOOKUP(E39,'COUT MOYEN'!$B$1:$E$71,4,0) -> 0.22 | L39: =K39*J39 -> 2104.245 | N39: =IF(WHEN=A39,C39,1) -> Labaou Plaine | O39: =SUMPRODUCT(--(PARCELLAIRE!H$2:H$58=UTILISATIONS!N39)) -> 1
A40: 2013 | B40: =INDEX(PARCELLAIRE!$B$2:$B$29,MATCH(UTILISATIONS!C40,PARCELLAIRE!$D$2:$D$29,0)) -> BLE DUR | C40: Escarcelou Jachère | D40: 41177 | E40: Pac 22 | F40: L | G40: =VLOOKUP(E40,ACHATS!$C:$D,2,0) -> ENGRAIS | H40: 245 | I40: =VLOOKUP(C40,PARCELLAIRE!$D$2:$F$29,3,0) -> 1.34 | J40: =I40*H40 -> 328.3 | K40: =VLOOKUP(E40,'COUT MOYEN'!$B$1:$E$71,4,0) -> 0.50298667 | L40: 924.24 | N40: =IF(WHEN=A40,C40,1) -> Escarcelou Jachère | O40: =SUMPRODUCT(--(PARCELLAIRE!H$2:H$58=UTILISATIONS!N40)) -> 0
A41: 2013 | B41: =INDEX(PARCELLAIRE!$B$2:$B$29,MATCH(UTILISATIONS!C41,PARCELLAIRE!$D$2:$D$29,0)) -> BLE DUR | C41: Bousquet Château | D41: 41179 | E41: Pac 22 | F41: L | G41: =VLOOKUP(E41,ACHATS!$C:$D,2,0) -> ENGRAIS | H41: 245 | I41: =VLOOKUP(C41,PARCELLAIRE!$D$2:$F$29,3,0) -> 5.27 | J41: =I41*H41 -> 1291.15 | K41: =VLOOKUP(E41,'COUT MOYEN'!$B$1:$E$71,4,0) -> 0.50298667 | L41: =K41*J41 -> 649.43123 | N41: =IF(WHEN=A41,C41,1) -> Bousquet Château | O41: =SUMPRODUCT(--(PARCELLAIRE!H$2:H$58=UTILISATIONS!N41)) -> 0
A42: 2013 | B42: =INDEX(PARCELLAIRE!$B$2:$B$29,MATCH(UTILISATIONS!C42,PARCELLAIRE!$D$2:$D$29,0)) -> BLE DUR | C42: Escarcelou | D42: 41179 | E42: Pac 22 | F42: L | G42: =VLOOKUP(E42,ACHATS!$C:$D,2,0) -> ENGRAIS | H42: 245 | I42: =VLOOKUP(C42,PARCELLAIRE!$D$2:$F$29,3,0) -> 7.58 | J42: =I42*H42 -> 1857.1 | K42: =VLOOKUP(E42,'COUT MOYEN'!$B$1:$E$71,4,0) -> 0.50298667 | L42: =K42*J42 -> 934.09654 | N42: =IF(WHEN=A42,C42,1) -> Escarcelou | O42: =SUMPRODUCT(--(PARCELLAIRE!H$2:H$58=UTILISATIONS!N42)) -> 0
A43: 2013 | B43: =INDEX(PARCELLAIRE!$B$2:$B$29,MATCH(UTILISATIONS!C43,PARCELLAIRE!$D$2:$D$29,0)) -> BLE DUR | C43: Labaou Devant | D43: 41179 | E43: Pac 22 | F43: L | G43: =VLOOKUP(E43,ACHATS!$C:$D,2,0) -> ENGRAIS | H43: 245 | I43: =VLOOKUP(C43,PARCELLAIRE!$D$2:$F$29,3,0) -> 11.9 | J43: =I43*H43 -> 2915.5 | K43: =VLOOKUP(E43,'COUT MOYEN'!$B$1:$E$71,4,0) -> 0.50298667 | L43: =K43*J43 -> 1466.4576 | N43: =IF(WHEN=A43,C43,1) -> Labaou Devant | O43: =SUMPRODUCT(--(PARCELLAIRE!H$2:H$58=UTILISATIONS!N43)) -> 0
A44: 2013 | B44: =INDEX(PARCELLAIRE!$B$2:$B$29,MATCH(UTILISATIONS!C44,PARCELLAIRE!$D$2:$D$29,0)) -> BLE DUR | C44: Escarcelou Pte | D44: 41179 | E44: Pac 22 | F44: L | G44: =VLOOKUP(E44,ACHATS!$C:$D,2,0) -> ENGRAIS | H44: 245 | I44: =VLOOKUP(C44,PARCELLAIRE!$D$2:$F$29,3,0) -> 7.5 | J44: =I44*H44 -> 1837.5 | K44: =VLOOKUP(E44,'COUT MOYEN'!$B$1:$E$71,4,0) -> 0.50298667 | L44: =K44*J44 -> 924.238 | N44: =IF(WHEN=A44,C44,1) -> Escarcelou Pte | O44: =SUMPRODUCT(--(PARCELLAIRE!H$2:H$58=UTILISATIONS!N44)) -> 0
A45: 2013 | B45: =INDEX(PARCELLAIRE!$B$2:$B$29,MATCH(UTILISATIONS!C45,PARCELLAIRE!$D$2:$D$29,0)) -> BLE DUR | C45: Laclos | D45: 41179 | E45: Pac 22 | F45: L | G45: =VLOOKUP(E45,ACHATS!$C:$D,2,0) -> ENGRAIS | H45: 245 | I45: =VLOOKUP(C45,PARCELLAIRE!$D$2:$F$29,3,0) -> 5.07 | J45: =I45*H45 -> 1242.15 | K45: =VLOOKUP(E45,'COUT MOYEN'!$B$1:$E$71,4,0) -> 0.50298667 | L45: =K45*J45 -> 624.78489 | N45: =IF(WHEN=A45,C45,1) -> Laclos | O45: =SUMPRODUCT(--(PARCELLAIRE!H$2:H$58=UTILISATIONS!N45)) -> 0
A46: 2013 | B46: =INDEX(PARCELLAIRE!$B$2:$B$29,MATCH(UTILISATIONS!C46,PARCELLAIRE!$D$2:$D$29,0)) -> BLE DUR | C46: Lescandes | D46: 41179 | E46: Pac 22 | F46: L | G46: =VLOOKUP(E46,ACHATS!$C:$D,2,0) -> ENGRAIS | H46: 245 | I46: =VLOOKUP(C46,PARCELLAIRE!$D$2:$F$29,3,0) -> 2.67 | J46: =I46*H46 -> 654.15 | K46: =VLOOKUP(E46,'COUT MOYEN'!$B$1:$E$71,4,0) -> 0.50298667 | L46: =K46*J46 -> 329.02873 | N46: =IF(WHEN=A46,C46,1) -> Lescandes | O46: =SUMPRODUCT(--(PARCELLAIRE!H$2:H$58=UTILISATIONS!N46)) -> 0
A47: 2013 | B47: =INDEX(PARCELLAIRE!$B$2:$B$29,MATCH(UTILISATIONS!C47,PARCELLAIRE!$D$2:$D$29,0)) -> BLE DUR | C47: Lescandes Côteau | D47: 41179 | E47: Pac 22 | F47: L | G47: =VLOOKUP(E47,ACHATS!$C:$D,2,0) -> ENGRAIS | H47: 245 | I47: =VLOOKUP(C47,PARCELLAIRE!$D$2:$F$29,3,0) -> 16.44 | J47: =I47*H47 -> 4027.8 | K47: =VLOOKUP(E47,'COUT MOYEN'!$B$1:$E$71,4,0) -> 0.50298667 | L47: =K47*J47 -> 2025.9297 | N47: =IF(WHEN=A47,C47,1) -> Lescandes Côteau | O47: =SUMPRODUCT(--(PARCELLAIRE!H$2:H$58=UTILISATIONS!N47)) -> 0
A48: 2013 | B48: =INDEX(PARCELLAIRE!$B$2:$B$29,MATCH(UTILISATIONS!C48,PARCELLAIRE!$D$2:$D$29,0)) -> BLE DUR | C48: Seillonne | D48: 41179 | E48: Pac 22 | F48: L | G48: =VLOOKUP(E48,ACHATS!$C:$D,2,0) -> ENGRAIS | H48: 245 | I48: =VLOOKUP(C48,PARCELLAIRE!$D$2:$F$29,3,0) -> 1.26 | J48: =I48*H48 -> 308.7 | K48: =VLOOKUP(E48,'COUT MOYEN'!$B$1:$E$71,4,0) -> 0.50298667 | L48: =K48*J48 -> 155.27198 | N48: =IF(WHEN=A48,C48,1) -> Seillonne | O48: =SUMPRODUCT(--(PARCELLAIRE!H$2:H$58=UTILISATIONS!N48)) -> 0
A49: 2013 | B49: =INDEX(PARCELLAIRE!$B$2:$B$29,MATCH(UTILISATIONS!C49,PARCELLAIRE!$D$2:$D$29,0)) -> SOJA | C49: Engleyse Route | D49: 41179 | E49: Pac 22 | F49: L | G49: =VLOOKUP(E49,ACHATS!$C:$D,2,0) -> ENGRAIS | H49: 230 | I49: =VLOOKUP(C49,PARCELLAIRE!$D$2:$F$29,3,0) -> 8.58 | J49: =I49*H49 -> 1973.4 | K49: =VLOOKUP(E49,'COUT MOYEN'!$B$1:$E$71,4,0) -> 0.50298667 | L49: =K49*J49 -> 992.59389 | N49: =IF(WHEN=A49,C49,1) -> Engleyse Route | O49: =SUMPRODUCT(--(PARCELLAIRE!H$2:H$58=UTILISATIONS!N49)) -> 0
A50: 2013 | B50: =INDEX(PARCELLAIRE!$B$2:$B$29,MATCH(UTILISATIONS!C50,PARCELLAIRE!$D$2:$D$29,0)) -> SORGHO | C50: Engleyse métairie | D50: 41179 | E50: Pac 22 | F50: L | G50: =VLOOKUP(E50,ACHATS!$C:$D,2,0) -> ENGRAIS | H50: 230 | I50: =VLOOKUP(C50,PARCELLAIRE!$D$2:$F$29,3,0) -> 10.93 | J50: =I50*H50 -> 2513.9 | K50: =VLOOKUP(E50,'COUT MOYEN'!$B$1:$E$71,4,0) -> 0.50298667 | L50: =K50*J50 -> 1264.4582 | N50: =IF(WHEN=A50,C50,1) -> Engleyse métairie | O50: =SUMPRODUCT(--(PARCELLAIRE!H$2:H$58=UTILISATIONS!N50)) -> 0
