Workbook

Sheet eleves
A16: N° | B16: MATRICULE | C16: NOM ET PRENOMS | D16: SEXE | E16: DATE | F16: STATUT
A17: =IF(ISBLANK(C17),"",1) -> 1 | B17: 1214A | C17: ADIN AAAA | D17: M | E17: 40920 | F17: R
A18: =IF(COUNTBLANK(C18),"",A17+1)
A19: =IF(COUNTBLANK(C19),"",A18+1)
A20: =IF(COUNTBLANK(C20),"",A19+1)
A21: =IF(COUNTBLANK(C21),"",A20+1)
A22: =IF(COUNTBLANK(C22),"",A21+1)
A23: =IF(COUNTBLANK(C23),"",A22+1)
A24: =IF(COUNTBLANK(C24),"",A23+1)
A25: =IF(COUNTBLANK(C25),"",A24+1)
A26: =IF(COUNTBLANK(C26),"",A25+1)
A27: =IF(COUNTBLANK(C27),"",A26+1)
A28: =IF(COUNTBLANK(C28),"",A27+1)
A29: =IF(COUNTBLANK(C29),"",A28+1)
... A32: =IF(COUNTBLANK(C32),"",A31+1)

Sheet 1er Trimestre
A18: COEFFICIENT | G18: 1 | H18: 2 | I18: =SUM(G18:H18) -> 3
A20: N° | B20: MATRICULE | C20: NOM ET PRENOMS | D20: SEXE | E20: DATE | F20: NR/R | I20: TOTAL | J20: MOYENNE | K20: MOY*COEFF | L20: RANG | M20: APPRECIATION
B21: =IF(ISBLANK(eleves!B17),"",eleves!B17) -> 1214A | C21: =IF(ISBLANK(eleves!C17),"",eleves!C17) -> ADIN AAAA | D21: =IF(ISBLANK(eleves!D17),"",eleves!D17) -> M | E21: =IF(ISBLANK(eleves!E17),"",eleves!E17) -> 40920 | F21: =IF(ISBLANK(eleves!F17),"",eleves!F17) -> R | G21: 18 | H21: 14 | I21: =IF(ISERROR(OR(AND($G$18:$H$18),G21,AND(G21:H21))),"",SUMPRODUCT(G21:H21,$G$18:$H$18)) -> 46 | J21: =IF(ISERROR(OR(AND($G$18:$H$18),G21,AND(G21:H21))),"",TRUNC(SUMPRODUCT(G21:H21,$G$18:$H$18)/SUMIF(G21:H21,">=0",$G$18:$H$18),2)) -> 15.33 | K21: =IF($E$10="","",IF(J21="","",IF(AND(J21="",E$10=""),"",PRODUCT(J21,$E$10)))) | L21: =IF(ISERROR(RANK(J21,$J$21:$J$57))," ",IF(RANK(J21,$J$21:$J$57)=1,"1er",RANK(J21,$J$21:$J$57)&"ème")) -> 1er
A22: =IF(COUNTBLANK(C22),"",A21+1) | B22: =IF(ISBLANK(eleves!B18),"",eleves!B18) | C22: =IF(ISBLANK(eleves!C18),"",eleves!C18) | D22: =IF(ISBLANK(eleves!D18),"",eleves!D18) | E22: =IF(ISBLANK(eleves!E18),"",eleves!E18) | F22: =IF(ISBLANK(eleves!F18),"",eleves!F18) | I22: =IF(ISERROR(OR(AND($G$18:$H$18),G22,AND(G22:H22))),"",SUMPRODUCT(G22:H22,$G$18:$H$18)) | J22: =IF(ISERROR(OR(AND($G$18:$H$18),G22,AND(G22:H22))),"",TRUNC(SUMPRODUCT(G22:H22,$G$18:$H$18)/SUMIF(G22:H22,">=0",$G$18:$H$18),2)) | K22: =IF($E$10="","",IF(J22="","",IF(AND(J22="",E$10=""),"",PRODUCT(J22,$E$10)))) | L22: =IF(ISERROR(RANK(J22,$J$21:$J$57))," ",IF(RANK(J22,$J$21:$J$57)=1,"1er",RANK(J22,$J$21:$J$57)&"ème"))
A23: =IF(COUNTBLANK(C23),"",A22+1) | B23: =IF(ISBLANK(eleves!B19),"",eleves!B19) | C23: =IF(ISBLANK(eleves!C19),"",eleves!C19) | D23: =IF(ISBLANK(eleves!D19),"",eleves!D19) | E23: =IF(ISBLANK(eleves!E19),"",eleves!E19) | F23: =IF(ISBLANK(eleves!F19),"",eleves!F19) | I23: =IF(ISERROR(OR(AND($G$18:$H$18),G23,AND(G23:H23))),"",SUMPRODUCT(G23:H23,$G$18:$H$18)) | J23: =IF(ISERROR(OR(AND($G$18:$H$18),G23,AND(G23:H23))),"",TRUNC(SUMPRODUCT(G23:H23,$G$18:$H$18)/SUMIF(G23:H23,">=0",$G$18:$H$18),2)) | K23: =IF($E$10="","",IF(J23="","",IF(AND(J23="",E$10=""),"",PRODUCT(J23,$E$10)))) | L23: =IF(ISERROR(RANK(J23,$J$21:$J$57))," ",IF(RANK(J23,$J$21:$J$57)=1,"1er",RANK(J23,$J$21:$J$57)&"ème"))
A24: =IF(COUNTBLANK(C24),"",A23+1) | B24: =IF(ISBLANK(eleves!B20),"",eleves!B20) | C24: =IF(ISBLANK(eleves!C20),"",eleves!C20) | D24: =IF(ISBLANK(eleves!D20),"",eleves!D20) | E24: =IF(ISBLANK(eleves!E20),"",eleves!E20) | F24: =IF(ISBLANK(eleves!F20),"",eleves!F20) | I24: =IF(ISERROR(OR(AND($G$18:$H$18),G24,AND(G24:H24))),"",SUMPRODUCT(G24:H24,$G$18:$H$18)) | J24: =IF(ISERROR(OR(AND($G$18:$H$18),G24,AND(G24:H24))),"",TRUNC(SUMPRODUCT(G24:H24,$G$18:$H$18)/SUMIF(G24:H24,">=0",$G$18:$H$18),2)) | K24: =IF($E$10="","",IF(J24="","",IF(AND(J24="",E$10=""),"",PRODUCT(J24,$E$10)))) | L24: =IF(ISERROR(RANK(J24,$J$21:$J$57))," ",IF(RANK(J24,$J$21:$J$57)=1,"1er",RANK(J24,$J$21:$J$57)&"ème"))
A25: =IF(COUNTBLANK(C25),"",A24+1) | B25: =IF(ISBLANK(eleves!B21),"",eleves!B21) | C25: =IF(ISBLANK(eleves!C21),"",eleves!C21) | D25: =IF(ISBLANK(eleves!D21),"",eleves!D21) | E25: =IF(ISBLANK(eleves!E21),"",eleves!E21) | F25: =IF(ISBLANK(eleves!F21),"",eleves!F21) | I25: =IF(ISERROR(OR(AND($G$18:$H$18),G25,AND(G25:H25))),"",SUMPRODUCT(G25:H25,$G$18:$H$18)) | J25: =IF(ISERROR(OR(AND($G$18:$H$18),G25,AND(G25:H25))),"",TRUNC(SUMPRODUCT(G25:H25,$G$18:$H$18)/SUMIF(G25:H25,">=0",$G$18:$H$18),2)) | K25: =IF($E$10="","",IF(J25="","",IF(AND(J25="",E$10=""),"",PRODUCT(J25,$E$10)))) | L25: =IF(ISERROR(RANK(J25,$J$21:$J$57))," ",IF(RANK(J25,$J$21:$J$57)=1,"1er",RANK(J25,$J$21:$J$57)&"ème"))
A26: =IF(COUNTBLANK(C26),"",A25+1) | B26: =IF(ISBLANK(eleves!B22),"",eleves!B22) | C26: =IF(ISBLANK(eleves!C22),"",eleves!C22) | D26: =IF(ISBLANK(eleves!D22),"",eleves!D22) | E26: =IF(ISBLANK(eleves!E22),"",eleves!E22) | F26: =IF(ISBLANK(eleves!F22),"",eleves!F22) | I26: =IF(ISERROR(OR(AND($G$18:$H$18),G26,AND(G26:H26))),"",SUMPRODUCT(G26:H26,$G$18:$H$18)) | J26: =IF(ISERROR(OR(AND($G$18:$H$18),G26,AND(G26:H26))),"",TRUNC(SUMPRODUCT(G26:H26,$G$18:$H$18)/SUMIF(G26:H26,">=0",$G$18:$H$18),2)) | K26: =IF($E$10="","",IF(J26="","",IF(AND(J26="",E$10=""),"",PRODUCT(J26,$E$10)))) | L26: =IF(ISERROR(RANK(J26,$J$21:$J$57))," ",IF(RANK(J26,$J$21:$J$57)=1,"1er",RANK(J26,$J$21:$J$57)&"ème"))
A27: =IF(COUNTBLANK(C27),"",A26+1) | B27: =IF(ISBLANK(eleves!B23),"",eleves!B23) | C27: =IF(ISBLANK(eleves!C23),"",eleves!C23) | D27: =IF(ISBLANK(eleves!D23),"",eleves!D23) | E27: =IF(ISBLANK(eleves!E23),"",eleves!E23) | F27: =IF(ISBLANK(eleves!F23),"",eleves!F23) | I27: =IF(ISERROR(OR(AND($G$18:$H$18),G27,AND(G27:H27))),"",SUMPRODUCT(G27:H27,$G$18:$H$18)) | J27: =IF(ISERROR(OR(AND($G$18:$H$18),G27,AND(G27:H27))),"",TRUNC(SUMPRODUCT(G27:H27,$G$18:$H$18)/SUMIF(G27:H27,">=0",$G$18:$H$18),2)) | K27: =IF($E$10="","",IF(J27="","",IF(AND(J27="",E$10=""),"",PRODUCT(J27,$E$10)))) | L27: =IF(ISERROR(RANK(J27,$J$21:$J$57))," ",IF(RANK(J27,$J$21:$J$57)=1,"1er",RANK(J27,$J$21:$J$57)&"ème"))
A28: =IF(COUNTBLANK(C28),"",A27+1) | B28: =IF(ISBLANK(eleves!B24),"",eleves!B24) | C28: =IF(ISBLANK(eleves!C24),"",eleves!C24) | D28: =IF(ISBLANK(eleves!D24),"",eleves!D24) | E28: =IF(ISBLANK(eleves!E24),"",eleves!E24) | F28: =IF(ISBLANK(eleves!F24),"",eleves!F24) | I28: =IF(ISERROR(OR(AND($G$18:$H$18),G28,AND(G28:H28))),"",SUMPRODUCT(G28:H28,$G$18:$H$18)) | J28: =IF(ISERROR(OR(AND($G$18:$H$18),G28,AND(G28:H28))),"",TRUNC(SUMPRODUCT(G28:H28,$G$18:$H$18)/SUMIF(G28:H28,">=0",$G$18:$H$18),2)) | K28: =IF($E$10="","",IF(J28="","",IF(AND(J28="",E$10=""),"",PRODUCT(J28,$E$10)))) | L28: =IF(ISERROR(RANK(J28,$J$21:$J$57))," ",IF(RANK(J28,$J$21:$J$57)=1,"1er",RANK(J28,$J$21:$J$57)&"ème"))

Sheet 2è
A18: COEFFICIENT | G18: 1 | H18: 2 | I18: =SUM(G18:H18) -> 3
A20: N° | B20: MATRICULE | C20: NOM ET PRENOMS | D20: SEXE | E20: DATE | F20: NR/R | I20: TOTAL | J20: MOYENNE | K20: MOY*COEFF | L20: RANG | M20: APPRECIATION
B21: =IF(ISBLANK(eleves!B17),"",eleves!B17) -> 1214A | C21: =IF(ISBLANK(eleves!C17),"",eleves!C17) -> ADIN AAAA | D21: =IF(ISBLANK(eleves!D17),"",eleves!D17) -> M | E21: =IF(ISBLANK(eleves!E17),"",eleves!E17) -> 40920 | F21: =IF(ISBLANK(eleves!F17),"",eleves!F17) -> R | G21: 10 | H21: 14 | I21: =IF(ISERROR(OR(AND($G$18:$H$18),G21,AND(G21:H21))),"",SUMPRODUCT(G21:H21,$G$18:$H$18)) -> 38 | J21: =IF(ISERROR(OR(AND($G$18:$H$18),G21,AND(G21:H21))),"",TRUNC(SUMPRODUCT(G21:H21,$G$18:$H$18)/SUMIF(G21:H21,">=0",$G$18:$H$18),2)) -> 12.66 | K21: =IF($E$10="","",IF(J21="","",IF(AND(J21="",E$10=""),"",PRODUCT(J21,$E$10)))) | L21: =IF(ISERROR(RANK(J21,$J$21:$J$57))," ",IF(RANK(J21,$J$21:$J$57)=1,"1er",RANK(J21,$J$21:$J$57)&"ème")) -> 1er
A22: =IF(COUNTBLANK(C22),"",A21+1) | B22: =IF(ISBLANK(eleves!B18),"",eleves!B18) | C22: =IF(ISBLANK(eleves!C18),"",eleves!C18) | D22: =IF(ISBLANK(eleves!D18),"",eleves!D18) | E22: =IF(ISBLANK(eleves!E18),"",eleves!E18) | F22: =IF(ISBLANK(eleves!F18),"",eleves!F18) | I22: =IF(ISERROR(OR(AND($G$18:$H$18),G22,AND(G22:H22))),"",SUMPRODUCT(G22:H22,$G$18:$H$18)) | J22: =IF(ISERROR(OR(AND($G$18:$H$18),G22,AND(G22:H22))),"",TRUNC(SUMPRODUCT(G22:H22,$G$18:$H$18)/SUMIF(G22:H22,">=0",$G$18:$H$18),2)) | K22: =IF($E$10="","",IF(J22="","",IF(AND(J22="",E$10=""),"",PRODUCT(J22,$E$10)))) | L22: =IF(ISERROR(RANK(J22,$J$21:$J$57))," ",IF(RANK(J22,$J$21:$J$57)=1,"1er",RANK(J22,$J$21:$J$57)&"ème"))
A23: =IF(COUNTBLANK(C23),"",A22+1) | B23: =IF(ISBLANK(eleves!B19),"",eleves!B19) | C23: =IF(ISBLANK(eleves!C19),"",eleves!C19) | D23: =IF(ISBLANK(eleves!D19),"",eleves!D19) | E23: =IF(ISBLANK(eleves!E19),"",eleves!E19) | F23: =IF(ISBLANK(eleves!F19),"",eleves!F19) | I23: =IF(ISERROR(OR(AND($G$18:$H$18),G23,AND(G23:H23))),"",SUMPRODUCT(G23:H23,$G$18:$H$18)) | J23: =IF(ISERROR(OR(AND($G$18:$H$18),G23,AND(G23:H23))),"",TRUNC(SUMPRODUCT(G23:H23,$G$18:$H$18)/SUMIF(G23:H23,">=0",$G$18:$H$18),2)) | K23: =IF($E$10="","",IF(J23="","",IF(AND(J23="",E$10=""),"",PRODUCT(J23,$E$10)))) | L23: =IF(ISERROR(RANK(J23,$J$21:$J$57))," ",IF(RANK(J23,$J$21:$J$57)=1,"1er",RANK(J23,$J$21:$J$57)&"ème"))
A24: =IF(COUNTBLANK(C24),"",A23+1) | B24: =IF(ISBLANK(eleves!B20),"",eleves!B20) | C24: =IF(ISBLANK(eleves!C20),"",eleves!C20) | D24: =IF(ISBLANK(eleves!D20),"",eleves!D20) | E24: =IF(ISBLANK(eleves!E20),"",eleves!E20) | F24: =IF(ISBLANK(eleves!F20),"",eleves!F20) | I24: =IF(ISERROR(OR(AND($G$18:$H$18),G24,AND(G24:H24))),"",SUMPRODUCT(G24:H24,$G$18:$H$18)) | J24: =IF(ISERROR(OR(AND($G$18:$H$18),G24,AND(G24:H24))),"",TRUNC(SUMPRODUCT(G24:H24,$G$18:$H$18)/SUMIF(G24:H24,">=0",$G$18:$H$18),2)) | K24: =IF($E$10="","",IF(J24="","",IF(AND(J24="",E$10=""),"",PRODUCT(J24,$E$10)))) | L24: =IF(ISERROR(RANK(J24,$J$21:$J$57))," ",IF(RANK(J24,$J$21:$J$57)=1,"1er",RANK(J24,$J$21:$J$57)&"ème"))
A25: =IF(COUNTBLANK(C25),"",A24+1) | B25: =IF(ISBLANK(eleves!B21),"",eleves!B21) | C25: =IF(ISBLANK(eleves!C21),"",eleves!C21) | D25: =IF(ISBLANK(eleves!D21),"",eleves!D21) | E25: =IF(ISBLANK(eleves!E21),"",eleves!E21) | F25: =IF(ISBLANK(eleves!F21),"",eleves!F21) | I25: =IF(ISERROR(OR(AND($G$18:$H$18),G25,AND(G25:H25))),"",SUMPRODUCT(G25:H25,$G$18:$H$18)) | J25: =IF(ISERROR(OR(AND($G$18:$H$18),G25,AND(G25:H25))),"",TRUNC(SUMPRODUCT(G25:H25,$G$18:$H$18)/SUMIF(G25:H25,">=0",$G$18:$H$18),2)) | K25: =IF($E$10="","",IF(J25="","",IF(AND(J25="",E$10=""),"",PRODUCT(J25,$E$10)))) | L25: =IF(ISERROR(RANK(J25,$J$21:$J$57))," ",IF(RANK(J25,$J$21:$J$57)=1,"1er",RANK(J25,$J$21:$J$57)&"ème"))
A26: =IF(COUNTBLANK(C26),"",A25+1) | B26: =IF(ISBLANK(eleves!B22),"",eleves!B22) | C26: =IF(ISBLANK(eleves!C22),"",eleves!C22) | D26: =IF(ISBLANK(eleves!D22),"",eleves!D22) | E26: =IF(ISBLANK(eleves!E22),"",eleves!E22) | F26: =IF(ISBLANK(eleves!F22),"",eleves!F22) | I26: =IF(ISERROR(OR(AND($G$18:$H$18),G26,AND(G26:H26))),"",SUMPRODUCT(G26:H26,$G$18:$H$18)) | J26: =IF(ISERROR(OR(AND($G$18:$H$18),G26,AND(G26:H26))),"",TRUNC(SUMPRODUCT(G26:H26,$G$18:$H$18)/SUMIF(G26:H26,">=0",$G$18:$H$18),2)) | K26: =IF($E$10="","",IF(J26="","",IF(AND(J26="",E$10=""),"",PRODUCT(J26,$E$10)))) | L26: =IF(ISERROR(RANK(J26,$J$21:$J$57))," ",IF(RANK(J26,$J$21:$J$57)=1,"1er",RANK(J26,$J$21:$J$57)&"ème"))
A27: =IF(COUNTBLANK(C27),"",A26+1) | B27: =IF(ISBLANK(eleves!B23),"",eleves!B23) | C27: =IF(ISBLANK(eleves!C23),"",eleves!C23) | D27: =IF(ISBLANK(eleves!D23),"",eleves!D23) | E27: =IF(ISBLANK(eleves!E23),"",eleves!E23) | F27: =IF(ISBLANK(eleves!F23),"",eleves!F23) | I27: =IF(ISERROR(OR(AND($G$18:$H$18),G27,AND(G27:H27))),"",SUMPRODUCT(G27:H27,$G$18:$H$18)) | J27: =IF(ISERROR(OR(AND($G$18:$H$18),G27,AND(G27:H27))),"",TRUNC(SUMPRODUCT(G27:H27,$G$18:$H$18)/SUMIF(G27:H27,">=0",$G$18:$H$18),2)) | K27: =IF($E$10="","",IF(J27="","",IF(AND(J27="",E$10=""),"",PRODUCT(J27,$E$10)))) | L27: =IF(ISERROR(RANK(J27,$J$21:$J$57))," ",IF(RANK(J27,$J$21:$J$57)=1,"1er",RANK(J27,$J$21:$J$57)&"ème"))
A28: =IF(COUNTBLANK(C28),"",A27+1) | B28: =IF(ISBLANK(eleves!B24),"",eleves!B24) | C28: =IF(ISBLANK(eleves!C24),"",eleves!C24) | D28: =IF(ISBLANK(eleves!D24),"",eleves!D24) | E28: =IF(ISBLANK(eleves!E24),"",eleves!E24) | F28: =IF(ISBLANK(eleves!F24),"",eleves!F24) | I28: =IF(ISERROR(OR(AND($G$18:$H$18),G28,AND(G28:H28))),"",SUMPRODUCT(G28:H28,$G$18:$H$18)) | J28: =IF(ISERROR(OR(AND($G$18:$H$18),G28,AND(G28:H28))),"",TRUNC(SUMPRODUCT(G28:H28,$G$18:$H$18)/SUMIF(G28:H28,">=0",$G$18:$H$18),2)) | K28: =IF($E$10="","",IF(J28="","",IF(AND(J28="",E$10=""),"",PRODUCT(J28,$E$10)))) | L28: =IF(ISERROR(RANK(J28,$J$21:$J$57))," ",IF(RANK(J28,$J$21:$J$57)=1,"1er",RANK(J28,$J$21:$J$57)&"ème"))

Sheet 3è
A18: COEFFICIENT | G18: 1 | H18: 2 | I18: =SUM(G18:H18) -> 3
A20: N° | B20: MATRICULE | C20: NOM ET PRENOMS | D20: SEXE | E20: DATE | F20: NR/R | I20: TOTAL | J20: MOYENNE | K20: MOY*COEFF | L20: RANG | M20: APPRECIATION
B21: =IF(ISBLANK(eleves!B17),"",eleves!B17) -> 1214A | C21: =IF(ISBLANK(eleves!C17),"",eleves!C17) -> ADIN AAAA | D21: =IF(ISBLANK(eleves!D17),"",eleves!D17) -> M | E21: =IF(ISBLANK(eleves!E17),"",eleves!E17) -> 40920 | F21: =IF(ISBLANK(eleves!F17),"",eleves!F17) -> R | G21: 15 | H21: 14 | I21: =IF(ISERROR(OR(AND($G$18:$H$18),G21,AND(G21:H21))),"",SUMPRODUCT(G21:H21,$G$18:$H$18)) -> 43 | J21: =IF(ISERROR(OR(AND($G$18:$H$18),G21,AND(G21:H21))),"",TRUNC(SUMPRODUCT(G21:H21,$G$18:$H$18)/SUMIF(G21:H21,">=0",$G$18:$H$18),2)) -> 14.33 | K21: =IF($E$10="","",IF(J21="","",IF(AND(J21="",E$10=""),"",PRODUCT(J21,$E$10)))) | L21: =IF(ISERROR(RANK(J21,$J$21:$J$57))," ",IF(RANK(J21,$J$21:$J$57)=1,"1er",RANK(J21,$J$21:$J$57)&"ème")) -> 1er
A22: =IF(COUNTBLANK(C22),"",A21+1) | B22: =IF(ISBLANK(eleves!B18),"",eleves!B18) | C22: =IF(ISBLANK(eleves!C18),"",eleves!C18) | D22: =IF(ISBLANK(eleves!D18),"",eleves!D18) | E22: =IF(ISBLANK(eleves!E18),"",eleves!E18) | F22: =IF(ISBLANK(eleves!F18),"",eleves!F18) | I22: =IF(ISERROR(OR(AND($G$18:$H$18),G22,AND(G22:H22))),"",SUMPRODUCT(G22:H22,$G$18:$H$18)) | J22: =IF(ISERROR(OR(AND($G$18:$H$18),G22,AND(G22:H22))),"",TRUNC(SUMPRODUCT(G22:H22,$G$18:$H$18)/SUMIF(G22:H22,">=0",$G$18:$H$18),2)) | K22: =IF($E$10="","",IF(J22="","",IF(AND(J22="",E$10=""),"",PRODUCT(J22,$E$10)))) | L22: =IF(ISERROR(RANK(J22,$J$21:$J$57))," ",IF(RANK(J22,$J$21:$J$57)=1,"1er",RANK(J22,$J$21:$J$57)&"ème"))
A23: =IF(COUNTBLANK(C23),"",A22+1) | B23: =IF(ISBLANK(eleves!B19),"",eleves!B19) | C23: =IF(ISBLANK(eleves!C19),"",eleves!C19) | D23: =IF(ISBLANK(eleves!D19),"",eleves!D19) | E23: =IF(ISBLANK(eleves!E19),"",eleves!E19) | F23: =IF(ISBLANK(eleves!F19),"",eleves!F19) | I23: =IF(ISERROR(OR(AND($G$18:$H$18),G23,AND(G23:H23))),"",SUMPRODUCT(G23:H23,$G$18:$H$18)) | J23: =IF(ISERROR(OR(AND($G$18:$H$18),G23,AND(G23:H23))),"",TRUNC(SUMPRODUCT(G23:H23,$G$18:$H$18)/SUMIF(G23:H23,">=0",$G$18:$H$18),2)) | K23: =IF($E$10="","",IF(J23="","",IF(AND(J23="",E$10=""),"",PRODUCT(J23,$E$10)))) | L23: =IF(ISERROR(RANK(J23,$J$21:$J$57))," ",IF(RANK(J23,$J$21:$J$57)=1,"1er",RANK(J23,$J$21:$J$57)&"ème"))
A24: =IF(COUNTBLANK(C24),"",A23+1) | B24: =IF(ISBLANK(eleves!B20),"",eleves!B20) | C24: =IF(ISBLANK(eleves!C20),"",eleves!C20) | D24: =IF(ISBLANK(eleves!D20),"",eleves!D20) | E24: =IF(ISBLANK(eleves!E20),"",eleves!E20) | F24: =IF(ISBLANK(eleves!F20),"",eleves!F20) | I24: =IF(ISERROR(OR(AND($G$18:$H$18),G24,AND(G24:H24))),"",SUMPRODUCT(G24:H24,$G$18:$H$18)) | J24: =IF(ISERROR(OR(AND($G$18:$H$18),G24,AND(G24:H24))),"",TRUNC(SUMPRODUCT(G24:H24,$G$18:$H$18)/SUMIF(G24:H24,">=0",$G$18:$H$18),2)) | K24: =IF($E$10="","",IF(J24="","",IF(AND(J24="",E$10=""),"",PRODUCT(J24,$E$10)))) | L24: =IF(ISERROR(RANK(J24,$J$21:$J$57))," ",IF(RANK(J24,$J$21:$J$57)=1,"1er",RANK(J24,$J$21:$J$57)&"ème"))
A25: =IF(COUNTBLANK(C25),"",A24+1) | B25: =IF(ISBLANK(eleves!B21),"",eleves!B21) | C25: =IF(ISBLANK(eleves!C21),"",eleves!C21) | D25: =IF(ISBLANK(eleves!D21),"",eleves!D21) | E25: =IF(ISBLANK(eleves!E21),"",eleves!E21) | F25: =IF(ISBLANK(eleves!F21),"",eleves!F21) | I25: =IF(ISERROR(OR(AND($G$18:$H$18),G25,AND(G25:H25))),"",SUMPRODUCT(G25:H25,$G$18:$H$18)) | J25: =IF(ISERROR(OR(AND($G$18:$H$18),G25,AND(G25:H25))),"",TRUNC(SUMPRODUCT(G25:H25,$G$18:$H$18)/SUMIF(G25:H25,">=0",$G$18:$H$18),2)) | K25: =IF($E$10="","",IF(J25="","",IF(AND(J25="",E$10=""),"",PRODUCT(J25,$E$10)))) | L25: =IF(ISERROR(RANK(J25,$J$21:$J$57))," ",IF(RANK(J25,$J$21:$J$57)=1,"1er",RANK(J25,$J$21:$J$57)&"ème"))
A26: =IF(COUNTBLANK(C26),"",A25+1) | B26: =IF(ISBLANK(eleves!B22),"",eleves!B22) | C26: =IF(ISBLANK(eleves!C22),"",eleves!C22) | D26: =IF(ISBLANK(eleves!D22),"",eleves!D22) | E26: =IF(ISBLANK(eleves!E22),"",eleves!E22) | F26: =IF(ISBLANK(eleves!F22),"",eleves!F22) | I26: =IF(ISERROR(OR(AND($G$18:$H$18),G26,AND(G26:H26))),"",SUMPRODUCT(G26:H26,$G$18:$H$18)) | J26: =IF(ISERROR(OR(AND($G$18:$H$18),G26,AND(G26:H26))),"",TRUNC(SUMPRODUCT(G26:H26,$G$18:$H$18)/SUMIF(G26:H26,">=0",$G$18:$H$18),2)) | K26: =IF($E$10="","",IF(J26="","",IF(AND(J26="",E$10=""),"",PRODUCT(J26,$E$10)))) | L26: =IF(ISERROR(RANK(J26,$J$21:$J$57))," ",IF(RANK(J26,$J$21:$J$57)=1,"1er",RANK(J26,$J$21:$J$57)&"ème"))
A27: =IF(COUNTBLANK(C27),"",A26+1) | B27: =IF(ISBLANK(eleves!B23),"",eleves!B23) | C27: =IF(ISBLANK(eleves!C23),"",eleves!C23) | D27: =IF(ISBLANK(eleves!D23),"",eleves!D23) | E27: =IF(ISBLANK(eleves!E23),"",eleves!E23) | F27: =IF(ISBLANK(eleves!F23),"",eleves!F23) | I27: =IF(ISERROR(OR(AND($G$18:$H$18),G27,AND(G27:H27))),"",SUMPRODUCT(G27:H27,$G$18:$H$18)) | J27: =IF(ISERROR(OR(AND($G$18:$H$18),G27,AND(G27:H27))),"",TRUNC(SUMPRODUCT(G27:H27,$G$18:$H$18)/SUMIF(G27:H27,">=0",$G$18:$H$18),2)) | K27: =IF($E$10="","",IF(J27="","",IF(AND(J27="",E$10=""),"",PRODUCT(J27,$E$10)))) | L27: =IF(ISERROR(RANK(J27,$J$21:$J$57))," ",IF(RANK(J27,$J$21:$J$57)=1,"1er",RANK(J27,$J$21:$J$57)&"ème"))
A28: =IF(COUNTBLANK(C28),"",A27+1) | B28: =IF(ISBLANK(eleves!B24),"",eleves!B24) | C28: =IF(ISBLANK(eleves!C24),"",eleves!C24) | D28: =IF(ISBLANK(eleves!D24),"",eleves!D24) | E28: =IF(ISBLANK(eleves!E24),"",eleves!E24) | F28: =IF(ISBLANK(eleves!F24),"",eleves!F24) | I28: =IF(ISERROR(OR(AND($G$18:$H$18),G28,AND(G28:H28))),"",SUMPRODUCT(G28:H28,$G$18:$H$18)) | J28: =IF(ISERROR(OR(AND($G$18:$H$18),G28,AND(G28:H28))),"",TRUNC(SUMPRODUCT(G28:H28,$G$18:$H$18)/SUMIF(G28:H28,">=0",$G$18:$H$18),2)) | K28: =IF($E$10="","",IF(J28="","",IF(AND(J28="",E$10=""),"",PRODUCT(J28,$E$10)))) | L28: =IF(ISERROR(RANK(J28,$J$21:$J$57))," ",IF(RANK(J28,$J$21:$J$57)=1,"1er",RANK(J28,$J$21:$J$57)&"ème"))

Sheet annuel
