Workbook

Sheet Feed to Bancware - ICF May
A1: Rate_Driver | B1: Allrate | C1: Base rate | D1: CouponToday | E1: IntPmtDate | F1: PoolRateAdj | G1: PrinPmtDate | H1: PrevPmtDate | I1: ReprDate | J1: UserText1 | K1: ReportDate
A2: 3M EUR EURIBOR | B2: =(INDEX('base rate'!$1:$1048576,MATCH(WORKDAY(H2,-3),'base rate'!$A:$A,0),MATCH(A2,'base rate'!$7:$7,0))/100)+F2 -> 0.02332 | C2: =0.212/100 -> 0.00212 | D2: =C2+F2 -> 0.02332 | E2: =IF(LEFT(J2,6)="ICF-TL",VLOOKUP(LEFT(J2,6),'Data source'!$A$1:$D$4,3,FALSE),IF(LEFT(J2,6)="ICF-RC",VLOOKUP(LEFT(J2,6),'Data source'!$A$1:$D$4,3,FALSE),IF(LEFT(J2,6)="ICF-LR",VLOOKUP(LEFT(J2,6),'Data source'!$A$1:$D$4,3,FALSE),""))) -> 41455 | F2: 0.0212 | G2: 45838 | H2: =IF(LEFT(J2,6)="ICF-TL",VLOOKUP(LEFT(J2,6),'Data source'!$A$1:$D$4,4,FALSE),IF(LEFT(J2,6)="ICF-RC",VLOOKUP(LEFT(J2,6),'Data source'!$A$1:$D$4,4,FALSE),IF(LEFT(J2,6)="ICF-LR",VLOOKUP(LEFT(J2,6),'Data source'!$A$1:$D$4,4,FALSE),""))) -> 41364 | I2: =E2 -> 41455 | J2: ICF-TLEUR06 | K2: 41425
A3: 3M EUR EURIBOR | B3: =(INDEX('base rate'!$1:$1048576,MATCH(WORKDAY(H3,-3),'base rate'!$A:$A,0),MATCH(A3,'base rate'!$7:$7,0))/100)+F3 -> 0.02332 | C3: =0.212/100 -> 0.00212 | D3: =C3+F3 -> 0.02332 | E3: =IF(LEFT(J3,6)="ICF-TL",VLOOKUP(LEFT(J3,6),'Data source'!$A$1:$D$4,3,FALSE),IF(LEFT(J3,6)="ICF-RC",VLOOKUP(LEFT(J3,6),'Data source'!$A$1:$D$4,3,FALSE),IF(LEFT(J3,6)="ICF-LR",VLOOKUP(LEFT(J3,6),'Data source'!$A$1:$D$4,3,FALSE),""))) -> 41455 | F3: 0.0212 | G3: 45747 | H3: =IF(LEFT(J3,6)="ICF-TL",VLOOKUP(LEFT(J3,6),'Data source'!$A$1:$D$4,4,FALSE),IF(LEFT(J3,6)="ICF-RC",VLOOKUP(LEFT(J3,6),'Data source'!$A$1:$D$4,4,FALSE),IF(LEFT(J3,6)="ICF-LR",VLOOKUP(LEFT(J3,6),'Data source'!$A$1:$D$4,4,FALSE),""))) -> 41364 | I3: =E3 -> 41455 | J3: ICF-TLEUR05 | K3: 41425
A4: 3M EUR EURIBOR | B4: =(INDEX('base rate'!$1:$1048576,MATCH(WORKDAY(H4,-3),'base rate'!$A:$A,0),MATCH(A4,'base rate'!$7:$7,0))/100)+F4 -> 0.02332 | C4: =0.212/100 -> 0.00212 | D4: =C4+F4 -> 0.02332 | E4: =IF(LEFT(J4,6)="ICF-TL",VLOOKUP(LEFT(J4,6),'Data source'!$A$1:$D$4,3,FALSE),IF(LEFT(J4,6)="ICF-RC",VLOOKUP(LEFT(J4,6),'Data source'!$A$1:$D$4,3,FALSE),IF(LEFT(J4,6)="ICF-LR",VLOOKUP(LEFT(J4,6),'Data source'!$A$1:$D$4,3,FALSE),""))) -> 41455 | F4: 0.0212 | G4: 45565 | H4: =IF(LEFT(J4,6)="ICF-TL",VLOOKUP(LEFT(J4,6),'Data source'!$A$1:$D$4,4,FALSE),IF(LEFT(J4,6)="ICF-RC",VLOOKUP(LEFT(J4,6),'Data source'!$A$1:$D$4,4,FALSE),IF(LEFT(J4,6)="ICF-LR",VLOOKUP(LEFT(J4,6),'Data source'!$A$1:$D$4,4,FALSE),""))) -> 41364 | I4: =E4 -> 41455 | J4: ICF-TLEUR01 | K4: 41425
A5: 3M SEK STIBOR | B5: =(INDEX('base rate'!$1:$1048576,MATCH(WORKDAY(H5,-3),'base rate'!$A:$A,0),MATCH(A5,'base rate'!$7:$7,0))/100)+F5 -> 0.106853 | C5: =8.3373/100 -> 0.083373 | D5: =C5+F5 -> 0.106873 | E5: =IF(LEFT(J5,6)="ICF-TL",VLOOKUP(LEFT(J5,6),'Data source'!$A$1:$D$4,3,FALSE),IF(LEFT(J5,6)="ICF-RC",VLOOKUP(LEFT(J5,6),'Data source'!$A$1:$D$4,3,FALSE),IF(LEFT(J5,6)="ICF-LR",VLOOKUP(LEFT(J5,6),'Data source'!$A$1:$D$4,3,FALSE),""))) -> 41470 | F5: 0.0235 | G5: 42991 | H5: =IF(LEFT(J5,6)="ICF-TL",VLOOKUP(LEFT(J5,6),'Data source'!$A$1:$D$4,4,FALSE),IF(LEFT(J5,6)="ICF-RC",VLOOKUP(LEFT(J5,6),'Data source'!$A$1:$D$4,4,FALSE),IF(LEFT(J5,6)="ICF-LR",VLOOKUP(LEFT(J5,6),'Data source'!$A$1:$D$4,4,FALSE),""))) -> 41379 | I5: =E5 -> 41470 | J5: ICF-RCASEK01 | K5: 41425
A6: 3M PLN WIBOR | B6: =(INDEX('base rate'!$1:$1048576,MATCH(WORKDAY(H6,-3),'base rate'!$A:$A,0),MATCH(A6,'base rate'!$7:$7,0))/100)+F6 -> 0.0411 | C6: =3.15/100 -> 0.0315 | D6: =C6+F6 -> 0.041 | E6: =IF(LEFT(J6,6)="ICF-TL",VLOOKUP(LEFT(J6,6),'Data source'!$A$1:$D$4,3,FALSE),IF(LEFT(J6,6)="ICF-RC",VLOOKUP(LEFT(J6,6),'Data source'!$A$1:$D$4,3,FALSE),IF(LEFT(J6,6)="ICF-LR",VLOOKUP(LEFT(J6,6),'Data source'!$A$1:$D$4,3,FALSE),""))) -> 41470 | F6: 0.0095 | G6: 43075 | H6: =IF(LEFT(J6,6)="ICF-TL",VLOOKUP(LEFT(J6,6),'Data source'!$A$1:$D$4,4,FALSE),IF(LEFT(J6,6)="ICF-RC",VLOOKUP(LEFT(J6,6),'Data source'!$A$1:$D$4,4,FALSE),IF(LEFT(J6,6)="ICF-LR",VLOOKUP(LEFT(J6,6),'Data source'!$A$1:$D$4,4,FALSE),""))) -> 41379 | I6: =E6 -> 41470 | J6: ICF-RCAPLN02 | K6: 41425

Sheet base rate
A1: Date interest rate calculation | B1: 41288
B2: EURIBOR | G2: LIBOR | P2: CHANGE | Z2: SEK STIBOR | AA2: HKD HIBOR | AB2: SGD SORF | AC2: DKK CIBOR
B3: =AVERAGE(B8:B801) -> 0.079361702 | C3: =AVERAGE(C8:C801) -> 0.11429433 | D3: =AVERAGE(D8:D801) -> 0.1607234 | E3: =AVERAGE(E8:E801) -> 0.20810284 | G3: =AVERAGE(G8:G801) -> 0.30606968 | H3: =AVERAGE(H8:H801) -> 0.52963145 | I3: =AVERAGE(I8:I801) -> 0.025216312 | J3: =AVERAGE(J8:J801) -> 1.4788298 | K3: =AVERAGE(K8:K801) -> 0.17916223 | L3: =AVERAGE(L8:L801) -> 1.6687234 | M3: =AVERAGE(M8:M801) -> 1.216984 | N3: =AVERAGE(N8:N801) -> 3.7946809 | ... X3: =AVERAGE(X8:X801) -> 0.58038298 | Z3: =AVERAGE(Z8:Z801) -> 8.5439642 | AA3: =AVERAGE(AA8:AA801) -> 0.38810163 | AB3: =AVERAGE(AB8:AB801) -> 0.37717663 | AC3: =AVERAGE(AC8:AC801) -> 0.28873333 | AD3: =AVERAGE(AD8:AD801) -> 3.2503125
E4: EUR | G4: USD | H4: GBP | I4: CHF | J4: SEK | K4: DKK | L4: NOK | M4: CAD | N4: PLN | T4: JPY | U4: AUD | Z4: SEK | AA4: HKD | AB4: SGD | AC4: DKK
B5: 1 | C5: 2 | D5: 3 | E5: 4 | G5: 5 | H5: =G5+1 -> 6 | I5: =H5+1 -> 7 | J5: =I5+1 -> 8 | K5: =J5+1 -> 9 | L5: =K5+1 -> 10 | M5: =L5+1 -> 11 | N5: =M5+1 -> 12 | P5: =N5+1 -> 13 | Q5: =P5+1 -> 14 | S5: =Q5+1 -> 15 | T5: =S5+1 -> 16 | U5: 17 | W5: =U5+1 -> 18 | X5: =W5+1 -> 19 | Z5: =X5+1 -> 20 | AA5: 21 | AB5: 22 | AC5: 23 | AD5: 24
B6: EONIA= | C6: EURIBOR 1M | D6: EURIBOR 2M | E6: EURIBOR 3M | G6: USD 3M | H6: GBP3M | I6: CHF3M | J6: SEK3M | K6: DKK3M | L6: NOK3M | M6: CAD3M | N6: PLN3M | P6: EURUSD | Q6: EURGBP | S6: GBP2M | T6: JPY3M | U6: AUD3M | W6: EURIBOR6M | X6: EURIBOR1Y | Z6: EURSEKREF= | AA6: HIHKD3MD= | AB6: SISGD3MD= | AC6: CIDKK3MD= | AD6: WIPLN3MD=
B7: EONIA= | C7: EURIBOR 1M | D7: EURIBOR 2M | E7: 3M EUR EURIBOR | G7: 3M USD LIBOR | H7: 3M GBP LIBOR | I7: 3M CHF LIBOR | J7: SEK3M | K7: DKK3M | L7: NOK3M | M7: 3M CAD BA | N7: PLN3M | P7: EURUSD | Q7: EURGBP | S7: GBP2M | T7: 3M JPY LIBOR | U7: 3M AUD BBSW | W7: EURIBOR6M | X7: EURIBOR1Y | Z7: 3M SEK STIBOR | AA7: 3M HKD HIBOR | AB7: SISGD3MD= | AC7: 3M DKK CIBOR | AD7: 3M PLN WIBOR
A8: 41153 | B8: 0.11 | C8: 0.121 | D8: 0.177 | E8: 0.278 | G8: 0.41825 | H8: 0.68125 | I8: 0.046 | J8: 2.1725 | K8: 0.225 | L8: 1.87 | M8: 1.285 | N8: 4.7 | P8: 1.2611 | Q8: 0.79525 | S8: 0.53125 | T8: 0.19443 | U8: 3.978 | W8: 0.537 | X8: 0.805 | Z8: 8.4161 | AA8: 0.40071 | AB8: 0.375 | AC8: 0.314
A9: 41154 | B9: 0.11 | C9: 0.121 | D9: 0.177 | E9: 0.278 | G9: 0.41825 | H9: 0.68125 | I9: 0.046 | J9: 2.1725 | K9: 0.225 | L9: 1.87 | M9: 1.285 | N9: 4.7 | P9: 1.2611 | Q9: 0.79525 | S9: 0.53125 | T9: 0.19443 | U9: 3.978 | W9: 0.537 | X9: 0.805 | Z9: 8.4161 | AA9: 0.40071 | AB9: 0.375 | AC9: 0.314
A10: 41155 | B10: 0.108 | C10: 0.122 | D10: 0.179 | E10: 0.276 | G10: 0.41435 | H10: 0.68125 | I10: 0.046 | J10: 2.1725 | K10: 0.225 | L10: 1.82 | M10: 1.285 | N10: 4.65 | P10: 1.2568 | Q10: 0.7912 | S10: 0.53125 | T10: 0.19443 | U10: 3.974 | W10: 0.533 | X10: 0.798 | Z10: 8.4161 | AA10: 0.40071 | AB10: 0.375 | AC10: 0.314
A11: 41156 | B11: 0.102 | C11: 0.122 | D11: 0.178 | E11: 0.273 | G11: 0.41185 | H11: 0.68 | I11: 0.046 | J11: 2.1725 | K11: 0.225 | L11: 1.79 | M11: 1.285 | N11: 4.65 | P11: 1.2579 | Q11: 0.7921 | S11: 0.53 | T11: 0.19443 | U11: 3.976 | W11: 0.528 | X11: 0.791 | Z11: 8.4075 | AA11: 0.4 | AB11: 0.375 | AC11: 0.314
A12: 41157 | B12: 0.107 | C12: 0.121 | D12: 0.177 | E12: 0.269 | G12: 0.40985 | H12: 0.67688 | I12: 0.046 | J12: 2.1725 | K12: 0.225 | L12: 1.8 | M12: 1.283 | N12: 4.65 | P12: 1.2578 | Q12: 0.79035 | S12: 0.52938 | T12: 0.19443 | U12: 3.968 | W12: 0.521 | X12: 0.782 | Z12: 8.4415 | AA12: 0.4 | AB12: 0.375 | AC12: 0.314
A13: 41158 | B13: 0.108 | C13: 0.121 | D13: 0.177 | E13: 0.266 | G13: 0.40835 | H13: 0.67688 | I13: 0.046 | J13: 2.0425 | K13: 0.225 | L13: 1.78 | M13: 1.283 | N13: 4.65 | P13: 1.2638 | Q13: 0.7936 | S13: 0.52813 | T13: 0.19443 | U13: 3.972 | W13: 0.518 | X13: 0.776 | Z13: 8.5026 | AA13: 0.4 | AB13: 0.375 | AC13: 0.314
A14: 41159 | B14: 0.105 | C14: 0.121 | D14: 0.176 | E14: 0.265 | G14: 0.40775 | H14: 0.67563 | I14: 0.046 | J14: 2.0325 | K14: 0.225 | L14: 1.81 | M14: 1.283 | N14: 4.65 | P14: 1.2706 | Q14: 0.7967 | S14: 0.52813 | T14: 0.19443 | U14: 3.974 | W14: 0.515 | X14: 0.773 | Z14: 8.4865 | AA14: 0.4 | AB14: 0.375 | AC14: 0.316
A15: 41160 | B15: 0.105 | C15: 0.121 | D15: 0.176 | E15: 0.265 | G15: 0.40775 | H15: 0.67563 | I15: 0.046 | J15: 2.0325 | K15: 0.225 | L15: 1.81 | M15: 1.283 | N15: 4.65 | P15: 1.2706 | Q15: 0.7967 | S15: 0.52813 | T15: 0.19443 | U15: 3.974 | W15: 0.515 | X15: 0.773 | Z15: 8.4935 | AA15: 0.4 | AB15: 0.375 | AC15: 0.314
A16: 41161 | B16: 0.105 | C16: 0.121 | D16: 0.176 | E16: 0.265 | G16: 0.40775 | H16: 0.67563 | I16: 0.046 | J16: 2.0325 | K16: 0.225 | L16: 1.81 | M16: 1.283 | N16: 4.65 | P16: 1.2706 | Q16: 0.7967 | S16: 0.52813 | T16: 0.19443 | U16: 3.974 | W16: 0.515 | X16: 0.773 | Z16: 8.4935 | AA16: 0.4 | AB16: 0.375 | AC16: 0.314
A17: 41162 | B17: 0.101 | C17: 0.12 | D17: 0.175 | E17: 0.261 | G17: 0.40425 | H17: 0.67563 | I17: 0.046 | J17: 2.025 | K17: 0.225 | L17: 1.74 | M17: 1.283 | N17: 4.65 | P17: 1.2776 | Q17: 0.7997 | S17: 0.52688 | T17: 0.19443 | U17: 3.972 | W17: 0.509 | X17: 0.766 | Z17: 8.4935 | AA17: 0.4 | AB17: 0.375 | AC17: 0.314
A18: 41163 | B18: 0.1 | C18: 0.12 | D18: 0.175 | E18: 0.258 | G18: 0.39875 | H18: 0.66938 | I18: 0.046 | J18: 2.0125 | K18: 0.225 | L18: 1.74 | M18: 1.283 | N18: 4.65 | P18: 1.2787 | Q18: 0.7978 | S18: 0.52563 | T18: 0.19443 | U18: 3.974 | W18: 0.501 | X18: 0.759 | Z18: 8.4773 | AA18: 0.4 | AB18: 0.375 | AC18: 0.312
A19: 41164 | B19: 0.101 | C19: 0.12 | D19: 0.174 | E19: 0.255 | G19: 0.39425 | H19: 0.66625 | I19: 0.046 | J19: 1.985 | K19: 0.225 | L19: 1.73 | M19: 1.283 | N19: 4.66 | P19: 1.2896 | Q19: 0.8017 | S19: 0.52563 | T19: 0.19443 | U19: 3.972 | W19: 0.496 | X19: 0.753 | Z19: 8.4735 | AA19: 0.4 | AB19: 0.37833 | AC19: 0.312
... A129: 41274 | B129: 0.131 | C129: 0.109 | D129: 0.148 | E129: 0.187 | G129: 0.306 | H129: 0.515 | I129: 0.012 | J129: 1.43 | K129: 0.1475 | L129: 1.63 | M129: 1.235 | N129: 4.04 | P129: 1.3194 | Q129: 0.8161 | S129: 0.49313 | T129: 0.17571 | U129: 3.238 | W129: 0.32 | X129: 0.542 | Z129: 8.582 | AA129: 0.39821 | AB129: 0.37667 | AC129: 0
A130: 41275 | B130: 0.131 | C130: 0.109 | D130: 0.148 | E130: 0.187 | G130: 0.306 | H130: 0.515 | I130: 0.012 | J130: 1.43 | K130: 0.1475 | L130: 1.63 | M130: 1.235 | N130: 4.04 | P130: 1.3194 | Q130: 0.8161 | S130: 0.49313 | T130: 0.17571 | U130: 3.238 | W130: 0.32 | X130: 0.542 | Z130: 8.582 | AA130: 0.39722 | AB130: 0.37667 | AC130: 0.28 | AD130: 3.91
A131: 41276 | B131: 0.062 | C131: 0.109 | D131: 0.15 | E131: 0.188 | G131: 0.305 | H131: 0.515 | I131: 0.012 | J131: 1.4275 | K131: 0.1475 | L131: 1.62 | M131: 1.235 | N131: 4.2 | P131: 1.3262 | Q131: 0.814 | S131: 0.49313 | T131: 0.17429 | U131: 3.246 | W131: 0.319 | X131: 0.543 | Z131: 8.5704 | AA131: 0.39667 | AB131: 0.37667 | AC131: 0.28 | AD131: 3.9
A132: 41277 | B132: 0.066 | C132: 0.109 | D132: 0.15 | E132: 0.189 | G132: 0.305 | H132: 0.515 | I132: 0.012 | J132: 1.415 | K132: 0.1475 | L132: 1.64 | M132: 1.236 | N132: 4.3 | P132: 1.3102 | Q132: 0.81075 | S132: 0.49313 | T132: 0.17429 | U132: 3.238 | W132: 0.32 | X132: 0.544 | Z132: 8.5398 | AA132: 0.39667 | AB132: 0.37667 | AC132: 0.28 | AD132: 3.89
A133: 41278 | B133: 0.068 | C133: 0.11 | D133: 0.154 | E133: 0.191 | G133: 0.305 | H133: 0.515 | I133: 0.012 | J133: 1.41 | K133: 0.1475 | L133: 1.64 | M133: 1.237 | N133: 4.05 | P133: 1.3012 | Q133: 0.8123 | S133: 0.49313 | T133: 0.17429 | U133: 3.234 | W133: 0.324 | X133: 0.549 | Z133: 8.531 | AA133: 0.39667 | AB133: 0.37667 | AC133: 0.278 | AD133: 3.88
A134: 41279 | B134: 0.068 | C134: 0.11 | D134: 0.154 | E134: 0.191 | G134: 0.305 | H134: 0.515 | I134: 0.012 | J134: 1.41 | K134: 0.1475 | L134: 1.64 | M134: 1.237 | N134: 4.05 | P134: 1.3012 | Q134: 0.8123 | S134: 0.49313 | T134: 0.17429 | U134: 3.234 | W134: 0.324 | X134: 0.549 | Z134: 8.531 | AA134: 0.39667 | AB134: 0.37667 | AC134: 0.278 | AD134: 3.88
A135: 41280 | B135: 0.068 | C135: 0.11 | D135: 0.154 | E135: 0.191 | G135: 0.305 | H135: 0.515 | I135: 0.012 | J135: 1.41 | K135: 0.1475 | L135: 1.64 | M135: 1.237 | N135: 4.05 | P135: 1.3012 | Q135: 0.8123 | S135: 0.49313 | T135: 0.17429 | U135: 3.234 | W135: 0.324 | X135: 0.549 | Z135: 8.531 | AA135: 0.39667 | AB135: 0.37667 | AC135: 0.278 | AD135: 3.88
A136: 41281 | B136: 0.066 | C136: 0.11 | D136: 0.155 | E136: 0.192 | G136: 0.305 | H136: 0.51375 | I136: 0.012 | J136: 1.3975 | K136: 0.1475 | L136: 1.64 | M136: 1.237 | N136: 4.05 | P136: 1.3039 | Q136: 0.8117 | S136: 0.49313 | T136: 0.17429 | U136: 3.234 | W136: 0.325 | X136: 0.55 | Z136: 8.5144 | AA136: 0.39667 | AB136: 0.37667 | AC136: 0.276 | AD136: 3.87
A137: 41282 | B137: 0.067 | C137: 0.11 | D137: 0.155 | E137: 0.192 | G137: 0.305 | H137: 0.51375 | I137: 0.012 | J137: 1.3875 | K137: 0.1475 | L137: 1.66 | M137: 1.235 | N137: 3.95 | P137: 1.3086 | Q137: 0.8145 | S137: 0.4925 | T137: 0.17286 | U137: 3.234 | W137: 0.326 | X137: 0.551 | Z137: 8.5766 | AA137: 0.39667 | AB137: 0.37667 | AC137: 0.278 | AD137: 3.86
A138: 41283 | B138: 0.069 | C138: 0.11 | D138: 0.156 | E138: 0.192 | G138: 0.305 | H138: 0.5125 | I138: 0.014 | J138: 1.3725 | K138: 0.1475 | L138: 1.64 | M138: 1.235 | N138: 3.95 | P138: 1.3056 | Q138: 0.81505 | S138: 0.4925 | T138: 0.17286 | U138: 3.232 | W138: 0.326 | X138: 0.551 | Z138: 8.5954 | AA138: 0.39667 | AB138: 0.37667 | AC138: 0.274 | AD138: 3.85
A139: 41284 | B139: 0.069 | C139: 0.11 | D139: 0.155 | E139: 0.19 | G139: 0.305 | H139: 0.5125 | I139: 0.014 | J139: 1.365 | K139: 0.1475 | L139: 1.68 | M139: 1.233 | N139: 3.85 | P139: 1.3113 | Q139: 0.8172 | S139: 0.4925 | T139: 0.17286 | U139: 3.232 | W139: 0.325 | X139: 0.55 | Z139: 8.5666 | AA139: 0.39667 | AB139: 0.37667 | AC139: 0.274 | AD139: 3.84
A140: 41285 | B140: 0.067 | C140: 0.111 | D140: 0.158 | E140: 0.195 | G140: 0.304 | H140: 0.5125 | I140: 0.016 | J140: 1.3575 | K140: 0.1475 | L140: 1.66 | M140: 1.233 | N140: 3.95 | P140: 1.3274 | Q140: 0.8232 | S140: 0.4925 | T140: 0.17214 | U140: 3.234 | W140: 0.331 | X140: 0.559 | Z140: 8.6248 | AA140: 0.38667 | AB140: 0.37667 | AC140: 0.286 | AD140: 3.83
A141: 41286 | B141: 0.067 | C141: 0.111 | D141: 0.158 | E141: 0.195 | G141: 0.304 | H141: 0.5125 | I141: 0.016 | J141: 1.3575 | K141: 0.1475 | L141: 1.66 | M141: 1.233 | N141: 3.95 | P141: 1.3274 | Q141: 0.8232 | S141: 0.4925 | T141: 0.17214 | U141: 3.234 | W141: 0.331 | X141: 0.559 | Z141: 8.6248 | AA141: 0.38667 | AB141: 0.37667 | AC141: 0.286 | AD141: 3.83
... A289: 41434 | B289: 0.078 | C289: 0.115 | D289: 0.163 | E289: 0.203 | G289: 0.27515 | H289: 0.50575 | I289: 0.016 | J289: 1.30875 | K289: 0.175 | L289: 1.57 | M289: 1.1735 | N289: 2.65 | P289: 1.326 | Q289: 0.8513 | S289: 0.4925 | T289: 0.15429 | U289: 2.957 | W289: 0.308 | X289: 0.49 | Z289: 8.6912 | AA289: 0.37444 | AB289: 0.37667 | AC289: 0.25 | AD289: 2.55
A290: 41435
A291: 41436
A292: 41437
A293: 41438
A294: 41439
A295: 41440
A296: 41441
A297: 41442
A298: 41443
A299: 41444
A300: 41445
A301: 41446
... A310: 41455

Sheet Data source
C1: Intpmtdate | D1: Prevpmtdate
A2: ICF-TL | B2: 12/31 - 03/31 - 06/30 - 09/30 | C2: 41455 | D2: 41364
A3: ICF-RC | B3: 01/15 - 04/15 - 07/15 - 10-15 | C3: 41470 | D3: 41379
A4: ICF-LR | B4: 01/15 - 04/15 - 07/15 - 10-15 | C4: 41470 | D4: 41379
