Workbook
Name champ: Feuil4!$A$2:$B$19

Sheet Feuil1
F1: HOPITAL DE JOUR
A5: Emplacement étiquette séjour | D5: CONTRAT DE SOINS
A10: Nom: | B10: =[1]Feuil1!$A$5 -> bidul | E10: Prénom: | F10: =[1]Feuil1!$B$5 -> z
D15: Planning d'Activités
B19: Lundi | C19: Mardi | D19: Mercredi | E19: Jeudi | F19: Vendredi
A20: Matin
A21: Après midi
B26: Contrat du | C26: 41421 | D26: au | E26: =VLOOKUP($C$26,champ,2,FALSE) -> 41432 | F26: Initial
A32: Référent médical, | D32: Référent Infirmier, | F32: Cadre référent,
A33: Docteur | B33: =[1]Feuil1!$C$5 -> H
A36: Respect des jours et des horaires, de 9h30 à 16h30
A38: Toute absence devra être justifiée dans les meilleurs délais auprès de l'équipe soignante:
B39:  la durée du contrat sera fixée en accord avec le patient, l'equipe soignante et après avis médical
B41:  interdiction de fumer pendant l'activité dans les locaux
C44: Signature

Sheet Feuil2
F1: Hopital de Jour
A5: Emplacement étiquette séjour | D5: CONTRAT DE SOINS
A10: Nom: | B10: =[2]Feuil1!$A$7 -> machun | E10: Prénom: | F10: =[2]Feuil1!$B$7 -> x
D15: Planning d'Activités
B19: Lundi | C19: Mardi | D19: Mercredi | E19: Jeudi | F19: Vendredi
A20: Matin
A21: Après midi
B26: Contrat du | D26: au | G26: Initial
A32: Référent médical, | D32: Référent Infirmier, | G32: Cadre référent,
A33: Docteur | B33: =[2]Feuil1!$C$7 -> G
A36: Respect des jours et des horaires, de 9h30 à 16h30
A38: Toute absence devra être justifiée dans les meilleurs délais auprès de l'équipe soignante:
B39:  la durée du contrat sera fixée en accord avec le patient, l'equipe soignante et après avis médical
B41:  interdiction de fumer pendant l'activité dans les locaux
C44: Signature

Sheet Feuil3
F1: Hopital de Jour
A5: Emplacement étiquette séjour | D5: CONTRAT DE SOINS
A10: Nom: | B10: =[2]Feuil1!$A$9 -> truc | E10: Prénom: | F10: =[2]Feuil1!$B$9 -> e
D15: Planning d'Activités
B19: Lundi | C19: Mardi | D19: Mercredi | E19: Jeudi | F19: Vendredi
A20: Matin
A21: Après midi
B26: Contrat du | D26: au | G26: Initial
A32: Référent médical, | D32: Référent Infirmier, | G32: Cadre référent,
A33: Docteur | B33: =[2]Feuil1!$C$9 -> T
A36: Respect des jours et des horaires, de 9h30 à 16h30
A38: Toute absence devra être justifiée dans les meilleurs délais auprès de l'équipe soignante:
B39:  la durée du contrat sera fixée en accord avec le patient, l'equipe soignante et après avis médical
B41:  interdiction de fumer pendant l'activité dans les locaux
C44: Signature

Sheet Feuil4
A1: MENU DEROULANT DATES | D1: DEROULANT SI
A2: 41407 | B2: =A2+11 -> 41418 | D2: =IF(Feuil1!C26+Feuil4!C26=Feuil4!A2,Feuil4!B2) -> FALSE
A3: =A2+14 -> 41421 | B3: =B2+14 -> 41432 | D3: =IF(Feuil1!C26+Feuil4!C27=Feuil4!A3,Feuil4!B3) -> 41432
A4: =A3+14 -> 41435 | B4: =B3+14 -> 41446 | D4: =IF(Feuil1!C26+Feuil4!C28=Feuil4!A4,Feuil4!B4) -> FALSE
A5: =A4+14 -> 41449 | B5: =B4+14 -> 41460 | D5: =IF(Feuil1!C26+Feuil4!C29=Feuil4!A5,Feuil4!B5) -> FALSE
A6: =A5+14 -> 41463 | B6: =B5+14 -> 41474 | D6: =IF(Feuil1!C26+Feuil4!C30=Feuil4!A6,Feuil4!B6) -> FALSE
A7: =A6+14 -> 41477 | B7: =B6+14 -> 41488 | D7: =IF(Feuil1!C26+Feuil4!C31=Feuil4!A7,Feuil4!B7) -> FALSE
A8: =A7+14 -> 41491 | B8: =B7+14 -> 41502 | D8: =IF(Feuil1!C26+Feuil4!C32=Feuil4!A8,Feuil4!B8) -> FALSE
A9: =A8+14 -> 41505 | B9: =B8+14 -> 41516 | D9: =IF(Feuil1!C26+Feuil4!C33=Feuil4!A9,Feuil4!B9) -> FALSE
A10: =A9+14 -> 41519 | B10: =B9+14 -> 41530 | D10: =IF(Feuil1!C26+Feuil4!C34=Feuil4!A10,Feuil4!B10) -> FALSE
A11: =A10+14 -> 41533 | B11: =B10+14 -> 41544 | D11: =IF(Feuil1!C26+Feuil4!C35=Feuil4!A11,Feuil4!B11) -> FALSE
A12: =A11+14 -> 41547 | B12: =B11+14 -> 41558 | D12: =IF(Feuil1!C26+Feuil4!C36=Feuil4!A12,Feuil4!B12) -> FALSE
A13: =A12+14 -> 41561 | B13: =B12+14 -> 41572 | D13: =IF(Feuil1!C26+Feuil4!C37=Feuil4!A13,Feuil4!B13) -> FALSE
A14: =A13+14 -> 41575 | B14: =B13+14 -> 41586 | D14: =IF(Feuil1!C26+Feuil4!C38=Feuil4!A14,Feuil4!B14) -> FALSE
A15: =A14+14 -> 41589 | B15: =B14+14 -> 41600 | D15: =IF(Feuil1!C26+Feuil4!C39=Feuil4!A15,Feuil4!B15) -> FALSE
A16: =A15+14 -> 41603 | B16: =B15+14 -> 41614 | D16: =IF(Feuil1!C26+Feuil4!C40=Feuil4!A16,Feuil4!B16) -> FALSE
A17: =A16+14 -> 41617 | B17: =B16+14 -> 41628 | D17: =IF(Feuil1!C26+Feuil4!C41=Feuil4!A17,Feuil4!B17) -> FALSE
A18: =A17+14 -> 41631 | B18: =B17+14 -> 41642 | D18: =IF(Feuil1!C26+Feuil4!C42=Feuil4!A18,Feuil4!B18) -> FALSE
A19: =A18+14 -> 41645 | B19: =B18+14 -> 41656 | D19: =IF(Feuil1!C26+Feuil4!C43=Feuil4!A19,Feuil4!B19) -> FALSE
D23: =INDEX(D2:D19,MATCH(FALSE,IF(D2:D19="TEST",0),0),1) -> #VALUE!

Sheet Feuil5
C1: 41400 | D1: =C1+13 -> 41413 | E1: =D1+13 -> 41426 | F1: =E1+13 -> 41439 | G1: =F1+13 -> 41452 | H1: =G1+13 -> 41465 | I1: =H1+13 -> 41478 | J1: =I1+13 -> 41491 | K1: =J1+13 -> 41504 | ... U1: =T1+13 -> 41634
A2: 1
A3: 1
A4: 2
A5: 2
A6: 3
