Workbook
Name ListCars: 'cars location'!$C$3:$C$10
Name ListeA: 'Ass + com'!$B$7
Name ListeB: 'Ass + com'!$B$8
Name ListeC: 'Ass + com'!$B$9
Name Tariflow: 'cars location'!$C$2:$AF$10

Sheet cars location
B1: Low season (1st january-31st May & 1st october-31st December)
A2: Saison | B2: CAT | C2: Car Type | D2: pointage | F2: 1 | H2: 2 | J2: 3 | L2: 4 | N2: 5 | P2: 6 | R2: 7 | T2: 8 | V2: 9 | X2: 10 | Z2: 11 | AB2: 12 | AD2: 13 | AF2: 14 | AH2: Add Day
A3: low | B3: A1 | C3: Chevrolet Matiz a/c (or similar) | D3: =IF(AND('Cars calcul'!$A$7=C3,'Cars calcul'!$C$2=A3),1,0) -> 0 | F3: 40 | G3: =D3*F3 -> 0 | H3: 70 | I3: =D3*H3 -> 0 | J3: 90 | K3: =D3*J3 -> 0 | L3: 115 | M3: =D3*L3 -> 0 | N3: 135 | O3: =D3*N3 -> 0 | P3: 155 | Q3: =D3*P3 -> 0 | R3: 170 | S3: =D3*R3 -> 0 | T3: =R3+24 -> 194 | U3: =D3*T3 -> 0 | V3: =T3+24 -> 218 | W3: =D3*V3 -> 0 | X3: =V3+24 -> 242 | Y3: =D3*X3 -> 0 | Z3: =X3+24 -> 266 | AA3: =D3*Z3 -> 0 | AB3: =Z3+24 -> 290 | AC3: =D3*AB3 -> 0 | AD3: =AB3+24 -> 314 | AE3: =D3*AD3 -> 0 | AF3: 330 | AG3: =D3*AF3 -> 0 | AH3: 23 | AI3: =D3*AH3 -> 0
A4: low | B4: B | C4: Hyundai i10 a/c (or similar) | D4: =IF(AND('Cars calcul'!$A$7=C4,'Cars calcul'!$C$2=A4),1,0) -> 0 | F4: 43 | G4: =D4*F4 -> 0 | H4: 80 | I4: =D4*H4 -> 0 | J4: 100 | K4: =D4*J4 -> 0 | L4: 125 | M4: =D4*L4 -> 0 | N4: 150 | O4: =D4*N4 -> 0 | P4: 175 | Q4: =D4*P4 -> 0 | R4: 190 | S4: =D4*R4 -> 0 | T4: =R4+26 -> 216 | U4: =D4*T4 -> 0 | V4: =T4+26 -> 242 | W4: =D4*V4 -> 0 | X4: =V4+26 -> 268 | Y4: =D4*X4 -> 0 | Z4: =X4+26 -> 294 | AA4: =D4*Z4 -> 0 | AB4: =Z4+26 -> 320 | AC4: =D4*AB4 -> 0 | AD4: =AB4+26 -> 346 | AE4: =D4*AD4 -> 0 | AF4: 350 | AG4: =D4*AF4 -> 0 | AH4: 25 | AI4: =D4*AH4 -> 0
A5: low | B5: B1 | C5: Chevrolet Matiz a/c (or similar) + open top | D5: =IF(AND('Cars calcul'!$A$7=C5,'Cars calcul'!$C$2=A5),1,0) -> 0 | F5: 42 | G5: =D5*F5 -> 0 | H5: 75 | I5: =D5*H5 -> 0 | J5: 95 | K5: =D5*J5 -> 0 | L5: 120 | M5: =D5*L5 -> 0 | N5: 145 | O5: =D5*N5 -> 0 | P5: 165 | Q5: =D5*P5 -> 0 | R5: 185 | S5: =D5*R5 -> 0 | T5: =R5+25 -> 210 | U5: =D5*T5 -> 0 | V5: =T5+25 -> 235 | W5: =D5*V5 -> 0 | X5: =V5+25 -> 260 | Y5: =D5*X5 -> 0 | Z5: =X5+25 -> 285 | AA5: =D5*Z5 -> 0 | AB5: =Z5+25 -> 310 | AC5: =D5*AB5 -> 0 | AD5: =AB5+25 -> 335 | AE5: =D5*AD5 -> 0 | AF5: 340 | AG5: =D5*AF5 -> 0 | AH5: 24 | AI5: =D5*AH5 -> 0
A6: low | B6: C | C6: Hyundai i20 a/c (or similar) | D6: =IF(AND('Cars calcul'!$A$7=C6,'Cars calcul'!$C$2=A6),1,0) -> 0 | F6: 45 | G6: =D6*F6 -> 0 | H6: 85 | I6: =D6*H6 -> 0 | J6: 115 | K6: =D6*J6 -> 0 | L6: 140 | M6: =D6*L6 -> 0 | N6: 165 | O6: =D6*N6 -> 0 | P6: 190 | Q6: =D6*P6 -> 0 | R6: 210 | S6: =D6*R6 -> 0 | T6: =R6+29 -> 239 | U6: =D6*T6 -> 0 | V6: =T6+29 -> 268 | W6: =D6*V6 -> 0 | X6: =V6+29 -> 297 | Y6: =D6*X6 -> 0 | Z6: =X6+29 -> 326 | AA6: =D6*Z6 -> 0 | AB6: =Z6+29 -> 355 | AC6: =D6*AB6 -> 0 | AD6: =AB6+29 -> 384 | AE6: =D6*AD6 -> 0 | AF6: 400 | AG6: =D6*AF6 -> 0 | AH6: 28 | AI6: =D6*AH6 -> 0
A7: low | B7: D | C7: Hyundai Accent a/c | D7: =IF(AND('Cars calcul'!$A$7=C7,'Cars calcul'!$C$2=A7),1,0) -> 0 | F7: 48 | G7: =D7*F7 -> 0 | H7: 90 | I7: =D7*H7 -> 0 | J7: 125 | K7: =D7*J7 -> 0 | L7: 150 | M7: =D7*L7 -> 0 | N7: 175 | O7: =D7*N7 -> 0 | P7: 200 | Q7: =D7*P7 -> 0 | R7: 225 | S7: =D7*R7 -> 0 | T7: =R7+31 -> 256 | U7: =D7*T7 -> 0 | V7: =T7+31 -> 287 | W7: =D7*V7 -> 0 | X7: =V7+31 -> 318 | Y7: =D7*X7 -> 0 | Z7: =X7+31 -> 349 | AA7: =D7*Z7 -> 0 | AB7: =Z7+31 -> 380 | AC7: =D7*AB7 -> 0 | AD7: =AB7+31 -> 411 | AE7: =D7*AD7 -> 0 | AF7: 430 | AG7: =D7*AF7 -> 0 | AH7: 30 | AI7: =D7*AH7 -> 0
A8: low | B8: E | C8: Suzuki Jimmy 4x4 (Jeep) | D8: =IF(AND('Cars calcul'!$A$7=C8,'Cars calcul'!$C$2=A8),1,0) -> 0 | F8: 60 | G8: =D8*F8 -> 0 | H8: 110 | I8: =D8*H8 -> 0 | J8: 150 | K8: =D8*J8 -> 0 | L8: 185 | M8: =D8*L8 -> 0 | N8: 220 | O8: =D8*N8 -> 0 | P8: 245 | Q8: =D8*P8 -> 0 | R8: 270 | S8: =D8*R8 -> 0 | T8: =R8+37 -> 307 | U8: =D8*T8 -> 0 | V8: =T8+37 -> 344 | W8: =D8*V8 -> 0 | X8: =V8+37 -> 381 | Y8: =D8*X8 -> 0 | Z8: =X8+37 -> 418 | AA8: =D8*Z8 -> 0 | AB8: =Z8+37 -> 455 | AC8: =D8*AB8 -> 0 | AD8: =AB8+37 -> 492 | AE8: =D8*AD8 -> 0 | AF8: 510 | AG8: =D8*AF8 -> 0 | AH8: 35 | AI8: =D8*AH8 -> 0
A9: low | B9: F | C9: Hyundai Accent a/c, automatic | D9: =IF(AND('Cars calcul'!$A$7=C9,'Cars calcul'!$C$2=A9),1,0) -> 0 | F9: 52 | G9: =D9*F9 -> 0 | H9: 100 | I9: =D9*H9 -> 0 | J9: 140 | K9: =D9*J9 -> 0 | L9: 170 | M9: =D9*L9 -> 0 | N9: 205 | O9: =D9*N9 -> 0 | P9: 230 | Q9: =D9*P9 -> 0 | R9: 250 | S9: =D9*R9 -> 0 | T9: =R9+35 -> 285 | U9: =D9*T9 -> 0 | V9: 480 | W9: =D9*V9 -> 0 | X9: 480 | Y9: =D9*X9 -> 0 | Z9: 480 | AA9: =D9*Z9 -> 0 | AB9: 480 | AC9: =D9*AB9 -> 0 | AD9: 480 | AE9: =D9*AD9 -> 0 | AF9: 480 | AG9: =D9*AF9 -> 0 | AH9: 34 | AI9: =D9*AH9 -> 0
A10: low | B10: G | C10: Fiat Doblo a/c (7-seater) | D10: =IF(AND('Cars calcul'!$A$7=C10,'Cars calcul'!$C$2=A10),1,0) -> 0 | F10: 75 | G10: =D10*F10 -> 0 | H10: 140 | I10: =D10*H10 -> 0 | J10: 190 | K10: =D10*J10 -> 0 | L10: 235 | M10: =D10*L10 -> 0 | N10: 280 | O10: =D10*N10 -> 0 | P10: 315 | Q10: =D10*P10 -> 0 | R10: 350 | S10: =D10*R10 -> 0 | T10: =R10+48 -> 398 | U10: =D10*T10 -> 0 | V10: 660 | W10: =D10*V10 -> 0 | X10: 660 | Y10: =D10*X10 -> 0 | Z10: 660 | AA10: =D10*Z10 -> 0 | AB10: 660 | AC10: =D10*AB10 -> 0 | AD10: 660 | AE10: =D10*AD10 -> 0 | AF10: 660 | AG10: =D10*AF10 -> 0 | AH10: 46 | AI10: =D10*AH10 -> 0
B11: Middle season (1st June-10 July & 16th september-30st September) | D11: =IF(AND('Cars calcul'!$A$7=C11,'Cars calcul'!$C$2=A11),1,0) -> 0
A12: middle | B12: CAT | C12: Car Type | D12: =IF(AND('Cars calcul'!$A$7=C12,'Cars calcul'!$C$2=A12),1,0) -> 0 | F12: 1 | H12: 2 | J12: 3 | K12: =D12*J12 -> 0 | L12: 4 | M12: =D12*L12 -> 0 | N12: 5 | P12: 6 | R12: 7 | T12: 8 | V12: 9 | X12: 10 | Z12: 11 | AB12: 12 | AD12: 13 | AF12: 14 | AH12: Add Day
A13: middle | B13: A1 | C13: Chevrolet Matiz a/c (or similar) | D13: =IF(AND('Cars calcul'!$A$7=C13,'Cars calcul'!$C$2=A13),1,0) -> 1 | F13: 42 | G13: =D13*F13 -> 42 | H13: 75 | I13: =D13*H13 -> 75 | J13: 95 | K13: =D13*J13 -> 95 | L13: 120 | M13: =D13*L13 -> 120 | N13: 145 | O13: =D13*N13 -> 145 | P13: 170 | Q13: =D13*P13 -> 170 | R13: 190 | S13: =D13*R13 -> 190 | T13: =R13+26 -> 216 | U13: =D13*T13 -> 216 | V13: =T13+26 -> 242 | W13: =D13*V13 -> 242 | X13: =V13+26 -> 268 | Y13: =D13*X13 -> 268 | Z13: =X13+26 -> 294 | AA13: =D13*Z13 -> 294 | AB13: =Z13+26 -> 320 | AC13: =D13*AB13 -> 320 | AD13: =AB13+26 -> 346 | AE13: =D13*AD13 -> 346 | AF13: =AD13+26 -> 372 | AG13: =D13*AF13 -> 372 | AH13: 24 | AI13: =D13*AH13 -> 24
A14: middle | B14: B | C14: Hyundai i10 a/c (or similar) | D14: =IF(AND('Cars calcul'!$A$7=C14,'Cars calcul'!$C$2=A14),1,0) -> 0 | F14: 44 | G14: =D14*F14 -> 0 | H14: 85 | I14: =D14*H14 -> 0 | J14: 105 | K14: =D14*J14 -> 0 | L14: 135 | M14: =D14*L14 -> 0 | N14: 160 | O14: =D14*N14 -> 0 | P14: 185 | Q14: =D14*P14 -> 0 | R14: 210 | S14: =D14*R14 -> 0 | T14: =R14+28 -> 238 | U14: =D14*T14 -> 0 | V14: =T14+28 -> 266 | W14: =D14*V14 -> 0 | X14: =V14+28 -> 294 | Y14: =D14*X14 -> 0 | Z14: =X14+28 -> 322 | AA14: =D14*Z14 -> 0 | AB14: =Z14+28 -> 350 | AC14: =D14*AB14 -> 0 | AD14: =AB14+28 -> 378 | AE14: =D14*AD14 -> 0 | AF14: =AD14+28 -> 406 | AG14: =D14*AF14 -> 0 | AH14: 27 | AI14: =D14*AH14 -> 0
A15: middle | B15: B1 | C15: Chevrolet Matiz a/c (or similar) + open top | D15: =IF(AND('Cars calcul'!$A$7=C15,'Cars calcul'!$C$2=A15),1,0) -> 0 | F15: 43 | G15: =D15*F15 -> 0 | H15: 80 | I15: =D15*H15 -> 0 | J15: 100 | K15: =D15*J15 -> 0 | L15: 125 | M15: =D15*L15 -> 0 | N15: 150 | O15: =D15*N15 -> 0 | P15: 175 | Q15: =D15*P15 -> 0 | R15: 200 | S15: =D15*R15 -> 0 | T15: =R15+27 -> 227 | U15: =D15*T15 -> 0 | V15: =T15+27 -> 254 | W15: =D15*V15 -> 0 | X15: =V15+27 -> 281 | Y15: =D15*X15 -> 0 | Z15: =X15+27 -> 308 | AA15: =D15*Z15 -> 0 | AB15: =Z15+27 -> 335 | AC15: =D15*AB15 -> 0 | AD15: =AB15+27 -> 362 | AE15: =D15*AD15 -> 0 | AF15: =AD15+27 -> 389 | AG15: =D15*AF15 -> 0 | AH15: 26 | AI15: =D15*AH15 -> 0
A16: middle | B16: C | C16: Hyundai i20 a/c (or similar) | D16: =IF(AND('Cars calcul'!$A$7=C16,'Cars calcul'!$C$2=A16),1,0) -> 0 | F16: 47 | G16: =D16*F16 -> 0 | H16: 90 | I16: =D16*H16 -> 0 | J16: 120 | K16: =D16*J16 -> 0 | L16: 145 | M16: =D16*L16 -> 0 | N16: 170 | O16: =D16*N16 -> 0 | P16: 195 | Q16: =D16*P16 -> 0 | R16: 220 | S16: =D16*R16 -> 0 | T16: =R16+30 -> 250 | U16: =D16*T16 -> 0 | V16: =T16+30 -> 280 | W16: =D16*V16 -> 0 | X16: =V16+30 -> 310 | Y16: =D16*X16 -> 0 | Z16: =X16+30 -> 340 | AA16: =D16*Z16 -> 0 | AB16: =Z16+30 -> 370 | AC16: =D16*AB16 -> 0 | AD16: =AB16+30 -> 400 | AE16: =D16*AD16 -> 0 | AF16: =AD16+30 -> 430 | AG16: =D16*AF16 -> 0 | AH16: 29 | AI16: =D16*AH16 -> 0
A17: middle | B17: D | C17: Hyundai Accent a/c | D17: =IF(AND('Cars calcul'!$A$7=C17,'Cars calcul'!$C$2=A17),1,0) -> 0 | F17: 50 | G17: =D17*F17 -> 0 | H17: 95 | I17: =D17*H17 -> 0 | J17: 130 | K17: =D17*J17 -> 0 | L17: 155 | M17: =D17*L17 -> 0 | N17: 185 | O17: =D17*N17 -> 0 | P17: 210 | Q17: =D17*P17 -> 0 | R17: 235 | S17: =D17*R17 -> 0 | T17: =R17+32 -> 267 | U17: =D17*T17 -> 0 | V17: =T17+32 -> 299 | W17: =D17*V17 -> 0 | X17: =V17+32 -> 331 | Y17: =D17*X17 -> 0 | Z17: =X17+32 -> 363 | AA17: =D17*Z17 -> 0 | AB17: =Z17+32 -> 395 | AC17: =D17*AB17 -> 0 | AD17: =AB17+32 -> 427 | AE17: =D17*AD17 -> 0 | AF17: =AD17+32 -> 459 | AG17: =D17*AF17 -> 0 | AH17: 30 | AI17: =D17*AH17 -> 0
A18: middle | B18: E | C18: Suzuki Jimmy 4x4 (Jeep) | D18: =IF(AND('Cars calcul'!$A$7=C18,'Cars calcul'!$C$2=A18),1,0) -> 0 | F18: 62 | G18: =D18*F18 -> 0 | H18: 115 | I18: =D18*H18 -> 0 | J18: 155 | K18: =D18*J18 -> 0 | L18: 190 | M18: =D18*L18 -> 0 | N18: 225 | O18: =D18*N18 -> 0 | P18: 255 | Q18: =D18*P18 -> 0 | R18: 285 | S18: =D18*R18 -> 0 | T18: =R18+39 -> 324 | U18: =D18*T18 -> 0 | V18: =T18+39 -> 363 | W18: =D18*V18 -> 0 | X18: =V18+39 -> 402 | Y18: =D18*X18 -> 0 | Z18: =X18+39 -> 441 | AA18: =D18*Z18 -> 0 | AB18: =Z18+39 -> 480 | AC18: =D18*AB18 -> 0 | AD18: =AB18+39 -> 519 | AE18: =D18*AD18 -> 0 | AF18: =AD18+39 -> 558 | AG18: =D18*AF18 -> 0 | AH18: 35 | AI18: =D18*AH18 -> 0
A19: middle | B19: F | C19: Hyundai Accent a/c, automatic | D19: =IF(AND('Cars calcul'!$A$7=C19,'Cars calcul'!$C$2=A19),1,0) -> 0 | F19: 55 | G19: =D19*F19 -> 0 | H19: 105 | I19: =D19*H19 -> 0 | J19: 145 | K19: =D19*J19 -> 0 | L19: 180 | M19: =D19*L19 -> 0 | N19: 215 | O19: =D19*N19 -> 0 | P19: 245 | Q19: =D19*P19 -> 0 | R19: 270 | S19: =D19*R19 -> 0 | T19: =R19+36 -> 306 | U19: =D19*T19 -> 0 | V19: =T19+36 -> 342 | W19: =D19*V19 -> 0 | X19: =V19+36 -> 378 | Y19: =D19*X19 -> 0 | Z19: =X19+36 -> 414 | AA19: =D19*Z19 -> 0 | AB19: =Z19+36 -> 450 | AC19: =D19*AB19 -> 0 | AD19: =AB19+36 -> 486 | AE19: =D19*AD19 -> 0 | AF19: =AD19+36 -> 522 | AG19: =D19*AF19 -> 0 | AH19: 34 | AI19: =D19*AH19 -> 0
A20: middle | B20: G | C20: Fiat Doblo a/c (7-seater) | D20: =IF(AND('Cars calcul'!$A$7=C20,'Cars calcul'!$C$2=A20),1,0) -> 0 | F20: 78 | G20: =D20*F20 -> 0 | H20: 145 | I20: =D20*H20 -> 0 | J20: 200 | K20: =D20*J20 -> 0 | L20: 245 | M20: =D20*L20 -> 0 | N20: 290 | O20: =D20*N20 -> 0 | P20: 325 | Q20: =D20*P20 -> 0 | R20: 370 | S20: =D20*R20 -> 0 | T20: =R20+50 -> 420 | U20: =D20*T20 -> 0 | V20: =T20+50 -> 470 | W20: =D20*V20 -> 0 | X20: =V20+50 -> 520 | Y20: =D20*X20 -> 0 | Z20: =X20+50 -> 570 | AA20: =D20*Z20 -> 0 | AB20: =Z20+50 -> 620 | AC20: =D20*AB20 -> 0 | AD20: =AB20+50 -> 670 | AE20: =D20*AD20 -> 0 | AF20: =AD20+50 -> 720 | AG20: =D20*AF20 -> 0 | AH20: 48 | AI20: =D20*AH20 -> 0
B21: High season (11 July-15 September) | D21: =IF(AND('Cars calcul'!$A$7=C21,'Cars calcul'!$C$2=A21),1,0) -> 0
A22: high | B22: CAT | C22: Car Type | D22: =IF(AND('Cars calcul'!$A$7=C22,'Cars calcul'!$C$2=A22),1,0) -> 0 | F22: 1 | H22: 2 | J22: 3 | L22: 4 | N22: 5 | P22: 6 | R22: 7 | T22: 8 | V22: 9 | X22: 10 | Z22: 11 | AB22: 12 | AD22: 13 | AF22: 14 | AH22: Add Day
A23: high | B23: A1 | C23: Chevrolet Matiz a/c (or similar) | D23: =IF(AND('Cars calcul'!$A$7=C23,'Cars calcul'!$C$2=A23),1,0) -> 0 | F23: 45 | G23: =D23*F23 -> 0 | H23: 80 | I23: =D23*H23 -> 0 | J23: 100 | K23: =D23*J23 -> 0 | L23: 125 | M23: =D23*L23 -> 0 | N23: 150 | O23: =D23*N23 -> 0 | P23: 175 | Q23: =D23*P23 -> 0 | R23: 210 | S23: =D23*R23 -> 0 | T23: 27 | U23: =D23*T23 -> 0 | V23: 390 | W23: =D23*V23 -> 0 | X23: =V23+26 -> 416 | Y23: =D23*X23 -> 0 | Z23: =X23+26 -> 442 | AA23: =D23*Z23 -> 0 | AB23: =Z23+26 -> 468 | AC23: =D23*AB23 -> 0 | AD23: =AB23+26 -> 494 | AE23: =D23*AD23 -> 0 | AF23: =AD23+26 -> 520 | AG23: =D23*AF23 -> 0 | AH23: 26 | AI23: =D23*AH23 -> 0
A24: high | B24: B | C24: Hyundai i10 a/c (or similar) | D24: =IF(AND('Cars calcul'!$A$7=C24,'Cars calcul'!$C$2=A24),1,0) -> 0 | F24: 48 | G24: =D24*F24 -> 0 | H24: 90 | I24: =D24*H24 -> 0 | J24: 115 | K24: =D24*J24 -> 0 | L24: 145 | M24: =D24*L24 -> 0 | N24: 170 | O24: =D24*N24 -> 0 | P24: 185 | Q24: =D24*P24 -> 0 | R24: 230 | S24: =D24*R24 -> 0 | T24: 29 | U24: =D24*T24 -> 0 | V24: 410 | W24: =D24*V24 -> 0 | X24: =V24+28 -> 438 | Y24: =D24*X24 -> 0 | Z24: =X24+28 -> 466 | AA24: =D24*Z24 -> 0 | AB24: =Z24+28 -> 494 | AC24: =D24*AB24 -> 0 | AD24: =AB24+28 -> 522 | AE24: =D24*AD24 -> 0 | AF24: =AD24+28 -> 550 | AG24: =D24*AF24 -> 0 | AH24: 28 | AI24: =D24*AH24 -> 0
A25: high | B25: B1 | C25: Chevrolet Matiz a/c (or similar) + open top | D25: =IF(AND('Cars calcul'!$A$7=C25,'Cars calcul'!$C$2=A25),1,0) -> 0 | F25: 46 | G25: =D25*F25 -> 0 | H25: 85 | I25: =D25*H25 -> 0 | J25: 105 | K25: =D25*J25 -> 0 | L25: 135 | M25: =D25*L25 -> 0 | N25: 160 | O25: =D25*N25 -> 0 | P25: 175 | Q25: =D25*P25 -> 0 | R25: 220 | S25: =D25*R25 -> 0 | T25: 28 | U25: =D25*T25 -> 0 | V25: 400 | W25: =D25*V25 -> 0 | X25: =V25+27 -> 427 | Y25: =D25*X25 -> 0 | Z25: =X25+27 -> 454 | AA25: =D25*Z25 -> 0 | AB25: =Z25+27 -> 481 | AC25: =D25*AB25 -> 0 | AD25: =AB25+27 -> 508 | AE25: =D25*AD25 -> 0 | AF25: =AD25+27 -> 535 | AG25: =D25*AF25 -> 0 | AH25: 27 | AI25: =D25*AH25 -> 0
A26: high | B26: C | C26: Hyundai i20 a/c (or similar) | D26: =IF(AND('Cars calcul'!$A$7=C26,'Cars calcul'!$C$2=A26),1,0) -> 0 | F26: 50 | G26: =D26*F26 -> 0 | H26: 95 | I26: =D26*H26 -> 0 | J26: 125 | K26: =D26*J26 -> 0 | L26: 155 | M26: =D26*L26 -> 0 | N26: 185 | O26: =D26*N26 -> 0 | P26: 215 | Q26: =D26*P26 -> 0 | R26: 240 | S26: =D26*R26 -> 0 | T26: 32 | U26: =D26*T26 -> 0 | V26: 440 | W26: =D26*V26 -> 0 | X26: =V26+30 -> 470 | Y26: =D26*X26 -> 0 | Z26: =X26+30 -> 500 | AA26: =D26*Z26 -> 0 | AB26: =Z26+30 -> 530 | AC26: =D26*AB26 -> 0 | AD26: =AB26+30 -> 560 | AE26: =D26*AD26 -> 0 | AF26: =AD26+30 -> 590 | AG26: =D26*AF26 -> 0 | AH26: 30 | AI26: =D26*AH26 -> 0
A27: high | B27: D | C27: Hyundai Accent a/c | D27: =IF(AND('Cars calcul'!$A$7=C27,'Cars calcul'!$C$2=A27),1,0) -> 0 | F27: 54 | G27: =D27*F27 -> 0 | H27: 100 | I27: =D27*H27 -> 0 | J27: 135 | K27: =D27*J27 -> 0 | L27: 165 | M27: =D27*L27 -> 0 | N27: 195 | O27: =D27*N27 -> 0 | P27: 225 | Q27: =D27*P27 -> 0 | R27: 250 | S27: =D27*R27 -> 0 | T27: 34 | U27: =D27*T27 -> 0 | V27: 470 | W27: =D27*V27 -> 0 | X27: =V27+32 -> 502 | Y27: =D27*X27 -> 0 | Z27: =X27+32 -> 534 | AA27: =D27*Z27 -> 0 | AB27: =Z27+32 -> 566 | AC27: =D27*AB27 -> 0 | AD27: =AB27+32 -> 598 | AE27: =D27*AD27 -> 0 | AF27: =AD27+32 -> 630 | AG27: =D27*AF27 -> 0 | AH27: 32 | AI27: =D27*AH27 -> 0
A28: high | B28: E | C28: Suzuki Jimmy 4x4 (Jeep) | D28: =IF(AND('Cars calcul'!$A$7=C28,'Cars calcul'!$C$2=A28),1,0) -> 0 | F28: 65 | G28: =D28*F28 -> 0 | H28: 120 | I28: =D28*H28 -> 0 | J28: 160 | K28: =D28*J28 -> 0 | L28: 200 | M28: =D28*L28 -> 0 | N28: 240 | O28: =D28*N28 -> 0 | P28: 280 | Q28: =D28*P28 -> 0 | R28: 310 | S28: =D28*R28 -> 0 | T28: 42 | U28: =D28*T28 -> 0 | V28: 570 | W28: =D28*V28 -> 0 | X28: =V28+39 -> 609 | Y28: =D28*X28 -> 0 | Z28: =X28+39 -> 648 | AA28: =D28*Z28 -> 0 | AB28: =Z28+39 -> 687 | AC28: =D28*AB28 -> 0 | AD28: =AB28+39 -> 726 | AE28: =D28*AD28 -> 0 | AF28: =AD28+39 -> 765 | AG28: =D28*AF28 -> 0 | AH28: 39 | AI28: =D28*AH28 -> 0
A29: high | B29: F | C29: Hyundai Accent a/c, automatic | D29: =IF(AND('Cars calcul'!$A$7=C29,'Cars calcul'!$C$2=A29),1,0) -> 0 | F29: 60 | G29: =D29*F29 -> 0 | H29: 110 | I29: =D29*H29 -> 0 | J29: 150 | K29: =D29*J29 -> 0 | L29: 190 | M29: =D29*L29 -> 0 | N29: 230 | O29: =D29*N29 -> 0 | P29: 265 | Q29: =D29*P29 -> 0 | R29: 290 | S29: =D29*R29 -> 0 | T29: 39 | U29: =D29*T29 -> 0 | V29: 550 | W29: =D29*V29 -> 0 | X29: =V29+37 -> 587 | Y29: =D29*X29 -> 0 | Z29: =X29+37 -> 624 | AA29: =D29*Z29 -> 0 | AB29: =Z29+37 -> 661 | AC29: =D29*AB29 -> 0 | AD29: =AB29+37 -> 698 | AE29: =D29*AD29 -> 0 | AF29: =AD29+37 -> 735 | AG29: =D29*AF29 -> 0 | AH29: 37 | AI29: =D29*AH29 -> 0
A30: high | B30: G | C30: Fiat Doblo a/c (7-seater) | D30: =IF(AND('Cars calcul'!$A$7=C30,'Cars calcul'!$C$2=A30),1,0) -> 0 | F30: 83 | G30: =D30*F30 -> 0 | H30: 155 | I30: =D30*H30 -> 0 | J30: 210 | K30: =D30*J30 -> 0 | L30: 255 | M30: =D30*L30 -> 0 | N30: 300 | O30: =D30*N30 -> 0 | P30: 350 | Q30: =D30*P30 -> 0 | R30: 400 | S30: =D30*R30 -> 0 | T30: 56 | U30: =D30*T30 -> 0 | V30: 780 | W30: =D30*V30 -> 0 | X30: =V30+48 -> 828 | Y30: =D30*X30 -> 0 | Z30: =X30+48 -> 876 | AA30: =D30*Z30 -> 0 | AB30: =Z30+48 -> 924 | AC30: =D30*AB30 -> 0 | AD30: =AB30+48 -> 972 | AE30: =D30*AD30 -> 0 | AF30: =AD30+48 -> 1020 | AG30: =D30*AF30 -> 0 | AH30: 48 | AI30: =D30*AH30 -> 0
G31: =SUM(G3:G30) -> 42 | I31: =SUM(I3:I30) -> 75 | J31: =SUM(J3:J30) -> 3161 | K31: =SUM(K3:K30) -> 95 | M31: =SUM(M3:M30) -> 120 | O31: =SUM(O3:O30) -> 145 | Q31: =SUM(Q3:Q30) -> 170 | S31: =SUM(S3:S30) -> 190 | U31: =SUM(U3:U30) -> 216 | W31: =SUM(W3:W30) -> 242 | Y31: =SUM(Y3:Y30) -> 268 | AA31: =SUM(AA3:AA30) -> 294 | AC31: =SUM(AC3:AC30) -> 320 | AE31: =SUM(AE3:AE30) -> 346 | AG31: =SUM(AG3:AG30) -> 372 | AI31: =SUM(AI3:AI30) -> 24
A32: Pointage jours | G32: =IF(F2='Cars calcul'!$C$1,1,0) -> 0 | I32: =IF(H2='Cars calcul'!$C$1,1,0) -> 0 | K32: =IF(J2='Cars calcul'!$C$1,1,0) -> 0 | M32: =IF(L2='Cars calcul'!$C$1,1,0) -> 0 | O32: =IF(N2='Cars calcul'!$C$1,1,0) -> 0 | Q32: =IF(P2='Cars calcul'!$C$1,1,0) -> 0 | S32: =IF(R2='Cars calcul'!$C$1,1,0) -> 0 | U32: =IF(T2='Cars calcul'!$C$1,1,0) -> 1 | W32: =IF(V2='Cars calcul'!$C$1,1,0) -> 0 | Y32: =IF(X2='Cars calcul'!$C$1,1,0) -> 0 | AA32: =IF(Z2='Cars calcul'!$C$1,1,0) -> 0 | AC32: =IF(AB2='Cars calcul'!$C$1,1,0) -> 0 | AE32: =IF(AD2='Cars calcul'!$C$1,1,0) -> 0 | AG32: =IF(OR(AF2='Cars calcul'!$C$1,'Cars calcul'!$C$1>14),1,0) -> 0 | AI32: =IF('Cars calcul'!$C$1>14,'Cars calcul'!C1-14,0) -> 0
A33: Total column | G33: =G31*G32 -> 0 | I33: =I31*I32 -> 0 | K33: =K31*K32 -> 0 | M33: =M31*M32 -> 0 | O33: =O31*O32 -> 0 | Q33: =Q31*Q32 -> 0 | S33: =S31*S32 -> 0 | U33: =U31*U32 -> 216 | W33: =W31*W32 -> 0 | Y33: =Y31*Y32 -> 0 | AA33: =AA31*AA32 -> 0 | AC33: =AC31*AC32 -> 0 | AE33: =AE31*AE32 -> 0 | AG33: =AG31*AG32 -> 0 | AI33: =AI31*AI32 -> 0
A34: Price location | C34: =SUM(G33:AI33) -> 216
C39: COMISSION | D39: 0.08 | E39: 0.1 | F39: 0.12 | G39: 0.15 | H39: 0.17 | I39: 0.19 | J39: 0.22
C40: COST COMMISSION | D40: =$C$34*D39 -> 17.28 | E40: =$C$34*E39 -> 21.6 | F40: =$C$34*F39 -> 25.92 | G40: =$C$34*G39 -> 32.4 | H40: =$C$34*H39 -> 36.72 | I40: =$C$34*I39 -> 41.04 | J40: =$C$34*J39 -> 47.52
C41: TOTAL FINAL | D41: =$C$34+D40 -> 233.28 | E41: =$C$34+E40 -> 237.6 | F41: =$C$34+F40 -> 241.92 | G41: =$C$34+G40 -> 248.4 | H41: =$C$34+H40 -> 252.72 | I41: =$C$34+I40 -> 257.04 | J41: =$C$34+J40 -> 263.52

Sheet Cars calcul
B1: Nb Days | C1: 8
B2: Season | C2: middle
A7: Chevrolet Matiz a/c (or similar) | B7: ='cars location'!C34 -> 216
A8: 0.08 | B8: =IF(A8="","",HLOOKUP(A8,'cars location'!D39:J41,2,0)) -> 17.28
A9: TOTAL PRICE | B9: =SUM(B7:B8) -> 233.28

Sheet Ass + com
A1: ASSURANCE / PERS. | B1: 7 Days | C1: 10 Days | D1: 3 Days
B2: 16 | C2: 21 | D2: 13
A4: Commission | B4: 0.16 | C4: 0.18 | D4: 0.2 | E4: 0.22 | F4: 0.24 | G4: 0.26

Sheet LuckyHouse
A1: Insurance | B1: 7 Days | C1: =IF(B1="","",HLOOKUP(B1,'Ass + com'!B1:D2,2,0)) -> 16 | E1: LUCKY HOUSE STUDIO 7 DAYS | J1: LUCKY HOUSE STUDIO 10 DAYS | O1: LUCKY HOUSE STUDIO 3 DAYS
A2: Comission | B2: 0.2 | E2: DATES | F2: PRICE/DAY | G2: NB Days | H2: NET PRICE | I2: CLIENT PRICE | J2: DATES | K2: PRICE/DAY | L2: NB Days | M2: NET PRICE | N2: CLIENT PRICE | O2: DATES | P2: PRICE/DAY | Q2: NB Days | R2: NET PRICE | S2: CLIENT PRICE
A3: Car location | C3: ='Cars calcul'!B9 -> 233.28 | G3: 7 | L3: 10 | Q3: 3
E4: 18/05 - 25/05 | F4: 25 | G4: =$F4*G$3 -> 175 | H4: =G4+$C$1+$C$3 -> 424.28 | I4: =(H4*$B$2)+H4 -> 509.136 | J4: 18/05 – 28/05 | K4: 25 | L4: =$F4*L$3 -> 250 | M4: =L4+$C$1+$C$3 -> 499.28 | N4: =(M4*$B$2)+M4 -> 599.136 | O4: 18/05 – 21/05 | P4: 25 | Q4: =$F4*Q$3 -> 75 | R4: =Q4+$C$1+$C$3 -> 324.28 | S4: =(R4*$B$2)+R4 -> 389.136
E5: 25/05 - 01/06 | F5: 25 | G5: =$F5*G$3 -> 175 | H5: =G5+$C$1+$C$3 -> 424.28 | I5: =(H5*$B$2)+H5 -> 509.136 | J5: 25/05 – 04/06 | K5: 25 | L5: =$F5*L$3 -> 250 | M5: =L5+$C$1+$C$3 -> 499.28 | N5: =(M5*$B$2)+M5 -> 599.136 | O5: 25/05 – 28/05 | P5: 25 | Q5: =$F5*Q$3 -> 75 | R5: =Q5+$C$1+$C$3 -> 324.28 | S5: =(R5*$B$2)+R5 -> 389.136
E6: 01/06 - 08/06 | F6: 25 | G6: =$F6*G$3 -> 175 | H6: =G6+$C$1+$C$3 -> 424.28 | I6: =(H6*$B$2)+H6 -> 509.136 | J6: 01/06 -11/06 | K6: 25 | L6: =$F6*L$3 -> 250 | M6: =L6+$C$1+$C$3 -> 499.28 | N6: =(M6*$B$2)+M6 -> 599.136 | O6: 01/06 – 04/06 | P6: 25 | Q6: =$F6*Q$3 -> 75 | R6: =Q6+$C$1+$C$3 -> 324.28 | S6: =(R6*$B$2)+R6 -> 389.136
A7: Extra | E7: 08/06 - 15/06 | F7: 25 | G7: =$F7*G$3 -> 175 | H7: =G7+$C$1+$C$3 -> 424.28 | I7: =(H7*$B$2)+H7 -> 509.136 | J7: 08/06 – 18/06 | K7: 25 | L7: =$F7*L$3 -> 250 | M7: =L7+$C$1+$C$3 -> 499.28 | N7: =(M7*$B$2)+M7 -> 599.136 | O7: 08/06 – 11/06 | P7: 25 | Q7: =$F7*Q$3 -> 75 | R7: =Q7+$C$1+$C$3 -> 324.28 | S7: =(R7*$B$2)+R7 -> 389.136
A8: Number pers. | E8: 15/06 - 22/06 | F8: 25 | G8: =$F8*G$3 -> 175 | H8: =G8+$C$1+$C$3 -> 424.28 | I8: =(H8*$B$2)+H8 -> 509.136 | J8: 15/06 – 25/06 | K8: 25 | L8: =$F8*L$3 -> 250 | M8: =L8+$C$1+$C$3 -> 499.28 | N8: =(M8*$B$2)+M8 -> 599.136 | O8: 15/06 – 18/06 | P8: 25 | Q8: =$F8*Q$3 -> 75 | R8: =Q8+$C$1+$C$3 -> 324.28 | S8: =(R8*$B$2)+R8 -> 389.136
A9: Number days | C9: 7 Days | E9: 22/06 - 29/06 | F9: 25 | G9: =$F9*G$3 -> 175 | H9: =G9+$C$1+$C$3 -> 424.28 | I9: =(H9*$B$2)+H9 -> 509.136 | J9: 22/06 – 02/07 | K9: 25 | L9: =$F9*L$3 -> 250 | M9: =L9+$C$1+$C$3 -> 499.28 | N9: =(M9*$B$2)+M9 -> 599.136 | O9: 22/06 – 25/06 | P9: 25 | Q9: =$F9*Q$3 -> 75 | R9: =Q9+$C$1+$C$3 -> 324.28 | S9: =(R9*$B$2)+R9 -> 389.136
A10: Dates | E10: 29/06 - 06/07 | F10: 28 | G10: =$F10*G$3 -> 196 | H10: =G10+$C$1+$C$3 -> 445.28 | I10: =(H10*$B$2)+H10 -> 534.336 | J10: 29/06 – 09/07 | K10: 28 | L10: =$F10*L$3 -> 280 | M10: =L10+$C$1+$C$3 -> 529.28 | N10: =(M10*$B$2)+M10 -> 635.136 | O10: 29/06 – 02/07 | P10: 28 | Q10: =$F10*Q$3 -> 84 | R10: =Q10+$C$1+$C$3 -> 333.28 | S10: =(R10*$B$2)+R10 -> 399.936
E11: 06/07 - 13/07 | F11: 28 | G11: =$F11*G$3 -> 196 | H11: =G11+$C$1+$C$3 -> 445.28 | I11: =(H11*$B$2)+H11 -> 534.336 | J11: 06/07 – 16/07 | K11: 28 | L11: =$F11*L$3 -> 280 | M11: =L11+$C$1+$C$3 -> 529.28 | N11: =(M11*$B$2)+M11 -> 635.136 | O11: 06/07 – 09/07 | P11: 28 | Q11: =$F11*Q$3 -> 84 | R11: =Q11+$C$1+$C$3 -> 333.28 | S11: =(R11*$B$2)+R11 -> 399.936
E12: 13/07 - 20/07 | F12: 35 | G12: =$F12*G$3 -> 245 | H12: =G12+$C$1+$C$3 -> 494.28 | I12: =(H12*$B$2)+H12 -> 593.136 | J12: 13/07 – 23/07 | K12: 35 | L12: =$F12*L$3 -> 350 | M12: =L12+$C$1+$C$3 -> 599.28 | N12: =(M12*$B$2)+M12 -> 719.136 | O12: 13/07 – 16/07 | P12: 35 | Q12: =$F12*Q$3 -> 105 | R12: =Q12+$C$1+$C$3 -> 354.28 | S12: =(R12*$B$2)+R12 -> 425.136
E13: 20/07 - 27/07 | F13: 35 | G13: =$F13*G$3 -> 245 | H13: =G13+$C$1+$C$3 -> 494.28 | I13: =(H13*$B$2)+H13 -> 593.136 | J13: 20/07 – 30/07 | K13: 35 | L13: =$F13*L$3 -> 350 | M13: =L13+$C$1+$C$3 -> 599.28 | N13: =(M13*$B$2)+M13 -> 719.136 | O13: 20/07 – 23/07 | P13: 35 | Q13: =$F13*Q$3 -> 105 | R13: =Q13+$C$1+$C$3 -> 354.28 | S13: =(R13*$B$2)+R13 -> 425.136
E14: 27/07 - 03/08 | F14: 48 | G14: =$F14*G$3 -> 336 | H14: =G14+$C$1+$C$3 -> 585.28 | I14: =(H14*$B$2)+H14 -> 702.336 | J14: 27/07 – 06/08 | K14: 48 | L14: =$F14*L$3 -> 480 | M14: =L14+$C$1+$C$3 -> 729.28 | N14: =(M14*$B$2)+M14 -> 875.136 | O14: 27/07 – 30/07 | P14: 48 | Q14: =$F14*Q$3 -> 144 | R14: =Q14+$C$1+$C$3 -> 393.28 | S14: =(R14*$B$2)+R14 -> 471.936
E15: 03/08 - 10/08 | F15: 48 | G15: =$F15*G$3 -> 336 | H15: =G15+$C$1+$C$3 -> 585.28 | I15: =(H15*$B$2)+H15 -> 702.336 | J15: 03/08 – 13/08 | K15: 48 | L15: =$F15*L$3 -> 480 | M15: =L15+$C$1+$C$3 -> 729.28 | N15: =(M15*$B$2)+M15 -> 875.136 | O15: 03/08 – 06/08 | P15: 48 | Q15: =$F15*Q$3 -> 144 | R15: =Q15+$C$1+$C$3 -> 393.28 | S15: =(R15*$B$2)+R15 -> 471.936
E16: 10/08 - 17/08 | F16: 57 | G16: =$F16*G$3 -> 399 | H16: =G16+$C$1+$C$3 -> 648.28 | I16: =(H16*$B$2)+H16 -> 777.936 | J16: 10/08 – 20/08 | K16: 57 | L16: =$F16*L$3 -> 570 | M16: =L16+$C$1+$C$3 -> 819.28 | N16: =(M16*$B$2)+M16 -> 983.136 | O16: 10/08 – 13/08 | P16: 57 | Q16: =$F16*Q$3 -> 171 | R16: =Q16+$C$1+$C$3 -> 420.28 | S16: =(R16*$B$2)+R16 -> 504.336
E17: 17/08 - 24/08 | F17: 57 | G17: =$F17*G$3 -> 399 | H17: =G17+$C$1+$C$3 -> 648.28 | I17: =(H17*$B$2)+H17 -> 777.936 | J17: 17/08 – 27/08 | K17: 57 | L17: =$F17*L$3 -> 570 | M17: =L17+$C$1+$C$3 -> 819.28 | N17: =(M17*$B$2)+M17 -> 983.136 | O17: 17/08 – 20/08 | P17: 57 | Q17: =$F17*Q$3 -> 171 | R17: =Q17+$C$1+$C$3 -> 420.28 | S17: =(R17*$B$2)+R17 -> 504.336
E18: 24/08 - 31/08 | F18: 48 | G18: =$F18*G$3 -> 336 | H18: =G18+$C$1+$C$3 -> 585.28 | I18: =(H18*$B$2)+H18 -> 702.336 | J18: 24/08 – 03/09 | K18: 48 | L18: =$F18*L$3 -> 480 | M18: =L18+$C$1+$C$3 -> 729.28 | N18: =(M18*$B$2)+M18 -> 875.136 | O18: 24/08 – 27/08 | P18: 48 | Q18: =$F18*Q$3 -> 144 | R18: =Q18+$C$1+$C$3 -> 393.28 | S18: =(R18*$B$2)+R18 -> 471.936
E19: 31/08 - 07/09 | F19: 28 | G19: =$F19*G$3 -> 196 | H19: =G19+$C$1+$C$3 -> 445.28 | I19: =(H19*$B$2)+H19 -> 534.336 | J19: 31/08 – 10/09 | K19: 28 | L19: =$F19*L$3 -> 280 | M19: =L19+$C$1+$C$3 -> 529.28 | N19: =(M19*$B$2)+M19 -> 635.136 | O19: 31/08 – 03/09 | P19: 28 | Q19: =$F19*Q$3 -> 84 | R19: =Q19+$C$1+$C$3 -> 333.28 | S19: =(R19*$B$2)+R19 -> 399.936
E20: 07/09 - 14/09 | F20: 25 | G20: =$F20*G$3 -> 175 | H20: =G20+$C$1+$C$3 -> 424.28 | I20: =(H20*$B$2)+H20 -> 509.136 | J20: 07/09 – 17/09 | K20: 25 | L20: =$F20*L$3 -> 250 | M20: =L20+$C$1+$C$3 -> 499.28 | N20: =(M20*$B$2)+M20 -> 599.136 | O20: 07/09 – 10/09 | P20: 25 | Q20: =$F20*Q$3 -> 75 | R20: =Q20+$C$1+$C$3 -> 324.28 | S20: =(R20*$B$2)+R20 -> 389.136
E21: 14/09 - 21/09 | F21: 25 | G21: =$F21*G$3 -> 175 | H21: =G21+$C$1+$C$3 -> 424.28 | I21: =(H21*$B$2)+H21 -> 509.136 | J21: 14/09 – 24/09 | K21: 25 | L21: =$F21*L$3 -> 250 | M21: =L21+$C$1+$C$3 -> 499.28 | N21: =(M21*$B$2)+M21 -> 599.136 | O21: 14/09 – 17/09 | P21: 25 | Q21: =$F21*Q$3 -> 75 | R21: =Q21+$C$1+$C$3 -> 324.28 | S21: =(R21*$B$2)+R21 -> 389.136
E22: 21/09 - 28/09 | G22: =$F22*G$3 -> 0 | H22: =G22+$C$1+$C$3 -> 249.28 | I22: =(H22*$B$2)+H22 -> 299.136 | J22: 21/09 – 01/10 | L22: =$F22*L$3 -> 0 | M22: =L22+$C$1+$C$3 -> 249.28 | N22: =(M22*$B$2)+M22 -> 299.136 | O22: 21/09 – 24/09 | Q22: =$F22*Q$3 -> 0 | R22: =Q22+$C$1+$C$3 -> 249.28 | S22: =(R22*$B$2)+R22 -> 299.136
E23: 28/09 - 05/10 | G23: =$F23*G$3 -> 0 | H23: =G23+$C$1+$C$3 -> 249.28 | I23: =(H23*$B$2)+H23 -> 299.136 | J23: 28/09 – 08/10 | L23: =$F23*L$3 -> 0 | M23: =L23+$C$1+$C$3 -> 249.28 | N23: =(M23*$B$2)+M23 -> 299.136 | O23: 28/09 – 01/10 | Q23: =$F23*Q$3 -> 0 | R23: =Q23+$C$1+$C$3 -> 249.28 | S23: =(R23*$B$2)+R23 -> 299.136
E24: 05/10 - 12/10 | G24: =$F24*G$3 -> 0 | H24: =G24+$C$1+$C$3 -> 249.28 | I24: =(H24*$B$2)+H24 -> 299.136 | J24: 05/10 – 15/10 | L24: =$F24*L$3 -> 0 | M24: =L24+$C$1+$C$3 -> 249.28 | N24: =(M24*$B$2)+M24 -> 299.136 | O24: 05/10 – 08/10 | Q24: =$F24*Q$3 -> 0 | R24: =Q24+$C$1+$C$3 -> 249.28 | S24: =(R24*$B$2)+R24 -> 299.136
E25: 12/10 - 19/10 | G25: =$F25*G$3 -> 0 | H25: =G25+$C$1+$C$3 -> 249.28 | I25: =(H25*$B$2)+H25 -> 299.136 | J25: 12/10 – 22/10 | L25: =$F25*L$3 -> 0 | M25: =L25+$C$1+$C$3 -> 249.28 | N25: =(M25*$B$2)+M25 -> 299.136 | O25: 12/10 – 15/10 | Q25: =$F25*Q$3 -> 0 | R25: =Q25+$C$1+$C$3 -> 249.28 | S25: =(R25*$B$2)+R25 -> 299.136
E26: 19/10 - 26/10 | G26: =$F26*G$3 -> 0 | H26: =G26+$C$1+$C$3 -> 249.28 | I26: =(H26*$B$2)+H26 -> 299.136 | J26: 19/10 – 29/10 | M26: =L26+$C$1+$C$3 -> 249.28 | N26: =(M26*$B$2)+M26 -> 299.136 | O26: 19/10 – 22/10 | R26: =Q26+$C$1+$C$3 -> 249.28 | S26: =(R26*$B$2)+R26 -> 299.136

Sheet Data dates
A1: 3 Days | B1: 7 Days | C1: 10 Days
A2: 18/05 – 21/05 | B2: 18/05 - 25/05 | C2: 18/05 – 28/05
A3: 25/05 – 28/05 | B3: 25/05 - 01/06 | C3: 25/05 – 04/06
A4: 01/06 – 04/06 | B4: 01/06 - 08/06 | C4: 01/06 -11/06
A5: 08/06 – 11/06 | B5: 08/06 - 15/06 | C5: 08/06 – 18/06
A6: 15/06 – 18/06 | B6: 15/06 - 22/06 | C6: 15/06 – 25/06
A7: 22/06 – 25/06 | B7: 22/06 - 29/06 | C7: 22/06 – 02/07
A8: 29/06 – 02/07 | B8: 29/06 - 06/07 | C8: 29/06 – 09/07
A9: 06/07 – 09/07 | B9: 06/07 - 13/07 | C9: 06/07 – 16/07
A10: 13/07 – 16/07 | B10: 13/07 - 20/07 | C10: 13/07 – 23/07
A11: 20/07 – 23/07 | B11: 20/07 - 27/07 | C11: 20/07 – 30/07
A12: 27/07 – 30/07 | B12: 27/07 - 03/08 | C12: 27/07 – 06/08
... A24: 19/10 – 22/10 | B24: 19/10 - 26/10 | C24: 19/10 – 29/10
