Workbook

Sheet Tableau récapitulatif
A1: Nom Prénom | B1: Structure / MOD | C1: Affectation | D1: Code emploi | E1: Intitulé formation | F1: Nombre de questions | G1: Réponses justes | H1: Réponses fausses | I1: Validation | J1: Date
A2: AGUILAR JEAN | B2: =VLOOKUP(A2,'Liste salariés'!$C$2:$Q$607,14,FALSE) -> MOD | C2: =VLOOKUP(A2,'Liste salariés'!$C$2:$Q$607,4,FALSE) -> P01-PRODUCTION | D2: =VLOOKUP(A2,'Liste salariés'!$C$2:$Q$607,3,FALSE) -> ELM | E2: INTRO WCM | F2: =VLOOKUP(E2,'Liste formations'!$A$3:$B$19,2,FALSE) -> 25 | G2: 25 | H2: =Tableau2[[#This Row],[Nombre de questions]]-Tableau2[[#This Row],[Réponses justes ]] -> 0 | I2: oui
A3: AGUILAR JEAN | B3: =VLOOKUP(A3,'Liste salariés'!$C$2:$Q$607,14,FALSE) -> MOD | C3: =VLOOKUP(A3,'Liste salariés'!$C$2:$Q$607,4,FALSE) -> P01-PRODUCTION | D3: =VLOOKUP(A3,'Liste salariés'!$C$2:$Q$607,3,FALSE) -> ELM | E3: EWO OPERATEUR | F3: =VLOOKUP(E3,'Liste formations'!$A$3:$B$19,2,FALSE) -> 10 | G3: 9 | H3: =Tableau2[[#This Row],[Nombre de questions]]-Tableau2[[#This Row],[Réponses justes ]] -> 1 | I3: oui | J3: 41180
A4: ALONSO JEAN LUC | B4: =VLOOKUP(A4,'Liste salariés'!$C$2:$Q$607,14,FALSE) -> MOD | C4: =VLOOKUP(A4,'Liste salariés'!$C$2:$Q$607,4,FALSE) -> P01-PRODUCTION | D4: =VLOOKUP(A4,'Liste salariés'!$C$2:$Q$607,3,FALSE) -> ELM | E4: EWO OPERATEUR | F4: =VLOOKUP(E4,'Liste formations'!$A$3:$B$19,2,FALSE) -> 10 | G4: 10 | H4: =Tableau2[[#This Row],[Nombre de questions]]-Tableau2[[#This Row],[Réponses justes ]] -> 0 | I4: oui | J4: 41171
A5: ALONSO JEAN LUC | B5: =VLOOKUP(A5,'Liste salariés'!$C$2:$Q$607,14,FALSE) -> MOD | C5: =VLOOKUP(A5,'Liste salariés'!$C$2:$Q$607,4,FALSE) -> P01-PRODUCTION | D5: =VLOOKUP(A5,'Liste salariés'!$C$2:$Q$607,3,FALSE) -> ELM | E5: INTRO WCM | F5: =VLOOKUP(E5,'Liste formations'!$A$3:$B$19,2,FALSE) -> 25 | G5: 25 | H5: =Tableau2[[#This Row],[Nombre de questions]]-Tableau2[[#This Row],[Réponses justes ]] -> 0 | I5: oui | J5: 41157
A6: ALONSO JEAN LUC | B6: =VLOOKUP(A6,'Liste salariés'!$C$2:$Q$607,14,FALSE) -> MOD | C6: =VLOOKUP(A6,'Liste salariés'!$C$2:$Q$607,4,FALSE) -> P01-PRODUCTION | D6: =VLOOKUP(A6,'Liste salariés'!$C$2:$Q$607,3,FALSE) -> ELM | E6: OEE | F6: =VLOOKUP(E6,'Liste formations'!$A$3:$B$19,2,FALSE) -> 6 | G6: 6 | H6: =Tableau2[[#This Row],[Nombre de questions]]-Tableau2[[#This Row],[Réponses justes ]] -> 0 | I6: oui | J6: 41331
A7: AMIRAULT VERONIQUE | B7: =VLOOKUP(A7,'Liste salariés'!$C$2:$Q$607,14,FALSE) -> MOD | C7: =VLOOKUP(A7,'Liste salariés'!$C$2:$Q$607,4,FALSE) -> P01-PRODUCTION | D7: =VLOOKUP(A7,'Liste salariés'!$C$2:$Q$607,3,FALSE) -> ELM | E7: EWO OPERATEUR | F7: =VLOOKUP(E7,'Liste formations'!$A$3:$B$19,2,FALSE) -> 10 | G7: 10 | H7: =Tableau2[[#This Row],[Nombre de questions]]-Tableau2[[#This Row],[Réponses justes ]] -> 0 | I7: oui | J7: 41352
A8: AMIRAULT VERONIQUE | B8: =VLOOKUP(A8,'Liste salariés'!$C$2:$Q$607,14,FALSE) -> MOD | C8: =VLOOKUP(A8,'Liste salariés'!$C$2:$Q$607,4,FALSE) -> P01-PRODUCTION | D8: =VLOOKUP(A8,'Liste salariés'!$C$2:$Q$607,3,FALSE) -> ELM | E8: INTRO WCM | F8: =VLOOKUP(E8,'Liste formations'!$A$3:$B$19,2,FALSE) -> 25 | G8: 18 | H8: =Tableau2[[#This Row],[Nombre de questions]]-Tableau2[[#This Row],[Réponses justes ]] -> 7 | I8: oui | J8: 41352
A9: ANDRAULT DANIEL | B9: =VLOOKUP(A9,'Liste salariés'!$C$2:$Q$607,14,FALSE) -> ETAM | C9: =VLOOKUP(A9,'Liste salariés'!$C$2:$Q$607,4,FALSE) -> P01-PRODUCTION | D9: =VLOOKUP(A9,'Liste salariés'!$C$2:$Q$607,3,FALSE) -> ELM | E9: EWO TECHNICIEN | F9: =VLOOKUP(E9,'Liste formations'!$A$3:$B$19,2,FALSE) -> 5 | G9: 5 | H9: =Tableau2[[#This Row],[Nombre de questions]]-Tableau2[[#This Row],[Réponses justes ]] -> 0 | I9: oui | J9: 41096
A10: ANDRAULT DANIEL | B10: =VLOOKUP(A10,'Liste salariés'!$C$2:$Q$607,14,FALSE) -> ETAM | C10: =VLOOKUP(A10,'Liste salariés'!$C$2:$Q$607,4,FALSE) -> P01-PRODUCTION | D10: =VLOOKUP(A10,'Liste salariés'!$C$2:$Q$607,3,FALSE) -> ELM | E10: SENSIBILISATION NVA | F10: =VLOOKUP(E10,'Liste formations'!$A$3:$B$19,2,FALSE) -> 10 | G10: 10 | H10: =Tableau2[[#This Row],[Nombre de questions]]-Tableau2[[#This Row],[Réponses justes ]] -> 0 | I10: oui | J10: 41012
A11: ANDRAULT DANIEL | B11: =VLOOKUP(A11,'Liste salariés'!$C$2:$Q$607,14,FALSE) -> ETAM | C11: =VLOOKUP(A11,'Liste salariés'!$C$2:$Q$607,4,FALSE) -> P01-PRODUCTION | D11: =VLOOKUP(A11,'Liste salariés'!$C$2:$Q$607,3,FALSE) -> ELM | E11: INTRO WCM | F11: =VLOOKUP(E11,'Liste formations'!$A$3:$B$19,2,FALSE) -> 25 | G11: 21 | H11: =Tableau2[[#This Row],[Nombre de questions]]-Tableau2[[#This Row],[Réponses justes ]] -> 4 | I11: oui | J11: 41091
A12: ANDRAULT DANIEL | B12: =VLOOKUP(A12,'Liste salariés'!$C$2:$Q$607,14,FALSE) -> ETAM | C12: =VLOOKUP(A12,'Liste salariés'!$C$2:$Q$607,4,FALSE) -> P01-PRODUCTION | D12: =VLOOKUP(A12,'Liste salariés'!$C$2:$Q$607,3,FALSE) -> ELM | E12: RAD | F12: =VLOOKUP(E12,'Liste formations'!$A$3:$B$19,2,FALSE) -> 17 | G12: 17 | H12: =Tableau2[[#This Row],[Nombre de questions]]-Tableau2[[#This Row],[Réponses justes ]] -> 0 | I12: oui | J12: 41383
A13: ANDRE MARTINE | B13: =VLOOKUP(A13,'Liste salariés'!$C$2:$Q$607,14,FALSE) -> MOD | C13: =VLOOKUP(A13,'Liste salariés'!$C$2:$Q$607,4,FALSE) -> P01-PRODUCTION | D13: =VLOOKUP(A13,'Liste salariés'!$C$2:$Q$607,3,FALSE) -> ELM | E13: EWO OPERATEUR | F13: =VLOOKUP(E13,'Liste formations'!$A$3:$B$19,2,FALSE) -> 10 | G13: 7 | H13: =Tableau2[[#This Row],[Nombre de questions]]-Tableau2[[#This Row],[Réponses justes ]] -> 3 | I13: oui | J13: 41297
A14: ANDRE MARTINE | B14: =VLOOKUP(A14,'Liste salariés'!$C$2:$Q$607,14,FALSE) -> MOD | C14: =VLOOKUP(A14,'Liste salariés'!$C$2:$Q$607,4,FALSE) -> P01-PRODUCTION | D14: =VLOOKUP(A14,'Liste salariés'!$C$2:$Q$607,3,FALSE) -> ELM | E14: INTRO WCM | F14: =VLOOKUP(E14,'Liste formations'!$A$3:$B$19,2,FALSE) -> 25 | G14: 20 | H14: =Tableau2[[#This Row],[Nombre de questions]]-Tableau2[[#This Row],[Réponses justes ]] -> 5 | I14: oui | J14: 41361
... A16: ANDRIEU ELISABETH | B16: =VLOOKUP(A16,'Liste salariés'!$C$2:$Q$607,14,FALSE) -> MOD | C16: =VLOOKUP(A16,'Liste salariés'!$C$2:$Q$607,4,FALSE) -> P01-PRODUCTION | D16: =VLOOKUP(A16,'Liste salariés'!$C$2:$Q$607,3,FALSE) -> ELM | E16: INTRO WCM | F16: =VLOOKUP(E16,'Liste formations'!$A$3:$B$19,2,FALSE) -> 25 | G16: 21 | H16: =Tableau2[[#This Row],[Nombre de questions]]-Tableau2[[#This Row],[Réponses justes ]] -> 4 | I16: oui | J16: 41211
A17: ANGUISE PIERRE | B17: =VLOOKUP(A17,'Liste salariés'!$C$2:$Q$607,14,FALSE) -> ETAM | C17: =VLOOKUP(A17,'Liste salariés'!$C$2:$Q$607,4,FALSE) -> S08-QUALITY | D17: =VLOOKUP(A17,'Liste salariés'!$C$2:$Q$607,3,FALSE) -> I&T | E17: INTRO WCM | F17: =VLOOKUP(E17,'Liste formations'!$A$3:$B$19,2,FALSE) -> 25 | G17: 21 | H17: =Tableau2[[#This Row],[Nombre de questions]]-Tableau2[[#This Row],[Réponses justes ]] -> 4 | I17: oui
A18: ARECCO ANTHONY | B18: =VLOOKUP(A18,'Liste salariés'!$C$2:$Q$607,14,FALSE) -> MOD | C18: =VLOOKUP(A18,'Liste salariés'!$C$2:$Q$607,4,FALSE) -> P01-PRODUCTION | D18: =VLOOKUP(A18,'Liste salariés'!$C$2:$Q$607,3,FALSE) -> ELM | E18: EWO OPERATEUR | F18: =VLOOKUP(E18,'Liste formations'!$A$3:$B$19,2,FALSE) -> 10 | G18: 9 | H18: =Tableau2[[#This Row],[Nombre de questions]]-Tableau2[[#This Row],[Réponses justes ]] -> 1 | I18: oui | J18: 41171
A19: ARECCO ANTHONY | B19: =VLOOKUP(A19,'Liste salariés'!$C$2:$Q$607,14,FALSE) -> MOD | C19: =VLOOKUP(A19,'Liste salariés'!$C$2:$Q$607,4,FALSE) -> P01-PRODUCTION | D19: =VLOOKUP(A19,'Liste salariés'!$C$2:$Q$607,3,FALSE) -> ELM | E19: INTRO WCM | F19: =VLOOKUP(E19,'Liste formations'!$A$3:$B$19,2,FALSE) -> 25 | G19: 22 | H19: =Tableau2[[#This Row],[Nombre de questions]]-Tableau2[[#This Row],[Réponses justes ]] -> 3 | I19: oui | J19: 40940
A20: ARNOU FRANCIS | B20: =VLOOKUP(A20,'Liste salariés'!$C$2:$Q$607,14,FALSE) -> MOD | C20: =VLOOKUP(A20,'Liste salariés'!$C$2:$Q$607,4,FALSE) -> P01-PRODUCTION | D20: =VLOOKUP(A20,'Liste salariés'!$C$2:$Q$607,3,FALSE) -> ELM | E20: EWO OPERATEUR | F20: =VLOOKUP(E20,'Liste formations'!$A$3:$B$19,2,FALSE) -> 10 | G20: 9 | H20: =Tableau2[[#This Row],[Nombre de questions]]-Tableau2[[#This Row],[Réponses justes ]] -> 1 | I20: oui | J20: 41297
A21: ARNOU FRANCIS | B21: =VLOOKUP(A21,'Liste salariés'!$C$2:$Q$607,14,FALSE) -> MOD | C21: =VLOOKUP(A21,'Liste salariés'!$C$2:$Q$607,4,FALSE) -> P01-PRODUCTION | D21: =VLOOKUP(A21,'Liste salariés'!$C$2:$Q$607,3,FALSE) -> ELM | E21: INTRO WCM | F21: =VLOOKUP(E21,'Liste formations'!$A$3:$B$19,2,FALSE) -> 25 | G21: 21 | H21: =Tableau2[[#This Row],[Nombre de questions]]-Tableau2[[#This Row],[Réponses justes ]] -> 4 | I21: oui | J21: 41211
A22: AUBOURG MANUELA | B22: =VLOOKUP(A22,'Liste salariés'!$C$2:$Q$607,14,FALSE) -> MOD | C22: =VLOOKUP(A22,'Liste salariés'!$C$2:$Q$607,4,FALSE) -> P01-PRODUCTION | D22: =VLOOKUP(A22,'Liste salariés'!$C$2:$Q$607,3,FALSE) -> ELM | E22: EWO OPERATEUR | F22: =VLOOKUP(E22,'Liste formations'!$A$3:$B$19,2,FALSE) -> 10 | G22: 9 | H22: =Tableau2[[#This Row],[Nombre de questions]]-Tableau2[[#This Row],[Réponses justes ]] -> 1 | I22: oui | J22: 41295
A23: AUBOURG MANUELA | B23: =VLOOKUP(A23,'Liste salariés'!$C$2:$Q$607,14,FALSE) -> MOD | C23: =VLOOKUP(A23,'Liste salariés'!$C$2:$Q$607,4,FALSE) -> P01-PRODUCTION | D23: =VLOOKUP(A23,'Liste salariés'!$C$2:$Q$607,3,FALSE) -> ELM | E23: INTRO WCM | F23: =VLOOKUP(E23,'Liste formations'!$A$3:$B$19,2,FALSE) -> 25 | G23: 25 | H23: =Tableau2[[#This Row],[Nombre de questions]]-Tableau2[[#This Row],[Réponses justes ]] -> 0 | I23: oui | J23: 40925
A24: AUJAY OLIVIER | B24: =VLOOKUP(A24,'Liste salariés'!$C$2:$Q$607,14,FALSE) -> CADRES | C24: =VLOOKUP(A24,'Liste salariés'!$C$2:$Q$607,4,FALSE) -> P02-TECHNICAL SCES | D24: =VLOOKUP(A24,'Liste salariés'!$C$2:$Q$607,3,FALSE) -> ELM | E24: EWO TECHNICIEN | F24: =VLOOKUP(E24,'Liste formations'!$A$3:$B$19,2,FALSE) -> 5 | G24: 4 | H24: =Tableau2[[#This Row],[Nombre de questions]]-Tableau2[[#This Row],[Réponses justes ]] -> 1 | I24: oui | J24: 41093
A25: AUJAY OLIVIER | B25: =VLOOKUP(A25,'Liste salariés'!$C$2:$Q$607,14,FALSE) -> CADRES | C25: =VLOOKUP(A25,'Liste salariés'!$C$2:$Q$607,4,FALSE) -> P02-TECHNICAL SCES | D25: =VLOOKUP(A25,'Liste salariés'!$C$2:$Q$607,3,FALSE) -> ELM | E25: INTRO WCM | F25: =VLOOKUP(E25,'Liste formations'!$A$3:$B$19,2,FALSE) -> 25 | G25: 23 | H25: =Tableau2[[#This Row],[Nombre de questions]]-Tableau2[[#This Row],[Réponses justes ]] -> 2 | I25: oui
A26: AUPICK FRANCOIS | B26: =VLOOKUP(A26,'Liste salariés'!$C$2:$Q$607,14,FALSE) -> MOD | C26: =VLOOKUP(A26,'Liste salariés'!$C$2:$Q$607,4,FALSE) -> P01-PRODUCTION | D26: =VLOOKUP(A26,'Liste salariés'!$C$2:$Q$607,3,FALSE) -> ELM | E26: EWO OPERATEUR | F26: =VLOOKUP(E26,'Liste formations'!$A$3:$B$19,2,FALSE) -> 10 | G26: 10 | H26: =Tableau2[[#This Row],[Nombre de questions]]-Tableau2[[#This Row],[Réponses justes ]] -> 0 | I26: oui | J26: 41171
A27: AUPICK FRANCOIS | B27: =VLOOKUP(A27,'Liste salariés'!$C$2:$Q$607,14,FALSE) -> MOD | C27: =VLOOKUP(A27,'Liste salariés'!$C$2:$Q$607,4,FALSE) -> P01-PRODUCTION | D27: =VLOOKUP(A27,'Liste salariés'!$C$2:$Q$607,3,FALSE) -> ELM | E27: INTRO WCM | F27: =VLOOKUP(E27,'Liste formations'!$A$3:$B$19,2,FALSE) -> 25 | G27: 25 | H27: =Tableau2[[#This Row],[Nombre de questions]]-Tableau2[[#This Row],[Réponses justes ]] -> 0 | I27: oui | J27: 41157
A28: AUPICK FRANCOIS | B28: =VLOOKUP(A28,'Liste salariés'!$C$2:$Q$607,14,FALSE) -> MOD | C28: =VLOOKUP(A28,'Liste salariés'!$C$2:$Q$607,4,FALSE) -> P01-PRODUCTION | D28: =VLOOKUP(A28,'Liste salariés'!$C$2:$Q$607,3,FALSE) -> ELM | E28: OEE | F28: =VLOOKUP(E28,'Liste formations'!$A$3:$B$19,2,FALSE) -> 6 | G28: 6 | H28: =Tableau2[[#This Row],[Nombre de questions]]-Tableau2[[#This Row],[Réponses justes ]] -> 0 | I28: oui | J28: 41332
A29: AURIAULT PASCAL | B29: =VLOOKUP(A29,'Liste salariés'!$C$2:$Q$607,14,FALSE) -> ETAM | C29: =VLOOKUP(A29,'Liste salariés'!$C$2:$Q$607,4,FALSE) -> P02-TECHNICAL SCES | D29: =VLOOKUP(A29,'Liste salariés'!$C$2:$Q$607,3,FALSE) -> ELM | E29: EWO TECHNICIEN | F29: =VLOOKUP(E29,'Liste formations'!$A$3:$B$19,2,FALSE) -> 5 | G29: 5 | H29: =Tableau2[[#This Row],[Nombre de questions]]-Tableau2[[#This Row],[Réponses justes ]] -> 0 | I29: oui | J29: 41093
A30: AURIAULT PASCAL | B30: =VLOOKUP(A30,'Liste salariés'!$C$2:$Q$607,14,FALSE) -> ETAM | C30: =VLOOKUP(A30,'Liste salariés'!$C$2:$Q$607,4,FALSE) -> P02-TECHNICAL SCES | D30: =VLOOKUP(A30,'Liste salariés'!$C$2:$Q$607,3,FALSE) -> ELM | E30: SENSIBILISATION NVA | F30: =VLOOKUP(E30,'Liste formations'!$A$3:$B$19,2,FALSE) -> 10 | G30: 10 | H30: =Tableau2[[#This Row],[Nombre de questions]]-Tableau2[[#This Row],[Réponses justes ]] -> 0 | I30: oui | J30: 41065
A31: AURIAULT PASCAL | B31: =VLOOKUP(A31,'Liste salariés'!$C$2:$Q$607,14,FALSE) -> ETAM | C31: =VLOOKUP(A31,'Liste salariés'!$C$2:$Q$607,4,FALSE) -> P02-TECHNICAL SCES | D31: =VLOOKUP(A31,'Liste salariés'!$C$2:$Q$607,3,FALSE) -> ELM | E31: INTRO WCM | F31: =VLOOKUP(E31,'Liste formations'!$A$3:$B$19,2,FALSE) -> 25 | G31: 25 | H31: =Tableau2[[#This Row],[Nombre de questions]]-Tableau2[[#This Row],[Réponses justes ]] -> 0 | I31: oui
A32: AUTEAU ELISABETH | B32: =VLOOKUP(A32,'Liste salariés'!$C$2:$Q$607,14,FALSE) -> MOD | C32: =VLOOKUP(A32,'Liste salariés'!$C$2:$Q$607,4,FALSE) -> P01-PRODUCTION | D32: =VLOOKUP(A32,'Liste salariés'!$C$2:$Q$607,3,FALSE) -> ELM | E32: EWO OPERATEUR | F32: =VLOOKUP(E32,'Liste formations'!$A$3:$B$19,2,FALSE) -> 10 | G32: 8 | H32: =Tableau2[[#This Row],[Nombre de questions]]-Tableau2[[#This Row],[Réponses justes ]] -> 2 | I32: oui | J32: 41093
A33: AUZANNEAU CINDY | B33: =VLOOKUP(A33,'Liste salariés'!$C$2:$Q$607,14,FALSE) -> MOD | C33: =VLOOKUP(A33,'Liste salariés'!$C$2:$Q$607,4,FALSE) -> P01-PRODUCTION | D33: =VLOOKUP(A33,'Liste salariés'!$C$2:$Q$607,3,FALSE) -> ELM | E33: INTRO WCM | F33: =VLOOKUP(E33,'Liste formations'!$A$3:$B$19,2,FALSE) -> 25 | G33: 24 | H33: =Tableau2[[#This Row],[Nombre de questions]]-Tableau2[[#This Row],[Réponses justes ]] -> 1 | I33: oui | J33: 41368
A34: AYALA JEAN LOUIS | B34: =VLOOKUP(A34,'Liste salariés'!$C$2:$Q$607,14,FALSE) -> MOD | C34: =VLOOKUP(A34,'Liste salariés'!$C$2:$Q$607,4,FALSE) -> P01-PRODUCTION | D34: =VLOOKUP(A34,'Liste salariés'!$C$2:$Q$607,3,FALSE) -> ELM | E34: EWO OPERATEUR | F34: =VLOOKUP(E34,'Liste formations'!$A$3:$B$19,2,FALSE) -> 10 | G34: 8 | H34: =Tableau2[[#This Row],[Nombre de questions]]-Tableau2[[#This Row],[Réponses justes ]] -> 2 | I34: oui | J34: 41171
A35: AYALA JEAN LOUIS | B35: =VLOOKUP(A35,'Liste salariés'!$C$2:$Q$607,14,FALSE) -> MOD | C35: =VLOOKUP(A35,'Liste salariés'!$C$2:$Q$607,4,FALSE) -> P01-PRODUCTION | D35: =VLOOKUP(A35,'Liste salariés'!$C$2:$Q$607,3,FALSE) -> ELM | E35: INTRO WCM | F35: =VLOOKUP(E35,'Liste formations'!$A$3:$B$19,2,FALSE) -> 25 | G35: 25 | H35: =Tableau2[[#This Row],[Nombre de questions]]-Tableau2[[#This Row],[Réponses justes ]] -> 0 | I35: oui | J35: 41157
A36: AZOR FRANCOISE | B36: =VLOOKUP(A36,'Liste salariés'!$C$2:$Q$607,14,FALSE) -> MOD | C36: =VLOOKUP(A36,'Liste salariés'!$C$2:$Q$607,4,FALSE) -> P01-PRODUCTION | D36: =VLOOKUP(A36,'Liste salariés'!$C$2:$Q$607,3,FALSE) -> ELM | E36: INTRO WCM | F36: =VLOOKUP(E36,'Liste formations'!$A$3:$B$19,2,FALSE) -> 25 | G36: 21 | H36: =Tableau2[[#This Row],[Nombre de questions]]-Tableau2[[#This Row],[Réponses justes ]] -> 4 | I36: oui | J36: 41361
A37: BAERT KATIA | B37: =VLOOKUP(A37,'Liste salariés'!$C$2:$Q$607,14,FALSE) -> ETAM | C37: =VLOOKUP(A37,'Liste salariés'!$C$2:$Q$607,4,FALSE) -> S07-PURCHASING | D37: =VLOOKUP(A37,'Liste salariés'!$C$2:$Q$607,3,FALSE) -> ELM | E37: INTRO WCM | F37: =VLOOKUP(E37,'Liste formations'!$A$3:$B$19,2,FALSE) -> 25 | G37: 19 | H37: =Tableau2[[#This Row],[Nombre de questions]]-Tableau2[[#This Row],[Réponses justes ]] -> 6 | I37: oui
A38: BARDET HAKIMA | B38: =VLOOKUP(A38,'Liste salariés'!$C$2:$Q$607,14,FALSE) -> CADRES | C38: =VLOOKUP(A38,'Liste salariés'!$C$2:$Q$607,4,FALSE) -> P03-MATERIAL MNGT | D38: =VLOOKUP(A38,'Liste salariés'!$C$2:$Q$607,3,FALSE) -> ELM | E38: INTRO WCM | F38: =VLOOKUP(E38,'Liste formations'!$A$3:$B$19,2,FALSE) -> 25 | G38: 21 | H38: =Tableau2[[#This Row],[Nombre de questions]]-Tableau2[[#This Row],[Réponses justes ]] -> 4 | I38: oui
A39: BARDET MICHAEL | B39: =VLOOKUP(A39,'Liste salariés'!$C$2:$Q$607,14,FALSE) -> ETAM | C39: =VLOOKUP(A39,'Liste salariés'!$C$2:$Q$607,4,FALSE) -> P04-QUALITY PLANT | D39: =VLOOKUP(A39,'Liste salariés'!$C$2:$Q$607,3,FALSE) -> ELM | E39: F3A | F39: =VLOOKUP(E39,'Liste formations'!$A$3:$B$19,2,FALSE) -> 10 | G39: 7 | H39: =Tableau2[[#This Row],[Nombre de questions]]-Tableau2[[#This Row],[Réponses justes ]] -> 3 | I39: oui | J39: 41325
A40: BARDET MICHAEL | B40: =VLOOKUP(A40,'Liste salariés'!$C$2:$Q$607,14,FALSE) -> ETAM | C40: =VLOOKUP(A40,'Liste salariés'!$C$2:$Q$607,4,FALSE) -> P04-QUALITY PLANT | D40: =VLOOKUP(A40,'Liste salariés'!$C$2:$Q$607,3,FALSE) -> ELM | E40: INTRO WCM | F40: =VLOOKUP(E40,'Liste formations'!$A$3:$B$19,2,FALSE) -> 25 | G40: 20 | H40: =Tableau2[[#This Row],[Nombre de questions]]-Tableau2[[#This Row],[Réponses justes ]] -> 5 | I40: oui
A41: BARILLET CHARDON SYLVAIN | B41: =VLOOKUP(A41,'Liste salariés'!$C$2:$Q$607,14,FALSE) -> CADRES | C41: =VLOOKUP(A41,'Liste salariés'!$C$2:$Q$607,4,FALSE) -> P02-TECHNICAL SCES | D41: =VLOOKUP(A41,'Liste salariés'!$C$2:$Q$607,3,FALSE) -> ELM | E41: BENCHMARK QUALITE | F41: =VLOOKUP(E41,'Liste formations'!$A$3:$B$19,2,FALSE) -> 14 | G41: 12 | H41: =Tableau2[[#This Row],[Nombre de questions]]-Tableau2[[#This Row],[Réponses justes ]] -> 2 | I41: oui
...

Sheet Liste salariés
A1: Nom | B1: Prénom | C1: Non prénom | D1: Etablissement | E1: Code emploi | F1: Affectation COMAU | G1: N° Section | H1: Libellé Section | I1: Matricule | J1: Date de naissance | K1: Date de début d'ancienneté | L1: Libellé Emploi Libre | M1: Code INSEE 2004 | N1: Classification | O1: Coefficient | P1: Categ | Q1: Sexe
A2: AGUILAR | B2: JEAN | C2: =A2&" "&B2 -> AGUILAR JEAN | D2: Chatellerault | E2: ELM | F2: P01-PRODUCTION | G2: 496145 | H2: LIGNE 19 ASS | I2: 0902400 | J2: 26550 | K2: 35948 | L2: PROFESSIONNEL | M2: 628D | N2: OMAN | O2: 190 | P2: MOD | Q2: M
A3: ALLAOUA | B3: TAREK | C3: =A3&" "&B3 -> ALLAOUA TAREK | D3: Chatellerault | E3: I&T | F3: S14-TELEMATICS | G3: 496129 | H3: IT R&D | I3: 0902708 | J3: 28763 | K3: 39601 | L3: ARCHITECTE | M3: 383A | N3: ARC | O3: 902 | P3: CADRES | Q3: M
A4: ALLARD | B4: ROBERT | C4: =A4&" "&B4 -> ALLARD ROBERT | D4: Chatellerault | E4: ELM | F4: P01-PRODUCTION | G4: 496155 | H4: MAGASIN OPERATIONNEL | I4: 1001663 | J4: 25453 | K4: 40360 | L4: TEAM LEADER | M4: 628G | N4: TL | O4: 190 | P4: MOD | Q4: M
A5: ALONSO | B5: JEAN LUC | C5: =A5&" "&B5 -> ALONSO JEAN LUC | D5: Chatellerault | E5: ELM | F5: P01-PRODUCTION | G5: 496164 | H5: LIGNE 20 CMS | I5: 0902368 | J5: 25799 | K5: 34757 | L5: PROFESSIONNEL | M5: 628D | N5: OMAC | O5: 240 | P5: MOD | Q5: M
A6: ALOUI | B6: HICHEM | C6: =A6&" "&B6 -> ALOUI HICHEM | D6: Chatellerault | E6: I&T | F6: S14-TELEMATICS | G6: 496129 | H6: IT R&D | I6: 0902523 | J6: 26649 | K6: 37263 | L6: ARCHITECTE | M6: 383A | N6: ARC | O6: 902 | P6: CADRES | Q6: M
A7: ALVES GORJAO | B7: JOAQUIM | C7: =A7&" "&B7 -> ALVES GORJAO JOAQUIM | D7: Chatellerault | E7: ELM | F7: P02-TECHNICAL SCES | G7: 496120 | H7: MAINTENANCE MACHINES | I7: 1200279 | J7: 21423 | K7: 41001 | L7: RESPONSABLE MAINTENANCE | M7: 387E | N7: LP | O7: 902 | P7: CADRES | Q7: M
A8: AMIRAULT | B8: VERONIQUE | C8: =A8&" "&B8 -> AMIRAULT VERONIQUE | D8: Chatellerault | E8: ELM | F8: P01-PRODUCTION | G8: 496140 | H8: PRODUCTION TABLEAU DE BORD LIGNE 12 | I8: 0902317 | J8: 23492 | K8: 32545 | L8: PROFESSIONNEL | M8: 626B | N8: OMAN | O8: 215 | P8: MOD | Q8: F
A9: ANDRAULT | B9: DANIEL | C9: =A9&" "&B9 -> ANDRAULT DANIEL | D9: Chatellerault | E9: ELM | F9: P01-PRODUCTION | G9: 496137 | H9: STRUCTURE PRODUCTION | I9: 0902044 | J9: 20422 | K9: 28527 | L9: RESPONSABLE EQUIPE NUIT/VSD | M9: 473B | N9: TST | O9: 335 | P9: ETAM | Q9: M
A10: ANDRE | B10: ISABELLE | C10: =A10&" "&B10 -> ANDRE ISABELLE | D10: Trappes | E10: AFTER MARKET | F10: AFTER MARKET | G10: 496206 | H10: GESTION THERMIQUE | I10: 1200106 | J10: 24522 | K10: 33343 | L10: ASS.MARKETING & CCIAL AM | M10: 383A | O10: 335 | P10: ETAM | Q10: F
A11: ANDRE | B11: MARTINE | C11: =A11&" "&B11 -> ANDRE MARTINE | D11: Chatellerault | E11: ELM | F11: P01-PRODUCTION | G11: 496152 | H11: L11-CMS | I11: 0902117 | J11: 19881 | K11: 26801 | L11: PROFESSIONNEL | M11: 626B | N11: OMAN | O11: 190 | P11: MOD | Q11: F
A12: ANDRIEU | B12: ELISABETH | C12: =A12&" "&B12 -> ANDRIEU ELISABETH | D12: Chatellerault | E12: ELM | F12: P01-PRODUCTION | G12: 496151 | H12: L10-CMS | I12: 0902258 | J12: 20926 | K12: 28887 | L12: PROFESSIONNEL | M12: 626B | N12: OMAN | O12: 170 | P12: MOD | Q12: F
A13: ANGUISE | B13: PIERRE | C13: =A13&" "&B13 -> ANGUISE PIERRE | D13: Chatellerault | E13: I&T | F13: S08-QUALITY | G13: 496110 | H13: GESTION GAR. TELEMATIQUE | I13: 0902414 | J13: 26584 | K13: 36130 | L13: INTERVENANT SUPPORT CLIENT | M13: 475B | N13: ISC | O13: 335 | P13: ETAM | Q13: M
A14: ANTOINE | B14: FRANCOIS | C14: =A14&" "&B14 -> ANTOINE FRANCOIS | D14: Chatellerault | E14: I&T | F14: S14-TELEMATICS PL | G14: 496209 | H14: EXPATRIES R&D I&N | I14: 0902550 | J14: 28435 | K14: 37991 | L14: SW PROJET LEADER | M14: 383A | N14: ARC | O14: 902 | P14: CADRES | Q14: M
A15: APPAIX | B15: LAURENCE | C15: =A15&" "&B15 -> APPAIX LAURENCE | D15: Chatellerault | E15: ELC | F15: S08-QUALITY | G15: 496161 | H15: QUALITE RESIDENT | I15: 0902643 | J15: 28309 | K15: 39118 | L15: TECH QUALITE CLIENT RESIDENT | M15: 473C | N15: QCLT | O15: 335 | P15: ETAM | Q15: F
A16: ARECCO | B16: ANTHONY | C16: =A16&" "&B16 -> ARECCO ANTHONY | D16: Chatellerault | E16: ELM | F16: P01-PRODUCTION | G16: 496166 | H16: LIGNE 19 CMS | I16: 1200030 | J16: 31104 | K16: 40818 | L16: PROFESSIONNEL | M16: 628D | N16: OMAC | O16: 190 | P16: MOD | Q16: M
A17: ARNOU | B17: FRANCIS | C17: =A17&" "&B17 -> ARNOU FRANCIS | D17: Chatellerault | E17: ELM | F17: P01-PRODUCTION | G17: 496157 | H17: L15-CMS | I17: 0902379 | J17: 24570 | K17: 35156 | L17: PROFESSIONNEL | M17: 628D | N17: OMAC | O17: 255 | P17: MOD | Q17: M
A18: AUBOURG | B18: MANUELA | C18: =A18&" "&B18 -> AUBOURG MANUELA | D18: Chatellerault | E18: ELM | F18: P01-PRODUCTION | G18: 496152 | H18: L11-CMS | I18: 1100699 | J18: 25928 | K18: 40685 | L18: PROFESSIONNEL | M18: 628D | N18: OMAN | O18: 190 | P18: MOD | Q18: F
A19: AUGUIER | B19: JOEL | C19: =A19&" "&B19 -> AUGUIER JOEL | D19: Chatellerault | E19: ELM | F19: P02-TECHNICAL SCES | G19: 496103 | H19: INFRASTRUCTURE | I19: 0902050 | J19: 21610 | K19: 28905 | L19: TECHNICIEN ATELIER | M19: 628A | N19: BAT | O19: 240 | P19: MOD | Q19: M
A20: AUJAY | B20: OLIVIER | C20: =A20&" "&B20 -> AUJAY OLIVIER | D20: Chatellerault | E20: ELM | F20: P02-TECHNICAL SCES | G20: 496107 | H20: TECHNOLOGUES APPLICA. | I20: 0902334 | J20: 20148 | K20: 32933 | L20: TECHNOLOGUE D'APPLICATION | M20: 383A | N20: TIE | O20: 903 | P20: CADRES | Q20: M
A21: AUMONT | B21: AYMERIC | C21: =A21&" "&B21 -> AUMONT AYMERIC | D21: Chatellerault | E21: ELM | F21: S03-HUMAN RESOURCE | G21: 496104 | H21: PERSONNEL ET ORGANISATION | I21: 1200878 | J21: 32769 | K21: 41153 | L21: APPRENTI RH | M21: 543H | N21: APP | O21: 1 | P21: ETAM | Q21: M
A22: AUPICK | B22: FRANCOIS | C22: =A22&" "&B22 -> AUPICK FRANCOIS | D22: Chatellerault | E22: ELM | F22: P01-PRODUCTION | G22: 496145 | H22: LIGNE 19 ASS | I22: 0902352 | J22: 25247 | K22: 33791 | L22: PROFESSIONNEL | M22: 628D | N22: OMAC | O22: 215 | P22: MOD | Q22: M
... A40: BAUMLER | B40: BEATRICE | C40: =A40&" "&B40 -> BAUMLER BEATRICE | D40: Chatellerault | E40: ELC | F40: S11-CLUSTER PL | G40: 496133 | H40: TABLEAUX DE BORD RD | I40: 0901961 | J40: 26029 | K40: 35338 | L40: ARCHITECTE | M40: 383A | N40: ARC | O40: 902 | P40: CADRES | Q40: F
A41: BEAUDIN | B41: NOELLA | C41: =A41&" "&B41 -> BEAUDIN NOELLA | D41: Chatellerault | E41: ELM | F41: P01-PRODUCTION | G41: 496145 | J41: 27440 | K41: 41275 | L41: PROFESSIONNEL | N41: OMAN | P41: MOD | Q41: F
A42: BEAUPEU | B42: EMMANUEL | C42: =A42&" "&B42 -> BEAUPEU EMMANUEL | D42: Chatellerault | E42: ELC | F42: S07-PURCHASING | G42: 496125 | H42: ACHATS SOURCING RD | I42: 0902385 | J42: 26919 | K42: 35345 | L42: S.D.E. | M42: 387D | N42: SDE | O42: 902 | P42: CADRES | Q42: M
A43: BEAUSSE | B43: FRANCOISE | C43: =A43&" "&B43 -> BEAUSSE FRANCOISE | D43: Chatellerault | E43: ELM | F43: P01-PRODUCTION | G43: 496153 | H43: ALD | I43: 0902082 | J43: 19935 | K43: 26428 | L43: PROFESSIONNEL | M43: 626B | N43: OMAN | O43: 190 | P43: MOD | Q43: F
A44: BEDUE | B44: CYRIL | C44: =A44&" "&B44 -> BEDUE CYRIL | D44: Chatellerault | E44: ELC | F44: S11-CLUSTER PL | G44: 496133 | H44: TABLEAUX DE BORD RD | I44: 0901989 | J44: 26641 | K44: 36661 | L44: INGENIEUR HARDWARE SENIOR | M44: 383A | N44: HW | O44: 902 | P44: CADRES | Q44: M
A45: BELETEAU | B45: EMMANUEL | C45: =A45&" "&B45 -> BELETEAU EMMANUEL | D45: Chatellerault | E45: I&T | F45: S14-TELEMATICS | G45: 496129 | H45: IT R&D | I45: 0902613 | J45: 27858 | K45: 38719 | L45: INGENIEUR SOFTWARE | M45: 383A | N45: SW | O45: 902 | P45: CADRES | Q45: M
A46: BELLICAUD | B46: CHRISTOPHE | C46: =A46&" "&B46 -> BELLICAUD CHRISTOPHE | D46: Chatellerault | E46: ELM | F46: P03-MATERIAL MNGT | G46: 496119 | H46: LOGISTIQUE | I46: 0902563 | J46: 24856 | K46: 38193 | L46: GESTIONNAIRE DE PRODUCTION | M46: 477A | N46: GP | O46: 285 | P46: ETAM | Q46: M
A47: BEN EMBAREK | B47: MOHAMED | C47: =A47&" "&B47 -> BEN EMBAREK MOHAMED | D47: Chatellerault | E47: ELM | F47: P01-PRODUCTION | G47: 496155 | H47: MAGASIN OPERATIONNEL | I47: 1300117 | J47: 31311 | K47: 41224 | L47: PROFESSIONNEL | M47: 626B | N47: MAG | O47: 170 | P47: MOD | Q47: M
A48: BENOIST | B48: GUILLAUME | C48: =A48&" "&B48 -> BENOIST GUILLAUME | D48: Chatellerault | E48: ELM | F48: P01-PRODUCTION | G48: 496164 | H48: LIGNE 20 CMS | I48: 1300116 | J48: 30276 | K48: 41224 | L48: PROFESSIONNEL | M48: 628D | N48: OMAC | O48: 190 | P48: MOD | Q48: M
A49: BENOIT GONIN | B49: SEBASTIEN | C49: =A49&" "&B49 -> BENOIT GONIN SEBASTIEN | D49: Trappes | G49: 496204 | H49: GESTION PCMA | I49: 1100352 | J49: 27282 | K49: 40603 | L49: PRODUCT ENGINEER | M49: 383A | O49: 902 | P49: CADRES | Q49: M
A50: BERGER | B50: CHRISTOPHE | C50: =A50&" "&B50 -> BERGER CHRISTOPHE | D50: Chatellerault | E50: ELM | F50: P01-PRODUCTION | G50: 496155 | H50: MAGASIN OPERATIONNEL | I50: 1100279 | J50: 24561 | K50: 40483 | L50: PROFESSIONNEL | M50: 626B | N50: MAG | O50: 170 | P50: MOD | Q50: M
A51: BERGER | B51: DAMIEN | C51: =A51&" "&B51 -> BERGER DAMIEN | D51: Chatellerault | E51: I&T | F51: S14-TELEMATICS | G51: 496129 | H51: IT R&D | I51: 1200381 | J51: 29559 | K51: 41061 | L51: ARCHITECTE | M51: 383A | N51: ARC | O51: 902 | P51: CADRES | Q51: M
A52: BERGERIOUX | B52: JEAN CHARLES | C52: =A52&" "&B52 -> BERGERIOUX JEAN CHARLES | D52: Chatellerault | E52: ELM | F52: P03-MATERIAL MNGT | G52: 496119 | H52: LOGISTIQUE | I52: 0902052 | J52: 20596 | K52: 27345 | L52: GESTIONNAIRE DE PRODUCTION | M52: 477A | N52: GP | O52: 285 | P52: ETAM | Q52: M
A53: BERNARD | B53: ALAIN | C53: =A53&" "&B53 -> BERNARD ALAIN | D53: Chatellerault | E53: ELC | F53: S08-QUALITY | G53: 496134 | H53: QUALITE RD | I53: 0902347 | J53: 24603 | K53: 33476 | L53: TECHNICIEN VALIDATION | M53: 473C | N53: TVAL | O53: 335 | P53: ETAM | Q53: M
A54: BERNARD | B54: ALEXANDRE | C54: =A54&" "&B54 -> BERNARD ALEXANDRE | D54: Chatellerault | E54: ELM | F54: S04-ICT | G54: 496111 | H54: INFORMATIQUE | I54: 1100855 | J54: 33808 | K54: 40787 | L54: APPRENTI INFORMATIQUE | M54: 543H | N54: APP | O54: 1 | P54: ETAM | Q54: M
A55: BERNARD | B55: CELINE | C55: =A55&" "&B55 -> BERNARD CELINE | D55: Chatellerault | E55: ELM | F55: P01-PRODUCTION | G55: 496137 | H55: STRUCTURE PRODUCTION | I55: 0902542 | J55: 26646 | K55: 37501 | L55: WCM PLAN SUPPORT | M55: 387D | N55: UTE | O55: 902 | P55: CADRES | Q55: F
A56: BERNARD | B56: GISELE | C56: =A56&" "&B56 -> BERNARD GISELE | D56: Chatellerault | E56: ELM | F56: P01-PRODUCTION | G56: 496164 | H56: LIGNE 20 CMS | I56: 0902274 | J56: 21097 | K56: 29199 | L56: PROFESSIONNEL | M56: 626B | N56: OMAN | O56: 190 | P56: MOD | Q56: F
A57: BERNARD | B57: PHILIPPE | C57: =A57&" "&B57 -> BERNARD PHILIPPE | D57: Chatellerault | E57: ELC | F57: S11-CLUSTER PL | G57: 496133 | H57: TABLEAUX DE BORD RD | I57: 0902003 | J57: 26644 | K57: 36717 | L57: INGENIEUR MECANIQUE | M57: 383A | N57: MEC | O57: 902 | P57: CADRES | Q57: M
...

Sheet Liste formations
A2: Intitulé formation | B2: Nombre de questions
A3: BENCHMARK QUALITE | B3: 14
A4: EWO OPERATEUR | B4: 10
A5: EWO TECHNICIEN | B5: 5
A6: F3A | B6: 10
A7: INTRO WCM | B7: 25
A8: MUDA | B8: 10
A9: MURA | B9: 10
A10: MURI | B10: 11
A11: OBSOLESCENCE | B11: 10
A12: OEE | B12: 6
A13: PLASTURGIE M1 | B13: 13
A14: PLASTURGIE M2 | B14: 13
... A19: RAD | B19: 17

Sheet Feuil1
A1: Nom Prénom | B1: BENCHMARK QUALITE | C1: EWO OPERATEUR | D1: EWO TECHNICIEN | E1: F3A | F1: INTRO WCM | G1: MUDA | H1: MURA | I1: MURI | J1: OBSOLESCENCE | K1: OEE | L1: PLASTURGIE M1 | M1: PLASTURGIE M2 | N1: PLASTURGIE M3 | O1: PLASTURGIE M4 | P1: TWTTP | Q1: SENSIBILISATION NVA | R1: RAD
A2: AGUILAR
A3: ALLAOUA
A4: ALLARD
A5: ALONSO
A6: ALOUI
A7: ALVES GORJAO
A8: AMIRAULT
A9: ANDRAULT
A10: ANDRE
A11: ANDRE
A12: ANDRIEU
A13: ANGUISE
... A18: AUBOURG
A19: AUGUIER | B19: =IF(Tableau2[[#This Row],[Intitulé formation]]= 'Liste formations'!A20,"x"," ")
A20: AUJAY
A21: AUMONT
A22: AUPICK
A23: AURIAULT
A24: AUTEAU
A25: AUZANNEAU
A26: AYALA
A27: AYRAULT
A28: AZOR | B28: =IF(Tableau2[[#This Row],[Intitulé formation]]= 'Liste formations'!A29,"x"," ")
A29: BAERT | B29: =IF(Tableau2[[#This Row],[Intitulé formation]]= 'Liste formations'!A30,"x"," ")
A30: BARBOT | B30: =IF(Tableau2[[#This Row],[Intitulé formation]]= 'Liste formations'!A31,"x"," ")
A31: BARDET | B31: =IF(Tableau2[[#This Row],[Intitulé formation]]= 'Liste formations'!A32,"x"," ")
A32: BARDET | B32: =IF(Tableau2[[#This Row],[Intitulé formation]]= 'Liste formations'!A33,"x"," ")
A33: BARILLET CHARDON | B33: =IF(Tableau2[[#This Row],[Intitulé formation]]= 'Liste formations'!A34,"x"," ")
A34: BARRAULT | B34: =IF(Tableau2[[#This Row],[Intitulé formation]]= 'Liste formations'!A35,"x"," ")
A35: BARROT | B35: =IF(Tableau2[[#This Row],[Intitulé formation]]= 'Liste formations'!A36,"x"," ")
A36: BASSET | B36: =IF(Tableau2[[#This Row],[Intitulé formation]]= 'Liste formations'!A37,"x"," ")
A37: BATY | B37: =IF(Tableau2[[#This Row],[Intitulé formation]]= 'Liste formations'!A38,"x"," ")
A38: BAUDEAU | B38: =IF(Tableau2[[#This Row],[Intitulé formation]]= 'Liste formations'!A39,"x"," ")
A39: BAUDOUIN | B39: =IF(Tableau2[[#This Row],[Intitulé formation]]= 'Liste formations'!A40,"x"," ")
... A607: ZIRN | B607: =IF(Tableau2[[#This Row],[Intitulé formation]]= 'Liste formations'!A608,"x"," ")
