Workbook

Sheet Tableau récapitulatif
A1: Nom Prénom | B1: Structure / MOD | C1: Affectation | D1: Code emploi | E1: Intitulé formation | F1: Nombre de questions | G1: Réponses justes | H1: Réponses fausses | I1: Validation | J1: Date
A2: AGUILAR JEAN | B2: =VLOOKUP(A2,'Liste salariés'!$C$2:$Q$607,14,FALSE) -> MOD | C2: =VLOOKUP(A2,'Liste salariés'!$C$2:$Q$607,4,FALSE) -> P01-PRODUCTION | D2: =VLOOKUP(A2,'Liste salariés'!$C$2:$Q$607,3,FALSE) -> ELM | E2: INTRO WCM | F2: =VLOOKUP(E2,'Liste formations'!$A$3:$B$19,2,FALSE) -> 25 | G2: 25 | H2: =Tableau2[[#This Row],[Nombre de questions]]-Tableau2[[#This Row],[Réponses justes ]] -> 0 | I2: oui
A3: AGUILAR JEAN | B3: =VLOOKUP(A3,'Liste salariés'!$C$2:$Q$607,14,FALSE) -> MOD | C3: =VLOOKUP(A3,'Liste salariés'!$C$2:$Q$607,4,FALSE) -> P01-PRODUCTION | D3: =VLOOKUP(A3,'Liste salariés'!$C$2:$Q$607,3,FALSE) -> ELM | E3: EWO OPERATEUR | F3: =VLOOKUP(E3,'Liste formations'!$A$3:$B$19,2,FALSE) -> 10 | G3: 9 | H3: =Tableau2[[#This Row],[Nombre de questions]]-Tableau2[[#This Row],[Réponses justes ]] -> 1 | I3: oui | J3: 41180
A4: ALONSO JEAN LUC | B4: =VLOOKUP(A4,'Liste salariés'!$C$2:$Q$607,14,FALSE) -> MOD | C4: =VLOOKUP(A4,'Liste salariés'!$C$2:$Q$607,4,FALSE) -> P01-PRODUCTION | D4: =VLOOKUP(A4,'Liste salariés'!$C$2:$Q$607,3,FALSE) -> ELM | E4: EWO OPERATEUR | F4: =VLOOKUP(E4,'Liste formations'!$A$3:$B$19,2,FALSE) -> 10 | G4: 10 | H4: =Tableau2[[#This Row],[Nombre de questions]]-Tableau2[[#This Row],[Réponses justes ]] -> 0 | I4: oui | J4: 41171
A5: ALONSO JEAN LUC | B5: =VLOOKUP(A5,'Liste salariés'!$C$2:$Q$607,14,FALSE) -> MOD | C5: =VLOOKUP(A5,'Liste salariés'!$C$2:$Q$607,4,FALSE) -> P01-PRODUCTION | D5: =VLOOKUP(A5,'Liste salariés'!$C$2:$Q$607,3,FALSE) -> ELM | E5: INTRO WCM | F5: =VLOOKUP(E5,'Liste formations'!$A$3:$B$19,2,FALSE) -> 25 | G5: 25 | H5: =Tableau2[[#This Row],[Nombre de questions]]-Tableau2[[#This Row],[Réponses justes ]] -> 0 | I5: oui | J5: 41157
A6: ALONSO JEAN LUC | B6: =VLOOKUP(A6,'Liste salariés'!$C$2:$Q$607,14,FALSE) -> MOD | C6: =VLOOKUP(A6,'Liste salariés'!$C$2:$Q$607,4,FALSE) -> P01-PRODUCTION | D6: =VLOOKUP(A6,'Liste salariés'!$C$2:$Q$607,3,FALSE) -> ELM | E6: OEE | F6: =VLOOKUP(E6,'Liste formations'!$A$3:$B$19,2,FALSE) -> 6 | G6: 6 | H6: =Tableau2[[#This Row],[Nombre de questions]]-Tableau2[[#This Row],[Réponses justes ]] -> 0 | I6: oui | J6: 41331
A7: AMIRAULT VERONIQUE | B7: =VLOOKUP(A7,'Liste salariés'!$C$2:$Q$607,14,FALSE) -> MOD | C7: =VLOOKUP(A7,'Liste salariés'!$C$2:$Q$607,4,FALSE) -> P01-PRODUCTION | D7: =VLOOKUP(A7,'Liste salariés'!$C$2:$Q$607,3,FALSE) -> ELM | E7: EWO OPERATEUR | F7: =VLOOKUP(E7,'Liste formations'!$A$3:$B$19,2,FALSE) -> 10 | G7: 10 | H7: =Tableau2[[#This Row],[Nombre de questions]]-Tableau2[[#This Row],[Réponses justes ]] -> 0 | I7: oui | J7: 41352
A8: AMIRAULT VERONIQUE | B8: =VLOOKUP(A8,'Liste salariés'!$C$2:$Q$607,14,FALSE) -> MOD | C8: =VLOOKUP(A8,'Liste salariés'!$C$2:$Q$607,4,FALSE) -> P01-PRODUCTION | D8: =VLOOKUP(A8,'Liste salariés'!$C$2:$Q$607,3,FALSE) -> ELM | E8: INTRO WCM | F8: =VLOOKUP(E8,'Liste formations'!$A$3:$B$19,2,FALSE) -> 25 | G8: 18 | H8: =Tableau2[[#This Row],[Nombre de questions]]-Tableau2[[#This Row],[Réponses justes ]] -> 7 | I8: oui | J8: 41352
A9: ANDRAULT DANIEL | B9: =VLOOKUP(A9,'Liste salariés'!$C$2:$Q$607,14,FALSE) -> ETAM | C9: =VLOOKUP(A9,'Liste salariés'!$C$2:$Q$607,4,FALSE) -> P01-PRODUCTION | D9: =VLOOKUP(A9,'Liste salariés'!$C$2:$Q$607,3,FALSE) -> ELM | E9: EWO TECHNICIEN | F9: =VLOOKUP(E9,'Liste formations'!$A$3:$B$19,2,FALSE) -> 5 | G9: 5 | H9: =Tableau2[[#This Row],[Nombre de questions]]-Tableau2[[#This Row],[Réponses justes ]] -> 0 | I9: oui | J9: 41096
A10: ANDRAULT DANIEL | B10: =VLOOKUP(A10,'Liste salariés'!$C$2:$Q$607,14,FALSE) -> ETAM | C10: =VLOOKUP(A10,'Liste salariés'!$C$2:$Q$607,4,FALSE) -> P01-PRODUCTION | D10: =VLOOKUP(A10,'Liste salariés'!$C$2:$Q$607,3,FALSE) -> ELM | E10: SENSIBILISATION NVA | F10: =VLOOKUP(E10,'Liste formations'!$A$3:$B$19,2,FALSE) -> 10 | G10: 10 | H10: =Tableau2[[#This Row],[Nombre de questions]]-Tableau2[[#This Row],[Réponses justes ]] -> 0 | I10: oui | J10: 41012
A11: ANDRAULT DANIEL | B11: =VLOOKUP(A11,'Liste salariés'!$C$2:$Q$607,14,FALSE) -> ETAM | C11: =VLOOKUP(A11,'Liste salariés'!$C$2:$Q$607,4,FALSE) -> P01-PRODUCTION | D11: =VLOOKUP(A11,'Liste salariés'!$C$2:$Q$607,3,FALSE) -> ELM | E11: INTRO WCM | F11: =VLOOKUP(E11,'Liste formations'!$A$3:$B$19,2,FALSE) -> 25 | G11: 21 | H11: =Tableau2[[#This Row],[Nombre de questions]]-Tableau2[[#This Row],[Réponses justes ]] -> 4 | I11: oui | J11: 41091
A12: ANDRAULT DANIEL | B12: =VLOOKUP(A12,'Liste salariés'!$C$2:$Q$607,14,FALSE) -> ETAM | C12: =VLOOKUP(A12,'Liste salariés'!$C$2:$Q$607,4,FALSE) -> P01-PRODUCTION | D12: =VLOOKUP(A12,'Liste salariés'!$C$2:$Q$607,3,FALSE) -> ELM | E12: RAD | F12: =VLOOKUP(E12,'Liste formations'!$A$3:$B$19,2,FALSE) -> 17 | G12: 17 | H12: =Tableau2[[#This Row],[Nombre de questions]]-Tableau2[[#This Row],[Réponses justes ]] -> 0 | I12: oui | J12: 41383
A13: ANDRE MARTINE | B13: =VLOOKUP(A13,'Liste salariés'!$C$2:$Q$607,14,FALSE) -> MOD | C13: =VLOOKUP(A13,'Liste salariés'!$C$2:$Q$607,4,FALSE) -> P01-PRODUCTION | D13: =VLOOKUP(A13,'Liste salariés'!$C$2:$Q$607,3,FALSE) -> ELM | E13: EWO OPERATEUR | F13: =VLOOKUP(E13,'Liste formations'!$A$3:$B$19,2,FALSE) -> 10 | G13: 7 | H13: =Tableau2[[#This Row],[Nombre de questions]]-Tableau2[[#This Row],[Réponses justes ]] -> 3 | I13: oui | J13: 41297
A14: ANDRE MARTINE | B14: =VLOOKUP(A14,'Liste salariés'!$C$2:$Q$607,14,FALSE) -> MOD | C14: =VLOOKUP(A14,'Liste salariés'!$C$2:$Q$607,4,FALSE) -> P01-PRODUCTION | D14: =VLOOKUP(A14,'Liste salariés'!$C$2:$Q$607,3,FALSE) -> ELM | E14: INTRO WCM | F14: =VLOOKUP(E14,'Liste formations'!$A$3:$B$19,2,FALSE) -> 25 | G14: 20 | H14: =Tableau2[[#This Row],[Nombre de questions]]-Tableau2[[#This Row],[Réponses justes ]] -> 5 | I14: oui | J14: 41361
... A16: ANDRIEU ELISABETH | B16: =VLOOKUP(A16,'Liste salariés'!$C$2:$Q$607,14,FALSE) -> MOD | C16: =VLOOKUP(A16,'Liste salariés'!$C$2:$Q$607,4,FALSE) -> P01-PRODUCTION | D16: =VLOOKUP(A16,'Liste salariés'!$C$2:$Q$607,3,FALSE) -> ELM | E16: INTRO WCM | F16: =VLOOKUP(E16,'Liste formations'!$A$3:$B$19,2,FALSE) -> 25 | G16: 21 | H16: =Tableau2[[#This Row],[Nombre de questions]]-Tableau2[[#This Row],[Réponses justes ]] -> 4 | I16: oui | J16: 41211
A17: ANGUISE PIERRE | B17: =VLOOKUP(A17,'Liste salariés'!$C$2:$Q$607,14,FALSE) -> ETAM | C17: =VLOOKUP(A17,'Liste salariés'!$C$2:$Q$607,4,FALSE) -> S08-QUALITY | D17: =VLOOKUP(A17,'Liste salariés'!$C$2:$Q$607,3,FALSE) -> I&T | E17: INTRO WCM | F17: =VLOOKUP(E17,'Liste formations'!$A$3:$B$19,2,FALSE) -> 25 | G17: 21 | H17: =Tableau2[[#This Row],[Nombre de questions]]-Tableau2[[#This Row],[Réponses justes ]] -> 4 | I17: oui
A18: ARECCO ANTHONY | B18: =VLOOKUP(A18,'Liste salariés'!$C$2:$Q$607,14,FALSE) -> MOD | C18: =VLOOKUP(A18,'Liste salariés'!$C$2:$Q$607,4,FALSE) -> P01-PRODUCTION | D18: =VLOOKUP(A18,'Liste salariés'!$C$2:$Q$607,3,FALSE) -> ELM | E18: EWO OPERATEUR | F18: =VLOOKUP(E18,'Liste formations'!$A$3:$B$19,2,FALSE) -> 10 | G18: 9 | H18: =Tableau2[[#This Row],[Nombre de questions]]-Tableau2[[#This Row],[Réponses justes ]] -> 1 | I18: oui | J18: 41171
A19: ARECCO ANTHONY | B19: =VLOOKUP(A19,'Liste salariés'!$C$2:$Q$607,14,FALSE) -> MOD | C19: =VLOOKUP(A19,'Liste salariés'!$C$2:$Q$607,4,FALSE) -> P01-PRODUCTION | D19: =VLOOKUP(A19,'Liste salariés'!$C$2:$Q$607,3,FALSE) -> ELM | E19: INTRO WCM | F19: =VLOOKUP(E19,'Liste formations'!$A$3:$B$19,2,FALSE) -> 25 | G19: 22 | H19: =Tableau2[[#This Row],[Nombre de questions]]-Tableau2[[#This Row],[Réponses justes ]] -> 3 | I19: oui | J19: 40940
A20: ARNOU FRANCIS | B20: =VLOOKUP(A20,'Liste salariés'!$C$2:$Q$607,14,FALSE) -> MOD | C20: =VLOOKUP(A20,'Liste salariés'!$C$2:$Q$607,4,FALSE) -> P01-PRODUCTION | D20: =VLOOKUP(A20,'Liste salariés'!$C$2:$Q$607,3,FALSE) -> ELM | E20: EWO OPERATEUR | F20: =VLOOKUP(E20,'Liste formations'!$A$3:$B$19,2,FALSE) -> 10 | G20: 9 | H20: =Tableau2[[#This Row],[Nombre de questions]]-Tableau2[[#This Row],[Réponses justes ]] -> 1 | I20: oui | J20: 41297
A21: ARNOU FRANCIS | B21: =VLOOKUP(A21,'Liste salariés'!$C$2:$Q$607,14,FALSE) -> MOD | C21: =VLOOKUP(A21,'Liste salariés'!$C$2:$Q$607,4,FALSE) -> P01-PRODUCTION | D21: =VLOOKUP(A21,'Liste salariés'!$C$2:$Q$607,3,FALSE) -> ELM | E21: INTRO WCM | F21: =VLOOKUP(E21,'Liste formations'!$A$3:$B$19,2,FALSE) -> 25 | G21: 21 | H21: =Tableau2[[#This Row],[Nombre de questions]]-Tableau2[[#This Row],[Réponses justes ]] -> 4 | I21: oui | J21: 41211
A22: AUBOURG MANUELA | B22: =VLOOKUP(A22,'Liste salariés'!$C$2:$Q$607,14,FALSE) -> MOD | C22: =VLOOKUP(A22,'Liste salariés'!$C$2:$Q$607,4,FALSE) -> P01-PRODUCTION | D22: =VLOOKUP(A22,'Liste salariés'!$C$2:$Q$607,3,FALSE) -> ELM | E22: EWO OPERATEUR | F22: =VLOOKUP(E22,'Liste formations'!$A$3:$B$19,2,FALSE) -> 10 | G22: 9 | H22: =Tableau2[[#This Row],[Nombre de questions]]-Tableau2[[#This Row],[Réponses justes ]] -> 1 | I22: oui | J22: 41295
A23: AUBOURG MANUELA | B23: =VLOOKUP(A23,'Liste salariés'!$C$2:$Q$607,14,FALSE) -> MOD | C23: =VLOOKUP(A23,'Liste salariés'!$C$2:$Q$607,4,FALSE) -> P01-PRODUCTION | D23: =VLOOKUP(A23,'Liste salariés'!$C$2:$Q$607,3,FALSE) -> ELM | E23: INTRO WCM | F23: =VLOOKUP(E23,'Liste formations'!$A$3:$B$19,2,FALSE) -> 25 | G23: 25 | H23: =Tableau2[[#This Row],[Nombre de questions]]-Tableau2[[#This Row],[Réponses justes ]] -> 0 | I23: oui | J23: 40925
A24: AUJAY OLIVIER | B24: =VLOOKUP(A24,'Liste salariés'!$C$2:$Q$607,14,FALSE) -> CADRES | C24: =VLOOKUP(A24,'Liste salariés'!$C$2:$Q$607,4,FALSE) -> P02-TECHNICAL SCES | D24: =VLOOKUP(A24,'Liste salariés'!$C$2:$Q$607,3,FALSE) -> ELM | E24: EWO TECHNICIEN | F24: =VLOOKUP(E24,'Liste formations'!$A$3:$B$19,2,FALSE) -> 5 | G24: 4 | H24: =Tableau2[[#This Row],[Nombre de questions]]-Tableau2[[#This Row],[Réponses justes ]] -> 1 | I24: oui | J24: 41093
A25: AUJAY OLIVIER | B25: =VLOOKUP(A25,'Liste salariés'!$C$2:$Q$607,14,FALSE) -> CADRES | C25: =VLOOKUP(A25,'Liste salariés'!$C$2:$Q$607,4,FALSE) -> P02-TECHNICAL SCES | D25: =VLOOKUP(A25,'Liste salariés'!$C$2:$Q$607,3,FALSE) -> ELM | E25: INTRO WCM | F25: =VLOOKUP(E25,'Liste formations'!$A$3:$B$19,2,FALSE) -> 25 | G25: 23 | H25: =Tableau2[[#This Row],[Nombre de questions]]-Tableau2[[#This Row],[Réponses justes ]] -> 2 | I25: oui
A26: AUPICK FRANCOIS | B26: =VLOOKUP(A26,'Liste salariés'!$C$2:$Q$607,14,FALSE) -> MOD | C26: =VLOOKUP(A26,'Liste salariés'!$C$2:$Q$607,4,FALSE) -> P01-PRODUCTION | D26: =VLOOKUP(A26,'Liste salariés'!$C$2:$Q$607,3,FALSE) -> ELM | E26: EWO OPERATEUR | F26: =VLOOKUP(E26,'Liste formations'!$A$3:$B$19,2,FALSE) -> 10 | G26: 10 | H26: =Tableau2[[#This Row],[Nombre de questions]]-Tableau2[[#This Row],[Réponses justes ]] -> 0 | I26: oui | J26: 41171
A27: AUPICK FRANCOIS | B27: =VLOOKUP(A27,'Liste salariés'!$C$2:$Q$607,14,FALSE) -> MOD | C27: =VLOOKUP(A27,'Liste salariés'!$C$2:$Q$607,4,FALSE) -> P01-PRODUCTION | D27: =VLOOKUP(A27,'Liste salariés'!$C$2:$Q$607,3,FALSE) -> ELM | E27: INTRO WCM | F27: =VLOOKUP(E27,'Liste formations'!$A$3:$B$19,2,FALSE) -> 25 | G27: 25 | H27: =Tableau2[[#This Row],[Nombre de questions]]-Tableau2[[#This Row],[Réponses justes ]] -> 0 | I27: oui | J27: 41157
A28: AUPICK FRANCOIS | B28: =VLOOKUP(A28,'Liste salariés'!$C$2:$Q$607,14,FALSE) -> MOD | C28: =VLOOKUP(A28,'Liste salariés'!$C$2:$Q$607,4,FALSE) -> P01-PRODUCTION | D28: =VLOOKUP(A28,'Liste salariés'!$C$2:$Q$607,3,FALSE) -> ELM | E28: OEE | F28: =VLOOKUP(E28,'Liste formations'!$A$3:$B$19,2,FALSE) -> 6 | G28: 6 | H28: =Tableau2[[#This Row],[Nombre de questions]]-Tableau2[[#This Row],[Réponses justes ]] -> 0 | I28: oui | J28: 41332
A29: AURIAULT PASCAL | B29: =VLOOKUP(A29,'Liste salariés'!$C$2:$Q$607,14,FALSE) -> ETAM | C29: =VLOOKUP(A29,'Liste salariés'!$C$2:$Q$607,4,FALSE) -> P02-TECHNICAL SCES | D29: =VLOOKUP(A29,'Liste salariés'!$C$2:$Q$607,3,FALSE) -> ELM | E29: EWO TECHNICIEN | F29: =VLOOKUP(E29,'Liste formations'!$A$3:$B$19,2,FALSE) -> 5 | G29: 5 | H29: =Tableau2[[#This Row],[Nombre de questions]]-Tableau2[[#This Row],[Réponses justes ]] -> 0 | I29: oui | J29: 41093
A30: AURIAULT PASCAL | B30: =VLOOKUP(A30,'Liste salariés'!$C$2:$Q$607,14,FALSE) -> ETAM | C30: =VLOOKUP(A30,'Liste salariés'!$C$2:$Q$607,4,FALSE) -> P02-TECHNICAL SCES | D30: =VLOOKUP(A30,'Liste salariés'!$C$2:$Q$607,3,FALSE) -> ELM | E30: SENSIBILISATION NVA | F30: =VLOOKUP(E30,'Liste formations'!$A$3:$B$19,2,FALSE) -> 10 | G30: 10 | H30: =Tableau2[[#This Row],[Nombre de questions]]-Tableau2[[#This Row],[Réponses justes ]] -> 0 | I30: oui | J30: 41065
A31: AURIAULT PASCAL | B31: =VLOOKUP(A31,'Liste salariés'!$C$2:$Q$607,14,FALSE) -> ETAM | C31: =VLOOKUP(A31,'Liste salariés'!$C$2:$Q$607,4,FALSE) -> P02-TECHNICAL SCES | D31: =VLOOKUP(A31,'Liste salariés'!$C$2:$Q$607,3,FALSE) -> ELM | E31: INTRO WCM | F31: =VLOOKUP(E31,'Liste formations'!$A$3:$B$19,2,FALSE) -> 25 | G31: 25 | H31: =Tableau2[[#This Row],[Nombre de questions]]-Tableau2[[#This Row],[Réponses justes ]] -> 0 | I31: oui
A32: AUTEAU ELISABETH | B32: =VLOOKUP(A32,'Liste salariés'!$C$2:$Q$607,14,FALSE) -> MOD | C32: =VLOOKUP(A32,'Liste salariés'!$C$2:$Q$607,4,FALSE) -> P01-PRODUCTION | D32: =VLOOKUP(A32,'Liste salariés'!$C$2:$Q$607,3,FALSE) -> ELM | E32: EWO OPERATEUR | F32: =VLOOKUP(E32,'Liste formations'!$A$3:$B$19,2,FALSE) -> 10 | G32: 8 | H32: =Tableau2[[#This Row],[Nombre de questions]]-Tableau2[[#This Row],[Réponses justes ]] -> 2 | I32: oui | J32: 41093
A33: AUZANNEAU CINDY | B33: =VLOOKUP(A33,'Liste salariés'!$C$2:$Q$607,14,FALSE) -> MOD | C33: =VLOOKUP(A33,'Liste salariés'!$C$2:$Q$607,4,FALSE) -> P01-PRODUCTION | D33: =VLOOKUP(A33,'Liste salariés'!$C$2:$Q$607,3,FALSE) -> ELM | E33: INTRO WCM | F33: =VLOOKUP(E33,'Liste formations'!$A$3:$B$19,2,FALSE) -> 25 | G33: 24 | H33: =Tableau2[[#This Row],[Nombre de questions]]-Tableau2[[#This Row],[Réponses justes ]] -> 1 | I33: oui | J33: 41368
A34: AYALA JEAN LOUIS | B34: =VLOOKUP(A34,'Liste salariés'!$C$2:$Q$607,14,FALSE) -> MOD | C34: =VLOOKUP(A34,'Liste salariés'!$C$2:$Q$607,4,FALSE) -> P01-PRODUCTION | D34: =VLOOKUP(A34,'Liste salariés'!$C$2:$Q$607,3,FALSE) -> ELM | E34: EWO OPERATEUR | F34: =VLOOKUP(E34,'Liste formations'!$A$3:$B$19,2,FALSE) -> 10 | G34: 8 | H34: =Tableau2[[#This Row],[Nombre de questions]]-Tableau2[[#This Row],[Réponses justes ]] -> 2 | I34: oui | J34: 41171
A35: AYALA JEAN LOUIS | B35: =VLOOKUP(A35,'Liste salariés'!$C$2:$Q$607,14,FALSE) -> MOD | C35: =VLOOKUP(A35,'Liste salariés'!$C$2:$Q$607,4,FALSE) -> P01-PRODUCTION | D35: =VLOOKUP(A35,'Liste salariés'!$C$2:$Q$607,3,FALSE) -> ELM | E35: INTRO WCM | F35: =VLOOKUP(E35,'Liste formations'!$A$3:$B$19,2,FALSE) -> 25 | G35: 25 | H35: =Tableau2[[#This Row],[Nombre de questions]]-Tableau2[[#This Row],[Réponses justes ]] -> 0 | I35: oui | J35: 41157
A36: AZOR FRANCOISE | B36: =VLOOKUP(A36,'Liste salariés'!$C$2:$Q$607,14,FALSE) -> MOD | C36: =VLOOKUP(A36,'Liste salariés'!$C$2:$Q$607,4,FALSE) -> P01-PRODUCTION | D36: =VLOOKUP(A36,'Liste salariés'!$C$2:$Q$607,3,FALSE) -> ELM | E36: INTRO WCM | F36: =VLOOKUP(E36,'Liste formations'!$A$3:$B$19,2,FALSE) -> 25 | G36: 21 | H36: =Tableau2[[#This Row],[Nombre de questions]]-Tableau2[[#This Row],[Réponses justes ]] -> 4 | I36: oui | J36: 41361
A37: BAERT KATIA | B37: =VLOOKUP(A37,'Liste salariés'!$C$2:$Q$607,14,FALSE) -> ETAM | C37: =VLOOKUP(A37,'Liste salariés'!$C$2:$Q$607,4,FALSE) -> S07-PURCHASING | D37: =VLOOKUP(A37,'Liste salariés'!$C$2:$Q$607,3,FALSE) -> ELM | E37: INTRO WCM | F37: =VLOOKUP(E37,'Liste formations'!$A$3:$B$19,2,FALSE) -> 25 | G37: 19 | H37: =Tableau2[[#This Row],[Nombre de questions]]-Tableau2[[#This Row],[Réponses justes ]] -> 6 | I37: oui
A38: BARDET HAKIMA | B38: =VLOOKUP(A38,'Liste salariés'!$C$2:$Q$607,14,FALSE) -> CADRES | C38: =VLOOKUP(A38,'Liste salariés'!$C$2:$Q$607,4,FALSE) -> P03-MATERIAL MNGT | D38: =VLOOKUP(A38,'Liste salariés'!$C$2:$Q$607,3,FALSE) -> ELM | E38: INTRO WCM | F38: =VLOOKUP(E38,'Liste formations'!$A$3:$B$19,2,FALSE) -> 25 | G38: 21 | H38: =Tableau2[[#This Row],[Nombre de questions]]-Tableau2[[#This Row],[Réponses justes ]] -> 4 | I38: oui
A39: BARDET MICHAEL | B39: =VLOOKUP(A39,'Liste salariés'!$C$2:$Q$607,14,FALSE) -> ETAM | C39: =VLOOKUP(A39,'Liste salariés'!$C$2:$Q$607,4,FALSE) -> P04-QUALITY PLANT | D39: =VLOOKUP(A39,'Liste salariés'!$C$2:$Q$607,3,FALSE) -> ELM | E39: F3A | F39: =VLOOKUP(E39,'Liste formations'!$A$3:$B$19,2,FALSE) -> 10 | G39: 7 | H39: =Tableau2[[#This Row],[Nombre de questions]]-Tableau2[[#This Row],[Réponses justes ]] -> 3 | I39: oui | J39: 41325
A40: BARDET MICHAEL | B40: =VLOOKUP(A40,'Liste salariés'!$C$2:$Q$607,14,FALSE) -> ETAM | C40: =VLOOKUP(A40,'Liste salariés'!$C$2:$Q$607,4,FALSE) -> P04-QUALITY PLANT | D40: =VLOOKUP(A40,'Liste salariés'!$C$2:$Q$607,3,FALSE) -> ELM | E40: INTRO WCM | F40: =VLOOKUP(E40,'Liste formations'!$A$3:$B$19,2,FALSE) -> 25 | G40: 20 | H40: =Tableau2[[#This Row],[Nombre de questions]]-Tableau2[[#This Row],[Réponses justes ]] -> 5 | I40: oui
A41: BARILLET CHARDON SYLVAIN | B41: =VLOOKUP(A41,'Liste salariés'!$C$2:$Q$607,14,FALSE) -> CADRES | C41: =VLOOKUP(A41,'Liste salariés'!$C$2:$Q$607,4,FALSE) -> P02-TECHNICAL SCES | D41: =VLOOKUP(A41,'Liste salariés'!$C$2:$Q$607,3,FALSE) -> ELM | E41: BENCHMARK QUALITE | F41: =VLOOKUP(E41,'Liste formations'!$A$3:$B$19,2,FALSE) -> 14 | G41: 12 | H41: =Tableau2[[#This Row],[Nombre de questions]]-Tableau2[[#This Row],[Réponses justes ]] -> 2 | I41: oui
A42: BARILLET CHARDON SYLVAIN | B42: =VLOOKUP(A42,'Liste salariés'!$C$2:$Q$607,14,FALSE) -> CADRES | C42: =VLOOKUP(A42,'Liste salariés'!$C$2:$Q$607,4,FALSE) -> P02-TECHNICAL SCES | D42: =VLOOKUP(A42,'Liste salariés'!$C$2:$Q$607,3,FALSE) -> ELM | E42: OBSOLESCENCE | F42: =VLOOKUP(E42,'Liste formations'!$A$3:$B$19,2,FALSE) -> 10 | G42: 8 | H42: =Tableau2[[#This Row],[Nombre de questions]]-Tableau2[[#This Row],[Réponses justes ]] -> 2 | I42: oui | J42: 41309
A43: BARILLET CHARDON SYLVAIN | B43: =VLOOKUP(A43,'Liste salariés'!$C$2:$Q$607,14,FALSE) -> CADRES | C43: =VLOOKUP(A43,'Liste salariés'!$C$2:$Q$607,4,FALSE) -> P02-TECHNICAL SCES | D43: =VLOOKUP(A43,'Liste salariés'!$C$2:$Q$607,3,FALSE) -> ELM | E43: F3A | F43: =VLOOKUP(E43,'Liste formations'!$A$3:$B$19,2,FALSE) -> 10 | G43: 10 | H43: =Tableau2[[#This Row],[Nombre de questions]]-Tableau2[[#This Row],[Réponses justes ]] -> 0 | I43: oui | J43: 41323
A44: BARILLET CHARDON SYLVAIN | B44: =VLOOKUP(A44,'Liste salariés'!$C$2:$Q$607,14,FALSE) -> CADRES | C44: =VLOOKUP(A44,'Liste salariés'!$C$2:$Q$607,4,FALSE) -> P02-TECHNICAL SCES | D44: =VLOOKUP(A44,'Liste salariés'!$C$2:$Q$607,3,FALSE) -> ELM | E44: INTRO WCM | F44: =VLOOKUP(E44,'Liste formations'!$A$3:$B$19,2,FALSE) -> 25 | G44: 22 | H44: =Tableau2[[#This Row],[Nombre de questions]]-Tableau2[[#This Row],[Réponses justes ]] -> 3 | I44: oui
A45: BARILLET CHARDON SYLVAIN | B45: =VLOOKUP(A45,'Liste salariés'!$C$2:$Q$607,14,FALSE) -> CADRES | C45: =VLOOKUP(A45,'Liste salariés'!$C$2:$Q$607,4,FALSE) -> P02-TECHNICAL SCES | D45: =VLOOKUP(A45,'Liste salariés'!$C$2:$Q$607,3,FALSE) -> ELM | E45: OEE | F45: =VLOOKUP(E45,'Liste formations'!$A$3:$B$19,2,FALSE) -> 6 | G45: 6 | H45: =Tableau2[[#This Row],[Nombre de questions]]-Tableau2[[#This Row],[Réponses justes ]] -> 0 | I45: oui | J45: 41302
A46: BARROT EMILIE | B46: =VLOOKUP(A46,'Liste salariés'!$C$2:$Q$607,14,FALSE) -> MOD | C46: =VLOOKUP(A46,'Liste salariés'!$C$2:$Q$607,4,FALSE) -> P01-PRODUCTION | D46: =VLOOKUP(A46,'Liste salariés'!$C$2:$Q$607,3,FALSE) -> ELM | E46: INTRO WCM | F46: =VLOOKUP(E46,'Liste formations'!$A$3:$B$19,2,FALSE) -> 25 | G46: 25 | H46: =Tableau2[[#This Row],[Nombre de questions]]-Tableau2[[#This Row],[Réponses justes ]] -> 0 | I46: oui | J46: 41283
A47: BASSET ISABELLE | B47: =VLOOKUP(A47,'Liste salariés'!$C$2:$Q$607,14,FALSE) -> MOD | C47: =VLOOKUP(A47,'Liste salariés'!$C$2:$Q$607,4,FALSE) -> P01-PRODUCTION | D47: =VLOOKUP(A47,'Liste salariés'!$C$2:$Q$607,3,FALSE) -> ELM | E47: INTRO WCM | F47: =VLOOKUP(E47,'Liste formations'!$A$3:$B$19,2,FALSE) -> 25 | G47: 22 | H47: =Tableau2[[#This Row],[Nombre de questions]]-Tableau2[[#This Row],[Réponses justes ]] -> 3 | I47: oui | J47: 41352
A48: BATY CHRISTOPHE | B48: =VLOOKUP(A48,'Liste salariés'!$C$2:$Q$607,14,FALSE) -> ETAM | C48: =VLOOKUP(A48,'Liste salariés'!$C$2:$Q$607,4,FALSE) -> P04-QUALITY PLANT | D48: =VLOOKUP(A48,'Liste salariés'!$C$2:$Q$607,3,FALSE) -> ELM | E48: F3A | F48: =VLOOKUP(E48,'Liste formations'!$A$3:$B$19,2,FALSE) -> 10 | G48: 6 | H48: =Tableau2[[#This Row],[Nombre de questions]]-Tableau2[[#This Row],[Réponses justes ]] -> 4 | I48: non | J48: 41325
A49: BATY CHRISTOPHE | B49: =VLOOKUP(A49,'Liste salariés'!$C$2:$Q$607,14,FALSE) -> ETAM | C49: =VLOOKUP(A49,'Liste salariés'!$C$2:$Q$607,4,FALSE) -> P04-QUALITY PLANT | D49: =VLOOKUP(A49,'Liste salariés'!$C$2:$Q$607,3,FALSE) -> ELM | E49: INTRO WCM | F49: =VLOOKUP(E49,'Liste formations'!$A$3:$B$19,2,FALSE) -> 25 | G49: 21 | H49: =Tableau2[[#This Row],[Nombre de questions]]-Tableau2[[#This Row],[Réponses justes ]] -> 4 | I49: oui
A50: BAUDEAU ANNICK | B50: =VLOOKUP(A50,'Liste salariés'!$C$2:$Q$607,14,FALSE) -> MOD | C50: =VLOOKUP(A50,'Liste salariés'!$C$2:$Q$607,4,FALSE) -> P01-PRODUCTION | D50: =VLOOKUP(A50,'Liste salariés'!$C$2:$Q$607,3,FALSE) -> ELM | E50: EWO OPERATEUR | F50: =VLOOKUP(E50,'Liste formations'!$A$3:$B$19,2,FALSE) -> 10 | G50: 9 | H50: =Tableau2[[#This Row],[Nombre de questions]]-Tableau2[[#This Row],[Réponses justes ]] -> 1 | I50: oui | J50: 41288
A51: BAUDEAU ANNICK | B51: =VLOOKUP(A51,'Liste salariés'!$C$2:$Q$607,14,FALSE) -> MOD | C51: =VLOOKUP(A51,'Liste salariés'!$C$2:$Q$607,4,FALSE) -> P01-PRODUCTION | D51: =VLOOKUP(A51,'Liste salariés'!$C$2:$Q$607,3,FALSE) -> ELM | E51: SENSIBILISATION NVA | F51: =VLOOKUP(E51,'Liste formations'!$A$3:$B$19,2,FALSE) -> 10 | G51: 10 | H51: =Tableau2[[#This Row],[Nombre de questions]]-Tableau2[[#This Row],[Réponses justes ]] -> 0 | I51: oui | J51: 41065
A52: BAUDEAU ANNICK | B52: =VLOOKUP(A52,'Liste salariés'!$C$2:$Q$607,14,FALSE) -> MOD | C52: =VLOOKUP(A52,'Liste salariés'!$C$2:$Q$607,4,FALSE) -> P01-PRODUCTION | D52: =VLOOKUP(A52,'Liste salariés'!$C$2:$Q$607,3,FALSE) -> ELM | E52: INTRO WCM | F52: =VLOOKUP(E52,'Liste formations'!$A$3:$B$19,2,FALSE) -> 25 | G52: 23 | H52: =Tableau2[[#This Row],[Nombre de questions]]-Tableau2[[#This Row],[Réponses justes ]] -> 2 | I52: oui | J52: 40925
A53: BAUDEAU ANNICK | B53: =VLOOKUP(A53,'Liste salariés'!$C$2:$Q$607,14,FALSE) -> MOD | C53: =VLOOKUP(A53,'Liste salariés'!$C$2:$Q$607,4,FALSE) -> P01-PRODUCTION | D53: =VLOOKUP(A53,'Liste salariés'!$C$2:$Q$607,3,FALSE) -> ELM | E53: RAD | F53: =VLOOKUP(E53,'Liste formations'!$A$3:$B$19,2,FALSE) -> 17 | G53: 17 | H53: =Tableau2[[#This Row],[Nombre de questions]]-Tableau2[[#This Row],[Réponses justes ]] -> 0 | I53: oui | J53: 41380
A54: BAUDOUIN VALENTIN | B54: =VLOOKUP(A54,'Liste salariés'!$C$2:$Q$607,14,FALSE) -> ETAM | C54: =VLOOKUP(A54,'Liste salariés'!$C$2:$Q$607,4,FALSE) -> P04-QUALITY PLANT | D54: =VLOOKUP(A54,'Liste salariés'!$C$2:$Q$607,3,FALSE) -> ELM | E54: F3A | F54: =VLOOKUP(E54,'Liste formations'!$A$3:$B$19,2,FALSE) -> 10 | G54: 9 | H54: =Tableau2[[#This Row],[Nombre de questions]]-Tableau2[[#This Row],[Réponses justes ]] -> 1 | I54: oui | J54: 41325
A55: BAUDOUIN VALENTIN | B55: =VLOOKUP(A55,'Liste salariés'!$C$2:$Q$607,14,FALSE) -> ETAM | C55: =VLOOKUP(A55,'Liste salariés'!$C$2:$Q$607,4,FALSE) -> P04-QUALITY PLANT | D55: =VLOOKUP(A55,'Liste salariés'!$C$2:$Q$607,3,FALSE) -> ELM | E55: INTRO WCM | F55: =VLOOKUP(E55,'Liste formations'!$A$3:$B$19,2,FALSE) -> 25 | G55: 20 | H55: =Tableau2[[#This Row],[Nombre de questions]]-Tableau2[[#This Row],[Réponses justes ]] -> 5 | I55: oui | J55: 40968
A56: BEAUDIN NOELLA | B56: =VLOOKUP(A56,'Liste salariés'!$C$2:$Q$607,14,FALSE) -> MOD | C56: =VLOOKUP(A56,'Liste salariés'!$C$2:$Q$607,4,FALSE) -> P01-PRODUCTION | D56: =VLOOKUP(A56,'Liste salariés'!$C$2:$Q$607,3,FALSE) -> ELM | E56: INTRO WCM | F56: =VLOOKUP(E56,'Liste formations'!$A$3:$B$19,2,FALSE) -> 25 | G56: 22 | H56: =Tableau2[[#This Row],[Nombre de questions]]-Tableau2[[#This Row],[Réponses justes ]] -> 3 | I56: oui | J56: 41373
A57: BELLICAUD CHRISTOPHE | B57: =VLOOKUP(A57,'Liste salariés'!$C$2:$Q$607,14,FALSE) -> ETAM | C57: =VLOOKUP(A57,'Liste salariés'!$C$2:$Q$607,4,FALSE) -> P03-MATERIAL MNGT | D57: =VLOOKUP(A57,'Liste salariés'!$C$2:$Q$607,3,FALSE) -> ELM | E57: PLASTURGIE M1 | F57: =VLOOKUP(E57,'Liste formations'!$A$3:$B$19,2,FALSE) -> 13 | G57: 8 | H57: =Tableau2[[#This Row],[Nombre de questions]]-Tableau2[[#This Row],[Réponses justes ]] -> 5 | I57: non | J57: 41283
A58: BELLICAUD CHRISTOPHE | B58: =VLOOKUP(A58,'Liste salariés'!$C$2:$Q$607,14,FALSE) -> ETAM | C58: =VLOOKUP(A58,'Liste salariés'!$C$2:$Q$607,4,FALSE) -> P03-MATERIAL MNGT | D58: =VLOOKUP(A58,'Liste salariés'!$C$2:$Q$607,3,FALSE) -> ELM | E58: PLASTURGIE M2 | F58: =VLOOKUP(E58,'Liste formations'!$A$3:$B$19,2,FALSE) -> 13 | G58: 10 | H58: =Tableau2[[#This Row],[Nombre de questions]]-Tableau2[[#This Row],[Réponses justes ]] -> 3 | I58: oui | J58: 41290
A59: BELLICAUD CHRISTOPHE | B59: =VLOOKUP(A59,'Liste salariés'!$C$2:$Q$607,14,FALSE) -> ETAM | C59: =VLOOKUP(A59,'Liste salariés'!$C$2:$Q$607,4,FALSE) -> P03-MATERIAL MNGT | D59: =VLOOKUP(A59,'Liste salariés'!$C$2:$Q$607,3,FALSE) -> ELM | E59: SENSIBILISATION NVA | F59: =VLOOKUP(E59,'Liste formations'!$A$3:$B$19,2,FALSE) -> 10 | G59: 9 | H59: =Tableau2[[#This Row],[Nombre de questions]]-Tableau2[[#This Row],[Réponses justes ]] -> 1 | I59: oui | J59: 41023
A60: BELLICAUD CHRISTOPHE | B60: =VLOOKUP(A60,'Liste salariés'!$C$2:$Q$607,14,FALSE) -> ETAM | C60: =VLOOKUP(A60,'Liste salariés'!$C$2:$Q$607,4,FALSE) -> P03-MATERIAL MNGT | D60: =VLOOKUP(A60,'Liste salariés'!$C$2:$Q$607,3,FALSE) -> ELM | E60: F3A | F60: =VLOOKUP(E60,'Liste formations'!$A$3:$B$19,2,FALSE) -> 10 | G60: 8 | H60: =Tableau2[[#This Row],[Nombre de questions]]-Tableau2[[#This Row],[Réponses justes ]] -> 2 | I60: oui | J60: 41359
A61: BELLICAUD CHRISTOPHE | B61: =VLOOKUP(A61,'Liste salariés'!$C$2:$Q$607,14,FALSE) -> ETAM | C61: =VLOOKUP(A61,'Liste salariés'!$C$2:$Q$607,4,FALSE) -> P03-MATERIAL MNGT | D61: =VLOOKUP(A61,'Liste salariés'!$C$2:$Q$607,3,FALSE) -> ELM | E61: INTRO WCM | F61: =VLOOKUP(E61,'Liste formations'!$A$3:$B$19,2,FALSE) -> 25 | G61: 23 | H61: =Tableau2[[#This Row],[Nombre de questions]]-Tableau2[[#This Row],[Réponses justes ]] -> 2 | I61: oui
A62: BEN EMBAREK MOHAMED | B62: =VLOOKUP(A62,'Liste salariés'!$C$2:$Q$607,14,FALSE) -> MOD | C62: =VLOOKUP(A62,'Liste salariés'!$C$2:$Q$607,4,FALSE) -> P01-PRODUCTION | D62: =VLOOKUP(A62,'Liste salariés'!$C$2:$Q$607,3,FALSE) -> ELM | E62: INTRO WCM | F62: =VLOOKUP(E62,'Liste formations'!$A$3:$B$19,2,FALSE) -> 25 | G62: 20 | H62: =Tableau2[[#This Row],[Nombre de questions]]-Tableau2[[#This Row],[Réponses justes ]] -> 5 | I62: oui | J62: 41319
A63: BENOIST GUILLAUME | B63: =VLOOKUP(A63,'Liste salariés'!$C$2:$Q$607,14,FALSE) -> MOD | C63: =VLOOKUP(A63,'Liste salariés'!$C$2:$Q$607,4,FALSE) -> P01-PRODUCTION | D63: =VLOOKUP(A63,'Liste salariés'!$C$2:$Q$607,3,FALSE) -> ELM | E63: INTRO WCM | F63: =VLOOKUP(E63,'Liste formations'!$A$3:$B$19,2,FALSE) -> 25 | G63: 24 | H63: =Tableau2[[#This Row],[Nombre de questions]]-Tableau2[[#This Row],[Réponses justes ]] -> 1 | I63: oui | J63: 41319
A64: BERGER CHRISTOPHE | B64: =VLOOKUP(A64,'Liste salariés'!$C$2:$Q$607,14,FALSE) -> MOD | C64: =VLOOKUP(A64,'Liste salariés'!$C$2:$Q$607,4,FALSE) -> P01-PRODUCTION | D64: =VLOOKUP(A64,'Liste salariés'!$C$2:$Q$607,3,FALSE) -> ELM | E64: INTRO WCM | F64: =VLOOKUP(E64,'Liste formations'!$A$3:$B$19,2,FALSE) -> 25 | G64: 19 | H64: =Tableau2[[#This Row],[Nombre de questions]]-Tableau2[[#This Row],[Réponses justes ]] -> 6 | I64: oui | J64: 41158
A65: BERGERIOUX JEAN CHARLES | B65: =VLOOKUP(A65,'Liste salariés'!$C$2:$Q$607,14,FALSE) -> ETAM | C65: =VLOOKUP(A65,'Liste salariés'!$C$2:$Q$607,4,FALSE) -> P03-MATERIAL MNGT | D65: =VLOOKUP(A65,'Liste salariés'!$C$2:$Q$607,3,FALSE) -> ELM | E65: PLASTURGIE M4 | F65: =VLOOKUP(E65,'Liste formations'!$A$3:$B$19,2,FALSE) -> 15 | G65: 12 | H65: =Tableau2[[#This Row],[Nombre de questions]]-Tableau2[[#This Row],[Réponses justes ]] -> 3 | I65: oui | J65: 41298
A66: BERGERIOUX JEAN CHARLES | B66: =VLOOKUP(A66,'Liste salariés'!$C$2:$Q$607,14,FALSE) -> ETAM | C66: =VLOOKUP(A66,'Liste salariés'!$C$2:$Q$607,4,FALSE) -> P03-MATERIAL MNGT | D66: =VLOOKUP(A66,'Liste salariés'!$C$2:$Q$607,3,FALSE) -> ELM | E66: SENSIBILISATION NVA | F66: =VLOOKUP(E66,'Liste formations'!$A$3:$B$19,2,FALSE) -> 10 | G66: 8 | H66: =Tableau2[[#This Row],[Nombre de questions]]-Tableau2[[#This Row],[Réponses justes ]] -> 2 | I66: oui | J66: 41024
A67: BERGERIOUX JEAN CHARLES | B67: =VLOOKUP(A67,'Liste salariés'!$C$2:$Q$607,14,FALSE) -> ETAM | C67: =VLOOKUP(A67,'Liste salariés'!$C$2:$Q$607,4,FALSE) -> P03-MATERIAL MNGT | D67: =VLOOKUP(A67,'Liste salariés'!$C$2:$Q$607,3,FALSE) -> ELM | E67: F3A | F67: =VLOOKUP(E67,'Liste formations'!$A$3:$B$19,2,FALSE) -> 10 | G67: 5 | H67: =Tableau2[[#This Row],[Nombre de questions]]-Tableau2[[#This Row],[Réponses justes ]] -> 5 | I67: non | J67: 41359
A68: BERGERIOUX JEAN CHARLES | B68: =VLOOKUP(A68,'Liste salariés'!$C$2:$Q$607,14,FALSE) -> ETAM | C68: =VLOOKUP(A68,'Liste salariés'!$C$2:$Q$607,4,FALSE) -> P03-MATERIAL MNGT | D68: =VLOOKUP(A68,'Liste salariés'!$C$2:$Q$607,3,FALSE) -> ELM | E68: INTRO WCM | F68: =VLOOKUP(E68,'Liste formations'!$A$3:$B$19,2,FALSE) -> 25 | G68: 16 | H68: =Tableau2[[#This Row],[Nombre de questions]]-Tableau2[[#This Row],[Réponses justes ]] -> 9 | I68: non
A69: BERGERIOUX JEAN CHARLES | B69: =VLOOKUP(A69,'Liste salariés'!$C$2:$Q$607,14,FALSE) -> ETAM | C69: =VLOOKUP(A69,'Liste salariés'!$C$2:$Q$607,4,FALSE) -> P03-MATERIAL MNGT | D69: =VLOOKUP(A69,'Liste salariés'!$C$2:$Q$607,3,FALSE) -> ELM | E69: RAD | F69: =VLOOKUP(E69,'Liste formations'!$A$3:$B$19,2,FALSE) -> 17 | G69: 12 | H69: =Tableau2[[#This Row],[Nombre de questions]]-Tableau2[[#This Row],[Réponses justes ]] -> 5 | I69: oui | J69: 41382
A70: BERNARD ALAIN | B70: =VLOOKUP(A70,'Liste salariés'!$C$2:$Q$607,14,FALSE) -> ETAM | C70: =VLOOKUP(A70,'Liste salariés'!$C$2:$Q$607,4,FALSE) -> S08-QUALITY | D70: =VLOOKUP(A70,'Liste salariés'!$C$2:$Q$607,3,FALSE) -> ELC | E70: PLASTURGIE M1 | F70: =VLOOKUP(E70,'Liste formations'!$A$3:$B$19,2,FALSE) -> 13 | G70: 10 | H70: =Tableau2[[#This Row],[Nombre de questions]]-Tableau2[[#This Row],[Réponses justes ]] -> 3 | I70: oui | J70: 41283
A71: BERNARD ALAIN | B71: =VLOOKUP(A71,'Liste salariés'!$C$2:$Q$607,14,FALSE) -> ETAM | C71: =VLOOKUP(A71,'Liste salariés'!$C$2:$Q$607,4,FALSE) -> S08-QUALITY | D71: =VLOOKUP(A71,'Liste salariés'!$C$2:$Q$607,3,FALSE) -> ELC | E71: PLASTURGIE M2 | F71: =VLOOKUP(E71,'Liste formations'!$A$3:$B$19,2,FALSE) -> 13 | G71: 9 | H71: =Tableau2[[#This Row],[Nombre de questions]]-Tableau2[[#This Row],[Réponses justes ]] -> 4 | I71: oui | J71: 41290
A72: BERNARD ALAIN | B72: =VLOOKUP(A72,'Liste salariés'!$C$2:$Q$607,14,FALSE) -> ETAM | C72: =VLOOKUP(A72,'Liste salariés'!$C$2:$Q$607,4,FALSE) -> S08-QUALITY | D72: =VLOOKUP(A72,'Liste salariés'!$C$2:$Q$607,3,FALSE) -> ELC | E72: PLASTURGIE M3 | F72: =VLOOKUP(E72,'Liste formations'!$A$3:$B$19,2,FALSE) -> 16 | G72: 12 | H72: =Tableau2[[#This Row],[Nombre de questions]]-Tableau2[[#This Row],[Réponses justes ]] -> 4 | I72: oui | J72: 41296
A73: BERNARD ALAIN | B73: =VLOOKUP(A73,'Liste salariés'!$C$2:$Q$607,14,FALSE) -> ETAM | C73: =VLOOKUP(A73,'Liste salariés'!$C$2:$Q$607,4,FALSE) -> S08-QUALITY | D73: =VLOOKUP(A73,'Liste salariés'!$C$2:$Q$607,3,FALSE) -> ELC | E73: PLASTURGIE M4 | F73: =VLOOKUP(E73,'Liste formations'!$A$3:$B$19,2,FALSE) -> 15 | G73: 13 | H73: =Tableau2[[#This Row],[Nombre de questions]]-Tableau2[[#This Row],[Réponses justes ]] -> 2 | I73: oui | J73: 41298
A74: BERNARD CELINE | B74: =VLOOKUP(A74,'Liste salariés'!$C$2:$Q$607,14,FALSE) -> CADRES | C74: =VLOOKUP(A74,'Liste salariés'!$C$2:$Q$607,4,FALSE) -> P01-PRODUCTION | D74: =VLOOKUP(A74,'Liste salariés'!$C$2:$Q$607,3,FALSE) -> ELM | E74: BENCHMARK QUALITE | F74: =VLOOKUP(E74,'Liste formations'!$A$3:$B$19,2,FALSE) -> 14 | G74: 11 | H74: =Tableau2[[#This Row],[Nombre de questions]]-Tableau2[[#This Row],[Réponses justes ]] -> 3 | I74: oui
A75: BERNARD CELINE | B75: =VLOOKUP(A75,'Liste salariés'!$C$2:$Q$607,14,FALSE) -> CADRES | C75: =VLOOKUP(A75,'Liste salariés'!$C$2:$Q$607,4,FALSE) -> P01-PRODUCTION | D75: =VLOOKUP(A75,'Liste salariés'!$C$2:$Q$607,3,FALSE) -> ELM | E75: OBSOLESCENCE | F75: =VLOOKUP(E75,'Liste formations'!$A$3:$B$19,2,FALSE) -> 10 | G75: 8 | H75: =Tableau2[[#This Row],[Nombre de questions]]-Tableau2[[#This Row],[Réponses justes ]] -> 2 | I75: oui | J75: 41309
A76: BERNARD CELINE | B76: =VLOOKUP(A76,'Liste salariés'!$C$2:$Q$607,14,FALSE) -> CADRES | C76: =VLOOKUP(A76,'Liste salariés'!$C$2:$Q$607,4,FALSE) -> P01-PRODUCTION | D76: =VLOOKUP(A76,'Liste salariés'!$C$2:$Q$607,3,FALSE) -> ELM | E76: INTRO WCM | F76: =VLOOKUP(E76,'Liste formations'!$A$3:$B$19,2,FALSE) -> 25 | I76: oui
A77: BERNARD GISELE | B77: =VLOOKUP(A77,'Liste salariés'!$C$2:$Q$607,14,FALSE) -> MOD | C77: =VLOOKUP(A77,'Liste salariés'!$C$2:$Q$607,4,FALSE) -> P01-PRODUCTION | D77: =VLOOKUP(A77,'Liste salariés'!$C$2:$Q$607,3,FALSE) -> ELM | E77: INTRO WCM | F77: =VLOOKUP(E77,'Liste formations'!$A$3:$B$19,2,FALSE) -> 25 | G77: 23 | H77: =Tableau2[[#This Row],[Nombre de questions]]-Tableau2[[#This Row],[Réponses justes ]] -> 2 | I77: oui | J77: 40939
A78: BERTAUD JEROME | B78: =VLOOKUP(A78,'Liste salariés'!$C$2:$Q$607,14,FALSE) -> ETAM | C78: =VLOOKUP(A78,'Liste salariés'!$C$2:$Q$607,4,FALSE) -> P04-QUALITY PLANT | D78: =VLOOKUP(A78,'Liste salariés'!$C$2:$Q$607,3,FALSE) -> ELM | E78: SENSIBILISATION NVA | F78: =VLOOKUP(E78,'Liste formations'!$A$3:$B$19,2,FALSE) -> 10 | G78: 10 | H78: =Tableau2[[#This Row],[Nombre de questions]]-Tableau2[[#This Row],[Réponses justes ]] -> 0 | I78: oui | J78: 41024
A79: BERTAUD JEROME | B79: =VLOOKUP(A79,'Liste salariés'!$C$2:$Q$607,14,FALSE) -> ETAM | C79: =VLOOKUP(A79,'Liste salariés'!$C$2:$Q$607,4,FALSE) -> P04-QUALITY PLANT | D79: =VLOOKUP(A79,'Liste salariés'!$C$2:$Q$607,3,FALSE) -> ELM | E79: INTRO WCM | F79: =VLOOKUP(E79,'Liste formations'!$A$3:$B$19,2,FALSE) -> 25 | G79: 25 | H79: =Tableau2[[#This Row],[Nombre de questions]]-Tableau2[[#This Row],[Réponses justes ]] -> 0 | I79: oui
A80: BERTHEL AURELIE | B80: =VLOOKUP(A80,'Liste salariés'!$C$2:$Q$607,14,FALSE) -> CADRES | C80: =VLOOKUP(A80,'Liste salariés'!$C$2:$Q$607,4,FALSE) -> S11-CLUSTER PL | D80: =VLOOKUP(A80,'Liste salariés'!$C$2:$Q$607,3,FALSE) -> ELC | E80: PLASTURGIE M1 | F80: =VLOOKUP(E80,'Liste formations'!$A$3:$B$19,2,FALSE) -> 13 | G80: 9 | H80: =Tableau2[[#This Row],[Nombre de questions]]-Tableau2[[#This Row],[Réponses justes ]] -> 4 | I80: oui | J80: 41283
A81: BERTHEL AURELIE | B81: =VLOOKUP(A81,'Liste salariés'!$C$2:$Q$607,14,FALSE) -> CADRES | C81: =VLOOKUP(A81,'Liste salariés'!$C$2:$Q$607,4,FALSE) -> S11-CLUSTER PL | D81: =VLOOKUP(A81,'Liste salariés'!$C$2:$Q$607,3,FALSE) -> ELC | E81: PLASTURGIE M2 | F81: =VLOOKUP(E81,'Liste formations'!$A$3:$B$19,2,FALSE) -> 13 | G81: 8 | H81: =Tableau2[[#This Row],[Nombre de questions]]-Tableau2[[#This Row],[Réponses justes ]] -> 5 | I81: non | J81: 41290
A82: BERTHEL AURELIE | B82: =VLOOKUP(A82,'Liste salariés'!$C$2:$Q$607,14,FALSE) -> CADRES | C82: =VLOOKUP(A82,'Liste salariés'!$C$2:$Q$607,4,FALSE) -> S11-CLUSTER PL | D82: =VLOOKUP(A82,'Liste salariés'!$C$2:$Q$607,3,FALSE) -> ELC | E82: PLASTURGIE M3 | F82: =VLOOKUP(E82,'Liste formations'!$A$3:$B$19,2,FALSE) -> 16 | G82: 14 | H82: =Tableau2[[#This Row],[Nombre de questions]]-Tableau2[[#This Row],[Réponses justes ]] -> 2 | I82: oui | J82: 41296
A83: BERTHEL AURELIE | B83: =VLOOKUP(A83,'Liste salariés'!$C$2:$Q$607,14,FALSE) -> CADRES | C83: =VLOOKUP(A83,'Liste salariés'!$C$2:$Q$607,4,FALSE) -> S11-CLUSTER PL | D83: =VLOOKUP(A83,'Liste salariés'!$C$2:$Q$607,3,FALSE) -> ELC | E83: PLASTURGIE M4 | F83: =VLOOKUP(E83,'Liste formations'!$A$3:$B$19,2,FALSE) -> 15 | G83: 13 | H83: =Tableau2[[#This Row],[Nombre de questions]]-Tableau2[[#This Row],[Réponses justes ]] -> 2 | I83: oui | J83: 41298
A84: BERTIN RICHARD | B84: =VLOOKUP(A84,'Liste salariés'!$C$2:$Q$607,14,FALSE) -> MOD | C84: =VLOOKUP(A84,'Liste salariés'!$C$2:$Q$607,4,FALSE) -> P01-PRODUCTION | D84: =VLOOKUP(A84,'Liste salariés'!$C$2:$Q$607,3,FALSE) -> ELM | E84: INTRO WCM | F84: =VLOOKUP(E84,'Liste formations'!$A$3:$B$19,2,FALSE) -> 25 | G84: 21 | H84: =Tableau2[[#This Row],[Nombre de questions]]-Tableau2[[#This Row],[Réponses justes ]] -> 4 | I84: oui | J84: 41352
A85: BERTIN RICHARD | B85: =VLOOKUP(A85,'Liste salariés'!$C$2:$Q$607,14,FALSE) -> MOD | C85: =VLOOKUP(A85,'Liste salariés'!$C$2:$Q$607,4,FALSE) -> P01-PRODUCTION | D85: =VLOOKUP(A85,'Liste salariés'!$C$2:$Q$607,3,FALSE) -> ELM | E85: RAD | F85: =VLOOKUP(E85,'Liste formations'!$A$3:$B$19,2,FALSE) -> 17 | G85: 17 | H85: =Tableau2[[#This Row],[Nombre de questions]]-Tableau2[[#This Row],[Réponses justes ]] -> 0 | I85: oui | J85: 41380
A86: BERTRAND ALEXANDRA | B86: =VLOOKUP(A86,'Liste salariés'!$C$2:$Q$607,14,FALSE) -> MOD | C86: =VLOOKUP(A86,'Liste salariés'!$C$2:$Q$607,4,FALSE) -> P01-PRODUCTION | D86: =VLOOKUP(A86,'Liste salariés'!$C$2:$Q$607,3,FALSE) -> ELM | E86: INTRO WCM | F86: =VLOOKUP(E86,'Liste formations'!$A$3:$B$19,2,FALSE) -> 25 | G86: 20 | H86: =Tableau2[[#This Row],[Nombre de questions]]-Tableau2[[#This Row],[Réponses justes ]] -> 5 | I86: oui | J86: 41373
A87: BERTRAND PATRICK | B87: =VLOOKUP(A87,'Liste salariés'!$C$2:$Q$607,14,FALSE) -> ETAM | C87: =VLOOKUP(A87,'Liste salariés'!$C$2:$Q$607,4,FALSE) -> P01-PRODUCTION | D87: =VLOOKUP(A87,'Liste salariés'!$C$2:$Q$607,3,FALSE) -> ELM | E87: F3A | F87: =VLOOKUP(E87,'Liste formations'!$A$3:$B$19,2,FALSE) -> 10 | G87: 9 | H87: =Tableau2[[#This Row],[Nombre de questions]]-Tableau2[[#This Row],[Réponses justes ]] -> 1 | I87: oui | J87: 41325
A88: BERTRAND PATRICK | B88: =VLOOKUP(A88,'Liste salariés'!$C$2:$Q$607,14,FALSE) -> ETAM | C88: =VLOOKUP(A88,'Liste salariés'!$C$2:$Q$607,4,FALSE) -> P01-PRODUCTION | D88: =VLOOKUP(A88,'Liste salariés'!$C$2:$Q$607,3,FALSE) -> ELM | E88: INTRO WCM | F88: =VLOOKUP(E88,'Liste formations'!$A$3:$B$19,2,FALSE) -> 25 | G88: 23 | H88: =Tableau2[[#This Row],[Nombre de questions]]-Tableau2[[#This Row],[Réponses justes ]] -> 2 | I88: oui
A89: BERTRAND PATRICK | B89: =VLOOKUP(A89,'Liste salariés'!$C$2:$Q$607,14,FALSE) -> ETAM | C89: =VLOOKUP(A89,'Liste salariés'!$C$2:$Q$607,4,FALSE) -> P01-PRODUCTION | D89: =VLOOKUP(A89,'Liste salariés'!$C$2:$Q$607,3,FALSE) -> ELM | E89: RAD | F89: =VLOOKUP(E89,'Liste formations'!$A$3:$B$19,2,FALSE) -> 17 | G89: 17 | H89: =Tableau2[[#This Row],[Nombre de questions]]-Tableau2[[#This Row],[Réponses justes ]] -> 0 | I89: oui | J89: 41379
A90: BESSE FABRICE | B90: =VLOOKUP(A90,'Liste salariés'!$C$2:$Q$607,14,FALSE) -> ETAM | C90: =VLOOKUP(A90,'Liste salariés'!$C$2:$Q$607,4,FALSE) -> P02-TECHNICAL SCES | D90: =VLOOKUP(A90,'Liste salariés'!$C$2:$Q$607,3,FALSE) -> ELM | E90: EWO TECHNICIEN | F90: =VLOOKUP(E90,'Liste formations'!$A$3:$B$19,2,FALSE) -> 5 | G90: 4 | H90: =Tableau2[[#This Row],[Nombre de questions]]-Tableau2[[#This Row],[Réponses justes ]] -> 1 | I90: oui | J90: 41093
A91: BESSE FABRICE | B91: =VLOOKUP(A91,'Liste salariés'!$C$2:$Q$607,14,FALSE) -> ETAM | C91: =VLOOKUP(A91,'Liste salariés'!$C$2:$Q$607,4,FALSE) -> P02-TECHNICAL SCES | D91: =VLOOKUP(A91,'Liste salariés'!$C$2:$Q$607,3,FALSE) -> ELM | E91: SENSIBILISATION NVA | F91: =VLOOKUP(E91,'Liste formations'!$A$3:$B$19,2,FALSE) -> 10 | G91: 9 | H91: =Tableau2[[#This Row],[Nombre de questions]]-Tableau2[[#This Row],[Réponses justes ]] -> 1 | I91: oui | J91: 41024
A92: BESSE FABRICE | B92: =VLOOKUP(A92,'Liste salariés'!$C$2:$Q$607,14,FALSE) -> ETAM | C92: =VLOOKUP(A92,'Liste salariés'!$C$2:$Q$607,4,FALSE) -> P02-TECHNICAL SCES | D92: =VLOOKUP(A92,'Liste salariés'!$C$2:$Q$607,3,FALSE) -> ELM | E92: INTRO WCM | F92: =VLOOKUP(E92,'Liste formations'!$A$3:$B$19,2,FALSE) -> 25 | G92: 22 | H92: =Tableau2[[#This Row],[Nombre de questions]]-Tableau2[[#This Row],[Réponses justes ]] -> 3 | I92: oui
A93: BETAT AURELIE | B93: =VLOOKUP(A93,'Liste salariés'!$C$2:$Q$607,14,FALSE) -> ETAM | C93: =VLOOKUP(A93,'Liste salariés'!$C$2:$Q$607,4,FALSE) -> P02-TECHNICAL SCES | D93: =VLOOKUP(A93,'Liste salariés'!$C$2:$Q$607,3,FALSE) -> ELM | E93: PLASTURGIE M1 | F93: =VLOOKUP(E93,'Liste formations'!$A$3:$B$19,2,FALSE) -> 13 | G93: 9 | H93: =Tableau2[[#This Row],[Nombre de questions]]-Tableau2[[#This Row],[Réponses justes ]] -> 4 | I93: oui | J93: 41283
A94: BETAT AURELIE | B94: =VLOOKUP(A94,'Liste salariés'!$C$2:$Q$607,14,FALSE) -> ETAM | C94: =VLOOKUP(A94,'Liste salariés'!$C$2:$Q$607,4,FALSE) -> P02-TECHNICAL SCES | D94: =VLOOKUP(A94,'Liste salariés'!$C$2:$Q$607,3,FALSE) -> ELM | E94: PLASTURGIE M2 | F94: =VLOOKUP(E94,'Liste formations'!$A$3:$B$19,2,FALSE) -> 13 | G94: 11 | H94: =Tableau2[[#This Row],[Nombre de questions]]-Tableau2[[#This Row],[Réponses justes ]] -> 2 | I94: oui | J94: 41290
A95: BETAT AURELIE | B95: =VLOOKUP(A95,'Liste salariés'!$C$2:$Q$607,14,FALSE) -> ETAM | C95: =VLOOKUP(A95,'Liste salariés'!$C$2:$Q$607,4,FALSE) -> P02-TECHNICAL SCES | D95: =VLOOKUP(A95,'Liste salariés'!$C$2:$Q$607,3,FALSE) -> ELM | E95: F3A | F95: =VLOOKUP(E95,'Liste formations'!$A$3:$B$19,2,FALSE) -> 10 | G95: 5 | H95: =Tableau2[[#This Row],[Nombre de questions]]-Tableau2[[#This Row],[Réponses justes ]] -> 5 | I95: non | J95: 41347
A96: BICHON FAYZA | B96: =VLOOKUP(A96,'Liste salariés'!$C$2:$Q$607,14,FALSE) -> CADRES | C96: =VLOOKUP(A96,'Liste salariés'!$C$2:$Q$607,4,FALSE) -> S02-FINANCE | D96: =VLOOKUP(A96,'Liste salariés'!$C$2:$Q$607,3,FALSE) -> I&T | E96: INTRO WCM | F96: =VLOOKUP(E96,'Liste formations'!$A$3:$B$19,2,FALSE) -> 25 | G96: 22 | H96: =Tableau2[[#This Row],[Nombre de questions]]-Tableau2[[#This Row],[Réponses justes ]] -> 3 | I96: oui
A97: BIDEAU EMMANUEL | B97: =VLOOKUP(A97,'Liste salariés'!$C$2:$Q$607,14,FALSE) -> MOD | C97: =VLOOKUP(A97,'Liste salariés'!$C$2:$Q$607,4,FALSE) -> P01-PRODUCTION | D97: =VLOOKUP(A97,'Liste salariés'!$C$2:$Q$607,3,FALSE) -> ELM | E97: EWO OPERATEUR | F97: =VLOOKUP(E97,'Liste formations'!$A$3:$B$19,2,FALSE) -> 10 | G97: 8 | H97: =Tableau2[[#This Row],[Nombre de questions]]-Tableau2[[#This Row],[Réponses justes ]] -> 2 | I97: oui | J97: 41297
A98: BIDEAU EMMANUEL | B98: =VLOOKUP(A98,'Liste salariés'!$C$2:$Q$607,14,FALSE) -> MOD | C98: =VLOOKUP(A98,'Liste salariés'!$C$2:$Q$607,4,FALSE) -> P01-PRODUCTION | D98: =VLOOKUP(A98,'Liste salariés'!$C$2:$Q$607,3,FALSE) -> ELM | E98: INTRO WCM | F98: =VLOOKUP(E98,'Liste formations'!$A$3:$B$19,2,FALSE) -> 25 | G98: 20 | H98: =Tableau2[[#This Row],[Nombre de questions]]-Tableau2[[#This Row],[Réponses justes ]] -> 5 | I98: oui | J98: 41352
A99: BILLAUD KARINE | B99: =VLOOKUP(A99,'Liste salariés'!$C$2:$Q$607,14,FALSE) -> MOD | C99: =VLOOKUP(A99,'Liste salariés'!$C$2:$Q$607,4,FALSE) -> P01-PRODUCTION | D99: =VLOOKUP(A99,'Liste salariés'!$C$2:$Q$607,3,FALSE) -> ELM | E99: EWO OPERATEUR | F99: =VLOOKUP(E99,'Liste formations'!$A$3:$B$19,2,FALSE) -> 10 | G99: 10 | H99: =Tableau2[[#This Row],[Nombre de questions]]-Tableau2[[#This Row],[Réponses justes ]] -> 0 | I99: oui | J99: 41297
A100: BILLAUD PHILIPPE | B100: =VLOOKUP(A100,'Liste salariés'!$C$2:$Q$607,14,FALSE) -> ETAM | C100: =VLOOKUP(A100,'Liste salariés'!$C$2:$Q$607,4,FALSE) -> S02-FINANCE | D100: =VLOOKUP(A100,'Liste salariés'!$C$2:$Q$607,3,FALSE) -> ELM | E100: INTRO WCM | F100: =VLOOKUP(E100,'Liste formations'!$A$3:$B$19,2,FALSE) -> 25 | G100: 20 | H100: =Tableau2[[#This Row],[Nombre de questions]]-Tableau2[[#This Row],[Réponses justes ]] -> 5 | I100: oui
A101: BINET VANESSA | B101: =VLOOKUP(A101,'Liste salariés'!$C$2:$Q$607,14,FALSE) -> MOD | C101: =VLOOKUP(A101,'Liste salariés'!$C$2:$Q$607,4,FALSE) -> P01-PRODUCTION | D101: =VLOOKUP(A101,'Liste salariés'!$C$2:$Q$607,3,FALSE) -> ELM | E101: EWO OPERATEUR | F101: =VLOOKUP(E101,'Liste formations'!$A$3:$B$19,2,FALSE) -> 10 | G101: 8 | H101: =Tableau2[[#This Row],[Nombre de questions]]-Tableau2[[#This Row],[Réponses justes ]] -> 2 | I101: oui | J101: 41299
...

Sheet Liste salariés
A1: Nom | B1: Prénom | C1: Non prénom | D1: Etablissement | E1: Code emploi | F1: Affectation COMAU | G1: N° Section | H1: Libellé Section | I1: Matricule | J1: Date de naissance | K1: Date de début d'ancienneté | L1: Libellé Emploi Libre | M1: Code INSEE 2004 | N1: Classification | O1: Coefficient | P1: Categ | Q1: Sexe
A2: AGUILAR | B2: JEAN | C2: =A2&" "&B2 -> AGUILAR JEAN | D2: Chatellerault | E2: ELM | F2: P01-PRODUCTION | G2: 496145 | H2: LIGNE 19 ASS | I2: 0902400 | J2: 26550 | K2: 35948 | L2: PROFESSIONNEL | M2: 628D | N2: OMAN | O2: 190 | P2: MOD | Q2: M
A3: ALLAOUA | B3: TAREK | C3: =A3&" "&B3 -> ALLAOUA TAREK | D3: Chatellerault | E3: I&T | F3: S14-TELEMATICS | G3: 496129 | H3: IT R&D | I3: 0902708 | J3: 28763 | K3: 39601 | L3: ARCHITECTE | M3: 383A | N3: ARC | O3: 902 | P3: CADRES | Q3: M
A4: ALLARD | B4: ROBERT | C4: =A4&" "&B4 -> ALLARD ROBERT | D4: Chatellerault | E4: ELM | F4: P01-PRODUCTION | G4: 496155 | H4: MAGASIN OPERATIONNEL | I4: 1001663 | J4: 25453 | K4: 40360 | L4: TEAM LEADER | M4: 628G | N4: TL | O4: 190 | P4: MOD | Q4: M
A5: ALONSO | B5: JEAN LUC | C5: =A5&" "&B5 -> ALONSO JEAN LUC | D5: Chatellerault | E5: ELM | F5: P01-PRODUCTION | G5: 496164 | H5: LIGNE 20 CMS | I5: 0902368 | J5: 25799 | K5: 34757 | L5: PROFESSIONNEL | M5: 628D | N5: OMAC | O5: 240 | P5: MOD | Q5: M
A6: ALOUI | B6: HICHEM | C6: =A6&" "&B6 -> ALOUI HICHEM | D6: Chatellerault | E6: I&T | F6: S14-TELEMATICS | G6: 496129 | H6: IT R&D | I6: 0902523 | J6: 26649 | K6: 37263 | L6: ARCHITECTE | M6: 383A | N6: ARC | O6: 902 | P6: CADRES | Q6: M
A7: ALVES GORJAO | B7: JOAQUIM | C7: =A7&" "&B7 -> ALVES GORJAO JOAQUIM | D7: Chatellerault | E7: ELM | F7: P02-TECHNICAL SCES | G7: 496120 | H7: MAINTENANCE MACHINES | I7: 1200279 | J7: 21423 | K7: 41001 | L7: RESPONSABLE MAINTENANCE | M7: 387E | N7: LP | O7: 902 | P7: CADRES | Q7: M
A8: AMIRAULT | B8: VERONIQUE | C8: =A8&" "&B8 -> AMIRAULT VERONIQUE | D8: Chatellerault | E8: ELM | F8: P01-PRODUCTION | G8: 496140 | H8: PRODUCTION TABLEAU DE BORD LIGNE 12 | I8: 0902317 | J8: 23492 | K8: 32545 | L8: PROFESSIONNEL | M8: 626B | N8: OMAN | O8: 215 | P8: MOD | Q8: F
A9: ANDRAULT | B9: DANIEL | C9: =A9&" "&B9 -> ANDRAULT DANIEL | D9: Chatellerault | E9: ELM | F9: P01-PRODUCTION | G9: 496137 | H9: STRUCTURE PRODUCTION | I9: 0902044 | J9: 20422 | K9: 28527 | L9: RESPONSABLE EQUIPE NUIT/VSD | M9: 473B | N9: TST | O9: 335 | P9: ETAM | Q9: M
A10: ANDRE | B10: ISABELLE | C10: =A10&" "&B10 -> ANDRE ISABELLE | D10: Trappes | E10: AFTER MARKET | F10: AFTER MARKET | G10: 496206 | H10: GESTION THERMIQUE | I10: 1200106 | J10: 24522 | K10: 33343 | L10: ASS.MARKETING & CCIAL AM | M10: 383A | O10: 335 | P10: ETAM | Q10: F
A11: ANDRE | B11: MARTINE | C11: =A11&" "&B11 -> ANDRE MARTINE | D11: Chatellerault | E11: ELM | F11: P01-PRODUCTION | G11: 496152 | H11: L11-CMS | I11: 0902117 | J11: 19881 | K11: 26801 | L11: PROFESSIONNEL | M11: 626B | N11: OMAN | O11: 190 | P11: MOD | Q11: F
A12: ANDRIEU | B12: ELISABETH | C12: =A12&" "&B12 -> ANDRIEU ELISABETH | D12: Chatellerault | E12: ELM | F12: P01-PRODUCTION | G12: 496151 | H12: L10-CMS | I12: 0902258 | J12: 20926 | K12: 28887 | L12: PROFESSIONNEL | M12: 626B | N12: OMAN | O12: 170 | P12: MOD | Q12: F
A13: ANGUISE | B13: PIERRE | C13: =A13&" "&B13 -> ANGUISE PIERRE | D13: Chatellerault | E13: I&T | F13: S08-QUALITY | G13: 496110 | H13: GESTION GAR. TELEMATIQUE | I13: 0902414 | J13: 26584 | K13: 36130 | L13: INTERVENANT SUPPORT CLIENT | M13: 475B | N13: ISC | O13: 335 | P13: ETAM | Q13: M
A14: ANTOINE | B14: FRANCOIS | C14: =A14&" "&B14 -> ANTOINE FRANCOIS | D14: Chatellerault | E14: I&T | F14: S14-TELEMATICS PL | G14: 496209 | H14: EXPATRIES R&D I&N | I14: 0902550 | J14: 28435 | K14: 37991 | L14: SW PROJET LEADER | M14: 383A | N14: ARC | O14: 902 | P14: CADRES | Q14: M
A15: APPAIX | B15: LAURENCE | C15: =A15&" "&B15 -> APPAIX LAURENCE | D15: Chatellerault | E15: ELC | F15: S08-QUALITY | G15: 496161 | H15: QUALITE RESIDENT | I15: 0902643 | J15: 28309 | K15: 39118 | L15: TECH QUALITE CLIENT RESIDENT | M15: 473C | N15: QCLT | O15: 335 | P15: ETAM | Q15: F
A16: ARECCO | B16: ANTHONY | C16: =A16&" "&B16 -> ARECCO ANTHONY | D16: Chatellerault | E16: ELM | F16: P01-PRODUCTION | G16: 496166 | H16: LIGNE 19 CMS | I16: 1200030 | J16: 31104 | K16: 40818 | L16: PROFESSIONNEL | M16: 628D | N16: OMAC | O16: 190 | P16: MOD | Q16: M
A17: ARNOU | B17: FRANCIS | C17: =A17&" "&B17 -> ARNOU FRANCIS | D17: Chatellerault | E17: ELM | F17: P01-PRODUCTION | G17: 496157 | H17: L15-CMS | I17: 0902379 | J17: 24570 | K17: 35156 | L17: PROFESSIONNEL | M17: 628D | N17: OMAC | O17: 255 | P17: MOD | Q17: M
A18: AUBOURG | B18: MANUELA | C18: =A18&" "&B18 -> AUBOURG MANUELA | D18: Chatellerault | E18: ELM | F18: P01-PRODUCTION | G18: 496152 | H18: L11-CMS | I18: 1100699 | J18: 25928 | K18: 40685 | L18: PROFESSIONNEL | M18: 628D | N18: OMAN | O18: 190 | P18: MOD | Q18: F
A19: AUGUIER | B19: JOEL | C19: =A19&" "&B19 -> AUGUIER JOEL | D19: Chatellerault | E19: ELM | F19: P02-TECHNICAL SCES | G19: 496103 | H19: INFRASTRUCTURE | I19: 0902050 | J19: 21610 | K19: 28905 | L19: TECHNICIEN ATELIER | M19: 628A | N19: BAT | O19: 240 | P19: MOD | Q19: M
A20: AUJAY | B20: OLIVIER | C20: =A20&" "&B20 -> AUJAY OLIVIER | D20: Chatellerault | E20: ELM | F20: P02-TECHNICAL SCES | G20: 496107 | H20: TECHNOLOGUES APPLICA. | I20: 0902334 | J20: 20148 | K20: 32933 | L20: TECHNOLOGUE D'APPLICATION | M20: 383A | N20: TIE | O20: 903 | P20: CADRES | Q20: M
A21: AUMONT | B21: AYMERIC | C21: =A21&" "&B21 -> AUMONT AYMERIC | D21: Chatellerault | E21: ELM | F21: S03-HUMAN RESOURCE | G21: 496104 | H21: PERSONNEL ET ORGANISATION | I21: 1200878 | J21: 32769 | K21: 41153 | L21: APPRENTI RH | M21: 543H | N21: APP | O21: 1 | P21: ETAM | Q21: M
A22: AUPICK | B22: FRANCOIS | C22: =A22&" "&B22 -> AUPICK FRANCOIS | D22: Chatellerault | E22: ELM | F22: P01-PRODUCTION | G22: 496145 | H22: LIGNE 19 ASS | I22: 0902352 | J22: 25247 | K22: 33791 | L22: PROFESSIONNEL | M22: 628D | N22: OMAC | O22: 215 | P22: MOD | Q22: M
... A40: BAUMLER | B40: BEATRICE | C40: =A40&" "&B40 -> BAUMLER BEATRICE | D40: Chatellerault | E40: ELC | F40: S11-CLUSTER PL | G40: 496133 | H40: TABLEAUX DE BORD RD | I40: 0901961 | J40: 26029 | K40: 35338 | L40: ARCHITECTE | M40: 383A | N40: ARC | O40: 902 | P40: CADRES | Q40: F
A41: BEAUDIN | B41: NOELLA | C41: =A41&" "&B41 -> BEAUDIN NOELLA | D41: Chatellerault | E41: ELM | F41: P01-PRODUCTION | G41: 496145 | J41: 27440 | K41: 41275 | L41: PROFESSIONNEL | N41: OMAN | P41: MOD | Q41: F
A42: BEAUPEU | B42: EMMANUEL | C42: =A42&" "&B42 -> BEAUPEU EMMANUEL | D42: Chatellerault | E42: ELC | F42: S07-PURCHASING | G42: 496125 | H42: ACHATS SOURCING RD | I42: 0902385 | J42: 26919 | K42: 35345 | L42: S.D.E. | M42: 387D | N42: SDE | O42: 902 | P42: CADRES | Q42: M
A43: BEAUSSE | B43: FRANCOISE | C43: =A43&" "&B43 -> BEAUSSE FRANCOISE | D43: Chatellerault | E43: ELM | F43: P01-PRODUCTION | G43: 496153 | H43: ALD | I43: 0902082 | J43: 19935 | K43: 26428 | L43: PROFESSIONNEL | M43: 626B | N43: OMAN | O43: 190 | P43: MOD | Q43: F
A44: BEDUE | B44: CYRIL | C44: =A44&" "&B44 -> BEDUE CYRIL | D44: Chatellerault | E44: ELC | F44: S11-CLUSTER PL | G44: 496133 | H44: TABLEAUX DE BORD RD | I44: 0901989 | J44: 26641 | K44: 36661 | L44: INGENIEUR HARDWARE SENIOR | M44: 383A | N44: HW | O44: 902 | P44: CADRES | Q44: M
A45: BELETEAU | B45: EMMANUEL | C45: =A45&" "&B45 -> BELETEAU EMMANUEL | D45: Chatellerault | E45: I&T | F45: S14-TELEMATICS | G45: 496129 | H45: IT R&D | I45: 0902613 | J45: 27858 | K45: 38719 | L45: INGENIEUR SOFTWARE | M45: 383A | N45: SW | O45: 902 | P45: CADRES | Q45: M
A46: BELLICAUD | B46: CHRISTOPHE | C46: =A46&" "&B46 -> BELLICAUD CHRISTOPHE | D46: Chatellerault | E46: ELM | F46: P03-MATERIAL MNGT | G46: 496119 | H46: LOGISTIQUE | I46: 0902563 | J46: 24856 | K46: 38193 | L46: GESTIONNAIRE DE PRODUCTION | M46: 477A | N46: GP | O46: 285 | P46: ETAM | Q46: M
A47: BEN EMBAREK | B47: MOHAMED | C47: =A47&" "&B47 -> BEN EMBAREK MOHAMED | D47: Chatellerault | E47: ELM | F47: P01-PRODUCTION | G47: 496155 | H47: MAGASIN OPERATIONNEL | I47: 1300117 | J47: 31311 | K47: 41224 | L47: PROFESSIONNEL | M47: 626B | N47: MAG | O47: 170 | P47: MOD | Q47: M
A48: BENOIST | B48: GUILLAUME | C48: =A48&" "&B48 -> BENOIST GUILLAUME | D48: Chatellerault | E48: ELM | F48: P01-PRODUCTION | G48: 496164 | H48: LIGNE 20 CMS | I48: 1300116 | J48: 30276 | K48: 41224 | L48: PROFESSIONNEL | M48: 628D | N48: OMAC | O48: 190 | P48: MOD | Q48: M
A49: BENOIT GONIN | B49: SEBASTIEN | C49: =A49&" "&B49 -> BENOIT GONIN SEBASTIEN | D49: Trappes | G49: 496204 | H49: GESTION PCMA | I49: 1100352 | J49: 27282 | K49: 40603 | L49: PRODUCT ENGINEER | M49: 383A | O49: 902 | P49: CADRES | Q49: M
A50: BERGER | B50: CHRISTOPHE | C50: =A50&" "&B50 -> BERGER CHRISTOPHE | D50: Chatellerault | E50: ELM | F50: P01-PRODUCTION | G50: 496155 | H50: MAGASIN OPERATIONNEL | I50: 1100279 | J50: 24561 | K50: 40483 | L50: PROFESSIONNEL | M50: 626B | N50: MAG | O50: 170 | P50: MOD | Q50: M
A51: BERGER | B51: DAMIEN | C51: =A51&" "&B51 -> BERGER DAMIEN | D51: Chatellerault | E51: I&T | F51: S14-TELEMATICS | G51: 496129 | H51: IT R&D | I51: 1200381 | J51: 29559 | K51: 41061 | L51: ARCHITECTE | M51: 383A | N51: ARC | O51: 902 | P51: CADRES | Q51: M
A52: BERGERIOUX | B52: JEAN CHARLES | C52: =A52&" "&B52 -> BERGERIOUX JEAN CHARLES | D52: Chatellerault | E52: ELM | F52: P03-MATERIAL MNGT | G52: 496119 | H52: LOGISTIQUE | I52: 0902052 | J52: 20596 | K52: 27345 | L52: GESTIONNAIRE DE PRODUCTION | M52: 477A | N52: GP | O52: 285 | P52: ETAM | Q52: M
A53: BERNARD | B53: ALAIN | C53: =A53&" "&B53 -> BERNARD ALAIN | D53: Chatellerault | E53: ELC | F53: S08-QUALITY | G53: 496134 | H53: QUALITE RD | I53: 0902347 | J53: 24603 | K53: 33476 | L53: TECHNICIEN VALIDATION | M53: 473C | N53: TVAL | O53: 335 | P53: ETAM | Q53: M
A54: BERNARD | B54: ALEXANDRE | C54: =A54&" "&B54 -> BERNARD ALEXANDRE | D54: Chatellerault | E54: ELM | F54: S04-ICT | G54: 496111 | H54: INFORMATIQUE | I54: 1100855 | J54: 33808 | K54: 40787 | L54: APPRENTI INFORMATIQUE | M54: 543H | N54: APP | O54: 1 | P54: ETAM | Q54: M
A55: BERNARD | B55: CELINE | C55: =A55&" "&B55 -> BERNARD CELINE | D55: Chatellerault | E55: ELM | F55: P01-PRODUCTION | G55: 496137 | H55: STRUCTURE PRODUCTION | I55: 0902542 | J55: 26646 | K55: 37501 | L55: WCM PLAN SUPPORT | M55: 387D | N55: UTE | O55: 902 | P55: CADRES | Q55: F
A56: BERNARD | B56: GISELE | C56: =A56&" "&B56 -> BERNARD GISELE | D56: Chatellerault | E56: ELM | F56: P01-PRODUCTION | G56: 496164 | H56: LIGNE 20 CMS | I56: 0902274 | J56: 21097 | K56: 29199 | L56: PROFESSIONNEL | M56: 626B | N56: OMAN | O56: 190 | P56: MOD | Q56: F
A57: BERNARD | B57: PHILIPPE | C57: =A57&" "&B57 -> BERNARD PHILIPPE | D57: Chatellerault | E57: ELC | F57: S11-CLUSTER PL | G57: 496133 | H57: TABLEAUX DE BORD RD | I57: 0902003 | J57: 26644 | K57: 36717 | L57: INGENIEUR MECANIQUE | M57: 383A | N57: MEC | O57: 902 | P57: CADRES | Q57: M
A58: BERNARDEAU | B58: DAMIEN | C58: =A58&" "&B58 -> BERNARDEAU DAMIEN | D58: Chatellerault | E58: I&T | F58: S14-TELEMATICS | G58: 496129 | H58: IT R&D | I58: 1100798 | J58: 29714 | K58: 40787 | L58: ARCHITECTE | M58: 383A | N58: ARC | O58: 902 | P58: CADRES | Q58: M
A59: BERTAUD | B59: JEROME | C59: =A59&" "&B59 -> BERTAUD JEROME | D59: Chatellerault | E59: ELM | F59: P04-QUALITY PLANT | G59: 496117 | H59: QUALITE USINE | I59: 0902348 | J59: 24672 | K59: 33637 | L59: TECHNICIEN QUALITE | M59: 473B | N59: TQ | O59: 335 | P59: ETAM | Q59: M
A60: BERTHE | B60: LAETITIA | C60: =A60&" "&B60 -> BERTHE LAETITIA | D60: Chatellerault | E60: ELM | F60: P01-PRODUCTION | G60: 496146 | H60: PRODUCTION TELEMATIQUE LIGNE 20 | I60: 0902443 | J60: 28693 | K60: 36392 | L60: PROFESSIONNEL | M60: 626B | N60: OMAN | O60: 170 | P60: MOD | Q60: F
A61: BERTHEL | B61: AURELIE | C61: =A61&" "&B61 -> BERTHEL AURELIE | D61: Chatellerault | E61: ELC | F61: S11-CLUSTER PL | G61: 496133 | H61: TABLEAUX DE BORD RD | I61: 0902668 | J61: 29462 | K61: 39379 | L61: INGENIEUR OPTIQUE | M61: 383A | N61: LCD | O61: 902 | P61: CADRES | Q61: F
A62: BERTIN | B62: RICHARD | C62: =A62&" "&B62 -> BERTIN RICHARD | D62: Chatellerault | E62: ELM | F62: P01-PRODUCTION | G62: 496172 | H62: LIGNE 21 CMS | I62: 1300161 | J62: 24783 | K62: 41254 | L62: PROFESSIONNEL | M62: 626B | N62: OMAN | O62: 170 | P62: MOD | Q62: M
A63: BERTRAND | B63: ALEXANDRA | C63: =A63&" "&B63 -> BERTRAND ALEXANDRA | D63: Chatellerault | E63: ELM | F63: P01-PRODUCTION | G63: 496142 | J63: 29693 | K63: 41275 | L63: PROFESSIONNEL | N63: OMAN | P63: MOD | Q63: F
A64: BERTRAND | B64: PATRICK | C64: =A64&" "&B64 -> BERTRAND PATRICK | D64: Chatellerault | E64: ELM | F64: P01-PRODUCTION | G64: 496137 | H64: STRUCTURE PRODUCTION | I64: 0902517 | J64: 23701 | K64: 37165 | L64: RESPONSABLE UO | M64: 482A | N64: UTE | O64: 335 | P64: ETAM | Q64: M
A65: BERTRAND | B65: SEBASTIEN | C65: =A65&" "&B65 -> BERTRAND SEBASTIEN | D65: Chatellerault | E65: ELM | F65: P01-PRODUCTION | G65: 496164 | H65: LIGNE 20 CMS | I65: 0902419 | J65: 28090 | K65: 36192 | L65: PROFESSIONNEL | M65: 628D | N65: OMAC | O65: 215 | P65: MOD | Q65: M
A66: BESSE | B66: FABRICE | C66: =A66&" "&B66 -> BESSE FABRICE | D66: Chatellerault | E66: ELM | F66: P02-TECHNICAL SCES | G66: 496120 | H66: MAINTENANCE MACHINES | I66: 0902489 | J66: 28991 | K66: 36828 | L66: TECH MAINTENANCE REFERENT | M66: 477B | N66: TM | O66: 285 | P66: ETAM | Q66: M
A67: BETAT | B67: AURELIE | C67: =A67&" "&B67 -> BETAT AURELIE | D67: Chatellerault | E67: ELM | F67: P02-TECHNICAL SCES | G67: 496107 | H67: TECHNOLOGUES APPLICA. | I67: 1100954 | J67: 31726 | K67: 40817 | L67: APPRENTI TECHNOLOGUE | M67: 543H | N67: APP | O67: 1 | P67: ETAM | Q67: F
A68: BEZARD | B68: BEATRICE | C68: =A68&" "&B68 -> BEZARD BEATRICE | D68: Chatellerault | E68: ELM | F68: P01-PRODUCTION | G68: 496153 | H68: ALD | I68: 0902420 | J68: 24371 | K68: 36188 | L68: PROFESSIONNEL | M68: 626B | N68: OMAN | O68: 190 | P68: MOD | Q68: F
A69: BIANCO | B69: PATRICK | C69: =A69&" "&B69 -> BIANCO PATRICK | D69: Chatellerault | E69: ALB | F69: S12-BODY PL | G69: 496127 | H69: HABITACLE RD | I69: 0902480 | J69: 24692 | K69: 36906 | L69: LEADER PROFESSIONNEL HARDWARE | M69: 383A | N69: LP | O69: 902 | P69: CADRES | Q69: M
A70: BIARROTTE PAILLOUX | B70: CORALINE | C70: =A70&" "&B70 -> BIARROTTE PAILLOUX CORALINE | D70: Chatellerault | E70: ELC | F70: S08-QUALITY | G70: 496134 | H70: QUALITE RD | I70: 0902590 | J70: 29218 | K70: 38511 | L70: ING.QUALITE SYSTEME | M70: 387D | N70: QUA | O70: 902 | P70: CADRES | Q70: F
A71: BICHON | B71: FAYZA | C71: =A71&" "&B71 -> BICHON FAYZA | D71: Chatellerault | E71: I&T | F71: S02-FINANCE | G71: 496102 | H71: ADMINISTRATION ET CONTROLE | I71: 0902698 | J71: 28845 | K71: 39553 | L71: CONTROLEUR DE GESTION | M71: 372B | N71: CG | O71: 902 | P71: CADRES | Q71: F
A72: BIDEAU | B72: EMMANUEL | C72: =A72&" "&B72 -> BIDEAU EMMANUEL | D72: Chatellerault | E72: ELM | F72: P01-PRODUCTION | G72: 496172 | H72: LIGNE 21 CMS | I72: 1300162 | J72: 28620 | K72: 41254 | L72: PROFESSIONNEL | M72: 628D | N72: OMAC | O72: 190 | P72: MOD | Q72: M
A73: BIET | B73: VIRGINIE | C73: =A73&" "&B73 -> BIET VIRGINIE | D73: Chatellerault | E73: ELM | F73: P01-PRODUCTION | G73: 496146 | H73: PRODUCTION TELEMATIQUE LIGNE 20 | I73: 0902577 | J73: 27604 | K73: 38267 | L73: PROFESSIONNEL | M73: 626B | N73: OMAN | O73: 170 | P73: MOD | Q73: F
A74: BILLAUD | B74: KARINE | C74: =A74&" "&B74 -> BILLAUD KARINE | D74: Chatellerault | E74: ELM | F74: P01-PRODUCTION | J74: 29095 | K74: 41303 | L74: PROFESSIONNEL | N74: OMAN | O74: 170 | P74: MOD | Q74: F
A75: BILLAUD | B75: PHILIPPE | C75: =A75&" "&B75 -> BILLAUD PHILIPPE | D75: Chatellerault | E75: ELM | F75: S02-FINANCE | G75: 496135 | H75: ADMINISTRATION VENTES | I75: 0902360 | J75: 22679 | K75: 34113 | L75: ASSISTANT GESTION | M75: 461D | N75: CG | O75: 335 | P75: ETAM | Q75: M
A76: BILLIET | B76: ERIC | C76: =A76&" "&B76 -> BILLIET ERIC | D76: Chatellerault | E76: ELC | F76: S11-CLUSTER PL | G76: 496210 | H76: EXPATRIES R&D CLUSTER | I76: 0902428 | J76: 28043 | K76: 36367 | L76: CHIEF PROGRAM MANAGER | M76: 383A | N76: PM | O76: 903 | P76: CADRES | Q76: M
A77: BILLON | B77: SEBASTIEN | C77: =A77&" "&B77 -> BILLON SEBASTIEN | D77: Chatellerault | E77: I&T | F77: S14-TELEMATICS | G77: 496129 | H77: IT R&D | I77: 0902561 | J77: 28379 | K77: 38250 | L77: ARCHITECTE | M77: 383A | N77: ARC | O77: 902 | P77: CADRES | Q77: M
A78: BINET | B78: VANESSA | C78: =A78&" "&B78 -> BINET VANESSA | D78: Chatellerault | E78: ELM | F78: P01-PRODUCTION | G78: 496164 | H78: LIGNE 20 CMS | I78: 0902449 | J78: 28411 | K78: 36561 | L78: PROFESSIONNEL | M78: 626B | N78: OMAN | O78: 170 | P78: MOD | Q78: F
A79: BLAINEAU | B79: LUDOVIC | C79: =A79&" "&B79 -> BLAINEAU LUDOVIC | D79: Chatellerault | E79: ELM | F79: P01-PRODUCTION | G79: 496164 | H79: LIGNE 20 CMS | I79: 0902571 | J79: 29313 | K79: 38240 | L79: PROFESSIONNEL | M79: 628D | N79: OMAC | O79: 215 | P79: MOD | Q79: M
A80: BLANCHARD | B80: MARTINE | C80: =A80&" "&B80 -> BLANCHARD MARTINE | D80: Chatellerault | E80: ELM | F80: P01-PRODUCTION | G80: 496146 | H80: PRODUCTION TELEMATIQUE LIGNE 20 | I80: 0902088 | J80: 20089 | K80: 26575 | L80: PROFESSIONNEL | M80: 626B | N80: OMAN | O80: 190 | P80: MOD | Q80: F
A81: BLANCHARD | B81: SYLVAIN | C81: =A81&" "&B81 -> BLANCHARD SYLVAIN | D81: Chatellerault | E81: ELM | F81: P01-PRODUCTION | G81: 496168 | H81: LIGNE 14 CMS | I81: 0902475 | J81: 29573 | K81: 36768 | L81: PROFESSIONNEL | M81: 628D | N81: OMAC | O81: 215 | P81: MOD | Q81: M
A82: BLASIC | B82: FABRICE | C82: =A82&" "&B82 -> BLASIC FABRICE | D82: Chatellerault | E82: ELM | F82: P01-PRODUCTION | G82: 496155 | H82: MAGASIN OPERATIONNEL | I82: 1001626 | J82: 23563 | K82: 40360 | L82: TEAM LEADER | M82: 626B | N82: TL | O82: 190 | P82: MOD | Q82: M
A83: BODEREAU | B83: OLIVIER | C83: =A83&" "&B83 -> BODEREAU OLIVIER | D83: Chatellerault | E83: ELC | F83: S11-CLUSTER PL | G83: 496133 | H83: TABLEAUX DE BORD RD | I83: 0901949 | J83: 25770 | K83: 36710 | L83: SYSTEME VALIDATION DESIGNER | M83: 383A | N83: TS | O83: 902 | P83: CADRES | Q83: M
A84: BOINEAU | B84: FRANCOISE | C84: =A84&" "&B84 -> BOINEAU FRANCOISE | D84: Chatellerault | E84: ELM | F84: P01-PRODUCTION | G84: 496158 | H84: L15-ASSEMBLAGE | I84: 0902296 | J84: 20014 | K84: 26451 | L84: PROFESSIONNEL | M84: 542A | N84: OMAN | O84: 225 | P84: MOD | Q84: F
A85: BOINIER | B85: BRIGITTE | C85: =A85&" "&B85 -> BOINIER BRIGITTE | D85: Chatellerault | E85: ELM | F85: P01-PRODUCTION | G85: 496140 | H85: PRODUCTION TABLEAU DE BORD LIGNE 12 | I85: 0902308 | J85: 19666 | K85: 26390 | L85: PROFESSIONNEL | M85: 626B | N85: OMAN | O85: 190 | P85: MOD | Q85: F
A86: BOINIER | B86: MIE FRANCE | C86: =A86&" "&B86 -> BOINIER MIE FRANCE | D86: Chatellerault | E86: ELM | F86: P01-PRODUCTION | G86: 496142 | H86: L14 ASS | I86: 0902244 | J86: 19043 | K86: 25689 | L86: PROFESSIONNEL | M86: 626B | N86: OMAN | O86: 190 | P86: MOD | Q86: F
... A97: BOURAS | B97: MARINA | C97: =A97&" "&B97 -> BOURAS MARINA | D97: Chatellerault | E97: ELM | F97: P01-PRODUCTION | G97: 496155 | H97: MAGASIN OPERATIONNEL | I97: 1100281 | J97: 29691 | K97: 40483 | L97: PROFESSIONNEL | M97: 626B | N97: MAG | O97: 170 | P97: MOD | Q97: F
A98: BOURGUIGNON | B98: MANUELLA | C98: =A98&" "&B98 -> BOURGUIGNON MANUELLA | D98: Chatellerault | E98: ELM | F98: P01-PRODUCTION | G98: 496146 | J98: 25677 | K98: 41275 | L98: PROFESSIONNEL | N98: OMAN | O98: 170 | P98: MOD | Q98: F
A99: BOURINEAU | B99: JEAN MICHEL | C99: =A99&" "&B99 -> BOURINEAU JEAN MICHEL | D99: Chatellerault | E99: ELM | F99: P01-PRODUCTION | G99: 496153 | H99: ALD | I99: 0902046 | J99: 20756 | K99: 28842 | L99: PROFESSIONNEL | M99: 626B | N99: OMAN | O99: 215 | P99: MOD | Q99: M
A100: BOURSE | B100: FREDERIC | C100: =A100&" "&B100 -> BOURSE FREDERIC | D100: Chatellerault | E100: I&T | F100: S08-QUALITY | G100: 496110 | H100: GESTION GAR. TELEMATIQUE | I100: 0903166 | J100: 23901 | K100: 32478 | L100: RESP INTERVENANTS SUPPORTS CLTS | M100: 387D | N100: LP | O100: 902 | P100: CADRES | Q100: M
A101: BOUTET | B101: ISABELLE | C101: =A101&" "&B101 -> BOUTET ISABELLE | D101: Chatellerault | E101: ELM | F101: P01-PRODUCTION | G101: 496139 | H101: PRODUCTION TABLEAU DE BORD LIGNE 11 | I101: 1300120 | J101: 26048 | K101: 41224 | L101: PROFESSIONNEL | M101: 626B | N101: OMAN | O101: 170 | P101: MOD | Q101: F
A102: BOUTET | B102: MAGGY | C102: =A102&" "&B102 -> BOUTET MAGGY | D102: Chatellerault | E102: ELM | F102: P01-PRODUCTION | G102: 496155 | H102: MAGASIN OPERATIONNEL | I102: 1001629 | J102: 29546 | K102: 40360 | L102: PROFESSIONNEL | M102: 626B | N102: MAG | O102: 170 | P102: MOD | Q102: F
A103: BOUTIN | B103: FREDDY | C103: =A103&" "&B103 -> BOUTIN FREDDY | D103: Chatellerault | E103: ELC | F103: S11-CLUSTER PL | G103: 496133 | H103: TABLEAUX DE BORD RD | I103: 0902599 | J103: 30208 | K103: 38607 | L103: INGENIEUR SOFTWARE | M103: 383A | N103: SW | O103: 902 | P103: CADRES | Q103: M
A104: BOUVET | B104: MANUELA | C104: =A104&" "&B104 -> BOUVET MANUELA | D104: Chatellerault | E104: ELM | F104: P01-PRODUCTION | J104: 30204 | K104: 41303 | L104: PROFESSIONNEL | N104: OMAN | O104: 170 | P104: MOD | Q104: F
A105: BOUZIER | B105: LAETITIA | C105: =A105&" "&B105 -> BOUZIER LAETITIA | D105: Chatellerault | E105: ELM | F105: P01-PRODUCTION | G105: 496164 | H105: LIGNE 20 CMS | I105: 0902713 | J105: 29170 | K105: 39530 | L105: PROFESSIONNEL | M105: 626B | N105: OMAC | O105: 190 | P105: MOD | Q105: F
A106: BOZIER | B106: OLIVIER | C106: =A106&" "&B106 -> BOZIER OLIVIER | D106: Chatellerault | E106: ELM | F106: P01-PRODUCTION | G106: 496165 | H106: LIGNE 18 CMS | I106: 0902391 | J106: 25371 | K106: 35856 | L106: PROFESSIONNEL | M106: 628D | N106: OMAC | O106: 215 | P106: MOD | Q106: M
A107: BRAUD | B107: JESSICA | C107: =A107&" "&B107 -> BRAUD JESSICA | D107: Chatellerault | E107: ELM | F107: P01-PRODUCTION | G107: 496158 | J107: 30598 | K107: 41275 | L107: PROFESSIONNEL | N107: OMAN | O107: 170 | P107: MOD | Q107: F
A108: BRAULT | B108: ALAIN | C108: =A108&" "&B108 -> BRAULT ALAIN | D108: Chatellerault | E108: I&T | F108: S08-QUALITY | G108: 496110 | H108: GESTION GAR. TELEMATIQUE | I108: 0902326 | J108: 21795 | K108: 32757 | L108: INTERVENANT SUPPORT CLIENT | M108: 473B | N108: ISC | O108: 335 | P108: ETAM | Q108: M
A109: BRAULT | B109: DANIELE | C109: =A109&" "&B109 -> BRAULT DANIELE | D109: Chatellerault | E109: ELM | F109: P01-PRODUCTION | G109: 496145 | H109: LIGNE 19 ASS | I109: 0902227 | J109: 20440 | K109: 26408 | L109: PROFESSIONNEL | M109: 626B | N109: OMAN | O109: 190 | P109: MOD | Q109: F
A110: BRAULT | B110: VINCENT | C110: =A110&" "&B110 -> BRAULT VINCENT | D110: Trappes | E110: COMPETITION | F110: COMPETITION | G110: 496203 | H110: COMPETITION | I110: 0902011 | J110: 29600 | K110: 37123 | L110: INGENIEUR PISTE | M110: 383A | O110: 902 | P110: CADRES | Q110: M
A111: BREGEOT | B111: SERGE | C111: =A111&" "&B111 -> BREGEOT SERGE | D111: Chatellerault | E111: ELM | F111: P04-QUALITY PLANT | G111: 496109 | H111: QUALITE CENTRALE | I111: 0902057 | J111: 20290 | K111: 27211 | L111: TECHNICIEN QUALITE CLIENT | M111: 473C | N111: QCLT | O111: 335 | P111: ETAM | Q111: M
A112: BREGIER | B112: JULIEN | C112: =A112&" "&B112 -> BREGIER JULIEN | D112: Chatellerault | E112: ELM | F112: P04-QUALITY PLANT | G112: 496109 | H112: QUALITE CENTRALE | I112: 0902566 | J112: 29943 | K112: 38293 | L112: TECHNICIEN QUALITE SYSTEME | M112: 473C | N112: QSYS | O112: 335 | P112: ETAM | Q112: M
A113: BREJARD | B113: BRIGITTE | C113: =A113&" "&B113 -> BREJARD BRIGITTE | D113: Chatellerault | E113: ELM | F113: P01-PRODUCTION | G113: 496164 | H113: LIGNE 20 CMS | I113: 0902241 | J113: 21018 | K113: 27273 | L113: PROFESSIONNEL | M113: 626B | N113: REPA | O113: 190 | P113: MOD | Q113: F
A114: BRIAND | B114: FLORENCE | C114: =A114&" "&B114 -> BRIAND FLORENCE | D114: Chatellerault | E114: I&T | F114: S14-TELEMATICS | G114: 496129 | H114: IT R&D | I114: 0902562 | J114: 27677 | K114: 38231 | L114: CHEF PROJET LOGICIEL | M114: 383A | N114: CPL | O114: 902 | P114: CADRES | Q114: F
A115: BRULE | B115: JACKIE | C115: =A115&" "&B115 -> BRULE JACKIE | D115: Chatellerault | E115: I&T | F115: S17- PROCESS & TEC | G115: 496126 | H115: PROTOTYPES | I115: 0902096 | J115: 20237 | K115: 26801 | L115: AGENT ADMINISTRATIF PROTOTYPES | M115: 628G | N115: ADM | O115: 215 | P115: MOD | Q115: F
A116: BRUNIER | B116: DAVID | C116: =A116&" "&B116 -> BRUNIER DAVID | D116: Chatellerault | E116: ELM | F116: P01-PRODUCTION | G116: 496164 | H116: LIGNE 20 CMS | I116: 0902392 | J116: 26419 | K116: 35858 | L116: PROFESSIONNEL | M116: 628D | N116: OMAC | O116: 215 | P116: MOD | Q116: M
A117: BUSSEREAU | B117: MARIE CHRISTINE | C117: =A117&" "&B117 -> BUSSEREAU MARIE CHRISTINE | D117: Chatellerault | E117: ELM | F117: P01-PRODUCTION | G117: 496146 | H117: PRODUCTION TELEMATIQUE LIGNE 20 | I117: 1300015 | J117: 22985 | K117: 41184 | L117: PROFESSIONNEL | M117: 626B | N117: OMAN | O117: 170 | P117: MOD | Q117: F
A118: CADU | B118: CELINE | C118: =A118&" "&B118 -> CADU CELINE | D118: Chatellerault | E118: ELC | F118: S11-CLUSTER PL | G118: 496133 | H118: TABLEAUX DE BORD RD | I118: 0902455 | J118: 26465 | K118: 36754 | L118: ASSISTANTE DE DIRECTION | M118: 461B | N118: SEC | O118: 335 | P118: ETAM | Q118: F
A119: CAICOYA | B119: PASCAL | C119: =A119&" "&B119 -> CAICOYA PASCAL | D119: Chatellerault | E119: ELM | F119: P01-PRODUCTION | G119: 496137 | H119: STRUCTURE PRODUCTION | I119: 0902354 | J119: 25488 | K119: 33847 | L119: RESPONSABLE UO | M119: 482A | N119: UTE | O119: 902 | P119: CADRES | Q119: M
A120: CALIGNY | B120: AMANDA | C120: =A120&" "&B120 -> CALIGNY AMANDA | D120: Chatellerault | E120: ELM | F120: P01-PRODUCTION | G120: 496146 | J120: 31833 | K120: 41275 | L120: PROFESSIONNEL | N120: OMAN | O120: 170 | P120: MOD | Q120: F
A121: CALZOLAI | B121: ERIC | C121: =A121&" "&B121 -> CALZOLAI ERIC | D121: Chatellerault | E121: ELC | F121: S11-CLUSTER PL | G121: 496133 | H121: TABLEAUX DE BORD RD | I121: 0902508 | J121: 27981 | K121: 37053 | L121: LEADER PROFESSIONNEL SOFTWARE | M121: 383A | N121: LP | O121: 902 | P121: CADRES | Q121: M
A122: CANAL | B122: ROBERT | C122: =A122&" "&B122 -> CANAL ROBERT | D122: Chatellerault | E122: ELM | F122: P02-TECHNICAL SCES | G122: 496108 | H122: INGENIEURS PROCESS | I122: 0902058 | J122: 21012 | K122: 27638 | L122: INGENIEUR PROCESS | M122: 387C | N122: IP | O122: 902 | P122: CADRES | Q122: M
A123: CAPIAUX | B123: OLIVIER | C123: =A123&" "&B123 -> CAPIAUX OLIVIER | D123: Chatellerault | E123: ELM | F123: P02-TECHNICAL SCES | G123: 496122 | H123: TEST USINE | I123: 0903168 | J123: 24348 | K123: 32327 | L123: RESPONSABLE TEST USINE | M123: 383A | N123: LP | O123: 903 | P123: CADRES | Q123: M
A124: CARLE | B124: JEAN MICHEL | C124: =A124&" "&B124 -> CARLE JEAN MICHEL | D124: Chatellerault | E124: ELC | F124: S11-CLUSTER PL | G124: 496210 | H124: EXPATRIES R&D CLUSTER | I124: 0901995 | J124: 24918 | K124: 36661 | L124: LEADER PRO OPTICS & DISPLAY | M124: 383A | N124: LP | O124: 903 | P124: CADRES | Q124: M
A125: CARLIER | B125: JEAN LUC | C125: =A125&" "&B125 -> CARLIER JEAN LUC | D125: Chatellerault | E125: ELM | F125: P01-PRODUCTION | G125: 496142 | H125: L14 ASS | I125: 0902369 | J125: 21302 | K125: 34720 | L125: PROFESSIONNEL | M125: 626B | N125: OMAN | O125: 215 | P125: MOD | Q125: M
A126: CARPIO | B126: DIDIER | C126: =A126&" "&B126 -> CARPIO DIDIER | D126: Chatellerault | E126: ELM | F126: P01-PRODUCTION | G126: 496166 | H126: LIGNE 19 CMS | I126: 0902327 | J126: 23975 | K126: 32752 | L126: PROFESSIONNEL | M126: 628D | N126: OMAC | O126: 240 | P126: MOD | Q126: M
A127: CAUMARTIN | B127: ERIC | C127: =A127&" "&B127 -> CAUMARTIN ERIC | D127: Chatellerault | E127: I&T | F127: S14-TELEMATICS | G127: 496129 | H127: IT R&D | I127: 0902491 | J127: 23159 | K127: 36948 | L127: ARCHITECTE | M127: 383A | N127: ARC | O127: 902 | P127: CADRES | Q127: M
...

Sheet Liste formations
A2: Intitulé formation | B2: Nombre de questions
A3: BENCHMARK QUALITE | B3: 14
A4: EWO OPERATEUR | B4: 10
A5: EWO TECHNICIEN | B5: 5
A6: F3A | B6: 10
A7: INTRO WCM | B7: 25
A8: MUDA | B8: 10
A9: MURA | B9: 10
A10: MURI | B10: 11
A11: OBSOLESCENCE | B11: 10
A12: OEE | B12: 6
A13: PLASTURGIE M1 | B13: 13
A14: PLASTURGIE M2 | B14: 13
... A19: RAD | B19: 17

Sheet Feuil1
A1: Nom Prénom | B1: BENCHMARK QUALITE | C1: EWO OPERATEUR | D1: EWO TECHNICIEN | E1: F3A | F1: INTRO WCM | G1: MUDA | H1: MURA | I1: MURI | J1: OBSOLESCENCE | K1: OEE | L1: PLASTURGIE M1 | M1: PLASTURGIE M2 | N1: PLASTURGIE M3 | O1: PLASTURGIE M4 | P1: TWTTP | Q1: SENSIBILISATION NVA | R1: RAD
A2: AGUILAR
A3: ALLAOUA
A4: ALLARD
A5: ALONSO
A6: ALOUI
A7: ALVES GORJAO
A8: AMIRAULT
A9: ANDRAULT
A10: ANDRE
A11: ANDRE
A12: ANDRIEU
A13: ANGUISE
... A18: AUBOURG
A19: AUGUIER | B19: =IF(Tableau2[[#This Row],[Intitulé formation]]= 'Liste formations'!A20,"x"," ")
A20: AUJAY
A21: AUMONT
A22: AUPICK
A23: AURIAULT
A24: AUTEAU
A25: AUZANNEAU
A26: AYALA
A27: AYRAULT
A28: AZOR | B28: =IF(Tableau2[[#This Row],[Intitulé formation]]= 'Liste formations'!A29,"x"," ")
A29: BAERT | B29: =IF(Tableau2[[#This Row],[Intitulé formation]]= 'Liste formations'!A30,"x"," ")
A30: BARBOT | B30: =IF(Tableau2[[#This Row],[Intitulé formation]]= 'Liste formations'!A31,"x"," ")
A31: BARDET | B31: =IF(Tableau2[[#This Row],[Intitulé formation]]= 'Liste formations'!A32,"x"," ")
A32: BARDET | B32: =IF(Tableau2[[#This Row],[Intitulé formation]]= 'Liste formations'!A33,"x"," ")
A33: BARILLET CHARDON | B33: =IF(Tableau2[[#This Row],[Intitulé formation]]= 'Liste formations'!A34,"x"," ")
A34: BARRAULT | B34: =IF(Tableau2[[#This Row],[Intitulé formation]]= 'Liste formations'!A35,"x"," ")
A35: BARROT | B35: =IF(Tableau2[[#This Row],[Intitulé formation]]= 'Liste formations'!A36,"x"," ")
A36: BASSET | B36: =IF(Tableau2[[#This Row],[Intitulé formation]]= 'Liste formations'!A37,"x"," ")
A37: BATY | B37: =IF(Tableau2[[#This Row],[Intitulé formation]]= 'Liste formations'!A38,"x"," ")
A38: BAUDEAU | B38: =IF(Tableau2[[#This Row],[Intitulé formation]]= 'Liste formations'!A39,"x"," ")
A39: BAUDOUIN | B39: =IF(Tableau2[[#This Row],[Intitulé formation]]= 'Liste formations'!A40,"x"," ")
... A607: ZIRN | B607: =IF(Tableau2[[#This Row],[Intitulé formation]]= 'Liste formations'!A608,"x"," ")
