Workbook

Sheet Feuil3
A1: PMG kititem | B1: 265
A2: Prefix kititem | B2: VO
A3: Week | B3: (Tous)
A5: Somme de Kititem BO
A6: Kititem advised | B6: Kititem PN | C6: Kititem available | D6: Total
A7: 0 | B7: 276890 | C7: -169 | D7: 2763
B8: 20365523 | C8: 0 | D8: 204
B9: 20528113 | C9: -10 | D9: 1242
B10: 20570965 | C10: -1 | D10: 484
B11: 20586602 | C11: 1 | D11: 70
B12: 20708247 | C12: -25 | D12: 1915
B13: 21347087 | C13: -22 | D13: 796
B14: 21717748 | C14: -4 | D14: 63

Sheet DATA
A1: Prefix kit | B1: Kit PN | C1: Order Nr | D1: Req. Qty | E1: Pos. To build | F1: Del. Date | G1: Reg. Date | H1: Stock | I1: AK | J1: Period need | K1: BO qty | L1: Prefix kititem | M1: Kititem PN | N1: Res Qty/OL | O1: BO qty/OL | P1: Qty/OL | Q1: Flag Block | R1: Area | S1: Aisle | T1: Location | U1: Stock2 | V1: AK2 | W1: Period Need2 | X1: PMG | Y1: Update date | Z1: PMG kititem | AA1: Kititem available | AB1: Kititem advised | AC1: Kititem BO | AD1: Kititem SS | AE1: Week
A2: VOP | B2: 875750 | C2: 11970 | D2: 4 | E2: 0 | F2: 20150126 | G2: 20150113 | H2: 0 | I2: 0 | J2: 1.9 | K2: 32 | L2: VOP | M2: 840307 | N2: 0 | O2: 4 | P2: 4 | Q2: Y | R2: 37 | S2: 72 | T2: 30300 | U2: 0 | V2: 0 | W2: 5.3 | X2: 129 | Y2: 20150113 | Z2: 265 | AA2: 0 | AB2: 0 | AC2: 103 | AD2: 5 | AE2: 26
A3: VOP | B3: 875750 | C3: 22790 | D3: 4 | E3: 0 | F3: 20150216 | G3: 20150210 | H3: 0 | I3: 0 | J3: 1.9 | K3: 32 | L3: VOP | M3: 840307 | N3: 0 | O3: 4 | P3: 4 | Q3: Y | R3: 37 | S3: 72 | T3: 30300 | U3: 0 | V3: 0 | W3: 5.3 | X3: 129 | Y3: 20150210 | Z3: 265 | AA3: 0 | AB3: 0 | AC3: 103 | AD3: 5 | AE3: 26
A4: VOP | B4: 875773 | C4: 22810 | D4: 4 | E4: 0 | F4: 20150223 | G4: 20150210 | H4: 0 | I4: 0 | J4: 1 | K4: 4 | L4: VOP | M4: 840307 | N4: 0 | O4: 4 | P4: 4 | Q4: Y | R4: 37 | S4: 72 | T4: 30300 | U4: 0 | V4: 0 | W4: 5.3 | X4: 129 | Y4: 20150210 | Z4: 265 | AA4: 0 | AB4: 0 | AC4: 103 | AD4: 5 | AE4: 26
A5: VOP | B5: 875751 | C5: 25970 | D5: 3 | E5: 0 | F5: 20150223 | G5: 20150217 | H5: -2 | I5: 0 | J5: 1.7 | K5: 22 | L5: VOP | M5: 840307 | N5: 0 | O5: 3 | P5: 3 | Q5: Y | R5: 37 | S5: 72 | T5: 30300 | U5: 0 | V5: 0 | W5: 5.3 | X5: 129 | Y5: 20150217 | Z5: 265 | AA5: 0 | AB5: 0 | AC5: 103 | AD5: 5 | AE5: 26
A6: VOP | B6: 875773 | C6: 25980 | D6: 4 | E6: 0 | F6: 20150302 | G6: 20150217 | H6: 0 | I6: 0 | J6: 1 | K6: 4 | L6: VOP | M6: 840307 | N6: 0 | O6: 4 | P6: 4 | Q6: Y | R6: 37 | S6: 72 | T6: 30300 | U6: 0 | V6: 0 | W6: 5.3 | X6: 129 | Y6: 20150217 | Z6: 265 | AA6: 0 | AB6: 0 | AC6: 103 | AD6: 5 | AE6: 26
A7: VOP | B7: 875751 | C7: 30840 | D7: 3 | E7: 0 | F7: 20150323 | G7: 20150228 | H7: -2 | I7: 0 | J7: 1.7 | K7: 22 | L7: VOP | M7: 840307 | N7: 0 | O7: 3 | P7: 3 | Q7: Y | R7: 37 | S7: 72 | T7: 30300 | U7: 0 | V7: 0 | W7: 5.3 | X7: 129 | Y7: 20150228 | Z7: 265 | AA7: 0 | AB7: 0 | AC7: 103 | AD7: 5 | AE7: 26
A8: VOP | B8: 875751 | C8: 30850 | D8: 3 | E8: 0 | F8: 20150420 | G8: 20150228 | H8: -2 | I8: 0 | J8: 1.7 | K8: 22 | L8: VOP | M8: 840307 | N8: 0 | O8: 3 | P8: 3 | Q8: Y | R8: 37 | S8: 72 | T8: 30300 | U8: 0 | V8: 0 | W8: 5.3 | X8: 129 | Y8: 20150228 | Z8: 265 | AA8: 0 | AB8: 0 | AC8: 103 | AD8: 5 | AE8: 26
A9: VOP | B9: 875751 | C9: 30860 | D9: 3 | E9: 0 | F9: 20150518 | G9: 20150228 | H9: -2 | I9: 0 | J9: 1.7 | K9: 22 | L9: VOP | M9: 840307 | N9: 0 | O9: 3 | P9: 3 | Q9: Y | R9: 37 | S9: 72 | T9: 30300 | U9: 0 | V9: 0 | W9: 5.3 | X9: 129 | Y9: 20150228 | Z9: 265 | AA9: 0 | AB9: 0 | AC9: 103 | AD9: 5 | AE9: 26
A10: VOP | B10: 875750 | C10: 38620 | D10: 4 | E10: 0 | F10: 20150323 | G10: 20150317 | H10: 0 | I10: 0 | J10: 1.9 | K10: 32 | L10: VOP | M10: 840307 | N10: 0 | O10: 4 | P10: 4 | Q10: Y | R10: 37 | S10: 72 | T10: 30300 | U10: 0 | V10: 0 | W10: 5.3 | X10: 129 | Y10: 20150317 | Z10: 265 | AA10: 0 | AB10: 0 | AC10: 103 | AD10: 5 | AE10: 26
A11: VOP | B11: 875751 | C11: 40510 | D11: 3 | E11: 0 | F11: 20140825 | G11: 20140812 | H11: -2 | I11: 0 | J11: 1.7 | K11: 22 | L11: VOP | M11: 840307 | N11: 0 | O11: 3 | P11: 3 | Q11: Y | R11: 37 | S11: 72 | T11: 30300 | U11: 0 | V11: 0 | W11: 5.3 | X11: 129 | Y11: 20140812 | Z11: 265 | AA11: 0 | AB11: 0 | AC11: 103 | AD11: 5 | AE11: 26
A12: VOP | B12: 875751 | C12: 41640 | D12: 3 | E12: 0 | F12: 20150525 | G12: 20150324 | H12: -2 | I12: 0 | J12: 1.7 | K12: 22 | L12: VOP | M12: 840307 | N12: 0 | O12: 3 | P12: 3 | Q12: Y | R12: 37 | S12: 72 | T12: 30300 | U12: 0 | V12: 0 | W12: 5.3 | X12: 129 | Y12: 20150324 | Z12: 265 | AA12: 0 | AB12: 0 | AC12: 103 | AD12: 5 | AE12: 26
A13: VOP | B13: 875751 | C13: 41650 | D13: 3 | E13: 0 | F13: 20150622 | G13: 20150324 | H13: -2 | I13: 0 | J13: 1.7 | K13: 22 | L13: VOP | M13: 840307 | N13: 0 | O13: 3 | P13: 3 | Q13: Y | R13: 37 | S13: 72 | T13: 30300 | U13: 0 | V13: 0 | W13: 5.3 | X13: 129 | Y13: 20150324 | Z13: 265 | AA13: 0 | AB13: 0 | AC13: 103 | AD13: 5 | AE13: 26
... A72: VOP | B72: 875751 | C72: 91240 | D72: 5 | E72: 0 | F72: 20141222 | G72: 20141216 | H72: -2 | I72: 0 | J72: 1.7 | K72: 22 | L72: VOP | M72: 840307 | N72: 0 | O72: 5 | P72: 5 | Q72: Y | R72: 37 | S72: 72 | T72: 30300 | U72: 0 | V72: 0 | W72: 5.3 | X72: 129 | Y72: 20141216 | Z72: 265 | AA72: 0 | AB72: 0 | AC72: 103 | AD72: 5 | AE72: 26

Sheet Suivi
A1: Week | B1: 26
A2: Prefix Kitem | B2: VO | Q2: VO
A3: PMG | B3: 265 | Q3: VOP
A4: Kititem PN | B4: Kititem available | C4: Kititem advised
A5: {=IFERROR(INDEX(DATA!M:M,SMALL(IF((DATA!$AE$2:$AE$100=Suivi!$B$1)*(DATA!$L$2:$L$100=Suivi!$B$2)*(DATA!$Z$2:$Z$100=Suivi!$B$3),ROW(DATA!$Z$2:$Z$100)),ROW()-4)),"aucune corresp")} -> 276890 | B5: {=IFERROR(INDEX(DATA!N:N,SMALL(IF((DATA!$AE$2:$AE$100=Suivi!$B$1)*(DATA!$L$2:$L$100=Suivi!$B$2)*(DATA!$Z$2:$Z$100=Suivi!$B$3),ROW(DATA!$Z$2:$Z$100)),ROW()-4)),"aucune corresp")} -> 0 | C5: {=IFERROR(INDEX(DATA!O:O,SMALL(IF((DATA!$AE$2:$AE$100=Suivi!$B$1)*(DATA!$L$2:$L$100=Suivi!$B$2)*(DATA!$Z$2:$Z$100=Suivi!$B$3),ROW(DATA!$Z$2:$Z$100)),ROW()-4)),"aucune corresp")} -> 1
A6: {=IFERROR(INDEX(DATA!M:M,SMALL(IF((DATA!$AE$2:$AE$100=Suivi!$B$1)*(DATA!$L$2:$L$100=Suivi!$B$2)*(DATA!$Z$2:$Z$100=Suivi!$B$3),ROW(DATA!$Z$2:$Z$100)),ROW()-4)),"aucune corresp")} -> 276890 | B6: {=IFERROR(INDEX(DATA!N:N,SMALL(IF((DATA!$AE$2:$AE$100=Suivi!$B$1)*(DATA!$L$2:$L$100=Suivi!$B$2)*(DATA!$Z$2:$Z$100=Suivi!$B$3),ROW(DATA!$Z$2:$Z$100)),ROW()-4)),"aucune corresp")} -> 0 | C6: {=IFERROR(INDEX(DATA!O:O,SMALL(IF((DATA!$AE$2:$AE$100=Suivi!$B$1)*(DATA!$L$2:$L$100=Suivi!$B$2)*(DATA!$Z$2:$Z$100=Suivi!$B$3),ROW(DATA!$Z$2:$Z$100)),ROW()-4)),"aucune corresp")} -> 1
A7: {=IFERROR(INDEX(DATA!M:M,SMALL(IF((DATA!$AE$2:$AE$100=Suivi!$B$1)*(DATA!$L$2:$L$100=Suivi!$B$2)*(DATA!$Z$2:$Z$100=Suivi!$B$3),ROW(DATA!$Z$2:$Z$100)),ROW()-4)),"aucune corresp")} -> 276890 | B7: {=IFERROR(INDEX(DATA!N:N,SMALL(IF((DATA!$AE$2:$AE$100=Suivi!$B$1)*(DATA!$L$2:$L$100=Suivi!$B$2)*(DATA!$Z$2:$Z$100=Suivi!$B$3),ROW(DATA!$Z$2:$Z$100)),ROW()-4)),"aucune corresp")} -> 0 | C7: {=IFERROR(INDEX(DATA!O:O,SMALL(IF((DATA!$AE$2:$AE$100=Suivi!$B$1)*(DATA!$L$2:$L$100=Suivi!$B$2)*(DATA!$Z$2:$Z$100=Suivi!$B$3),ROW(DATA!$Z$2:$Z$100)),ROW()-4)),"aucune corresp")} -> 1
A8: {=IFERROR(INDEX(DATA!M:M,SMALL(IF((DATA!$AE$2:$AE$100=Suivi!$B$1)*(DATA!$L$2:$L$100=Suivi!$B$2)*(DATA!$Z$2:$Z$100=Suivi!$B$3),ROW(DATA!$Z$2:$Z$100)),ROW()-4)),"aucune corresp")} -> 276890 | B8: {=IFERROR(INDEX(DATA!N:N,SMALL(IF((DATA!$AE$2:$AE$100=Suivi!$B$1)*(DATA!$L$2:$L$100=Suivi!$B$2)*(DATA!$Z$2:$Z$100=Suivi!$B$3),ROW(DATA!$Z$2:$Z$100)),ROW()-4)),"aucune corresp")} -> 0 | C8: {=IFERROR(INDEX(DATA!O:O,SMALL(IF((DATA!$AE$2:$AE$100=Suivi!$B$1)*(DATA!$L$2:$L$100=Suivi!$B$2)*(DATA!$Z$2:$Z$100=Suivi!$B$3),ROW(DATA!$Z$2:$Z$100)),ROW()-4)),"aucune corresp")} -> 7
A9: {=IFERROR(INDEX(DATA!M:M,SMALL(IF((DATA!$AE$2:$AE$100=Suivi!$B$1)*(DATA!$L$2:$L$100=Suivi!$B$2)*(DATA!$Z$2:$Z$100=Suivi!$B$3),ROW(DATA!$Z$2:$Z$100)),ROW()-4)),"aucune corresp")} -> 20570965 | B9: {=IFERROR(INDEX(DATA!N:N,SMALL(IF((DATA!$AE$2:$AE$100=Suivi!$B$1)*(DATA!$L$2:$L$100=Suivi!$B$2)*(DATA!$Z$2:$Z$100=Suivi!$B$3),ROW(DATA!$Z$2:$Z$100)),ROW()-4)),"aucune corresp")} -> 89 | C9: {=IFERROR(INDEX(DATA!O:O,SMALL(IF((DATA!$AE$2:$AE$100=Suivi!$B$1)*(DATA!$L$2:$L$100=Suivi!$B$2)*(DATA!$Z$2:$Z$100=Suivi!$B$3),ROW(DATA!$Z$2:$Z$100)),ROW()-4)),"aucune corresp")} -> 186
A10: {=IFERROR(INDEX(DATA!M:M,SMALL(IF((DATA!$AE$2:$AE$100=Suivi!$B$1)*(DATA!$L$2:$L$100=Suivi!$B$2)*(DATA!$Z$2:$Z$100=Suivi!$B$3),ROW(DATA!$Z$2:$Z$100)),ROW()-4)),"aucune corresp")} -> 276890 | B10: {=IFERROR(INDEX(DATA!N:N,SMALL(IF((DATA!$AE$2:$AE$100=Suivi!$B$1)*(DATA!$L$2:$L$100=Suivi!$B$2)*(DATA!$Z$2:$Z$100=Suivi!$B$3),ROW(DATA!$Z$2:$Z$100)),ROW()-4)),"aucune corresp")} -> 0 | C10: {=IFERROR(INDEX(DATA!O:O,SMALL(IF((DATA!$AE$2:$AE$100=Suivi!$B$1)*(DATA!$L$2:$L$100=Suivi!$B$2)*(DATA!$Z$2:$Z$100=Suivi!$B$3),ROW(DATA!$Z$2:$Z$100)),ROW()-4)),"aucune corresp")} -> 1
A11: {=IFERROR(INDEX(DATA!M:M,SMALL(IF((DATA!$AE$2:$AE$100=Suivi!$B$1)*(DATA!$L$2:$L$100=Suivi!$B$2)*(DATA!$Z$2:$Z$100=Suivi!$B$3),ROW(DATA!$Z$2:$Z$100)),ROW()-4)),"aucune corresp")} -> 276890 | B11: {=IFERROR(INDEX(DATA!N:N,SMALL(IF((DATA!$AE$2:$AE$100=Suivi!$B$1)*(DATA!$L$2:$L$100=Suivi!$B$2)*(DATA!$Z$2:$Z$100=Suivi!$B$3),ROW(DATA!$Z$2:$Z$100)),ROW()-4)),"aucune corresp")} -> 0 | C11: {=IFERROR(INDEX(DATA!O:O,SMALL(IF((DATA!$AE$2:$AE$100=Suivi!$B$1)*(DATA!$L$2:$L$100=Suivi!$B$2)*(DATA!$Z$2:$Z$100=Suivi!$B$3),ROW(DATA!$Z$2:$Z$100)),ROW()-4)),"aucune corresp")} -> 8
A12: {=IFERROR(INDEX(DATA!M:M,SMALL(IF((DATA!$AE$2:$AE$100=Suivi!$B$1)*(DATA!$L$2:$L$100=Suivi!$B$2)*(DATA!$Z$2:$Z$100=Suivi!$B$3),ROW(DATA!$Z$2:$Z$100)),ROW()-4)),"aucune corresp")} -> 20528113 | B12: {=IFERROR(INDEX(DATA!N:N,SMALL(IF((DATA!$AE$2:$AE$100=Suivi!$B$1)*(DATA!$L$2:$L$100=Suivi!$B$2)*(DATA!$Z$2:$Z$100=Suivi!$B$3),ROW(DATA!$Z$2:$Z$100)),ROW()-4)),"aucune corresp")} -> 28 | C12: {=IFERROR(INDEX(DATA!O:O,SMALL(IF((DATA!$AE$2:$AE$100=Suivi!$B$1)*(DATA!$L$2:$L$100=Suivi!$B$2)*(DATA!$Z$2:$Z$100=Suivi!$B$3),ROW(DATA!$Z$2:$Z$100)),ROW()-4)),"aucune corresp")} -> 12
A13: {=IFERROR(INDEX(DATA!M:M,SMALL(IF((DATA!$AE$2:$AE$100=Suivi!$B$1)*(DATA!$L$2:$L$100=Suivi!$B$2)*(DATA!$Z$2:$Z$100=Suivi!$B$3),ROW(DATA!$Z$2:$Z$100)),ROW()-4)),"aucune corresp")} -> 20570965 | B13: {=IFERROR(INDEX(DATA!N:N,SMALL(IF((DATA!$AE$2:$AE$100=Suivi!$B$1)*(DATA!$L$2:$L$100=Suivi!$B$2)*(DATA!$Z$2:$Z$100=Suivi!$B$3),ROW(DATA!$Z$2:$Z$100)),ROW()-4)),"aucune corresp")} -> 0 | C13: {=IFERROR(INDEX(DATA!O:O,SMALL(IF((DATA!$AE$2:$AE$100=Suivi!$B$1)*(DATA!$L$2:$L$100=Suivi!$B$2)*(DATA!$Z$2:$Z$100=Suivi!$B$3),ROW(DATA!$Z$2:$Z$100)),ROW()-4)),"aucune corresp")} -> 40
A14: {=IFERROR(INDEX(DATA!M:M,SMALL(IF((DATA!$AE$2:$AE$100=Suivi!$B$1)*(DATA!$L$2:$L$100=Suivi!$B$2)*(DATA!$Z$2:$Z$100=Suivi!$B$3),ROW(DATA!$Z$2:$Z$100)),ROW()-4)),"aucune corresp")} -> 276890 | B14: {=IFERROR(INDEX(DATA!N:N,SMALL(IF((DATA!$AE$2:$AE$100=Suivi!$B$1)*(DATA!$L$2:$L$100=Suivi!$B$2)*(DATA!$Z$2:$Z$100=Suivi!$B$3),ROW(DATA!$Z$2:$Z$100)),ROW()-4)),"aucune corresp")} -> 0 | C14: {=IFERROR(INDEX(DATA!O:O,SMALL(IF((DATA!$AE$2:$AE$100=Suivi!$B$1)*(DATA!$L$2:$L$100=Suivi!$B$2)*(DATA!$Z$2:$Z$100=Suivi!$B$3),ROW(DATA!$Z$2:$Z$100)),ROW()-4)),"aucune corresp")} -> 2
A15: {=IFERROR(INDEX(DATA!M:M,SMALL(IF((DATA!$AE$2:$AE$100=Suivi!$B$1)*(DATA!$L$2:$L$100=Suivi!$B$2)*(DATA!$Z$2:$Z$100=Suivi!$B$3),ROW(DATA!$Z$2:$Z$100)),ROW()-4)),"aucune corresp")} -> 276890 | B15: {=IFERROR(INDEX(DATA!N:N,SMALL(IF((DATA!$AE$2:$AE$100=Suivi!$B$1)*(DATA!$L$2:$L$100=Suivi!$B$2)*(DATA!$Z$2:$Z$100=Suivi!$B$3),ROW(DATA!$Z$2:$Z$100)),ROW()-4)),"aucune corresp")} -> 0 | C15: {=IFERROR(INDEX(DATA!O:O,SMALL(IF((DATA!$AE$2:$AE$100=Suivi!$B$1)*(DATA!$L$2:$L$100=Suivi!$B$2)*(DATA!$Z$2:$Z$100=Suivi!$B$3),ROW(DATA!$Z$2:$Z$100)),ROW()-4)),"aucune corresp")} -> 11
A16: {=IFERROR(INDEX(DATA!M:M,SMALL(IF((DATA!$AE$2:$AE$100=Suivi!$B$1)*(DATA!$L$2:$L$100=Suivi!$B$2)*(DATA!$Z$2:$Z$100=Suivi!$B$3),ROW(DATA!$Z$2:$Z$100)),ROW()-4)),"aucune corresp")} -> 20528113 | B16: {=IFERROR(INDEX(DATA!N:N,SMALL(IF((DATA!$AE$2:$AE$100=Suivi!$B$1)*(DATA!$L$2:$L$100=Suivi!$B$2)*(DATA!$Z$2:$Z$100=Suivi!$B$3),ROW(DATA!$Z$2:$Z$100)),ROW()-4)),"aucune corresp")} -> 0 | C16: {=IFERROR(INDEX(DATA!O:O,SMALL(IF((DATA!$AE$2:$AE$100=Suivi!$B$1)*(DATA!$L$2:$L$100=Suivi!$B$2)*(DATA!$Z$2:$Z$100=Suivi!$B$3),ROW(DATA!$Z$2:$Z$100)),ROW()-4)),"aucune corresp")} -> 120
... A19: {=IFERROR(INDEX(DATA!M:M,SMALL(IF((DATA!$AE$2:$AE$100=Suivi!$B$1)*(DATA!$L$2:$L$100=Suivi!$B$2)*(DATA!$Z$2:$Z$100=Suivi!$B$3),ROW(DATA!$Z$2:$Z$100)),ROW()-4)),"aucune corresp")} -> 20365523 | B19: {=IFERROR(INDEX(DATA!N:N,SMALL(IF((DATA!$AE$2:$AE$100=Suivi!$B$1)*(DATA!$L$2:$L$100=Suivi!$B$2)*(DATA!$Z$2:$Z$100=Suivi!$B$3),ROW(DATA!$Z$2:$Z$100)),ROW()-4)),"aucune corresp")} -> 36 | C19: {=IFERROR(INDEX(DATA!O:O,SMALL(IF((DATA!$AE$2:$AE$100=Suivi!$B$1)*(DATA!$L$2:$L$100=Suivi!$B$2)*(DATA!$Z$2:$Z$100=Suivi!$B$3),ROW(DATA!$Z$2:$Z$100)),ROW()-4)),"aucune corresp")} -> 204
