Workbook

Sheet Sheet2
A2: ConfirmDate | B2: 42377
A4: Row Labels | B4: Sum of Cost
A5: C001 | B5: 0
B6: 0
A7: DERIVERY | B7: 74.01
A8: 2.1.1 Delivery schedule | B8: 74.01
A9: BERNARD TRUCKS BOURG | B9: 100
B10: 100
A11: VEINLUC SA - CTRA. CORDOBA-MALAGA, KM.68,290 - 14 | B11: 100
B12: 100
A13: Reguitruck SL | B13: 100
B14: 100
A15: Baudouin Beaulieu | B15: 100
B16: 100
A17: ZF Friedrichshafen AG | B17: 111.3
B18: 111.3
A19: PROTEMBAL | B19: 175
B20: 175
A21: Mahle France | B21: 200
A22: 2.1.1 Delivery schedule | B22: 200
A23: Delphi | B23: 200
B24: 200
A25: ZHONGDING EUROPE GMBH | B25: 295.41
B26: 295.41
A27: ZF FriedrichshafenAG | B27: 303.58
A28: 2.1.1 Delivery schedule | B28: 303.58
A29: Indel B spa | B29: 714.51
B30: 714.51
A31: Fuzhou Lioho Machinery Co., Ltd | B31: 800
A32: 6.1.10 Standard Air | B32: 800
A33: Ages | B33: 1874.88
A34: 1. Supplier (Late delivery) | B34: 939.06
A35: 1.1.8 Quality issues | B35: 935.82
A36: Componenta Främmestad | B36: 2438.46
A37: 1.1.4 Capacity issues | B37: 2438.46
A38: Gnotec Habo AB | B38: 2890
A39: 6.1.3 Transport deviation road | B39: 2890
A40: VE COMMERCIAL VEHICLES LTD | B40: 4508
B41: 4508
A42: Renault Trucks | B42: 13650.14
...

Sheet XTR
A1: VLC Ref | B1: SupplierName | C1: SupplierParma | D1: RefN° | E1: ContactPerson | F1: Phone | G1: SupplierLocation | H1: PUPlace | I1: PUContact | J1: PUPhone | K1: ConfirmDate | L1: PartInfo | M1: Customs | N1: DispDate | O1: Time | P1: WayDisp | Q1: Rush | R1: TBR-Id | S1: Notes | T1: ArrivalDate | U1: ArrivalTime | V1: Compagny | W1: Suffix | X1: MaterialController | Y1: MCPhone | Z1: VGLS Contact | AA1: VGLS Comments | AB1: annulé | AC1: carrier | AD1: Cost | AE1: Envoi mail | AF1: Import/Export? | AG1: DateArrivée | AH1: HeureArrivée | AI1: Pays départ | AJ1: Pays arrivée | AK1: Année | AL1: Mois | AM1: An | AN1: Mont | AO1: USINE | AP1: ReasonCode
A2: XTR9163676 | B2: Renault Trucks | C2: 34294 | D2: 41161007 | E2: BOUNESMER Hassan | F2: 3366585027 | G2: Rue des frères Amadeo entrée porte K gare 53 69200 Vénissieux | I2: BOUNESMER Hassan | J2: 3366585027 | K2: 42377 | L2: PartNo:1___________Qty:1____Pcs:1___Weight:1100__Dims:180x110x140 | M2: No | N2: 42377 | O2: 1500 | P2: Expresstruck International | S2: Daniel Norwald Volvo Construction Equipment AB Bolindervägen 5 SE-631 85 Eskilstuna, Sweden Phone: +46-16-5415626 Mobile: +46-73-5585626 Please call Anki Carlden, Phone: 004673 765 6174 Please call Ulf Kalmerén, Phone: 004670 003 4321 | T2: 42381 | U2: 900 | V2: Volvo | W2: 53 | X2: BOUNESMER Hassan | Y2: 3366585027 | Z2: ks | AB2: FALSE | AC2: TAXI COLIS | AD2: 1104.84 | AE2: FALSE | AI2: FR | AJ2: SE | AK2: 2016 | AL2: janvier | AO2: =VLOOKUP(W2,suffix!$A$1:$B$63,2,FALSE) -> Manufacturing
A3: XTR9163648 | B3: Fuzhou Lioho Machinery Co., Ltd | C3: 37029 | D3: 20160111K | E3: Sarah | F3: 0591-38205818-503 | G3: Baishui Road,Qingkou Town,Minhou County,Fuzhou City,Fujian Province,P.R.CHINA,Zip code:350119 | H3: Ye | I3: flm12446@liufeng.com.cn | J3: 0591-38205818-503 | K3: 42377 | L3: PartNo:21439294____Qty:18___Pcs:1___Weight:173___Dims:82x68x53 | M3: Yes | N3: 42380 | O3: 1000 | P3: Air | S3: CC:2049/Suffix: 69/Without PUP/21439294/MC:Marie Christine MARCOUX | T3: 42401 | U3: 1000 | V3: RENAULT TRUCKS(SAS) | W3: 69 | X3: Marie Christine Marcoux | Y3: 33472969934 | Z3: pf | AB3: FALSE | AC3: geodis | AD3: 800 | AE3: FALSE | AI3: CN | AJ3: FR | AK3: 2016 | AL3: janvier | AO3: =VLOOKUP(W3,suffix!$A$1:$B$63,2,FALSE) -> Manufacturing | AP3: 6.1.10 Standard Air
A4: XTR9163664 | B4: DERIVERY | C4: 31968 | E4: Mme Anthierens | F4: 232437401 | G4: 3 Boulevard Eugène Marie 27800 BRIONNE | H4: 3 Boulevard Eugène Marie 27800 BRIONNE | I4: Mme Anthierens | J4: 232437401 | K4: 42377 | L4: PartNo:R100236205__Qty:1____Pcs:1___Weight:250___Dims:120x100x100 | M4: No | N4: 42380 | O4: 900 | S4: commande 81484, livraison Renault Trucks Blainville GARE R7 | T4: 42380 | U4: 1130 | V4: renault trucks | W4: R5 | X4: ROMUALD GAUDRY | Y4: 231705481 | Z4: pf | AB4: FALSE | AC4: TAXI COLIS | AD4: 74.01 | AE4: FALSE | AI4: FR | AJ4: FR | AK4: 2016 | AL4: janvier | AO4: =VLOOKUP(W4,suffix!$A$1:$B$63,2,FALSE) -> Manufacturing | AP4: 2.1.1 Delivery schedule
A5: XTR9163662 | B5: BERNARD TRUCKS BOURG | C5: 3595 | D5: 1-5296373914 | E5: GINA | F5: 33474458282 | G5: 506 RTE DE STRASBOURG,01442 VIRIAT FRANCE | H5: 506 RTE DE STRASBOURG,01442 VIRIAT FRANCE | I5: GINA | J5: +33 474458282 / g.bernard@autobernard.com | K5: 42377 | L5: PartNo:5000499654__Qty:1____Pcs:1___Weight:1_____Dims:34x15x15 | M5: No | N5: 42377 | O5: 1500 | P5: Expresstruck International | S5: A livrer à : Van Hove Truck Center Leuven Nv,Brusselsesteenweg 53,3020 HERENT, BELGIUM : Contact : TOON HEIRWEGH +3216246660 | T5: 42380 | U5: 1400 | V5: DC LYON | W5: 30 | X5: DOROTA BIEDRON | Y5: +32 78 157015 | Z5: pf | AB5: FALSE | AC5: DHL 956516552 | AD5: 100 | AE5: FALSE | AI5: FR | AJ5: BE | AK5: 2016 | AL5: janvier | AO5: =VLOOKUP(W5,suffix!$A$1:$B$63,2,FALSE) -> aftermarket
A6: XTR9163665 | B6: Componenta Främmestad | C6: 79 | D6: 7421639760 | E6: christer bergman | F6: +46 10 450 75 33 | G6: ANGHAGEN, FRAMMESTAD - 465 97 NOSSEBRO - Sweden | H6: Svedplan IndustriPark - Brobackavägen 19 - 441 91 ALINGSÅS -SWEDEN | I6: Svedplan IndustriPark - Brobackavägen 19 - 441 91 | J6: christer bergman / christer.bergman@componenta.co | K6: 42377 | L6: PartNo:7421639760__Qty:330__Pcs:10__Weight:3320__Dims:l3 | M6: No | N6: 42377 | O6: 1400 | P6: Expresstruck International | S6: thanks to deliver on GEFCO SITE - 2605 AVENUE AMÉDÉE MERCIER - 01000 BOURG EN BRESSE FRANCE | T6: 42380 | U6: 1200 | V6: RENAULT TRUCKS - GEFCO SITE | W6: 89 | X6: Alexandra BOZONNET | Y6: +33 4 26 91 00 01 | Z6: pf | AB6: FALSE | AC6: TAXI COLIS | AD6: 2438.46 | AE6: FALSE | AI6: SE | AJ6: FR | AK6: 2016 | AL6: janvier | AO6: =VLOOKUP(W6,suffix!$A$1:$B$63,2,FALSE) -> Manufacturing | AP6: 1.1.4 Capacity issues
A7: XTR9163670 | B7: Ages | C7: 1728 | E7: Annelie Andersson | F7: 4637162209 | G7: Österlånggatan 20 ,310 83 Unnaryd | H7: Österlånggatan 20 ,310 83 Unnaryd | I7: Annelie Andersson | J7: +46 37162209 / annelie.andersson@ages.se | K7: 42377 | L7: PartNo:22249742____Qty:144__Pcs:3___Weight:225___Dims:82x62x75 | M7: No | N7: 42377 | O7: 1300 | P7: Expresstruck International | S7: Suffix G69 CC2049/G69Late delivery | T7: 42380 | U7: 600 | V7: Volvo Powertrain | W7: 69 | X7: Mikael Fredriksson | Y7: 46221457802 | Z7: pf | AB7: FALSE | AC7: TAXI COLIS | AD7: 939.06 | AE7: FALSE | AI7: SE | AJ7: FR | AK7: 2016 | AL7: janvier | AO7: =VLOOKUP(W7,suffix!$A$1:$B$63,2,FALSE) -> Manufacturing | AP7: 1. Supplier (Late delivery)
A8: XTR9163672 | B8: Ages | C8: 1728 | E8: Annelie Andersson | F8: 4637162209 | G8: Österlånggatan 20 ,310 83 Unnaryd | H8: Heurlins Lackering ,Birger Svenssons Väg 18,432 40 Varberg | I8: Måns Hammarlind | J8: +463401905/ utlev@heurlins.se | K8: 42377 | L8: PartNo:21949838____Qty:216__Pcs:12__Weight:840___Dims:82x62x75_x000D_ PartNo:21858913____Qty:180__Pcs:2___Weight:170___Dims:82x62x75 | M8: No | N8: 42377 | O8: 1600 | P8: Expresstruck International | S8: Suffix G69 CC2049/G69 Quality issue/late delivery | T8: 42380 | U8: 600 | V8: Volvo Powertrain | W8: 69 | X8: Mikael Fredriksson | Y8: 46221457802 | Z8: pf | AB8: FALSE | AC8: TAXI COLIS | AD8: 935.82 | AE8: FALSE | AI8: SE | AJ8: FR | AK8: 2016 | AL8: janvier | AO8: =VLOOKUP(W8,suffix!$A$1:$B$63,2,FALSE) -> Manufacturing | AP8: 1.1.8 Quality issues
A9: XTR9163671 | B9: Renault Trucks | C9: 31972 | D9: 1222: 6 moteurs | E9: Jean-Baptiste Gaudin | F9: 665865605 | G9: Rue des frères amadéo porte K gare 80, 69200 VENISSIEUX (6h/21h) | H9: Rue des frères amadéo porte K gare 80, 69200 VENISSIEUX (6h/21h) | K9: 42377 | L9: PartNo:1222________Qty:6____Pcs:6___Weight:7500__Dims:150x100x140 | M9: No | N9: 42377 | O9: 1800 | S9: livrer à : VOLVO ARTICULATED CARL LIHNELLS VAG / 360 42 BRAAS | T9: 42380 | U9: 600 | V9: Volvo Powertrain France | W9: 80 | X9: Jean-Baptiste Gaudin | Y9: 665865605 | Z9: pf | AA9: flash ne sait pas faire | AB9: FALSE | AC9: ATS | AD9: 7750 | AE9: FALSE | AI9: FR | AJ9: SE | AK9: 2016 | AL9: janvier | AO9: =VLOOKUP(W9,suffix!$A$1:$B$63,2,FALSE) -> Manufacturing
A10: XTR9163659 | B10: VE COMMERCIAL VEHICLES LTD | C10: 8418 | D10: MA34689 | E10: Ankush Chhabra | F10: 919713619022 | G10: PLOTNO.105, 107 & 109 DIST. DHAR PITHAMPUR 454775 INDIA | K10: 42377 | L10: PartNo:5-909_______Qty:1____Pcs:1___Weight:830___Dims:125x82x75_x000D_ PartNo:8-735_______Qty:1____Pcs:1___Weight:830___Dims:125x82x75 | M10: Yes | N10: 42377 | O10: 1400 | Q10: Extra Pick-Up | S10: TOTAL WEIGHT : 1660 Kg | T10: 42389 | U10: 800 | V10: GTT | W10: 54 | X10: Florent RONDE | Y10: +33 6 64 40 41 49 | Z10: ks | AB10: FALSE | AC10: SCHENKER | AD10: 4508 | AE10: FALSE | AI10: IN | AJ10: FR | AK10: 2016 | AL10: janvier | AO10: =VLOOKUP(W10,suffix!$A$1:$B$63,2,FALSE) -> Manufacturing
A11: XTR9163661 | B11: renault trucks | C11: 13534 | D11: 1 carton n°12 | E11: pascal bruneau | F11: 231701028 | G11: rue du canal gare ceco 109 batiment v 14550 blainville sur orne | I11: pascal bruneau | J11: 231701028 | K11: 42377 | L11: PartNo:12__________Qty:1____Pcs:1___Weight:4_____Dims:60x40x30 | M11: No | N11: 42377 | O11: 845 | S11: cc7974. 1 carton a livrer chez:RENAULT TRUCKS VERSAILLES ALLEE DES MARRONNIERS 78000 VERSAILLES.cg17 | T11: 42380 | U11: 1400 | V11: renault trucks | W11: Q4 | X11: pascal bruneau | Y11: 231701028 | Z11: ks | AB11: FALSE | AC11: TAXI COLIS | AD11: 108.96 | AE11: FALSE | AI11: FR | AJ11: FR | AK11: 2016 | AL11: janvier | AO11: =VLOOKUP(W11,suffix!$A$1:$B$63,2,FALSE) -> Manufacturing
A12: XTR9163690 | B12: ZHONGDING EUROPE GMBH | C12: 41617 | D12: B16053848222 | E12: Melanie | F12: +49 9352 60 591 130 | G12: Zhongding Europe GmbH, Warenverteilzentrum TOR 5 Pressnitzerstrasse 2, 97816 Lohr am Main | H12: OPENING TIME 09h00-14h00 | I12: Melanie / melanie.sperber@ZDEurope.com | J12: +49 9352 60 591 130 | K12: 42377 | L12: PartNo:2___________Qty:2____Pcs:2___Weight:250___Dims:123x82x55_x000D_ PartNo:1___________Qty:1____Pcs:1___Weight:200___Dims:82x62x53 | M12: No | N12: 42377 | O12: 1300 | S12: Livraison RT Bourg en Bresse - Gare 89 | T12: 42380 | U12: 1000 | V12: RENAULT TRUCKS | W12: 89 | X12: Marie BEREZIAT | Y12: 33 4 26 83 13 86 | Z12: pf | AB12: FALSE | AC12: TAXI COLIS | AD12: 295.41 | AE12: FALSE | AI12: DE | AJ12: FR | AK12: 2016 | AL12: janvier | AO12: =VLOOKUP(W12,suffix!$A$1:$B$63,2,FALSE) -> Manufacturing
A13: XTR9163689 | B13: ZF FriedrichshafenAG | C13: 16137 | E13: Birgit Markert | F13: 49 9721 98-2873 | G13: ZF FriedrichshafenAG Ernst-Sachs-Straße 62, 97424 Schweinfurt,Deutschland/Germany | H13: ZF FriedrichshafenAG Ernst-Sachs-Straße 62, 97424 Schweinfurt,Deutschland/Germany | I13: Birgit Markert | J13: +49 9721 98-2873 | K13: 42377 | L13: PartNo:7421686179__Qty:106__Pcs:7___Weight:610___Dims:81x61x35_x000D_ PartNo:7421686181__Qty:14___Pcs:1___Weight:100___Dims:81x61x35 | M13: No | N13: 42380 | O13: 900 | Q13: Extra Pick-Up | S13: Livraison RT BOURG EN BRESSE, Gare 89 | T13: 42381 | U13: 1700 | V13: RT BOURG EN BRESSE, Gare 89 | W13: 89 | X13: GALLET VERONIQUE | Y13: 426910015 | Z13: pf | AB13: FALSE | AC13: TAXI COLIS | AD13: 303.58 | AE13: FALSE | AI13: DE | AJ13: FR | AK13: 2016 | AL13: janvier | AO13: =VLOOKUP(W13,suffix!$A$1:$B$63,2,FALSE) -> Manufacturing | AP13: 2.1.1 Delivery schedule
A14: XTR9163688 | B14: Indel B spa | C14: 3595 | D14: PCR150535 BUISSON | E14: Edson Reis | F14: 390541848718 | G14: Indel B spa, Loc. Ca Baldone 47866 Sant’Agata Feltria (RN) ITALY | H14: Indel B spa, Loc. Ca Baldone 47866 Sant’Agata Feltria (RN) ITALY | I14: Edson Reis | J14: 390541848718 | K14: 42377 | L14: PartNo:PCR150535___Qty:1____Pcs:5___Weight:150___Dims:180x120x110 | M14: No | N14: 42377 | O14: 1130 | S14: Livrer chez : Renault Trucks, 1 avenue Henri Germain, gare 42, 69800 Saint Priest // POUR LA RAMASSE DEMANDER LE NUMERO DE FABRICTION CAMION : VF610A363DD000110 | T14: 42382 | U14: 1200 | V14: RENAULT TRUCK | W14: 42 | X14: MR FRANZETTI | Y14: 469091024 | Z14: PF | AB14: FALSE | AC14: TAXI COLIS | AD14: 714.51 | AE14: FALSE | AI14: IT | AJ14: FR | AK14: 2016 | AL14: janvier | AO14: =VLOOKUP(W14,suffix!$A$1:$B$63,2,FALSE) -> Manufacturing
A15: XTR9163695 | B15: Renault Trucks | C15: 3595 | D15: Colis urgent | E15: Haikel LARBI | F15: 481930146 | G15: Rue des frère Amadéo – porte K – gare 28 – 69200 Vénissieux – horaires :7h30-11h30 / 12h30-15h30 | K15: 42377 | L15: PartNo:colis urgentQty:4____Pcs:1___Weight:3_____Dims:20x20x20 | M15: No | N15: 42012 | O15: 1230 | S15: livraison chez: SGS Oil - ZI de la vigne aux loups - 23 rue Bossuet - 91161 Longjumeau cedex | T15: 42015 | U15: 800 | V15: GTT | W15: 28 | X15: Haikel LARBI | Y15: 481930146 | Z15: ks | AB15: FALSE | AC15: TAXI COLIS | AD15: 216.96 | AE15: FALSE | AI15: FR | AJ15: FR | AK15: 2016 | AL15: janvier | AO15: =VLOOKUP(W15,suffix!$A$1:$B$63,2,FALSE) -> #N/A
A16: XTR9163693 | B16: ZF Friedrichshafen AG | C16: 3595 | D16: 7421290796 | E16: KATJA SAUTER | F16: 49(0) 7541 77 4695 | G16: ZF Friedrichshafen AG ZF Services - Leutholdstrasse Werk 2 - Halle 34 - 88045 Friedrichshafen / Opening Hours 7h - 15h | H16: ZF Friedrichshafen AG ZF Services - Leutholdstrasse Werk 2 - Halle 34 - 88045 Friedrichshafen / Opening Hours 7h - 15h | I16: KATJA SAUTER | J16: +49(0) 7541 77 4695 | K16: 42377 | L16: PartNo:7421290796__Qty:1____Pcs:1___Weight:9_____Dims:39x32x14 | M16: No | N16: 42377 | O16: 1330 | S16: Livraison : BOURLIER MONTBELIARD - 4 ET 6 RUE DE BOUQUIERES - 25400 EXINCOURT / 7H30 12H15 - 13H45 17H45 | T16: 42380 | U16: 800 | V16: DC CENTER LYON | W16: 30 | X16: CARLA VAZ / Claudie Linossier | Y16: 04 26 83 12 99 | Z16: pf | AB16: FALSE | AC16: TAXI COLIS | AD16: 111.3 | AE16: FALSE | AI16: DE | AJ16: FR | AK16: 2016 | AL16: janvier | AO16: =VLOOKUP(W16,suffix!$A$1:$B$63,2,FALSE) -> aftermarket
A17: XTR9163714 | B17: Gnotec Habo AB | C17: 13850 | D17: 2016-01-08-31972 | E17: Nicklas Bromander | F17: +46 10 498 13 12 | G17: Gnotec Habo Ringvägen 21 56631 Habo | H17: Gnotec Habo Ringvägen 21 56631 Habo | I17: Nicklas Bromander / nicklas.bromander@gnotec.com | J17: +46 10 498 13 12 | K17: 42377 | L17: PartNo:22658507____Qty:1____Pcs:1___Weight:63____Dims:120x60x40_x000D_ PartNo:17232495____Qty:24___Pcs:1___Weight:23____Dims:60x40x30_x000D_ PartNo:21637661____Qty:5____Pcs:1___Weight:26____Dims:60x40x30 | M17: No | N17: 42377 | O17: 1500 | Q17: Extra Pick-Up | S17: Livraison RT Venissieux gare 69 | T17: 42380 | U17: 600 | V17: Volvo Powertrain GTO VNX 31972 | W17: 69 | X17: Tommy Lindberg | Y17: 465007880239 | Z17: pf | AB17: FALSE | AC17: ATS | AD17: 2890 | AE17: FALSE | AI17: SE | AJ17: FR | AK17: 2016 | AL17: janvier | AO17: =VLOOKUP(W17,suffix!$A$1:$B$63,2,FALSE) -> Manufacturing | AP17: 6.1.3 Transport deviation road
A18: XTR9163712 | B18: Baudouin Beaulieu | C18: 3595 | D18: 1-5291665541 | E18: Joseph Lehnen | F18: 0032 (0) 4 24 66 562 | G18: LENS MOTOR LIEGE S.A Rue D' Awans No.105 4460 GRÂCE-HOLLOGNE | I18: Joseph Lehnen | J18: 0032 (0) 4 24 66 562 | K18: 42377 | L18: PartNo:5001874806__Qty:2____Pcs:1___Weight:3_____Dims:48x6x8 | M18: No | N18: 42015 | O18: 800 | S18: A livrer par DHL chez: ARDENNES P.L. 131 RUE DE L'INDUSTRIE ZONE ARTISANALE 08330 VRIGNE AUX BOIS. contact: CELINE ROSSIGNON +0324596570 | T18: 42016 | U18: 1400 | V18: DC CENTER LYON | W18: 30 | X18: samir | Y18: 04 69 09 80 80 | Z18: ks | AB18: FALSE | AC18: DHL roissy | AD18: 100 | AE18: FALSE | AI18: BE | AJ18: FR | AK18: 2016 | AL18: janvier | AO18: =VLOOKUP(W18,suffix!$A$1:$B$63,2,FALSE) -> aftermarket
A19: XTR9163694 | B19: Reguitruck SL | C19: 3595 | D19: 1-5298583283 | E19: Yosu Amancio | F19: 34943588900 | G19: Reguitruck SL Poligono Lambarren- C/Arkotz N 4 20180 OYARZUN ESPAÑA | I19: Yosu Amancio | J19: 34943588900 | K19: 42377 | L19: PartNo:5010040558__Qty:1____Pcs:1___Weight:1_____Dims:45x14x14 | M19: No | N19: 42377 | O19: 1400 | S19: A livrer par DHL chez: FAURIE 24 S.A.S ZI DE BOULAZAC PERIGEUX 24750 BOULAZAC contact: CHRISTOPHE VILIEYRAS +0553358530 | T19: 42380 | U19: 1000 | V19: DC CENTER LYON | W19: 30 | X19: Samir | Y19: 04 69 09 80 80 | Z19: ks | AB19: FALSE | AC19: DHL roissy | AD19: 100 | AE19: FALSE | AI19: ES | AJ19: FR | AK19: 2016 | AL19: janvier | AO19: =VLOOKUP(W19,suffix!$A$1:$B$63,2,FALSE) -> aftermarket
A20: XTR9163697 | B20: renault trucks | C20: 34294 | D20: PARTS | E20: Johnny Moullier | F20: +33 (0)6 65 85 91 27 | G20: rue des freres amadeo porte K gare 53 69200 venissieux | K20: 42377 | L20: PartNo:PARTS_______Qty:3____Pcs:1___Weight:60____Dims:K1 | M20: No | N20: 42377 | O20: 1300 | P20: Expresstruck International | S20: CC1131 Volvo Bus Corporation Bussgatan 1,Quality Dept CD64070 BOX 200 504 64 BORAS SWEDEN To : Bengt BERGGREN Tel: + 46 31 3233474 (TRANSPORT URGENT ARRIVEE IMPERATIVE LUNDI) | T20: 42380 | U20: 1200 | V20: GTO | W20: 53 | X20: Johnny Moullier | Y20: +33 (0)6 65 85 91 27 | Z20: ks | AB20: FALSE | AC20: TAXI COLIS | AD20: 933.33 | AE20: FALSE | AI20: FR | AJ20: SE | AK20: 2016 | AL20: janvier | AO20: =VLOOKUP(W20,suffix!$A$1:$B$63,2,FALSE) -> Manufacturing
A21: XTR9163703 | B21: Renault Trucks | C21: 5329 | D21: 133620 | E21: Anthony Holden | F21: 665859322 | G21: Renault Trucks Rue des Freres Amadeo,Porte K,Gare 21,69200 Venissieux (ouvert 7h30/12h30 & 13h30/15h30) | H21: Renault Trucks Rue des Freres Amadeo,Porte K,Gare 21,69200 Venissieux (ouvert 7h30/12h30 & 13h30/15h30) | I21: Anthony Holden | J21: 665859322 | K21: 42377 | L21: PartNo:11-2265_____Qty:1____Pcs:1___Weight:1200__Dims:120x160x140_x000D_ PartNo:Parts11-2265Qty:1____Pcs:1___Weight:200___Dims:123x82x94 | M21: No | N21: 42377 | O21: 1400 | P21: Expresstruck International | S21: delivery : Volvo Global Trucks Technology Powertrain Engineering, Gropegårdsgatan, UV 196, S-405 08 Göteborg, contact: Bengtsdotter Jenny , tel: +46 313228923 SWEDEN | T21: 42380 | U21: 1400 | V21: Renault Trucks | W21: 21 | X21: Anthony Holden | Y21: 665859322 | Z21: pf | AB21: FALSE | AC21: TAXI COLIS | AD21: 2074.17 | AE21: FALSE | AI21: FR | AJ21: SE | AK21: 2016 | AL21: janvier | AO21: =VLOOKUP(W21,suffix!$A$1:$B$63,2,FALSE) -> Manufacturing
A22: XTR9163715 | B22: VEINLUC SA - CTRA. CORDOBA-MALAGA, KM.68,290 - 14 | C22: 3595 | D22: 5010415004 | E22: Rafael / Salvador | F22: +34 957 51 33 51 | G22: VEINLUC SA - CTRA. CORDOBA-MALAGA, KM.68,290 - 14900 LUCENA - SPAIN | H22: VEINLUC SA - CTRA. CORDOBA-MALAGA, KM.68,290 - 14900 LUCENA - SPAIN | I22: Rafael / Salvador | J22: +34 957 51 33 51 / rafapalacios@veinluc.com | K22: 42377 | L22: PartNo:5010415004__Qty:1____Pcs:1___Weight:1_____Dims:20x12x36 | M22: No | N22: 42378 | O22: 1800 | S22: Livraison : PIOVANI SRL - VIA FORNACE, 9 - 25026 PONTEVICO (BS) - ITALY Tel: +39 0309307453 / opening hours 9-12/14-18 | T22: 42380 | U22: 1800 | V22: DC CENTER LYON | W22: 30 | X22: Sonia SAADLI COPPOLA | Y22: 0033/0469092699 | Z22: pf | AB22: FALSE | AC22: DHL roissy | AD22: 100 | AE22: FALSE | AI22: ES | AJ22: IT | AK22: 2016 | AL22: janvier | AO22: =VLOOKUP(W22,suffix!$A$1:$B$63,2,FALSE) -> aftermarket
A23: XTR9163725 | B23: C001 | C23: 3595 | D23: 1-5298975513 | E23: Joelle, Stephane ou Yanne | F23: +33 664403572 / +33665895035 | G23: Renault Trucks, rue des frères Amadeo, Porte K, quai CD2, 69200 Venissieux | H23: Renault Trucks, rue des frères Amadeo, Porte K, quai CD2, 69200 Venissieux | I23: Joelle, Stephane ou Yanne | J23: +33 664403572 / +33665895035 | K23: 42377 | L23: PartNo:5010130644__Qty:1____Pcs:1___Weight:5_____Dims:16x16x15 | M23: No | N23: 42377 | O23: 1630 | P23: Expresstruck International | S23: livrer chez : RENAULT TRUCKS SOUTH WEST, FIFTH WAY, AVONMOUTH, BS11 8DT BRISTOL (AVON). Contact : KEVIN SANDFORD / tél. +441179820481 | T23: 42380 | U23: 900 | V23: DC Lyon | W23: 30 | X23: Miranda Van Acker | Y23: 3292397158 | Z23: ks | AB23: TRUE | AC23: TAXI COLIS | AD23: 0 | AE23: FALSE | AI23: FR | AJ23: GB | AK23: 2016 | AL23: janvier | AO23: =VLOOKUP(W23,suffix!$A$1:$B$63,2,FALSE) -> aftermarket
A24: XTR9163678 | B24: Renault Trucks | C24: 34349 | D24: 1 palette | E24: Martinez | F24: 06-64-40-60-41 | G24: 1 Avenue Henri Germain 69800 Saint Priest | H24: Saint Priest Gare 54 | I24: Martinez | J24: 06-64-40-60-41 | K24: 42377 | L24: PartNo:Prudon______Qty:9____Pcs:1___Weight:97____Dims:120x85x100 | M24: Yes | N24: 42380 | O24: 800 | S24: Volvo to Methods Lab 4881 Cougar Trail Road Dublin VA 24084 UNITED STATES Shirley Fink 15404400885 | T24: 42388 | U24: 800 | V24: Renault Trucks Saint Priest | W24: 54 | X24: loic.martinez@volvo.com | Y24: 06-64-40-60-41 | Z24: pf | AA24: 1219 | AB24: FALSE | AC24: TNT EXPRESS | AD24: 1219 | AE24: FALSE | AI24: FR | AJ24: US | AK24: 2016 | AL24: janvier | AO24: =VLOOKUP(W24,suffix!$A$1:$B$63,2,FALSE) -> Manufacturing
A25: XTR9163731 | B25: PROTEMBAL | C25: 3595 | E25: xxxx | F25: xxxx | G25: 15 rue du Progrès 69800 Saint Priest 46353 00 34063 (Code eLIT) | K25: 42377 | L25: PartNo:racks_______Qty:1____Pcs:6___Weight:696___Dims:1x1x1 | M25: No | N25: 42015 | O25: 0 | S25: Plastic Omnium Composites ZI St DESIRAT S/ CHAMPAGNE 07340 Saint Desirat 5.30 mètres de plancher | T25: 42015 | U25: 1500 | V25: Renault Trucks | W25: 30 | X25: Bensalem-Bonneau Koya | Y25: Bensalem-Bonneau Koya | Z25: ks | AB25: FALSE | AC25: BOOMERANG | AD25: 175 | AE25: FALSE | AI25: FR | AJ25: FR | AK25: 2016 | AL25: janvier | AO25: =VLOOKUP(W25,suffix!$A$1:$B$63,2,FALSE) -> aftermarket
A26: XTR9163728 | B26: Renault Trucks | C26: 34349 | D26: 1 palette bois | E26: Martinez | F26: 06-64-40-60-41 | G26: 1 Avenue Henri Germain 69800 Saint Priest | H26: Saint Priest Gare 54 | I26: Martinez | J26: 06-64-40-60-41 | K26: 42377 | L26: PartNo:Vial________Qty:1____Pcs:1___Weight:47____Dims:122x22x35 | M26: No | N26: 42380 | O26: 800 | S26: Centre Occasion PL Renault Trucks 2 Rue Ampere 95500 Gonesse France 06-09-81-26-28 | T26: 42380 | U26: 1500 | V26: Renault Trucks Saint Priest | W26: 54 | X26: loic.martinez@volvo.com | Y26: 06-64-40-60-41 | Z26: ks | AB26: FALSE | AC26: TAXI COLIS | AD26: 242.88 | AE26: FALSE | AI26: FR | AJ26: FR | AK26: 2016 | AL26: janvier | AO26: =VLOOKUP(W26,suffix!$A$1:$B$63,2,FALSE) -> Manufacturing
A27: XTR9163701 | B27: Mahle France | C27: 20546 | E27: Véronique Richard | F27: +33 4 72 52 26-81 | G27: ZAC du Paisy, 16, Chemin des Hirondelles, 69570 Dardilly, France | K27: 42377 | L27: PartNo:21717465____Qty:12___Pcs:1___Weight:90____Dims:120x70x80 | M27: No | N27: 42380 | O27: 1330 | Q27: Extra Pick-Up | S27: cc2049/g69/reason code 2.1.1 Delivery schedule. | T27: 42380 | U27: 1500 | V27: Volvo GTO-Powertrain Production Venissieux | W27: 69 | X27: Yannick Bonte | Y27: 33481931124 | Z27: ks | AB27: FALSE | AC27: BOOMERANG | AD27: 200 | AE27: FALSE | AI27: FR | AJ27: FR | AK27: 2016 | AL27: janvier | AO27: =VLOOKUP(W27,suffix!$A$1:$B$63,2,FALSE) -> Manufacturing | AP27: 2.1.1 Delivery schedule
A28: XTR9163716 | B28: Delphi | C28: 19947 | D28: LA 776924 | E28: Carl-Henrik Gustafsson | F28: 0046 704 73 96 33 | G28: Delphi Poland S.A. - Suska 156-34-340 Jelesnia - POLAND | H28: Delphi Poland S.A. - Suska 156-34-340 Jelesnia - POLAND | I28: tomasz.kluczny@delphi.com | J28: 0048 33 860 19 91 | K28: 42377 | L28: PartNo:7485135352__Qty:1____Pcs:1___Weight:5_____Dims:60x40x40 | M28: No | N28: 42380 | O28: 900 | Q28: Extra Pick-Up | S28: Chassis specific part. Please ask carrier to state LA reference upon arrival at the supplier's premises. | T28: 42017 | U28: 1400 | V28: Renault Trucks SAS / Parts Lyon | W28: G2 | X28: Tina Kellner | Y28: 0032 9 255 6621 | Z28: ks | AB28: FALSE | AC28: TAXI COLIS | AD28: 200 | AE28: FALSE | AI28: PL | AJ28: FR | AK28: 2016 | AL28: janvier | AO28: =VLOOKUP(W28,suffix!$A$1:$B$63,2,FALSE) -> aftermarket
AD29: =SUBTOTAL(9,AD2:AD28) -> 28635.29

Sheet suffix
A1: suffix | B1: usine
A2: 69 | B2: Manufacturing
A3: 80 | B3: Manufacturing
A4: X0 | B4: Manufacturing
A5: X1 | B5: Manufacturing
A6: X2 | B6: Manufacturing
A7: X3 | B7: Manufacturing
A8: X4 | B8: Manufacturing
A9: Q5 | B9: Manufacturing
A10: Q6 | B10: Manufacturing
A11: R8 | B11: Manufacturing
A12: C2 | B12: Manufacturing
A13: Q3 | B13: Manufacturing
A14: R0 | B14: Manufacturing
A15: R1 | B15: Manufacturing
... A24: T6 | B24: Manufacturing
A25: 58 | B25: Manufacturing
A26: 64 | B26: Manufacturing
A27: 88 | B27: Manufacturing
A28: 89 | B28: Manufacturing
A29: B9 | B29: Manufacturing
A30: D5 | B30: Manufacturing
A31: P5 | B31: Manufacturing
A32: C5 | B32: Manufacturing
A33: P6 | B33: Manufacturing
A34: 76 | B34: Manufacturing
A35: M9 | B35: Manufacturing
A36: 71 | B36: Manufacturing
A37: M8 | B37: Manufacturing
A38: Y8 | B38: Manufacturing
A39: 12 | B39: aftermarket
A40: 14 | B40: aftermarket
A41: 30 | B41: aftermarket
A42: 32 | B42: aftermarket
A43: 59 | B43: aftermarket
A44: 98 | B44: aftermarket
A45: E1 | B45: aftermarket
A46: E3 | B46: aftermarket
A47: G0 | B47: aftermarket
A48: G2 | B48: aftermarket
...
